{"text_format":"1","workbook":"xlsx","n_sheets":13,"sheets":["Notes","CDI Data and Charts","ECOLI Data and Charts","ECOLI data","SAB Data and Charts","SSI Data and Charts","SSI data","SAB data","CDI data","data for u-p-charts","trend data","year end comp","quarter comp"],"not_rendered":{"charts":14,"images":0,"macros":1,"external_links":0,"defined_names":4,"comments":0,"pivot_tables":0},"unopened":[],"bounds":{"document_bytes":16777216,"sheet_cells":100000,"rows_first":2000,"rows_last":500,"rows_between":2000,"halvings":0,"cell_chars":16384,"cell_head_chars":4096},"cells_cut":0,"cells_raw":0,"read":"whole","date_system":"1900"}

{"sheet":"Notes","index":0,"n_rows":16,"n_cols":1,"rows_kept":16,"cut":false,"hidden":false,"merged":[]}
["Ayrshire & Arran"]
["Borders"]
["Dumfries & Galloway"]
["Fife"]
["Forth Valley"]
["Golden Jubilee"]
["Grampian"]
["Greater Glasgow & Clyde"]
["Highland"]
["Lanarkshire"]
["Lothian"]
["Orkney"]
["Scotland"]
["Shetland"]
["Tayside"]
["Western Isles"]

{"sheet":"CDI Data and Charts","index":1,"n_rows":33,"n_cols":15,"rows_kept":33,"cut":false,"hidden":false,"merged":[]}
[null,"Scotland",null,null,null,null,null,null,null,null,{"$f":"CONCATENATE(\"Healthcare and community rates for \",B1)","v":"Healthcare and community rates for Scotland"}]
[null,null,null,null,null,null,null,null,null,null,null,"CDIHCAI ",null,"CDICA "]
[null,null,null,"Healthcare associated* CDI",null,null,"Community associated CDI ",null,null,null,null,"Healthcare associated* CDI",null,"Community associated CDI "]
[null,null,"Cases","Rate per 100 000 bed days","95% CI","Cases","Rate per 100 000 population","95% CI",null,null,null,"% change",null,"% change"]
[null,{"$f":"'CDI data'!B8","v":"2014-12-19"},{"$f":"'CDI data'!D8","v":321},{"$f":"'CDI data'!E8","v":18.751999999999999},{"$f":"CONCATENATE(\"(\",TEXT('CDI data'!F8,\"0.0\"),\" ,\", TEXT('CDI data'!G8,\"0.0\"),\")\")","v":"(16.8 ,20.9)"},{"$f":"'CDI data'!H8","v":121},{"$f":"'CDI data'!I8","v":8.9770000000000003},{"$f":"IFERROR(CONCATENATE(\"(\",TEXT('CDI data'!J8,\"0.0\"),\" ,\", TEXT('CDI data'!K8,\"0.0\"),\")\"),\"-\")","v":"(7.4 ,10.7)"},null,null,"This quarter compared to last (national only)",{"$f":"IFERROR(ROUND(VLOOKUP(CONCATENATE(L2,$B$1),'quarter comp'!$A1:$H21,4,FALSE),2),\"-\")","v":-21.21},{"$f":"IFERROR(VLOOKUP(CONCATENATE(L2,$B$1),'quarter comp'!$A1:$H21,8,FALSE),\"-\")","v":"Significant"},{"$f":"IFERROR(ROUND(VLOOKUP(CONCATENATE(N2,$B$1),'quarter comp'!$A1:$H21,4,FALSE),2),\"-\")","v":-24.14},{"$f":"IFERROR(VLOOKUP(CONCATENATE(N2,$B$1),'quarter comp'!$A1:$H21,8,FALSE),\"-\")","v":"Non Significant"}]
[null,{"$f":"'CDI data'!B9","v":"2015-03-24"},{"$f":"'CDI data'!D9","v":251},{"$f":"'CDI data'!E9","v":14.561999999999999},{"$f":"CONCATENATE(\"(\",TEXT('CDI data'!F9,\"0.0\"),\" ,\", TEXT('CDI data'!G9,\"0.0\"),\")\")","v":"(12.8 ,16.5)"},{"$f":"'CDI data'!H9","v":92},{"$f":"'CDI data'!I9","v":6.944},{"$f":"IFERROR(CONCATENATE(\"(\",TEXT('CDI data'!J9,\"0.0\"),\" ,\", TEXT('CDI data'!K9,\"0.0\"),\")\"),\"-\")","v":"(5.6 ,8.5)"},null,null,"Year end compared to previous year end ",{"$f":"IF(IFERROR(ROUND(VLOOKUP(CONCATENATE(L2,$B$1),'year end comp'!$A$2:$Z$1086,4,FALSE),2),\"-\")=-100,\"-\",IFERROR(ROUND(VLOOKUP(CONCATENATE(L2,$B$1),'year end comp'!$A$2:$Z$1086,4,FALSE),2),\"-\"))","v":-3.57},{"$f":"IF(IFERROR(VLOOKUP(CONCATENATE(L2,$B$1),'year end comp'!$A$2:$Z$1086,8,FALSE),\"-\")=0,\"-\",IFERROR(VLOOKUP(CONCATENATE(L2,$B$1),'year end comp'!$A$2:$Z$1086,8,FALSE),\"-\"))","v":"Non Significant"},{"$f":"IFERROR(ROUND(VLOOKUP(CONCATENATE(N2,$B$1),'year end comp'!$A$2:$Z$1086,4,FALSE),2),\"-\")","v":1.47},{"$f":"IF(IFERROR(VLOOKUP(CONCATENATE(N2,$B$1),'year end comp'!$A$2:$Z$1086,8,FALSE),\"-\")=0,\"-\",IFERROR(VLOOKUP(CONCATENATE(N2,$B$1),'year end comp'!$A$2:$Z$1086,8,FALSE),\"-\"))","v":"Non Significant"}]
[null,{"$f":"'CDI data'!B10","v":"2015-06-24"},{"$f":"'CDI data'!D10","v":308},{"$f":"'CDI data'!E10","v":18.538},{"$f":"CONCATENATE(\"(\",TEXT('CDI data'!F10,\"0.0\"),\" ,\", TEXT('CDI data'!G10,\"0.0\"),\")\")","v":"(16.5 ,20.7)"},{"$f":"'CDI data'!H10","v":98},{"$f":"'CDI data'!I10","v":7.3159999999999998},{"$f":"IFERROR(CONCATENATE(\"(\",TEXT('CDI data'!J10,\"0.0\"),\" ,\", TEXT('CDI data'!K10,\"0.0\"),\")\"),\"-\")","v":"(5.9 ,8.9)"}]
[null,{"$f":"'CDI data'!B11","v":"2015-09-24"},{"$f":"'CDI data'!D11","v":313},{"$f":"'CDI data'!E11","v":19.309999999999999},{"$f":"CONCATENATE(\"(\",TEXT('CDI data'!F11,\"0.0\"),\" ,\", TEXT('CDI data'!G11,\"0.0\"),\")\")","v":"(17.2 ,21.6)"},{"$f":"'CDI data'!H11","v":131},{"$f":"'CDI data'!I11","v":9.673},{"$f":"IFERROR(CONCATENATE(\"(\",TEXT('CDI data'!J11,\"0.0\"),\" ,\", TEXT('CDI data'!K11,\"0.0\"),\")\"),\"-\")","v":"(8.1 ,11.5)"}]
[null,{"$f":"'CDI data'!B12","v":"2015-12-24"},{"$f":"'CDI data'!D12","v":367},{"$f":"'CDI data'!E12","v":22.349},{"$f":"CONCATENATE(\"(\",TEXT('CDI data'!F12,\"0.0\"),\" ,\", TEXT('CDI data'!G12,\"0.0\"),\")\")","v":"(20.1 ,24.8)"},{"$f":"'CDI data'!H12","v":116},{"$f":"'CDI data'!I12","v":8.5649999999999995},{"$f":"IFERROR(CONCATENATE(\"(\",TEXT('CDI data'!J12,\"0.0\"),\" ,\", TEXT('CDI data'!K12,\"0.0\"),\")\"),\"-\")","v":"(7.1 ,10.3)"}]
[null,{"$f":"'CDI data'!B13","v":"2016-03-24"},{"$f":"'CDI data'!D13","v":252},{"$f":"'CDI data'!E13","v":15.05},{"$f":"CONCATENATE(\"(\",TEXT('CDI data'!F13,\"0.0\"),\" ,\", TEXT('CDI data'!G13,\"0.0\"),\")\")","v":"(13.2 ,17.0)"},{"$f":"'CDI data'!H13","v":97},{"$f":"'CDI data'!I13","v":7.218},{"$f":"IFERROR(CONCATENATE(\"(\",TEXT('CDI data'!J13,\"0.0\"),\" ,\", TEXT('CDI data'!K13,\"0.0\"),\")\"),\"-\")","v":"(5.9 ,8.8)"}]
[null,{"$f":"'CDI data'!B14","v":"2016-06-24"},{"$f":"'CDI data'!D14","v":250},{"$f":"'CDI data'!E14","v":15.574999999999999},{"$f":"CONCATENATE(\"(\",TEXT('CDI data'!F14,\"0.0\"),\" ,\", TEXT('CDI data'!G14,\"0.0\"),\")\")","v":"(13.7 ,17.6)"},{"$f":"'CDI data'!H14","v":91},{"$f":"'CDI data'!I14","v":6.7720000000000002},{"$f":"IFERROR(CONCATENATE(\"(\",TEXT('CDI data'!J14,\"0.0\"),\" ,\", TEXT('CDI data'!K14,\"0.0\"),\")\"),\"-\")","v":"(5.5 ,8.3)"}]
[null,{"$f":"'CDI data'!B15","v":"2016-09-24"},{"$f":"'CDI data'!D15","v":263},{"$f":"'CDI data'!E15","v":16.562999999999999},{"$f":"CONCATENATE(\"(\",TEXT('CDI data'!F15,\"0.0\"),\" ,\", TEXT('CDI data'!G15,\"0.0\"),\")\")","v":"(14.6 ,18.7)"},{"$f":"'CDI data'!H15","v":119},{"$f":"'CDI data'!I15","v":8.7590000000000003},{"$f":"IFERROR(CONCATENATE(\"(\",TEXT('CDI data'!J15,\"0.0\"),\" ,\", TEXT('CDI data'!K15,\"0.0\"),\")\"),\"-\")","v":"(7.3 ,10.5)"}]
[null,{"$f":"'CDI data'!B16","v":"2016-12-24"},{"$f":"'CDI data'!D16","v":233},{"$f":"'CDI data'!E16","v":14.638999999999999},{"$f":"CONCATENATE(\"(\",TEXT('CDI data'!F16,\"0.0\"),\" ,\", TEXT('CDI data'!G16,\"0.0\"),\")\")","v":"(12.8 ,16.6)"},{"$f":"'CDI data'!H16","v":94},{"$f":"'CDI data'!I16","v":6.9189999999999996},{"$f":"IFERROR(CONCATENATE(\"(\",TEXT('CDI data'!J16,\"0.0\"),\" ,\", TEXT('CDI data'!K16,\"0.0\"),\")\"),\"-\")","v":"(5.6 ,8.5)"}]
[null,{"$f":"'CDI data'!B17","v":"2017-03-01"},{"$f":"'CDI data'!D17","v":257},{"$f":"'CDI data'!E17","v":16.251999999999999},{"$f":"CONCATENATE(\"(\",TEXT('CDI data'!F17,\"0.0\"),\" ,\", TEXT('CDI data'!G17,\"0.0\"),\")\")","v":"(14.3 ,18.4)"},{"$f":"'CDI data'!H17","v":74},{"$f":"'CDI data'!I17","v":5.532},{"$f":"IFERROR(CONCATENATE(\"(\",TEXT('CDI data'!J17,\"0.0\"),\" ,\", TEXT('CDI data'!K17,\"0.0\"),\")\"),\"-\")","v":"(4.3 ,6.9)"}]
[null,{"$f":"'CDI data'!B18","v":"2017-06-01"},{"$f":"'CDI data'!D18","v":238},{"$f":"'CDI data'!E18","v":15.349},{"$f":"CONCATENATE(\"(\",TEXT('CDI data'!F18,\"0.0\"),\" ,\", TEXT('CDI data'!G18,\"0.0\"),\")\")","v":"(13.5 ,17.4)"},{"$f":"'CDI data'!H18","v":100},{"$f":"'CDI data'!I18","v":7.3940000000000001},{"$f":"IFERROR(CONCATENATE(\"(\",TEXT('CDI data'!J18,\"0.0\"),\" ,\", TEXT('CDI data'!K18,\"0.0\"),\")\"),\"-\")","v":"(6.0 ,9.0)"}]
[null,{"$f":"'CDI data'!B19","v":"2017-09-01"},{"$f":"'CDI data'!D19","v":288},{"$f":"'CDI data'!E19","v":18.716000000000001},{"$f":"CONCATENATE(\"(\",TEXT('CDI data'!F19,\"0.0\"),\" ,\", TEXT('CDI data'!G19,\"0.0\"),\")\")","v":"(16.6 ,21.0)"},{"$f":"'CDI data'!H19","v":103},{"$f":"'CDI data'!I19","v":7.5330000000000004},{"$f":"IFERROR(CONCATENATE(\"(\",TEXT('CDI data'!J19,\"0.0\"),\" ,\", TEXT('CDI data'!K19,\"0.0\"),\")\"),\"-\")","v":"(6.1 ,9.1)"}]
[null,{"$f":"'CDI data'!B20","v":"2017-12-01"},{"$f":"'CDI data'!D20","v":235},{"$f":"'CDI data'!E20","v":14.920999999999999},{"$f":"CONCATENATE(\"(\",TEXT('CDI data'!F20,\"0.0\"),\" ,\", TEXT('CDI data'!G20,\"0.0\"),\")\")","v":"(13.1 ,17.0)"},{"$f":"'CDI data'!H20","v":74},{"$f":"'CDI data'!I20","v":5.4119999999999999},{"$f":"IFERROR(CONCATENATE(\"(\",TEXT('CDI data'!J20,\"0.0\"),\" ,\", TEXT('CDI data'!K20,\"0.0\"),\")\"),\"-\")","v":"(4.2 ,6.8)"}]
[null,{"$f":"'CDI data'!B21","v":"2018-03-01"},{"$f":"'CDI data'!D21","v":228},{"$f":"'CDI data'!E21","v":14.382999999999999},{"$f":"CONCATENATE(\"(\",TEXT('CDI data'!F21,\"0.0\"),\" ,\", TEXT('CDI data'!G21,\"0.0\"),\")\")","v":"(12.6 ,16.4)"},{"$f":"'CDI data'!H21","v":86},{"$f":"'CDI data'!I21","v":6.4139999999999997},{"$f":"IFERROR(CONCATENATE(\"(\",TEXT('CDI data'!J21,\"0.0\"),\" ,\", TEXT('CDI data'!K21,\"0.0\"),\")\"),\"-\")","v":"(5.1 ,7.9)"}]
[null,{"$f":"'CDI data'!B22","v":"2018-06-01"},{"$f":"'CDI data'!D22","v":244},{"$f":"'CDI data'!E22","v":15.996},{"$f":"CONCATENATE(\"(\",TEXT('CDI data'!F22,\"0.0\"),\" ,\", TEXT('CDI data'!G22,\"0.0\"),\")\")","v":"(14.1 ,18.1)"},{"$f":"'CDI data'!H22","v":102},{"$f":"'CDI data'!I22","v":7.5229999999999997},{"$f":"IFERROR(CONCATENATE(\"(\",TEXT('CDI data'!J22,\"0.0\"),\" ,\", TEXT('CDI data'!K22,\"0.0\"),\")\"),\"-\")","v":"(6.1 ,9.1)"}]
[null,{"$f":"'CDI data'!B23","v":"2018-09-01"},{"$f":"'CDI data'!D23","v":255},{"$f":"'CDI data'!E23","v":16.869},{"$f":"CONCATENATE(\"(\",TEXT('CDI data'!F23,\"0.0\"),\" ,\", TEXT('CDI data'!G23,\"0.0\"),\")\")","v":"(14.9 ,19.1)"},{"$f":"'CDI data'!H23","v":92},{"$f":"'CDI data'!I23","v":6.7119999999999997},{"$f":"IFERROR(CONCATENATE(\"(\",TEXT('CDI data'!J23,\"0.0\"),\" ,\", TEXT('CDI data'!K23,\"0.0\"),\")\"),\"-\")","v":"(5.4 ,8.2)"}]
[null,{"$f":"'CDI data'!B24","v":"2018-12-01"},{"$f":"'CDI data'!D24","v":220},{"$f":"'CDI data'!E24","v":14.452999999999999},{"$f":"CONCATENATE(\"(\",TEXT('CDI data'!F24,\"0.0\"),\" ,\", TEXT('CDI data'!G24,\"0.0\"),\")\")","v":"(12.6 ,16.5)"},{"$f":"'CDI data'!H24","v":86},{"$f":"'CDI data'!I24","v":6.274},{"$f":"IFERROR(CONCATENATE(\"(\",TEXT('CDI data'!J24,\"0.0\"),\" ,\", TEXT('CDI data'!K24,\"0.0\"),\")\"),\"-\")","v":"(5.0 ,7.7)"}]
[null,{"$f":"'CDI data'!B25","v":"2019-03-01"},{"$f":"'CDI data'!D25","v":186},{"$f":"'CDI data'!E25","v":12.09},{"$f":"CONCATENATE(\"(\",TEXT('CDI data'!F25,\"0.0\"),\" ,\", TEXT('CDI data'!G25,\"0.0\"),\")\")","v":"(10.4 ,14.0)"},{"$f":"'CDI data'!H25","v":50},{"$f":"'CDI data'!I25","v":3.7120000000000002},{"$f":"IFERROR(CONCATENATE(\"(\",TEXT('CDI data'!J25,\"0.0\"),\" ,\", TEXT('CDI data'!K25,\"0.0\"),\")\"),\"-\")","v":"(2.8 ,4.9)"}]
[null,{"$f":"'CDI data'!B26","v":"2019-06-01"},{"$f":"'CDI data'!D26","v":184},{"$f":"'CDI data'!E26","v":12.215},{"$f":"CONCATENATE(\"(\",TEXT('CDI data'!F26,\"0.0\"),\" ,\", TEXT('CDI data'!G26,\"0.0\"),\")\")","v":"(10.5 ,14.1)"},{"$f":"'CDI data'!H26","v":66},{"$f":"'CDI data'!I26","v":4.8460000000000001},{"$f":"IFERROR(CONCATENATE(\"(\",TEXT('CDI data'!J26,\"0.0\"),\" ,\", TEXT('CDI data'!K26,\"0.0\"),\")\"),\"-\")","v":"(3.7 ,6.2)"}]
[null,{"$f":"'CDI data'!B27","v":"2019-09-01"},{"$f":"'CDI data'!D27","v":207},{"$f":"'CDI data'!E27","v":13.736000000000001},{"$f":"CONCATENATE(\"(\",TEXT('CDI data'!F27,\"0.0\"),\" ,\", TEXT('CDI data'!G27,\"0.0\"),\")\")","v":"(11.9 ,15.7)"},{"$f":"'CDI data'!H27","v":72},{"$f":"'CDI data'!I27","v":5.2290000000000001},{"$f":"IFERROR(CONCATENATE(\"(\",TEXT('CDI data'!J27,\"0.0\"),\" ,\", TEXT('CDI data'!K27,\"0.0\"),\")\"),\"-\")","v":"(4.1 ,6.6)"}]
[null,{"$f":"'CDI data'!B28","v":"2019-12-01"},{"$f":"'CDI data'!D28","v":231},{"$f":"'CDI data'!E28","v":15.084},{"$f":"CONCATENATE(\"(\",TEXT('CDI data'!F28,\"0.0\"),\" ,\", TEXT('CDI data'!G28,\"0.0\"),\")\")","v":"(13.2 ,17.2)"},{"$f":"'CDI data'!H28","v":63},{"$f":"'CDI data'!I28","v":4.5750000000000002},{"$f":"IFERROR(CONCATENATE(\"(\",TEXT('CDI data'!J28,\"0.0\"),\" ,\", TEXT('CDI data'!K28,\"0.0\"),\")\"),\"-\")","v":"(3.5 ,5.9)"}]
[null,{"$f":"'CDI data'!B29","v":"2020-03-01"},{"$f":"'CDI data'!D29","v":201},{"$f":"'CDI data'!E29","v":13.618},{"$f":"CONCATENATE(\"(\",TEXT('CDI data'!F29,\"0.0\"),\" ,\", TEXT('CDI data'!G29,\"0.0\"),\")\")","v":"(11.8 ,15.6)"},{"$f":"'CDI data'!H29","v":46},{"$f":"'CDI data'!I29","v":3.3849999999999998},{"$f":"IFERROR(CONCATENATE(\"(\",TEXT('CDI data'!J29,\"0.0\"),\" ,\", TEXT('CDI data'!K29,\"0.0\"),\")\"),\"-\")","v":"(2.5 ,4.5)"}]
[null,{"$f":"'CDI data'!B30","v":"2020-06-01"},{"$f":"'CDI data'!D30","v":166},{"$f":"'CDI data'!E30","v":15.356999999999999},{"$f":"CONCATENATE(\"(\",TEXT('CDI data'!F30,\"0.0\"),\" ,\", TEXT('CDI data'!G30,\"0.0\"),\")\")","v":"(13.1 ,17.9)"},{"$f":"'CDI data'!H30","v":80},{"$f":"'CDI data'!I30","v":5.8869999999999996},{"$f":"IFERROR(CONCATENATE(\"(\",TEXT('CDI data'!J30,\"0.0\"),\" ,\", TEXT('CDI data'!K30,\"0.0\"),\")\"),\"-\")","v":"(4.7 ,7.3)"}]
[null,{"$f":"'CDI data'!B31","v":"2020-09-01"},{"$f":"'CDI data'!D31","v":227},{"$f":"'CDI data'!E31","v":17.408200000000001},{"$f":"CONCATENATE(\"(\",TEXT('CDI data'!F31,\"0.0\"),\" ,\", TEXT('CDI data'!G31,\"0.0\"),\")\")","v":"(15.2 ,19.8)"},{"$f":"'CDI data'!H31","v":90},{"$f":"'CDI data'!I31","v":6.5503999999999998},{"$f":"IFERROR(CONCATENATE(\"(\",TEXT('CDI data'!J31,\"0.0\"),\" ,\", TEXT('CDI data'!K31,\"0.0\"),\")\"),\"-\")","v":"(5.3 ,8.1)"}]
[null,{"$f":"'CDI data'!B32","v":"2020-12-31"},{"$f":"'CDI data'!D32","v":222},{"$f":"'CDI data'!E32","v":16.350100000000001},{"$f":"CONCATENATE(\"(\",TEXT('CDI data'!F32,\"0.0\"),\" ,\", TEXT('CDI data'!G32,\"0.0\"),\")\")","v":"(14.3 ,18.6)"},{"$f":"'CDI data'!H32","v":56},{"$f":"'CDI data'!I32","v":4.0758000000000001},{"$f":"IFERROR(CONCATENATE(\"(\",TEXT('CDI data'!J32,\"0.0\"),\" ,\", TEXT('CDI data'!K32,\"0.0\"),\")\"),\"-\")","v":"(3.1 ,5.3)"}]
[null,{"$f":"'CDI data'!B33","v":"2021-03-31"},{"$f":"'CDI data'!D33","v":213},{"$f":"'CDI data'!E33","v":15.7464},{"$f":"CONCATENATE(\"(\",TEXT('CDI data'!F33,\"0.0\"),\" ,\", TEXT('CDI data'!G33,\"0.0\"),\")\")","v":"(13.7 ,18.0)"},{"$f":"'CDI data'!H33","v":49},{"$f":"'CDI data'!I33","v":3.6356000000000002},{"$f":"IFERROR(CONCATENATE(\"(\",TEXT('CDI data'!J33,\"0.0\"),\" ,\", TEXT('CDI data'!K33,\"0.0\"),\")\"),\"-\")","v":"(2.7 ,4.8)"}]
[null,{"$f":"'CDI data'!B34","v":"2021-06-30"},{"$f":"'CDI data'!D34","v":203},{"$f":"'CDI data'!E34","v":14.56},{"$f":"CONCATENATE(\"(\",TEXT('CDI data'!F34,\"0.0\"),\" ,\", TEXT('CDI data'!G34,\"0.0\"),\")\")","v":"(12.6 ,16.7)"},{"$f":"'CDI data'!H34","v":74},{"$f":"'CDI data'!I34","v":5.4302000000000001},{"$f":"IFERROR(CONCATENATE(\"(\",TEXT('CDI data'!J34,\"0.0\"),\" ,\", TEXT('CDI data'!K34,\"0.0\"),\")\"),\"-\")","v":"(4.3 ,6.8)"}]
[null,{"$f":"'CDI data'!B35","v":"2021-09-01"},{"$f":"'CDI data'!D35","v":245},{"$f":"'CDI data'!E35","v":16.822700000000001},{"$f":"CONCATENATE(\"(\",TEXT('CDI data'!F35,\"0.0\"),\" ,\", TEXT('CDI data'!G35,\"0.0\"),\")\")","v":"(14.8 ,19.1)"},{"$f":"'CDI data'!H35","v":87},{"$f":"'CDI data'!I35","v":6.3147000000000002},{"$f":"IFERROR(CONCATENATE(\"(\",TEXT('CDI data'!J35,\"0.0\"),\" ,\", TEXT('CDI data'!K35,\"0.0\"),\")\"),\"-\")","v":"(5.1 ,7.8)"}]
[null,{"$f":"'CDI data'!B36","v":"2021-12-31"},{"$f":"'CDI data'!D36","v":198},{"$f":"'CDI data'!E36","v":13.2552},{"$f":"CONCATENATE(\"(\",TEXT('CDI data'!F36,\"0.0\"),\" ,\", TEXT('CDI data'!G36,\"0.0\"),\")\")","v":"(11.5 ,15.2)"},{"$f":"'CDI data'!H36","v":66},{"$f":"'CDI data'!I36","v":4.7904999999999998},{"$f":"IFERROR(CONCATENATE(\"(\",TEXT('CDI data'!J36,\"0.0\"),\" ,\", TEXT('CDI data'!K36,\"0.0\"),\")\"),\"-\")","v":"(3.7 ,6.1)"}]

{"sheet":"ECOLI Data and Charts","index":2,"n_rows":26,"n_cols":15,"rows_kept":26,"cut":false,"hidden":false,"merged":[]}
[null,"Scotland",null,null,null,null,null,null,null,null,{"$f":"CONCATENATE(\"Healthcare and community rates for \",B1)","v":"Healthcare and community rates for Scotland"}]
[null,null,null,null,null,null,null,null,null,null,null,"ECBHCAI ",null,"ECBCOM "]
[null,null,null,"Healthcare associated ECB infection ",null,null,"Community associated ECB infection ",null,null,null,null,"Healthcare associated  ECB",null,"Community associated ECB"]
[null,null,"Cases","Rate per 100 000 bed days","95% CI","Cases","Rate per 100 000 Population","95% CI",null,null,null,"% change",null,"% change"]
[null,{"$f":"'ECOLI data'!B8","v":"2016-09-24"},{"$f":"'ECOLI data'!D8","v":582},{"$f":"'ECOLI data'!E8","v":36.652000000000001},{"$f":"CONCATENATE(\"(\",TEXT('ECOLI data'!F8,\"0.0\"),\" ,\", TEXT('ECOLI data'!G8,\"0.0\"),\")\")","v":"(33.7 ,39.8)"},{"$f":"'ECOLI data'!H8","v":719},{"$f":"'ECOLI data'!I8","v":52.923999999999999},{"$f":"IFERROR(CONCATENATE(\"(\",TEXT('ECOLI data'!J8,\"0.0\"),\" ,\", TEXT('ECOLI data'!K8,\"0.0\"),\")\"),\"-\")","v":"(49.1 ,56.9)"},null,null,"This quarter compared to last (national only)",{"$f":"IFERROR(ROUND(VLOOKUP(CONCATENATE(L2,$B$1),'quarter comp'!$A1:$H21,4,FALSE),2),\"-\")","v":-17.84},{"$f":"IFERROR(VLOOKUP(CONCATENATE(L2,$B$1),'quarter comp'!$A1:$H21,8,FALSE),\"-\")","v":"Significant"},{"$f":"IFERROR(ROUND(VLOOKUP(CONCATENATE(N2,$B$1),'quarter comp'!$A1:$H21,4,FALSE),2),\"-\")","v":-3},{"$f":"IFERROR(VLOOKUP(CONCATENATE(N2,$B$1),'quarter comp'!$A1:$H21,8,FALSE),\"-\")","v":"Non Significant"}]
[null,{"$f":"'ECOLI data'!B9","v":"2016-12-24"},{"$f":"'ECOLI data'!D9","v":564},{"$f":"'ECOLI data'!E9","v":35.433999999999997},{"$f":"CONCATENATE(\"(\",TEXT('ECOLI data'!F9,\"0.0\"),\" ,\", TEXT('ECOLI data'!G9,\"0.0\"),\")\")","v":"(32.6 ,38.5)"},{"$f":"'ECOLI data'!H9","v":631},{"$f":"'ECOLI data'!I9","v":46.445999999999998},{"$f":"IFERROR(CONCATENATE(\"(\",TEXT('ECOLI data'!J9,\"0.0\"),\" ,\", TEXT('ECOLI data'!K9,\"0.0\"),\")\"),\"-\")","v":"(42.9 ,50.2)"},null,null,"Year end compared to previous year end ",{"$f":"ROUND(VLOOKUP(CONCATENATE(L2,$B$1),'year end comp'!$A$2:$Z$1086,4,FALSE),2)","v":-6.45},{"$f":"VLOOKUP(CONCATENATE(L2,$B$1),'year end comp'!$A$2:$Z$1086,8,FALSE)","v":"Significant"},{"$f":"IFERROR(ROUND(VLOOKUP(CONCATENATE(N2,$B$1),'year end comp'!$A$2:$Z$1086,4,FALSE),2),\"-\")","v":1.97},{"$f":"IFERROR(VLOOKUP(CONCATENATE(N2,$B$1),'year end comp'!$A$2:$Z$1086,8,FALSE),\"-\")","v":"Non Significant"}]
[null,{"$f":"'ECOLI data'!B10","v":"2017-03-01"},{"$f":"'ECOLI data'!D10","v":547},{"$f":"'ECOLI data'!E10","v":34.591000000000001},{"$f":"CONCATENATE(\"(\",TEXT('ECOLI data'!F10,\"0.0\"),\" ,\", TEXT('ECOLI data'!G10,\"0.0\"),\")\")","v":"(31.8 ,37.6)"},{"$f":"'ECOLI data'!H10","v":571},{"$f":"'ECOLI data'!I10","v":42.688000000000002},{"$f":"IFERROR(CONCATENATE(\"(\",TEXT('ECOLI data'!J10,\"0.0\"),\" ,\", TEXT('ECOLI data'!K10,\"0.0\"),\")\"),\"-\")","v":"(39.3 ,46.3)"}]
[null,{"$f":"'ECOLI data'!B11","v":"2017-06-01"},{"$f":"'ECOLI data'!D11","v":539},{"$f":"'ECOLI data'!E11","v":34.761000000000003},{"$f":"CONCATENATE(\"(\",TEXT('ECOLI data'!F11,\"0.0\"),\" ,\", TEXT('ECOLI data'!G11,\"0.0\"),\")\")","v":"(31.9 ,37.8)"},{"$f":"'ECOLI data'!H11","v":657},{"$f":"'ECOLI data'!I11","v":48.576999999999998},{"$f":"IFERROR(CONCATENATE(\"(\",TEXT('ECOLI data'!J11,\"0.0\"),\" ,\", TEXT('ECOLI data'!K11,\"0.0\"),\")\"),\"-\")","v":"(44.9 ,52.4)"}]
[null,{"$f":"'ECOLI data'!B12","v":"2017-09-01"},{"$f":"'ECOLI data'!D12","v":585},{"$f":"'ECOLI data'!E12","v":38.015999999999998},{"$f":"CONCATENATE(\"(\",TEXT('ECOLI data'!F12,\"0.0\"),\" ,\", TEXT('ECOLI data'!G12,\"0.0\"),\")\")","v":"(35.0 ,41.2)"},{"$f":"'ECOLI data'!H12","v":677},{"$f":"'ECOLI data'!I12","v":49.512},{"$f":"IFERROR(CONCATENATE(\"(\",TEXT('ECOLI data'!J12,\"0.0\"),\" ,\", TEXT('ECOLI data'!K12,\"0.0\"),\")\"),\"-\")","v":"(45.9 ,53.4)"}]
[null,{"$f":"'ECOLI data'!B13","v":"2017-12-01"},{"$f":"'ECOLI data'!D13","v":531},{"$f":"'ECOLI data'!E13","v":33.715000000000003},{"$f":"CONCATENATE(\"(\",TEXT('ECOLI data'!F13,\"0.0\"),\" ,\", TEXT('ECOLI data'!G13,\"0.0\"),\")\")","v":"(30.9 ,36.7)"},{"$f":"'ECOLI data'!H13","v":656},{"$f":"'ECOLI data'!I13","v":47.975999999999999},{"$f":"IFERROR(CONCATENATE(\"(\",TEXT('ECOLI data'!J13,\"0.0\"),\" ,\", TEXT('ECOLI data'!K13,\"0.0\"),\")\"),\"-\")","v":"(44.4 ,51.8)"}]
[null,{"$f":"'ECOLI data'!B14","v":"2018-03-01"},{"$f":"'ECOLI data'!D14","v":524},{"$f":"'ECOLI data'!E14","v":33.055},{"$f":"CONCATENATE(\"(\",TEXT('ECOLI data'!F14,\"0.0\"),\" ,\", TEXT('ECOLI data'!G14,\"0.0\"),\")\")","v":"(30.3 ,36.0)"},{"$f":"'ECOLI data'!H14","v":578},{"$f":"'ECOLI data'!I14","v":43.104999999999997},{"$f":"IFERROR(CONCATENATE(\"(\",TEXT('ECOLI data'!J14,\"0.0\"),\" ,\", TEXT('ECOLI data'!K14,\"0.0\"),\")\"),\"-\")","v":"(39.7 ,46.8)"}]
[null,{"$f":"'ECOLI data'!B15","v":"2018-06-01"},{"$f":"'ECOLI data'!D15","v":580},{"$f":"'ECOLI data'!E15","v":38.024000000000001},{"$f":"CONCATENATE(\"(\",TEXT('ECOLI data'!F15,\"0.0\"),\" ,\", TEXT('ECOLI data'!G15,\"0.0\"),\")\")","v":"(35.0 ,41.2)"},{"$f":"'ECOLI data'!H15","v":598},{"$f":"'ECOLI data'!I15","v":44.106999999999999},{"$f":"IFERROR(CONCATENATE(\"(\",TEXT('ECOLI data'!J15,\"0.0\"),\" ,\", TEXT('ECOLI data'!K15,\"0.0\"),\")\"),\"-\")","v":"(40.6 ,47.8)"}]
[null,{"$f":"'ECOLI data'!B16","v":"2018-09-01"},{"$f":"'ECOLI data'!D16","v":606},{"$f":"'ECOLI data'!E16","v":40.088999999999999},{"$f":"CONCATENATE(\"(\",TEXT('ECOLI data'!F16,\"0.0\"),\" ,\", TEXT('ECOLI data'!G16,\"0.0\"),\")\")","v":"(37.0 ,43.4)"},{"$f":"'ECOLI data'!H16","v":667},{"$f":"'ECOLI data'!I16","v":48.661000000000001},{"$f":"IFERROR(CONCATENATE(\"(\",TEXT('ECOLI data'!J16,\"0.0\"),\" ,\", TEXT('ECOLI data'!K16,\"0.0\"),\")\"),\"-\")","v":"(45.0 ,52.5)"}]
[null,{"$f":"'ECOLI data'!B17","v":"2018-12-01"},{"$f":"'ECOLI data'!D17","v":582},{"$f":"'ECOLI data'!E17","v":38.234000000000002},{"$f":"CONCATENATE(\"(\",TEXT('ECOLI data'!F17,\"0.0\"),\" ,\", TEXT('ECOLI data'!G17,\"0.0\"),\")\")","v":"(35.2 ,41.5)"},{"$f":"'ECOLI data'!H17","v":603},{"$f":"'ECOLI data'!I17","v":43.991999999999997},{"$f":"IFERROR(CONCATENATE(\"(\",TEXT('ECOLI data'!J17,\"0.0\"),\" ,\", TEXT('ECOLI data'!K17,\"0.0\"),\")\"),\"-\")","v":"(40.6 ,47.6)"}]
[null,{"$f":"'ECOLI data'!B18","v":"2019-03-01"},{"$f":"'ECOLI data'!D18","v":573},{"$f":"'ECOLI data'!E18","v":37.244},{"$f":"CONCATENATE(\"(\",TEXT('ECOLI data'!F18,\"0.0\"),\" ,\", TEXT('ECOLI data'!G18,\"0.0\"),\")\")","v":"(34.3 ,40.4)"},{"$f":"'ECOLI data'!H18","v":598},{"$f":"'ECOLI data'!I18","v":44.390999999999998},{"$f":"IFERROR(CONCATENATE(\"(\",TEXT('ECOLI data'!J18,\"0.0\"),\" ,\", TEXT('ECOLI data'!K18,\"0.0\"),\")\"),\"-\")","v":"(40.9 ,48.1)"}]
[null,{"$f":"'ECOLI data'!B19","v":"2019-06-01"},{"$f":"'ECOLI data'!D19","v":584},{"$f":"'ECOLI data'!E19","v":38.771000000000001},{"$f":"CONCATENATE(\"(\",TEXT('ECOLI data'!F19,\"0.0\"),\" ,\", TEXT('ECOLI data'!G19,\"0.0\"),\")\")","v":"(35.7 ,42.0)"},{"$f":"'ECOLI data'!H19","v":604},{"$f":"'ECOLI data'!I19","v":44.344000000000001},{"$f":"IFERROR(CONCATENATE(\"(\",TEXT('ECOLI data'!J19,\"0.0\"),\" ,\", TEXT('ECOLI data'!K19,\"0.0\"),\")\"),\"-\")","v":"(40.9 ,48.0)"}]
[null,{"$f":"'ECOLI data'!B20","v":"2019-09-01"},{"$f":"'ECOLI data'!D20","v":608},{"$f":"'ECOLI data'!E20","v":40.345999999999997},{"$f":"CONCATENATE(\"(\",TEXT('ECOLI data'!F20,\"0.0\"),\" ,\", TEXT('ECOLI data'!G20,\"0.0\"),\")\")","v":"(37.2 ,43.7)"},{"$f":"'ECOLI data'!H20","v":606},{"$f":"'ECOLI data'!I20","v":44.006999999999998},{"$f":"IFERROR(CONCATENATE(\"(\",TEXT('ECOLI data'!J20,\"0.0\"),\" ,\", TEXT('ECOLI data'!K20,\"0.0\"),\")\"),\"-\")","v":"(40.6 ,47.7)"}]
[null,{"$f":"'ECOLI data'!B21","v":"2019-12-01"},{"$f":"'ECOLI data'!D21","v":626},{"$f":"'ECOLI data'!E21","v":40.875999999999998},{"$f":"CONCATENATE(\"(\",TEXT('ECOLI data'!F21,\"0.0\"),\" ,\", TEXT('ECOLI data'!G21,\"0.0\"),\")\")","v":"(37.7 ,44.2)"},{"$f":"'ECOLI data'!H21","v":568},{"$f":"'ECOLI data'!I21","v":41.247999999999998},{"$f":"IFERROR(CONCATENATE(\"(\",TEXT('ECOLI data'!J21,\"0.0\"),\" ,\", TEXT('ECOLI data'!K21,\"0.0\"),\")\"),\"-\")","v":"(37.9 ,44.8)"}]
[null,{"$f":"'ECOLI data'!B22","v":"2020-03-01"},{"$f":"'ECOLI data'!D22","v":538},{"$f":"'ECOLI data'!E22","v":36.451000000000001},{"$f":"CONCATENATE(\"(\",TEXT('ECOLI data'!F22,\"0.0\"),\" ,\", TEXT('ECOLI data'!G22,\"0.0\"),\")\")","v":"(33.4 ,39.7)"},{"$f":"'ECOLI data'!H22","v":514},{"$f":"'ECOLI data'!I22","v":37.820999999999998},{"$f":"IFERROR(CONCATENATE(\"(\",TEXT('ECOLI data'!J22,\"0.0\"),\" ,\", TEXT('ECOLI data'!K22,\"0.0\"),\")\"),\"-\")","v":"(34.6 ,41.2)"}]
[null,{"$f":"'ECOLI data'!B23","v":"2020-06-01"},{"$f":"'ECOLI data'!D23","v":429},{"$f":"'ECOLI data'!E23","v":39.686999999999998},{"$f":"CONCATENATE(\"(\",TEXT('ECOLI data'!F23,\"0.0\"),\" ,\", TEXT('ECOLI data'!G23,\"0.0\"),\")\")","v":"(36.0 ,43.6)"},{"$f":"'ECOLI data'!H23","v":488},{"$f":"'ECOLI data'!I23","v":35.908000000000001},{"$f":"IFERROR(CONCATENATE(\"(\",TEXT('ECOLI data'!J23,\"0.0\"),\" ,\", TEXT('ECOLI data'!K23,\"0.0\"),\")\"),\"-\")","v":"(32.8 ,39.2)"}]
[null,{"$f":"'ECOLI data'!B24","v":"2020-09-01"},{"$f":"'ECOLI data'!D24","v":547},{"$f":"'ECOLI data'!E24","v":41.948399999999999},{"$f":"CONCATENATE(\"(\",TEXT('ECOLI data'!F24,\"0.0\"),\" ,\", TEXT('ECOLI data'!G24,\"0.0\"),\")\")","v":"(38.5 ,45.6)"},{"$f":"'ECOLI data'!H24","v":614},{"$f":"'ECOLI data'!I24","v":44.688099999999999},{"$f":"IFERROR(CONCATENATE(\"(\",TEXT('ECOLI data'!J24,\"0.0\"),\" ,\", TEXT('ECOLI data'!K24,\"0.0\"),\")\"),\"-\")","v":"(41.2 ,48.4)"}]
[null,{"$f":"'ECOLI data'!B25","v":"2020-12-31"},{"$f":"'ECOLI data'!D25","v":555},{"$f":"'ECOLI data'!E25","v":40.8752},{"$f":"CONCATENATE(\"(\",TEXT('ECOLI data'!F25,\"0.0\"),\" ,\", TEXT('ECOLI data'!G25,\"0.0\"),\")\")","v":"(37.5 ,44.4)"},{"$f":"'ECOLI data'!H25","v":521},{"$f":"'ECOLI data'!I25","v":37.919400000000003},{"$f":"IFERROR(CONCATENATE(\"(\",TEXT('ECOLI data'!J25,\"0.0\"),\" ,\", TEXT('ECOLI data'!K25,\"0.0\"),\")\"),\"-\")","v":"(34.7 ,41.3)"}]
[null,{"$f":"'ECOLI data'!B26","v":"2021-03-31"},{"$f":"'ECOLI data'!D26","v":468},{"$f":"'ECOLI data'!E26","v":34.597799999999999},{"$f":"CONCATENATE(\"(\",TEXT('ECOLI data'!F26,\"0.0\"),\" ,\", TEXT('ECOLI data'!G26,\"0.0\"),\")\")","v":"(31.5 ,37.9)"},{"$f":"'ECOLI data'!H26","v":493},{"$f":"'ECOLI data'!I26","v":36.578600000000002},{"$f":"IFERROR(CONCATENATE(\"(\",TEXT('ECOLI data'!J26,\"0.0\"),\" ,\", TEXT('ECOLI data'!K26,\"0.0\"),\")\"),\"-\")","v":"(33.4 ,40.0)"}]
[null,{"$f":"'ECOLI data'!B27","v":"2021-06-30"},{"$f":"'ECOLI data'!D27","v":532},{"$f":"'ECOLI data'!E27","v":38.157299999999999},{"$f":"CONCATENATE(\"(\",TEXT('ECOLI data'!F27,\"0.0\"),\" ,\", TEXT('ECOLI data'!G27,\"0.0\"),\")\")","v":"(35.0 ,41.5)"},{"$f":"'ECOLI data'!H27","v":571},{"$f":"'ECOLI data'!I27","v":41.900399999999998},{"$f":"IFERROR(CONCATENATE(\"(\",TEXT('ECOLI data'!J27,\"0.0\"),\" ,\", TEXT('ECOLI data'!K27,\"0.0\"),\")\"),\"-\")","v":"(38.5 ,45.5)"}]
[null,{"$f":"'ECOLI data'!B28","v":"2021-09-01"},{"$f":"'ECOLI data'!D28","v":604},{"$f":"'ECOLI data'!E28","v":41.473100000000002},{"$f":"CONCATENATE(\"(\",TEXT('ECOLI data'!F28,\"0.0\"),\" ,\", TEXT('ECOLI data'!G28,\"0.0\"),\")\")","v":"(38.2 ,44.9)"},{"$f":"'ECOLI data'!H28","v":566},{"$f":"'ECOLI data'!I28","v":41.082000000000001},{"$f":"IFERROR(CONCATENATE(\"(\",TEXT('ECOLI data'!J28,\"0.0\"),\" ,\", TEXT('ECOLI data'!K28,\"0.0\"),\")\"),\"-\")","v":"(37.8 ,44.6)"}]
[null,{"$f":"'ECOLI data'!B29","v":"2021-12-01"},{"$f":"'ECOLI data'!D29","v":509},{"$f":"'ECOLI data'!E29","v":34.075299999999999},{"$f":"CONCATENATE(\"(\",TEXT('ECOLI data'!F29,\"0.0\"),\" ,\", TEXT('ECOLI data'!G29,\"0.0\"),\")\")","v":"(31.2 ,37.2)"},{"$f":"'ECOLI data'!H29","v":549},{"$f":"'ECOLI data'!I29","v":39.848100000000002},{"$f":"IFERROR(CONCATENATE(\"(\",TEXT('ECOLI data'!J29,\"0.0\"),\" ,\", TEXT('ECOLI data'!K29,\"0.0\"),\")\"),\"-\")","v":"(36.6 ,43.3)"}]

{"sheet":"ECOLI data","index":3,"n_rows":29,"n_cols":30,"rows_kept":29,"cut":false,"hidden":true,"merged":[]}
["Trend data",null,null,null,null,null,null,null,null,null,null,null,null,null,null,null,null,"u-chart data"]
[]
["add a new line for current quarter"]
[null,null,null,null,null,null,null,null,null,null,null,null,null,null,null,null,null,null,null,null,"change this"]
[null,null,null,"ECBHCAI","ECBHCAI","ECBHCAI","ECBHCAI","ECBCOM","ECBCOM","ECBCOM","ECBCOM","ECBHCAI","ECBCOM",null,null,null,null,null,null,"current quarter end","2021-12-31",3,4,5,6,null,3,4,5,6]
[null,null,null,2,4,5,6,2,4,5,6,3,3]
[null,null,"ref","Healthcare associated Cases","Healthcare associated rate","Healthcare associated lower CI","Healthcare associated upper CI","Community associatedCases","Community associatedrate","Community associated lower CI","Community associated upper CI","ALL beds","Pop",null,null,null,null,null,null,null,null,"ECBHCAI",null,null,null,null,"ECBCOM"]
[201603,"2016-09-24",{"$f":"CONCATENATE(A8,'ECOLI Data and Charts'!B$1)","v":"201603Scotland"},{"$f":"VLOOKUP(CONCATENATE(D$5,$C8),'trend data'!$A$2:$O$11161,D$6,FALSE)","v":582},{"$f":"ROUND(VLOOKUP(CONCATENATE(E$5,$C8),'trend data'!$A$2:$O$11161,E$6,FALSE),3)","v":36.652000000000001},{"$f":"ROUND(VLOOKUP(CONCATENATE(F$5,$C8),'trend data'!$A$2:$O$11161,F$6,FALSE),3)","v":33.734999999999999},{"$f":"ROUND(VLOOKUP(CONCATENATE(G$5,$C8),'trend data'!$A$2:$O$11161,G$6,FALSE),3)","v":39.755000000000003},{"$f":"IFERROR(VLOOKUP(CONCATENATE(H$5,$C8),'trend data'!$A$2:$O$11161,H$6,FALSE),\"-\")","v":719},{"$f":"IFERROR(ROUND(VLOOKUP(CONCATENATE(I$5,$C8),'trend data'!$A$2:$O$11161,I$6,FALSE),3),\"-\")","v":52.923999999999999},{"$f":"IFERROR(ROUND(VLOOKUP(CONCATENATE(J$5,$C8),'trend data'!$A$2:$O$11161,J$6,FALSE),3),\"-\")","v":49.125},{"$f":"IFERROR(ROUND(VLOOKUP(CONCATENATE(K$5,$C8),'trend data'!$A$2:$O$11161,K$6,FALSE),3),\"-\")","v":56.938000000000002},{"$f":"VLOOKUP(CONCATENATE(L$5,$C8),'trend data'!$A$2:$O$11161,L$6,FALSE)","v":1587890},{"$f":"ROUND(VLOOKUP(CONCATENATE(M$5,$C8),'trend data'!$A$2:$O$11161,M$6,FALSE),2)","v":1358558.47},null,null,null,null,"change to last 12 quarters",null,null,null,"Healthcare associated rate","Healthcare associated av rate","Healthcare associated UWL 2sd","Healthcare associated UWL 3sd",null,"Community associated rate","Community associated av rate","Community associated UWL 2sd","Community associated UWL 3 sd"]
[201604,"2016-12-24",{"$f":"CONCATENATE(A9,'ECOLI Data and Charts'!B$1)","v":"201604Scotland"},{"$f":"VLOOKUP(CONCATENATE(D$5,$C9),'trend data'!$A$2:$O$11161,D$6,FALSE)","v":564},{"$f":"ROUND(VLOOKUP(CONCATENATE(E$5,$C9),'trend data'!$A$2:$O$11161,E$6,FALSE),3)","v":35.433999999999997},{"$f":"ROUND(VLOOKUP(CONCATENATE(F$5,$C9),'trend data'!$A$2:$O$11161,F$6,FALSE),3)","v":32.57},{"$f":"ROUND(VLOOKUP(CONCATENATE(G$5,$C9),'trend data'!$A$2:$O$11161,G$6,FALSE),3)","v":38.482999999999997},{"$f":"IFERROR(VLOOKUP(CONCATENATE(H$5,$C9),'trend data'!$A$2:$O$11161,H$6,FALSE),\"-\")","v":631},{"$f":"IFERROR(ROUND(VLOOKUP(CONCATENATE(I$5,$C9),'trend data'!$A$2:$O$11161,I$6,FALSE),3),\"-\")","v":46.445999999999998},{"$f":"IFERROR(ROUND(VLOOKUP(CONCATENATE(J$5,$C9),'trend data'!$A$2:$O$11161,J$6,FALSE),3),\"-\")","v":42.892000000000003},{"$f":"IFERROR(ROUND(VLOOKUP(CONCATENATE(K$5,$C9),'trend data'!$A$2:$O$11161,K$6,FALSE),3),\"-\")","v":50.216000000000001},{"$f":"VLOOKUP(CONCATENATE(L$5,$C9),'trend data'!$A$2:$O$11161,L$6,FALSE)","v":1591683},{"$f":"ROUND(VLOOKUP(CONCATENATE(M$5,$C9),'trend data'!$A$2:$O$11161,M$6,FALSE),2)","v":1358558.47},null,null,null,null,{"$f":"YEAR(U9)&\"0\"&IF(MONTH(U9)<4,1,IF(MONTH(U9)<7,2,IF(MONTH(U9)<10,3,4)))","v":"201901"},{"$f":"CONCATENATE(V$7,$R9,'ECOLI Data and Charts'!B$1)","v":"ECBHCAI201901Scotland"},1,{"$f":"U10-92","v":"2019-03-25"},{"$f":"ROUND(VLOOKUP($S9,'data for u-p-charts'!$A$2:$F$5000,V$5,FALSE),2)","v":37.24},{"$f":"ROUND(VLOOKUP($S9,'data for u-p-charts'!$A$2:$F$5000,W$5,FALSE),2)","v":39.03},{"$f":"ROUND(VLOOKUP($S9,'data for u-p-charts'!$A$2:$F$5000,X$5,FALSE),2)","v":42.22},{"$f":"ROUND(VLOOKUP($S9,'data for u-p-charts'!$A$2:$F$5000,Y$5,FALSE),2)","v":43.81},{"$f":"CONCATENATE(AA$7,$R9,'ECOLI Data and Charts'!$B$1)","v":"ECBCOM201901Scotland"},{"$f":"ROUND(VLOOKUP($Z9,'data for u-p-charts'!$A$2:$F$5000,AA$5,FALSE),2)","v":44.39},{"$f":"ROUND(VLOOKUP($Z9,'data for u-p-charts'!$A$2:$F$5000,AB$5,FALSE),2)","v":41.16},{"$f":"ROUND(VLOOKUP($Z9,'data for u-p-charts'!$A$2:$F$5000,AC$5,FALSE),2)","v":44.66},{"$f":"ROUND(VLOOKUP($Z9,'data for u-p-charts'!$A$2:$F$5000,AD$5,FALSE),2)","v":46.41}]
[201701,"2017-03-01",{"$f":"CONCATENATE(A10,'ECOLI Data and Charts'!B$1)","v":"201701Scotland"},{"$f":"VLOOKUP(CONCATENATE(D$5,$C10),'trend data'!$A$2:$O$11161,D$6,FALSE)","v":547},{"$f":"ROUND(VLOOKUP(CONCATENATE(E$5,$C10),'trend data'!$A$2:$O$11161,E$6,FALSE),3)","v":34.591000000000001},{"$f":"ROUND(VLOOKUP(CONCATENATE(F$5,$C10),'trend data'!$A$2:$O$11161,F$6,FALSE),3)","v":31.751999999999999},{"$f":"ROUND(VLOOKUP(CONCATENATE(G$5,$C10),'trend data'!$A$2:$O$11161,G$6,FALSE),3)","v":37.615000000000002},{"$f":"IFERROR(VLOOKUP(CONCATENATE(H$5,$C10),'trend data'!$A$2:$O$11161,H$6,FALSE),\"-\")","v":571},{"$f":"IFERROR(ROUND(VLOOKUP(CONCATENATE(I$5,$C10),'trend data'!$A$2:$O$11161,I$6,FALSE),3),\"-\")","v":42.688000000000002},{"$f":"IFERROR(ROUND(VLOOKUP(CONCATENATE(J$5,$C10),'trend data'!$A$2:$O$11161,J$6,FALSE),3),\"-\")","v":39.258000000000003},{"$f":"IFERROR(ROUND(VLOOKUP(CONCATENATE(K$5,$C10),'trend data'!$A$2:$O$11161,K$6,FALSE),3),\"-\")","v":46.337000000000003},{"$f":"VLOOKUP(CONCATENATE(L$5,$C10),'trend data'!$A$2:$O$11161,L$6,FALSE)","v":1581339},{"$f":"ROUND(VLOOKUP(CONCATENATE(M$5,$C10),'trend data'!$A$2:$O$11161,M$6,FALSE),2)","v":1337621.92},null,null,null,null,{"$f":"YEAR(U10)&\"0\"&IF(MONTH(U10)<4,1,IF(MONTH(U10)<7,2,IF(MONTH(U10)<10,3,4)))","v":"201902"},{"$f":"CONCATENATE(V$7,R10,'ECOLI Data and Charts'!B$1)","v":"ECBHCAI201902Scotland"},2,"2019-06-25",{"$f":"ROUND(VLOOKUP($S10,'data for u-p-charts'!$A$2:$F$5000,V$5,FALSE),2)","v":38.770000000000003},{"$f":"ROUND(VLOOKUP($S10,'data for u-p-charts'!$A$2:$F$5000,W$5,FALSE),2)","v":39.03},{"$f":"ROUND(VLOOKUP($S10,'data for u-p-charts'!$A$2:$F$5000,X$5,FALSE),2)","v":42.25},{"$f":"ROUND(VLOOKUP($S10,'data for u-p-charts'!$A$2:$F$5000,Y$5,FALSE),2)","v":43.86},{"$f":"CONCATENATE(AA$7,$R10,'ECOLI Data and Charts'!$B$1)","v":"ECBCOM201902Scotland"},{"$f":"ROUND(VLOOKUP($Z10,'data for u-p-charts'!$A$2:$F$5000,AA$5,FALSE),2)","v":44.34},{"$f":"ROUND(VLOOKUP($Z10,'data for u-p-charts'!$A$2:$F$5000,AB$5,FALSE),2)","v":41.16},{"$f":"ROUND(VLOOKUP($Z10,'data for u-p-charts'!$A$2:$F$5000,AC$5,FALSE),2)","v":44.64},{"$f":"ROUND(VLOOKUP($Z10,'data for u-p-charts'!$A$2:$F$5000,AD$5,FALSE),2)","v":46.38}]
[201702,"2017-06-01",{"$f":"CONCATENATE(A11,'ECOLI Data and Charts'!B$1)","v":"201702Scotland"},{"$f":"VLOOKUP(CONCATENATE(D$5,$C11),'trend data'!$A$2:$O$11161,D$6,FALSE)","v":539},{"$f":"ROUND(VLOOKUP(CONCATENATE(E$5,$C11),'trend data'!$A$2:$O$11161,E$6,FALSE),3)","v":34.761000000000003},{"$f":"ROUND(VLOOKUP(CONCATENATE(F$5,$C11),'trend data'!$A$2:$O$11161,F$6,FALSE),3)","v":31.888000000000002},{"$f":"ROUND(VLOOKUP(CONCATENATE(G$5,$C11),'trend data'!$A$2:$O$11161,G$6,FALSE),3)","v":37.823999999999998},{"$f":"IFERROR(VLOOKUP(CONCATENATE(H$5,$C11),'trend data'!$A$2:$O$11161,H$6,FALSE),\"-\")","v":657},{"$f":"IFERROR(ROUND(VLOOKUP(CONCATENATE(I$5,$C11),'trend data'!$A$2:$O$11161,I$6,FALSE),3),\"-\")","v":48.576999999999998},{"$f":"IFERROR(ROUND(VLOOKUP(CONCATENATE(J$5,$C11),'trend data'!$A$2:$O$11161,J$6,FALSE),3),\"-\")","v":44.933},{"$f":"IFERROR(ROUND(VLOOKUP(CONCATENATE(K$5,$C11),'trend data'!$A$2:$O$11161,K$6,FALSE),3),\"-\")","v":52.438000000000002},{"$f":"VLOOKUP(CONCATENATE(L$5,$C11),'trend data'!$A$2:$O$11161,L$6,FALSE)","v":1550567},{"$f":"ROUND(VLOOKUP(CONCATENATE(M$5,$C11),'trend data'!$A$2:$O$11161,M$6,FALSE),2)","v":1352484.38},null,null,null,null,{"$f":"YEAR(U11)&\"0\"&IF(MONTH(U11)<4,1,IF(MONTH(U11)<7,2,IF(MONTH(U11)<10,3,4)))","v":"201903"},{"$f":"CONCATENATE(V$7,R11,'ECOLI Data and Charts'!B$1)","v":"ECBHCAI201903Scotland"},3,"2019-09-25",{"$f":"ROUND(VLOOKUP($S11,'data for u-p-charts'!$A$2:$F$5000,V$5,FALSE),2)","v":40.35},{"$f":"ROUND(VLOOKUP($S11,'data for u-p-charts'!$A$2:$F$5000,W$5,FALSE),2)","v":39.03},{"$f":"ROUND(VLOOKUP($S11,'data for u-p-charts'!$A$2:$F$5000,X$5,FALSE),2)","v":42.25},{"$f":"ROUND(VLOOKUP($S11,'data for u-p-charts'!$A$2:$F$5000,Y$5,FALSE),2)","v":43.86},{"$f":"CONCATENATE(AA$7,$R11,'ECOLI Data and Charts'!$B$1)","v":"ECBCOM201903Scotland"},{"$f":"ROUND(VLOOKUP($Z11,'data for u-p-charts'!$A$2:$F$5000,AA$5,FALSE),2)","v":44.01},{"$f":"ROUND(VLOOKUP($Z11,'data for u-p-charts'!$A$2:$F$5000,AB$5,FALSE),2)","v":41.16},{"$f":"ROUND(VLOOKUP($Z11,'data for u-p-charts'!$A$2:$F$5000,AC$5,FALSE),2)","v":44.62},{"$f":"ROUND(VLOOKUP($Z11,'data for u-p-charts'!$A$2:$F$5000,AD$5,FALSE),2)","v":46.35}]
[201703,"2017-09-01",{"$f":"CONCATENATE(A12,'ECOLI Data and Charts'!B$1)","v":"201703Scotland"},{"$f":"VLOOKUP(CONCATENATE(D$5,$C12),'trend data'!$A$2:$O$11161,D$6,FALSE)","v":585},{"$f":"ROUND(VLOOKUP(CONCATENATE(E$5,$C12),'trend data'!$A$2:$O$11161,E$6,FALSE),3)","v":38.015999999999998},{"$f":"ROUND(VLOOKUP(CONCATENATE(F$5,$C12),'trend data'!$A$2:$O$11161,F$6,FALSE),3)","v":34.997},{"$f":"ROUND(VLOOKUP(CONCATENATE(G$5,$C12),'trend data'!$A$2:$O$11161,G$6,FALSE),3)","v":41.225000000000001},{"$f":"IFERROR(VLOOKUP(CONCATENATE(H$5,$C12),'trend data'!$A$2:$O$11161,H$6,FALSE),\"-\")","v":677},{"$f":"IFERROR(ROUND(VLOOKUP(CONCATENATE(I$5,$C12),'trend data'!$A$2:$O$11161,I$6,FALSE),3),\"-\")","v":49.512},{"$f":"IFERROR(ROUND(VLOOKUP(CONCATENATE(J$5,$C12),'trend data'!$A$2:$O$11161,J$6,FALSE),3),\"-\")","v":45.851999999999997},{"$f":"IFERROR(ROUND(VLOOKUP(CONCATENATE(K$5,$C12),'trend data'!$A$2:$O$11161,K$6,FALSE),3),\"-\")","v":53.386000000000003},{"$f":"VLOOKUP(CONCATENATE(L$5,$C12),'trend data'!$A$2:$O$11161,L$6,FALSE)","v":1538826},{"$f":"ROUND(VLOOKUP(CONCATENATE(M$5,$C12),'trend data'!$A$2:$O$11161,M$6,FALSE),2)","v":1367346.85},null,null,null,null,"201904",{"$f":"CONCATENATE(V$7,R12,'ECOLI Data and Charts'!B$1)","v":"ECBHCAI201904Scotland"},4,"2019-12-26",{"$f":"ROUND(VLOOKUP($S12,'data for u-p-charts'!$A$2:$F$5000,V$5,FALSE),2)","v":40.880000000000003},{"$f":"ROUND(VLOOKUP($S12,'data for u-p-charts'!$A$2:$F$5000,W$5,FALSE),2)","v":39.03},{"$f":"ROUND(VLOOKUP($S12,'data for u-p-charts'!$A$2:$F$5000,X$5,FALSE),2)","v":42.22},{"$f":"ROUND(VLOOKUP($S12,'data for u-p-charts'!$A$2:$F$5000,Y$5,FALSE),2)","v":43.82},{"$f":"CONCATENATE(AA$7,$R12,'ECOLI Data and Charts'!$B$1)","v":"ECBCOM201904Scotland"},{"$f":"ROUND(VLOOKUP($Z12,'data for u-p-charts'!$A$2:$F$5000,AA$5,FALSE),2)","v":41.25},{"$f":"ROUND(VLOOKUP($Z12,'data for u-p-charts'!$A$2:$F$5000,AB$5,FALSE),2)","v":41.16},{"$f":"ROUND(VLOOKUP($Z12,'data for u-p-charts'!$A$2:$F$5000,AC$5,FALSE),2)","v":44.62},{"$f":"ROUND(VLOOKUP($Z12,'data for u-p-charts'!$A$2:$F$5000,AD$5,FALSE),2)","v":46.35}]
[201704,"2017-12-01",{"$f":"CONCATENATE(A13,'ECOLI Data and Charts'!B$1)","v":"201704Scotland"},{"$f":"VLOOKUP(CONCATENATE(D$5,$C13),'trend data'!$A$2:$O$11161,D$6,FALSE)","v":531},{"$f":"ROUND(VLOOKUP(CONCATENATE(E$5,$C13),'trend data'!$A$2:$O$11161,E$6,FALSE),3)","v":33.715000000000003},{"$f":"ROUND(VLOOKUP(CONCATENATE(F$5,$C13),'trend data'!$A$2:$O$11161,F$6,FALSE),3)","v":30.908000000000001},{"$f":"ROUND(VLOOKUP(CONCATENATE(G$5,$C13),'trend data'!$A$2:$O$11161,G$6,FALSE),3)","v":36.709000000000003},{"$f":"IFERROR(VLOOKUP(CONCATENATE(H$5,$C13),'trend data'!$A$2:$O$11161,H$6,FALSE),\"-\")","v":656},{"$f":"IFERROR(ROUND(VLOOKUP(CONCATENATE(I$5,$C13),'trend data'!$A$2:$O$11161,I$6,FALSE),3),\"-\")","v":47.975999999999999},{"$f":"IFERROR(ROUND(VLOOKUP(CONCATENATE(J$5,$C13),'trend data'!$A$2:$O$11161,J$6,FALSE),3),\"-\")","v":44.374000000000002},{"$f":"IFERROR(ROUND(VLOOKUP(CONCATENATE(K$5,$C13),'trend data'!$A$2:$O$11161,K$6,FALSE),3),\"-\")","v":51.792000000000002},{"$f":"VLOOKUP(CONCATENATE(L$5,$C13),'trend data'!$A$2:$O$11161,L$6,FALSE)","v":1574967},{"$f":"ROUND(VLOOKUP(CONCATENATE(M$5,$C13),'trend data'!$A$2:$O$11161,M$6,FALSE),2)","v":1367346.85},null,null,null,null,"202001",{"$f":"CONCATENATE(V$7,R13,'ECOLI Data and Charts'!B$1)","v":"ECBHCAI202001Scotland"},5,"2020-03-27",{"$f":"ROUND(VLOOKUP($S13,'data for u-p-charts'!$A$2:$F$5000,V$5,FALSE),2)","v":36.450000000000003},{"$f":"ROUND(VLOOKUP($S13,'data for u-p-charts'!$A$2:$F$5000,W$5,FALSE),2)","v":39.03},{"$f":"ROUND(VLOOKUP($S13,'data for u-p-charts'!$A$2:$F$5000,X$5,FALSE),2)","v":42.28},{"$f":"ROUND(VLOOKUP($S13,'data for u-p-charts'!$A$2:$F$5000,Y$5,FALSE),2)","v":43.91},{"$f":"CONCATENATE(AA$7,$R13,'ECOLI Data and Charts'!$B$1)","v":"ECBCOM202001Scotland"},{"$f":"ROUND(VLOOKUP($Z13,'data for u-p-charts'!$A$2:$F$5000,AA$5,FALSE),2)","v":37.82},{"$f":"ROUND(VLOOKUP($Z13,'data for u-p-charts'!$A$2:$F$5000,AB$5,FALSE),2)","v":41.16},{"$f":"ROUND(VLOOKUP($Z13,'data for u-p-charts'!$A$2:$F$5000,AC$5,FALSE),2)","v":44.64},{"$f":"ROUND(VLOOKUP($Z13,'data for u-p-charts'!$A$2:$F$5000,AD$5,FALSE),2)","v":46.38}]
[201801,"2018-03-01",{"$f":"CONCATENATE(A14,'ECOLI Data and Charts'!B$1)","v":"201801Scotland"},{"$f":"IFERROR(VLOOKUP(CONCATENATE(D$5,$C14),'trend data'!$A$2:$O$11161,D$6,FALSE),\"-\")","v":524},{"$f":"ROUND(VLOOKUP(CONCATENATE(E$5,$C14),'trend data'!$A$2:$O$11161,E$6,FALSE),3)","v":33.055},{"$f":"ROUND(VLOOKUP(CONCATENATE(F$5,$C14),'trend data'!$A$2:$O$11161,F$6,FALSE),3)","v":30.285},{"$f":"ROUND(VLOOKUP(CONCATENATE(G$5,$C14),'trend data'!$A$2:$O$11161,G$6,FALSE),3)","v":36.01},{"$f":"IFERROR(VLOOKUP(CONCATENATE(H$5,$C14),'trend data'!$A$2:$O$11161,H$6,FALSE),\"-\")","v":578},{"$f":"IFERROR(ROUND(VLOOKUP(CONCATENATE(I$5,$C14),'trend data'!$A$2:$O$11161,I$6,FALSE),3),\"-\")","v":43.104999999999997},{"$f":"IFERROR(ROUND(VLOOKUP(CONCATENATE(J$5,$C14),'trend data'!$A$2:$O$11161,J$6,FALSE),3),\"-\")","v":39.661999999999999},{"$f":"IFERROR(ROUND(VLOOKUP(CONCATENATE(K$5,$C14),'trend data'!$A$2:$O$11161,K$6,FALSE),3),\"-\")","v":46.767000000000003},{"$f":"VLOOKUP(CONCATENATE(L$5,$C14),'trend data'!$A$2:$O$11161,L$6,FALSE)","v":1585233},{"$f":"ROUND(VLOOKUP(CONCATENATE(M$5,$C14),'trend data'!$A$2:$O$11161,M$6,FALSE),2)","v":1340901.3700000001},null,null,null,null,"202002",{"$f":"CONCATENATE(V$7,R14,'ECOLI Data and Charts'!B$1)","v":"ECBHCAI202002Scotland"},6,"2020-06-27",{"$f":"ROUND(VLOOKUP($S14,'data for u-p-charts'!$A$2:$F$5000,V$5,FALSE),2)","v":39.69},{"$f":"ROUND(VLOOKUP($S14,'data for u-p-charts'!$A$2:$F$5000,W$5,FALSE),2)","v":39.03},{"$f":"ROUND(VLOOKUP($S14,'data for u-p-charts'!$A$2:$F$5000,X$5,FALSE),2)","v":42.83},{"$f":"ROUND(VLOOKUP($S14,'data for u-p-charts'!$A$2:$F$5000,Y$5,FALSE),2)","v":44.73},{"$f":"CONCATENATE(AA$7,$R14,'ECOLI Data and Charts'!$B$1)","v":"ECBCOM202002Scotland"},{"$f":"ROUND(VLOOKUP($Z14,'data for u-p-charts'!$A$2:$F$5000,AA$5,FALSE),2)","v":35.909999999999997},{"$f":"ROUND(VLOOKUP($Z14,'data for u-p-charts'!$A$2:$F$5000,AB$5,FALSE),2)","v":41.16},{"$f":"ROUND(VLOOKUP($Z14,'data for u-p-charts'!$A$2:$F$5000,AC$5,FALSE),2)","v":44.64},{"$f":"ROUND(VLOOKUP($Z14,'data for u-p-charts'!$A$2:$F$5000,AD$5,FALSE),2)","v":46.38}]
[201802,"2018-06-01",{"$f":"CONCATENATE(A15,'ECOLI Data and Charts'!B$1)","v":"201802Scotland"},{"$f":"IFERROR(VLOOKUP(CONCATENATE(D$5,$C15),'trend data'!$A$2:$O$11161,D$6,FALSE),\"-\")","v":580},{"$f":"ROUND(VLOOKUP(CONCATENATE(E$5,$C15),'trend data'!$A$2:$O$11161,E$6,FALSE),3)","v":38.024000000000001},{"$f":"ROUND(VLOOKUP(CONCATENATE(F$5,$C15),'trend data'!$A$2:$O$11161,F$6,FALSE),3)","v":34.991999999999997},{"$f":"ROUND(VLOOKUP(CONCATENATE(G$5,$C15),'trend data'!$A$2:$O$11161,G$6,FALSE),3)","v":41.249000000000002},{"$f":"IFERROR(VLOOKUP(CONCATENATE(H$5,$C15),'trend data'!$A$2:$O$11161,H$6,FALSE),\"-\")","v":598},{"$f":"IFERROR(ROUND(VLOOKUP(CONCATENATE(I$5,$C15),'trend data'!$A$2:$O$11161,I$6,FALSE),3),\"-\")","v":44.106999999999999},{"$f":"IFERROR(ROUND(VLOOKUP(CONCATENATE(J$5,$C15),'trend data'!$A$2:$O$11161,J$6,FALSE),3),\"-\")","v":40.642000000000003},{"$f":"IFERROR(ROUND(VLOOKUP(CONCATENATE(K$5,$C15),'trend data'!$A$2:$O$11161,K$6,FALSE),3),\"-\")","v":47.787999999999997},{"$f":"VLOOKUP(CONCATENATE(L$5,$C15),'trend data'!$A$2:$O$11161,L$6,FALSE)","v":1525345},{"$f":"ROUND(VLOOKUP(CONCATENATE(M$5,$C15),'trend data'!$A$2:$O$11161,M$6,FALSE),2)","v":1355800.27},null,null,null,null,"202003",{"$f":"CONCATENATE(V$7,R15,'ECOLI Data and Charts'!B$1)","v":"ECBHCAI202003Scotland"},7,"2020-09-27",{"$f":"ROUND(VLOOKUP($S15,'data for u-p-charts'!$A$2:$F$5000,V$5,FALSE),2)","v":41.95},{"$f":"ROUND(VLOOKUP($S15,'data for u-p-charts'!$A$2:$F$5000,W$5,FALSE),2)","v":39.03},{"$f":"ROUND(VLOOKUP($S15,'data for u-p-charts'!$A$2:$F$5000,X$5,FALSE),2)","v":42.49},{"$f":"ROUND(VLOOKUP($S15,'data for u-p-charts'!$A$2:$F$5000,Y$5,FALSE),2)","v":44.22},{"$f":"CONCATENATE(AA$7,$R15,'ECOLI Data and Charts'!$B$1)","v":"ECBCOM202003Scotland"},{"$f":"ROUND(VLOOKUP($Z15,'data for u-p-charts'!$A$2:$F$5000,AA$5,FALSE),2)","v":44.69},{"$f":"ROUND(VLOOKUP($Z15,'data for u-p-charts'!$A$2:$F$5000,AB$5,FALSE),2)","v":41.16},{"$f":"ROUND(VLOOKUP($Z15,'data for u-p-charts'!$A$2:$F$5000,AC$5,FALSE),2)","v":44.63},{"$f":"ROUND(VLOOKUP($Z15,'data for u-p-charts'!$A$2:$F$5000,AD$5,FALSE),2)","v":46.36}]
[201803,"2018-09-01",{"$f":"CONCATENATE(A16,'ECOLI Data and Charts'!B$1)","v":"201803Scotland"},{"$f":"IFERROR(VLOOKUP(CONCATENATE(D$5,$C16),'trend data'!$A$2:$O$11161,D$6,FALSE),\"-\")","v":606},{"$f":"ROUND(VLOOKUP(CONCATENATE(E$5,$C16),'trend data'!$A$2:$O$11161,E$6,FALSE),3)","v":40.088999999999999},{"$f":"ROUND(VLOOKUP(CONCATENATE(F$5,$C16),'trend data'!$A$2:$O$11161,F$6,FALSE),3)","v":36.960999999999999},{"$f":"ROUND(VLOOKUP(CONCATENATE(G$5,$C16),'trend data'!$A$2:$O$11161,G$6,FALSE),3)","v":43.411999999999999},{"$f":"IFERROR(VLOOKUP(CONCATENATE(H$5,$C16),'trend data'!$A$2:$O$11161,H$6,FALSE),\"-\")","v":667},{"$f":"IFERROR(ROUND(VLOOKUP(CONCATENATE(I$5,$C16),'trend data'!$A$2:$O$11161,I$6,FALSE),3),\"-\")","v":48.661000000000001},{"$f":"IFERROR(ROUND(VLOOKUP(CONCATENATE(J$5,$C16),'trend data'!$A$2:$O$11161,J$6,FALSE),3),\"-\")","v":45.037999999999997},{"$f":"IFERROR(ROUND(VLOOKUP(CONCATENATE(K$5,$C16),'trend data'!$A$2:$O$11161,K$6,FALSE),3),\"-\")","v":52.499000000000002},{"$f":"VLOOKUP(CONCATENATE(L$5,$C16),'trend data'!$A$2:$O$11161,L$6,FALSE)","v":1511620},{"$f":"ROUND(VLOOKUP(CONCATENATE(M$5,$C16),'trend data'!$A$2:$O$11161,M$6,FALSE),2)","v":1370699.18},null,null,null,null,"202004",{"$f":"CONCATENATE(V$7,R16,'ECOLI Data and Charts'!B$1)","v":"ECBHCAI202004Scotland"},8,"2020-12-28",{"$f":"ROUND(VLOOKUP($S16,'data for u-p-charts'!$A$2:$F$5000,V$5,FALSE),2)","v":40.880000000000003},{"$f":"ROUND(VLOOKUP($S16,'data for u-p-charts'!$A$2:$F$5000,W$5,FALSE),2)","v":39.03},{"$f":"ROUND(VLOOKUP($S16,'data for u-p-charts'!$A$2:$F$5000,X$5,FALSE),2)","v":42.42},{"$f":"ROUND(VLOOKUP($S16,'data for u-p-charts'!$A$2:$F$5000,Y$5,FALSE),2)","v":44.12},{"$f":"CONCATENATE(AA$7,$R16,'ECOLI Data and Charts'!$B$1)","v":"ECBCOM202004Scotland"},{"$f":"ROUND(VLOOKUP($Z16,'data for u-p-charts'!$A$2:$F$5000,AA$5,FALSE),2)","v":37.92},{"$f":"ROUND(VLOOKUP($Z16,'data for u-p-charts'!$A$2:$F$5000,AB$5,FALSE),2)","v":41.16},{"$f":"ROUND(VLOOKUP($Z16,'data for u-p-charts'!$A$2:$F$5000,AC$5,FALSE),2)","v":44.63},{"$f":"ROUND(VLOOKUP($Z16,'data for u-p-charts'!$A$2:$F$5000,AD$5,FALSE),2)","v":46.36}]
[201804,"2018-12-01",{"$f":"CONCATENATE(A17,'ECOLI Data and Charts'!B$1)","v":"201804Scotland"},{"$f":"IFERROR(VLOOKUP(CONCATENATE(D$5,$C17),'trend data'!$A$2:$O$11161,D$6,FALSE),\"-\")","v":582},{"$f":"ROUND(VLOOKUP(CONCATENATE(E$5,$C17),'trend data'!$A$2:$O$11161,E$6,FALSE),3)","v":38.234000000000002},{"$f":"ROUND(VLOOKUP(CONCATENATE(F$5,$C17),'trend data'!$A$2:$O$11161,F$6,FALSE),3)","v":35.19},{"$f":"ROUND(VLOOKUP(CONCATENATE(G$5,$C17),'trend data'!$A$2:$O$11161,G$6,FALSE),3)","v":41.47},{"$f":"IFERROR(VLOOKUP(CONCATENATE(H$5,$C17),'trend data'!$A$2:$O$11161,H$6,FALSE),\"-\")","v":603},{"$f":"IFERROR(ROUND(VLOOKUP(CONCATENATE(I$5,$C17),'trend data'!$A$2:$O$11161,I$6,FALSE),3),\"-\")","v":43.991999999999997},{"$f":"IFERROR(ROUND(VLOOKUP(CONCATENATE(J$5,$C17),'trend data'!$A$2:$O$11161,J$6,FALSE),3),\"-\")","v":40.549999999999997},{"$f":"IFERROR(ROUND(VLOOKUP(CONCATENATE(K$5,$C17),'trend data'!$A$2:$O$11161,K$6,FALSE),3),\"-\")","v":47.648000000000003},{"$f":"VLOOKUP(CONCATENATE(L$5,$C17),'trend data'!$A$2:$O$11161,L$6,FALSE)","v":1522217},{"$f":"ROUND(VLOOKUP(CONCATENATE(M$5,$C17),'trend data'!$A$2:$O$11161,M$6,FALSE),2)","v":1370699.18},null,null,null,null,"202101",{"$f":"CONCATENATE(V$7,R17,'ECOLI Data and Charts'!B$1)","v":"ECBHCAI202101Scotland"},9,"2021-03-30",{"$f":"ROUND(VLOOKUP($S17,'data for u-p-charts'!$A$2:$F$5000,V$5,FALSE),2)","v":34.6},{"$f":"ROUND(VLOOKUP($S17,'data for u-p-charts'!$A$2:$F$5000,W$5,FALSE),2)","v":39.03},{"$f":"ROUND(VLOOKUP($S17,'data for u-p-charts'!$A$2:$F$5000,X$5,FALSE),2)","v":42.43},{"$f":"ROUND(VLOOKUP($S17,'data for u-p-charts'!$A$2:$F$5000,Y$5,FALSE),2)","v":44.13},{"$f":"CONCATENATE(AA$7,$R17,'ECOLI Data and Charts'!$B$1)","v":"ECBCOM202101Scotland"},{"$f":"ROUND(VLOOKUP($Z17,'data for u-p-charts'!$A$2:$F$5000,AA$5,FALSE),2)","v":36.58},{"$f":"ROUND(VLOOKUP($Z17,'data for u-p-charts'!$A$2:$F$5000,AB$5,FALSE),2)","v":41.16},{"$f":"ROUND(VLOOKUP($Z17,'data for u-p-charts'!$A$2:$F$5000,AC$5,FALSE),2)","v":44.66},{"$f":"ROUND(VLOOKUP($Z17,'data for u-p-charts'!$A$2:$F$5000,AD$5,FALSE),2)","v":46.41}]
[201901,"2019-03-01",{"$f":"CONCATENATE(A18,'ECOLI Data and Charts'!B$1)","v":"201901Scotland"},{"$f":"IFERROR(VLOOKUP(CONCATENATE(D$5,$C18),'trend data'!$A$2:$O$11161,D$6,FALSE),\"-\")","v":573},{"$f":"ROUND(VLOOKUP(CONCATENATE(E$5,$C18),'trend data'!$A$2:$O$11161,E$6,FALSE),3)","v":37.244},{"$f":"ROUND(VLOOKUP(CONCATENATE(F$5,$C18),'trend data'!$A$2:$O$11161,F$6,FALSE),3)","v":34.256},{"$f":"ROUND(VLOOKUP(CONCATENATE(G$5,$C18),'trend data'!$A$2:$O$11161,G$6,FALSE),3)","v":40.421999999999997},{"$f":"IFERROR(VLOOKUP(CONCATENATE(H$5,$C18),'trend data'!$A$2:$O$11161,H$6,FALSE),\"-\")","v":598},{"$f":"IFERROR(ROUND(VLOOKUP(CONCATENATE(I$5,$C18),'trend data'!$A$2:$O$11161,I$6,FALSE),3),\"-\")","v":44.390999999999998},{"$f":"IFERROR(ROUND(VLOOKUP(CONCATENATE(J$5,$C18),'trend data'!$A$2:$O$11161,J$6,FALSE),3),\"-\")","v":40.904000000000003},{"$f":"IFERROR(ROUND(VLOOKUP(CONCATENATE(K$5,$C18),'trend data'!$A$2:$O$11161,K$6,FALSE),3),\"-\")","v":48.095999999999997},{"$f":"VLOOKUP(CONCATENATE(L$5,$C18),'trend data'!$A$2:$O$11161,L$6,FALSE)","v":1538510},{"$f":"ROUND(VLOOKUP(CONCATENATE(M$5,$C18),'trend data'!$A$2:$O$11161,M$6,FALSE),2)","v":1347115.07},null,null,null,null,"202102",{"$f":"CONCATENATE(V$7,R18,'ECOLI Data and Charts'!B$1)","v":"ECBHCAI202102Scotland"},10,"2021-06-30",{"$f":"ROUND(VLOOKUP($S18,'data for u-p-charts'!$A$2:$F$5000,V$5,FALSE),2)","v":38.159999999999997},{"$f":"ROUND(VLOOKUP($S18,'data for u-p-charts'!$A$2:$F$5000,W$5,FALSE),2)","v":39.03},{"$f":"ROUND(VLOOKUP($S18,'data for u-p-charts'!$A$2:$F$5000,X$5,FALSE),2)","v":42.38},{"$f":"ROUND(VLOOKUP($S18,'data for u-p-charts'!$A$2:$F$5000,Y$5,FALSE),2)","v":44.05},{"$f":"CONCATENATE(AA$7,$R18,'ECOLI Data and Charts'!$B$1)","v":"ECBCOM202102Scotland"},{"$f":"ROUND(VLOOKUP($Z18,'data for u-p-charts'!$A$2:$F$5000,AA$5,FALSE),2)","v":41.9},{"$f":"ROUND(VLOOKUP($Z18,'data for u-p-charts'!$A$2:$F$5000,AB$5,FALSE),2)","v":41.16},{"$f":"ROUND(VLOOKUP($Z18,'data for u-p-charts'!$A$2:$F$5000,AC$5,FALSE),2)","v":44.64},{"$f":"ROUND(VLOOKUP($Z18,'data for u-p-charts'!$A$2:$F$5000,AD$5,FALSE),2)","v":46.38}]
[201902,"2019-06-01",{"$f":"CONCATENATE(A19,'ECOLI Data and Charts'!B$1)","v":"201902Scotland"},{"$f":"IFERROR(VLOOKUP(CONCATENATE(D$5,$C19),'trend data'!$A$2:$O$11161,D$6,FALSE),\"-\")","v":584},{"$f":"ROUND(VLOOKUP(CONCATENATE(E$5,$C19),'trend data'!$A$2:$O$11161,E$6,FALSE),3)","v":38.771000000000001},{"$f":"ROUND(VLOOKUP(CONCATENATE(F$5,$C19),'trend data'!$A$2:$O$11161,F$6,FALSE),3)","v":35.69},{"$f":"ROUND(VLOOKUP(CONCATENATE(G$5,$C19),'trend data'!$A$2:$O$11161,G$6,FALSE),3)","v":42.046999999999997},{"$f":"IFERROR(VLOOKUP(CONCATENATE(H$5,$C19),'trend data'!$A$2:$O$11161,H$6,FALSE),\"-\")","v":604},{"$f":"IFERROR(ROUND(VLOOKUP(CONCATENATE(I$5,$C19),'trend data'!$A$2:$O$11161,I$6,FALSE),3),\"-\")","v":44.344000000000001},{"$f":"IFERROR(ROUND(VLOOKUP(CONCATENATE(J$5,$C19),'trend data'!$A$2:$O$11161,J$6,FALSE),3),\"-\")","v":40.877000000000002},{"$f":"IFERROR(ROUND(VLOOKUP(CONCATENATE(K$5,$C19),'trend data'!$A$2:$O$11161,K$6,FALSE),3),\"-\")","v":48.026000000000003},{"$f":"VLOOKUP(CONCATENATE(L$5,$C19),'trend data'!$A$2:$O$11161,L$6,FALSE)","v":1506284},{"$f":"ROUND(VLOOKUP(CONCATENATE(M$5,$C19),'trend data'!$A$2:$O$11161,M$6,FALSE),2)","v":1362083.01},null,null,null,null,"202103",{"$f":"CONCATENATE(V$7,R19,'ECOLI Data and Charts'!B$1)","v":"ECBHCAI202103Scotland"},11,{"$f":"U20-92","v":"2021-09-30"},{"$f":"ROUND(VLOOKUP($S19,'data for u-p-charts'!$A$2:$F$5000,V$5,FALSE),2)","v":41.47},{"$f":"ROUND(VLOOKUP($S19,'data for u-p-charts'!$A$2:$F$5000,W$5,FALSE),2)","v":39.03},{"$f":"ROUND(VLOOKUP($S19,'data for u-p-charts'!$A$2:$F$5000,X$5,FALSE),2)","v":42.31},{"$f":"ROUND(VLOOKUP($S19,'data for u-p-charts'!$A$2:$F$5000,Y$5,FALSE),2)","v":43.94},{"$f":"CONCATENATE(AA$7,$R19,'ECOLI Data and Charts'!$B$1)","v":"ECBCOM202103Scotland"},{"$f":"ROUND(VLOOKUP($Z19,'data for u-p-charts'!$A$2:$F$5000,AA$5,FALSE),2)","v":41.08},{"$f":"ROUND(VLOOKUP($Z19,'data for u-p-charts'!$A$2:$F$5000,AB$5,FALSE),2)","v":41.16},{"$f":"ROUND(VLOOKUP($Z19,'data for u-p-charts'!$A$2:$F$5000,AC$5,FALSE),2)","v":44.62},{"$f":"ROUND(VLOOKUP($Z19,'data for u-p-charts'!$A$2:$F$5000,AD$5,FALSE),2)","v":46.35}]
[201903,"2019-09-01",{"$f":"CONCATENATE(A20,'ECOLI Data and Charts'!B$1)","v":"201903Scotland"},{"$f":"IFERROR(VLOOKUP(CONCATENATE(D$5,$C20),'trend data'!$A$2:$O$11161,D$6,FALSE),\"-\")","v":608},{"$f":"ROUND(VLOOKUP(CONCATENATE(E$5,$C20),'trend data'!$A$2:$O$11161,E$6,FALSE),3)","v":40.345999999999997},{"$f":"ROUND(VLOOKUP(CONCATENATE(F$5,$C20),'trend data'!$A$2:$O$11161,F$6,FALSE),3)","v":37.201999999999998},{"$f":"ROUND(VLOOKUP(CONCATENATE(G$5,$C20),'trend data'!$A$2:$O$11161,G$6,FALSE),3)","v":43.683999999999997},{"$f":"IFERROR(VLOOKUP(CONCATENATE(H$5,$C20),'trend data'!$A$2:$O$11161,H$6,FALSE),\"-\")","v":606},{"$f":"IFERROR(ROUND(VLOOKUP(CONCATENATE(I$5,$C20),'trend data'!$A$2:$O$11161,I$6,FALSE),3),\"-\")","v":44.006999999999998},{"$f":"IFERROR(ROUND(VLOOKUP(CONCATENATE(J$5,$C20),'trend data'!$A$2:$O$11161,J$6,FALSE),3),\"-\")","v":40.572000000000003},{"$f":"IFERROR(ROUND(VLOOKUP(CONCATENATE(K$5,$C20),'trend data'!$A$2:$O$11161,K$6,FALSE),3),\"-\")","v":47.655000000000001},{"$f":"VLOOKUP(CONCATENATE(L$5,$C20),'trend data'!$A$2:$O$11161,L$6,FALSE)","v":1506970},{"$f":"ROUND(VLOOKUP(CONCATENATE(M$5,$C20),'trend data'!$A$2:$O$11161,M$6,FALSE),2)","v":1377050.96},null,null,null,null,"202104",{"$f":"CONCATENATE(V$7,R20,'ECOLI Data and Charts'!B$1)","v":"ECBHCAI202104Scotland"},12,{"$f":"U5","v":"2021-12-31"},{"$f":"ROUND(VLOOKUP($S20,'data for u-p-charts'!$A$2:$F$5000,V$5,FALSE),2)","v":34.08},{"$f":"ROUND(VLOOKUP($S20,'data for u-p-charts'!$A$2:$F$5000,W$5,FALSE),2)","v":39.03},{"$f":"ROUND(VLOOKUP($S20,'data for u-p-charts'!$A$2:$F$5000,X$5,FALSE),2)","v":42.26},{"$f":"ROUND(VLOOKUP($S20,'data for u-p-charts'!$A$2:$F$5000,Y$5,FALSE),2)","v":43.88},{"$f":"CONCATENATE(AA$7,$R20,'ECOLI Data and Charts'!$B$1)","v":"ECBCOM202104Scotland"},{"$f":"ROUND(VLOOKUP($Z20,'data for u-p-charts'!$A$2:$F$5000,AA$5,FALSE),2)","v":39.85},{"$f":"ROUND(VLOOKUP($Z20,'data for u-p-charts'!$A$2:$F$5000,AB$5,FALSE),2)","v":41.16},{"$f":"ROUND(VLOOKUP($Z20,'data for u-p-charts'!$A$2:$F$5000,AC$5,FALSE),2)","v":44.62},{"$f":"ROUND(VLOOKUP($Z20,'data for u-p-charts'!$A$2:$F$5000,AD$5,FALSE),2)","v":46.35}]
[201904,"2019-12-01",{"$f":"CONCATENATE(A21,'ECOLI Data and Charts'!B$1)","v":"201904Scotland"},{"$f":"IFERROR(VLOOKUP(CONCATENATE(D$5,$C21),'trend data'!$A$2:$O$11161,D$6,FALSE),\"-\")","v":626},{"$f":"ROUND(VLOOKUP(CONCATENATE(E$5,$C21),'trend data'!$A$2:$O$11161,E$6,FALSE),3)","v":40.875999999999998},{"$f":"ROUND(VLOOKUP(CONCATENATE(F$5,$C21),'trend data'!$A$2:$O$11161,F$6,FALSE),3)","v":37.735999999999997},{"$f":"ROUND(VLOOKUP(CONCATENATE(G$5,$C21),'trend data'!$A$2:$O$11161,G$6,FALSE),3)","v":44.207000000000001},{"$f":"IFERROR(VLOOKUP(CONCATENATE(H$5,$C21),'trend data'!$A$2:$O$11161,H$6,FALSE),\"-\")","v":568},{"$f":"IFERROR(ROUND(VLOOKUP(CONCATENATE(I$5,$C21),'trend data'!$A$2:$O$11161,I$6,FALSE),3),\"-\")","v":41.247999999999998},{"$f":"IFERROR(ROUND(VLOOKUP(CONCATENATE(J$5,$C21),'trend data'!$A$2:$O$11161,J$6,FALSE),3),\"-\")","v":37.924999999999997},{"$f":"IFERROR(ROUND(VLOOKUP(CONCATENATE(K$5,$C21),'trend data'!$A$2:$O$11161,K$6,FALSE),3),\"-\")","v":44.783999999999999},{"$f":"VLOOKUP(CONCATENATE(L$5,$C21),'trend data'!$A$2:$O$11161,L$6,FALSE)","v":1531462},{"$f":"ROUND(VLOOKUP(CONCATENATE(M$5,$C21),'trend data'!$A$2:$O$11161,M$6,FALSE),2)","v":1377050.96}]
[202001,"2020-03-01",{"$f":"CONCATENATE(A22,'ECOLI Data and Charts'!B$1)","v":"202001Scotland"},{"$f":"IFERROR(VLOOKUP(CONCATENATE(D$5,$C22),'trend data'!$A$2:$O$11161,D$6,FALSE),\"-\")","v":538},{"$f":"ROUND(VLOOKUP(CONCATENATE(E$5,$C22),'trend data'!$A$2:$O$11161,E$6,FALSE),3)","v":36.451000000000001},{"$f":"ROUND(VLOOKUP(CONCATENATE(F$5,$C22),'trend data'!$A$2:$O$11161,F$6,FALSE),3)","v":33.436},{"$f":"ROUND(VLOOKUP(CONCATENATE(G$5,$C22),'trend data'!$A$2:$O$11161,G$6,FALSE),3)","v":39.665999999999997},{"$f":"IFERROR(VLOOKUP(CONCATENATE(H$5,$C22),'trend data'!$A$2:$O$11161,H$6,FALSE),\"-\")","v":514},{"$f":"IFERROR(ROUND(VLOOKUP(CONCATENATE(I$5,$C22),'trend data'!$A$2:$O$11161,I$6,FALSE),3),\"-\")","v":37.820999999999998},{"$f":"IFERROR(ROUND(VLOOKUP(CONCATENATE(J$5,$C22),'trend data'!$A$2:$O$11161,J$6,FALSE),3),\"-\")","v":34.622},{"$f":"IFERROR(ROUND(VLOOKUP(CONCATENATE(K$5,$C22),'trend data'!$A$2:$O$11161,K$6,FALSE),3),\"-\")","v":41.237000000000002},{"$f":"VLOOKUP(CONCATENATE(L$5,$C22),'trend data'!$A$2:$O$11161,L$6,FALSE)","v":1475950},{"$f":"ROUND(VLOOKUP(CONCATENATE(M$5,$C22),'trend data'!$A$2:$O$11161,M$6,FALSE),2)","v":1359032.79}]
[202002,"2020-06-01",{"$f":"CONCATENATE(A23,'ECOLI Data and Charts'!B$1)","v":"202002Scotland"},{"$f":"IFERROR(VLOOKUP(CONCATENATE(D$5,$C23),'trend data'!$A$2:$O$11161,D$6,FALSE),\"-\")","v":429},{"$f":"ROUND(VLOOKUP(CONCATENATE(E$5,$C23),'trend data'!$A$2:$O$11161,E$6,FALSE),3)","v":39.686999999999998},{"$f":"ROUND(VLOOKUP(CONCATENATE(F$5,$C23),'trend data'!$A$2:$O$11161,F$6,FALSE),3)","v":36.020000000000003},{"$f":"ROUND(VLOOKUP(CONCATENATE(G$5,$C23),'trend data'!$A$2:$O$11161,G$6,FALSE),3)","v":43.627000000000002},{"$f":"IFERROR(VLOOKUP(CONCATENATE(H$5,$C23),'trend data'!$A$2:$O$11161,H$6,FALSE),\"-\")","v":488},{"$f":"IFERROR(ROUND(VLOOKUP(CONCATENATE(I$5,$C23),'trend data'!$A$2:$O$11161,I$6,FALSE),3),\"-\")","v":35.908000000000001},{"$f":"IFERROR(ROUND(VLOOKUP(CONCATENATE(J$5,$C23),'trend data'!$A$2:$O$11161,J$6,FALSE),3),\"-\")","v":32.792000000000002},{"$f":"IFERROR(ROUND(VLOOKUP(CONCATENATE(K$5,$C23),'trend data'!$A$2:$O$11161,K$6,FALSE),3),\"-\")","v":39.24},{"$f":"VLOOKUP(CONCATENATE(L$5,$C23),'trend data'!$A$2:$O$11161,L$6,FALSE)","v":1080949},{"$f":"ROUND(VLOOKUP(CONCATENATE(M$5,$C23),'trend data'!$A$2:$O$11161,M$6,FALSE),2)","v":1359032.79}]
[202003,"2020-09-01",{"$f":"CONCATENATE(A24,'ECOLI Data and Charts'!B$1)","v":"202003Scotland"},{"$f":"IFERROR(VLOOKUP(CONCATENATE(D$5,$C24),'trend data'!$A$2:$O$11161,D$6,FALSE),\"-\")","v":547},{"$f":"ROUND(VLOOKUP(CONCATENATE(E$5,$C24),'trend data'!$A$2:$O$11161,E$6,FALSE),4)","v":41.948399999999999},{"$f":"ROUND(VLOOKUP(CONCATENATE(F$5,$C24),'trend data'!$A$2:$O$11161,F$6,FALSE),4)","v":38.506100000000004},{"$f":"ROUND(VLOOKUP(CONCATENATE(G$5,$C24),'trend data'!$A$2:$O$11161,G$6,FALSE),4)","v":45.6158},{"$f":"IFERROR(VLOOKUP(CONCATENATE(H$5,$C24),'trend data'!$A$2:$O$11161,H$6,FALSE),\"-\")","v":614},{"$f":"IFERROR(ROUND(VLOOKUP(CONCATENATE(I$5,$C24),'trend data'!$A$2:$O$11161,I$6,FALSE),4),\"-\")","v":44.688099999999999},{"$f":"IFERROR(ROUND(VLOOKUP(CONCATENATE(J$5,$C24),'trend data'!$A$2:$O$11161,J$6,FALSE),4),\"-\")","v":41.222700000000003},{"$f":"IFERROR(ROUND(VLOOKUP(CONCATENATE(K$5,$C24),'trend data'!$A$2:$O$11161,K$6,FALSE),4),\"-\")","v":48.366999999999997},{"$f":"VLOOKUP(CONCATENATE(L$5,$C24),'trend data'!$A$2:$O$11161,L$6,FALSE)","v":1303983},{"$f":"ROUND(VLOOKUP(CONCATENATE(M$5,$C24),'trend data'!$A$2:$O$11161,M$6,FALSE),2)","v":1373967.21}]
[202004,"2020-12-31",{"$f":"CONCATENATE(A25,'ECOLI Data and Charts'!B$1)","v":"202004Scotland"},{"$f":"IFERROR(VLOOKUP(CONCATENATE(D$5,$C25),'trend data'!$A$2:$O$11161,D$6,FALSE),\"-\")","v":555},{"$f":"ROUND(VLOOKUP(CONCATENATE(E$5,$C25),'trend data'!$A$2:$O$11161,E$6,FALSE),4)","v":40.8752},{"$f":"ROUND(VLOOKUP(CONCATENATE(F$5,$C25),'trend data'!$A$2:$O$11161,F$6,FALSE),4)","v":37.544699999999999},{"$f":"ROUND(VLOOKUP(CONCATENATE(G$5,$C25),'trend data'!$A$2:$O$11161,G$6,FALSE),4)","v":44.421799999999998},{"$f":"IFERROR(VLOOKUP(CONCATENATE(H$5,$C25),'trend data'!$A$2:$O$11161,H$6,FALSE),\"-\")","v":521},{"$f":"IFERROR(ROUND(VLOOKUP(CONCATENATE(I$5,$C25),'trend data'!$A$2:$O$11161,I$6,FALSE),4),\"-\")","v":37.919400000000003},{"$f":"IFERROR(ROUND(VLOOKUP(CONCATENATE(J$5,$C25),'trend data'!$A$2:$O$11161,J$6,FALSE),4),\"-\")","v":34.732700000000001},{"$f":"IFERROR(ROUND(VLOOKUP(CONCATENATE(K$5,$C25),'trend data'!$A$2:$O$11161,K$6,FALSE),4),\"-\")","v":41.319800000000001},{"$f":"VLOOKUP(CONCATENATE(L$5,$C25),'trend data'!$A$2:$O$11161,L$6,FALSE)","v":1357793},{"$f":"ROUND(VLOOKUP(CONCATENATE(M$5,$C25),'trend data'!$A$2:$O$11161,M$6,FALSE),2)","v":1373967.21}]
[202101,"2021-03-31",{"$f":"CONCATENATE(A26,'ECOLI Data and Charts'!B$1)","v":"202101Scotland"},{"$f":"IFERROR(VLOOKUP(CONCATENATE(D$5,$C26),'trend data'!$A$2:$O$11161,D$6,FALSE),\"-\")","v":468},{"$f":"ROUND(VLOOKUP(CONCATENATE(E$5,$C26),'trend data'!$A$2:$O$11161,E$6,FALSE),4)","v":34.597799999999999},{"$f":"ROUND(VLOOKUP(CONCATENATE(F$5,$C26),'trend data'!$A$2:$O$11161,F$6,FALSE),4)","v":31.5337},{"$f":"ROUND(VLOOKUP(CONCATENATE(G$5,$C26),'trend data'!$A$2:$O$11161,G$6,FALSE),4)","v":37.879100000000001},{"$f":"IFERROR(VLOOKUP(CONCATENATE(H$5,$C26),'trend data'!$A$2:$O$11161,H$6,FALSE),\"-\")","v":493},{"$f":"IFERROR(ROUND(VLOOKUP(CONCATENATE(I$5,$C26),'trend data'!$A$2:$O$11161,I$6,FALSE),4),\"-\")","v":36.578600000000002},{"$f":"IFERROR(ROUND(VLOOKUP(CONCATENATE(J$5,$C26),'trend data'!$A$2:$O$11161,J$6,FALSE),4),\"-\")","v":33.420499999999997},{"$f":"IFERROR(ROUND(VLOOKUP(CONCATENATE(K$5,$C26),'trend data'!$A$2:$O$11161,K$6,FALSE),4),\"-\")","v":39.954799999999999},{"$f":"VLOOKUP(CONCATENATE(L$5,$C26),'trend data'!$A$2:$O$11161,L$6,FALSE)","v":1352687},{"$f":"ROUND(VLOOKUP(CONCATENATE(M$5,$C26),'trend data'!$A$2:$O$11161,M$6,FALSE),2)","v":1347780.82}]
[202102,"2021-06-30",{"$f":"CONCATENATE(A27,'ECOLI Data and Charts'!B$1)","v":"202102Scotland"},{"$f":"IFERROR(VLOOKUP(CONCATENATE(D$5,$C27),'trend data'!$A$2:$O$11161,D$6,FALSE),\"-\")","v":532},{"$f":"ROUND(VLOOKUP(CONCATENATE(E$5,$C27),'trend data'!$A$2:$O$11161,E$6,FALSE),4)","v":38.157299999999999},{"$f":"ROUND(VLOOKUP(CONCATENATE(F$5,$C27),'trend data'!$A$2:$O$11161,F$6,FALSE),4)","v":34.983199999999997},{"$f":"ROUND(VLOOKUP(CONCATENATE(G$5,$C27),'trend data'!$A$2:$O$11161,G$6,FALSE),4)","v":41.542000000000002},{"$f":"IFERROR(VLOOKUP(CONCATENATE(H$5,$C27),'trend data'!$A$2:$O$11161,H$6,FALSE),\"-\")","v":571},{"$f":"IFERROR(ROUND(VLOOKUP(CONCATENATE(I$5,$C27),'trend data'!$A$2:$O$11161,I$6,FALSE),4),\"-\")","v":41.900399999999998},{"$f":"IFERROR(ROUND(VLOOKUP(CONCATENATE(J$5,$C27),'trend data'!$A$2:$O$11161,J$6,FALSE),4),\"-\")","v":38.533499999999997},{"$f":"IFERROR(ROUND(VLOOKUP(CONCATENATE(K$5,$C27),'trend data'!$A$2:$O$11161,K$6,FALSE),4),\"-\")","v":45.482599999999998},{"$f":"VLOOKUP(CONCATENATE(L$5,$C27),'trend data'!$A$2:$O$11161,L$6,FALSE)","v":1394228},{"$f":"ROUND(VLOOKUP(CONCATENATE(M$5,$C27),'trend data'!$A$2:$O$11161,M$6,FALSE),2)","v":1362756.16}]
[202103,"2021-09-01",{"$f":"CONCATENATE(A28,'ECOLI Data and Charts'!B$1)","v":"202103Scotland"},{"$f":"IFERROR(VLOOKUP(CONCATENATE(D$5,$C28),'trend data'!$A$2:$O$11161,D$6,FALSE),\"-\")","v":604},{"$f":"ROUND(VLOOKUP(CONCATENATE(E$5,$C28),'trend data'!$A$2:$O$11161,E$6,FALSE),4)","v":41.473100000000002},{"$f":"ROUND(VLOOKUP(CONCATENATE(F$5,$C28),'trend data'!$A$2:$O$11161,F$6,FALSE),4)","v":38.231099999999998},{"$f":"ROUND(VLOOKUP(CONCATENATE(G$5,$C28),'trend data'!$A$2:$O$11161,G$6,FALSE),4)","v":44.916699999999999},{"$f":"IFERROR(VLOOKUP(CONCATENATE(H$5,$C28),'trend data'!$A$2:$O$11161,H$6,FALSE),\"-\")","v":566},{"$f":"IFERROR(ROUND(VLOOKUP(CONCATENATE(I$5,$C28),'trend data'!$A$2:$O$11161,I$6,FALSE),4),\"-\")","v":41.082000000000001},{"$f":"IFERROR(ROUND(VLOOKUP(CONCATENATE(J$5,$C28),'trend data'!$A$2:$O$11161,J$6,FALSE),4),\"-\")","v":37.7667},{"$f":"IFERROR(ROUND(VLOOKUP(CONCATENATE(K$5,$C28),'trend data'!$A$2:$O$11161,K$6,FALSE),4),\"-\")","v":44.610399999999998},{"$f":"VLOOKUP(CONCATENATE(L$5,$C28),'trend data'!$A$2:$O$11161,L$6,FALSE)","v":1456364},{"$f":"ROUND(VLOOKUP(CONCATENATE(M$5,$C28),'trend data'!$A$2:$O$11161,M$6,FALSE),2)","v":1377731.51}]
[202104,"2021-12-01",{"$f":"CONCATENATE(A29,'ECOLI Data and Charts'!B$1)","v":"202104Scotland"},{"$f":"IFERROR(VLOOKUP(CONCATENATE(D$5,$C29),'trend data'!$A$2:$O$11161,D$6,FALSE),\"-\")","v":509},{"$f":"ROUND(VLOOKUP(CONCATENATE(E$5,$C29),'trend data'!$A$2:$O$11161,E$6,FALSE),4)","v":34.075299999999999},{"$f":"ROUND(VLOOKUP(CONCATENATE(F$5,$C29),'trend data'!$A$2:$O$11161,F$6,FALSE),4)","v":31.178799999999999},{"$f":"ROUND(VLOOKUP(CONCATENATE(G$5,$C29),'trend data'!$A$2:$O$11161,G$6,FALSE),4)","v":37.168399999999998},{"$f":"IFERROR(VLOOKUP(CONCATENATE(H$5,$C29),'trend data'!$A$2:$O$11161,H$6,FALSE),\"-\")","v":549},{"$f":"IFERROR(ROUND(VLOOKUP(CONCATENATE(I$5,$C29),'trend data'!$A$2:$O$11161,I$6,FALSE),4),\"-\")","v":39.848100000000002},{"$f":"IFERROR(ROUND(VLOOKUP(CONCATENATE(J$5,$C29),'trend data'!$A$2:$O$11161,J$6,FALSE),4),\"-\")","v":36.584000000000003},{"$f":"IFERROR(ROUND(VLOOKUP(CONCATENATE(K$5,$C29),'trend data'!$A$2:$O$11161,K$6,FALSE),4),\"-\")","v":43.325299999999999},{"$f":"VLOOKUP(CONCATENATE(L$5,$C29),'trend data'!$A$2:$O$11161,L$6,FALSE)","v":1493751},{"$f":"ROUND(VLOOKUP(CONCATENATE(M$5,$C29),'trend data'!$A$2:$O$11161,M$6,FALSE),2)","v":1377731.51}]

{"sheet":"SAB Data and Charts","index":4,"n_rows":33,"n_cols":14,"rows_kept":33,"cut":false,"hidden":false,"merged":[]}
[null,"Scotland",null,null,null,null,null,null,null,{"$f":"CONCATENATE(\"Healthcare and community rates for \",B1)","v":"Healthcare and community rates for Scotland"}]
[null,null,null,null,null,null,null,null,null,null,"SABHCAI ",null,"SABCAUN "]
[null,null,null,"Healthcare associated SAB infection ",null,null,"Community associated SAB infection ",null,null,null,"Healthcare associated SAB infection ",null,"Community associated SAB infection "]
[null,null,"Cases","Rate per 100 000 bed days","95% CI","Cases","Rate per 100 000 population","95% CI",null,null,"% change",null,"% change"]
[null,{"$f":"'SAB data'!B8","v":"2014-12-19"},{"$f":"'SAB data'!D8","v":275},{"$f":"'SAB data'!E8","v":16.065000000000001},{"$f":"CONCATENATE(\"(\",TEXT('SAB data'!F8,\"0.0\"),\" ,\", TEXT('SAB data'!G8,\"0.0\"),\")\")","v":"(14.2 ,18.1)"},{"$f":"'SAB data'!H8","v":119},{"$f":"'SAB data'!I8","v":8.8290000000000006},{"$f":"IFERROR(CONCATENATE(\"(\",TEXT('SAB data'!J8,\"0.0\"),\" ,\", TEXT('SAB data'!K8,\"0.0\"),\")\"),\"-\")","v":"(7.3 ,10.6)"},null,"This quarter compared to last (national only)",{"$f":"IFERROR(ROUND(VLOOKUP(CONCATENATE(K2,$B$1),'quarter comp'!$A1:$H21,4,FALSE),2),\"-\")","v":-5.42},{"$f":"IFERROR(VLOOKUP(CONCATENATE(K2,$B$1),'quarter comp'!$A1:$H21,8,FALSE),\"-\")","v":"Non Significant"},{"$f":"IFERROR(ROUND(VLOOKUP(CONCATENATE(M2,$B$1),'quarter comp'!$A1:$H21,4,FALSE),2),\"-\")","v":3.03},{"$f":"IFERROR(VLOOKUP(CONCATENATE(M2,$B$1),'quarter comp'!$A1:$H21,8,FALSE),\"-\")","v":"Non Significant"}]
[null,{"$f":"'SAB data'!B9","v":"2015-03-24"},{"$f":"'SAB data'!D9","v":263},{"$f":"'SAB data'!E9","v":15.257999999999999},{"$f":"CONCATENATE(\"(\",TEXT('SAB data'!F9,\"0.0\"),\" ,\", TEXT('SAB data'!G9,\"0.0\"),\")\")","v":"(13.5 ,17.2)"},{"$f":"'SAB data'!H9","v":126},{"$f":"'SAB data'!I9","v":9.5109999999999992},{"$f":"IFERROR(CONCATENATE(\"(\",TEXT('SAB data'!J9,\"0.0\"),\" ,\", TEXT('SAB data'!K9,\"0.0\"),\")\"),\"-\")","v":"(7.9 ,11.3)"},null,"Year end compared to previous year end ",{"$f":"ROUND(VLOOKUP(CONCATENATE(K2,$B$1),'year end comp'!$A$2:$Z$1086,4,FALSE),2)","v":0.76},{"$f":"VLOOKUP(CONCATENATE(K2,$B$1),'year end comp'!$A$2:$Z$1086,8,FALSE)","v":"Non Significant"},{"$f":"IF(IFERROR(ROUND(VLOOKUP(CONCATENATE(M2,$B$1),'year end comp'!$A$2:$Z$1086,4,FALSE),2),\"-\")=-100,\"-\",IFERROR(ROUND(VLOOKUP(CONCATENATE(M2,$B$1),'year end comp'!$A$2:$Z$1086,4,FALSE),2),\"-\"))","v":-0.89},{"$f":"IF(IFERROR(VLOOKUP(CONCATENATE(M2,$B$1),'year end comp'!$A$2:$Z$1086,8,FALSE),\"-\")=0,\"-\",IFERROR(VLOOKUP(CONCATENATE(M2,$B$1),'year end comp'!$A$2:$Z$1086,8,FALSE),\"-\"))","v":"Non Significant"}]
[null,{"$f":"'SAB data'!B10","v":"2015-06-24"},{"$f":"'SAB data'!D10","v":284},{"$f":"'SAB data'!E10","v":17.094000000000001},{"$f":"CONCATENATE(\"(\",TEXT('SAB data'!F10,\"0.0\"),\" ,\", TEXT('SAB data'!G10,\"0.0\"),\")\")","v":"(15.2 ,19.2)"},{"$f":"'SAB data'!H10","v":131},{"$f":"'SAB data'!I10","v":9.7789999999999999},{"$f":"IFERROR(CONCATENATE(\"(\",TEXT('SAB data'!J10,\"0.0\"),\" ,\", TEXT('SAB data'!K10,\"0.0\"),\")\"),\"-\")","v":"(8.2 ,11.6)"}]
[null,{"$f":"'SAB data'!B11","v":"2015-09-24"},{"$f":"'SAB data'!D11","v":275},{"$f":"'SAB data'!E11","v":16.966000000000001},{"$f":"CONCATENATE(\"(\",TEXT('SAB data'!F11,\"0.0\"),\" ,\", TEXT('SAB data'!G11,\"0.0\"),\")\")","v":"(15.0 ,19.1)"},{"$f":"'SAB data'!H11","v":113},{"$f":"'SAB data'!I11","v":8.3439999999999994},{"$f":"IFERROR(CONCATENATE(\"(\",TEXT('SAB data'!J11,\"0.0\"),\" ,\", TEXT('SAB data'!K11,\"0.0\"),\")\"),\"-\")","v":"(6.9 ,10.0)"}]
[null,{"$f":"'SAB data'!B12","v":"2015-12-24"},{"$f":"'SAB data'!D12","v":303},{"$f":"'SAB data'!E12","v":18.451000000000001},{"$f":"CONCATENATE(\"(\",TEXT('SAB data'!F12,\"0.0\"),\" ,\", TEXT('SAB data'!G12,\"0.0\"),\")\")","v":"(16.4 ,20.7)"},{"$f":"'SAB data'!H12","v":104},{"$f":"'SAB data'!I12","v":7.6790000000000003},{"$f":"IFERROR(CONCATENATE(\"(\",TEXT('SAB data'!J12,\"0.0\"),\" ,\", TEXT('SAB data'!K12,\"0.0\"),\")\"),\"-\")","v":"(6.3 ,9.3)"}]
[null,{"$f":"'SAB data'!B13","v":"2016-03-24"},{"$f":"'SAB data'!D13","v":279},{"$f":"'SAB data'!E13","v":16.661999999999999},{"$f":"CONCATENATE(\"(\",TEXT('SAB data'!F13,\"0.0\"),\" ,\", TEXT('SAB data'!G13,\"0.0\"),\")\")","v":"(14.8 ,18.7)"},{"$f":"'SAB data'!H13","v":139},{"$f":"'SAB data'!I13","v":10.343999999999999},{"$f":"IFERROR(CONCATENATE(\"(\",TEXT('SAB data'!J13,\"0.0\"),\" ,\", TEXT('SAB data'!K13,\"0.0\"),\")\"),\"-\")","v":"(8.7 ,12.2)"}]
[null,{"$f":"'SAB data'!B14","v":"2016-06-24"},{"$f":"'SAB data'!D14","v":260},{"$f":"'SAB data'!E14","v":16.198},{"$f":"CONCATENATE(\"(\",TEXT('SAB data'!F14,\"0.0\"),\" ,\", TEXT('SAB data'!G14,\"0.0\"),\")\")","v":"(14.3 ,18.3)"},{"$f":"'SAB data'!H14","v":121},{"$f":"'SAB data'!I14","v":9.0039999999999996},{"$f":"IFERROR(CONCATENATE(\"(\",TEXT('SAB data'!J14,\"0.0\"),\" ,\", TEXT('SAB data'!K14,\"0.0\"),\")\"),\"-\")","v":"(7.5 ,10.8)"}]
[null,{"$f":"'SAB data'!B15","v":"2016-09-24"},{"$f":"'SAB data'!D15","v":273},{"$f":"'SAB data'!E15","v":17.193000000000001},{"$f":"CONCATENATE(\"(\",TEXT('SAB data'!F15,\"0.0\"),\" ,\", TEXT('SAB data'!G15,\"0.0\"),\")\")","v":"(15.2 ,19.4)"},{"$f":"'SAB data'!H15","v":127},{"$f":"'SAB data'!I15","v":9.3480000000000008},{"$f":"IFERROR(CONCATENATE(\"(\",TEXT('SAB data'!J15,\"0.0\"),\" ,\", TEXT('SAB data'!K15,\"0.0\"),\")\"),\"-\")","v":"(7.8 ,11.1)"}]
[null,{"$f":"'SAB data'!B16","v":"2016-12-24"},{"$f":"'SAB data'!D16","v":265},{"$f":"'SAB data'!E16","v":16.649000000000001},{"$f":"CONCATENATE(\"(\",TEXT('SAB data'!F16,\"0.0\"),\" ,\", TEXT('SAB data'!G16,\"0.0\"),\")\")","v":"(14.7 ,18.8)"},{"$f":"'SAB data'!H16","v":135},{"$f":"'SAB data'!I16","v":9.9369999999999994},{"$f":"IFERROR(CONCATENATE(\"(\",TEXT('SAB data'!J16,\"0.0\"),\" ,\", TEXT('SAB data'!K16,\"0.0\"),\")\"),\"-\")","v":"(8.3 ,11.8)"}]
[null,{"$f":"'SAB data'!B17","v":"2017-03-01"},{"$f":"'SAB data'!D17","v":259},{"$f":"'SAB data'!E17","v":16.379000000000001},{"$f":"CONCATENATE(\"(\",TEXT('SAB data'!F17,\"0.0\"),\" ,\", TEXT('SAB data'!G17,\"0.0\"),\")\")","v":"(14.4 ,18.5)"},{"$f":"'SAB data'!H17","v":142},{"$f":"'SAB data'!I17","v":10.616},{"$f":"IFERROR(CONCATENATE(\"(\",TEXT('SAB data'!J17,\"0.0\"),\" ,\", TEXT('SAB data'!K17,\"0.0\"),\")\"),\"-\")","v":"(8.9 ,12.5)"}]
[null,{"$f":"'SAB data'!B18","v":"2017-06-01"},{"$f":"'SAB data'!D18","v":248},{"$f":"'SAB data'!E18","v":15.994},{"$f":"CONCATENATE(\"(\",TEXT('SAB data'!F18,\"0.0\"),\" ,\", TEXT('SAB data'!G18,\"0.0\"),\")\")","v":"(14.1 ,18.1)"},{"$f":"'SAB data'!H18","v":126},{"$f":"'SAB data'!I18","v":9.3160000000000007},{"$f":"IFERROR(CONCATENATE(\"(\",TEXT('SAB data'!J18,\"0.0\"),\" ,\", TEXT('SAB data'!K18,\"0.0\"),\")\"),\"-\")","v":"(7.8 ,11.1)"}]
[null,{"$f":"'SAB data'!B19","v":"2017-09-01"},{"$f":"'SAB data'!D19","v":278},{"$f":"'SAB data'!E19","v":18.065999999999999},{"$f":"CONCATENATE(\"(\",TEXT('SAB data'!F19,\"0.0\"),\" ,\", TEXT('SAB data'!G19,\"0.0\"),\")\")","v":"(16.0 ,20.3)"},{"$f":"'SAB data'!H19","v":127},{"$f":"'SAB data'!I19","v":9.2880000000000003},{"$f":"IFERROR(CONCATENATE(\"(\",TEXT('SAB data'!J19,\"0.0\"),\" ,\", TEXT('SAB data'!K19,\"0.0\"),\")\"),\"-\")","v":"(7.7 ,11.1)"}]
[null,{"$f":"'SAB data'!B20","v":"2017-12-01"},{"$f":"'SAB data'!D20","v":262},{"$f":"'SAB data'!E20","v":16.635000000000002},{"$f":"CONCATENATE(\"(\",TEXT('SAB data'!F20,\"0.0\"),\" ,\", TEXT('SAB data'!G20,\"0.0\"),\")\")","v":"(14.7 ,18.8)"},{"$f":"'SAB data'!H20","v":132},{"$f":"'SAB data'!I20","v":9.6539999999999999},{"$f":"IFERROR(CONCATENATE(\"(\",TEXT('SAB data'!J20,\"0.0\"),\" ,\", TEXT('SAB data'!K20,\"0.0\"),\")\"),\"-\")","v":"(8.1 ,11.4)"}]
[null,{"$f":"'SAB data'!B21","v":"2018-03-01"},{"$f":"'SAB data'!D21","v":296},{"$f":"'SAB data'!E21","v":18.672000000000001},{"$f":"CONCATENATE(\"(\",TEXT('SAB data'!F21,\"0.0\"),\" ,\", TEXT('SAB data'!G21,\"0.0\"),\")\")","v":"(16.6 ,20.9)"},{"$f":"'SAB data'!H21","v":135},{"$f":"'SAB data'!I21","v":10.068},{"$f":"IFERROR(CONCATENATE(\"(\",TEXT('SAB data'!J21,\"0.0\"),\" ,\", TEXT('SAB data'!K21,\"0.0\"),\")\"),\"-\")","v":"(8.4 ,11.9)"}]
[null,{"$f":"'SAB data'!B22","v":"2018-06-01"},{"$f":"'SAB data'!D22","v":264},{"$f":"'SAB data'!E22","v":17.308},{"$f":"CONCATENATE(\"(\",TEXT('SAB data'!F22,\"0.0\"),\" ,\", TEXT('SAB data'!G22,\"0.0\"),\")\")","v":"(15.3 ,19.5)"},{"$f":"'SAB data'!H22","v":123},{"$f":"'SAB data'!I22","v":9.0719999999999992},{"$f":"IFERROR(CONCATENATE(\"(\",TEXT('SAB data'!J22,\"0.0\"),\" ,\", TEXT('SAB data'!K22,\"0.0\"),\")\"),\"-\")","v":"(7.5 ,10.8)"}]
[null,{"$f":"'SAB data'!B23","v":"2018-09-01"},{"$f":"'SAB data'!D23","v":253},{"$f":"'SAB data'!E23","v":16.736999999999998},{"$f":"CONCATENATE(\"(\",TEXT('SAB data'!F23,\"0.0\"),\" ,\", TEXT('SAB data'!G23,\"0.0\"),\")\")","v":"(14.7 ,18.9)"},{"$f":"'SAB data'!H23","v":132},{"$f":"'SAB data'!I23","v":9.6300000000000008},{"$f":"IFERROR(CONCATENATE(\"(\",TEXT('SAB data'!J23,\"0.0\"),\" ,\", TEXT('SAB data'!K23,\"0.0\"),\")\"),\"-\")","v":"(8.1 ,11.4)"}]
[null,{"$f":"'SAB data'!B24","v":"2018-12-01"},{"$f":"'SAB data'!D24","v":269},{"$f":"'SAB data'!E24","v":17.672000000000001},{"$f":"CONCATENATE(\"(\",TEXT('SAB data'!F24,\"0.0\"),\" ,\", TEXT('SAB data'!G24,\"0.0\"),\")\")","v":"(15.6 ,19.9)"},{"$f":"'SAB data'!H24","v":113},{"$f":"'SAB data'!I24","v":8.2439999999999998},{"$f":"IFERROR(CONCATENATE(\"(\",TEXT('SAB data'!J24,\"0.0\"),\" ,\", TEXT('SAB data'!K24,\"0.0\"),\")\"),\"-\")","v":"(6.8 ,9.9)"}]
[null,{"$f":"'SAB data'!B25","v":"2019-03-01"},{"$f":"'SAB data'!D25","v":240},{"$f":"'SAB data'!E25","v":15.6},{"$f":"CONCATENATE(\"(\",TEXT('SAB data'!F25,\"0.0\"),\" ,\", TEXT('SAB data'!G25,\"0.0\"),\")\")","v":"(13.7 ,17.7)"},{"$f":"'SAB data'!H25","v":144},{"$f":"'SAB data'!I25","v":10.69},{"$f":"IFERROR(CONCATENATE(\"(\",TEXT('SAB data'!J25,\"0.0\"),\" ,\", TEXT('SAB data'!K25,\"0.0\"),\")\"),\"-\")","v":"(9.0 ,12.6)"}]
[null,{"$f":"'SAB data'!B26","v":"2019-06-01"},{"$f":"'SAB data'!D26","v":251},{"$f":"'SAB data'!E26","v":16.664000000000001},{"$f":"CONCATENATE(\"(\",TEXT('SAB data'!F26,\"0.0\"),\" ,\", TEXT('SAB data'!G26,\"0.0\"),\")\")","v":"(14.7 ,18.9)"},{"$f":"'SAB data'!H26","v":133},{"$f":"'SAB data'!I26","v":9.7639999999999993},{"$f":"IFERROR(CONCATENATE(\"(\",TEXT('SAB data'!J26,\"0.0\"),\" ,\", TEXT('SAB data'!K26,\"0.0\"),\")\"),\"-\")","v":"(8.2 ,11.6)"}]
[null,{"$f":"'SAB data'!B27","v":"2019-09-01"},{"$f":"'SAB data'!D27","v":264},{"$f":"'SAB data'!E27","v":17.518999999999998},{"$f":"CONCATENATE(\"(\",TEXT('SAB data'!F27,\"0.0\"),\" ,\", TEXT('SAB data'!G27,\"0.0\"),\")\")","v":"(15.5 ,19.8)"},{"$f":"'SAB data'!H27","v":102},{"$f":"'SAB data'!I27","v":7.407},{"$f":"IFERROR(CONCATENATE(\"(\",TEXT('SAB data'!J27,\"0.0\"),\" ,\", TEXT('SAB data'!K27,\"0.0\"),\")\"),\"-\")","v":"(6.0 ,9.0)"}]
[null,{"$f":"'SAB data'!B28","v":"2019-12-01"},{"$f":"'SAB data'!D28","v":233},{"$f":"'SAB data'!E28","v":15.214},{"$f":"CONCATENATE(\"(\",TEXT('SAB data'!F28,\"0.0\"),\" ,\", TEXT('SAB data'!G28,\"0.0\"),\")\")","v":"(13.3 ,17.3)"},{"$f":"'SAB data'!H28","v":132},{"$f":"'SAB data'!I28","v":9.5860000000000003},{"$f":"IFERROR(CONCATENATE(\"(\",TEXT('SAB data'!J28,\"0.0\"),\" ,\", TEXT('SAB data'!K28,\"0.0\"),\")\"),\"-\")","v":"(8.0 ,11.4)"}]
[null,{"$f":"'SAB data'!B29","v":"2020-03-01"},{"$f":"'SAB data'!D29","v":241},{"$f":"'SAB data'!E29","v":16.327999999999999},{"$f":"CONCATENATE(\"(\",TEXT('SAB data'!F29,\"0.0\"),\" ,\", TEXT('SAB data'!G29,\"0.0\"),\")\")","v":"(14.3 ,18.5)"},{"$f":"'SAB data'!H29","v":149},{"$f":"'SAB data'!I29","v":10.964},{"$f":"IFERROR(CONCATENATE(\"(\",TEXT('SAB data'!J29,\"0.0\"),\" ,\", TEXT('SAB data'!K29,\"0.0\"),\")\"),\"-\")","v":"(9.3 ,12.9)"}]
[null,{"$f":"'SAB data'!B30","v":"2020-06-01"},{"$f":"'SAB data'!D30","v":219},{"$f":"'SAB data'!E30","v":20.260000000000002},{"$f":"CONCATENATE(\"(\",TEXT('SAB data'!F30,\"0.0\"),\" ,\", TEXT('SAB data'!G30,\"0.0\"),\")\")","v":"(17.7 ,23.1)"},{"$f":"'SAB data'!H30","v":132},{"$f":"'SAB data'!I30","v":9.7129999999999992},{"$f":"IFERROR(CONCATENATE(\"(\",TEXT('SAB data'!J30,\"0.0\"),\" ,\", TEXT('SAB data'!K30,\"0.0\"),\")\"),\"-\")","v":"(8.1 ,11.5)"}]
[null,{"$f":"'SAB data'!B31","v":"2020-09-01"},{"$f":"'SAB data'!D31","v":224},{"$f":"'SAB data'!E31","v":17.178100000000001},{"$f":"CONCATENATE(\"(\",TEXT('SAB data'!F31,\"0.0\"),\" ,\", TEXT('SAB data'!G31,\"0.0\"),\")\")","v":"(15.0 ,19.6)"},{"$f":"'SAB data'!H31","v":149},{"$f":"'SAB data'!I31","v":10.8445},{"$f":"IFERROR(CONCATENATE(\"(\",TEXT('SAB data'!J31,\"0.0\"),\" ,\", TEXT('SAB data'!K31,\"0.0\"),\")\"),\"-\")","v":"(9.2 ,12.7)"}]
[null,{"$f":"'SAB data'!B32","v":"2020-12-01"},{"$f":"'SAB data'!D32","v":256},{"$f":"'SAB data'!E32","v":18.854099999999999},{"$f":"CONCATENATE(\"(\",TEXT('SAB data'!F32,\"0.0\"),\" ,\", TEXT('SAB data'!G32,\"0.0\"),\")\")","v":"(16.6 ,21.3)"},{"$f":"'SAB data'!H32","v":131},{"$f":"'SAB data'!I32","v":9.5343999999999998},{"$f":"IFERROR(CONCATENATE(\"(\",TEXT('SAB data'!J32,\"0.0\"),\" ,\", TEXT('SAB data'!K32,\"0.0\"),\")\"),\"-\")","v":"(8.0 ,11.3)"}]
[null,{"$f":"'SAB data'!B33","v":"2021-03-31"},{"$f":"'SAB data'!D33","v":248},{"$f":"'SAB data'!E33","v":18.3339},{"$f":"CONCATENATE(\"(\",TEXT('SAB data'!F33,\"0.0\"),\" ,\", TEXT('SAB data'!G33,\"0.0\"),\")\")","v":"(16.1 ,20.8)"},{"$f":"'SAB data'!H33","v":140},{"$f":"'SAB data'!I33","v":10.3874},{"$f":"IFERROR(CONCATENATE(\"(\",TEXT('SAB data'!J33,\"0.0\"),\" ,\", TEXT('SAB data'!K33,\"0.0\"),\")\"),\"-\")","v":"(8.7 ,12.3)"}]
[null,{"$f":"'SAB data'!B34","v":"2021-06-30"},{"$f":"'SAB data'!D34","v":260},{"$f":"'SAB data'!E34","v":18.648299999999999},{"$f":"CONCATENATE(\"(\",TEXT('SAB data'!F34,\"0.0\"),\" ,\", TEXT('SAB data'!G34,\"0.0\"),\")\")","v":"(16.5 ,21.1)"},{"$f":"'SAB data'!H34","v":148},{"$f":"'SAB data'!I34","v":10.860300000000001},{"$f":"IFERROR(CONCATENATE(\"(\",TEXT('SAB data'!J34,\"0.0\"),\" ,\", TEXT('SAB data'!K34,\"0.0\"),\")\"),\"-\")","v":"(9.2 ,12.8)"}]
[null,{"$f":"'SAB data'!B35","v":"2021-09-30"},{"$f":"'SAB data'!D35","v":267},{"$f":"'SAB data'!E35","v":18.333300000000001},{"$f":"CONCATENATE(\"(\",TEXT('SAB data'!F35,\"0.0\"),\" ,\", TEXT('SAB data'!G35,\"0.0\"),\")\")","v":"(16.2 ,20.7)"},{"$f":"'SAB data'!H35","v":132},{"$f":"'SAB data'!I35","v":9.5809999999999995},{"$f":"IFERROR(CONCATENATE(\"(\",TEXT('SAB data'!J35,\"0.0\"),\" ,\", TEXT('SAB data'!K35,\"0.0\"),\")\"),\"-\")","v":"(8.0 ,11.4)"}]
[null,{"$f":"'SAB data'!B36","v":"2021-12-31"},{"$f":"'SAB data'!D36","v":259},{"$f":"'SAB data'!E36","v":17.338899999999999},{"$f":"CONCATENATE(\"(\",TEXT('SAB data'!F36,\"0.0\"),\" ,\", TEXT('SAB data'!G36,\"0.0\"),\")\")","v":"(15.3 ,19.6)"},{"$f":"'SAB data'!H36","v":136},{"$f":"'SAB data'!I36","v":9.8712999999999997},{"$f":"IFERROR(CONCATENATE(\"(\",TEXT('SAB data'!J36,\"0.0\"),\" ,\", TEXT('SAB data'!K36,\"0.0\"),\")\"),\"-\")","v":"(8.3 ,11.7)"}]

{"sheet":"SSI Data and Charts","index":5,"n_rows":36,"n_cols":17,"rows_kept":36,"cut":false,"hidden":false,"merged":[]}
[null,"Scotland",null,null,null,null,null,null,null,null,null,null,{"$f":"CONCATENATE(\"% SSI for \",B1)","v":"% SSI for Scotland"}]
[]
[null,null,null,"Casesarean Section",null,null,null,"Hip Arthroplasty",null,null,null,null,null,"SSICSEC ",null,"SSIHIP "]
[null,null,"SSI to day 10","Procedures","SSI Incidence (%)","95% CI","SSI inpatient & readmission to day 30","Procedures","SSI Incidence (%)","95% CI",null,null,null,"% change",null,"% change"]
[null,{"$f":"'SSI data'!B8","v":"2014-03-24"},{"$f":"'SSI data'!D8","v":61},{"$f":"'SSI data'!L8","v":3998},{"$f":"'SSI data'!E8","v":1.526},{"$f":"IFERROR(CONCATENATE(\"(\",TEXT('SSI data'!F8,\"0.0\"),\" ,\", TEXT('SSI data'!G8,\"0.0\"),\")\"),\"-\")","v":"(1.2 ,2.0)"},{"$f":"'SSI data'!H8","v":16},{"$f":"'SSI data'!M8","v":2106},{"$f":"'SSI data'!I8","v":0.76},{"$f":"IFERROR(CONCATENATE(\"(\",TEXT('SSI data'!J8,\"0.0\"),\", \", TEXT('SSI data'!K8,\"0.0\"),\")\"),\"-\")","v":"(0.5, 1.2)"},null,null,"Year end compared to previous year end ",{"$f":"IFERROR(ROUND(VLOOKUP(CONCATENATE(N3,$B$1),'year end comp'!$A$2:$Z$1086,4,FALSE),2),\"-\")","v":"-"},{"$f":"IF(IFERROR(VLOOKUP(CONCATENATE(N3,$B$1),'year end comp'!$A$2:$Z$1086,8,FALSE),\"-\")=0,\"-\",IFERROR(VLOOKUP(CONCATENATE(N3,$B$1),'year end comp'!$A$2:$Z$1086,8,FALSE),\"-\"))","v":"-"},{"$f":"IFERROR(ROUND(VLOOKUP(CONCATENATE(P3,$B$1),'year end comp'!$A$2:$Z$1086,4,FALSE),2),\"-\")","v":"-"},{"$f":"IF(IFERROR(VLOOKUP(CONCATENATE(P3,$B$1),'year end comp'!$A$2:$Z$1086,8,FALSE),\"-\")=0,\"-\",IFERROR(VLOOKUP(CONCATENATE(P3,$B$1),'year end comp'!$A$2:$Z$1086,8,FALSE),\"-\"))","v":"-"}]
[null,{"$f":"'SSI data'!B9","v":"2014-06-27"},{"$f":"'SSI data'!D9","v":58},{"$f":"'SSI data'!L9","v":4103},{"$f":"'SSI data'!E9","v":1.4139999999999999},{"$f":"IFERROR(CONCATENATE(\"(\",TEXT('SSI data'!F9,\"0.0\"),\" ,\", TEXT('SSI data'!G9,\"0.0\"),\")\"),\"-\")","v":"(1.1 ,1.8)"},{"$f":"'SSI data'!H9","v":13},{"$f":"'SSI data'!M9","v":2098},{"$f":"'SSI data'!I9","v":0.62},{"$f":"IFERROR(CONCATENATE(\"(\",TEXT('SSI data'!J9,\"0.0\"),\" ,\", TEXT('SSI data'!K9,\"0.0\"),\")\"),\"-\")","v":"(0.4 ,1.1)"}]
[null,{"$f":"'SSI data'!B10","v":"2014-09-30"},{"$f":"'SSI data'!D10","v":58},{"$f":"'SSI data'!L10","v":4563},{"$f":"'SSI data'!E10","v":1.2709999999999999},{"$f":"IFERROR(CONCATENATE(\"(\",TEXT('SSI data'!F10,\"0.0\"),\" ,\", TEXT('SSI data'!G10,\"0.0\"),\")\"),\"-\")","v":"(1.0 ,1.6)"},{"$f":"'SSI data'!H10","v":16},{"$f":"'SSI data'!M10","v":2125},{"$f":"'SSI data'!I10","v":0.753},{"$f":"IFERROR(CONCATENATE(\"(\",TEXT('SSI data'!J10,\"0.0\"),\" ,\", TEXT('SSI data'!K10,\"0.0\"),\")\"),\"-\")","v":"(0.5 ,1.2)"}]
[null,{"$f":"'SSI data'!B11","v":"2014-12-19"},{"$f":"'SSI data'!D11","v":61},{"$f":"'SSI data'!L11","v":4261},{"$f":"'SSI data'!E11","v":1.4319999999999999},{"$f":"IFERROR(CONCATENATE(\"(\",TEXT('SSI data'!F11,\"0.0\"),\" ,\", TEXT('SSI data'!G11,\"0.0\"),\")\"),\"-\")","v":"(1.1 ,1.8)"},{"$f":"'SSI data'!H11","v":12},{"$f":"'SSI data'!M11","v":1974},{"$f":"'SSI data'!I11","v":0.60799999999999998},{"$f":"IFERROR(CONCATENATE(\"(\",TEXT('SSI data'!J11,\"0.0\"),\" ,\", TEXT('SSI data'!K11,\"0.0\"),\")\"),\"-\")","v":"(0.3 ,1.1)"}]
[null,{"$f":"'SSI data'!B12","v":"2015-03-24"},{"$f":"'SSI data'!D12","v":47},{"$f":"'SSI data'!L12","v":3966},{"$f":"'SSI data'!E12","v":1.1850000000000001},{"$f":"IFERROR(CONCATENATE(\"(\",TEXT('SSI data'!F12,\"0.0\"),\" ,\", TEXT('SSI data'!G12,\"0.0\"),\")\"),\"-\")","v":"(0.9 ,1.6)"},{"$f":"'SSI data'!H12","v":18},{"$f":"'SSI data'!M12","v":1959},{"$f":"'SSI data'!I12","v":0.91900000000000004},{"$f":"IFERROR(CONCATENATE(\"(\",TEXT('SSI data'!J12,\"0.0\"),\" ,\", TEXT('SSI data'!K12,\"0.0\"),\")\"),\"-\")","v":"(0.6 ,1.4)"}]
[null,{"$f":"'SSI data'!B13","v":"2015-06-24"},{"$f":"'SSI data'!D13","v":56},{"$f":"'SSI data'!L13","v":4358},{"$f":"'SSI data'!E13","v":1.2849999999999999},{"$f":"IFERROR(CONCATENATE(\"(\",TEXT('SSI data'!F13,\"0.0\"),\" ,\", TEXT('SSI data'!G13,\"0.0\"),\")\"),\"-\")","v":"(1.0 ,1.7)"},{"$f":"'SSI data'!H13","v":18},{"$f":"'SSI data'!M13","v":2159},{"$f":"'SSI data'!I13","v":0.83399999999999996},{"$f":"IFERROR(CONCATENATE(\"(\",TEXT('SSI data'!J13,\"0.0\"),\" ,\", TEXT('SSI data'!K13,\"0.0\"),\")\"),\"-\")","v":"(0.5 ,1.3)"}]
[null,{"$f":"'SSI data'!B14","v":"2015-09-24"},{"$f":"'SSI data'!D14","v":56},{"$f":"'SSI data'!L14","v":4511},{"$f":"'SSI data'!E14","v":1.2410000000000001},{"$f":"IFERROR(CONCATENATE(\"(\",TEXT('SSI data'!F14,\"0.0\"),\" ,\", TEXT('SSI data'!G14,\"0.0\"),\")\"),\"-\")","v":"(1.0 ,1.6)"},{"$f":"'SSI data'!H14","v":10},{"$f":"'SSI data'!M14","v":2135},{"$f":"'SSI data'!I14","v":0.46800000000000003},{"$f":"IFERROR(CONCATENATE(\"(\",TEXT('SSI data'!J14,\"0.0\"),\" ,\", TEXT('SSI data'!K14,\"0.0\"),\")\"),\"-\")","v":"(0.3 ,0.9)"}]
[null,{"$f":"'SSI data'!B15","v":"2015-12-24"},{"$f":"'SSI data'!D15","v":60},{"$f":"'SSI data'!L15","v":4300},{"$f":"'SSI data'!E15","v":1.395},{"$f":"IFERROR(CONCATENATE(\"(\",TEXT('SSI data'!F15,\"0.0\"),\" ,\", TEXT('SSI data'!G15,\"0.0\"),\")\"),\"-\")","v":"(1.1 ,1.8)"},{"$f":"'SSI data'!H15","v":15},{"$f":"'SSI data'!M15","v":2191},{"$f":"'SSI data'!I15","v":0.68500000000000005},{"$f":"IFERROR(CONCATENATE(\"(\",TEXT('SSI data'!J15,\"0.0\"),\" ,\", TEXT('SSI data'!K15,\"0.0\"),\")\"),\"-\")","v":"(0.4 ,1.1)"}]
[null,{"$f":"'SSI data'!B16","v":"2016-03-24"},{"$f":"'SSI data'!D16","v":58},{"$f":"'SSI data'!L16","v":4023},{"$f":"'SSI data'!E16","v":1.4419999999999999},{"$f":"IFERROR(CONCATENATE(\"(\",TEXT('SSI data'!F16,\"0.0\"),\" ,\", TEXT('SSI data'!G16,\"0.0\"),\")\"),\"-\")","v":"(1.1 ,1.9)"},{"$f":"'SSI data'!H16","v":7},{"$f":"'SSI data'!M16","v":2173},{"$f":"'SSI data'!I16","v":0.32200000000000001},{"$f":"IFERROR(CONCATENATE(\"(\",TEXT('SSI data'!J16,\"0.0\"),\" ,\", TEXT('SSI data'!K16,\"0.0\"),\")\"),\"-\")","v":"(0.2 ,0.7)"}]
[null,{"$f":"'SSI data'!B17","v":"2016-06-24"},{"$f":"'SSI data'!D17","v":78},{"$f":"'SSI data'!L17","v":4448},{"$f":"'SSI data'!E17","v":1.754},{"$f":"IFERROR(CONCATENATE(\"(\",TEXT('SSI data'!F17,\"0.0\"),\" ,\", TEXT('SSI data'!G17,\"0.0\"),\")\"),\"-\")","v":"(1.4 ,2.2)"},{"$f":"'SSI data'!H17","v":17},{"$f":"'SSI data'!M17","v":2318},{"$f":"'SSI data'!I17","v":0.73299999999999998},{"$f":"IFERROR(CONCATENATE(\"(\",TEXT('SSI data'!J17,\"0.0\"),\" ,\", TEXT('SSI data'!K17,\"0.0\"),\")\"),\"-\")","v":"(0.5 ,1.2)"}]
[null,{"$f":"'SSI data'!B18","v":"2016-09-24"},{"$f":"'SSI data'!D18","v":71},{"$f":"'SSI data'!L18","v":4446},{"$f":"'SSI data'!E18","v":1.597},{"$f":"IFERROR(CONCATENATE(\"(\",TEXT('SSI data'!F18,\"0.0\"),\" ,\", TEXT('SSI data'!G18,\"0.0\"),\")\"),\"-\")","v":"(1.3 ,2.0)"},{"$f":"'SSI data'!H18","v":14},{"$f":"'SSI data'!M18","v":2153},{"$f":"'SSI data'!I18","v":0.65},{"$f":"IFERROR(CONCATENATE(\"(\",TEXT('SSI data'!J18,\"0.0\"),\" ,\", TEXT('SSI data'!K18,\"0.0\"),\")\"),\"-\")","v":"(0.4 ,1.1)"}]
[null,{"$f":"'SSI data'!B19","v":"2016-12-24"},{"$f":"'SSI data'!D19","v":51},{"$f":"'SSI data'!L19","v":4258},{"$f":"'SSI data'!E19","v":1.198},{"$f":"IFERROR(CONCATENATE(\"(\",TEXT('SSI data'!F19,\"0.0\"),\" ,\", TEXT('SSI data'!G19,\"0.0\"),\")\"),\"-\")","v":"(0.9 ,1.6)"},{"$f":"'SSI data'!H19","v":17},{"$f":"'SSI data'!M19","v":2226},{"$f":"'SSI data'!I19","v":0.76400000000000001},{"$f":"IFERROR(CONCATENATE(\"(\",TEXT('SSI data'!J19,\"0.0\"),\" ,\", TEXT('SSI data'!K19,\"0.0\"),\")\"),\"-\")","v":"(0.5 ,1.2)"}]
[null,{"$f":"'SSI data'!B20","v":"2017-03-01"},{"$f":"'SSI data'!D20","v":58},{"$f":"'SSI data'!L20","v":4047},{"$f":"'SSI data'!E20","v":1.4330000000000001},{"$f":"IFERROR(CONCATENATE(\"(\",TEXT('SSI data'!F20,\"0.0\"),\" ,\", TEXT('SSI data'!G20,\"0.0\"),\")\"),\"-\")","v":"(1.1 ,1.8)"},{"$f":"'SSI data'!H20","v":12},{"$f":"'SSI data'!M20","v":2164},{"$f":"'SSI data'!I20","v":0.55500000000000005},{"$f":"IFERROR(CONCATENATE(\"(\",TEXT('SSI data'!J20,\"0.0\"),\" ,\", TEXT('SSI data'!K20,\"0.0\"),\")\"),\"-\")","v":"(0.3 ,1.0)"}]
[null,{"$f":"'SSI data'!B21","v":"2017-06-01"},{"$f":"'SSI data'!D21","v":51},{"$f":"'SSI data'!L21","v":4115},{"$f":"'SSI data'!E21","v":1.2390000000000001},{"$f":"IFERROR(CONCATENATE(\"(\",TEXT('SSI data'!F21,\"0.0\"),\" ,\", TEXT('SSI data'!G21,\"0.0\"),\")\"),\"-\")","v":"(0.9 ,1.6)"},{"$f":"'SSI data'!H21","v":19},{"$f":"'SSI data'!M21","v":2301},{"$f":"'SSI data'!I21","v":0.82599999999999996},{"$f":"IFERROR(CONCATENATE(\"(\",TEXT('SSI data'!J21,\"0.0\"),\" ,\", TEXT('SSI data'!K21,\"0.0\"),\")\"),\"-\")","v":"(0.5 ,1.3)"}]
[null,{"$f":"'SSI data'!B22","v":"2017-09-01"},{"$f":"'SSI data'!D22","v":58},{"$f":"'SSI data'!L22","v":4514},{"$f":"'SSI data'!E22","v":1.2849999999999999},{"$f":"IFERROR(CONCATENATE(\"(\",TEXT('SSI data'!F22,\"0.0\"),\" ,\", TEXT('SSI data'!G22,\"0.0\"),\")\"),\"-\")","v":"(1.0 ,1.7)"},{"$f":"'SSI data'!H22","v":9},{"$f":"'SSI data'!M22","v":2077},{"$f":"'SSI data'!I22","v":0.433},{"$f":"IFERROR(CONCATENATE(\"(\",TEXT('SSI data'!J22,\"0.0\"),\" ,\", TEXT('SSI data'!K22,\"0.0\"),\")\"),\"-\")","v":"(0.2 ,0.8)"}]
[null,{"$f":"'SSI data'!B23","v":"2017-12-01"},{"$f":"'SSI data'!D23","v":66},{"$f":"'SSI data'!L23","v":4224},{"$f":"'SSI data'!E23","v":1.5629999999999999},{"$f":"IFERROR(CONCATENATE(\"(\",TEXT('SSI data'!F23,\"0.0\"),\" ,\", TEXT('SSI data'!G23,\"0.0\"),\")\"),\"-\")","v":"(1.2 ,2.0)"},{"$f":"'SSI data'!H23","v":16},{"$f":"'SSI data'!M23","v":2071},{"$f":"'SSI data'!I23","v":0.77300000000000002},{"$f":"IFERROR(CONCATENATE(\"(\",TEXT('SSI data'!J23,\"0.0\"),\" ,\", TEXT('SSI data'!K23,\"0.0\"),\")\"),\"-\")","v":"(0.5 ,1.3)"}]
[null,{"$f":"'SSI data'!B24","v":"2018-03-01"},{"$f":"'SSI data'!D24","v":64},{"$f":"'SSI data'!L24","v":3975},{"$f":"'SSI data'!E24","v":1.61},{"$f":"IFERROR(CONCATENATE(\"(\",TEXT('SSI data'!F24,\"0.0\"),\" ,\", TEXT('SSI data'!G24,\"0.0\"),\")\"),\"-\")","v":"(1.3 ,2.1)"},{"$f":"'SSI data'!H24","v":17},{"$f":"'SSI data'!M24","v":2008},{"$f":"'SSI data'!I24","v":0.84699999999999998},{"$f":"IFERROR(CONCATENATE(\"(\",TEXT('SSI data'!J24,\"0.0\"),\" ,\", TEXT('SSI data'!K24,\"0.0\"),\")\"),\"-\")","v":"(0.5 ,1.4)"}]
[null,{"$f":"'SSI data'!B25","v":"2018-06-01"},{"$f":"'SSI data'!D25","v":61},{"$f":"'SSI data'!L25","v":4191},{"$f":"'SSI data'!E25","v":1.4550000000000001},{"$f":"IFERROR(CONCATENATE(\"(\",TEXT('SSI data'!F25,\"0.0\"),\" ,\", TEXT('SSI data'!G25,\"0.0\"),\")\"),\"-\")","v":"(1.1 ,1.9)"},{"$f":"'SSI data'!H25","v":18},{"$f":"'SSI data'!M25","v":2270},{"$f":"'SSI data'!I25","v":0.79300000000000004},{"$f":"IFERROR(CONCATENATE(\"(\",TEXT('SSI data'!J25,\"0.0\"),\" ,\", TEXT('SSI data'!K25,\"0.0\"),\")\"),\"-\")","v":"(0.5 ,1.3)"}]
[null,{"$f":"'SSI data'!B26","v":"2018-09-01"},{"$f":"'SSI data'!D26","v":66},{"$f":"'SSI data'!L26","v":4293},{"$f":"'SSI data'!E26","v":1.5369999999999999},{"$f":"IFERROR(CONCATENATE(\"(\",TEXT('SSI data'!F26,\"0.0\"),\" ,\", TEXT('SSI data'!G26,\"0.0\"),\")\"),\"-\")","v":"(1.2 ,2.0)"},{"$f":"'SSI data'!H26","v":13},{"$f":"'SSI data'!M26","v":2155},{"$f":"'SSI data'!I26","v":0.60299999999999998},{"$f":"IFERROR(CONCATENATE(\"(\",TEXT('SSI data'!J26,\"0.0\"),\" ,\", TEXT('SSI data'!K26,\"0.0\"),\")\"),\"-\")","v":"(0.4 ,1.0)"}]
[null,{"$f":"'SSI data'!B27","v":"2018-12-01"},{"$f":"'SSI data'!D27","v":59},{"$f":"'SSI data'!L27","v":4346},{"$f":"'SSI data'!E27","v":1.3580000000000001},{"$f":"IFERROR(CONCATENATE(\"(\",TEXT('SSI data'!F27,\"0.0\"),\" ,\", TEXT('SSI data'!G27,\"0.0\"),\")\"),\"-\")","v":"(1.1 ,1.7)"},{"$f":"'SSI data'!H27","v":16},{"$f":"'SSI data'!M27","v":2276},{"$f":"'SSI data'!I27","v":0.70299999999999996},{"$f":"IFERROR(CONCATENATE(\"(\",TEXT('SSI data'!J27,\"0.0\"),\" ,\", TEXT('SSI data'!K27,\"0.0\"),\")\"),\"-\")","v":"(0.4 ,1.1)"}]
[null,{"$f":"'SSI data'!B28","v":"2019-03-01"},{"$f":"'SSI data'!D28","v":64},{"$f":"'SSI data'!L28","v":4051},{"$f":"'SSI data'!E28","v":1.58},{"$f":"IFERROR(CONCATENATE(\"(\",TEXT('SSI data'!F28,\"0.0\"),\" ,\", TEXT('SSI data'!G28,\"0.0\"),\")\"),\"-\")","v":"(1.2 ,2.0)"},{"$f":"'SSI data'!H28","v":8},{"$f":"'SSI data'!M28","v":2146},{"$f":"'SSI data'!I28","v":0.373},{"$f":"IFERROR(CONCATENATE(\"(\",TEXT('SSI data'!J28,\"0.0\"),\" ,\", TEXT('SSI data'!K28,\"0.0\"),\")\"),\"-\")","v":"(0.2 ,0.7)"}]
[null,{"$f":"'SSI data'!B29","v":"2019-06-01"},{"$f":"'SSI data'!D29","v":43},{"$f":"'SSI data'!L29","v":4118},{"$f":"'SSI data'!E29","v":1.044},{"$f":"IFERROR(CONCATENATE(\"(\",TEXT('SSI data'!F29,\"0.0\"),\" ,\", TEXT('SSI data'!G29,\"0.0\"),\")\"),\"-\")","v":"(0.8 ,1.4)"},{"$f":"'SSI data'!H29","v":10},{"$f":"'SSI data'!M29","v":2257},{"$f":"'SSI data'!I29","v":0.443},{"$f":"IFERROR(CONCATENATE(\"(\",TEXT('SSI data'!J29,\"0.0\"),\" ,\", TEXT('SSI data'!K29,\"0.0\"),\")\"),\"-\")","v":"(0.2 ,0.8)"}]
[null,{"$f":"'SSI data'!B30","v":"2019-09-01"},{"$f":"'SSI data'!D30","v":51},{"$f":"'SSI data'!L30","v":4408},{"$f":"'SSI data'!E30","v":1.157},{"$f":"IFERROR(CONCATENATE(\"(\",TEXT('SSI data'!F30,\"0.0\"),\" ,\", TEXT('SSI data'!G30,\"0.0\"),\")\"),\"-\")","v":"(0.9 ,1.5)"},{"$f":"'SSI data'!H30","v":17},{"$f":"'SSI data'!M30","v":2121},{"$f":"'SSI data'!I30","v":0.80200000000000005},{"$f":"IFERROR(CONCATENATE(\"(\",TEXT('SSI data'!J30,\"0.0\"),\" ,\", TEXT('SSI data'!K30,\"0.0\"),\")\"),\"-\")","v":"(0.5 ,1.3)"}]
[null,{"$f":"'SSI data'!B31","v":"2019-12-01"},{"$f":"'SSI data'!D31","v":35},{"$f":"'SSI data'!L31","v":4112},{"$f":"'SSI data'!E31","v":0.85099999999999998},{"$f":"IFERROR(CONCATENATE(\"(\",TEXT('SSI data'!F31,\"0.0\"),\" ,\", TEXT('SSI data'!G31,\"0.0\"),\")\"),\"-\")","v":"(0.6 ,1.2)"},{"$f":"'SSI data'!H31","v":17},{"$f":"'SSI data'!M31","v":2145},{"$f":"'SSI data'!I31","v":0.79300000000000004},{"$f":"IFERROR(CONCATENATE(\"(\",TEXT('SSI data'!J31,\"0.0\"),\" ,\", TEXT('SSI data'!K31,\"0.0\"),\")\"),\"-\")","v":"(0.5 ,1.3)"}]
[null,{"$f":"'SSI data'!B32","v":"2020-03-01"},{"$f":"'SSI data'!D32","v":"-"},{"$f":"'SSI data'!L32","v":"-"},{"$f":"'SSI data'!E32","v":"-"},{"$f":"IFERROR(CONCATENATE(\"(\",TEXT('SSI data'!F32,\"0.0\"),\" ,\", TEXT('SSI data'!G32,\"0.0\"),\")\"),\"-\")","v":"(- ,-)"},{"$f":"'SSI data'!H32","v":"-"},{"$f":"'SSI data'!M32","v":"-"},{"$f":"'SSI data'!I32","v":"-"},{"$f":"IFERROR(CONCATENATE(\"(\",TEXT('SSI data'!J32,\"0.0\"),\" ,\", TEXT('SSI data'!K32,\"0.0\"),\")\"),\"-\")","v":"(- ,-)"}]
[null,{"$f":"'SSI data'!B33","v":"2020-06-01"},{"$f":"'SSI data'!D33","v":"-"},{"$f":"'SSI data'!L33","v":"-"},{"$f":"'SSI data'!E33","v":"-"},{"$f":"IFERROR(CONCATENATE(\"(\",TEXT('SSI data'!F33,\"0.0\"),\" ,\", TEXT('SSI data'!G33,\"0.0\"),\")\"),\"-\")","v":"(- ,-)"},{"$f":"'SSI data'!H33","v":"-"},{"$f":"'SSI data'!M33","v":"-"},{"$f":"'SSI data'!I33","v":"-"},{"$f":"IFERROR(CONCATENATE(\"(\",TEXT('SSI data'!J33,\"0.0\"),\" ,\", TEXT('SSI data'!K33,\"0.0\"),\")\"),\"-\")","v":"(- ,-)"}]
[null,{"$f":"'SSI data'!B34","v":"2020-09-01"},{"$f":"'SSI data'!D34","v":"-"},{"$f":"'SSI data'!L34","v":"-"},{"$f":"'SSI data'!E34","v":"-"},{"$f":"IFERROR(CONCATENATE(\"(\",TEXT('SSI data'!F34,\"0.0\"),\" ,\", TEXT('SSI data'!G34,\"0.0\"),\")\"),\"-\")","v":"(- ,-)"},{"$f":"'SSI data'!H34","v":"-"},{"$f":"'SSI data'!M34","v":"-"},{"$f":"'SSI data'!I34","v":"-"},{"$f":"IFERROR(CONCATENATE(\"(\",TEXT('SSI data'!J34,\"0.0\"),\" ,\", TEXT('SSI data'!K34,\"0.0\"),\")\"),\"-\")","v":"(- ,-)"}]
[null,{"$f":"'SSI data'!B35","v":"2020-12-31"},{"$f":"'SSI data'!D35","v":"-"},{"$f":"'SSI data'!L35","v":"-"},{"$f":"'SSI data'!E35","v":"-"},{"$f":"IFERROR(CONCATENATE(\"(\",TEXT('SSI data'!F35,\"0.0\"),\" ,\", TEXT('SSI data'!G35,\"0.0\"),\")\"),\"-\")","v":"(- ,-)"},{"$f":"'SSI data'!H35","v":"-"},{"$f":"'SSI data'!M35","v":"-"},{"$f":"'SSI data'!I35","v":"-"},{"$f":"IFERROR(CONCATENATE(\"(\",TEXT('SSI data'!J35,\"0.0\"),\" ,\", TEXT('SSI data'!K35,\"0.0\"),\")\"),\"-\")","v":"(- ,-)"}]
[null,{"$f":"'SSI data'!B36","v":"2021-03-31"},{"$f":"'SSI data'!D36","v":"-"},{"$f":"'SSI data'!L36","v":"-"},{"$f":"'SSI data'!E36","v":"-"},{"$f":"IFERROR(CONCATENATE(\"(\",TEXT('SSI data'!F36,\"0.0\"),\" ,\", TEXT('SSI data'!G36,\"0.0\"),\")\"),\"-\")","v":"(- ,-)"},{"$f":"'SSI data'!H36","v":"-"},{"$f":"'SSI data'!M36","v":"-"},{"$f":"'SSI data'!I36","v":"-"},{"$f":"IFERROR(CONCATENATE(\"(\",TEXT('SSI data'!J36,\"0.0\"),\" ,\", TEXT('SSI data'!K36,\"0.0\"),\")\"),\"-\")","v":"(- ,-)"}]
[null,{"$f":"'SSI data'!B37","v":"2021-06-30"},{"$f":"'SSI data'!D37","v":"-"},{"$f":"'SSI data'!L37","v":"-"},{"$f":"'SSI data'!E37","v":"-"},{"$f":"IFERROR(CONCATENATE(\"(\",TEXT('SSI data'!F37,\"0.0\"),\" ,\", TEXT('SSI data'!G37,\"0.0\"),\")\"),\"-\")","v":"(- ,-)"},{"$f":"'SSI data'!H37","v":"-"},{"$f":"'SSI data'!M37","v":"-"},{"$f":"'SSI data'!I37","v":"-"},{"$f":"IFERROR(CONCATENATE(\"(\",TEXT('SSI data'!J37,\"0.0\"),\" ,\", TEXT('SSI data'!K37,\"0.0\"),\")\"),\"-\")","v":"(- ,-)"}]
[null,{"$f":"'SSI data'!B38","v":"2021-09-30"},{"$f":"'SSI data'!D38","v":"-"},{"$f":"'SSI data'!L38","v":"-"},{"$f":"'SSI data'!E38","v":"-"},{"$f":"IFERROR(CONCATENATE(\"(\",TEXT('SSI data'!F38,\"0.0\"),\" ,\", TEXT('SSI data'!G38,\"0.0\"),\")\"),\"-\")","v":"(- ,-)"},{"$f":"'SSI data'!H38","v":"-"},{"$f":"'SSI data'!M38","v":"-"},{"$f":"'SSI data'!I38","v":"-"},{"$f":"IFERROR(CONCATENATE(\"(\",TEXT('SSI data'!J38,\"0.0\"),\" ,\", TEXT('SSI data'!K38,\"0.0\"),\")\"),\"-\")","v":"(- ,-)"}]
[null,{"$f":"'SSI data'!B39","v":"2021-12-31"},{"$f":"'SSI data'!D39","v":"-"},{"$f":"'SSI data'!L39","v":"-"},{"$f":"'SSI data'!E39","v":"-"},{"$f":"IFERROR(CONCATENATE(\"(\",TEXT('SSI data'!F39,\"0.0\"),\" ,\", TEXT('SSI data'!G39,\"0.0\"),\")\"),\"-\")","v":"(- ,-)"},{"$f":"'SSI data'!H39","v":"-"},{"$f":"'SSI data'!M39","v":"-"},{"$f":"'SSI data'!I39","v":"-"},{"$f":"IFERROR(CONCATENATE(\"(\",TEXT('SSI data'!J39,\"0.0\"),\" ,\", TEXT('SSI data'!K39,\"0.0\"),\")\"),\"-\")","v":"(- ,-)"}]

{"sheet":"SSI data","index":6,"n_rows":39,"n_cols":29,"rows_kept":39,"cut":false,"hidden":true,"merged":[]}
["Trend data",null,null,null,null,null,null,null,null,null,null,null,null,null,null,null,"data for u-charts"]
[]
["add a new line for current quarter"]
[null,null,null,null,null,null,null,null,null,null,null,null,null,null,null,null,null,null,null,"change this"]
[null,null,null,"SSICSEC","SSICSEC","SSICSEC","SSICSEC","SSIHIP","SSIHIP","SSIHIP","SSIHIP","SSICSEC","SSIHIP",null,null,null,null,null,"current quarter end","2021-12-31",3,4,5,6,null,3,4,5,6]
[null,null,null,2,4,5,6,2,4,5,6,3,3]
[null,null,"ref","C SEC cases","C SEC prop","C SEC_lower_CI","C SEC_upper_CI","HIP cases","HIP prop","HIP_lower_CI","HIP_upper_CI","C SEC OPS","HIP OPS",null,null,null,null,null,null,null,"SSICSEC",null,null,null,null,"SSIHIP"]
["201401","2014-03-24",{"$f":"CONCATENATE(A8,'SSI Data and Charts'!B$1)","v":"201401Scotland"},{"$f":"IFERROR(VLOOKUP(CONCATENATE(D$5,$C8),'trend data'!$A$2:$O$11161,D$6,FALSE),\"-\")","v":61},{"$f":"IFERROR(ROUND(VLOOKUP(CONCATENATE(E$5,$C8),'trend data'!$A$2:$O$11161,E$6,FALSE),3),\"-\")","v":1.526},{"$f":"IFERROR(ROUND(VLOOKUP(CONCATENATE(F$5,$C8),'trend data'!$A$2:$O$11161,F$6,FALSE),3),\"-\")","v":1.19},{"$f":"IFERROR(ROUND(VLOOKUP(CONCATENATE(G$5,$C8),'trend data'!$A$2:$O$11161,G$6,FALSE),3),\"-\")","v":1.9550000000000001},{"$f":"IFERROR(VLOOKUP(CONCATENATE(H$5,$C8),'trend data'!$A$2:$O$11161,H$6,FALSE),\"-\")","v":16},{"$f":"IFERROR(ROUND(VLOOKUP(CONCATENATE(I$5,$C8),'trend data'!$A$2:$O$11161,I$6,FALSE),3),\"-\")","v":0.76},{"$f":"IFERROR(ROUND(VLOOKUP(CONCATENATE(J$5,$C8),'trend data'!$A$2:$O$11161,J$6,FALSE),3),\"-\")","v":0.46800000000000003},{"$f":"IFERROR(ROUND(VLOOKUP(CONCATENATE(K$5,$C8),'trend data'!$A$2:$O$11161,K$6,FALSE),3),\"-\")","v":1.2310000000000001},{"$f":"IFERROR(VLOOKUP(CONCATENATE(L$5,$C8),'trend data'!$A$2:$O$11161,L$6,FALSE),\"-\")","v":3998},{"$f":"IFERROR(VLOOKUP(CONCATENATE(M$5,$C8),'trend data'!$A$2:$O$11161,M$6,FALSE),\"-\")","v":2106},null,null,null,"change to last 12 quarters",null,null,null,"C SEC prop","C SEC av prop","C SEC UWL 2sd","C SEC UWL 3sd",null,"HIP prop","HIP av prop","HIP UWL 2sd","HIP UWL 3 sd"]
["201402","2014-06-27",{"$f":"CONCATENATE(A9,'SSI Data and Charts'!B$1)","v":"201402Scotland"},{"$f":"IFERROR(VLOOKUP(CONCATENATE(D$5,$C9),'trend data'!$A$2:$O$11161,D$6,FALSE),\"-\")","v":58},{"$f":"IFERROR(ROUND(VLOOKUP(CONCATENATE(E$5,$C9),'trend data'!$A$2:$O$11161,E$6,FALSE),3),\"-\")","v":1.4139999999999999},{"$f":"IFERROR(ROUND(VLOOKUP(CONCATENATE(F$5,$C9),'trend data'!$A$2:$O$11161,F$6,FALSE),3),\"-\")","v":1.095},{"$f":"IFERROR(ROUND(VLOOKUP(CONCATENATE(G$5,$C9),'trend data'!$A$2:$O$11161,G$6,FALSE),3),\"-\")","v":1.823},{"$f":"IFERROR(VLOOKUP(CONCATENATE(H$5,$C9),'trend data'!$A$2:$O$11161,H$6,FALSE),\"-\")","v":13},{"$f":"IFERROR(ROUND(VLOOKUP(CONCATENATE(I$5,$C9),'trend data'!$A$2:$O$11161,I$6,FALSE),3),\"-\")","v":0.62},{"$f":"IFERROR(ROUND(VLOOKUP(CONCATENATE(J$5,$C9),'trend data'!$A$2:$O$11161,J$6,FALSE),3),\"-\")","v":0.36199999999999999},{"$f":"IFERROR(ROUND(VLOOKUP(CONCATENATE(K$5,$C9),'trend data'!$A$2:$O$11161,K$6,FALSE),3),\"-\")","v":1.0569999999999999},{"$f":"IFERROR(VLOOKUP(CONCATENATE(L$5,$C9),'trend data'!$A$2:$O$11161,L$6,FALSE),\"-\")","v":4103},{"$f":"IFERROR(VLOOKUP(CONCATENATE(M$5,$C9),'trend data'!$A$2:$O$11161,M$6,FALSE),\"-\")","v":2098},null,null,null,{"$f":"YEAR(T9)&\"0\"&IF(MONTH(T9)<4,1,IF(MONTH(T9)<7,2,IF(MONTH(T9)<10,3,4)))","v":"201901"},{"$f":"CONCATENATE(U$7,$Q9,'SSI Data and Charts'!B$1)","v":"SSICSEC201901Scotland"},1,{"$f":"T10-92","v":"2019-03-25"},{"$f":"ROUND(VLOOKUP($R9,'data for u-p-charts'!$A$2:$F$5000,U$5,FALSE),2)","v":1.58},{"$f":"ROUND(VLOOKUP($R9,'data for u-p-charts'!$A$2:$F$5000,V$5,FALSE),2)","v":1.2},{"$f":"ROUND(VLOOKUP($R9,'data for u-p-charts'!$A$2:$F$5000,W$5,FALSE),2)","v":1.54},{"$f":"ROUND(VLOOKUP($R9,'data for u-p-charts'!$A$2:$F$5000,X$5,FALSE),2)","v":1.71},{"$f":"CONCATENATE(Z$7,$Q9,'SSI Data and Charts'!$B$1)","v":"SSIHIP201901Scotland"},{"$f":"ROUND(VLOOKUP($Y9,'data for u-p-charts'!$A$2:$F$5000,Z$5,FALSE),2)","v":0.37},{"$f":"ROUND(VLOOKUP($Y9,'data for u-p-charts'!$A$2:$F$5000,AA$5,FALSE),2)","v":0.62},{"$f":"ROUND(VLOOKUP($Y9,'data for u-p-charts'!$A$2:$F$5000,AB$5,FALSE),2)","v":0.96},{"$f":"ROUND(VLOOKUP($Y9,'data for u-p-charts'!$A$2:$F$5000,AC$5,FALSE),2)","v":1.1299999999999999}]
["201403","2014-09-30",{"$f":"CONCATENATE(A10,'SSI Data and Charts'!B$1)","v":"201403Scotland"},{"$f":"IFERROR(VLOOKUP(CONCATENATE(D$5,$C10),'trend data'!$A$2:$O$11161,D$6,FALSE),\"-\")","v":58},{"$f":"IFERROR(ROUND(VLOOKUP(CONCATENATE(E$5,$C10),'trend data'!$A$2:$O$11161,E$6,FALSE),3),\"-\")","v":1.2709999999999999},{"$f":"IFERROR(ROUND(VLOOKUP(CONCATENATE(F$5,$C10),'trend data'!$A$2:$O$11161,F$6,FALSE),3),\"-\")","v":0.98499999999999999},{"$f":"IFERROR(ROUND(VLOOKUP(CONCATENATE(G$5,$C10),'trend data'!$A$2:$O$11161,G$6,FALSE),3),\"-\")","v":1.64},{"$f":"IFERROR(VLOOKUP(CONCATENATE(H$5,$C10),'trend data'!$A$2:$O$11161,H$6,FALSE),\"-\")","v":16},{"$f":"IFERROR(ROUND(VLOOKUP(CONCATENATE(I$5,$C10),'trend data'!$A$2:$O$11161,I$6,FALSE),3),\"-\")","v":0.753},{"$f":"IFERROR(ROUND(VLOOKUP(CONCATENATE(J$5,$C10),'trend data'!$A$2:$O$11161,J$6,FALSE),3),\"-\")","v":0.46400000000000002},{"$f":"IFERROR(ROUND(VLOOKUP(CONCATENATE(K$5,$C10),'trend data'!$A$2:$O$11161,K$6,FALSE),3),\"-\")","v":1.22},{"$f":"IFERROR(VLOOKUP(CONCATENATE(L$5,$C10),'trend data'!$A$2:$O$11161,L$6,FALSE),\"-\")","v":4563},{"$f":"IFERROR(VLOOKUP(CONCATENATE(M$5,$C10),'trend data'!$A$2:$O$11161,M$6,FALSE),\"-\")","v":2125},null,null,null,{"$f":"YEAR(T10)&\"0\"&IF(MONTH(T10)<4,1,IF(MONTH(T10)<7,2,IF(MONTH(T10)<10,3,4)))","v":"201902"},{"$f":"CONCATENATE(U$7,$Q10,'SSI Data and Charts'!B$1)","v":"SSICSEC201902Scotland"},2,"2019-06-25",{"$f":"ROUND(VLOOKUP($R10,'data for u-p-charts'!$A$2:$F$5000,U$5,FALSE),2)","v":1.04},{"$f":"ROUND(VLOOKUP($R10,'data for u-p-charts'!$A$2:$F$5000,V$5,FALSE),2)","v":1.2},{"$f":"ROUND(VLOOKUP($R10,'data for u-p-charts'!$A$2:$F$5000,W$5,FALSE),2)","v":1.54},{"$f":"ROUND(VLOOKUP($R10,'data for u-p-charts'!$A$2:$F$5000,X$5,FALSE),2)","v":1.71},{"$f":"CONCATENATE(Z$7,$Q10,'SSI Data and Charts'!$B$1)","v":"SSIHIP201902Scotland"},{"$f":"ROUND(VLOOKUP($Y10,'data for u-p-charts'!$A$2:$F$5000,Z$5,FALSE),2)","v":0.44},{"$f":"ROUND(VLOOKUP($Y10,'data for u-p-charts'!$A$2:$F$5000,AA$5,FALSE),2)","v":0.62},{"$f":"ROUND(VLOOKUP($Y10,'data for u-p-charts'!$A$2:$F$5000,AB$5,FALSE),2)","v":0.95},{"$f":"ROUND(VLOOKUP($Y10,'data for u-p-charts'!$A$2:$F$5000,AC$5,FALSE),2)","v":1.1200000000000001}]
[201404,"2014-12-19",{"$f":"CONCATENATE(A11,'SSI Data and Charts'!B$1)","v":"201404Scotland"},{"$f":"IFERROR(VLOOKUP(CONCATENATE(D$5,$C11),'trend data'!$A$2:$O$11161,D$6,FALSE),\"-\")","v":61},{"$f":"IFERROR(ROUND(VLOOKUP(CONCATENATE(E$5,$C11),'trend data'!$A$2:$O$11161,E$6,FALSE),3),\"-\")","v":1.4319999999999999},{"$f":"IFERROR(ROUND(VLOOKUP(CONCATENATE(F$5,$C11),'trend data'!$A$2:$O$11161,F$6,FALSE),3),\"-\")","v":1.1160000000000001},{"$f":"IFERROR(ROUND(VLOOKUP(CONCATENATE(G$5,$C11),'trend data'!$A$2:$O$11161,G$6,FALSE),3),\"-\")","v":1.835},{"$f":"IFERROR(VLOOKUP(CONCATENATE(H$5,$C11),'trend data'!$A$2:$O$11161,H$6,FALSE),\"-\")","v":12},{"$f":"IFERROR(ROUND(VLOOKUP(CONCATENATE(I$5,$C11),'trend data'!$A$2:$O$11161,I$6,FALSE),3),\"-\")","v":0.60799999999999998},{"$f":"IFERROR(ROUND(VLOOKUP(CONCATENATE(J$5,$C11),'trend data'!$A$2:$O$11161,J$6,FALSE),3),\"-\")","v":0.34799999999999998},{"$f":"IFERROR(ROUND(VLOOKUP(CONCATENATE(K$5,$C11),'trend data'!$A$2:$O$11161,K$6,FALSE),3),\"-\")","v":1.06},{"$f":"IFERROR(VLOOKUP(CONCATENATE(L$5,$C11),'trend data'!$A$2:$O$11161,L$6,FALSE),\"-\")","v":4261},{"$f":"IFERROR(VLOOKUP(CONCATENATE(M$5,$C11),'trend data'!$A$2:$O$11161,M$6,FALSE),\"-\")","v":1974},null,null,null,"201903",{"$f":"CONCATENATE(U$7,$Q11,'SSI Data and Charts'!B$1)","v":"SSICSEC201903Scotland"},3,"2019-09-25",{"$f":"ROUND(VLOOKUP($R11,'data for u-p-charts'!$A$2:$F$5000,U$5,FALSE),2)","v":1.1599999999999999},{"$f":"ROUND(VLOOKUP($R11,'data for u-p-charts'!$A$2:$F$5000,V$5,FALSE),2)","v":1.2},{"$f":"ROUND(VLOOKUP($R11,'data for u-p-charts'!$A$2:$F$5000,W$5,FALSE),2)","v":1.53},{"$f":"ROUND(VLOOKUP($R11,'data for u-p-charts'!$A$2:$F$5000,X$5,FALSE),2)","v":1.69},{"$f":"CONCATENATE(Z$7,$Q11,'SSI Data and Charts'!$B$1)","v":"SSIHIP201903Scotland"},{"$f":"ROUND(VLOOKUP($Y11,'data for u-p-charts'!$A$2:$F$5000,Z$5,FALSE),2)","v":0.8},{"$f":"ROUND(VLOOKUP($Y11,'data for u-p-charts'!$A$2:$F$5000,AA$5,FALSE),2)","v":0.62},{"$f":"ROUND(VLOOKUP($Y11,'data for u-p-charts'!$A$2:$F$5000,AB$5,FALSE),2)","v":0.96},{"$f":"ROUND(VLOOKUP($Y11,'data for u-p-charts'!$A$2:$F$5000,AC$5,FALSE),2)","v":1.1299999999999999}]
[201501,"2015-03-24",{"$f":"CONCATENATE(A12,'SSI Data and Charts'!B$1)","v":"201501Scotland"},{"$f":"IFERROR(VLOOKUP(CONCATENATE(D$5,$C12),'trend data'!$A$2:$O$11161,D$6,FALSE),\"-\")","v":47},{"$f":"IFERROR(ROUND(VLOOKUP(CONCATENATE(E$5,$C12),'trend data'!$A$2:$O$11161,E$6,FALSE),3),\"-\")","v":1.1850000000000001},{"$f":"IFERROR(ROUND(VLOOKUP(CONCATENATE(F$5,$C12),'trend data'!$A$2:$O$11161,F$6,FALSE),3),\"-\")","v":0.89200000000000002},{"$f":"IFERROR(ROUND(VLOOKUP(CONCATENATE(G$5,$C12),'trend data'!$A$2:$O$11161,G$6,FALSE),3),\"-\")","v":1.5720000000000001},{"$f":"IFERROR(VLOOKUP(CONCATENATE(H$5,$C12),'trend data'!$A$2:$O$11161,H$6,FALSE),\"-\")","v":18},{"$f":"IFERROR(ROUND(VLOOKUP(CONCATENATE(I$5,$C12),'trend data'!$A$2:$O$11161,I$6,FALSE),3),\"-\")","v":0.91900000000000004},{"$f":"IFERROR(ROUND(VLOOKUP(CONCATENATE(J$5,$C12),'trend data'!$A$2:$O$11161,J$6,FALSE),3),\"-\")","v":0.58199999999999996},{"$f":"IFERROR(ROUND(VLOOKUP(CONCATENATE(K$5,$C12),'trend data'!$A$2:$O$11161,K$6,FALSE),3),\"-\")","v":1.448},{"$f":"IFERROR(VLOOKUP(CONCATENATE(L$5,$C12),'trend data'!$A$2:$O$11161,L$6,FALSE),\"-\")","v":3966},{"$f":"IFERROR(VLOOKUP(CONCATENATE(M$5,$C12),'trend data'!$A$2:$O$11161,M$6,FALSE),\"-\")","v":1959},null,null,null,"201904",{"$f":"CONCATENATE(U$7,$Q12,'SSI Data and Charts'!B$1)","v":"SSICSEC201904Scotland"},4,"2019-12-26",{"$f":"ROUND(VLOOKUP($R12,'data for u-p-charts'!$A$2:$F$5000,U$5,FALSE),2)","v":0.85},{"$f":"ROUND(VLOOKUP($R12,'data for u-p-charts'!$A$2:$F$5000,V$5,FALSE),2)","v":1.2},{"$f":"ROUND(VLOOKUP($R12,'data for u-p-charts'!$A$2:$F$5000,W$5,FALSE),2)","v":1.54},{"$f":"ROUND(VLOOKUP($R12,'data for u-p-charts'!$A$2:$F$5000,X$5,FALSE),2)","v":1.71},{"$f":"CONCATENATE(Z$7,$Q12,'SSI Data and Charts'!$B$1)","v":"SSIHIP201904Scotland"},{"$f":"ROUND(VLOOKUP($Y12,'data for u-p-charts'!$A$2:$F$5000,Z$5,FALSE),2)","v":0.79},{"$f":"ROUND(VLOOKUP($Y12,'data for u-p-charts'!$A$2:$F$5000,AA$5,FALSE),2)","v":0.62},{"$f":"ROUND(VLOOKUP($Y12,'data for u-p-charts'!$A$2:$F$5000,AB$5,FALSE),2)","v":0.96},{"$f":"ROUND(VLOOKUP($Y12,'data for u-p-charts'!$A$2:$F$5000,AC$5,FALSE),2)","v":1.1299999999999999}]
[201502,"2015-06-24",{"$f":"CONCATENATE(A13,'SSI Data and Charts'!B$1)","v":"201502Scotland"},{"$f":"IFERROR(VLOOKUP(CONCATENATE(D$5,$C13),'trend data'!$A$2:$O$11161,D$6,FALSE),\"-\")","v":56},{"$f":"IFERROR(ROUND(VLOOKUP(CONCATENATE(E$5,$C13),'trend data'!$A$2:$O$11161,E$6,FALSE),3),\"-\")","v":1.2849999999999999},{"$f":"IFERROR(ROUND(VLOOKUP(CONCATENATE(F$5,$C13),'trend data'!$A$2:$O$11161,F$6,FALSE),3),\"-\")","v":0.99099999999999999},{"$f":"IFERROR(ROUND(VLOOKUP(CONCATENATE(G$5,$C13),'trend data'!$A$2:$O$11161,G$6,FALSE),3),\"-\")","v":1.665},{"$f":"IFERROR(VLOOKUP(CONCATENATE(H$5,$C13),'trend data'!$A$2:$O$11161,H$6,FALSE),\"-\")","v":18},{"$f":"IFERROR(ROUND(VLOOKUP(CONCATENATE(I$5,$C13),'trend data'!$A$2:$O$11161,I$6,FALSE),3),\"-\")","v":0.83399999999999996},{"$f":"IFERROR(ROUND(VLOOKUP(CONCATENATE(J$5,$C13),'trend data'!$A$2:$O$11161,J$6,FALSE),3),\"-\")","v":0.52800000000000002},{"$f":"IFERROR(ROUND(VLOOKUP(CONCATENATE(K$5,$C13),'trend data'!$A$2:$O$11161,K$6,FALSE),3),\"-\")","v":1.3140000000000001},{"$f":"IFERROR(VLOOKUP(CONCATENATE(L$5,$C13),'trend data'!$A$2:$O$11161,L$6,FALSE),\"-\")","v":4358},{"$f":"IFERROR(VLOOKUP(CONCATENATE(M$5,$C13),'trend data'!$A$2:$O$11161,M$6,FALSE),\"-\")","v":2159},null,null,null,"202001",{"$f":"CONCATENATE(U$7,$Q13,'SSI Data and Charts'!B$1)","v":"SSICSEC202001Scotland"},5,"2020-03-27",{"$f":"ROUND(VLOOKUP($R13,'data for u-p-charts'!$A$2:$F$5000,U$5,FALSE),2)","v":{"$error":"#N/A"}},{"$f":"ROUND(VLOOKUP($R13,'data for u-p-charts'!$A$2:$F$5000,V$5,FALSE),2)","v":{"$error":"#N/A"}},{"$f":"ROUND(VLOOKUP($R13,'data for u-p-charts'!$A$2:$F$5000,W$5,FALSE),2)","v":{"$error":"#N/A"}},{"$f":"ROUND(VLOOKUP($R13,'data for u-p-charts'!$A$2:$F$5000,X$5,FALSE),2)","v":{"$error":"#N/A"}},{"$f":"CONCATENATE(Z$7,$Q13,'SSI Data and Charts'!$B$1)","v":"SSIHIP202001Scotland"},{"$f":"ROUND(VLOOKUP($Y13,'data for u-p-charts'!$A$2:$F$5000,Z$5,FALSE),2)","v":{"$error":"#N/A"}},{"$f":"ROUND(VLOOKUP($Y13,'data for u-p-charts'!$A$2:$F$5000,AA$5,FALSE),2)","v":{"$error":"#N/A"}},{"$f":"ROUND(VLOOKUP($Y13,'data for u-p-charts'!$A$2:$F$5000,AB$5,FALSE),2)","v":{"$error":"#N/A"}},{"$f":"ROUND(VLOOKUP($Y13,'data for u-p-charts'!$A$2:$F$5000,AC$5,FALSE),2)","v":{"$error":"#N/A"}}]
[201503,"2015-09-24",{"$f":"CONCATENATE(A14,'SSI Data and Charts'!B$1)","v":"201503Scotland"},{"$f":"IFERROR(VLOOKUP(CONCATENATE(D$5,$C14),'trend data'!$A$2:$O$11161,D$6,FALSE),\"-\")","v":56},{"$f":"IFERROR(ROUND(VLOOKUP(CONCATENATE(E$5,$C14),'trend data'!$A$2:$O$11161,E$6,FALSE),3),\"-\")","v":1.2410000000000001},{"$f":"IFERROR(ROUND(VLOOKUP(CONCATENATE(F$5,$C14),'trend data'!$A$2:$O$11161,F$6,FALSE),3),\"-\")","v":0.95699999999999996},{"$f":"IFERROR(ROUND(VLOOKUP(CONCATENATE(G$5,$C14),'trend data'!$A$2:$O$11161,G$6,FALSE),3),\"-\")","v":1.609},{"$f":"IFERROR(VLOOKUP(CONCATENATE(H$5,$C14),'trend data'!$A$2:$O$11161,H$6,FALSE),\"-\")","v":10},{"$f":"IFERROR(ROUND(VLOOKUP(CONCATENATE(I$5,$C14),'trend data'!$A$2:$O$11161,I$6,FALSE),3),\"-\")","v":0.46800000000000003},{"$f":"IFERROR(ROUND(VLOOKUP(CONCATENATE(J$5,$C14),'trend data'!$A$2:$O$11161,J$6,FALSE),3),\"-\")","v":0.255},{"$f":"IFERROR(ROUND(VLOOKUP(CONCATENATE(K$5,$C14),'trend data'!$A$2:$O$11161,K$6,FALSE),3),\"-\")","v":0.86},{"$f":"IFERROR(VLOOKUP(CONCATENATE(L$5,$C14),'trend data'!$A$2:$O$11161,L$6,FALSE),\"-\")","v":4511},{"$f":"IFERROR(VLOOKUP(CONCATENATE(M$5,$C14),'trend data'!$A$2:$O$11161,M$6,FALSE),\"-\")","v":2135},null,null,null,"202002",{"$f":"CONCATENATE(U$7,$Q14,'SSI Data and Charts'!B$1)","v":"SSICSEC202002Scotland"},6,"2020-06-27",{"$f":"ROUND(VLOOKUP($R14,'data for u-p-charts'!$A$2:$F$5000,U$5,FALSE),2)","v":{"$error":"#N/A"}},{"$f":"ROUND(VLOOKUP($R14,'data for u-p-charts'!$A$2:$F$5000,V$5,FALSE),2)","v":{"$error":"#N/A"}},{"$f":"ROUND(VLOOKUP($R14,'data for u-p-charts'!$A$2:$F$5000,W$5,FALSE),2)","v":{"$error":"#N/A"}},{"$f":"ROUND(VLOOKUP($R14,'data for u-p-charts'!$A$2:$F$5000,X$5,FALSE),2)","v":{"$error":"#N/A"}},{"$f":"CONCATENATE(Z$7,$Q14,'SSI Data and Charts'!$B$1)","v":"SSIHIP202002Scotland"},{"$f":"ROUND(VLOOKUP($Y14,'data for u-p-charts'!$A$2:$F$5000,Z$5,FALSE),2)","v":{"$error":"#N/A"}},{"$f":"ROUND(VLOOKUP($Y14,'data for u-p-charts'!$A$2:$F$5000,AA$5,FALSE),2)","v":{"$error":"#N/A"}},{"$f":"ROUND(VLOOKUP($Y14,'data for u-p-charts'!$A$2:$F$5000,AB$5,FALSE),2)","v":{"$error":"#N/A"}},{"$f":"ROUND(VLOOKUP($Y14,'data for u-p-charts'!$A$2:$F$5000,AC$5,FALSE),2)","v":{"$error":"#N/A"}}]
[201504,"2015-12-24",{"$f":"CONCATENATE(A15,'SSI Data and Charts'!B$1)","v":"201504Scotland"},{"$f":"IFERROR(VLOOKUP(CONCATENATE(D$5,$C15),'trend data'!$A$2:$O$11161,D$6,FALSE),\"-\")","v":60},{"$f":"IFERROR(ROUND(VLOOKUP(CONCATENATE(E$5,$C15),'trend data'!$A$2:$O$11161,E$6,FALSE),3),\"-\")","v":1.395},{"$f":"IFERROR(ROUND(VLOOKUP(CONCATENATE(F$5,$C15),'trend data'!$A$2:$O$11161,F$6,FALSE),3),\"-\")","v":1.0860000000000001},{"$f":"IFERROR(ROUND(VLOOKUP(CONCATENATE(G$5,$C15),'trend data'!$A$2:$O$11161,G$6,FALSE),3),\"-\")","v":1.792},{"$f":"IFERROR(VLOOKUP(CONCATENATE(H$5,$C15),'trend data'!$A$2:$O$11161,H$6,FALSE),\"-\")","v":15},{"$f":"IFERROR(ROUND(VLOOKUP(CONCATENATE(I$5,$C15),'trend data'!$A$2:$O$11161,I$6,FALSE),3),\"-\")","v":0.68500000000000005},{"$f":"IFERROR(ROUND(VLOOKUP(CONCATENATE(J$5,$C15),'trend data'!$A$2:$O$11161,J$6,FALSE),3),\"-\")","v":0.41499999999999998},{"$f":"IFERROR(ROUND(VLOOKUP(CONCATENATE(K$5,$C15),'trend data'!$A$2:$O$11161,K$6,FALSE),3),\"-\")","v":1.127},{"$f":"IFERROR(VLOOKUP(CONCATENATE(L$5,$C15),'trend data'!$A$2:$O$11161,L$6,FALSE),\"-\")","v":4300},{"$f":"IFERROR(VLOOKUP(CONCATENATE(M$5,$C15),'trend data'!$A$2:$O$11161,M$6,FALSE),\"-\")","v":2191},null,null,null,"202003",{"$f":"CONCATENATE(U$7,$Q15,'SSI Data and Charts'!B$1)","v":"SSICSEC202003Scotland"},7,"2020-09-27",{"$f":"ROUND(VLOOKUP($R15,'data for u-p-charts'!$A$2:$F$5000,U$5,FALSE),2)","v":{"$error":"#N/A"}},{"$f":"ROUND(VLOOKUP($R15,'data for u-p-charts'!$A$2:$F$5000,V$5,FALSE),2)","v":{"$error":"#N/A"}},{"$f":"ROUND(VLOOKUP($R15,'data for u-p-charts'!$A$2:$F$5000,W$5,FALSE),2)","v":{"$error":"#N/A"}},{"$f":"ROUND(VLOOKUP($R15,'data for u-p-charts'!$A$2:$F$5000,X$5,FALSE),2)","v":{"$error":"#N/A"}},{"$f":"CONCATENATE(Z$7,$Q15,'SSI Data and Charts'!$B$1)","v":"SSIHIP202003Scotland"},{"$f":"ROUND(VLOOKUP($Y15,'data for u-p-charts'!$A$2:$F$5000,Z$5,FALSE),2)","v":{"$error":"#N/A"}},{"$f":"ROUND(VLOOKUP($Y15,'data for u-p-charts'!$A$2:$F$5000,AA$5,FALSE),2)","v":{"$error":"#N/A"}},{"$f":"ROUND(VLOOKUP($Y15,'data for u-p-charts'!$A$2:$F$5000,AB$5,FALSE),2)","v":{"$error":"#N/A"}},{"$f":"ROUND(VLOOKUP($Y15,'data for u-p-charts'!$A$2:$F$5000,AC$5,FALSE),2)","v":{"$error":"#N/A"}}]
[201601,"2016-03-24",{"$f":"CONCATENATE(A16,'SSI Data and Charts'!B$1)","v":"201601Scotland"},{"$f":"IFERROR(VLOOKUP(CONCATENATE(D$5,$C16),'trend data'!$A$2:$O$11161,D$6,FALSE),\"-\")","v":58},{"$f":"IFERROR(ROUND(VLOOKUP(CONCATENATE(E$5,$C16),'trend data'!$A$2:$O$11161,E$6,FALSE),3),\"-\")","v":1.4419999999999999},{"$f":"IFERROR(ROUND(VLOOKUP(CONCATENATE(F$5,$C16),'trend data'!$A$2:$O$11161,F$6,FALSE),3),\"-\")","v":1.117},{"$f":"IFERROR(ROUND(VLOOKUP(CONCATENATE(G$5,$C16),'trend data'!$A$2:$O$11161,G$6,FALSE),3),\"-\")","v":1.859},{"$f":"IFERROR(VLOOKUP(CONCATENATE(H$5,$C16),'trend data'!$A$2:$O$11161,H$6,FALSE),\"-\")","v":7},{"$f":"IFERROR(ROUND(VLOOKUP(CONCATENATE(I$5,$C16),'trend data'!$A$2:$O$11161,I$6,FALSE),3),\"-\")","v":0.32200000000000001},{"$f":"IFERROR(ROUND(VLOOKUP(CONCATENATE(J$5,$C16),'trend data'!$A$2:$O$11161,J$6,FALSE),3),\"-\")","v":0.156},{"$f":"IFERROR(ROUND(VLOOKUP(CONCATENATE(K$5,$C16),'trend data'!$A$2:$O$11161,K$6,FALSE),3),\"-\")","v":0.66300000000000003},{"$f":"IFERROR(VLOOKUP(CONCATENATE(L$5,$C16),'trend data'!$A$2:$O$11161,L$6,FALSE),\"-\")","v":4023},{"$f":"IFERROR(VLOOKUP(CONCATENATE(M$5,$C16),'trend data'!$A$2:$O$11161,M$6,FALSE),\"-\")","v":2173},null,null,null,"202004",{"$f":"CONCATENATE(U$7,$Q16,'SSI Data and Charts'!B$1)","v":"SSICSEC202004Scotland"},8,"2020-12-28",{"$f":"ROUND(VLOOKUP($R16,'data for u-p-charts'!$A$2:$F$5000,U$5,FALSE),2)","v":{"$error":"#N/A"}},{"$f":"ROUND(VLOOKUP($R16,'data for u-p-charts'!$A$2:$F$5000,V$5,FALSE),2)","v":{"$error":"#N/A"}},{"$f":"ROUND(VLOOKUP($R16,'data for u-p-charts'!$A$2:$F$5000,W$5,FALSE),2)","v":{"$error":"#N/A"}},{"$f":"ROUND(VLOOKUP($R16,'data for u-p-charts'!$A$2:$F$5000,X$5,FALSE),2)","v":{"$error":"#N/A"}},{"$f":"CONCATENATE(Z$7,$Q16,'SSI Data and Charts'!$B$1)","v":"SSIHIP202004Scotland"},{"$f":"ROUND(VLOOKUP($Y16,'data for u-p-charts'!$A$2:$F$5000,Z$5,FALSE),2)","v":{"$error":"#N/A"}},{"$f":"ROUND(VLOOKUP($Y16,'data for u-p-charts'!$A$2:$F$5000,AA$5,FALSE),2)","v":{"$error":"#N/A"}},{"$f":"ROUND(VLOOKUP($Y16,'data for u-p-charts'!$A$2:$F$5000,AB$5,FALSE),2)","v":{"$error":"#N/A"}},{"$f":"ROUND(VLOOKUP($Y16,'data for u-p-charts'!$A$2:$F$5000,AC$5,FALSE),2)","v":{"$error":"#N/A"}}]
[201602,"2016-06-24",{"$f":"CONCATENATE(A17,'SSI Data and Charts'!B$1)","v":"201602Scotland"},{"$f":"IFERROR(VLOOKUP(CONCATENATE(D$5,$C17),'trend data'!$A$2:$O$11161,D$6,FALSE),\"-\")","v":78},{"$f":"IFERROR(ROUND(VLOOKUP(CONCATENATE(E$5,$C17),'trend data'!$A$2:$O$11161,E$6,FALSE),3),\"-\")","v":1.754},{"$f":"IFERROR(ROUND(VLOOKUP(CONCATENATE(F$5,$C17),'trend data'!$A$2:$O$11161,F$6,FALSE),3),\"-\")","v":1.407},{"$f":"IFERROR(ROUND(VLOOKUP(CONCATENATE(G$5,$C17),'trend data'!$A$2:$O$11161,G$6,FALSE),3),\"-\")","v":2.1829999999999998},{"$f":"IFERROR(VLOOKUP(CONCATENATE(H$5,$C17),'trend data'!$A$2:$O$11161,H$6,FALSE),\"-\")","v":17},{"$f":"IFERROR(ROUND(VLOOKUP(CONCATENATE(I$5,$C17),'trend data'!$A$2:$O$11161,I$6,FALSE),3),\"-\")","v":0.73299999999999998},{"$f":"IFERROR(ROUND(VLOOKUP(CONCATENATE(J$5,$C17),'trend data'!$A$2:$O$11161,J$6,FALSE),3),\"-\")","v":0.45800000000000002},{"$f":"IFERROR(ROUND(VLOOKUP(CONCATENATE(K$5,$C17),'trend data'!$A$2:$O$11161,K$6,FALSE),3),\"-\")","v":1.171},{"$f":"IFERROR(VLOOKUP(CONCATENATE(L$5,$C17),'trend data'!$A$2:$O$11161,L$6,FALSE),\"-\")","v":4448},{"$f":"IFERROR(VLOOKUP(CONCATENATE(M$5,$C17),'trend data'!$A$2:$O$11161,M$6,FALSE),\"-\")","v":2318},null,null,null,"202101",{"$f":"CONCATENATE(U$7,$Q17,'SSI Data and Charts'!B$1)","v":"SSICSEC202101Scotland"},9,"2021-03-30",{"$f":"ROUND(VLOOKUP($R17,'data for u-p-charts'!$A$2:$F$5000,U$5,FALSE),2)","v":{"$error":"#N/A"}},{"$f":"ROUND(VLOOKUP($R17,'data for u-p-charts'!$A$2:$F$5000,V$5,FALSE),2)","v":{"$error":"#N/A"}},{"$f":"ROUND(VLOOKUP($R17,'data for u-p-charts'!$A$2:$F$5000,W$5,FALSE),2)","v":{"$error":"#N/A"}},{"$f":"ROUND(VLOOKUP($R17,'data for u-p-charts'!$A$2:$F$5000,X$5,FALSE),2)","v":{"$error":"#N/A"}},{"$f":"CONCATENATE(Z$7,$Q17,'SSI Data and Charts'!$B$1)","v":"SSIHIP202101Scotland"},{"$f":"ROUND(VLOOKUP($Y17,'data for u-p-charts'!$A$2:$F$5000,Z$5,FALSE),2)","v":{"$error":"#N/A"}},{"$f":"ROUND(VLOOKUP($Y17,'data for u-p-charts'!$A$2:$F$5000,AA$5,FALSE),2)","v":{"$error":"#N/A"}},{"$f":"ROUND(VLOOKUP($Y17,'data for u-p-charts'!$A$2:$F$5000,AB$5,FALSE),2)","v":{"$error":"#N/A"}},{"$f":"ROUND(VLOOKUP($Y17,'data for u-p-charts'!$A$2:$F$5000,AC$5,FALSE),2)","v":{"$error":"#N/A"}}]
[201603,"2016-09-24",{"$f":"CONCATENATE(A18,'SSI Data and Charts'!B$1)","v":"201603Scotland"},{"$f":"IFERROR(VLOOKUP(CONCATENATE(D$5,$C18),'trend data'!$A$2:$O$11161,D$6,FALSE),\"-\")","v":71},{"$f":"IFERROR(ROUND(VLOOKUP(CONCATENATE(E$5,$C18),'trend data'!$A$2:$O$11161,E$6,FALSE),3),\"-\")","v":1.597},{"$f":"IFERROR(ROUND(VLOOKUP(CONCATENATE(F$5,$C18),'trend data'!$A$2:$O$11161,F$6,FALSE),3),\"-\")","v":1.268},{"$f":"IFERROR(ROUND(VLOOKUP(CONCATENATE(G$5,$C18),'trend data'!$A$2:$O$11161,G$6,FALSE),3),\"-\")","v":2.0089999999999999},{"$f":"IFERROR(VLOOKUP(CONCATENATE(H$5,$C18),'trend data'!$A$2:$O$11161,H$6,FALSE),\"-\")","v":14},{"$f":"IFERROR(ROUND(VLOOKUP(CONCATENATE(I$5,$C18),'trend data'!$A$2:$O$11161,I$6,FALSE),3),\"-\")","v":0.65},{"$f":"IFERROR(ROUND(VLOOKUP(CONCATENATE(J$5,$C18),'trend data'!$A$2:$O$11161,J$6,FALSE),3),\"-\")","v":0.38800000000000001},{"$f":"IFERROR(ROUND(VLOOKUP(CONCATENATE(K$5,$C18),'trend data'!$A$2:$O$11161,K$6,FALSE),3),\"-\")","v":1.089},{"$f":"IFERROR(VLOOKUP(CONCATENATE(L$5,$C18),'trend data'!$A$2:$O$11161,L$6,FALSE),\"-\")","v":4446},{"$f":"IFERROR(VLOOKUP(CONCATENATE(M$5,$C18),'trend data'!$A$2:$O$11161,M$6,FALSE),\"-\")","v":2153},null,null,null,"202102",{"$f":"CONCATENATE(U$7,$Q18,'SSI Data and Charts'!B$1)","v":"SSICSEC202102Scotland"},10,"2021-06-30",{"$f":"ROUND(VLOOKUP($R18,'data for u-p-charts'!$A$2:$F$5000,U$5,FALSE),2)","v":{"$error":"#N/A"}},{"$f":"ROUND(VLOOKUP($R18,'data for u-p-charts'!$A$2:$F$5000,V$5,FALSE),2)","v":{"$error":"#N/A"}},{"$f":"ROUND(VLOOKUP($R18,'data for u-p-charts'!$A$2:$F$5000,W$5,FALSE),2)","v":{"$error":"#N/A"}},{"$f":"ROUND(VLOOKUP($R18,'data for u-p-charts'!$A$2:$F$5000,X$5,FALSE),2)","v":{"$error":"#N/A"}},{"$f":"CONCATENATE(Z$7,$Q18,'SSI Data and Charts'!$B$1)","v":"SSIHIP202102Scotland"},{"$f":"ROUND(VLOOKUP($Y18,'data for u-p-charts'!$A$2:$F$5000,Z$5,FALSE),2)","v":{"$error":"#N/A"}},{"$f":"ROUND(VLOOKUP($Y18,'data for u-p-charts'!$A$2:$F$5000,AA$5,FALSE),2)","v":{"$error":"#N/A"}},{"$f":"ROUND(VLOOKUP($Y18,'data for u-p-charts'!$A$2:$F$5000,AB$5,FALSE),2)","v":{"$error":"#N/A"}},{"$f":"ROUND(VLOOKUP($Y18,'data for u-p-charts'!$A$2:$F$5000,AC$5,FALSE),2)","v":{"$error":"#N/A"}}]
[201604,"2016-12-24",{"$f":"CONCATENATE(A19,'SSI Data and Charts'!B$1)","v":"201604Scotland"},{"$f":"IFERROR(VLOOKUP(CONCATENATE(D$5,$C19),'trend data'!$A$2:$O$11161,D$6,FALSE),\"-\")","v":51},{"$f":"IFERROR(ROUND(VLOOKUP(CONCATENATE(E$5,$C19),'trend data'!$A$2:$O$11161,E$6,FALSE),3),\"-\")","v":1.198},{"$f":"IFERROR(ROUND(VLOOKUP(CONCATENATE(F$5,$C19),'trend data'!$A$2:$O$11161,F$6,FALSE),3),\"-\")","v":0.91200000000000003},{"$f":"IFERROR(ROUND(VLOOKUP(CONCATENATE(G$5,$C19),'trend data'!$A$2:$O$11161,G$6,FALSE),3),\"-\")","v":1.571},{"$f":"IFERROR(VLOOKUP(CONCATENATE(H$5,$C19),'trend data'!$A$2:$O$11161,H$6,FALSE),\"-\")","v":17},{"$f":"IFERROR(ROUND(VLOOKUP(CONCATENATE(I$5,$C19),'trend data'!$A$2:$O$11161,I$6,FALSE),3),\"-\")","v":0.76400000000000001},{"$f":"IFERROR(ROUND(VLOOKUP(CONCATENATE(J$5,$C19),'trend data'!$A$2:$O$11161,J$6,FALSE),3),\"-\")","v":0.47699999999999998},{"$f":"IFERROR(ROUND(VLOOKUP(CONCATENATE(K$5,$C19),'trend data'!$A$2:$O$11161,K$6,FALSE),3),\"-\")","v":1.22},{"$f":"IFERROR(VLOOKUP(CONCATENATE(L$5,$C19),'trend data'!$A$2:$O$11161,L$6,FALSE),\"-\")","v":4258},{"$f":"IFERROR(VLOOKUP(CONCATENATE(M$5,$C19),'trend data'!$A$2:$O$11161,M$6,FALSE),\"-\")","v":2226},null,null,null,"202103",{"$f":"CONCATENATE(U$7,$Q19,'SSI Data and Charts'!B$1)","v":"SSICSEC202103Scotland"},11,{"$f":"T20-92","v":"2021-09-30"},{"$f":"ROUND(VLOOKUP($R19,'data for u-p-charts'!$A$2:$F$5000,U$5,FALSE),2)","v":{"$error":"#N/A"}},{"$f":"ROUND(VLOOKUP($R19,'data for u-p-charts'!$A$2:$F$5000,V$5,FALSE),2)","v":{"$error":"#N/A"}},{"$f":"ROUND(VLOOKUP($R19,'data for u-p-charts'!$A$2:$F$5000,W$5,FALSE),2)","v":{"$error":"#N/A"}},{"$f":"ROUND(VLOOKUP($R19,'data for u-p-charts'!$A$2:$F$5000,X$5,FALSE),2)","v":{"$error":"#N/A"}},{"$f":"CONCATENATE(Z$7,$Q19,'SSI Data and Charts'!$B$1)","v":"SSIHIP202103Scotland"},{"$f":"ROUND(VLOOKUP($Y19,'data for u-p-charts'!$A$2:$F$5000,Z$5,FALSE),2)","v":{"$error":"#N/A"}},{"$f":"ROUND(VLOOKUP($Y19,'data for u-p-charts'!$A$2:$F$5000,AA$5,FALSE),2)","v":{"$error":"#N/A"}},{"$f":"ROUND(VLOOKUP($Y19,'data for u-p-charts'!$A$2:$F$5000,AB$5,FALSE),2)","v":{"$error":"#N/A"}},{"$f":"ROUND(VLOOKUP($Y19,'data for u-p-charts'!$A$2:$F$5000,AC$5,FALSE),2)","v":{"$error":"#N/A"}}]
[201701,"2017-03-01",{"$f":"CONCATENATE(A20,'SSI Data and Charts'!B$1)","v":"201701Scotland"},{"$f":"IFERROR(VLOOKUP(CONCATENATE(D$5,$C20),'trend data'!$A$2:$O$11161,D$6,FALSE),\"-\")","v":58},{"$f":"IFERROR(ROUND(VLOOKUP(CONCATENATE(E$5,$C20),'trend data'!$A$2:$O$11161,E$6,FALSE),3),\"-\")","v":1.4330000000000001},{"$f":"IFERROR(ROUND(VLOOKUP(CONCATENATE(F$5,$C20),'trend data'!$A$2:$O$11161,F$6,FALSE),3),\"-\")","v":1.1100000000000001},{"$f":"IFERROR(ROUND(VLOOKUP(CONCATENATE(G$5,$C20),'trend data'!$A$2:$O$11161,G$6,FALSE),3),\"-\")","v":1.8480000000000001},{"$f":"IFERROR(VLOOKUP(CONCATENATE(H$5,$C20),'trend data'!$A$2:$O$11161,H$6,FALSE),\"-\")","v":12},{"$f":"IFERROR(ROUND(VLOOKUP(CONCATENATE(I$5,$C20),'trend data'!$A$2:$O$11161,I$6,FALSE),3),\"-\")","v":0.55500000000000005},{"$f":"IFERROR(ROUND(VLOOKUP(CONCATENATE(J$5,$C20),'trend data'!$A$2:$O$11161,J$6,FALSE),3),\"-\")","v":0.317},{"$f":"IFERROR(ROUND(VLOOKUP(CONCATENATE(K$5,$C20),'trend data'!$A$2:$O$11161,K$6,FALSE),3),\"-\")","v":0.96699999999999997},{"$f":"IFERROR(VLOOKUP(CONCATENATE(L$5,$C20),'trend data'!$A$2:$O$11161,L$6,FALSE),\"-\")","v":4047},{"$f":"IFERROR(VLOOKUP(CONCATENATE(M$5,$C20),'trend data'!$A$2:$O$11161,M$6,FALSE),\"-\")","v":2164},null,null,null,"202104",{"$f":"CONCATENATE(U$7,$Q20,'SSI Data and Charts'!B$1)","v":"SSICSEC202104Scotland"},12,{"$f":"T5","v":"2021-12-31"},{"$f":"ROUND(VLOOKUP($R20,'data for u-p-charts'!$A$2:$F$5000,U$5,FALSE),2)","v":{"$error":"#N/A"}},{"$f":"ROUND(VLOOKUP($R20,'data for u-p-charts'!$A$2:$F$5000,V$5,FALSE),2)","v":{"$error":"#N/A"}},{"$f":"ROUND(VLOOKUP($R20,'data for u-p-charts'!$A$2:$F$5000,W$5,FALSE),2)","v":{"$error":"#N/A"}},{"$f":"ROUND(VLOOKUP($R20,'data for u-p-charts'!$A$2:$F$5000,X$5,FALSE),2)","v":{"$error":"#N/A"}},{"$f":"CONCATENATE(Z$7,$Q20,'SSI Data and Charts'!$B$1)","v":"SSIHIP202104Scotland"},{"$f":"ROUND(VLOOKUP($Y20,'data for u-p-charts'!$A$2:$F$5000,Z$5,FALSE),2)","v":{"$error":"#N/A"}},{"$f":"ROUND(VLOOKUP($Y20,'data for u-p-charts'!$A$2:$F$5000,AA$5,FALSE),2)","v":{"$error":"#N/A"}},{"$f":"ROUND(VLOOKUP($Y20,'data for u-p-charts'!$A$2:$F$5000,AB$5,FALSE),2)","v":{"$error":"#N/A"}},{"$f":"ROUND(VLOOKUP($Y20,'data for u-p-charts'!$A$2:$F$5000,AC$5,FALSE),2)","v":{"$error":"#N/A"}}]
[201702,"2017-06-01",{"$f":"CONCATENATE(A21,'SSI Data and Charts'!B$1)","v":"201702Scotland"},{"$f":"IFERROR(VLOOKUP(CONCATENATE(D$5,$C21),'trend data'!$A$2:$O$11161,D$6,FALSE),\"-\")","v":51},{"$f":"IFERROR(ROUND(VLOOKUP(CONCATENATE(E$5,$C21),'trend data'!$A$2:$O$11161,E$6,FALSE),3),\"-\")","v":1.2390000000000001},{"$f":"IFERROR(ROUND(VLOOKUP(CONCATENATE(F$5,$C21),'trend data'!$A$2:$O$11161,F$6,FALSE),3),\"-\")","v":0.94399999999999995},{"$f":"IFERROR(ROUND(VLOOKUP(CONCATENATE(G$5,$C21),'trend data'!$A$2:$O$11161,G$6,FALSE),3),\"-\")","v":1.6259999999999999},{"$f":"IFERROR(VLOOKUP(CONCATENATE(H$5,$C21),'trend data'!$A$2:$O$11161,H$6,FALSE),\"-\")","v":19},{"$f":"IFERROR(ROUND(VLOOKUP(CONCATENATE(I$5,$C21),'trend data'!$A$2:$O$11161,I$6,FALSE),3),\"-\")","v":0.82599999999999996},{"$f":"IFERROR(ROUND(VLOOKUP(CONCATENATE(J$5,$C21),'trend data'!$A$2:$O$11161,J$6,FALSE),3),\"-\")","v":0.52900000000000003},{"$f":"IFERROR(ROUND(VLOOKUP(CONCATENATE(K$5,$C21),'trend data'!$A$2:$O$11161,K$6,FALSE),3),\"-\")","v":1.286},{"$f":"IFERROR(VLOOKUP(CONCATENATE(L$5,$C21),'trend data'!$A$2:$O$11161,L$6,FALSE),\"-\")","v":4115},{"$f":"IFERROR(VLOOKUP(CONCATENATE(M$5,$C21),'trend data'!$A$2:$O$11161,M$6,FALSE),\"-\")","v":2301}]
[201703,"2017-09-01",{"$f":"CONCATENATE(A22,'SSI Data and Charts'!B$1)","v":"201703Scotland"},{"$f":"IFERROR(VLOOKUP(CONCATENATE(D$5,$C22),'trend data'!$A$2:$O$11161,D$6,FALSE),\"-\")","v":58},{"$f":"IFERROR(ROUND(VLOOKUP(CONCATENATE(E$5,$C22),'trend data'!$A$2:$O$11161,E$6,FALSE),3),\"-\")","v":1.2849999999999999},{"$f":"IFERROR(ROUND(VLOOKUP(CONCATENATE(F$5,$C22),'trend data'!$A$2:$O$11161,F$6,FALSE),3),\"-\")","v":0.995},{"$f":"IFERROR(ROUND(VLOOKUP(CONCATENATE(G$5,$C22),'trend data'!$A$2:$O$11161,G$6,FALSE),3),\"-\")","v":1.657},{"$f":"IFERROR(VLOOKUP(CONCATENATE(H$5,$C22),'trend data'!$A$2:$O$11161,H$6,FALSE),\"-\")","v":9},{"$f":"IFERROR(ROUND(VLOOKUP(CONCATENATE(I$5,$C22),'trend data'!$A$2:$O$11161,I$6,FALSE),3),\"-\")","v":0.433},{"$f":"IFERROR(ROUND(VLOOKUP(CONCATENATE(J$5,$C22),'trend data'!$A$2:$O$11161,J$6,FALSE),3),\"-\")","v":0.22800000000000001},{"$f":"IFERROR(ROUND(VLOOKUP(CONCATENATE(K$5,$C22),'trend data'!$A$2:$O$11161,K$6,FALSE),3),\"-\")","v":0.82199999999999995},{"$f":"IFERROR(VLOOKUP(CONCATENATE(L$5,$C22),'trend data'!$A$2:$O$11161,L$6,FALSE),\"-\")","v":4514},{"$f":"IFERROR(VLOOKUP(CONCATENATE(M$5,$C22),'trend data'!$A$2:$O$11161,M$6,FALSE),\"-\")","v":2077}]
[201704,"2017-12-01",{"$f":"CONCATENATE(A23,'SSI Data and Charts'!B$1)","v":"201704Scotland"},{"$f":"IFERROR(VLOOKUP(CONCATENATE(D$5,$C23),'trend data'!$A$2:$O$11161,D$6,FALSE),\"-\")","v":66},{"$f":"IFERROR(ROUND(VLOOKUP(CONCATENATE(E$5,$C23),'trend data'!$A$2:$O$11161,E$6,FALSE),3),\"-\")","v":1.5629999999999999},{"$f":"IFERROR(ROUND(VLOOKUP(CONCATENATE(F$5,$C23),'trend data'!$A$2:$O$11161,F$6,FALSE),3),\"-\")","v":1.23},{"$f":"IFERROR(ROUND(VLOOKUP(CONCATENATE(G$5,$C23),'trend data'!$A$2:$O$11161,G$6,FALSE),3),\"-\")","v":1.9830000000000001},{"$f":"IFERROR(VLOOKUP(CONCATENATE(H$5,$C23),'trend data'!$A$2:$O$11161,H$6,FALSE),\"-\")","v":16},{"$f":"IFERROR(ROUND(VLOOKUP(CONCATENATE(I$5,$C23),'trend data'!$A$2:$O$11161,I$6,FALSE),3),\"-\")","v":0.77300000000000002},{"$f":"IFERROR(ROUND(VLOOKUP(CONCATENATE(J$5,$C23),'trend data'!$A$2:$O$11161,J$6,FALSE),3),\"-\")","v":0.47599999999999998},{"$f":"IFERROR(ROUND(VLOOKUP(CONCATENATE(K$5,$C23),'trend data'!$A$2:$O$11161,K$6,FALSE),3),\"-\")","v":1.2509999999999999},{"$f":"IFERROR(VLOOKUP(CONCATENATE(L$5,$C23),'trend data'!$A$2:$O$11161,L$6,FALSE),\"-\")","v":4224},{"$f":"IFERROR(VLOOKUP(CONCATENATE(M$5,$C23),'trend data'!$A$2:$O$11161,M$6,FALSE),\"-\")","v":2071}]
[201801,"2018-03-01",{"$f":"CONCATENATE(A24,'SSI Data and Charts'!B$1)","v":"201801Scotland"},{"$f":"IFERROR(VLOOKUP(CONCATENATE(D$5,$C24),'trend data'!$A$2:$O$11161,D$6,FALSE),\"-\")","v":64},{"$f":"IFERROR(ROUND(VLOOKUP(CONCATENATE(E$5,$C24),'trend data'!$A$2:$O$11161,E$6,FALSE),3),\"-\")","v":1.61},{"$f":"IFERROR(ROUND(VLOOKUP(CONCATENATE(F$5,$C24),'trend data'!$A$2:$O$11161,F$6,FALSE),3),\"-\")","v":1.2629999999999999},{"$f":"IFERROR(ROUND(VLOOKUP(CONCATENATE(G$5,$C24),'trend data'!$A$2:$O$11161,G$6,FALSE),3),\"-\")","v":2.0510000000000002},{"$f":"IFERROR(VLOOKUP(CONCATENATE(H$5,$C24),'trend data'!$A$2:$O$11161,H$6,FALSE),\"-\")","v":17},{"$f":"IFERROR(ROUND(VLOOKUP(CONCATENATE(I$5,$C24),'trend data'!$A$2:$O$11161,I$6,FALSE),3),\"-\")","v":0.84699999999999998},{"$f":"IFERROR(ROUND(VLOOKUP(CONCATENATE(J$5,$C24),'trend data'!$A$2:$O$11161,J$6,FALSE),3),\"-\")","v":0.52900000000000003},{"$f":"IFERROR(ROUND(VLOOKUP(CONCATENATE(K$5,$C24),'trend data'!$A$2:$O$11161,K$6,FALSE),3),\"-\")","v":1.3520000000000001},{"$f":"IFERROR(VLOOKUP(CONCATENATE(L$5,$C24),'trend data'!$A$2:$O$11161,L$6,FALSE),\"-\")","v":3975},{"$f":"IFERROR(VLOOKUP(CONCATENATE(M$5,$C24),'trend data'!$A$2:$O$11161,M$6,FALSE),\"-\")","v":2008}]
[201802,"2018-06-01",{"$f":"CONCATENATE(A25,'SSI Data and Charts'!B$1)","v":"201802Scotland"},{"$f":"IFERROR(VLOOKUP(CONCATENATE(D$5,$C25),'trend data'!$A$2:$O$11161,D$6,FALSE),\"-\")","v":61},{"$f":"IFERROR(ROUND(VLOOKUP(CONCATENATE(E$5,$C25),'trend data'!$A$2:$O$11161,E$6,FALSE),3),\"-\")","v":1.4550000000000001},{"$f":"IFERROR(ROUND(VLOOKUP(CONCATENATE(F$5,$C25),'trend data'!$A$2:$O$11161,F$6,FALSE),3),\"-\")","v":1.135},{"$f":"IFERROR(ROUND(VLOOKUP(CONCATENATE(G$5,$C25),'trend data'!$A$2:$O$11161,G$6,FALSE),3),\"-\")","v":1.865},{"$f":"IFERROR(VLOOKUP(CONCATENATE(H$5,$C25),'trend data'!$A$2:$O$11161,H$6,FALSE),\"-\")","v":18},{"$f":"IFERROR(ROUND(VLOOKUP(CONCATENATE(I$5,$C25),'trend data'!$A$2:$O$11161,I$6,FALSE),3),\"-\")","v":0.79300000000000004},{"$f":"IFERROR(ROUND(VLOOKUP(CONCATENATE(J$5,$C25),'trend data'!$A$2:$O$11161,J$6,FALSE),3),\"-\")","v":0.502},{"$f":"IFERROR(ROUND(VLOOKUP(CONCATENATE(K$5,$C25),'trend data'!$A$2:$O$11161,K$6,FALSE),3),\"-\")","v":1.25},{"$f":"IFERROR(VLOOKUP(CONCATENATE(L$5,$C25),'trend data'!$A$2:$O$11161,L$6,FALSE),\"-\")","v":4191},{"$f":"IFERROR(VLOOKUP(CONCATENATE(M$5,$C25),'trend data'!$A$2:$O$11161,M$6,FALSE),\"-\")","v":2270}]
[201803,"2018-09-01",{"$f":"CONCATENATE(A26,'SSI Data and Charts'!B$1)","v":"201803Scotland"},{"$f":"IFERROR(VLOOKUP(CONCATENATE(D$5,$C26),'trend data'!$A$2:$O$11161,D$6,FALSE),\"-\")","v":66},{"$f":"IFERROR(ROUND(VLOOKUP(CONCATENATE(E$5,$C26),'trend data'!$A$2:$O$11161,E$6,FALSE),3),\"-\")","v":1.5369999999999999},{"$f":"IFERROR(ROUND(VLOOKUP(CONCATENATE(F$5,$C26),'trend data'!$A$2:$O$11161,F$6,FALSE),3),\"-\")","v":1.21},{"$f":"IFERROR(ROUND(VLOOKUP(CONCATENATE(G$5,$C26),'trend data'!$A$2:$O$11161,G$6,FALSE),3),\"-\")","v":1.9510000000000001},{"$f":"IFERROR(VLOOKUP(CONCATENATE(H$5,$C26),'trend data'!$A$2:$O$11161,H$6,FALSE),\"-\")","v":13},{"$f":"IFERROR(ROUND(VLOOKUP(CONCATENATE(I$5,$C26),'trend data'!$A$2:$O$11161,I$6,FALSE),3),\"-\")","v":0.60299999999999998},{"$f":"IFERROR(ROUND(VLOOKUP(CONCATENATE(J$5,$C26),'trend data'!$A$2:$O$11161,J$6,FALSE),3),\"-\")","v":0.35299999999999998},{"$f":"IFERROR(ROUND(VLOOKUP(CONCATENATE(K$5,$C26),'trend data'!$A$2:$O$11161,K$6,FALSE),3),\"-\")","v":1.0289999999999999},{"$f":"IFERROR(VLOOKUP(CONCATENATE(L$5,$C26),'trend data'!$A$2:$O$11161,L$6,FALSE),\"-\")","v":4293},{"$f":"IFERROR(VLOOKUP(CONCATENATE(M$5,$C26),'trend data'!$A$2:$O$11161,M$6,FALSE),\"-\")","v":2155}]
[201804,"2018-12-01",{"$f":"CONCATENATE(A27,'SSI Data and Charts'!B$1)","v":"201804Scotland"},{"$f":"IFERROR(VLOOKUP(CONCATENATE(D$5,$C27),'trend data'!$A$2:$O$11161,D$6,FALSE),\"-\")","v":59},{"$f":"IFERROR(ROUND(VLOOKUP(CONCATENATE(E$5,$C27),'trend data'!$A$2:$O$11161,E$6,FALSE),3),\"-\")","v":1.3580000000000001},{"$f":"IFERROR(ROUND(VLOOKUP(CONCATENATE(F$5,$C27),'trend data'!$A$2:$O$11161,F$6,FALSE),3),\"-\")","v":1.054},{"$f":"IFERROR(ROUND(VLOOKUP(CONCATENATE(G$5,$C27),'trend data'!$A$2:$O$11161,G$6,FALSE),3),\"-\")","v":1.7470000000000001},{"$f":"IFERROR(VLOOKUP(CONCATENATE(H$5,$C27),'trend data'!$A$2:$O$11161,H$6,FALSE),\"-\")","v":16},{"$f":"IFERROR(ROUND(VLOOKUP(CONCATENATE(I$5,$C27),'trend data'!$A$2:$O$11161,I$6,FALSE),3),\"-\")","v":0.70299999999999996},{"$f":"IFERROR(ROUND(VLOOKUP(CONCATENATE(J$5,$C27),'trend data'!$A$2:$O$11161,J$6,FALSE),3),\"-\")","v":0.433},{"$f":"IFERROR(ROUND(VLOOKUP(CONCATENATE(K$5,$C27),'trend data'!$A$2:$O$11161,K$6,FALSE),3),\"-\")","v":1.139},{"$f":"IFERROR(VLOOKUP(CONCATENATE(L$5,$C27),'trend data'!$A$2:$O$11161,L$6,FALSE),\"-\")","v":4346},{"$f":"IFERROR(VLOOKUP(CONCATENATE(M$5,$C27),'trend data'!$A$2:$O$11161,M$6,FALSE),\"-\")","v":2276}]
[201901,"2019-03-01",{"$f":"CONCATENATE(A28,'SSI Data and Charts'!B$1)","v":"201901Scotland"},{"$f":"IFERROR(VLOOKUP(CONCATENATE(D$5,$C28),'trend data'!$A$2:$O$11161,D$6,FALSE),\"-\")","v":64},{"$f":"IFERROR(ROUND(VLOOKUP(CONCATENATE(E$5,$C28),'trend data'!$A$2:$O$11161,E$6,FALSE),3),\"-\")","v":1.58},{"$f":"IFERROR(ROUND(VLOOKUP(CONCATENATE(F$5,$C28),'trend data'!$A$2:$O$11161,F$6,FALSE),3),\"-\")","v":1.2390000000000001},{"$f":"IFERROR(ROUND(VLOOKUP(CONCATENATE(G$5,$C28),'trend data'!$A$2:$O$11161,G$6,FALSE),3),\"-\")","v":2.012},{"$f":"IFERROR(VLOOKUP(CONCATENATE(H$5,$C28),'trend data'!$A$2:$O$11161,H$6,FALSE),\"-\")","v":8},{"$f":"IFERROR(ROUND(VLOOKUP(CONCATENATE(I$5,$C28),'trend data'!$A$2:$O$11161,I$6,FALSE),3),\"-\")","v":0.373},{"$f":"IFERROR(ROUND(VLOOKUP(CONCATENATE(J$5,$C28),'trend data'!$A$2:$O$11161,J$6,FALSE),3),\"-\")","v":0.189},{"$f":"IFERROR(ROUND(VLOOKUP(CONCATENATE(K$5,$C28),'trend data'!$A$2:$O$11161,K$6,FALSE),3),\"-\")","v":0.73399999999999999},{"$f":"IFERROR(VLOOKUP(CONCATENATE(L$5,$C28),'trend data'!$A$2:$O$11161,L$6,FALSE),\"-\")","v":4051},{"$f":"IFERROR(VLOOKUP(CONCATENATE(M$5,$C28),'trend data'!$A$2:$O$11161,M$6,FALSE),\"-\")","v":2146}]
[201902,"2019-06-01",{"$f":"CONCATENATE(A29,'SSI Data and Charts'!B$1)","v":"201902Scotland"},{"$f":"IFERROR(VLOOKUP(CONCATENATE(D$5,$C29),'trend data'!$A$2:$O$11161,D$6,FALSE),\"-\")","v":43},{"$f":"IFERROR(ROUND(VLOOKUP(CONCATENATE(E$5,$C29),'trend data'!$A$2:$O$11161,E$6,FALSE),3),\"-\")","v":1.044},{"$f":"IFERROR(ROUND(VLOOKUP(CONCATENATE(F$5,$C29),'trend data'!$A$2:$O$11161,F$6,FALSE),3),\"-\")","v":0.77600000000000002},{"$f":"IFERROR(ROUND(VLOOKUP(CONCATENATE(G$5,$C29),'trend data'!$A$2:$O$11161,G$6,FALSE),3),\"-\")","v":1.403},{"$f":"IFERROR(VLOOKUP(CONCATENATE(H$5,$C29),'trend data'!$A$2:$O$11161,H$6,FALSE),\"-\")","v":10},{"$f":"IFERROR(ROUND(VLOOKUP(CONCATENATE(I$5,$C29),'trend data'!$A$2:$O$11161,I$6,FALSE),3),\"-\")","v":0.443},{"$f":"IFERROR(ROUND(VLOOKUP(CONCATENATE(J$5,$C29),'trend data'!$A$2:$O$11161,J$6,FALSE),3),\"-\")","v":0.24099999999999999},{"$f":"IFERROR(ROUND(VLOOKUP(CONCATENATE(K$5,$C29),'trend data'!$A$2:$O$11161,K$6,FALSE),3),\"-\")","v":0.81399999999999995},{"$f":"IFERROR(VLOOKUP(CONCATENATE(L$5,$C29),'trend data'!$A$2:$O$11161,L$6,FALSE),\"-\")","v":4118},{"$f":"IFERROR(VLOOKUP(CONCATENATE(M$5,$C29),'trend data'!$A$2:$O$11161,M$6,FALSE),\"-\")","v":2257}]
[201903,"2019-09-01",{"$f":"CONCATENATE(A30,'SSI Data and Charts'!B$1)","v":"201903Scotland"},{"$f":"IFERROR(VLOOKUP(CONCATENATE(D$5,$C30),'trend data'!$A$2:$O$11161,D$6,FALSE),\"-\")","v":51},{"$f":"IFERROR(ROUND(VLOOKUP(CONCATENATE(E$5,$C30),'trend data'!$A$2:$O$11161,E$6,FALSE),3),\"-\")","v":1.157},{"$f":"IFERROR(ROUND(VLOOKUP(CONCATENATE(F$5,$C30),'trend data'!$A$2:$O$11161,F$6,FALSE),3),\"-\")","v":0.88100000000000001},{"$f":"IFERROR(ROUND(VLOOKUP(CONCATENATE(G$5,$C30),'trend data'!$A$2:$O$11161,G$6,FALSE),3),\"-\")","v":1.518},{"$f":"IFERROR(VLOOKUP(CONCATENATE(H$5,$C30),'trend data'!$A$2:$O$11161,H$6,FALSE),\"-\")","v":17},{"$f":"IFERROR(ROUND(VLOOKUP(CONCATENATE(I$5,$C30),'trend data'!$A$2:$O$11161,I$6,FALSE),3),\"-\")","v":0.80200000000000005},{"$f":"IFERROR(ROUND(VLOOKUP(CONCATENATE(J$5,$C30),'trend data'!$A$2:$O$11161,J$6,FALSE),3),\"-\")","v":0.501},{"$f":"IFERROR(ROUND(VLOOKUP(CONCATENATE(K$5,$C30),'trend data'!$A$2:$O$11161,K$6,FALSE),3),\"-\")","v":1.28},{"$f":"IFERROR(VLOOKUP(CONCATENATE(L$5,$C30),'trend data'!$A$2:$O$11161,L$6,FALSE),\"-\")","v":4408},{"$f":"IFERROR(VLOOKUP(CONCATENATE(M$5,$C30),'trend data'!$A$2:$O$11161,M$6,FALSE),\"-\")","v":2121}]
[201904,"2019-12-01",{"$f":"CONCATENATE(A31,'SSI Data and Charts'!B$1)","v":"201904Scotland"},{"$f":"IFERROR(VLOOKUP(CONCATENATE(D$5,$C31),'trend data'!$A$2:$O$11161,D$6,FALSE),\"-\")","v":35},{"$f":"IFERROR(ROUND(VLOOKUP(CONCATENATE(E$5,$C31),'trend data'!$A$2:$O$11161,E$6,FALSE),3),\"-\")","v":0.85099999999999998},{"$f":"IFERROR(ROUND(VLOOKUP(CONCATENATE(F$5,$C31),'trend data'!$A$2:$O$11161,F$6,FALSE),3),\"-\")","v":0.61299999999999999},{"$f":"IFERROR(ROUND(VLOOKUP(CONCATENATE(G$5,$C31),'trend data'!$A$2:$O$11161,G$6,FALSE),3),\"-\")","v":1.181},{"$f":"IFERROR(VLOOKUP(CONCATENATE(H$5,$C31),'trend data'!$A$2:$O$11161,H$6,FALSE),\"-\")","v":17},{"$f":"IFERROR(ROUND(VLOOKUP(CONCATENATE(I$5,$C31),'trend data'!$A$2:$O$11161,I$6,FALSE),3),\"-\")","v":0.79300000000000004},{"$f":"IFERROR(ROUND(VLOOKUP(CONCATENATE(J$5,$C31),'trend data'!$A$2:$O$11161,J$6,FALSE),3),\"-\")","v":0.495},{"$f":"IFERROR(ROUND(VLOOKUP(CONCATENATE(K$5,$C31),'trend data'!$A$2:$O$11161,K$6,FALSE),3),\"-\")","v":1.266},{"$f":"IFERROR(VLOOKUP(CONCATENATE(L$5,$C31),'trend data'!$A$2:$O$11161,L$6,FALSE),\"-\")","v":4112},{"$f":"IFERROR(VLOOKUP(CONCATENATE(M$5,$C31),'trend data'!$A$2:$O$11161,M$6,FALSE),\"-\")","v":2145}]
[202001,"2020-03-01",{"$f":"CONCATENATE(A32,'SSI Data and Charts'!B$1)","v":"202001Scotland"},{"$f":"IFERROR(VLOOKUP(CONCATENATE(D$5,$C32),'trend data'!$A$2:$O$11161,D$6,FALSE),\"-\")","v":"-"},{"$f":"IFERROR(ROUND(VLOOKUP(CONCATENATE(E$5,$C32),'trend data'!$A$2:$O$11161,E$6,FALSE),3),\"-\")","v":"-"},{"$f":"IFERROR(ROUND(VLOOKUP(CONCATENATE(F$5,$C32),'trend data'!$A$2:$O$11161,F$6,FALSE),3),\"-\")","v":"-"},{"$f":"IFERROR(ROUND(VLOOKUP(CONCATENATE(G$5,$C32),'trend data'!$A$2:$O$11161,G$6,FALSE),3),\"-\")","v":"-"},{"$f":"IFERROR(VLOOKUP(CONCATENATE(H$5,$C32),'trend data'!$A$2:$O$11161,H$6,FALSE),\"-\")","v":"-"},{"$f":"IFERROR(ROUND(VLOOKUP(CONCATENATE(I$5,$C32),'trend data'!$A$2:$O$11161,I$6,FALSE),3),\"-\")","v":"-"},{"$f":"IFERROR(ROUND(VLOOKUP(CONCATENATE(J$5,$C32),'trend data'!$A$2:$O$11161,J$6,FALSE),3),\"-\")","v":"-"},{"$f":"IFERROR(ROUND(VLOOKUP(CONCATENATE(K$5,$C32),'trend data'!$A$2:$O$11161,K$6,FALSE),3),\"-\")","v":"-"},{"$f":"IFERROR(VLOOKUP(CONCATENATE(L$5,$C32),'trend data'!$A$2:$O$11161,L$6,FALSE),\"-\")","v":"-"},{"$f":"IFERROR(VLOOKUP(CONCATENATE(M$5,$C32),'trend data'!$A$2:$O$11161,M$6,FALSE),\"-\")","v":"-"}]
[202002,"2020-06-01",{"$f":"CONCATENATE(A33,'SSI Data and Charts'!B$1)","v":"202002Scotland"},{"$f":"IFERROR(VLOOKUP(CONCATENATE(D$5,$C33),'trend data'!$A$2:$O$11161,D$6,FALSE),\"-\")","v":"-"},{"$f":"IFERROR(ROUND(VLOOKUP(CONCATENATE(E$5,$C33),'trend data'!$A$2:$O$11161,E$6,FALSE),3),\"-\")","v":"-"},{"$f":"IFERROR(ROUND(VLOOKUP(CONCATENATE(F$5,$C33),'trend data'!$A$2:$O$11161,F$6,FALSE),3),\"-\")","v":"-"},{"$f":"IFERROR(ROUND(VLOOKUP(CONCATENATE(G$5,$C33),'trend data'!$A$2:$O$11161,G$6,FALSE),3),\"-\")","v":"-"},{"$f":"IFERROR(VLOOKUP(CONCATENATE(H$5,$C33),'trend data'!$A$2:$O$11161,H$6,FALSE),\"-\")","v":"-"},{"$f":"IFERROR(ROUND(VLOOKUP(CONCATENATE(I$5,$C33),'trend data'!$A$2:$O$11161,I$6,FALSE),3),\"-\")","v":"-"},{"$f":"IFERROR(ROUND(VLOOKUP(CONCATENATE(J$5,$C33),'trend data'!$A$2:$O$11161,J$6,FALSE),3),\"-\")","v":"-"},{"$f":"IFERROR(ROUND(VLOOKUP(CONCATENATE(K$5,$C33),'trend data'!$A$2:$O$11161,K$6,FALSE),3),\"-\")","v":"-"},{"$f":"IFERROR(VLOOKUP(CONCATENATE(L$5,$C33),'trend data'!$A$2:$O$11161,L$6,FALSE),\"-\")","v":"-"},{"$f":"IFERROR(VLOOKUP(CONCATENATE(M$5,$C33),'trend data'!$A$2:$O$11161,M$6,FALSE),\"-\")","v":"-"}]
[202003,"2020-09-01",{"$f":"CONCATENATE(A34,'SSI Data and Charts'!B$1)","v":"202003Scotland"},{"$f":"IFERROR(VLOOKUP(CONCATENATE(D$5,$C34),'trend data'!$A$2:$O$11161,D$6,FALSE),\"-\")","v":"-"},{"$f":"IFERROR(ROUND(VLOOKUP(CONCATENATE(E$5,$C34),'trend data'!$A$2:$O$11161,E$6,FALSE),4),\"-\")","v":"-"},{"$f":"IFERROR(ROUND(VLOOKUP(CONCATENATE(F$5,$C34),'trend data'!$A$2:$O$11161,F$6,FALSE),4),\"-\")","v":"-"},{"$f":"IFERROR(ROUND(VLOOKUP(CONCATENATE(G$5,$C34),'trend data'!$A$2:$O$11161,G$6,FALSE),4),\"-\")","v":"-"},{"$f":"IFERROR(VLOOKUP(CONCATENATE(H$5,$C34),'trend data'!$A$2:$O$11161,H$6,FALSE),\"-\")","v":"-"},{"$f":"IFERROR(ROUND(VLOOKUP(CONCATENATE(I$5,$C34),'trend data'!$A$2:$O$11161,I$6,FALSE),4),\"-\")","v":"-"},{"$f":"IFERROR(ROUND(VLOOKUP(CONCATENATE(J$5,$C34),'trend data'!$A$2:$O$11161,J$6,FALSE),4),\"-\")","v":"-"},{"$f":"IFERROR(ROUND(VLOOKUP(CONCATENATE(K$5,$C34),'trend data'!$A$2:$O$11161,K$6,FALSE),4),\"-\")","v":"-"},{"$f":"IFERROR(VLOOKUP(CONCATENATE(L$5,$C34),'trend data'!$A$2:$O$11161,L$6,FALSE),\"-\")","v":"-"},{"$f":"IFERROR(VLOOKUP(CONCATENATE(M$5,$C34),'trend data'!$A$2:$O$11161,M$6,FALSE),\"-\")","v":"-"}]
[202004,"2020-12-31",{"$f":"CONCATENATE(A35,'SSI Data and Charts'!B$1)","v":"202004Scotland"},{"$f":"IFERROR(VLOOKUP(CONCATENATE(D$5,$C35),'trend data'!$A$2:$O$11161,D$6,FALSE),\"-\")","v":"-"},{"$f":"IFERROR(ROUND(VLOOKUP(CONCATENATE(E$5,$C35),'trend data'!$A$2:$O$11161,E$6,FALSE),4),\"-\")","v":"-"},{"$f":"IFERROR(ROUND(VLOOKUP(CONCATENATE(F$5,$C35),'trend data'!$A$2:$O$11161,F$6,FALSE),4),\"-\")","v":"-"},{"$f":"IFERROR(ROUND(VLOOKUP(CONCATENATE(G$5,$C35),'trend data'!$A$2:$O$11161,G$6,FALSE),4),\"-\")","v":"-"},{"$f":"IFERROR(VLOOKUP(CONCATENATE(H$5,$C35),'trend data'!$A$2:$O$11161,H$6,FALSE),\"-\")","v":"-"},{"$f":"IFERROR(ROUND(VLOOKUP(CONCATENATE(I$5,$C35),'trend data'!$A$2:$O$11161,I$6,FALSE),4),\"-\")","v":"-"},{"$f":"IFERROR(ROUND(VLOOKUP(CONCATENATE(J$5,$C35),'trend data'!$A$2:$O$11161,J$6,FALSE),4),\"-\")","v":"-"},{"$f":"IFERROR(ROUND(VLOOKUP(CONCATENATE(K$5,$C35),'trend data'!$A$2:$O$11161,K$6,FALSE),4),\"-\")","v":"-"},{"$f":"IFERROR(VLOOKUP(CONCATENATE(L$5,$C35),'trend data'!$A$2:$O$11161,L$6,FALSE),\"-\")","v":"-"},{"$f":"IFERROR(VLOOKUP(CONCATENATE(M$5,$C35),'trend data'!$A$2:$O$11161,M$6,FALSE),\"-\")","v":"-"}]
[202101,"2021-03-31",{"$f":"CONCATENATE(A36,'SSI Data and Charts'!B$1)","v":"202101Scotland"},{"$f":"IFERROR(VLOOKUP(CONCATENATE(D$5,$C36),'trend data'!$A$2:$O$11161,D$6,FALSE),\"-\")","v":"-"},{"$f":"IFERROR(ROUND(VLOOKUP(CONCATENATE(E$5,$C36),'trend data'!$A$2:$O$11161,E$6,FALSE),4),\"-\")","v":"-"},{"$f":"IFERROR(ROUND(VLOOKUP(CONCATENATE(F$5,$C36),'trend data'!$A$2:$O$11161,F$6,FALSE),4),\"-\")","v":"-"},{"$f":"IFERROR(ROUND(VLOOKUP(CONCATENATE(G$5,$C36),'trend data'!$A$2:$O$11161,G$6,FALSE),4),\"-\")","v":"-"},{"$f":"IFERROR(VLOOKUP(CONCATENATE(H$5,$C36),'trend data'!$A$2:$O$11161,H$6,FALSE),\"-\")","v":"-"},{"$f":"IFERROR(ROUND(VLOOKUP(CONCATENATE(I$5,$C36),'trend data'!$A$2:$O$11161,I$6,FALSE),4),\"-\")","v":"-"},{"$f":"IFERROR(ROUND(VLOOKUP(CONCATENATE(J$5,$C36),'trend data'!$A$2:$O$11161,J$6,FALSE),4),\"-\")","v":"-"},{"$f":"IFERROR(ROUND(VLOOKUP(CONCATENATE(K$5,$C36),'trend data'!$A$2:$O$11161,K$6,FALSE),4),\"-\")","v":"-"},{"$f":"IFERROR(VLOOKUP(CONCATENATE(L$5,$C36),'trend data'!$A$2:$O$11161,L$6,FALSE),\"-\")","v":"-"},{"$f":"IFERROR(VLOOKUP(CONCATENATE(M$5,$C36),'trend data'!$A$2:$O$11161,M$6,FALSE),\"-\")","v":"-"}]
[202102,"2021-06-30",{"$f":"CONCATENATE(A37,'SSI Data and Charts'!B$1)","v":"202102Scotland"},{"$f":"IFERROR(VLOOKUP(CONCATENATE(D$5,$C37),'trend data'!$A$2:$O$11161,D$6,FALSE),\"-\")","v":"-"},{"$f":"IFERROR(ROUND(VLOOKUP(CONCATENATE(E$5,$C37),'trend data'!$A$2:$O$11161,E$6,FALSE),4),\"-\")","v":"-"},{"$f":"IFERROR(ROUND(VLOOKUP(CONCATENATE(F$5,$C37),'trend data'!$A$2:$O$11161,F$6,FALSE),4),\"-\")","v":"-"},{"$f":"IFERROR(ROUND(VLOOKUP(CONCATENATE(G$5,$C37),'trend data'!$A$2:$O$11161,G$6,FALSE),4),\"-\")","v":"-"},{"$f":"IFERROR(VLOOKUP(CONCATENATE(H$5,$C37),'trend data'!$A$2:$O$11161,H$6,FALSE),\"-\")","v":"-"},{"$f":"IFERROR(ROUND(VLOOKUP(CONCATENATE(I$5,$C37),'trend data'!$A$2:$O$11161,I$6,FALSE),4),\"-\")","v":"-"},{"$f":"IFERROR(ROUND(VLOOKUP(CONCATENATE(J$5,$C37),'trend data'!$A$2:$O$11161,J$6,FALSE),4),\"-\")","v":"-"},{"$f":"IFERROR(ROUND(VLOOKUP(CONCATENATE(K$5,$C37),'trend data'!$A$2:$O$11161,K$6,FALSE),4),\"-\")","v":"-"},{"$f":"IFERROR(VLOOKUP(CONCATENATE(L$5,$C37),'trend data'!$A$2:$O$11161,L$6,FALSE),\"-\")","v":"-"},{"$f":"IFERROR(VLOOKUP(CONCATENATE(M$5,$C37),'trend data'!$A$2:$O$11161,M$6,FALSE),\"-\")","v":"-"}]
[202103,"2021-09-30",{"$f":"CONCATENATE(A38,'SSI Data and Charts'!B$1)","v":"202103Scotland"},{"$f":"IFERROR(VLOOKUP(CONCATENATE(D$5,$C38),'trend data'!$A$2:$O$11161,D$6,FALSE),\"-\")","v":"-"},{"$f":"IFERROR(ROUND(VLOOKUP(CONCATENATE(E$5,$C38),'trend data'!$A$2:$O$11161,E$6,FALSE),4),\"-\")","v":"-"},{"$f":"IFERROR(ROUND(VLOOKUP(CONCATENATE(F$5,$C38),'trend data'!$A$2:$O$11161,F$6,FALSE),4),\"-\")","v":"-"},{"$f":"IFERROR(ROUND(VLOOKUP(CONCATENATE(G$5,$C38),'trend data'!$A$2:$O$11161,G$6,FALSE),4),\"-\")","v":"-"},{"$f":"IFERROR(VLOOKUP(CONCATENATE(H$5,$C38),'trend data'!$A$2:$O$11161,H$6,FALSE),\"-\")","v":"-"},{"$f":"IFERROR(ROUND(VLOOKUP(CONCATENATE(I$5,$C38),'trend data'!$A$2:$O$11161,I$6,FALSE),4),\"-\")","v":"-"},{"$f":"IFERROR(ROUND(VLOOKUP(CONCATENATE(J$5,$C38),'trend data'!$A$2:$O$11161,J$6,FALSE),4),\"-\")","v":"-"},{"$f":"IFERROR(ROUND(VLOOKUP(CONCATENATE(K$5,$C38),'trend data'!$A$2:$O$11161,K$6,FALSE),4),\"-\")","v":"-"},{"$f":"IFERROR(VLOOKUP(CONCATENATE(L$5,$C38),'trend data'!$A$2:$O$11161,L$6,FALSE),\"-\")","v":"-"},{"$f":"IFERROR(VLOOKUP(CONCATENATE(M$5,$C38),'trend data'!$A$2:$O$11161,M$6,FALSE),\"-\")","v":"-"}]
[202104,"2021-12-31",{"$f":"CONCATENATE(A39,'SSI Data and Charts'!B$1)","v":"202104Scotland"},{"$f":"IFERROR(VLOOKUP(CONCATENATE(D$5,$C39),'trend data'!$A$2:$O$11161,D$6,FALSE),\"-\")","v":"-"},{"$f":"IFERROR(ROUND(VLOOKUP(CONCATENATE(E$5,$C39),'trend data'!$A$2:$O$11161,E$6,FALSE),4),\"-\")","v":"-"},{"$f":"IFERROR(ROUND(VLOOKUP(CONCATENATE(F$5,$C39),'trend data'!$A$2:$O$11161,F$6,FALSE),4),\"-\")","v":"-"},{"$f":"IFERROR(ROUND(VLOOKUP(CONCATENATE(G$5,$C39),'trend data'!$A$2:$O$11161,G$6,FALSE),4),\"-\")","v":"-"},{"$f":"IFERROR(VLOOKUP(CONCATENATE(H$5,$C39),'trend data'!$A$2:$O$11161,H$6,FALSE),\"-\")","v":"-"},{"$f":"IFERROR(ROUND(VLOOKUP(CONCATENATE(I$5,$C39),'trend data'!$A$2:$O$11161,I$6,FALSE),4),\"-\")","v":"-"},{"$f":"IFERROR(ROUND(VLOOKUP(CONCATENATE(J$5,$C39),'trend data'!$A$2:$O$11161,J$6,FALSE),4),\"-\")","v":"-"},{"$f":"IFERROR(ROUND(VLOOKUP(CONCATENATE(K$5,$C39),'trend data'!$A$2:$O$11161,K$6,FALSE),4),\"-\")","v":"-"},{"$f":"IFERROR(VLOOKUP(CONCATENATE(L$5,$C39),'trend data'!$A$2:$O$11161,L$6,FALSE),\"-\")","v":"-"},{"$f":"IFERROR(VLOOKUP(CONCATENATE(M$5,$C39),'trend data'!$A$2:$O$11161,M$6,FALSE),\"-\")","v":"-"}]

{"sheet":"SAB data","index":7,"n_rows":36,"n_cols":37,"rows_kept":36,"cut":false,"hidden":true,"merged":[]}
["Trend data",null,null,null,null,null,null,null,null,null,null,null,null,null,null,null,null,null,null,"data for u-charts"]
[]
["always last 3 years"]
[null,null,null,null,null,null,null,null,null,null,null,null,null,null,null,null,null,null,null,null,null,null,"change this"]
[null,null,null,"SABHCAI","SABHCAI","SABHCAI","SABHCAI","SABCAUN","SABCAUN","SABCAUN","SABCAUN","SAB    ","SAB    ","SAB    ","SAB    ","SAB    ",null,null,null,null,null,"current quarter end","2021-12-31",3,4,5,6,null,3,4,5,6,null,3,4,5,6]
[null,null,null,2,4,5,6,2,4,5,6,2,4,5,6,3]
[null,null,"ref","HCAI Cases","Healthcare associated rate","Healthcare associated  lower CI","Healthcare associated  upper CI","Community associatedCases","Community associated rate","Community associated lower CI","Community associated upper CI","CASES","RATE","LOWER","UPPER","beds",null,null,null,null,null,null,null,"SABHCAI",null,null,null,null,"SABCAUN",null,null,null,null,"SAB "]
[201404,"2014-12-19",{"$f":"CONCATENATE(A8,'SAB Data and Charts'!B$1)","v":"201404Scotland"},{"$f":"VLOOKUP(CONCATENATE(D$5,$C8),'trend data'!$A$2:$O$11161,D$6,FALSE)","v":275},{"$f":"ROUND(VLOOKUP(CONCATENATE(E$5,$C8),'trend data'!$A$2:$O$11161,E$6,FALSE),3)","v":16.065000000000001},{"$f":"ROUND(VLOOKUP(CONCATENATE(F$5,$C8),'trend data'!$A$2:$O$11161,F$6,FALSE),3)","v":14.222},{"$f":"ROUND(VLOOKUP(CONCATENATE(G$5,$C8),'trend data'!$A$2:$O$11161,G$6,FALSE),3)","v":18.079999999999998},{"$f":"IFERROR(VLOOKUP(CONCATENATE(H$5,$C8),'trend data'!$A$2:$O$11161,H$6,FALSE),\"-\")","v":119},{"$f":"IFERROR(ROUND(VLOOKUP(CONCATENATE(I$5,$C8),'trend data'!$A$2:$O$11161,I$6,FALSE),3),\"-\")","v":8.8290000000000006},{"$f":"IFERROR(ROUND(VLOOKUP(CONCATENATE(J$5,$C8),'trend data'!$A$2:$O$11161,J$6,FALSE),3),\"-\")","v":7.3140000000000001},{"$f":"IFERROR(ROUND(VLOOKUP(CONCATENATE(K$5,$C8),'trend data'!$A$2:$O$11161,K$6,FALSE),3),\"-\")","v":10.565},{"$f":"IFERROR(VLOOKUP(CONCATENATE(L$5,$C8),'trend data'!$A$2:$O$11161,L$6,FALSE),\"-\")","v":"-"},{"$f":"IFERROR(VLOOKUP(CONCATENATE(M$5,$C8),'trend data'!$A$2:$O$11161,M$6,FALSE),\"-\")","v":"-"},{"$f":"IFERROR(VLOOKUP(CONCATENATE(N$5,$C8),'trend data'!$A$2:$O$11161,N$6,FALSE),\"-\")","v":"-"},{"$f":"IFERROR(VLOOKUP(CONCATENATE(O$5,$C8),'trend data'!$A$2:$O$11161,O$6,FALSE),\"-\")","v":"-"},{"$f":"IFERROR(VLOOKUP(CONCATENATE(P$5,$C8),'trend data'!$A$2:$O$11161,P$6,FALSE),\"-\")","v":"-"},null,null,null,"change to last 12 quarters",null,null,null,"Healthcare associated rate","Healthcare associated av rate","Healthcare associated UWL 2sd","Healthcare associated UWL 3sd",null,"Community associated rate","Community associated av rate","Community associated UWL 2sd","Community associated UWL 3 sd",null,"sa rate","sa av rate","sa UWL 2 sd","sa UWL 3 sd"]
[201501,"2015-03-24",{"$f":"CONCATENATE(A9,'SAB Data and Charts'!B$1)","v":"201501Scotland"},{"$f":"VLOOKUP(CONCATENATE(D$5,$C9),'trend data'!$A$2:$O$11161,D$6,FALSE)","v":263},{"$f":"ROUND(VLOOKUP(CONCATENATE(E$5,$C9),'trend data'!$A$2:$O$11161,E$6,FALSE),3)","v":15.257999999999999},{"$f":"ROUND(VLOOKUP(CONCATENATE(F$5,$C9),'trend data'!$A$2:$O$11161,F$6,FALSE),3)","v":13.468999999999999},{"$f":"ROUND(VLOOKUP(CONCATENATE(G$5,$C9),'trend data'!$A$2:$O$11161,G$6,FALSE),3)","v":17.218},{"$f":"IFERROR(VLOOKUP(CONCATENATE(H$5,$C9),'trend data'!$A$2:$O$11161,H$6,FALSE),\"-\")","v":126},{"$f":"IFERROR(ROUND(VLOOKUP(CONCATENATE(I$5,$C9),'trend data'!$A$2:$O$11161,I$6,FALSE),3),\"-\")","v":9.5109999999999992},{"$f":"IFERROR(ROUND(VLOOKUP(CONCATENATE(J$5,$C9),'trend data'!$A$2:$O$11161,J$6,FALSE),3),\"-\")","v":7.9219999999999997},{"$f":"IFERROR(ROUND(VLOOKUP(CONCATENATE(K$5,$C9),'trend data'!$A$2:$O$11161,K$6,FALSE),3),\"-\")","v":11.324},{"$f":"IFERROR(VLOOKUP(CONCATENATE(L$5,$C9),'trend data'!$A$2:$O$11161,L$6,FALSE),\"-\")","v":"-"},{"$f":"IFERROR(VLOOKUP(CONCATENATE(M$5,$C9),'trend data'!$A$2:$O$11161,M$6,FALSE),\"-\")","v":"-"},{"$f":"IFERROR(VLOOKUP(CONCATENATE(N$5,$C9),'trend data'!$A$2:$O$11161,N$6,FALSE),\"-\")","v":"-"},{"$f":"IFERROR(VLOOKUP(CONCATENATE(O$5,$C9),'trend data'!$A$2:$O$11161,O$6,FALSE),\"-\")","v":"-"},{"$f":"IFERROR(VLOOKUP(CONCATENATE(P$5,$C9),'trend data'!$A$2:$O$11161,P$6,FALSE),\"-\")","v":"-"},null,null,null,{"$f":"YEAR(W9)&\"0\"&IF(MONTH(W9)<4,1,IF(MONTH(W9)<7,2,IF(MONTH(W9)<10,3,4)))","v":"201901"},{"$f":"CONCATENATE(X$7,$T9,'SAB Data and Charts'!B$1)","v":"SABHCAI201901Scotland"},1,{"$f":"W10-92","v":"2019-03-25"},{"$f":"ROUND(VLOOKUP($U9,'data for u-p-charts'!$A$2:$F$5000,X$5,FALSE),2)","v":15.6},{"$f":"ROUND(VLOOKUP($U9,'data for u-p-charts'!$A$2:$F$5000,Y$5,FALSE),2)","v":17.45},{"$f":"ROUND(VLOOKUP($U9,'data for u-p-charts'!$A$2:$F$5000,Z$5,FALSE),2)","v":19.579999999999998},{"$f":"ROUND(VLOOKUP($U9,'data for u-p-charts'!$A$2:$F$5000,AA$5,FALSE),2)","v":20.65},{"$f":"CONCATENATE(AC$7,$T9,'SAB Data and Charts'!$B$1)","v":"SABCAUN201901Scotland"},{"$f":"ROUND(VLOOKUP($AB9,'data for u-p-charts'!$A$2:$F$5000,AC$5,FALSE),2)","v":10.69},{"$f":"ROUND(VLOOKUP($AB9,'data for u-p-charts'!$A$2:$F$5000,AD$5,FALSE),2)","v":9.7899999999999991},{"$f":"ROUND(VLOOKUP($AB9,'data for u-p-charts'!$A$2:$F$5000,AE$5,FALSE),2)","v":11.5},{"$f":"ROUND(VLOOKUP($AB9,'data for u-p-charts'!$A$2:$F$5000,AF$5,FALSE),2)","v":12.35},{"$f":"CONCATENATE(AH$7,$T9,'SAB Data and Charts'!$B$1)","v":"SAB 201901Scotland"},{"$f":"VLOOKUP($AG9,'data for u-p-charts'!$A$2:$F$5000,AH$5,FALSE)","v":{"$error":"#N/A"}},{"$f":"VLOOKUP($AG9,'data for u-p-charts'!$A$2:$F$5000,AI$5,FALSE)","v":{"$error":"#N/A"}},{"$f":"VLOOKUP($AG9,'data for u-p-charts'!$A$2:$F$5000,AJ$5,FALSE)","v":{"$error":"#N/A"}},{"$f":"VLOOKUP($AG9,'data for u-p-charts'!$A$2:$F$5000,AK$5,FALSE)","v":{"$error":"#N/A"}}]
[201502,"2015-06-24",{"$f":"CONCATENATE(A10,'SAB Data and Charts'!B$1)","v":"201502Scotland"},{"$f":"VLOOKUP(CONCATENATE(D$5,$C10),'trend data'!$A$2:$O$11161,D$6,FALSE)","v":284},{"$f":"ROUND(VLOOKUP(CONCATENATE(E$5,$C10),'trend data'!$A$2:$O$11161,E$6,FALSE),3)","v":17.094000000000001},{"$f":"ROUND(VLOOKUP(CONCATENATE(F$5,$C10),'trend data'!$A$2:$O$11161,F$6,FALSE),3)","v":15.163},{"$f":"ROUND(VLOOKUP(CONCATENATE(G$5,$C10),'trend data'!$A$2:$O$11161,G$6,FALSE),3)","v":19.202000000000002},{"$f":"IFERROR(VLOOKUP(CONCATENATE(H$5,$C10),'trend data'!$A$2:$O$11161,H$6,FALSE),\"-\")","v":131},{"$f":"IFERROR(ROUND(VLOOKUP(CONCATENATE(I$5,$C10),'trend data'!$A$2:$O$11161,I$6,FALSE),3),\"-\")","v":9.7789999999999999},{"$f":"IFERROR(ROUND(VLOOKUP(CONCATENATE(J$5,$C10),'trend data'!$A$2:$O$11161,J$6,FALSE),3),\"-\")","v":8.1760000000000002},{"$f":"IFERROR(ROUND(VLOOKUP(CONCATENATE(K$5,$C10),'trend data'!$A$2:$O$11161,K$6,FALSE),3),\"-\")","v":11.605},{"$f":"IFERROR(VLOOKUP(CONCATENATE(L$5,$C10),'trend data'!$A$2:$O$11161,L$6,FALSE),\"-\")","v":"-"},{"$f":"IFERROR(VLOOKUP(CONCATENATE(M$5,$C10),'trend data'!$A$2:$O$11161,M$6,FALSE),\"-\")","v":"-"},{"$f":"IFERROR(VLOOKUP(CONCATENATE(N$5,$C10),'trend data'!$A$2:$O$11161,N$6,FALSE),\"-\")","v":"-"},{"$f":"IFERROR(VLOOKUP(CONCATENATE(O$5,$C10),'trend data'!$A$2:$O$11161,O$6,FALSE),\"-\")","v":"-"},{"$f":"IFERROR(VLOOKUP(CONCATENATE(P$5,$C10),'trend data'!$A$2:$O$11161,P$6,FALSE),\"-\")","v":"-"},null,null,null,{"$f":"YEAR(W10)&\"0\"&IF(MONTH(W10)<4,1,IF(MONTH(W10)<7,2,IF(MONTH(W10)<10,3,4)))","v":"201902"},{"$f":"CONCATENATE(X$7,T10,'SAB Data and Charts'!B$1)","v":"SABHCAI201902Scotland"},2,"2019-06-25",{"$f":"ROUND(VLOOKUP($U10,'data for u-p-charts'!$A$2:$F$5000,X$5,FALSE),2)","v":16.66},{"$f":"ROUND(VLOOKUP($U10,'data for u-p-charts'!$A$2:$F$5000,Y$5,FALSE),2)","v":17.45},{"$f":"ROUND(VLOOKUP($U10,'data for u-p-charts'!$A$2:$F$5000,Z$5,FALSE),2)","v":19.61},{"$f":"ROUND(VLOOKUP($U10,'data for u-p-charts'!$A$2:$F$5000,AA$5,FALSE),2)","v":20.68},{"$f":"CONCATENATE(AC$7,$T10,'SAB Data and Charts'!$B$1)","v":"SABCAUN201902Scotland"},{"$f":"ROUND(VLOOKUP($AB10,'data for u-p-charts'!$A$2:$F$5000,AC$5,FALSE),2)","v":9.76},{"$f":"ROUND(VLOOKUP($AB10,'data for u-p-charts'!$A$2:$F$5000,AD$5,FALSE),2)","v":9.7899999999999991},{"$f":"ROUND(VLOOKUP($AB10,'data for u-p-charts'!$A$2:$F$5000,AE$5,FALSE),2)","v":11.49},{"$f":"ROUND(VLOOKUP($AB10,'data for u-p-charts'!$A$2:$F$5000,AF$5,FALSE),2)","v":12.34},{"$f":"CONCATENATE(AH$7,$T10,'SAB Data and Charts'!$B$1)","v":"SAB 201902Scotland"},{"$f":"VLOOKUP($AG10,'data for u-p-charts'!$A$2:$F$5000,AH$5,FALSE)","v":{"$error":"#N/A"}},{"$f":"VLOOKUP($AG10,'data for u-p-charts'!$A$2:$F$5000,AI$5,FALSE)","v":{"$error":"#N/A"}},{"$f":"VLOOKUP($AG10,'data for u-p-charts'!$A$2:$F$5000,AJ$5,FALSE)","v":{"$error":"#N/A"}},{"$f":"VLOOKUP($AG10,'data for u-p-charts'!$A$2:$F$5000,AK$5,FALSE)","v":{"$error":"#N/A"}}]
[201503,"2015-09-24",{"$f":"CONCATENATE(A11,'SAB Data and Charts'!B$1)","v":"201503Scotland"},{"$f":"VLOOKUP(CONCATENATE(D$5,$C11),'trend data'!$A$2:$O$11161,D$6,FALSE)","v":275},{"$f":"ROUND(VLOOKUP(CONCATENATE(E$5,$C11),'trend data'!$A$2:$O$11161,E$6,FALSE),3)","v":16.966000000000001},{"$f":"ROUND(VLOOKUP(CONCATENATE(F$5,$C11),'trend data'!$A$2:$O$11161,F$6,FALSE),3)","v":15.02},{"$f":"ROUND(VLOOKUP(CONCATENATE(G$5,$C11),'trend data'!$A$2:$O$11161,G$6,FALSE),3)","v":19.094000000000001},{"$f":"IFERROR(VLOOKUP(CONCATENATE(H$5,$C11),'trend data'!$A$2:$O$11161,H$6,FALSE),\"-\")","v":113},{"$f":"IFERROR(ROUND(VLOOKUP(CONCATENATE(I$5,$C11),'trend data'!$A$2:$O$11161,I$6,FALSE),3),\"-\")","v":8.3439999999999994},{"$f":"IFERROR(ROUND(VLOOKUP(CONCATENATE(J$5,$C11),'trend data'!$A$2:$O$11161,J$6,FALSE),3),\"-\")","v":6.8760000000000003},{"$f":"IFERROR(ROUND(VLOOKUP(CONCATENATE(K$5,$C11),'trend data'!$A$2:$O$11161,K$6,FALSE),3),\"-\")","v":10.032},{"$f":"IFERROR(VLOOKUP(CONCATENATE(L$5,$C11),'trend data'!$A$2:$O$11161,L$6,FALSE),\"-\")","v":"-"},{"$f":"IFERROR(VLOOKUP(CONCATENATE(M$5,$C11),'trend data'!$A$2:$O$11161,M$6,FALSE),\"-\")","v":"-"},{"$f":"IFERROR(VLOOKUP(CONCATENATE(N$5,$C11),'trend data'!$A$2:$O$11161,N$6,FALSE),\"-\")","v":"-"},{"$f":"IFERROR(VLOOKUP(CONCATENATE(O$5,$C11),'trend data'!$A$2:$O$11161,O$6,FALSE),\"-\")","v":"-"},{"$f":"IFERROR(VLOOKUP(CONCATENATE(P$5,$C11),'trend data'!$A$2:$O$11161,P$6,FALSE),\"-\")","v":"-"},null,null,null,{"$f":"YEAR(W11)&\"0\"&IF(MONTH(W11)<4,1,IF(MONTH(W11)<7,2,IF(MONTH(W11)<10,3,4)))","v":"201903"},{"$f":"CONCATENATE(X$7,T11,'SAB Data and Charts'!B$1)","v":"SABHCAI201903Scotland"},3,"2019-09-25",{"$f":"ROUND(VLOOKUP($U11,'data for u-p-charts'!$A$2:$F$5000,X$5,FALSE),2)","v":17.52},{"$f":"ROUND(VLOOKUP($U11,'data for u-p-charts'!$A$2:$F$5000,Y$5,FALSE),2)","v":17.45},{"$f":"ROUND(VLOOKUP($U11,'data for u-p-charts'!$A$2:$F$5000,Z$5,FALSE),2)","v":19.61},{"$f":"ROUND(VLOOKUP($U11,'data for u-p-charts'!$A$2:$F$5000,AA$5,FALSE),2)","v":20.68},{"$f":"CONCATENATE(AC$7,$T11,'SAB Data and Charts'!$B$1)","v":"SABCAUN201903Scotland"},{"$f":"ROUND(VLOOKUP($AB11,'data for u-p-charts'!$A$2:$F$5000,AC$5,FALSE),2)","v":7.41},{"$f":"ROUND(VLOOKUP($AB11,'data for u-p-charts'!$A$2:$F$5000,AD$5,FALSE),2)","v":9.7899999999999991},{"$f":"ROUND(VLOOKUP($AB11,'data for u-p-charts'!$A$2:$F$5000,AE$5,FALSE),2)","v":11.48},{"$f":"ROUND(VLOOKUP($AB11,'data for u-p-charts'!$A$2:$F$5000,AF$5,FALSE),2)","v":12.32},{"$f":"CONCATENATE(AH$7,$T11,'SAB Data and Charts'!$B$1)","v":"SAB 201903Scotland"},{"$f":"VLOOKUP($AG11,'data for u-p-charts'!$A$2:$F$5000,AH$5,FALSE)","v":{"$error":"#N/A"}},{"$f":"VLOOKUP($AG11,'data for u-p-charts'!$A$2:$F$5000,AI$5,FALSE)","v":{"$error":"#N/A"}},{"$f":"VLOOKUP($AG11,'data for u-p-charts'!$A$2:$F$5000,AJ$5,FALSE)","v":{"$error":"#N/A"}},{"$f":"VLOOKUP($AG11,'data for u-p-charts'!$A$2:$F$5000,AK$5,FALSE)","v":{"$error":"#N/A"}}]
[201504,"2015-12-24",{"$f":"CONCATENATE(A12,'SAB Data and Charts'!B$1)","v":"201504Scotland"},{"$f":"VLOOKUP(CONCATENATE(D$5,$C12),'trend data'!$A$2:$O$11161,D$6,FALSE)","v":303},{"$f":"ROUND(VLOOKUP(CONCATENATE(E$5,$C12),'trend data'!$A$2:$O$11161,E$6,FALSE),3)","v":18.451000000000001},{"$f":"ROUND(VLOOKUP(CONCATENATE(F$5,$C12),'trend data'!$A$2:$O$11161,F$6,FALSE),3)","v":16.431999999999999},{"$f":"ROUND(VLOOKUP(CONCATENATE(G$5,$C12),'trend data'!$A$2:$O$11161,G$6,FALSE),3)","v":20.65},{"$f":"IFERROR(VLOOKUP(CONCATENATE(H$5,$C12),'trend data'!$A$2:$O$11161,H$6,FALSE),\"-\")","v":104},{"$f":"IFERROR(ROUND(VLOOKUP(CONCATENATE(I$5,$C12),'trend data'!$A$2:$O$11161,I$6,FALSE),3),\"-\")","v":7.6790000000000003},{"$f":"IFERROR(ROUND(VLOOKUP(CONCATENATE(J$5,$C12),'trend data'!$A$2:$O$11161,J$6,FALSE),3),\"-\")","v":6.274},{"$f":"IFERROR(ROUND(VLOOKUP(CONCATENATE(K$5,$C12),'trend data'!$A$2:$O$11161,K$6,FALSE),3),\"-\")","v":9.3049999999999997},{"$f":"IFERROR(VLOOKUP(CONCATENATE(L$5,$C12),'trend data'!$A$2:$O$11161,L$6,FALSE),\"-\")","v":"-"},{"$f":"IFERROR(VLOOKUP(CONCATENATE(M$5,$C12),'trend data'!$A$2:$O$11161,M$6,FALSE),\"-\")","v":"-"},{"$f":"IFERROR(VLOOKUP(CONCATENATE(N$5,$C12),'trend data'!$A$2:$O$11161,N$6,FALSE),\"-\")","v":"-"},{"$f":"IFERROR(VLOOKUP(CONCATENATE(O$5,$C12),'trend data'!$A$2:$O$11161,O$6,FALSE),\"-\")","v":"-"},{"$f":"IFERROR(VLOOKUP(CONCATENATE(P$5,$C12),'trend data'!$A$2:$O$11161,P$6,FALSE),\"-\")","v":"-"},null,null,null,"201904",{"$f":"CONCATENATE(X$7,T12,'SAB Data and Charts'!B$1)","v":"SABHCAI201904Scotland"},4,"2019-12-26",{"$f":"ROUND(VLOOKUP($U12,'data for u-p-charts'!$A$2:$F$5000,X$5,FALSE),2)","v":15.21},{"$f":"ROUND(VLOOKUP($U12,'data for u-p-charts'!$A$2:$F$5000,Y$5,FALSE),2)","v":17.45},{"$f":"ROUND(VLOOKUP($U12,'data for u-p-charts'!$A$2:$F$5000,Z$5,FALSE),2)","v":19.59},{"$f":"ROUND(VLOOKUP($U12,'data for u-p-charts'!$A$2:$F$5000,AA$5,FALSE),2)","v":20.66},{"$f":"CONCATENATE(AC$7,$T12,'SAB Data and Charts'!$B$1)","v":"SABCAUN201904Scotland"},{"$f":"ROUND(VLOOKUP($AB12,'data for u-p-charts'!$A$2:$F$5000,AC$5,FALSE),2)","v":9.59},{"$f":"ROUND(VLOOKUP($AB12,'data for u-p-charts'!$A$2:$F$5000,AD$5,FALSE),2)","v":9.7899999999999991},{"$f":"ROUND(VLOOKUP($AB12,'data for u-p-charts'!$A$2:$F$5000,AE$5,FALSE),2)","v":11.48},{"$f":"ROUND(VLOOKUP($AB12,'data for u-p-charts'!$A$2:$F$5000,AF$5,FALSE),2)","v":12.32},{"$f":"CONCATENATE(AH$7,$T12,'SAB Data and Charts'!$B$1)","v":"SAB 201904Scotland"},{"$f":"VLOOKUP($AG12,'data for u-p-charts'!$A$2:$F$5000,AH$5,FALSE)","v":{"$error":"#N/A"}},{"$f":"VLOOKUP($AG12,'data for u-p-charts'!$A$2:$F$5000,AI$5,FALSE)","v":{"$error":"#N/A"}},{"$f":"VLOOKUP($AG12,'data for u-p-charts'!$A$2:$F$5000,AJ$5,FALSE)","v":{"$error":"#N/A"}},{"$f":"VLOOKUP($AG12,'data for u-p-charts'!$A$2:$F$5000,AK$5,FALSE)","v":{"$error":"#N/A"}}]
[201601,"2016-03-24",{"$f":"CONCATENATE(A13,'SAB Data and Charts'!B$1)","v":"201601Scotland"},{"$f":"VLOOKUP(CONCATENATE(D$5,$C13),'trend data'!$A$2:$O$11161,D$6,FALSE)","v":279},{"$f":"ROUND(VLOOKUP(CONCATENATE(E$5,$C13),'trend data'!$A$2:$O$11161,E$6,FALSE),3)","v":16.661999999999999},{"$f":"ROUND(VLOOKUP(CONCATENATE(F$5,$C13),'trend data'!$A$2:$O$11161,F$6,FALSE),3)","v":14.763999999999999},{"$f":"ROUND(VLOOKUP(CONCATENATE(G$5,$C13),'trend data'!$A$2:$O$11161,G$6,FALSE),3)","v":18.736999999999998},{"$f":"IFERROR(VLOOKUP(CONCATENATE(H$5,$C13),'trend data'!$A$2:$O$11161,H$6,FALSE),\"-\")","v":139},{"$f":"IFERROR(ROUND(VLOOKUP(CONCATENATE(I$5,$C13),'trend data'!$A$2:$O$11161,I$6,FALSE),3),\"-\")","v":10.343999999999999},{"$f":"IFERROR(ROUND(VLOOKUP(CONCATENATE(J$5,$C13),'trend data'!$A$2:$O$11161,J$6,FALSE),3),\"-\")","v":8.6959999999999997},{"$f":"IFERROR(ROUND(VLOOKUP(CONCATENATE(K$5,$C13),'trend data'!$A$2:$O$11161,K$6,FALSE),3),\"-\")","v":12.214},{"$f":"IFERROR(VLOOKUP(CONCATENATE(L$5,$C13),'trend data'!$A$2:$O$11161,L$6,FALSE),\"-\")","v":"-"},{"$f":"IFERROR(VLOOKUP(CONCATENATE(M$5,$C13),'trend data'!$A$2:$O$11161,M$6,FALSE),\"-\")","v":"-"},{"$f":"IFERROR(VLOOKUP(CONCATENATE(N$5,$C13),'trend data'!$A$2:$O$11161,N$6,FALSE),\"-\")","v":"-"},{"$f":"IFERROR(VLOOKUP(CONCATENATE(O$5,$C13),'trend data'!$A$2:$O$11161,O$6,FALSE),\"-\")","v":"-"},{"$f":"IFERROR(VLOOKUP(CONCATENATE(P$5,$C13),'trend data'!$A$2:$O$11161,P$6,FALSE),\"-\")","v":"-"},null,null,null,"202001",{"$f":"CONCATENATE(X$7,T13,'SAB Data and Charts'!B$1)","v":"SABHCAI202001Scotland"},5,"2020-03-27",{"$f":"ROUND(VLOOKUP($U13,'data for u-p-charts'!$A$2:$F$5000,X$5,FALSE),2)","v":16.329999999999998},{"$f":"ROUND(VLOOKUP($U13,'data for u-p-charts'!$A$2:$F$5000,Y$5,FALSE),2)","v":17.45},{"$f":"ROUND(VLOOKUP($U13,'data for u-p-charts'!$A$2:$F$5000,Z$5,FALSE),2)","v":19.63},{"$f":"ROUND(VLOOKUP($U13,'data for u-p-charts'!$A$2:$F$5000,AA$5,FALSE),2)","v":20.72},{"$f":"CONCATENATE(AC$7,$T13,'SAB Data and Charts'!$B$1)","v":"SABCAUN202001Scotland"},{"$f":"ROUND(VLOOKUP($AB13,'data for u-p-charts'!$A$2:$F$5000,AC$5,FALSE),2)","v":10.96},{"$f":"ROUND(VLOOKUP($AB13,'data for u-p-charts'!$A$2:$F$5000,AD$5,FALSE),2)","v":9.7899999999999991},{"$f":"ROUND(VLOOKUP($AB13,'data for u-p-charts'!$A$2:$F$5000,AE$5,FALSE),2)","v":11.49},{"$f":"ROUND(VLOOKUP($AB13,'data for u-p-charts'!$A$2:$F$5000,AF$5,FALSE),2)","v":12.34},{"$f":"CONCATENATE(AH$7,$T13,'SAB Data and Charts'!$B$1)","v":"SAB 202001Scotland"},{"$f":"VLOOKUP($AG13,'data for u-p-charts'!$A$2:$F$5000,AH$5,FALSE)","v":{"$error":"#N/A"}},{"$f":"VLOOKUP($AG13,'data for u-p-charts'!$A$2:$F$5000,AI$5,FALSE)","v":{"$error":"#N/A"}},{"$f":"VLOOKUP($AG13,'data for u-p-charts'!$A$2:$F$5000,AJ$5,FALSE)","v":{"$error":"#N/A"}},{"$f":"VLOOKUP($AG13,'data for u-p-charts'!$A$2:$F$5000,AK$5,FALSE)","v":{"$error":"#N/A"}}]
[201602,"2016-06-24",{"$f":"CONCATENATE(A14,'SAB Data and Charts'!B$1)","v":"201602Scotland"},{"$f":"VLOOKUP(CONCATENATE(D$5,$C14),'trend data'!$A$2:$O$11161,D$6,FALSE)","v":260},{"$f":"ROUND(VLOOKUP(CONCATENATE(E$5,$C14),'trend data'!$A$2:$O$11161,E$6,FALSE),3)","v":16.198},{"$f":"ROUND(VLOOKUP(CONCATENATE(F$5,$C14),'trend data'!$A$2:$O$11161,F$6,FALSE),3)","v":14.289},{"$f":"ROUND(VLOOKUP(CONCATENATE(G$5,$C14),'trend data'!$A$2:$O$11161,G$6,FALSE),3)","v":18.292000000000002},{"$f":"IFERROR(VLOOKUP(CONCATENATE(H$5,$C14),'trend data'!$A$2:$O$11161,H$6,FALSE),\"-\")","v":121},{"$f":"IFERROR(ROUND(VLOOKUP(CONCATENATE(I$5,$C14),'trend data'!$A$2:$O$11161,I$6,FALSE),3),\"-\")","v":9.0039999999999996},{"$f":"IFERROR(ROUND(VLOOKUP(CONCATENATE(J$5,$C14),'trend data'!$A$2:$O$11161,J$6,FALSE),3),\"-\")","v":7.4710000000000001},{"$f":"IFERROR(ROUND(VLOOKUP(CONCATENATE(K$5,$C14),'trend data'!$A$2:$O$11161,K$6,FALSE),3),\"-\")","v":10.759},{"$f":"IFERROR(VLOOKUP(CONCATENATE(L$5,$C14),'trend data'!$A$2:$O$11161,L$6,FALSE),\"-\")","v":"-"},{"$f":"IFERROR(VLOOKUP(CONCATENATE(M$5,$C14),'trend data'!$A$2:$O$11161,M$6,FALSE),\"-\")","v":"-"},{"$f":"IFERROR(VLOOKUP(CONCATENATE(N$5,$C14),'trend data'!$A$2:$O$11161,N$6,FALSE),\"-\")","v":"-"},{"$f":"IFERROR(VLOOKUP(CONCATENATE(O$5,$C14),'trend data'!$A$2:$O$11161,O$6,FALSE),\"-\")","v":"-"},{"$f":"IFERROR(VLOOKUP(CONCATENATE(P$5,$C14),'trend data'!$A$2:$O$11161,P$6,FALSE),\"-\")","v":"-"},null,null,null,"202002",{"$f":"CONCATENATE(X$7,T14,'SAB Data and Charts'!B$1)","v":"SABHCAI202002Scotland"},6,"2020-06-27",{"$f":"ROUND(VLOOKUP($U14,'data for u-p-charts'!$A$2:$F$5000,X$5,FALSE),2)","v":20.260000000000002},{"$f":"ROUND(VLOOKUP($U14,'data for u-p-charts'!$A$2:$F$5000,Y$5,FALSE),2)","v":17.45},{"$f":"ROUND(VLOOKUP($U14,'data for u-p-charts'!$A$2:$F$5000,Z$5,FALSE),2)","v":20},{"$f":"ROUND(VLOOKUP($U14,'data for u-p-charts'!$A$2:$F$5000,AA$5,FALSE),2)","v":21.27},{"$f":"CONCATENATE(AC$7,$T14,'SAB Data and Charts'!$B$1)","v":"SABCAUN202002Scotland"},{"$f":"ROUND(VLOOKUP($AB14,'data for u-p-charts'!$A$2:$F$5000,AC$5,FALSE),2)","v":9.7100000000000009},{"$f":"ROUND(VLOOKUP($AB14,'data for u-p-charts'!$A$2:$F$5000,AD$5,FALSE),2)","v":9.7899999999999991},{"$f":"ROUND(VLOOKUP($AB14,'data for u-p-charts'!$A$2:$F$5000,AE$5,FALSE),2)","v":11.49},{"$f":"ROUND(VLOOKUP($AB14,'data for u-p-charts'!$A$2:$F$5000,AF$5,FALSE),2)","v":12.34},{"$f":"CONCATENATE(AH$7,$T14,'SAB Data and Charts'!$B$1)","v":"SAB 202002Scotland"},{"$f":"VLOOKUP($AG14,'data for u-p-charts'!$A$2:$F$5000,AH$5,FALSE)","v":{"$error":"#N/A"}},{"$f":"VLOOKUP($AG14,'data for u-p-charts'!$A$2:$F$5000,AI$5,FALSE)","v":{"$error":"#N/A"}},{"$f":"VLOOKUP($AG14,'data for u-p-charts'!$A$2:$F$5000,AJ$5,FALSE)","v":{"$error":"#N/A"}},{"$f":"VLOOKUP($AG14,'data for u-p-charts'!$A$2:$F$5000,AK$5,FALSE)","v":{"$error":"#N/A"}}]
[201603,"2016-09-24",{"$f":"CONCATENATE(A15,'SAB Data and Charts'!B$1)","v":"201603Scotland"},{"$f":"VLOOKUP(CONCATENATE(D$5,$C15),'trend data'!$A$2:$O$11161,D$6,FALSE)","v":273},{"$f":"ROUND(VLOOKUP(CONCATENATE(E$5,$C15),'trend data'!$A$2:$O$11161,E$6,FALSE),3)","v":17.193000000000001},{"$f":"ROUND(VLOOKUP(CONCATENATE(F$5,$C15),'trend data'!$A$2:$O$11161,F$6,FALSE),3)","v":15.212999999999999},{"$f":"ROUND(VLOOKUP(CONCATENATE(G$5,$C15),'trend data'!$A$2:$O$11161,G$6,FALSE),3)","v":19.358000000000001},{"$f":"IFERROR(VLOOKUP(CONCATENATE(H$5,$C15),'trend data'!$A$2:$O$11161,H$6,FALSE),\"-\")","v":127},{"$f":"IFERROR(ROUND(VLOOKUP(CONCATENATE(I$5,$C15),'trend data'!$A$2:$O$11161,I$6,FALSE),3),\"-\")","v":9.3480000000000008},{"$f":"IFERROR(ROUND(VLOOKUP(CONCATENATE(J$5,$C15),'trend data'!$A$2:$O$11161,J$6,FALSE),3),\"-\")","v":7.7930000000000001},{"$f":"IFERROR(ROUND(VLOOKUP(CONCATENATE(K$5,$C15),'trend data'!$A$2:$O$11161,K$6,FALSE),3),\"-\")","v":11.122999999999999},{"$f":"IFERROR(VLOOKUP(CONCATENATE(L$5,$C15),'trend data'!$A$2:$O$11161,L$6,FALSE),\"-\")","v":"-"},{"$f":"IFERROR(VLOOKUP(CONCATENATE(M$5,$C15),'trend data'!$A$2:$O$11161,M$6,FALSE),\"-\")","v":"-"},{"$f":"IFERROR(VLOOKUP(CONCATENATE(N$5,$C15),'trend data'!$A$2:$O$11161,N$6,FALSE),\"-\")","v":"-"},{"$f":"IFERROR(VLOOKUP(CONCATENATE(O$5,$C15),'trend data'!$A$2:$O$11161,O$6,FALSE),\"-\")","v":"-"},{"$f":"IFERROR(VLOOKUP(CONCATENATE(P$5,$C15),'trend data'!$A$2:$O$11161,P$6,FALSE),\"-\")","v":"-"},null,null,null,"202003",{"$f":"CONCATENATE(X$7,T15,'SAB Data and Charts'!B$1)","v":"SABHCAI202003Scotland"},7,"2020-09-27",{"$f":"ROUND(VLOOKUP($U15,'data for u-p-charts'!$A$2:$F$5000,X$5,FALSE),2)","v":17.18},{"$f":"ROUND(VLOOKUP($U15,'data for u-p-charts'!$A$2:$F$5000,Y$5,FALSE),2)","v":17.45},{"$f":"ROUND(VLOOKUP($U15,'data for u-p-charts'!$A$2:$F$5000,Z$5,FALSE),2)","v":19.77},{"$f":"ROUND(VLOOKUP($U15,'data for u-p-charts'!$A$2:$F$5000,AA$5,FALSE),2)","v":20.93},{"$f":"CONCATENATE(AC$7,$T15,'SAB Data and Charts'!$B$1)","v":"SABCAUN202003Scotland"},{"$f":"ROUND(VLOOKUP($AB15,'data for u-p-charts'!$A$2:$F$5000,AC$5,FALSE),2)","v":10.84},{"$f":"ROUND(VLOOKUP($AB15,'data for u-p-charts'!$A$2:$F$5000,AD$5,FALSE),2)","v":9.7899999999999991},{"$f":"ROUND(VLOOKUP($AB15,'data for u-p-charts'!$A$2:$F$5000,AE$5,FALSE),2)","v":11.48},{"$f":"ROUND(VLOOKUP($AB15,'data for u-p-charts'!$A$2:$F$5000,AF$5,FALSE),2)","v":12.33},{"$f":"CONCATENATE(AH$7,$T15,'SAB Data and Charts'!$B$1)","v":"SAB 202003Scotland"},{"$f":"VLOOKUP($AG15,'data for u-p-charts'!$A$2:$F$5000,AH$5,FALSE)","v":{"$error":"#N/A"}},{"$f":"VLOOKUP($AG15,'data for u-p-charts'!$A$2:$F$5000,AI$5,FALSE)","v":{"$error":"#N/A"}},{"$f":"VLOOKUP($AG15,'data for u-p-charts'!$A$2:$F$5000,AJ$5,FALSE)","v":{"$error":"#N/A"}},{"$f":"VLOOKUP($AG15,'data for u-p-charts'!$A$2:$F$5000,AK$5,FALSE)","v":{"$error":"#N/A"}}]
[201604,"2016-12-24",{"$f":"CONCATENATE(A16,'SAB Data and Charts'!B$1)","v":"201604Scotland"},{"$f":"VLOOKUP(CONCATENATE(D$5,$C16),'trend data'!$A$2:$O$11161,D$6,FALSE)","v":265},{"$f":"ROUND(VLOOKUP(CONCATENATE(E$5,$C16),'trend data'!$A$2:$O$11161,E$6,FALSE),3)","v":16.649000000000001},{"$f":"ROUND(VLOOKUP(CONCATENATE(F$5,$C16),'trend data'!$A$2:$O$11161,F$6,FALSE),3)","v":14.705},{"$f":"ROUND(VLOOKUP(CONCATENATE(G$5,$C16),'trend data'!$A$2:$O$11161,G$6,FALSE),3)","v":18.779},{"$f":"IFERROR(VLOOKUP(CONCATENATE(H$5,$C16),'trend data'!$A$2:$O$11161,H$6,FALSE),\"-\")","v":135},{"$f":"IFERROR(ROUND(VLOOKUP(CONCATENATE(I$5,$C16),'trend data'!$A$2:$O$11161,I$6,FALSE),3),\"-\")","v":9.9369999999999994},{"$f":"IFERROR(ROUND(VLOOKUP(CONCATENATE(J$5,$C16),'trend data'!$A$2:$O$11161,J$6,FALSE),3),\"-\")","v":8.3309999999999995},{"$f":"IFERROR(ROUND(VLOOKUP(CONCATENATE(K$5,$C16),'trend data'!$A$2:$O$11161,K$6,FALSE),3),\"-\")","v":11.762},{"$f":"IFERROR(VLOOKUP(CONCATENATE(L$5,$C16),'trend data'!$A$2:$O$11161,L$6,FALSE),\"-\")","v":"-"},{"$f":"IFERROR(VLOOKUP(CONCATENATE(M$5,$C16),'trend data'!$A$2:$O$11161,M$6,FALSE),\"-\")","v":"-"},{"$f":"IFERROR(VLOOKUP(CONCATENATE(N$5,$C16),'trend data'!$A$2:$O$11161,N$6,FALSE),\"-\")","v":"-"},{"$f":"IFERROR(VLOOKUP(CONCATENATE(O$5,$C16),'trend data'!$A$2:$O$11161,O$6,FALSE),\"-\")","v":"-"},{"$f":"IFERROR(VLOOKUP(CONCATENATE(P$5,$C16),'trend data'!$A$2:$O$11161,P$6,FALSE),\"-\")","v":"-"},null,null,null,"202004",{"$f":"CONCATENATE(X$7,T16,'SAB Data and Charts'!B$1)","v":"SABHCAI202004Scotland"},8,"2020-12-28",{"$f":"ROUND(VLOOKUP($U16,'data for u-p-charts'!$A$2:$F$5000,X$5,FALSE),2)","v":18.850000000000001},{"$f":"ROUND(VLOOKUP($U16,'data for u-p-charts'!$A$2:$F$5000,Y$5,FALSE),2)","v":17.45},{"$f":"ROUND(VLOOKUP($U16,'data for u-p-charts'!$A$2:$F$5000,Z$5,FALSE),2)","v":19.72},{"$f":"ROUND(VLOOKUP($U16,'data for u-p-charts'!$A$2:$F$5000,AA$5,FALSE),2)","v":20.86},{"$f":"CONCATENATE(AC$7,$T16,'SAB Data and Charts'!$B$1)","v":"SABCAUN202004Scotland"},{"$f":"ROUND(VLOOKUP($AB16,'data for u-p-charts'!$A$2:$F$5000,AC$5,FALSE),2)","v":9.5299999999999994},{"$f":"ROUND(VLOOKUP($AB16,'data for u-p-charts'!$A$2:$F$5000,AD$5,FALSE),2)","v":9.7899999999999991},{"$f":"ROUND(VLOOKUP($AB16,'data for u-p-charts'!$A$2:$F$5000,AE$5,FALSE),2)","v":11.48},{"$f":"ROUND(VLOOKUP($AB16,'data for u-p-charts'!$A$2:$F$5000,AF$5,FALSE),2)","v":12.33},{"$f":"CONCATENATE(AH$7,$T16,'SAB Data and Charts'!$B$1)","v":"SAB 202004Scotland"},{"$f":"VLOOKUP($AG16,'data for u-p-charts'!$A$2:$F$5000,AH$5,FALSE)","v":{"$error":"#N/A"}},{"$f":"VLOOKUP($AG16,'data for u-p-charts'!$A$2:$F$5000,AI$5,FALSE)","v":{"$error":"#N/A"}},{"$f":"VLOOKUP($AG16,'data for u-p-charts'!$A$2:$F$5000,AJ$5,FALSE)","v":{"$error":"#N/A"}},{"$f":"VLOOKUP($AG16,'data for u-p-charts'!$A$2:$F$5000,AK$5,FALSE)","v":{"$error":"#N/A"}}]
[201701,"2017-03-01",{"$f":"CONCATENATE(A17,'SAB Data and Charts'!B$1)","v":"201701Scotland"},{"$f":"VLOOKUP(CONCATENATE(D$5,$C17),'trend data'!$A$2:$O$11161,D$6,FALSE)","v":259},{"$f":"ROUND(VLOOKUP(CONCATENATE(E$5,$C17),'trend data'!$A$2:$O$11161,E$6,FALSE),3)","v":16.379000000000001},{"$f":"ROUND(VLOOKUP(CONCATENATE(F$5,$C17),'trend data'!$A$2:$O$11161,F$6,FALSE),3)","v":14.444000000000001},{"$f":"ROUND(VLOOKUP(CONCATENATE(G$5,$C17),'trend data'!$A$2:$O$11161,G$6,FALSE),3)","v":18.5},{"$f":"IFERROR(VLOOKUP(CONCATENATE(H$5,$C17),'trend data'!$A$2:$O$11161,H$6,FALSE),\"-\")","v":142},{"$f":"IFERROR(ROUND(VLOOKUP(CONCATENATE(I$5,$C17),'trend data'!$A$2:$O$11161,I$6,FALSE),3),\"-\")","v":10.616},{"$f":"IFERROR(ROUND(VLOOKUP(CONCATENATE(J$5,$C17),'trend data'!$A$2:$O$11161,J$6,FALSE),3),\"-\")","v":8.9420000000000002},{"$f":"IFERROR(ROUND(VLOOKUP(CONCATENATE(K$5,$C17),'trend data'!$A$2:$O$11161,K$6,FALSE),3),\"-\")","v":12.513},{"$f":"IFERROR(VLOOKUP(CONCATENATE(L$5,$C17),'trend data'!$A$2:$O$11161,L$6,FALSE),\"-\")","v":"-"},{"$f":"IFERROR(VLOOKUP(CONCATENATE(M$5,$C17),'trend data'!$A$2:$O$11161,M$6,FALSE),\"-\")","v":"-"},{"$f":"IFERROR(VLOOKUP(CONCATENATE(N$5,$C17),'trend data'!$A$2:$O$11161,N$6,FALSE),\"-\")","v":"-"},{"$f":"IFERROR(VLOOKUP(CONCATENATE(O$5,$C17),'trend data'!$A$2:$O$11161,O$6,FALSE),\"-\")","v":"-"},{"$f":"IFERROR(VLOOKUP(CONCATENATE(P$5,$C17),'trend data'!$A$2:$O$11161,P$6,FALSE),\"-\")","v":"-"},null,null,null,"202101",{"$f":"CONCATENATE(X$7,T17,'SAB Data and Charts'!B$1)","v":"SABHCAI202101Scotland"},9,"2021-03-30",{"$f":"ROUND(VLOOKUP($U17,'data for u-p-charts'!$A$2:$F$5000,X$5,FALSE),2)","v":18.329999999999998},{"$f":"ROUND(VLOOKUP($U17,'data for u-p-charts'!$A$2:$F$5000,Y$5,FALSE),2)","v":17.45},{"$f":"ROUND(VLOOKUP($U17,'data for u-p-charts'!$A$2:$F$5000,Z$5,FALSE),2)","v":19.73},{"$f":"ROUND(VLOOKUP($U17,'data for u-p-charts'!$A$2:$F$5000,AA$5,FALSE),2)","v":20.86},{"$f":"CONCATENATE(AC$7,$T17,'SAB Data and Charts'!$B$1)","v":"SABCAUN202101Scotland"},{"$f":"ROUND(VLOOKUP($AB17,'data for u-p-charts'!$A$2:$F$5000,AC$5,FALSE),2)","v":10.39},{"$f":"ROUND(VLOOKUP($AB17,'data for u-p-charts'!$A$2:$F$5000,AD$5,FALSE),2)","v":9.7899999999999991},{"$f":"ROUND(VLOOKUP($AB17,'data for u-p-charts'!$A$2:$F$5000,AE$5,FALSE),2)","v":11.5},{"$f":"ROUND(VLOOKUP($AB17,'data for u-p-charts'!$A$2:$F$5000,AF$5,FALSE),2)","v":12.35},{"$f":"CONCATENATE(AH$7,$T17,'SAB Data and Charts'!$B$1)","v":"SAB 202101Scotland"},{"$f":"VLOOKUP($AG17,'data for u-p-charts'!$A$2:$F$5000,AH$5,FALSE)","v":{"$error":"#N/A"}},{"$f":"VLOOKUP($AG17,'data for u-p-charts'!$A$2:$F$5000,AI$5,FALSE)","v":{"$error":"#N/A"}},{"$f":"VLOOKUP($AG17,'data for u-p-charts'!$A$2:$F$5000,AJ$5,FALSE)","v":{"$error":"#N/A"}},{"$f":"VLOOKUP($AG17,'data for u-p-charts'!$A$2:$F$5000,AK$5,FALSE)","v":{"$error":"#N/A"}}]
[201702,"2017-06-01",{"$f":"CONCATENATE(A18,'SAB Data and Charts'!B$1)","v":"201702Scotland"},{"$f":"VLOOKUP(CONCATENATE(D$5,$C18),'trend data'!$A$2:$O$11161,D$6,FALSE)","v":248},{"$f":"ROUND(VLOOKUP(CONCATENATE(E$5,$C18),'trend data'!$A$2:$O$11161,E$6,FALSE),3)","v":15.994},{"$f":"ROUND(VLOOKUP(CONCATENATE(F$5,$C18),'trend data'!$A$2:$O$11161,F$6,FALSE),3)","v":14.065},{"$f":"ROUND(VLOOKUP(CONCATENATE(G$5,$C18),'trend data'!$A$2:$O$11161,G$6,FALSE),3)","v":18.114000000000001},{"$f":"IFERROR(VLOOKUP(CONCATENATE(H$5,$C18),'trend data'!$A$2:$O$11161,H$6,FALSE),\"-\")","v":126},{"$f":"IFERROR(ROUND(VLOOKUP(CONCATENATE(I$5,$C18),'trend data'!$A$2:$O$11161,I$6,FALSE),3),\"-\")","v":9.3160000000000007},{"$f":"IFERROR(ROUND(VLOOKUP(CONCATENATE(J$5,$C18),'trend data'!$A$2:$O$11161,J$6,FALSE),3),\"-\")","v":7.76},{"$f":"IFERROR(ROUND(VLOOKUP(CONCATENATE(K$5,$C18),'trend data'!$A$2:$O$11161,K$6,FALSE),3),\"-\")","v":11.092000000000001},{"$f":"IFERROR(VLOOKUP(CONCATENATE(L$5,$C18),'trend data'!$A$2:$O$11161,L$6,FALSE),\"-\")","v":"-"},{"$f":"IFERROR(VLOOKUP(CONCATENATE(M$5,$C18),'trend data'!$A$2:$O$11161,M$6,FALSE),\"-\")","v":"-"},{"$f":"IFERROR(VLOOKUP(CONCATENATE(N$5,$C18),'trend data'!$A$2:$O$11161,N$6,FALSE),\"-\")","v":"-"},{"$f":"IFERROR(VLOOKUP(CONCATENATE(O$5,$C18),'trend data'!$A$2:$O$11161,O$6,FALSE),\"-\")","v":"-"},{"$f":"IFERROR(VLOOKUP(CONCATENATE(P$5,$C18),'trend data'!$A$2:$O$11161,P$6,FALSE),\"-\")","v":"-"},null,null,null,"202102",{"$f":"CONCATENATE(X$7,T18,'SAB Data and Charts'!B$1)","v":"SABHCAI202102Scotland"},10,"2021-06-30",{"$f":"ROUND(VLOOKUP($U18,'data for u-p-charts'!$A$2:$F$5000,X$5,FALSE),2)","v":18.649999999999999},{"$f":"ROUND(VLOOKUP($U18,'data for u-p-charts'!$A$2:$F$5000,Y$5,FALSE),2)","v":17.45},{"$f":"ROUND(VLOOKUP($U18,'data for u-p-charts'!$A$2:$F$5000,Z$5,FALSE),2)","v":19.690000000000001},{"$f":"ROUND(VLOOKUP($U18,'data for u-p-charts'!$A$2:$F$5000,AA$5,FALSE),2)","v":20.81},{"$f":"CONCATENATE(AC$7,$T18,'SAB Data and Charts'!$B$1)","v":"SABCAUN202102Scotland"},{"$f":"ROUND(VLOOKUP($AB18,'data for u-p-charts'!$A$2:$F$5000,AC$5,FALSE),2)","v":10.86},{"$f":"ROUND(VLOOKUP($AB18,'data for u-p-charts'!$A$2:$F$5000,AD$5,FALSE),2)","v":9.7899999999999991},{"$f":"ROUND(VLOOKUP($AB18,'data for u-p-charts'!$A$2:$F$5000,AE$5,FALSE),2)","v":11.49},{"$f":"ROUND(VLOOKUP($AB18,'data for u-p-charts'!$A$2:$F$5000,AF$5,FALSE),2)","v":12.34},{"$f":"CONCATENATE(AH$7,$T18,'SAB Data and Charts'!$B$1)","v":"SAB 202102Scotland"},{"$f":"VLOOKUP($AG18,'data for u-p-charts'!$A$2:$F$5000,AH$5,FALSE)","v":{"$error":"#N/A"}},{"$f":"VLOOKUP($AG18,'data for u-p-charts'!$A$2:$F$5000,AI$5,FALSE)","v":{"$error":"#N/A"}},{"$f":"VLOOKUP($AG18,'data for u-p-charts'!$A$2:$F$5000,AJ$5,FALSE)","v":{"$error":"#N/A"}},{"$f":"VLOOKUP($AG18,'data for u-p-charts'!$A$2:$F$5000,AK$5,FALSE)","v":{"$error":"#N/A"}}]
[201703,"2017-09-01",{"$f":"CONCATENATE(A19,'SAB Data and Charts'!B$1)","v":"201703Scotland"},{"$f":"VLOOKUP(CONCATENATE(D$5,$C19),'trend data'!$A$2:$O$11161,D$6,FALSE)","v":278},{"$f":"ROUND(VLOOKUP(CONCATENATE(E$5,$C19),'trend data'!$A$2:$O$11161,E$6,FALSE),3)","v":18.065999999999999},{"$f":"ROUND(VLOOKUP(CONCATENATE(F$5,$C19),'trend data'!$A$2:$O$11161,F$6,FALSE),3)","v":16.004000000000001},{"$f":"ROUND(VLOOKUP(CONCATENATE(G$5,$C19),'trend data'!$A$2:$O$11161,G$6,FALSE),3)","v":20.318999999999999},{"$f":"IFERROR(VLOOKUP(CONCATENATE(H$5,$C19),'trend data'!$A$2:$O$11161,H$6,FALSE),\"-\")","v":127},{"$f":"IFERROR(ROUND(VLOOKUP(CONCATENATE(I$5,$C19),'trend data'!$A$2:$O$11161,I$6,FALSE),3),\"-\")","v":9.2880000000000003},{"$f":"IFERROR(ROUND(VLOOKUP(CONCATENATE(J$5,$C19),'trend data'!$A$2:$O$11161,J$6,FALSE),3),\"-\")","v":7.7430000000000003},{"$f":"IFERROR(ROUND(VLOOKUP(CONCATENATE(K$5,$C19),'trend data'!$A$2:$O$11161,K$6,FALSE),3),\"-\")","v":11.051},{"$f":"IFERROR(VLOOKUP(CONCATENATE(L$5,$C19),'trend data'!$A$2:$O$11161,L$6,FALSE),\"-\")","v":"-"},{"$f":"IFERROR(VLOOKUP(CONCATENATE(M$5,$C19),'trend data'!$A$2:$O$11161,M$6,FALSE),\"-\")","v":"-"},{"$f":"IFERROR(VLOOKUP(CONCATENATE(N$5,$C19),'trend data'!$A$2:$O$11161,N$6,FALSE),\"-\")","v":"-"},{"$f":"IFERROR(VLOOKUP(CONCATENATE(O$5,$C19),'trend data'!$A$2:$O$11161,O$6,FALSE),\"-\")","v":"-"},{"$f":"IFERROR(VLOOKUP(CONCATENATE(P$5,$C19),'trend data'!$A$2:$O$11161,P$6,FALSE),\"-\")","v":"-"},null,null,null,"202103",{"$f":"CONCATENATE(X$7,T19,'SAB Data and Charts'!B$1)","v":"SABHCAI202103Scotland"},11,{"$f":"W20-92","v":"2021-09-30"},{"$f":"ROUND(VLOOKUP($U19,'data for u-p-charts'!$A$2:$F$5000,X$5,FALSE),2)","v":18.329999999999998},{"$f":"ROUND(VLOOKUP($U19,'data for u-p-charts'!$A$2:$F$5000,Y$5,FALSE),2)","v":17.45},{"$f":"ROUND(VLOOKUP($U19,'data for u-p-charts'!$A$2:$F$5000,Z$5,FALSE),2)","v":19.64},{"$f":"ROUND(VLOOKUP($U19,'data for u-p-charts'!$A$2:$F$5000,AA$5,FALSE),2)","v":20.74},{"$f":"CONCATENATE(AC$7,$T19,'SAB Data and Charts'!$B$1)","v":"SABCAUN202103Scotland"},{"$f":"ROUND(VLOOKUP($AB19,'data for u-p-charts'!$A$2:$F$5000,AC$5,FALSE),2)","v":9.58},{"$f":"ROUND(VLOOKUP($AB19,'data for u-p-charts'!$A$2:$F$5000,AD$5,FALSE),2)","v":9.7899999999999991},{"$f":"ROUND(VLOOKUP($AB19,'data for u-p-charts'!$A$2:$F$5000,AE$5,FALSE),2)","v":11.48},{"$f":"ROUND(VLOOKUP($AB19,'data for u-p-charts'!$A$2:$F$5000,AF$5,FALSE),2)","v":12.32},{"$f":"CONCATENATE(AH$7,$T19,'SAB Data and Charts'!$B$1)","v":"SAB 202103Scotland"},{"$f":"VLOOKUP($AG19,'data for u-p-charts'!$A$2:$F$5000,AH$5,FALSE)","v":{"$error":"#N/A"}},{"$f":"VLOOKUP($AG19,'data for u-p-charts'!$A$2:$F$5000,AI$5,FALSE)","v":{"$error":"#N/A"}},{"$f":"VLOOKUP($AG19,'data for u-p-charts'!$A$2:$F$5000,AJ$5,FALSE)","v":{"$error":"#N/A"}},{"$f":"VLOOKUP($AG19,'data for u-p-charts'!$A$2:$F$5000,AK$5,FALSE)","v":{"$error":"#N/A"}}]
[201704,"2017-12-01",{"$f":"CONCATENATE(A20,'SAB Data and Charts'!B$1)","v":"201704Scotland"},{"$f":"VLOOKUP(CONCATENATE(D$5,$C20),'trend data'!$A$2:$O$11161,D$6,FALSE)","v":262},{"$f":"ROUND(VLOOKUP(CONCATENATE(E$5,$C20),'trend data'!$A$2:$O$11161,E$6,FALSE),3)","v":16.635000000000002},{"$f":"ROUND(VLOOKUP(CONCATENATE(F$5,$C20),'trend data'!$A$2:$O$11161,F$6,FALSE),3)","v":14.682},{"$f":"ROUND(VLOOKUP(CONCATENATE(G$5,$C20),'trend data'!$A$2:$O$11161,G$6,FALSE),3)","v":18.776},{"$f":"IFERROR(VLOOKUP(CONCATENATE(H$5,$C20),'trend data'!$A$2:$O$11161,H$6,FALSE),\"-\")","v":132},{"$f":"IFERROR(ROUND(VLOOKUP(CONCATENATE(I$5,$C20),'trend data'!$A$2:$O$11161,I$6,FALSE),3),\"-\")","v":9.6539999999999999},{"$f":"IFERROR(ROUND(VLOOKUP(CONCATENATE(J$5,$C20),'trend data'!$A$2:$O$11161,J$6,FALSE),3),\"-\")","v":8.077},{"$f":"IFERROR(ROUND(VLOOKUP(CONCATENATE(K$5,$C20),'trend data'!$A$2:$O$11161,K$6,FALSE),3),\"-\")","v":11.448},{"$f":"IFERROR(VLOOKUP(CONCATENATE(L$5,$C20),'trend data'!$A$2:$O$11161,L$6,FALSE),\"-\")","v":"-"},{"$f":"IFERROR(VLOOKUP(CONCATENATE(M$5,$C20),'trend data'!$A$2:$O$11161,M$6,FALSE),\"-\")","v":"-"},{"$f":"IFERROR(VLOOKUP(CONCATENATE(N$5,$C20),'trend data'!$A$2:$O$11161,N$6,FALSE),\"-\")","v":"-"},{"$f":"IFERROR(VLOOKUP(CONCATENATE(O$5,$C20),'trend data'!$A$2:$O$11161,O$6,FALSE),\"-\")","v":"-"},{"$f":"IFERROR(VLOOKUP(CONCATENATE(P$5,$C20),'trend data'!$A$2:$O$11161,P$6,FALSE),\"-\")","v":"-"},null,null,null,"202104",{"$f":"CONCATENATE(X$7,T20,'SAB Data and Charts'!B$1)","v":"SABHCAI202104Scotland"},12,{"$f":"W5","v":"2021-12-31"},{"$f":"ROUND(VLOOKUP($U20,'data for u-p-charts'!$A$2:$F$5000,X$5,FALSE),2)","v":17.34},{"$f":"ROUND(VLOOKUP($U20,'data for u-p-charts'!$A$2:$F$5000,Y$5,FALSE),2)","v":17.45},{"$f":"ROUND(VLOOKUP($U20,'data for u-p-charts'!$A$2:$F$5000,Z$5,FALSE),2)","v":19.62},{"$f":"ROUND(VLOOKUP($U20,'data for u-p-charts'!$A$2:$F$5000,AA$5,FALSE),2)","v":20.7},{"$f":"CONCATENATE(AC$7,$T20,'SAB Data and Charts'!$B$1)","v":"SABCAUN202104Scotland"},{"$f":"ROUND(VLOOKUP($AB20,'data for u-p-charts'!$A$2:$F$5000,AC$5,FALSE),2)","v":9.8699999999999992},{"$f":"ROUND(VLOOKUP($AB20,'data for u-p-charts'!$A$2:$F$5000,AD$5,FALSE),2)","v":9.7899999999999991},{"$f":"ROUND(VLOOKUP($AB20,'data for u-p-charts'!$A$2:$F$5000,AE$5,FALSE),2)","v":11.48},{"$f":"ROUND(VLOOKUP($AB20,'data for u-p-charts'!$A$2:$F$5000,AF$5,FALSE),2)","v":12.32},{"$f":"CONCATENATE(AH$7,$T20,'SAB Data and Charts'!$B$1)","v":"SAB 202104Scotland"},{"$f":"VLOOKUP($AG20,'data for u-p-charts'!$A$2:$F$5000,AH$5,FALSE)","v":{"$error":"#N/A"}},{"$f":"VLOOKUP($AG20,'data for u-p-charts'!$A$2:$F$5000,AI$5,FALSE)","v":{"$error":"#N/A"}},{"$f":"VLOOKUP($AG20,'data for u-p-charts'!$A$2:$F$5000,AJ$5,FALSE)","v":{"$error":"#N/A"}},{"$f":"VLOOKUP($AG20,'data for u-p-charts'!$A$2:$F$5000,AK$5,FALSE)","v":{"$error":"#N/A"}}]
[201801,"2018-03-01",{"$f":"CONCATENATE(A21,'SAB Data and Charts'!B$1)","v":"201801Scotland"},{"$f":"IFERROR(VLOOKUP(CONCATENATE(D$5,$C21),'trend data'!$A$2:$O$11161,D$6,FALSE),\"-\")","v":296},{"$f":"ROUND(VLOOKUP(CONCATENATE(E$5,$C21),'trend data'!$A$2:$O$11161,E$6,FALSE),3)","v":18.672000000000001},{"$f":"ROUND(VLOOKUP(CONCATENATE(F$5,$C21),'trend data'!$A$2:$O$11161,F$6,FALSE),3)","v":16.605},{"$f":"ROUND(VLOOKUP(CONCATENATE(G$5,$C21),'trend data'!$A$2:$O$11161,G$6,FALSE),3)","v":20.925000000000001},{"$f":"IFERROR(VLOOKUP(CONCATENATE(H$5,$C21),'trend data'!$A$2:$O$11161,H$6,FALSE),\"-\")","v":135},{"$f":"IFERROR(ROUND(VLOOKUP(CONCATENATE(I$5,$C21),'trend data'!$A$2:$O$11161,I$6,FALSE),3),\"-\")","v":10.068},{"$f":"IFERROR(ROUND(VLOOKUP(CONCATENATE(J$5,$C21),'trend data'!$A$2:$O$11161,J$6,FALSE),3),\"-\")","v":8.4410000000000007},{"$f":"IFERROR(ROUND(VLOOKUP(CONCATENATE(K$5,$C21),'trend data'!$A$2:$O$11161,K$6,FALSE),3),\"-\")","v":11.917},{"$f":"IFERROR(VLOOKUP(CONCATENATE(L$5,$C21),'trend data'!$A$2:$O$11161,L$6,FALSE),\"-\")","v":"-"},{"$f":"IFERROR(VLOOKUP(CONCATENATE(M$5,$C21),'trend data'!$A$2:$O$11161,M$6,FALSE),\"-\")","v":"-"},{"$f":"IFERROR(VLOOKUP(CONCATENATE(N$5,$C21),'trend data'!$A$2:$O$11161,N$6,FALSE),\"-\")","v":"-"},{"$f":"IFERROR(VLOOKUP(CONCATENATE(O$5,$C21),'trend data'!$A$2:$O$11161,O$6,FALSE),\"-\")","v":"-"},{"$f":"IFERROR(VLOOKUP(CONCATENATE(P$5,$C21),'trend data'!$A$2:$O$11161,P$6,FALSE),\"-\")","v":"-"}]
[201802,"2018-06-01",{"$f":"CONCATENATE(A22,'SAB Data and Charts'!B$1)","v":"201802Scotland"},{"$f":"IFERROR(VLOOKUP(CONCATENATE(D$5,$C22),'trend data'!$A$2:$O$11161,D$6,FALSE),\"-\")","v":264},{"$f":"ROUND(VLOOKUP(CONCATENATE(E$5,$C22),'trend data'!$A$2:$O$11161,E$6,FALSE),3)","v":17.308},{"$f":"ROUND(VLOOKUP(CONCATENATE(F$5,$C22),'trend data'!$A$2:$O$11161,F$6,FALSE),3)","v":15.282},{"$f":"ROUND(VLOOKUP(CONCATENATE(G$5,$C22),'trend data'!$A$2:$O$11161,G$6,FALSE),3)","v":19.526},{"$f":"IFERROR(VLOOKUP(CONCATENATE(H$5,$C22),'trend data'!$A$2:$O$11161,H$6,FALSE),\"-\")","v":123},{"$f":"IFERROR(ROUND(VLOOKUP(CONCATENATE(I$5,$C22),'trend data'!$A$2:$O$11161,I$6,FALSE),3),\"-\")","v":9.0719999999999992},{"$f":"IFERROR(ROUND(VLOOKUP(CONCATENATE(J$5,$C22),'trend data'!$A$2:$O$11161,J$6,FALSE),3),\"-\")","v":7.54},{"$f":"IFERROR(ROUND(VLOOKUP(CONCATENATE(K$5,$C22),'trend data'!$A$2:$O$11161,K$6,FALSE),3),\"-\")","v":10.824},{"$f":"IFERROR(VLOOKUP(CONCATENATE(L$5,$C22),'trend data'!$A$2:$O$11161,L$6,FALSE),\"-\")","v":"-"},{"$f":"IFERROR(VLOOKUP(CONCATENATE(M$5,$C22),'trend data'!$A$2:$O$11161,M$6,FALSE),\"-\")","v":"-"},{"$f":"IFERROR(VLOOKUP(CONCATENATE(N$5,$C22),'trend data'!$A$2:$O$11161,N$6,FALSE),\"-\")","v":"-"},{"$f":"IFERROR(VLOOKUP(CONCATENATE(O$5,$C22),'trend data'!$A$2:$O$11161,O$6,FALSE),\"-\")","v":"-"},{"$f":"IFERROR(VLOOKUP(CONCATENATE(P$5,$C22),'trend data'!$A$2:$O$11161,P$6,FALSE),\"-\")","v":"-"}]
[201803,"2018-09-01",{"$f":"CONCATENATE(A23,'SAB Data and Charts'!B$1)","v":"201803Scotland"},{"$f":"IFERROR(VLOOKUP(CONCATENATE(D$5,$C23),'trend data'!$A$2:$O$11161,D$6,FALSE),\"-\")","v":253},{"$f":"ROUND(VLOOKUP(CONCATENATE(E$5,$C23),'trend data'!$A$2:$O$11161,E$6,FALSE),3)","v":16.736999999999998},{"$f":"ROUND(VLOOKUP(CONCATENATE(F$5,$C23),'trend data'!$A$2:$O$11161,F$6,FALSE),3)","v":14.738},{"$f":"ROUND(VLOOKUP(CONCATENATE(G$5,$C23),'trend data'!$A$2:$O$11161,G$6,FALSE),3)","v":18.931999999999999},{"$f":"IFERROR(VLOOKUP(CONCATENATE(H$5,$C23),'trend data'!$A$2:$O$11161,H$6,FALSE),\"-\")","v":132},{"$f":"IFERROR(ROUND(VLOOKUP(CONCATENATE(I$5,$C23),'trend data'!$A$2:$O$11161,I$6,FALSE),3),\"-\")","v":9.6300000000000008},{"$f":"IFERROR(ROUND(VLOOKUP(CONCATENATE(J$5,$C23),'trend data'!$A$2:$O$11161,J$6,FALSE),3),\"-\")","v":8.0570000000000004},{"$f":"IFERROR(ROUND(VLOOKUP(CONCATENATE(K$5,$C23),'trend data'!$A$2:$O$11161,K$6,FALSE),3),\"-\")","v":11.42},{"$f":"IFERROR(VLOOKUP(CONCATENATE(L$5,$C23),'trend data'!$A$2:$O$11161,L$6,FALSE),\"-\")","v":"-"},{"$f":"IFERROR(VLOOKUP(CONCATENATE(M$5,$C23),'trend data'!$A$2:$O$11161,M$6,FALSE),\"-\")","v":"-"},{"$f":"IFERROR(VLOOKUP(CONCATENATE(N$5,$C23),'trend data'!$A$2:$O$11161,N$6,FALSE),\"-\")","v":"-"},{"$f":"IFERROR(VLOOKUP(CONCATENATE(O$5,$C23),'trend data'!$A$2:$O$11161,O$6,FALSE),\"-\")","v":"-"},{"$f":"IFERROR(VLOOKUP(CONCATENATE(P$5,$C23),'trend data'!$A$2:$O$11161,P$6,FALSE),\"-\")","v":"-"}]
[201804,"2018-12-01",{"$f":"CONCATENATE(A24,'SAB Data and Charts'!B$1)","v":"201804Scotland"},{"$f":"IFERROR(VLOOKUP(CONCATENATE(D$5,$C24),'trend data'!$A$2:$O$11161,D$6,FALSE),\"-\")","v":269},{"$f":"ROUND(VLOOKUP(CONCATENATE(E$5,$C24),'trend data'!$A$2:$O$11161,E$6,FALSE),3)","v":17.672000000000001},{"$f":"ROUND(VLOOKUP(CONCATENATE(F$5,$C24),'trend data'!$A$2:$O$11161,F$6,FALSE),3)","v":15.622999999999999},{"$f":"ROUND(VLOOKUP(CONCATENATE(G$5,$C24),'trend data'!$A$2:$O$11161,G$6,FALSE),3)","v":19.914999999999999},{"$f":"IFERROR(VLOOKUP(CONCATENATE(H$5,$C24),'trend data'!$A$2:$O$11161,H$6,FALSE),\"-\")","v":113},{"$f":"IFERROR(ROUND(VLOOKUP(CONCATENATE(I$5,$C24),'trend data'!$A$2:$O$11161,I$6,FALSE),3),\"-\")","v":8.2439999999999998},{"$f":"IFERROR(ROUND(VLOOKUP(CONCATENATE(J$5,$C24),'trend data'!$A$2:$O$11161,J$6,FALSE),3),\"-\")","v":6.7939999999999996},{"$f":"IFERROR(ROUND(VLOOKUP(CONCATENATE(K$5,$C24),'trend data'!$A$2:$O$11161,K$6,FALSE),3),\"-\")","v":9.9120000000000008},{"$f":"IFERROR(VLOOKUP(CONCATENATE(L$5,$C24),'trend data'!$A$2:$O$11161,L$6,FALSE),\"-\")","v":"-"},{"$f":"IFERROR(VLOOKUP(CONCATENATE(M$5,$C24),'trend data'!$A$2:$O$11161,M$6,FALSE),\"-\")","v":"-"},{"$f":"IFERROR(VLOOKUP(CONCATENATE(N$5,$C24),'trend data'!$A$2:$O$11161,N$6,FALSE),\"-\")","v":"-"},{"$f":"IFERROR(VLOOKUP(CONCATENATE(O$5,$C24),'trend data'!$A$2:$O$11161,O$6,FALSE),\"-\")","v":"-"},{"$f":"IFERROR(VLOOKUP(CONCATENATE(P$5,$C24),'trend data'!$A$2:$O$11161,P$6,FALSE),\"-\")","v":"-"}]
[201901,"2019-03-01",{"$f":"CONCATENATE(A25,'SAB Data and Charts'!B$1)","v":"201901Scotland"},{"$f":"IFERROR(VLOOKUP(CONCATENATE(D$5,$C25),'trend data'!$A$2:$O$11161,D$6,FALSE),\"-\")","v":240},{"$f":"ROUND(VLOOKUP(CONCATENATE(E$5,$C25),'trend data'!$A$2:$O$11161,E$6,FALSE),3)","v":15.6},{"$f":"ROUND(VLOOKUP(CONCATENATE(F$5,$C25),'trend data'!$A$2:$O$11161,F$6,FALSE),3)","v":13.688000000000001},{"$f":"ROUND(VLOOKUP(CONCATENATE(G$5,$C25),'trend data'!$A$2:$O$11161,G$6,FALSE),3)","v":17.702999999999999},{"$f":"IFERROR(VLOOKUP(CONCATENATE(H$5,$C25),'trend data'!$A$2:$O$11161,H$6,FALSE),\"-\")","v":144},{"$f":"IFERROR(ROUND(VLOOKUP(CONCATENATE(I$5,$C25),'trend data'!$A$2:$O$11161,I$6,FALSE),3),\"-\")","v":10.69},{"$f":"IFERROR(ROUND(VLOOKUP(CONCATENATE(J$5,$C25),'trend data'!$A$2:$O$11161,J$6,FALSE),3),\"-\")","v":9.0150000000000006},{"$f":"IFERROR(ROUND(VLOOKUP(CONCATENATE(K$5,$C25),'trend data'!$A$2:$O$11161,K$6,FALSE),3),\"-\")","v":12.585000000000001},{"$f":"IFERROR(VLOOKUP(CONCATENATE(L$5,$C25),'trend data'!$A$2:$O$11161,L$6,FALSE),\"-\")","v":"-"},{"$f":"IFERROR(VLOOKUP(CONCATENATE(M$5,$C25),'trend data'!$A$2:$O$11161,M$6,FALSE),\"-\")","v":"-"},{"$f":"IFERROR(VLOOKUP(CONCATENATE(N$5,$C25),'trend data'!$A$2:$O$11161,N$6,FALSE),\"-\")","v":"-"},{"$f":"IFERROR(VLOOKUP(CONCATENATE(O$5,$C25),'trend data'!$A$2:$O$11161,O$6,FALSE),\"-\")","v":"-"},{"$f":"IFERROR(VLOOKUP(CONCATENATE(P$5,$C25),'trend data'!$A$2:$O$11161,P$6,FALSE),\"-\")","v":"-"}]
[201902,"2019-06-01",{"$f":"CONCATENATE(A26,'SAB Data and Charts'!B$1)","v":"201902Scotland"},{"$f":"IFERROR(VLOOKUP(CONCATENATE(D$5,$C26),'trend data'!$A$2:$O$11161,D$6,FALSE),\"-\")","v":251},{"$f":"ROUND(VLOOKUP(CONCATENATE(E$5,$C26),'trend data'!$A$2:$O$11161,E$6,FALSE),3)","v":16.664000000000001},{"$f":"ROUND(VLOOKUP(CONCATENATE(F$5,$C26),'trend data'!$A$2:$O$11161,F$6,FALSE),3)","v":14.666},{"$f":"ROUND(VLOOKUP(CONCATENATE(G$5,$C26),'trend data'!$A$2:$O$11161,G$6,FALSE),3)","v":18.858000000000001},{"$f":"IFERROR(VLOOKUP(CONCATENATE(H$5,$C26),'trend data'!$A$2:$O$11161,H$6,FALSE),\"-\")","v":133},{"$f":"IFERROR(ROUND(VLOOKUP(CONCATENATE(I$5,$C26),'trend data'!$A$2:$O$11161,I$6,FALSE),3),\"-\")","v":9.7639999999999993},{"$f":"IFERROR(ROUND(VLOOKUP(CONCATENATE(J$5,$C26),'trend data'!$A$2:$O$11161,J$6,FALSE),3),\"-\")","v":8.1750000000000007},{"$f":"IFERROR(ROUND(VLOOKUP(CONCATENATE(K$5,$C26),'trend data'!$A$2:$O$11161,K$6,FALSE),3),\"-\")","v":11.571999999999999},{"$f":"IFERROR(VLOOKUP(CONCATENATE(L$5,$C26),'trend data'!$A$2:$O$11161,L$6,FALSE),\"-\")","v":"-"},{"$f":"IFERROR(VLOOKUP(CONCATENATE(M$5,$C26),'trend data'!$A$2:$O$11161,M$6,FALSE),\"-\")","v":"-"},{"$f":"IFERROR(VLOOKUP(CONCATENATE(N$5,$C26),'trend data'!$A$2:$O$11161,N$6,FALSE),\"-\")","v":"-"},{"$f":"IFERROR(VLOOKUP(CONCATENATE(O$5,$C26),'trend data'!$A$2:$O$11161,O$6,FALSE),\"-\")","v":"-"},{"$f":"IFERROR(VLOOKUP(CONCATENATE(P$5,$C26),'trend data'!$A$2:$O$11161,P$6,FALSE),\"-\")","v":"-"}]
[201903,"2019-09-01",{"$f":"CONCATENATE(A27,'SAB Data and Charts'!B$1)","v":"201903Scotland"},{"$f":"IFERROR(VLOOKUP(CONCATENATE(D$5,$C27),'trend data'!$A$2:$O$11161,D$6,FALSE),\"-\")","v":264},{"$f":"ROUND(VLOOKUP(CONCATENATE(E$5,$C27),'trend data'!$A$2:$O$11161,E$6,FALSE),3)","v":17.518999999999998},{"$f":"ROUND(VLOOKUP(CONCATENATE(F$5,$C27),'trend data'!$A$2:$O$11161,F$6,FALSE),3)","v":15.468999999999999},{"$f":"ROUND(VLOOKUP(CONCATENATE(G$5,$C27),'trend data'!$A$2:$O$11161,G$6,FALSE),3)","v":19.763999999999999},{"$f":"IFERROR(VLOOKUP(CONCATENATE(H$5,$C27),'trend data'!$A$2:$O$11161,H$6,FALSE),\"-\")","v":102},{"$f":"IFERROR(ROUND(VLOOKUP(CONCATENATE(I$5,$C27),'trend data'!$A$2:$O$11161,I$6,FALSE),3),\"-\")","v":7.407},{"$f":"IFERROR(ROUND(VLOOKUP(CONCATENATE(J$5,$C27),'trend data'!$A$2:$O$11161,J$6,FALSE),3),\"-\")","v":6.0389999999999997},{"$f":"IFERROR(ROUND(VLOOKUP(CONCATENATE(K$5,$C27),'trend data'!$A$2:$O$11161,K$6,FALSE),3),\"-\")","v":8.9920000000000009},{"$f":"IFERROR(VLOOKUP(CONCATENATE(L$5,$C27),'trend data'!$A$2:$O$11161,L$6,FALSE),\"-\")","v":"-"},{"$f":"IFERROR(VLOOKUP(CONCATENATE(M$5,$C27),'trend data'!$A$2:$O$11161,M$6,FALSE),\"-\")","v":"-"},{"$f":"IFERROR(VLOOKUP(CONCATENATE(N$5,$C27),'trend data'!$A$2:$O$11161,N$6,FALSE),\"-\")","v":"-"},{"$f":"IFERROR(VLOOKUP(CONCATENATE(O$5,$C27),'trend data'!$A$2:$O$11161,O$6,FALSE),\"-\")","v":"-"},{"$f":"IFERROR(VLOOKUP(CONCATENATE(P$5,$C27),'trend data'!$A$2:$O$11161,P$6,FALSE),\"-\")","v":"-"}]
[201904,"2019-12-01",{"$f":"CONCATENATE(A28,'SAB Data and Charts'!B$1)","v":"201904Scotland"},{"$f":"IFERROR(VLOOKUP(CONCATENATE(D$5,$C28),'trend data'!$A$2:$O$11161,D$6,FALSE),\"-\")","v":233},{"$f":"ROUND(VLOOKUP(CONCATENATE(E$5,$C28),'trend data'!$A$2:$O$11161,E$6,FALSE),3)","v":15.214},{"$f":"ROUND(VLOOKUP(CONCATENATE(F$5,$C28),'trend data'!$A$2:$O$11161,F$6,FALSE),3)","v":13.323},{"$f":"ROUND(VLOOKUP(CONCATENATE(G$5,$C28),'trend data'!$A$2:$O$11161,G$6,FALSE),3)","v":17.297999999999998},{"$f":"IFERROR(VLOOKUP(CONCATENATE(H$5,$C28),'trend data'!$A$2:$O$11161,H$6,FALSE),\"-\")","v":132},{"$f":"IFERROR(ROUND(VLOOKUP(CONCATENATE(I$5,$C28),'trend data'!$A$2:$O$11161,I$6,FALSE),3),\"-\")","v":9.5860000000000003},{"$f":"IFERROR(ROUND(VLOOKUP(CONCATENATE(J$5,$C28),'trend data'!$A$2:$O$11161,J$6,FALSE),3),\"-\")","v":8.02},{"$f":"IFERROR(ROUND(VLOOKUP(CONCATENATE(K$5,$C28),'trend data'!$A$2:$O$11161,K$6,FALSE),3),\"-\")","v":11.368},{"$f":"IFERROR(VLOOKUP(CONCATENATE(L$5,$C28),'trend data'!$A$2:$O$11161,L$6,FALSE),\"-\")","v":"-"},{"$f":"IFERROR(VLOOKUP(CONCATENATE(M$5,$C28),'trend data'!$A$2:$O$11161,M$6,FALSE),\"-\")","v":"-"},{"$f":"IFERROR(VLOOKUP(CONCATENATE(N$5,$C28),'trend data'!$A$2:$O$11161,N$6,FALSE),\"-\")","v":"-"},{"$f":"IFERROR(VLOOKUP(CONCATENATE(O$5,$C28),'trend data'!$A$2:$O$11161,O$6,FALSE),\"-\")","v":"-"},{"$f":"IFERROR(VLOOKUP(CONCATENATE(P$5,$C28),'trend data'!$A$2:$O$11161,P$6,FALSE),\"-\")","v":"-"}]
[202001,"2020-03-01",{"$f":"CONCATENATE(A29,'SAB Data and Charts'!B$1)","v":"202001Scotland"},{"$f":"IFERROR(VLOOKUP(CONCATENATE(D$5,$C29),'trend data'!$A$2:$O$11161,D$6,FALSE),\"-\")","v":241},{"$f":"ROUND(VLOOKUP(CONCATENATE(E$5,$C29),'trend data'!$A$2:$O$11161,E$6,FALSE),3)","v":16.327999999999999},{"$f":"ROUND(VLOOKUP(CONCATENATE(F$5,$C29),'trend data'!$A$2:$O$11161,F$6,FALSE),3)","v":14.332000000000001},{"$f":"ROUND(VLOOKUP(CONCATENATE(G$5,$C29),'trend data'!$A$2:$O$11161,G$6,FALSE),3)","v":18.526},{"$f":"IFERROR(VLOOKUP(CONCATENATE(H$5,$C29),'trend data'!$A$2:$O$11161,H$6,FALSE),\"-\")","v":149},{"$f":"IFERROR(ROUND(VLOOKUP(CONCATENATE(I$5,$C29),'trend data'!$A$2:$O$11161,I$6,FALSE),3),\"-\")","v":10.964},{"$f":"IFERROR(ROUND(VLOOKUP(CONCATENATE(J$5,$C29),'trend data'!$A$2:$O$11161,J$6,FALSE),3),\"-\")","v":9.2739999999999991},{"$f":"IFERROR(ROUND(VLOOKUP(CONCATENATE(K$5,$C29),'trend data'!$A$2:$O$11161,K$6,FALSE),3),\"-\")","v":12.872},{"$f":"IFERROR(VLOOKUP(CONCATENATE(L$5,$C29),'trend data'!$A$2:$O$11161,L$6,FALSE),\"-\")","v":"-"},{"$f":"IFERROR(VLOOKUP(CONCATENATE(M$5,$C29),'trend data'!$A$2:$O$11161,M$6,FALSE),\"-\")","v":"-"},{"$f":"IFERROR(VLOOKUP(CONCATENATE(N$5,$C29),'trend data'!$A$2:$O$11161,N$6,FALSE),\"-\")","v":"-"},{"$f":"IFERROR(VLOOKUP(CONCATENATE(O$5,$C29),'trend data'!$A$2:$O$11161,O$6,FALSE),\"-\")","v":"-"},{"$f":"IFERROR(VLOOKUP(CONCATENATE(P$5,$C29),'trend data'!$A$2:$O$11161,P$6,FALSE),\"-\")","v":"-"}]
[202002,"2020-06-01",{"$f":"CONCATENATE(A30,'SAB Data and Charts'!B$1)","v":"202002Scotland"},{"$f":"IFERROR(VLOOKUP(CONCATENATE(D$5,$C30),'trend data'!$A$2:$O$11161,D$6,FALSE),\"-\")","v":219},{"$f":"ROUND(VLOOKUP(CONCATENATE(E$5,$C30),'trend data'!$A$2:$O$11161,E$6,FALSE),3)","v":20.260000000000002},{"$f":"ROUND(VLOOKUP(CONCATENATE(F$5,$C30),'trend data'!$A$2:$O$11161,F$6,FALSE),3)","v":17.664999999999999},{"$f":"ROUND(VLOOKUP(CONCATENATE(G$5,$C30),'trend data'!$A$2:$O$11161,G$6,FALSE),3)","v":23.129000000000001},{"$f":"IFERROR(VLOOKUP(CONCATENATE(H$5,$C30),'trend data'!$A$2:$O$11161,H$6,FALSE),\"-\")","v":132},{"$f":"IFERROR(ROUND(VLOOKUP(CONCATENATE(I$5,$C30),'trend data'!$A$2:$O$11161,I$6,FALSE),3),\"-\")","v":9.7129999999999992},{"$f":"IFERROR(ROUND(VLOOKUP(CONCATENATE(J$5,$C30),'trend data'!$A$2:$O$11161,J$6,FALSE),3),\"-\")","v":8.1259999999999994},{"$f":"IFERROR(ROUND(VLOOKUP(CONCATENATE(K$5,$C30),'trend data'!$A$2:$O$11161,K$6,FALSE),3),\"-\")","v":11.518000000000001},{"$f":"IFERROR(VLOOKUP(CONCATENATE(L$5,$C30),'trend data'!$A$2:$O$11161,L$6,FALSE),\"-\")","v":"-"},{"$f":"IFERROR(VLOOKUP(CONCATENATE(M$5,$C30),'trend data'!$A$2:$O$11161,M$6,FALSE),\"-\")","v":"-"},{"$f":"IFERROR(VLOOKUP(CONCATENATE(N$5,$C30),'trend data'!$A$2:$O$11161,N$6,FALSE),\"-\")","v":"-"},{"$f":"IFERROR(VLOOKUP(CONCATENATE(O$5,$C30),'trend data'!$A$2:$O$11161,O$6,FALSE),\"-\")","v":"-"},{"$f":"IFERROR(VLOOKUP(CONCATENATE(P$5,$C30),'trend data'!$A$2:$O$11161,P$6,FALSE),\"-\")","v":"-"}]
[202003,"2020-09-01",{"$f":"CONCATENATE(A31,'SAB Data and Charts'!B$1)","v":"202003Scotland"},{"$f":"IFERROR(VLOOKUP(CONCATENATE(D$5,$C31),'trend data'!$A$2:$O$11161,D$6,FALSE),\"-\")","v":224},{"$f":"ROUND(VLOOKUP(CONCATENATE(E$5,$C31),'trend data'!$A$2:$O$11161,E$6,FALSE),4)","v":17.178100000000001},{"$f":"ROUND(VLOOKUP(CONCATENATE(F$5,$C31),'trend data'!$A$2:$O$11161,F$6,FALSE),4)","v":15.001899999999999},{"$f":"ROUND(VLOOKUP(CONCATENATE(G$5,$C31),'trend data'!$A$2:$O$11161,G$6,FALSE),4)","v":19.581299999999999},{"$f":"IFERROR(VLOOKUP(CONCATENATE(H$5,$C31),'trend data'!$A$2:$O$11161,H$6,FALSE),\"-\")","v":149},{"$f":"IFERROR(ROUND(VLOOKUP(CONCATENATE(I$5,$C31),'trend data'!$A$2:$O$11161,I$6,FALSE),4),\"-\")","v":10.8445},{"$f":"IFERROR(ROUND(VLOOKUP(CONCATENATE(J$5,$C31),'trend data'!$A$2:$O$11161,J$6,FALSE),4),\"-\")","v":9.173},{"$f":"IFERROR(ROUND(VLOOKUP(CONCATENATE(K$5,$C31),'trend data'!$A$2:$O$11161,K$6,FALSE),4),\"-\")","v":12.7324},{"$f":"IFERROR(VLOOKUP(CONCATENATE(L$5,$C31),'trend data'!$A$2:$O$11161,L$6,FALSE),\"-\")","v":"-"},{"$f":"IFERROR(VLOOKUP(CONCATENATE(M$5,$C31),'trend data'!$A$2:$O$11161,M$6,FALSE),\"-\")","v":"-"},{"$f":"IFERROR(VLOOKUP(CONCATENATE(N$5,$C31),'trend data'!$A$2:$O$11161,N$6,FALSE),\"-\")","v":"-"},{"$f":"IFERROR(VLOOKUP(CONCATENATE(O$5,$C31),'trend data'!$A$2:$O$11161,O$6,FALSE),\"-\")","v":"-"}]
[202004,"2020-12-01",{"$f":"CONCATENATE(A32,'SAB Data and Charts'!B$1)","v":"202004Scotland"},{"$f":"IFERROR(VLOOKUP(CONCATENATE(D$5,$C32),'trend data'!$A$2:$O$11161,D$6,FALSE),\"-\")","v":256},{"$f":"ROUND(VLOOKUP(CONCATENATE(E$5,$C32),'trend data'!$A$2:$O$11161,E$6,FALSE),4)","v":18.854099999999999},{"$f":"ROUND(VLOOKUP(CONCATENATE(F$5,$C32),'trend data'!$A$2:$O$11161,F$6,FALSE),4)","v":16.614899999999999},{"$f":"ROUND(VLOOKUP(CONCATENATE(G$5,$C32),'trend data'!$A$2:$O$11161,G$6,FALSE),4)","v":21.3109},{"$f":"IFERROR(VLOOKUP(CONCATENATE(H$5,$C32),'trend data'!$A$2:$O$11161,H$6,FALSE),\"-\")","v":131},{"$f":"IFERROR(ROUND(VLOOKUP(CONCATENATE(I$5,$C32),'trend data'!$A$2:$O$11161,I$6,FALSE),4),\"-\")","v":9.5343999999999998},{"$f":"IFERROR(ROUND(VLOOKUP(CONCATENATE(J$5,$C32),'trend data'!$A$2:$O$11161,J$6,FALSE),4),\"-\")","v":7.9715999999999996},{"$f":"IFERROR(ROUND(VLOOKUP(CONCATENATE(K$5,$C32),'trend data'!$A$2:$O$11161,K$6,FALSE),4),\"-\")","v":11.3141},{"$f":"IFERROR(VLOOKUP(CONCATENATE(L$5,$C32),'trend data'!$A$2:$O$11161,L$6,FALSE),\"-\")","v":"-"},{"$f":"IFERROR(VLOOKUP(CONCATENATE(M$5,$C32),'trend data'!$A$2:$O$11161,M$6,FALSE),\"-\")","v":"-"},{"$f":"IFERROR(VLOOKUP(CONCATENATE(N$5,$C32),'trend data'!$A$2:$O$11161,N$6,FALSE),\"-\")","v":"-"},{"$f":"IFERROR(VLOOKUP(CONCATENATE(O$5,$C32),'trend data'!$A$2:$O$11161,O$6,FALSE),\"-\")","v":"-"}]
[202101,"2021-03-31",{"$f":"CONCATENATE(A33,'SAB Data and Charts'!B$1)","v":"202101Scotland"},{"$f":"IFERROR(VLOOKUP(CONCATENATE(D$5,$C33),'trend data'!$A$2:$O$11161,D$6,FALSE),\"-\")","v":248},{"$f":"ROUND(VLOOKUP(CONCATENATE(E$5,$C33),'trend data'!$A$2:$O$11161,E$6,FALSE),4)","v":18.3339},{"$f":"ROUND(VLOOKUP(CONCATENATE(F$5,$C33),'trend data'!$A$2:$O$11161,F$6,FALSE),4)","v":16.122800000000002},{"$f":"ROUND(VLOOKUP(CONCATENATE(G$5,$C33),'trend data'!$A$2:$O$11161,G$6,FALSE),4)","v":20.763500000000001},{"$f":"IFERROR(VLOOKUP(CONCATENATE(H$5,$C33),'trend data'!$A$2:$O$11161,H$6,FALSE),\"-\")","v":140},{"$f":"IFERROR(ROUND(VLOOKUP(CONCATENATE(I$5,$C33),'trend data'!$A$2:$O$11161,I$6,FALSE),4),\"-\")","v":10.3874},{"$f":"IFERROR(ROUND(VLOOKUP(CONCATENATE(J$5,$C33),'trend data'!$A$2:$O$11161,J$6,FALSE),4),\"-\")","v":8.7379999999999995},{"$f":"IFERROR(ROUND(VLOOKUP(CONCATENATE(K$5,$C33),'trend data'!$A$2:$O$11161,K$6,FALSE),4),\"-\")","v":12.2577},{"$f":"IFERROR(VLOOKUP(CONCATENATE(L$5,$C33),'trend data'!$A$2:$O$11161,L$6,FALSE),\"-\")","v":"-"},{"$f":"IFERROR(VLOOKUP(CONCATENATE(M$5,$C33),'trend data'!$A$2:$O$11161,M$6,FALSE),\"-\")","v":"-"},{"$f":"IFERROR(VLOOKUP(CONCATENATE(N$5,$C33),'trend data'!$A$2:$O$11161,N$6,FALSE),\"-\")","v":"-"},{"$f":"IFERROR(VLOOKUP(CONCATENATE(O$5,$C33),'trend data'!$A$2:$O$11161,O$6,FALSE),\"-\")","v":"-"}]
[202102,"2021-06-30",{"$f":"CONCATENATE(A34,'SAB Data and Charts'!B$1)","v":"202102Scotland"},{"$f":"IFERROR(VLOOKUP(CONCATENATE(D$5,$C34),'trend data'!$A$2:$O$11161,D$6,FALSE),\"-\")","v":260},{"$f":"ROUND(VLOOKUP(CONCATENATE(E$5,$C34),'trend data'!$A$2:$O$11161,E$6,FALSE),4)","v":18.648299999999999},{"$f":"ROUND(VLOOKUP(CONCATENATE(F$5,$C34),'trend data'!$A$2:$O$11161,F$6,FALSE),4)","v":16.450099999999999},{"$f":"ROUND(VLOOKUP(CONCATENATE(G$5,$C34),'trend data'!$A$2:$O$11161,G$6,FALSE),4)","v":21.058399999999999},{"$f":"IFERROR(VLOOKUP(CONCATENATE(H$5,$C34),'trend data'!$A$2:$O$11161,H$6,FALSE),\"-\")","v":148},{"$f":"IFERROR(ROUND(VLOOKUP(CONCATENATE(I$5,$C34),'trend data'!$A$2:$O$11161,I$6,FALSE),4),\"-\")","v":10.860300000000001},{"$f":"IFERROR(ROUND(VLOOKUP(CONCATENATE(J$5,$C34),'trend data'!$A$2:$O$11161,J$6,FALSE),4),\"-\")","v":9.1809999999999992},{"$f":"IFERROR(ROUND(VLOOKUP(CONCATENATE(K$5,$C34),'trend data'!$A$2:$O$11161,K$6,FALSE),4),\"-\")","v":12.757899999999999},{"$f":"IFERROR(VLOOKUP(CONCATENATE(L$5,$C34),'trend data'!$A$2:$O$11161,L$6,FALSE),\"-\")","v":"-"},{"$f":"IFERROR(VLOOKUP(CONCATENATE(M$5,$C34),'trend data'!$A$2:$O$11161,M$6,FALSE),\"-\")","v":"-"},{"$f":"IFERROR(VLOOKUP(CONCATENATE(N$5,$C34),'trend data'!$A$2:$O$11161,N$6,FALSE),\"-\")","v":"-"},{"$f":"IFERROR(VLOOKUP(CONCATENATE(O$5,$C34),'trend data'!$A$2:$O$11161,O$6,FALSE),\"-\")","v":"-"}]
[202103,"2021-09-30",{"$f":"CONCATENATE(A35,'SAB Data and Charts'!B$1)","v":"202103Scotland"},{"$f":"IFERROR(VLOOKUP(CONCATENATE(D$5,$C35),'trend data'!$A$2:$O$11161,D$6,FALSE),\"-\")","v":267},{"$f":"ROUND(VLOOKUP(CONCATENATE(E$5,$C35),'trend data'!$A$2:$O$11161,E$6,FALSE),4)","v":18.333300000000001},{"$f":"ROUND(VLOOKUP(CONCATENATE(F$5,$C35),'trend data'!$A$2:$O$11161,F$6,FALSE),4)","v":16.1999},{"$f":"ROUND(VLOOKUP(CONCATENATE(G$5,$C35),'trend data'!$A$2:$O$11161,G$6,FALSE),4)","v":20.669499999999999},{"$f":"IFERROR(VLOOKUP(CONCATENATE(H$5,$C35),'trend data'!$A$2:$O$11161,H$6,FALSE),\"-\")","v":132},{"$f":"IFERROR(ROUND(VLOOKUP(CONCATENATE(I$5,$C35),'trend data'!$A$2:$O$11161,I$6,FALSE),4),\"-\")","v":9.5809999999999995},{"$f":"IFERROR(ROUND(VLOOKUP(CONCATENATE(J$5,$C35),'trend data'!$A$2:$O$11161,J$6,FALSE),4),\"-\")","v":8.0161999999999995},{"$f":"IFERROR(ROUND(VLOOKUP(CONCATENATE(K$5,$C35),'trend data'!$A$2:$O$11161,K$6,FALSE),4),\"-\")","v":11.3619},{"$f":"IFERROR(VLOOKUP(CONCATENATE(L$5,$C35),'trend data'!$A$2:$O$11161,L$6,FALSE),\"-\")","v":"-"},{"$f":"IFERROR(VLOOKUP(CONCATENATE(M$5,$C35),'trend data'!$A$2:$O$11161,M$6,FALSE),\"-\")","v":"-"},{"$f":"IFERROR(VLOOKUP(CONCATENATE(N$5,$C35),'trend data'!$A$2:$O$11161,N$6,FALSE),\"-\")","v":"-"},{"$f":"IFERROR(VLOOKUP(CONCATENATE(O$5,$C35),'trend data'!$A$2:$O$11161,O$6,FALSE),\"-\")","v":"-"}]
[202104,"2021-12-31",{"$f":"CONCATENATE(A36,'SAB Data and Charts'!B$1)","v":"202104Scotland"},{"$f":"IFERROR(VLOOKUP(CONCATENATE(D$5,$C36),'trend data'!$A$2:$O$11161,D$6,FALSE),\"-\")","v":259},{"$f":"ROUND(VLOOKUP(CONCATENATE(E$5,$C36),'trend data'!$A$2:$O$11161,E$6,FALSE),4)","v":17.338899999999999},{"$f":"ROUND(VLOOKUP(CONCATENATE(F$5,$C36),'trend data'!$A$2:$O$11161,F$6,FALSE),4)","v":15.2913},{"$f":"ROUND(VLOOKUP(CONCATENATE(G$5,$C36),'trend data'!$A$2:$O$11161,G$6,FALSE),4)","v":19.584299999999999},{"$f":"IFERROR(VLOOKUP(CONCATENATE(H$5,$C36),'trend data'!$A$2:$O$11161,H$6,FALSE),\"-\")","v":136},{"$f":"IFERROR(ROUND(VLOOKUP(CONCATENATE(I$5,$C36),'trend data'!$A$2:$O$11161,I$6,FALSE),4),\"-\")","v":9.8712999999999997},{"$f":"IFERROR(ROUND(VLOOKUP(CONCATENATE(J$5,$C36),'trend data'!$A$2:$O$11161,J$6,FALSE),4),\"-\")","v":8.2819000000000003},{"$f":"IFERROR(ROUND(VLOOKUP(CONCATENATE(K$5,$C36),'trend data'!$A$2:$O$11161,K$6,FALSE),4),\"-\")","v":11.6768},{"$f":"IFERROR(VLOOKUP(CONCATENATE(L$5,$C36),'trend data'!$A$2:$O$11161,L$6,FALSE),\"-\")","v":"-"},{"$f":"IFERROR(VLOOKUP(CONCATENATE(M$5,$C36),'trend data'!$A$2:$O$11161,M$6,FALSE),\"-\")","v":"-"},{"$f":"IFERROR(VLOOKUP(CONCATENATE(N$5,$C36),'trend data'!$A$2:$O$11161,N$6,FALSE),\"-\")","v":"-"},{"$f":"IFERROR(VLOOKUP(CONCATENATE(O$5,$C36),'trend data'!$A$2:$O$11161,O$6,FALSE),\"-\")","v":"-"}]

{"sheet":"CDI data","index":8,"n_rows":36,"n_cols":27,"rows_kept":36,"cut":false,"hidden":true,"merged":[]}
["Trend data",null,null,null,null,null,null,null,null,null,null,null,null,null,"u-chart data"]
[]
["always last 3 years"]
[null,null,null,null,null,null,null,null,null,null,null,null,null,null,null,null,"change this"]
[null,null,null,"CDIHCAI","CDIHCAI","CDIHCAI","CDIHCAI","CDICA","CDICA","CDICA","CDICA",null,null,null,null,"current quarter end","2021-12-31",null,3,4,5,6,null,3,4,5,6]
[null,null,null,2,4,5,6,2,4,5,6]
[null,null,"ref","Healthcare associated Cases","Healthcare associated rate","Healthcare associated lower CI","Healthcare associated upper CI","Community associated Cases","Community associated rate","Community associated lower CI","Community associated upper CI",null,null,null,null,null,null,null,"CDIHCAI",null,null,null,null,"CDICA"]
[201404,"2014-12-19",{"$f":"CONCATENATE(A8,'CDI Data and Charts'!B$1)","v":"201404Scotland"},{"$f":"VLOOKUP(CONCATENATE(D$5,$C8),'trend data'!$A$2:$O$11161,D$6,FALSE)","v":321},{"$f":"ROUND(VLOOKUP(CONCATENATE(E$5,$C8),'trend data'!$A$2:$O$11161,E$6,FALSE),3)","v":18.751999999999999},{"$f":"ROUND(VLOOKUP(CONCATENATE(F$5,$C8),'trend data'!$A$2:$O$11161,F$6,FALSE),3)","v":16.756},{"$f":"ROUND(VLOOKUP(CONCATENATE(G$5,$C8),'trend data'!$A$2:$O$11161,G$6,FALSE),3)","v":20.92},{"$f":"IFERROR(VLOOKUP(CONCATENATE(H$5,$C8),'trend data'!$A$2:$O$11161,H$6,FALSE),\"-\")","v":121},{"$f":"IFERROR(ROUND(VLOOKUP(CONCATENATE(I$5,$C8),'trend data'!$A$2:$O$11161,I$6,FALSE),3),\"-\")","v":8.9770000000000003},{"$f":"IFERROR(ROUND(VLOOKUP(CONCATENATE(J$5,$C8),'trend data'!$A$2:$O$11161,J$6,FALSE),3),\"-\")","v":7.4489999999999998},{"$f":"IFERROR(ROUND(VLOOKUP(CONCATENATE(K$5,$C8),'trend data'!$A$2:$O$11161,K$6,FALSE),3),\"-\")","v":10.726000000000001},null,null,null,null,null,null,null,"Healthcare associated rate","Healthcare associated av rate","Healthcare associated UWL 2sd","Healthcare associated UWL 3sd",null,"Community associatedrate","Community associatedav rate","Community associatedUWL 2sd","Community associatedUWL 3 sd"]
[201501,"2015-03-24",{"$f":"CONCATENATE(A9,'CDI Data and Charts'!B$1)","v":"201501Scotland"},{"$f":"VLOOKUP(CONCATENATE(D$5,$C9),'trend data'!$A$2:$O$11161,D$6,FALSE)","v":251},{"$f":"ROUND(VLOOKUP(CONCATENATE(E$5,$C9),'trend data'!$A$2:$O$11161,E$6,FALSE),3)","v":14.561999999999999},{"$f":"ROUND(VLOOKUP(CONCATENATE(F$5,$C9),'trend data'!$A$2:$O$11161,F$6,FALSE),3)","v":12.816000000000001},{"$f":"ROUND(VLOOKUP(CONCATENATE(G$5,$C9),'trend data'!$A$2:$O$11161,G$6,FALSE),3)","v":16.478999999999999},{"$f":"IFERROR(VLOOKUP(CONCATENATE(H$5,$C9),'trend data'!$A$2:$O$11161,H$6,FALSE),\"-\")","v":92},{"$f":"IFERROR(ROUND(VLOOKUP(CONCATENATE(I$5,$C9),'trend data'!$A$2:$O$11161,I$6,FALSE),3),\"-\")","v":6.944},{"$f":"IFERROR(ROUND(VLOOKUP(CONCATENATE(J$5,$C9),'trend data'!$A$2:$O$11161,J$6,FALSE),3),\"-\")","v":5.5979999999999999},{"$f":"IFERROR(ROUND(VLOOKUP(CONCATENATE(K$5,$C9),'trend data'!$A$2:$O$11161,K$6,FALSE),3),\"-\")","v":8.5169999999999995},null,null,null,{"$f":"YEAR(Q9)&\"0\"&IF(MONTH(Q9)<4,1,IF(MONTH(Q9)<7,2,IF(MONTH(Q9)<10,3,4)))","v":"201901"},1,{"$f":"Q10-92","v":"2019-03-25"},{"$f":"CONCATENATE(S$7,$O9,'CDI Data and Charts'!B$1)","v":"CDIHCAI201901Scotland"},{"$f":"ROUND(VLOOKUP($R9,'data for u-p-charts'!$A$2:$F$5000,S$5,FALSE),2)","v":12.09},{"$f":"ROUND(VLOOKUP($R9,'data for u-p-charts'!$A$2:$F$5000,T$5,FALSE),2)","v":14.71},{"$f":"ROUND(VLOOKUP($R9,'data for u-p-charts'!$A$2:$F$5000,U$5,FALSE),2)","v":16.670000000000002},{"$f":"ROUND(VLOOKUP($R9,'data for u-p-charts'!$A$2:$F$5000,V$5,FALSE),2)","v":17.649999999999999},{"$f":"CONCATENATE(X$7,$O9,'CDI Data and Charts'!B$1)","v":"CDICA201901Scotland"},{"$f":"ROUND(VLOOKUP($W9,'data for u-p-charts'!$A$2:$F$5000,X$5,FALSE),2)","v":3.71},{"$f":"ROUND(VLOOKUP($W9,'data for u-p-charts'!$A$2:$F$5000,Y$5,FALSE),2)","v":5},{"$f":"ROUND(VLOOKUP($W9,'data for u-p-charts'!$A$2:$F$5000,Z$5,FALSE),2)","v":6.22},{"$f":"ROUND(VLOOKUP($W9,'data for u-p-charts'!$A$2:$F$5000,AA$5,FALSE),2)","v":6.82}]
[201502,"2015-06-24",{"$f":"CONCATENATE(A10,'CDI Data and Charts'!B$1)","v":"201502Scotland"},{"$f":"VLOOKUP(CONCATENATE(D$5,$C10),'trend data'!$A$2:$O$11161,D$6,FALSE)","v":308},{"$f":"ROUND(VLOOKUP(CONCATENATE(E$5,$C10),'trend data'!$A$2:$O$11161,E$6,FALSE),3)","v":18.538},{"$f":"ROUND(VLOOKUP(CONCATENATE(F$5,$C10),'trend data'!$A$2:$O$11161,F$6,FALSE),3)","v":16.526},{"$f":"ROUND(VLOOKUP(CONCATENATE(G$5,$C10),'trend data'!$A$2:$O$11161,G$6,FALSE),3)","v":20.728999999999999},{"$f":"IFERROR(VLOOKUP(CONCATENATE(H$5,$C10),'trend data'!$A$2:$O$11161,H$6,FALSE),\"-\")","v":98},{"$f":"IFERROR(ROUND(VLOOKUP(CONCATENATE(I$5,$C10),'trend data'!$A$2:$O$11161,I$6,FALSE),3),\"-\")","v":7.3159999999999998},{"$f":"IFERROR(ROUND(VLOOKUP(CONCATENATE(J$5,$C10),'trend data'!$A$2:$O$11161,J$6,FALSE),3),\"-\")","v":5.9390000000000001},{"$f":"IFERROR(ROUND(VLOOKUP(CONCATENATE(K$5,$C10),'trend data'!$A$2:$O$11161,K$6,FALSE),3),\"-\")","v":8.9160000000000004},null,null,null,{"$f":"YEAR(Q10)&\"0\"&IF(MONTH(Q10)<4,1,IF(MONTH(Q10)<7,2,IF(MONTH(Q10)<10,3,4)))","v":"201902"},2,"2019-06-25",{"$f":"CONCATENATE(S$7,$O10,'CDI Data and Charts'!B$1)","v":"CDIHCAI201902Scotland"},{"$f":"ROUND(VLOOKUP($R10,'data for u-p-charts'!$A$2:$F$5000,S$5,FALSE),2)","v":12.22},{"$f":"ROUND(VLOOKUP($R10,'data for u-p-charts'!$A$2:$F$5000,T$5,FALSE),2)","v":14.71},{"$f":"ROUND(VLOOKUP($R10,'data for u-p-charts'!$A$2:$F$5000,U$5,FALSE),2)","v":16.690000000000001},{"$f":"ROUND(VLOOKUP($R10,'data for u-p-charts'!$A$2:$F$5000,V$5,FALSE),2)","v":17.68},{"$f":"CONCATENATE(X$7,$O10,'CDI Data and Charts'!B$1)","v":"CDICA201902Scotland"},{"$f":"ROUND(VLOOKUP($W10,'data for u-p-charts'!$A$2:$F$5000,X$5,FALSE),2)","v":4.8499999999999996},{"$f":"ROUND(VLOOKUP($W10,'data for u-p-charts'!$A$2:$F$5000,Y$5,FALSE),2)","v":5},{"$f":"ROUND(VLOOKUP($W10,'data for u-p-charts'!$A$2:$F$5000,Z$5,FALSE),2)","v":6.21},{"$f":"ROUND(VLOOKUP($W10,'data for u-p-charts'!$A$2:$F$5000,AA$5,FALSE),2)","v":6.81}]
[201503,"2015-09-24",{"$f":"CONCATENATE(A11,'CDI Data and Charts'!B$1)","v":"201503Scotland"},{"$f":"VLOOKUP(CONCATENATE(D$5,$C11),'trend data'!$A$2:$O$11161,D$6,FALSE)","v":313},{"$f":"ROUND(VLOOKUP(CONCATENATE(E$5,$C11),'trend data'!$A$2:$O$11161,E$6,FALSE),3)","v":19.309999999999999},{"$f":"ROUND(VLOOKUP(CONCATENATE(F$5,$C11),'trend data'!$A$2:$O$11161,F$6,FALSE),3)","v":17.23},{"$f":"ROUND(VLOOKUP(CONCATENATE(G$5,$C11),'trend data'!$A$2:$O$11161,G$6,FALSE),3)","v":21.573},{"$f":"IFERROR(VLOOKUP(CONCATENATE(H$5,$C11),'trend data'!$A$2:$O$11161,H$6,FALSE),\"-\")","v":131},{"$f":"IFERROR(ROUND(VLOOKUP(CONCATENATE(I$5,$C11),'trend data'!$A$2:$O$11161,I$6,FALSE),3),\"-\")","v":9.673},{"$f":"IFERROR(ROUND(VLOOKUP(CONCATENATE(J$5,$C11),'trend data'!$A$2:$O$11161,J$6,FALSE),3),\"-\")","v":8.0869999999999997},{"$f":"IFERROR(ROUND(VLOOKUP(CONCATENATE(K$5,$C11),'trend data'!$A$2:$O$11161,K$6,FALSE),3),\"-\")","v":11.478},null,null,null,"201903",3,"2019-09-25",{"$f":"CONCATENATE(S$7,$O11,'CDI Data and Charts'!B$1)","v":"CDIHCAI201903Scotland"},{"$f":"ROUND(VLOOKUP($R11,'data for u-p-charts'!$A$2:$F$5000,S$5,FALSE),2)","v":13.74},{"$f":"ROUND(VLOOKUP($R11,'data for u-p-charts'!$A$2:$F$5000,T$5,FALSE),2)","v":14.71},{"$f":"ROUND(VLOOKUP($R11,'data for u-p-charts'!$A$2:$F$5000,U$5,FALSE),2)","v":16.690000000000001},{"$f":"ROUND(VLOOKUP($R11,'data for u-p-charts'!$A$2:$F$5000,V$5,FALSE),2)","v":17.68},{"$f":"CONCATENATE(X$7,$O11,'CDI Data and Charts'!B$1)","v":"CDICA201903Scotland"},{"$f":"ROUND(VLOOKUP($W11,'data for u-p-charts'!$A$2:$F$5000,X$5,FALSE),2)","v":5.23},{"$f":"ROUND(VLOOKUP($W11,'data for u-p-charts'!$A$2:$F$5000,Y$5,FALSE),2)","v":5},{"$f":"ROUND(VLOOKUP($W11,'data for u-p-charts'!$A$2:$F$5000,Z$5,FALSE),2)","v":6.2},{"$f":"ROUND(VLOOKUP($W11,'data for u-p-charts'!$A$2:$F$5000,AA$5,FALSE),2)","v":6.8}]
[201504,"2015-12-24",{"$f":"CONCATENATE(A12,'CDI Data and Charts'!B$1)","v":"201504Scotland"},{"$f":"VLOOKUP(CONCATENATE(D$5,$C12),'trend data'!$A$2:$O$11161,D$6,FALSE)","v":367},{"$f":"ROUND(VLOOKUP(CONCATENATE(E$5,$C12),'trend data'!$A$2:$O$11161,E$6,FALSE),3)","v":22.349},{"$f":"ROUND(VLOOKUP(CONCATENATE(F$5,$C12),'trend data'!$A$2:$O$11161,F$6,FALSE),3)","v":20.12},{"$f":"ROUND(VLOOKUP(CONCATENATE(G$5,$C12),'trend data'!$A$2:$O$11161,G$6,FALSE),3)","v":24.756},{"$f":"IFERROR(VLOOKUP(CONCATENATE(H$5,$C12),'trend data'!$A$2:$O$11161,H$6,FALSE),\"-\")","v":116},{"$f":"IFERROR(ROUND(VLOOKUP(CONCATENATE(I$5,$C12),'trend data'!$A$2:$O$11161,I$6,FALSE),3),\"-\")","v":8.5649999999999995},{"$f":"IFERROR(ROUND(VLOOKUP(CONCATENATE(J$5,$C12),'trend data'!$A$2:$O$11161,J$6,FALSE),3),\"-\")","v":7.0780000000000003},{"$f":"IFERROR(ROUND(VLOOKUP(CONCATENATE(K$5,$C12),'trend data'!$A$2:$O$11161,K$6,FALSE),3),\"-\")","v":10.273},null,null,null,"201904",4,"2019-12-26",{"$f":"CONCATENATE(S$7,$O12,'CDI Data and Charts'!B$1)","v":"CDIHCAI201904Scotland"},{"$f":"ROUND(VLOOKUP($R12,'data for u-p-charts'!$A$2:$F$5000,S$5,FALSE),2)","v":15.08},{"$f":"ROUND(VLOOKUP($R12,'data for u-p-charts'!$A$2:$F$5000,T$5,FALSE),2)","v":14.71},{"$f":"ROUND(VLOOKUP($R12,'data for u-p-charts'!$A$2:$F$5000,U$5,FALSE),2)","v":16.670000000000002},{"$f":"ROUND(VLOOKUP($R12,'data for u-p-charts'!$A$2:$F$5000,V$5,FALSE),2)","v":17.649999999999999},{"$f":"CONCATENATE(X$7,$O12,'CDI Data and Charts'!B$1)","v":"CDICA201904Scotland"},{"$f":"ROUND(VLOOKUP($W12,'data for u-p-charts'!$A$2:$F$5000,X$5,FALSE),2)","v":4.57},{"$f":"ROUND(VLOOKUP($W12,'data for u-p-charts'!$A$2:$F$5000,Y$5,FALSE),2)","v":5},{"$f":"ROUND(VLOOKUP($W12,'data for u-p-charts'!$A$2:$F$5000,Z$5,FALSE),2)","v":6.2},{"$f":"ROUND(VLOOKUP($W12,'data for u-p-charts'!$A$2:$F$5000,AA$5,FALSE),2)","v":6.8}]
[201601,"2016-03-24",{"$f":"CONCATENATE(A13,'CDI Data and Charts'!B$1)","v":"201601Scotland"},{"$f":"VLOOKUP(CONCATENATE(D$5,$C13),'trend data'!$A$2:$O$11161,D$6,FALSE)","v":252},{"$f":"ROUND(VLOOKUP(CONCATENATE(E$5,$C13),'trend data'!$A$2:$O$11161,E$6,FALSE),3)","v":15.05},{"$f":"ROUND(VLOOKUP(CONCATENATE(F$5,$C13),'trend data'!$A$2:$O$11161,F$6,FALSE),3)","v":13.249000000000001},{"$f":"ROUND(VLOOKUP(CONCATENATE(G$5,$C13),'trend data'!$A$2:$O$11161,G$6,FALSE),3)","v":17.027000000000001},{"$f":"IFERROR(VLOOKUP(CONCATENATE(H$5,$C13),'trend data'!$A$2:$O$11161,H$6,FALSE),\"-\")","v":97},{"$f":"IFERROR(ROUND(VLOOKUP(CONCATENATE(I$5,$C13),'trend data'!$A$2:$O$11161,I$6,FALSE),3),\"-\")","v":7.218},{"$f":"IFERROR(ROUND(VLOOKUP(CONCATENATE(J$5,$C13),'trend data'!$A$2:$O$11161,J$6,FALSE),3),\"-\")","v":5.8529999999999998},{"$f":"IFERROR(ROUND(VLOOKUP(CONCATENATE(K$5,$C13),'trend data'!$A$2:$O$11161,K$6,FALSE),3),\"-\")","v":8.8059999999999992},null,null,null,"202001",5,"2020-03-27",{"$f":"CONCATENATE(S$7,$O13,'CDI Data and Charts'!B$1)","v":"CDIHCAI202001Scotland"},{"$f":"ROUND(VLOOKUP($R13,'data for u-p-charts'!$A$2:$F$5000,S$5,FALSE),2)","v":13.62},{"$f":"ROUND(VLOOKUP($R13,'data for u-p-charts'!$A$2:$F$5000,T$5,FALSE),2)","v":14.71},{"$f":"ROUND(VLOOKUP($R13,'data for u-p-charts'!$A$2:$F$5000,U$5,FALSE),2)","v":16.71},{"$f":"ROUND(VLOOKUP($R13,'data for u-p-charts'!$A$2:$F$5000,V$5,FALSE),2)","v":17.71},{"$f":"CONCATENATE(X$7,$O13,'CDI Data and Charts'!B$1)","v":"CDICA202001Scotland"},{"$f":"ROUND(VLOOKUP($W13,'data for u-p-charts'!$A$2:$F$5000,X$5,FALSE),2)","v":3.38},{"$f":"ROUND(VLOOKUP($W13,'data for u-p-charts'!$A$2:$F$5000,Y$5,FALSE),2)","v":5},{"$f":"ROUND(VLOOKUP($W13,'data for u-p-charts'!$A$2:$F$5000,Z$5,FALSE),2)","v":6.21},{"$f":"ROUND(VLOOKUP($W13,'data for u-p-charts'!$A$2:$F$5000,AA$5,FALSE),2)","v":6.82}]
[201602,"2016-06-24",{"$f":"CONCATENATE(A14,'CDI Data and Charts'!B$1)","v":"201602Scotland"},{"$f":"VLOOKUP(CONCATENATE(D$5,$C14),'trend data'!$A$2:$O$11161,D$6,FALSE)","v":250},{"$f":"ROUND(VLOOKUP(CONCATENATE(E$5,$C14),'trend data'!$A$2:$O$11161,E$6,FALSE),3)","v":15.574999999999999},{"$f":"ROUND(VLOOKUP(CONCATENATE(F$5,$C14),'trend data'!$A$2:$O$11161,F$6,FALSE),3)","v":13.704000000000001},{"$f":"ROUND(VLOOKUP(CONCATENATE(G$5,$C14),'trend data'!$A$2:$O$11161,G$6,FALSE),3)","v":17.631},{"$f":"IFERROR(VLOOKUP(CONCATENATE(H$5,$C14),'trend data'!$A$2:$O$11161,H$6,FALSE),\"-\")","v":91},{"$f":"IFERROR(ROUND(VLOOKUP(CONCATENATE(I$5,$C14),'trend data'!$A$2:$O$11161,I$6,FALSE),3),\"-\")","v":6.7720000000000002},{"$f":"IFERROR(ROUND(VLOOKUP(CONCATENATE(J$5,$C14),'trend data'!$A$2:$O$11161,J$6,FALSE),3),\"-\")","v":5.452},{"$f":"IFERROR(ROUND(VLOOKUP(CONCATENATE(K$5,$C14),'trend data'!$A$2:$O$11161,K$6,FALSE),3),\"-\")","v":8.3140000000000001},null,null,null,"202002",6,"2020-06-27",{"$f":"CONCATENATE(S$7,$O14,'CDI Data and Charts'!B$1)","v":"CDIHCAI202002Scotland"},{"$f":"ROUND(VLOOKUP($R14,'data for u-p-charts'!$A$2:$F$5000,S$5,FALSE),2)","v":15.36},{"$f":"ROUND(VLOOKUP($R14,'data for u-p-charts'!$A$2:$F$5000,T$5,FALSE),2)","v":14.71},{"$f":"ROUND(VLOOKUP($R14,'data for u-p-charts'!$A$2:$F$5000,U$5,FALSE),2)","v":17.04},{"$f":"ROUND(VLOOKUP($R14,'data for u-p-charts'!$A$2:$F$5000,V$5,FALSE),2)","v":18.21},{"$f":"CONCATENATE(X$7,$O14,'CDI Data and Charts'!B$1)","v":"CDICA202002Scotland"},{"$f":"ROUND(VLOOKUP($W14,'data for u-p-charts'!$A$2:$F$5000,X$5,FALSE),2)","v":5.89},{"$f":"ROUND(VLOOKUP($W14,'data for u-p-charts'!$A$2:$F$5000,Y$5,FALSE),2)","v":5},{"$f":"ROUND(VLOOKUP($W14,'data for u-p-charts'!$A$2:$F$5000,Z$5,FALSE),2)","v":6.21},{"$f":"ROUND(VLOOKUP($W14,'data for u-p-charts'!$A$2:$F$5000,AA$5,FALSE),2)","v":6.82}]
[201603,"2016-09-24",{"$f":"CONCATENATE(A15,'CDI Data and Charts'!B$1)","v":"201603Scotland"},{"$f":"VLOOKUP(CONCATENATE(D$5,$C15),'trend data'!$A$2:$O$11161,D$6,FALSE)","v":263},{"$f":"ROUND(VLOOKUP(CONCATENATE(E$5,$C15),'trend data'!$A$2:$O$11161,E$6,FALSE),3)","v":16.562999999999999},{"$f":"ROUND(VLOOKUP(CONCATENATE(F$5,$C15),'trend data'!$A$2:$O$11161,F$6,FALSE),3)","v":14.621},{"$f":"ROUND(VLOOKUP(CONCATENATE(G$5,$C15),'trend data'!$A$2:$O$11161,G$6,FALSE),3)","v":18.690000000000001},{"$f":"IFERROR(VLOOKUP(CONCATENATE(H$5,$C15),'trend data'!$A$2:$O$11161,H$6,FALSE),\"-\")","v":119},{"$f":"IFERROR(ROUND(VLOOKUP(CONCATENATE(I$5,$C15),'trend data'!$A$2:$O$11161,I$6,FALSE),3),\"-\")","v":8.7590000000000003},{"$f":"IFERROR(ROUND(VLOOKUP(CONCATENATE(J$5,$C15),'trend data'!$A$2:$O$11161,J$6,FALSE),3),\"-\")","v":7.2560000000000002},{"$f":"IFERROR(ROUND(VLOOKUP(CONCATENATE(K$5,$C15),'trend data'!$A$2:$O$11161,K$6,FALSE),3),\"-\")","v":10.481999999999999},null,null,null,"202003",7,"2020-09-27",{"$f":"CONCATENATE(S$7,$O15,'CDI Data and Charts'!B$1)","v":"CDIHCAI202003Scotland"},{"$f":"ROUND(VLOOKUP($R15,'data for u-p-charts'!$A$2:$F$5000,S$5,FALSE),2)","v":17.41},{"$f":"ROUND(VLOOKUP($R15,'data for u-p-charts'!$A$2:$F$5000,T$5,FALSE),2)","v":14.71},{"$f":"ROUND(VLOOKUP($R15,'data for u-p-charts'!$A$2:$F$5000,U$5,FALSE),2)","v":16.84},{"$f":"ROUND(VLOOKUP($R15,'data for u-p-charts'!$A$2:$F$5000,V$5,FALSE),2)","v":17.899999999999999},{"$f":"CONCATENATE(X$7,$O15,'CDI Data and Charts'!B$1)","v":"CDICA202003Scotland"},{"$f":"ROUND(VLOOKUP($W15,'data for u-p-charts'!$A$2:$F$5000,X$5,FALSE),2)","v":6.55},{"$f":"ROUND(VLOOKUP($W15,'data for u-p-charts'!$A$2:$F$5000,Y$5,FALSE),2)","v":5},{"$f":"ROUND(VLOOKUP($W15,'data for u-p-charts'!$A$2:$F$5000,Z$5,FALSE),2)","v":6.2},{"$f":"ROUND(VLOOKUP($W15,'data for u-p-charts'!$A$2:$F$5000,AA$5,FALSE),2)","v":6.81}]
[201604,"2016-12-24",{"$f":"CONCATENATE(A16,'CDI Data and Charts'!B$1)","v":"201604Scotland"},{"$f":"VLOOKUP(CONCATENATE(D$5,$C16),'trend data'!$A$2:$O$11161,D$6,FALSE)","v":233},{"$f":"ROUND(VLOOKUP(CONCATENATE(E$5,$C16),'trend data'!$A$2:$O$11161,E$6,FALSE),3)","v":14.638999999999999},{"$f":"ROUND(VLOOKUP(CONCATENATE(F$5,$C16),'trend data'!$A$2:$O$11161,F$6,FALSE),3)","v":12.819000000000001},{"$f":"ROUND(VLOOKUP(CONCATENATE(G$5,$C16),'trend data'!$A$2:$O$11161,G$6,FALSE),3)","v":16.643999999999998},{"$f":"IFERROR(VLOOKUP(CONCATENATE(H$5,$C16),'trend data'!$A$2:$O$11161,H$6,FALSE),\"-\")","v":94},{"$f":"IFERROR(ROUND(VLOOKUP(CONCATENATE(I$5,$C16),'trend data'!$A$2:$O$11161,I$6,FALSE),3),\"-\")","v":6.9189999999999996},{"$f":"IFERROR(ROUND(VLOOKUP(CONCATENATE(J$5,$C16),'trend data'!$A$2:$O$11161,J$6,FALSE),3),\"-\")","v":5.5910000000000002},{"$f":"IFERROR(ROUND(VLOOKUP(CONCATENATE(K$5,$C16),'trend data'!$A$2:$O$11161,K$6,FALSE),3),\"-\")","v":8.4670000000000005},null,null,null,"202004",8,"2020-12-28",{"$f":"CONCATENATE(S$7,$O16,'CDI Data and Charts'!B$1)","v":"CDIHCAI202004Scotland"},{"$f":"ROUND(VLOOKUP($R16,'data for u-p-charts'!$A$2:$F$5000,S$5,FALSE),2)","v":16.350000000000001},{"$f":"ROUND(VLOOKUP($R16,'data for u-p-charts'!$A$2:$F$5000,T$5,FALSE),2)","v":14.71},{"$f":"ROUND(VLOOKUP($R16,'data for u-p-charts'!$A$2:$F$5000,U$5,FALSE),2)","v":16.79},{"$f":"ROUND(VLOOKUP($R16,'data for u-p-charts'!$A$2:$F$5000,V$5,FALSE),2)","v":17.829999999999998},{"$f":"CONCATENATE(X$7,$O16,'CDI Data and Charts'!B$1)","v":"CDICA202004Scotland"},{"$f":"ROUND(VLOOKUP($W16,'data for u-p-charts'!$A$2:$F$5000,X$5,FALSE),2)","v":4.08},{"$f":"ROUND(VLOOKUP($W16,'data for u-p-charts'!$A$2:$F$5000,Y$5,FALSE),2)","v":5},{"$f":"ROUND(VLOOKUP($W16,'data for u-p-charts'!$A$2:$F$5000,Z$5,FALSE),2)","v":6.2},{"$f":"ROUND(VLOOKUP($W16,'data for u-p-charts'!$A$2:$F$5000,AA$5,FALSE),2)","v":6.81}]
[201701,"2017-03-01",{"$f":"CONCATENATE(A17,'CDI Data and Charts'!B$1)","v":"201701Scotland"},{"$f":"VLOOKUP(CONCATENATE(D$5,$C17),'trend data'!$A$2:$O$11161,D$6,FALSE)","v":257},{"$f":"ROUND(VLOOKUP(CONCATENATE(E$5,$C17),'trend data'!$A$2:$O$11161,E$6,FALSE),3)","v":16.251999999999999},{"$f":"ROUND(VLOOKUP(CONCATENATE(F$5,$C17),'trend data'!$A$2:$O$11161,F$6,FALSE),3)","v":14.326000000000001},{"$f":"ROUND(VLOOKUP(CONCATENATE(G$5,$C17),'trend data'!$A$2:$O$11161,G$6,FALSE),3)","v":18.364999999999998},{"$f":"IFERROR(VLOOKUP(CONCATENATE(H$5,$C17),'trend data'!$A$2:$O$11161,H$6,FALSE),\"-\")","v":74},{"$f":"IFERROR(ROUND(VLOOKUP(CONCATENATE(I$5,$C17),'trend data'!$A$2:$O$11161,I$6,FALSE),3),\"-\")","v":5.532},{"$f":"IFERROR(ROUND(VLOOKUP(CONCATENATE(J$5,$C17),'trend data'!$A$2:$O$11161,J$6,FALSE),3),\"-\")","v":4.3440000000000003},{"$f":"IFERROR(ROUND(VLOOKUP(CONCATENATE(K$5,$C17),'trend data'!$A$2:$O$11161,K$6,FALSE),3),\"-\")","v":6.9450000000000003},null,null,null,"202101",9,"2021-03-30",{"$f":"CONCATENATE(S$7,$O17,'CDI Data and Charts'!B$1)","v":"CDIHCAI202101Scotland"},{"$f":"ROUND(VLOOKUP($R17,'data for u-p-charts'!$A$2:$F$5000,S$5,FALSE),2)","v":15.75},{"$f":"ROUND(VLOOKUP($R17,'data for u-p-charts'!$A$2:$F$5000,T$5,FALSE),2)","v":14.71},{"$f":"ROUND(VLOOKUP($R17,'data for u-p-charts'!$A$2:$F$5000,U$5,FALSE),2)","v":16.8},{"$f":"ROUND(VLOOKUP($R17,'data for u-p-charts'!$A$2:$F$5000,V$5,FALSE),2)","v":17.84},{"$f":"CONCATENATE(X$7,$O17,'CDI Data and Charts'!B$1)","v":"CDICA202101Scotland"},{"$f":"ROUND(VLOOKUP($W17,'data for u-p-charts'!$A$2:$F$5000,X$5,FALSE),2)","v":3.64},{"$f":"ROUND(VLOOKUP($W17,'data for u-p-charts'!$A$2:$F$5000,Y$5,FALSE),2)","v":5},{"$f":"ROUND(VLOOKUP($W17,'data for u-p-charts'!$A$2:$F$5000,Z$5,FALSE),2)","v":6.22},{"$f":"ROUND(VLOOKUP($W17,'data for u-p-charts'!$A$2:$F$5000,AA$5,FALSE),2)","v":6.82}]
[201702,"2017-06-01",{"$f":"CONCATENATE(A18,'CDI Data and Charts'!B$1)","v":"201702Scotland"},{"$f":"VLOOKUP(CONCATENATE(D$5,$C18),'trend data'!$A$2:$O$11161,D$6,FALSE)","v":238},{"$f":"ROUND(VLOOKUP(CONCATENATE(E$5,$C18),'trend data'!$A$2:$O$11161,E$6,FALSE),3)","v":15.349},{"$f":"ROUND(VLOOKUP(CONCATENATE(F$5,$C18),'trend data'!$A$2:$O$11161,F$6,FALSE),3)","v":13.461},{"$f":"ROUND(VLOOKUP(CONCATENATE(G$5,$C18),'trend data'!$A$2:$O$11161,G$6,FALSE),3)","v":17.428000000000001},{"$f":"IFERROR(VLOOKUP(CONCATENATE(H$5,$C18),'trend data'!$A$2:$O$11161,H$6,FALSE),\"-\")","v":100},{"$f":"IFERROR(ROUND(VLOOKUP(CONCATENATE(I$5,$C18),'trend data'!$A$2:$O$11161,I$6,FALSE),3),\"-\")","v":7.3940000000000001},{"$f":"IFERROR(ROUND(VLOOKUP(CONCATENATE(J$5,$C18),'trend data'!$A$2:$O$11161,J$6,FALSE),3),\"-\")","v":6.016},{"$f":"IFERROR(ROUND(VLOOKUP(CONCATENATE(K$5,$C18),'trend data'!$A$2:$O$11161,K$6,FALSE),3),\"-\")","v":8.9930000000000003},null,null,null,"202102",10,"2021-06-30",{"$f":"CONCATENATE(S$7,$O18,'CDI Data and Charts'!B$1)","v":"CDIHCAI202102Scotland"},{"$f":"ROUND(VLOOKUP($R18,'data for u-p-charts'!$A$2:$F$5000,S$5,FALSE),2)","v":14.56},{"$f":"ROUND(VLOOKUP($R18,'data for u-p-charts'!$A$2:$F$5000,T$5,FALSE),2)","v":14.71},{"$f":"ROUND(VLOOKUP($R18,'data for u-p-charts'!$A$2:$F$5000,U$5,FALSE),2)","v":16.77},{"$f":"ROUND(VLOOKUP($R18,'data for u-p-charts'!$A$2:$F$5000,V$5,FALSE),2)","v":17.79},{"$f":"CONCATENATE(X$7,$O18,'CDI Data and Charts'!B$1)","v":"CDICA202102Scotland"},{"$f":"ROUND(VLOOKUP($W18,'data for u-p-charts'!$A$2:$F$5000,X$5,FALSE),2)","v":5.43},{"$f":"ROUND(VLOOKUP($W18,'data for u-p-charts'!$A$2:$F$5000,Y$5,FALSE),2)","v":5},{"$f":"ROUND(VLOOKUP($W18,'data for u-p-charts'!$A$2:$F$5000,Z$5,FALSE),2)","v":6.21},{"$f":"ROUND(VLOOKUP($W18,'data for u-p-charts'!$A$2:$F$5000,AA$5,FALSE),2)","v":6.81}]
[201703,"2017-09-01",{"$f":"CONCATENATE(A19,'CDI Data and Charts'!B$1)","v":"201703Scotland"},{"$f":"VLOOKUP(CONCATENATE(D$5,$C19),'trend data'!$A$2:$O$11161,D$6,FALSE)","v":288},{"$f":"ROUND(VLOOKUP(CONCATENATE(E$5,$C19),'trend data'!$A$2:$O$11161,E$6,FALSE),3)","v":18.716000000000001},{"$f":"ROUND(VLOOKUP(CONCATENATE(F$5,$C19),'trend data'!$A$2:$O$11161,F$6,FALSE),3)","v":16.616},{"$f":"ROUND(VLOOKUP(CONCATENATE(G$5,$C19),'trend data'!$A$2:$O$11161,G$6,FALSE),3)","v":21.007000000000001},{"$f":"IFERROR(VLOOKUP(CONCATENATE(H$5,$C19),'trend data'!$A$2:$O$11161,H$6,FALSE),\"-\")","v":103},{"$f":"IFERROR(ROUND(VLOOKUP(CONCATENATE(I$5,$C19),'trend data'!$A$2:$O$11161,I$6,FALSE),3),\"-\")","v":7.5330000000000004},{"$f":"IFERROR(ROUND(VLOOKUP(CONCATENATE(J$5,$C19),'trend data'!$A$2:$O$11161,J$6,FALSE),3),\"-\")","v":6.1479999999999997},{"$f":"IFERROR(ROUND(VLOOKUP(CONCATENATE(K$5,$C19),'trend data'!$A$2:$O$11161,K$6,FALSE),3),\"-\")","v":9.1359999999999992},null,null,null,"202103",11,{"$f":"Q20-92","v":"2021-09-30"},{"$f":"CONCATENATE(S$7,$O19,'CDI Data and Charts'!B$1)","v":"CDIHCAI202103Scotland"},{"$f":"ROUND(VLOOKUP($R19,'data for u-p-charts'!$A$2:$F$5000,S$5,FALSE),2)","v":16.82},{"$f":"ROUND(VLOOKUP($R19,'data for u-p-charts'!$A$2:$F$5000,T$5,FALSE),2)","v":14.71},{"$f":"ROUND(VLOOKUP($R19,'data for u-p-charts'!$A$2:$F$5000,U$5,FALSE),2)","v":16.72},{"$f":"ROUND(VLOOKUP($R19,'data for u-p-charts'!$A$2:$F$5000,V$5,FALSE),2)","v":17.73},{"$f":"CONCATENATE(X$7,$O19,'CDI Data and Charts'!B$1)","v":"CDICA202103Scotland"},{"$f":"ROUND(VLOOKUP($W19,'data for u-p-charts'!$A$2:$F$5000,X$5,FALSE),2)","v":6.31},{"$f":"ROUND(VLOOKUP($W19,'data for u-p-charts'!$A$2:$F$5000,Y$5,FALSE),2)","v":5},{"$f":"ROUND(VLOOKUP($W19,'data for u-p-charts'!$A$2:$F$5000,Z$5,FALSE),2)","v":6.2},{"$f":"ROUND(VLOOKUP($W19,'data for u-p-charts'!$A$2:$F$5000,AA$5,FALSE),2)","v":6.8}]
[201704,"2017-12-01",{"$f":"CONCATENATE(A20,'CDI Data and Charts'!B$1)","v":"201704Scotland"},{"$f":"VLOOKUP(CONCATENATE(D$5,$C20),'trend data'!$A$2:$O$11161,D$6,FALSE)","v":235},{"$f":"ROUND(VLOOKUP(CONCATENATE(E$5,$C20),'trend data'!$A$2:$O$11161,E$6,FALSE),3)","v":14.920999999999999},{"$f":"ROUND(VLOOKUP(CONCATENATE(F$5,$C20),'trend data'!$A$2:$O$11161,F$6,FALSE),3)","v":13.074},{"$f":"ROUND(VLOOKUP(CONCATENATE(G$5,$C20),'trend data'!$A$2:$O$11161,G$6,FALSE),3)","v":16.956},{"$f":"IFERROR(VLOOKUP(CONCATENATE(H$5,$C20),'trend data'!$A$2:$O$11161,H$6,FALSE),\"-\")","v":74},{"$f":"IFERROR(ROUND(VLOOKUP(CONCATENATE(I$5,$C20),'trend data'!$A$2:$O$11161,I$6,FALSE),3),\"-\")","v":5.4119999999999999},{"$f":"IFERROR(ROUND(VLOOKUP(CONCATENATE(J$5,$C20),'trend data'!$A$2:$O$11161,J$6,FALSE),3),\"-\")","v":4.2489999999999997},{"$f":"IFERROR(ROUND(VLOOKUP(CONCATENATE(K$5,$C20),'trend data'!$A$2:$O$11161,K$6,FALSE),3),\"-\")","v":6.7939999999999996},null,null,null,"202104",12,{"$f":"Q5","v":"2021-12-31"},{"$f":"CONCATENATE(S$7,$O20,'CDI Data and Charts'!B$1)","v":"CDIHCAI202104Scotland"},{"$f":"ROUND(VLOOKUP($R20,'data for u-p-charts'!$A$2:$F$5000,S$5,FALSE),2)","v":13.26},{"$f":"ROUND(VLOOKUP($R20,'data for u-p-charts'!$A$2:$F$5000,T$5,FALSE),2)","v":14.71},{"$f":"ROUND(VLOOKUP($R20,'data for u-p-charts'!$A$2:$F$5000,U$5,FALSE),2)","v":16.7},{"$f":"ROUND(VLOOKUP($R20,'data for u-p-charts'!$A$2:$F$5000,V$5,FALSE),2)","v":17.690000000000001},{"$f":"CONCATENATE(X$7,$O20,'CDI Data and Charts'!B$1)","v":"CDICA202104Scotland"},{"$f":"ROUND(VLOOKUP($W20,'data for u-p-charts'!$A$2:$F$5000,X$5,FALSE),2)","v":4.79},{"$f":"ROUND(VLOOKUP($W20,'data for u-p-charts'!$A$2:$F$5000,Y$5,FALSE),2)","v":5},{"$f":"ROUND(VLOOKUP($W20,'data for u-p-charts'!$A$2:$F$5000,Z$5,FALSE),2)","v":6.2},{"$f":"ROUND(VLOOKUP($W20,'data for u-p-charts'!$A$2:$F$5000,AA$5,FALSE),2)","v":6.8}]
[201801,"2018-03-01",{"$f":"CONCATENATE(A21,'CDI Data and Charts'!B$1)","v":"201801Scotland"},{"$f":"IFERROR(VLOOKUP(CONCATENATE(D$5,$C21),'trend data'!$A$2:$O$11161,D$6,FALSE),\"-\")","v":228},{"$f":"ROUND(VLOOKUP(CONCATENATE(E$5,$C21),'trend data'!$A$2:$O$11161,E$6,FALSE),3)","v":14.382999999999999},{"$f":"ROUND(VLOOKUP(CONCATENATE(F$5,$C21),'trend data'!$A$2:$O$11161,F$6,FALSE),3)","v":12.576000000000001},{"$f":"ROUND(VLOOKUP(CONCATENATE(G$5,$C21),'trend data'!$A$2:$O$11161,G$6,FALSE),3)","v":16.376000000000001},{"$f":"IFERROR(VLOOKUP(CONCATENATE(H$5,$C21),'trend data'!$A$2:$O$11161,H$6,FALSE),\"-\")","v":86},{"$f":"IFERROR(ROUND(VLOOKUP(CONCATENATE(I$5,$C21),'trend data'!$A$2:$O$11161,I$6,FALSE),3),\"-\")","v":6.4139999999999997},{"$f":"IFERROR(ROUND(VLOOKUP(CONCATENATE(J$5,$C21),'trend data'!$A$2:$O$11161,J$6,FALSE),3),\"-\")","v":5.13},{"$f":"IFERROR(ROUND(VLOOKUP(CONCATENATE(K$5,$C21),'trend data'!$A$2:$O$11161,K$6,FALSE),3),\"-\")","v":7.9210000000000003}]
[201802,"2018-06-01",{"$f":"CONCATENATE(A22,'CDI Data and Charts'!B$1)","v":"201802Scotland"},{"$f":"IFERROR(VLOOKUP(CONCATENATE(D$5,$C22),'trend data'!$A$2:$O$11161,D$6,FALSE),\"-\")","v":244},{"$f":"ROUND(VLOOKUP(CONCATENATE(E$5,$C22),'trend data'!$A$2:$O$11161,E$6,FALSE),3)","v":15.996},{"$f":"ROUND(VLOOKUP(CONCATENATE(F$5,$C22),'trend data'!$A$2:$O$11161,F$6,FALSE),3)","v":14.052},{"$f":"ROUND(VLOOKUP(CONCATENATE(G$5,$C22),'trend data'!$A$2:$O$11161,G$6,FALSE),3)","v":18.135000000000002},{"$f":"IFERROR(VLOOKUP(CONCATENATE(H$5,$C22),'trend data'!$A$2:$O$11161,H$6,FALSE),\"-\")","v":102},{"$f":"IFERROR(ROUND(VLOOKUP(CONCATENATE(I$5,$C22),'trend data'!$A$2:$O$11161,I$6,FALSE),3),\"-\")","v":7.5229999999999997},{"$f":"IFERROR(ROUND(VLOOKUP(CONCATENATE(J$5,$C22),'trend data'!$A$2:$O$11161,J$6,FALSE),3),\"-\")","v":6.1340000000000003},{"$f":"IFERROR(ROUND(VLOOKUP(CONCATENATE(K$5,$C22),'trend data'!$A$2:$O$11161,K$6,FALSE),3),\"-\")","v":9.1329999999999991}]
[201803,"2018-09-01",{"$f":"CONCATENATE(A23,'CDI Data and Charts'!B$1)","v":"201803Scotland"},{"$f":"IFERROR(VLOOKUP(CONCATENATE(D$5,$C23),'trend data'!$A$2:$O$11161,D$6,FALSE),\"-\")","v":255},{"$f":"ROUND(VLOOKUP(CONCATENATE(E$5,$C23),'trend data'!$A$2:$O$11161,E$6,FALSE),3)","v":16.869},{"$f":"ROUND(VLOOKUP(CONCATENATE(F$5,$C23),'trend data'!$A$2:$O$11161,F$6,FALSE),3)","v":14.862},{"$f":"ROUND(VLOOKUP(CONCATENATE(G$5,$C23),'trend data'!$A$2:$O$11161,G$6,FALSE),3)","v":19.071999999999999},{"$f":"IFERROR(VLOOKUP(CONCATENATE(H$5,$C23),'trend data'!$A$2:$O$11161,H$6,FALSE),\"-\")","v":92},{"$f":"IFERROR(ROUND(VLOOKUP(CONCATENATE(I$5,$C23),'trend data'!$A$2:$O$11161,I$6,FALSE),3),\"-\")","v":6.7119999999999997},{"$f":"IFERROR(ROUND(VLOOKUP(CONCATENATE(J$5,$C23),'trend data'!$A$2:$O$11161,J$6,FALSE),3),\"-\")","v":5.4109999999999996},{"$f":"IFERROR(ROUND(VLOOKUP(CONCATENATE(K$5,$C23),'trend data'!$A$2:$O$11161,K$6,FALSE),3),\"-\")","v":8.2319999999999993}]
[201804,"2018-12-01",{"$f":"CONCATENATE(A24,'CDI Data and Charts'!B$1)","v":"201804Scotland"},{"$f":"IFERROR(VLOOKUP(CONCATENATE(D$5,$C24),'trend data'!$A$2:$O$11161,D$6,FALSE),\"-\")","v":220},{"$f":"ROUND(VLOOKUP(CONCATENATE(E$5,$C24),'trend data'!$A$2:$O$11161,E$6,FALSE),3)","v":14.452999999999999},{"$f":"ROUND(VLOOKUP(CONCATENATE(F$5,$C24),'trend data'!$A$2:$O$11161,F$6,FALSE),3)","v":12.606},{"$f":"ROUND(VLOOKUP(CONCATENATE(G$5,$C24),'trend data'!$A$2:$O$11161,G$6,FALSE),3)","v":16.494},{"$f":"IFERROR(VLOOKUP(CONCATENATE(H$5,$C24),'trend data'!$A$2:$O$11161,H$6,FALSE),\"-\")","v":86},{"$f":"IFERROR(ROUND(VLOOKUP(CONCATENATE(I$5,$C24),'trend data'!$A$2:$O$11161,I$6,FALSE),3),\"-\")","v":6.274},{"$f":"IFERROR(ROUND(VLOOKUP(CONCATENATE(J$5,$C24),'trend data'!$A$2:$O$11161,J$6,FALSE),3),\"-\")","v":5.0179999999999998},{"$f":"IFERROR(ROUND(VLOOKUP(CONCATENATE(K$5,$C24),'trend data'!$A$2:$O$11161,K$6,FALSE),3),\"-\")","v":7.7489999999999997}]
[201901,"2019-03-01",{"$f":"CONCATENATE(A25,'CDI Data and Charts'!B$1)","v":"201901Scotland"},{"$f":"IFERROR(VLOOKUP(CONCATENATE(D$5,$C25),'trend data'!$A$2:$O$11161,D$6,FALSE),\"-\")","v":186},{"$f":"ROUND(VLOOKUP(CONCATENATE(E$5,$C25),'trend data'!$A$2:$O$11161,E$6,FALSE),3)","v":12.09},{"$f":"ROUND(VLOOKUP(CONCATENATE(F$5,$C25),'trend data'!$A$2:$O$11161,F$6,FALSE),3)","v":10.414},{"$f":"ROUND(VLOOKUP(CONCATENATE(G$5,$C25),'trend data'!$A$2:$O$11161,G$6,FALSE),3)","v":13.958},{"$f":"IFERROR(VLOOKUP(CONCATENATE(H$5,$C25),'trend data'!$A$2:$O$11161,H$6,FALSE),\"-\")","v":50},{"$f":"IFERROR(ROUND(VLOOKUP(CONCATENATE(I$5,$C25),'trend data'!$A$2:$O$11161,I$6,FALSE),3),\"-\")","v":3.7120000000000002},{"$f":"IFERROR(ROUND(VLOOKUP(CONCATENATE(J$5,$C25),'trend data'!$A$2:$O$11161,J$6,FALSE),3),\"-\")","v":2.7549999999999999},{"$f":"IFERROR(ROUND(VLOOKUP(CONCATENATE(K$5,$C25),'trend data'!$A$2:$O$11161,K$6,FALSE),3),\"-\")","v":4.8929999999999998}]
[201902,"2019-06-01",{"$f":"CONCATENATE(A26,'CDI Data and Charts'!B$1)","v":"201902Scotland"},{"$f":"IFERROR(VLOOKUP(CONCATENATE(D$5,$C26),'trend data'!$A$2:$O$11161,D$6,FALSE),\"-\")","v":184},{"$f":"ROUND(VLOOKUP(CONCATENATE(E$5,$C26),'trend data'!$A$2:$O$11161,E$6,FALSE),3)","v":12.215},{"$f":"ROUND(VLOOKUP(CONCATENATE(F$5,$C26),'trend data'!$A$2:$O$11161,F$6,FALSE),3)","v":10.513999999999999},{"$f":"ROUND(VLOOKUP(CONCATENATE(G$5,$C26),'trend data'!$A$2:$O$11161,G$6,FALSE),3)","v":14.114000000000001},{"$f":"IFERROR(VLOOKUP(CONCATENATE(H$5,$C26),'trend data'!$A$2:$O$11161,H$6,FALSE),\"-\")","v":66},{"$f":"IFERROR(ROUND(VLOOKUP(CONCATENATE(I$5,$C26),'trend data'!$A$2:$O$11161,I$6,FALSE),3),\"-\")","v":4.8460000000000001},{"$f":"IFERROR(ROUND(VLOOKUP(CONCATENATE(J$5,$C26),'trend data'!$A$2:$O$11161,J$6,FALSE),3),\"-\")","v":3.7469999999999999},{"$f":"IFERROR(ROUND(VLOOKUP(CONCATENATE(K$5,$C26),'trend data'!$A$2:$O$11161,K$6,FALSE),3),\"-\")","v":6.165}]
[201903,"2019-09-01",{"$f":"CONCATENATE(A27,'CDI Data and Charts'!B$1)","v":"201903Scotland"},{"$f":"IFERROR(VLOOKUP(CONCATENATE(D$5,$C27),'trend data'!$A$2:$O$11161,D$6,FALSE),\"-\")","v":207},{"$f":"ROUND(VLOOKUP(CONCATENATE(E$5,$C27),'trend data'!$A$2:$O$11161,E$6,FALSE),3)","v":13.736000000000001},{"$f":"ROUND(VLOOKUP(CONCATENATE(F$5,$C27),'trend data'!$A$2:$O$11161,F$6,FALSE),3)","v":11.928000000000001},{"$f":"ROUND(VLOOKUP(CONCATENATE(G$5,$C27),'trend data'!$A$2:$O$11161,G$6,FALSE),3)","v":15.74},{"$f":"IFERROR(VLOOKUP(CONCATENATE(H$5,$C27),'trend data'!$A$2:$O$11161,H$6,FALSE),\"-\")","v":72},{"$f":"IFERROR(ROUND(VLOOKUP(CONCATENATE(I$5,$C27),'trend data'!$A$2:$O$11161,I$6,FALSE),3),\"-\")","v":5.2290000000000001},{"$f":"IFERROR(ROUND(VLOOKUP(CONCATENATE(J$5,$C27),'trend data'!$A$2:$O$11161,J$6,FALSE),3),\"-\")","v":4.0910000000000002},{"$f":"IFERROR(ROUND(VLOOKUP(CONCATENATE(K$5,$C27),'trend data'!$A$2:$O$11161,K$6,FALSE),3),\"-\")","v":6.585}]
[201904,"2019-12-01",{"$f":"CONCATENATE(A28,'CDI Data and Charts'!B$1)","v":"201904Scotland"},{"$f":"IFERROR(VLOOKUP(CONCATENATE(D$5,$C28),'trend data'!$A$2:$O$11161,D$6,FALSE),\"-\")","v":231},{"$f":"ROUND(VLOOKUP(CONCATENATE(E$5,$C28),'trend data'!$A$2:$O$11161,E$6,FALSE),3)","v":15.084},{"$f":"ROUND(VLOOKUP(CONCATENATE(F$5,$C28),'trend data'!$A$2:$O$11161,F$6,FALSE),3)","v":13.201000000000001},{"$f":"ROUND(VLOOKUP(CONCATENATE(G$5,$C28),'trend data'!$A$2:$O$11161,G$6,FALSE),3)","v":17.158999999999999},{"$f":"IFERROR(VLOOKUP(CONCATENATE(H$5,$C28),'trend data'!$A$2:$O$11161,H$6,FALSE),\"-\")","v":63},{"$f":"IFERROR(ROUND(VLOOKUP(CONCATENATE(I$5,$C28),'trend data'!$A$2:$O$11161,I$6,FALSE),3),\"-\")","v":4.5750000000000002},{"$f":"IFERROR(ROUND(VLOOKUP(CONCATENATE(J$5,$C28),'trend data'!$A$2:$O$11161,J$6,FALSE),3),\"-\")","v":3.5150000000000001},{"$f":"IFERROR(ROUND(VLOOKUP(CONCATENATE(K$5,$C28),'trend data'!$A$2:$O$11161,K$6,FALSE),3),\"-\")","v":5.8540000000000001}]
[202001,"2020-03-01",{"$f":"CONCATENATE(A29,'CDI Data and Charts'!B$1)","v":"202001Scotland"},{"$f":"IFERROR(VLOOKUP(CONCATENATE(D$5,$C29),'trend data'!$A$2:$O$11161,D$6,FALSE),\"-\")","v":201},{"$f":"ROUND(VLOOKUP(CONCATENATE(E$5,$C29),'trend data'!$A$2:$O$11161,E$6,FALSE),3)","v":13.618},{"$f":"ROUND(VLOOKUP(CONCATENATE(F$5,$C29),'trend data'!$A$2:$O$11161,F$6,FALSE),3)","v":11.801},{"$f":"ROUND(VLOOKUP(CONCATENATE(G$5,$C29),'trend data'!$A$2:$O$11161,G$6,FALSE),3)","v":15.637},{"$f":"IFERROR(VLOOKUP(CONCATENATE(H$5,$C29),'trend data'!$A$2:$O$11161,H$6,FALSE),\"-\")","v":46},{"$f":"IFERROR(ROUND(VLOOKUP(CONCATENATE(I$5,$C29),'trend data'!$A$2:$O$11161,I$6,FALSE),3),\"-\")","v":3.3849999999999998},{"$f":"IFERROR(ROUND(VLOOKUP(CONCATENATE(J$5,$C29),'trend data'!$A$2:$O$11161,J$6,FALSE),3),\"-\")","v":2.4780000000000002},{"$f":"IFERROR(ROUND(VLOOKUP(CONCATENATE(K$5,$C29),'trend data'!$A$2:$O$11161,K$6,FALSE),3),\"-\")","v":4.5149999999999997}]
[202002,"2020-06-01",{"$f":"CONCATENATE(A30,'CDI Data and Charts'!B$1)","v":"202002Scotland"},{"$f":"IFERROR(VLOOKUP(CONCATENATE(D$5,$C30),'trend data'!$A$2:$O$11161,D$6,FALSE),\"-\")","v":166},{"$f":"ROUND(VLOOKUP(CONCATENATE(E$5,$C30),'trend data'!$A$2:$O$11161,E$6,FALSE),3)","v":15.356999999999999},{"$f":"ROUND(VLOOKUP(CONCATENATE(F$5,$C30),'trend data'!$A$2:$O$11161,F$6,FALSE),3)","v":13.109},{"$f":"ROUND(VLOOKUP(CONCATENATE(G$5,$C30),'trend data'!$A$2:$O$11161,G$6,FALSE),3)","v":17.879000000000001},{"$f":"IFERROR(VLOOKUP(CONCATENATE(H$5,$C30),'trend data'!$A$2:$O$11161,H$6,FALSE),\"-\")","v":80},{"$f":"IFERROR(ROUND(VLOOKUP(CONCATENATE(I$5,$C30),'trend data'!$A$2:$O$11161,I$6,FALSE),3),\"-\")","v":5.8869999999999996},{"$f":"IFERROR(ROUND(VLOOKUP(CONCATENATE(J$5,$C30),'trend data'!$A$2:$O$11161,J$6,FALSE),3),\"-\")","v":4.6669999999999998},{"$f":"IFERROR(ROUND(VLOOKUP(CONCATENATE(K$5,$C30),'trend data'!$A$2:$O$11161,K$6,FALSE),3),\"-\")","v":7.3259999999999996}]
[202003,"2020-09-01",{"$f":"CONCATENATE(A31,'CDI Data and Charts'!B$1)","v":"202003Scotland"},{"$f":"IFERROR(VLOOKUP(CONCATENATE(D$5,$C31),'trend data'!$A$2:$O$11161,D$6,FALSE),\"-\")","v":227},{"$f":"ROUND(VLOOKUP(CONCATENATE(E$5,$C31),'trend data'!$A$2:$O$11161,E$6,FALSE),4)","v":17.408200000000001},{"$f":"ROUND(VLOOKUP(CONCATENATE(F$5,$C31),'trend data'!$A$2:$O$11161,F$6,FALSE),4)","v":15.217000000000001},{"$f":"ROUND(VLOOKUP(CONCATENATE(G$5,$C31),'trend data'!$A$2:$O$11161,G$6,FALSE),4)","v":19.8263},{"$f":"IFERROR(VLOOKUP(CONCATENATE(H$5,$C31),'trend data'!$A$2:$O$11161,H$6,FALSE),\"-\")","v":90},{"$f":"IFERROR(ROUND(VLOOKUP(CONCATENATE(I$5,$C31),'trend data'!$A$2:$O$11161,I$6,FALSE),4),\"-\")","v":6.5503999999999998},{"$f":"IFERROR(ROUND(VLOOKUP(CONCATENATE(J$5,$C31),'trend data'!$A$2:$O$11161,J$6,FALSE),4),\"-\")","v":5.2671000000000001},{"$f":"IFERROR(ROUND(VLOOKUP(CONCATENATE(K$5,$C31),'trend data'!$A$2:$O$11161,K$6,FALSE),4),\"-\")","v":8.0516000000000005}]
[202004,"2020-12-31",{"$f":"CONCATENATE(A32,'CDI Data and Charts'!B$1)","v":"202004Scotland"},{"$f":"IFERROR(VLOOKUP(CONCATENATE(D$5,$C32),'trend data'!$A$2:$O$11161,D$6,FALSE),\"-\")","v":222},{"$f":"ROUND(VLOOKUP(CONCATENATE(E$5,$C32),'trend data'!$A$2:$O$11161,E$6,FALSE),4)","v":16.350100000000001},{"$f":"ROUND(VLOOKUP(CONCATENATE(F$5,$C32),'trend data'!$A$2:$O$11161,F$6,FALSE),4)","v":14.2698},{"$f":"ROUND(VLOOKUP(CONCATENATE(G$5,$C32),'trend data'!$A$2:$O$11161,G$6,FALSE),4)","v":18.648299999999999},{"$f":"IFERROR(VLOOKUP(CONCATENATE(H$5,$C32),'trend data'!$A$2:$O$11161,H$6,FALSE),\"-\")","v":56},{"$f":"IFERROR(ROUND(VLOOKUP(CONCATENATE(I$5,$C32),'trend data'!$A$2:$O$11161,I$6,FALSE),4),\"-\")","v":4.0758000000000001},{"$f":"IFERROR(ROUND(VLOOKUP(CONCATENATE(J$5,$C32),'trend data'!$A$2:$O$11161,J$6,FALSE),4),\"-\")","v":3.0785999999999998},{"$f":"IFERROR(ROUND(VLOOKUP(CONCATENATE(K$5,$C32),'trend data'!$A$2:$O$11161,K$6,FALSE),4),\"-\")","v":5.2929000000000004}]
[202101,"2021-03-31",{"$f":"CONCATENATE(A33,'CDI Data and Charts'!B$1)","v":"202101Scotland"},{"$f":"IFERROR(VLOOKUP(CONCATENATE(D$5,$C33),'trend data'!$A$2:$O$11161,D$6,FALSE),\"-\")","v":213},{"$f":"ROUND(VLOOKUP(CONCATENATE(E$5,$C33),'trend data'!$A$2:$O$11161,E$6,FALSE),4)","v":15.7464},{"$f":"ROUND(VLOOKUP(CONCATENATE(F$5,$C33),'trend data'!$A$2:$O$11161,F$6,FALSE),4)","v":13.702500000000001},{"$f":"ROUND(VLOOKUP(CONCATENATE(G$5,$C33),'trend data'!$A$2:$O$11161,G$6,FALSE),4)","v":18.0092},{"$f":"IFERROR(VLOOKUP(CONCATENATE(H$5,$C33),'trend data'!$A$2:$O$11161,H$6,FALSE),\"-\")","v":49},{"$f":"IFERROR(ROUND(VLOOKUP(CONCATENATE(I$5,$C33),'trend data'!$A$2:$O$11161,I$6,FALSE),4),\"-\")","v":3.6356000000000002},{"$f":"IFERROR(ROUND(VLOOKUP(CONCATENATE(J$5,$C33),'trend data'!$A$2:$O$11161,J$6,FALSE),4),\"-\")","v":2.6894},{"$f":"IFERROR(ROUND(VLOOKUP(CONCATENATE(K$5,$C33),'trend data'!$A$2:$O$11161,K$6,FALSE),4),\"-\")","v":4.8066000000000004}]
[202102,"2021-06-30",{"$f":"CONCATENATE(A34,'CDI Data and Charts'!B$1)","v":"202102Scotland"},{"$f":"IFERROR(VLOOKUP(CONCATENATE(D$5,$C34),'trend data'!$A$2:$O$11161,D$6,FALSE),\"-\")","v":203},{"$f":"ROUND(VLOOKUP(CONCATENATE(E$5,$C34),'trend data'!$A$2:$O$11161,E$6,FALSE),4)","v":14.56},{"$f":"ROUND(VLOOKUP(CONCATENATE(F$5,$C34),'trend data'!$A$2:$O$11161,F$6,FALSE),4)","v":12.6258},{"$f":"ROUND(VLOOKUP(CONCATENATE(G$5,$C34),'trend data'!$A$2:$O$11161,G$6,FALSE),4)","v":16.706700000000001},{"$f":"IFERROR(VLOOKUP(CONCATENATE(H$5,$C34),'trend data'!$A$2:$O$11161,H$6,FALSE),\"-\")","v":74},{"$f":"IFERROR(ROUND(VLOOKUP(CONCATENATE(I$5,$C34),'trend data'!$A$2:$O$11161,I$6,FALSE),4),\"-\")","v":5.4302000000000001},{"$f":"IFERROR(ROUND(VLOOKUP(CONCATENATE(J$5,$C34),'trend data'!$A$2:$O$11161,J$6,FALSE),4),\"-\")","v":4.2637},{"$f":"IFERROR(ROUND(VLOOKUP(CONCATENATE(K$5,$C34),'trend data'!$A$2:$O$11161,K$6,FALSE),4),\"-\")","v":6.8171999999999997}]
[202103,"2021-09-01",{"$f":"CONCATENATE(A35,'CDI Data and Charts'!B$1)","v":"202103Scotland"},{"$f":"IFERROR(VLOOKUP(CONCATENATE(D$5,$C35),'trend data'!$A$2:$O$11161,D$6,FALSE),\"-\")","v":245},{"$f":"ROUND(VLOOKUP(CONCATENATE(E$5,$C35),'trend data'!$A$2:$O$11161,E$6,FALSE),4)","v":16.822700000000001},{"$f":"ROUND(VLOOKUP(CONCATENATE(F$5,$C35),'trend data'!$A$2:$O$11161,F$6,FALSE),4)","v":14.7819},{"$f":"ROUND(VLOOKUP(CONCATENATE(G$5,$C35),'trend data'!$A$2:$O$11161,G$6,FALSE),4)","v":19.066500000000001},{"$f":"IFERROR(VLOOKUP(CONCATENATE(H$5,$C35),'trend data'!$A$2:$O$11161,H$6,FALSE),\"-\")","v":87},{"$f":"IFERROR(ROUND(VLOOKUP(CONCATENATE(I$5,$C35),'trend data'!$A$2:$O$11161,I$6,FALSE),4),\"-\")","v":6.3147000000000002},{"$f":"IFERROR(ROUND(VLOOKUP(CONCATENATE(J$5,$C35),'trend data'!$A$2:$O$11161,J$6,FALSE),4),\"-\")","v":5.0576999999999996},{"$f":"IFERROR(ROUND(VLOOKUP(CONCATENATE(K$5,$C35),'trend data'!$A$2:$O$11161,K$6,FALSE),4),\"-\")","v":7.7892999999999999}]
[202104,"2021-12-31",{"$f":"CONCATENATE(A36,'CDI Data and Charts'!B$1)","v":"202104Scotland"},{"$f":"IFERROR(VLOOKUP(CONCATENATE(D$5,$C36),'trend data'!$A$2:$O$11161,D$6,FALSE),\"-\")","v":198},{"$f":"ROUND(VLOOKUP(CONCATENATE(E$5,$C36),'trend data'!$A$2:$O$11161,E$6,FALSE),4)","v":13.2552},{"$f":"ROUND(VLOOKUP(CONCATENATE(F$5,$C36),'trend data'!$A$2:$O$11161,F$6,FALSE),4)","v":11.473000000000001},{"$f":"ROUND(VLOOKUP(CONCATENATE(G$5,$C36),'trend data'!$A$2:$O$11161,G$6,FALSE),4)","v":15.235799999999999},{"$f":"IFERROR(VLOOKUP(CONCATENATE(H$5,$C36),'trend data'!$A$2:$O$11161,H$6,FALSE),\"-\")","v":66},{"$f":"IFERROR(ROUND(VLOOKUP(CONCATENATE(I$5,$C36),'trend data'!$A$2:$O$11161,I$6,FALSE),4),\"-\")","v":4.7904999999999998},{"$f":"IFERROR(ROUND(VLOOKUP(CONCATENATE(J$5,$C36),'trend data'!$A$2:$O$11161,J$6,FALSE),4),\"-\")","v":3.7048000000000001},{"$f":"IFERROR(ROUND(VLOOKUP(CONCATENATE(K$5,$C36),'trend data'!$A$2:$O$11161,K$6,FALSE),4),\"-\")","v":6.0948000000000002}]

{"sheet":"data for u-p-charts","index":9,"n_rows":1272,"n_cols":7,"rows_kept":1272,"cut":false,"hidden":true,"merged":[]}
["ref","cases","rate","av","uwl2","uwl3","aboveUCL"]
["CDICA201901Ayrshire & Arran",1,1.0979953312636901,7.3252556728549001,12.9973263808442,15.8333617348388,"-"]
["CDICA201902Ayrshire & Arran",8,8.6874355880203797,7.3252556728549001,12.966075064738799,15.7864847606808,"-"]
["CDICA201904Ayrshire & Arran",6,6.4447552052433803,7.3252556728549001,12.9353346757074,15.740374177133701,"-"]
["CDICA202102Ayrshire & Arran",7,7.6298059938919804,7.3252556728549001,12.9765654901597,15.8022203988121,"-"]
["CDICA202003Ayrshire & Arran",7,7.5675496853057203,7.3252556728549001,12.9534619977305,15.767565160168299,"-"]
["CDICA202104Ayrshire & Arran",6,6.4687485600388497,7.3252556728549001,12.945767932171799,15.7560240618302,"-"]
["CDICA202004Ayrshire & Arran",8,8.6486282117779698,7.3252556728549001,12.9534619977305,15.767565160168299,"-"]
["CDICA202101Ayrshire & Arran",6,6.6124985280397102,7.3252556728549001,13.007874925410199,15.8491845516878,"-"]
["CDICA202001Ayrshire & Arran",9,9.8366265925166996,7.3252556728549001,12.9843017152974,15.813824736518599,"-"]
["CDICA202002Ayrshire & Arran",8,8.7436680822370594,7.3252556728549001,12.9843017152974,15.813824736518599,"-"]
["CDICA202103Ayrshire & Arran",9,9.7031228400582705,7.3252556728549001,12.945767932171799,15.7560240618302,"-"]
["CDICA201903Ayrshire & Arran",7,7.5188810727839499,7.3252556728549001,12.9353346757074,15.740374177133701,"-"]
["CDIHCAI201901Ayrshire & Arran",17,15.224789539673999,19.936474417914798,28.387421140736102,32.612894502146702,"-"]
["CDIHCAI202104Ayrshire & Arran",26,23.173112059822301,19.936474417914798,28.367097679518601,32.5824093103205,"-"]
["CDIHCAI201902Ayrshire & Arran",15,13.663691018400399,19.936474417914798,28.459475867993,32.720976593032098,"-"]
["CDIHCAI202001Ayrshire & Arran",17,15.8220484899251,19.936474417914798,28.551589247075398,32.8591466616557,"-"]
["CDIHCAI201903Ayrshire & Arran",21,18.9753320683112,19.936474417914798,28.4251360135944,32.669466811434198,"-"]
["CDIHCAI201904Ayrshire & Arran",21,18.833911803481602,19.936474417914798,28.3934445030477,32.621929545614101,"-"]
["CDIHCAI202003Ayrshire & Arran",20,20.469362481705499,19.936474417914798,28.970708435998901,33.487825445040997,"-"]
["CDIHCAI202102Ayrshire & Arran",21,20.552369394585899,19.936474417914798,28.7708422279178,33.188026132919397,"-"]
["CDIHCAI202004Ayrshire & Arran",30,29.190830187210501,19.936474417914798,28.745274860389099,33.149675081626199,"-"]
["CDIHCAI202002Ayrshire & Arran",13,15.8792202081399,19.936474417914798,29.8060183627368,34.740790335147899,"-"]
["CDIHCAI202103Ayrshire & Arran",29,26.785137019830199,19.936474417914798,28.5187432199169,32.809877620917902,"-"]
["CDIHCAI202101Ayrshire & Arran",25,25.152676747859498,19.936474417914798,28.8937570105387,33.372398306850798,"-"]
["ECBCOM202101Ayrshire & Arran",47,51.797905136311101,55.527246705344503,71.172775078337395,78.995539264833894,"-"]
["ECBCOM201903Ayrshire & Arran",55,59.076922714730998,55.527246705344503,70.973055462352605,78.695959840856702,"-"]
["ECBCOM202002Ayrshire & Arran",45,49.1831329625835,55.527246705344503,71.107872731150195,78.898185744052995,"-"]
["ECBCOM202004Ayrshire & Arran",51,55.135004850084499,55.527246705344503,71.022964055280298,78.770822730248099,"-"]
["ECBCOM201904Ayrshire & Arran",41,44.039160569163101,55.527246705344503,70.973055462352605,78.695959840856702,"-"]
["ECBCOM202104Ayrshire & Arran",59,63.609360840382003,55.527246705344503,71.001780563011494,78.7390474918449,"-"]
["ECBCOM202003Ayrshire & Arran",64,69.189025694223702,55.527246705344503,71.022964055280298,78.770822730248099,"-"]
["ECBCOM202102Ayrshire & Arran",51,55.588586526927202,55.527246705344503,71.086573164082196,78.866236393451103,"-"]
["ECBCOM202103Ayrshire & Arran",59,63.609360840382003,55.527246705344503,71.001780563011494,78.7390474918449,"-"]
["ECBCOM201902Ayrshire & Arran",57,61.8979785646452,55.527246705344503,71.057690664433395,78.822912643977801,"-"]
["ECBCOM202001Ayrshire & Arran",52,56.833842534540899,55.527246705344503,71.107872731150195,78.898185744052995,"-"]
["ECBCOM201901Ayrshire & Arran",43,47.213799244338603,55.527246705344503,71.1437325636156,78.951975492751203,"-"]
["ECBHCAI201903Ayrshire & Arran",50,45.179362067407602,46.332366547233903,59.2730520427626,65.743394790526906,"-"]
["ECBHCAI202004Ayrshire & Arran",56,54.489549682792997,46.332366547233903,59.761093188539803,66.475456509192796,"-"]
["ECBHCAI202102Ayrshire & Arran",50,48.934212844252201,46.332366547233903,59.800069799682703,66.533921425907096,"-"]
["ECBHCAI202003Ayrshire & Arran",60,61.4080874451165,46.332366547233903,60.104759262304,66.990955619838999,"-"]
["ECBHCAI202104Ayrshire & Arran",55,49.020044741931699,46.332366547233903,59.184574510763603,65.610678492528507,"-"]
["ECBHCAI201902Ayrshire & Arran",46,41.901985789761298,46.332366547233903,59.325402021699198,65.821919758931799,"-"]
["ECBHCAI202002Ayrshire & Arran",36,43.973225191772102,46.332366547233903,61.378161780636198,68.901059397337406,"-"]
["ECBHCAI201901Ayrshire & Arran",52,46.569944474297003,46.332366547233903,59.215556959154497,65.657152165114894,"-"]
["ECBHCAI202103Ayrshire & Arran",54,49.875772381752903,46.332366547233903,59.415753150997404,65.957446452879196,"-"]
["ECBHCAI202001Ayrshire & Arran",50,46.535436735073802,46.332366547233903,59.465825839423601,66.032555485518401,"-"]
["ECBHCAI202101Ayrshire & Arran",41,41.250389866489598,46.332366547233903,59.987449344351802,66.814990742910794,"-"]
["ECBHCAI201904Ayrshire & Arran",46,41.255235379054902,46.332366547233903,59.224739376950502,65.670925791808898,"-"]
["SABCAUN201901Ayrshire & Arran",11,12.0779486439006,12.5705004756399,20.000803520307901,23.715955042641902,"-"]
["SABCAUN202103Ayrshire & Arran",17,18.328120920110099,12.5705004756399,19.933262948641602,23.614644185142399,"-"]
["SABCAUN202102Ayrshire & Arran",8,8.7197782787336795,12.5705004756399,19.973607154605698,23.675160494088601,"-"]
["SABCAUN202001Ayrshire & Arran",15,16.3943776541945,12.5705004756399,19.983741460074398,23.6903619522916,"-"]
["SABCAUN202104Ayrshire & Arran",12,12.937497120077699,12.5705004756399,19.933262948641602,23.614644185142399,"-"]
["SABCAUN202003Ayrshire & Arran",15,16.2161778970837,12.5705004756399,19.943342025876401,23.629762800994602,"-"]
["SABCAUN202101Ayrshire & Arran",9,9.9187477920595697,12.5705004756399,20.014621909894402,23.7366826270217,"-"]
["SABCAUN201904Ayrshire & Arran",9,9.6671328078650696,12.5705004756399,19.919595584240898,23.594143138541401,"-"]
["SABCAUN201902Ayrshire & Arran",15,16.288941727538202,12.5705004756399,19.959864899976399,23.654547112144702,"-"]
["SABCAUN202004Ayrshire & Arran",12,12.972942317666901,12.5705004756399,19.943342025876401,23.629762800994602,"-"]
["SABCAUN201903Ayrshire & Arran",8,8.5930069403245106,12.5705004756399,19.919595584240898,23.594143138541401,"-"]
["SABCAUN202002Ayrshire & Arran",13,14.2084606336352,12.5705004756399,19.983741460074398,23.6903619522916,"-"]
["SABHCAI202102Ayrshire & Arran",18,17.6163166239308,17.065622101734998,25.239202880051799,29.325993269210301,"-"]
["SABHCAI202104Ayrshire & Arran",15,13.3691031114359,17.065622101734998,24.865657341636499,28.765674961587301,"-"]
["SABHCAI202003Ayrshire & Arran",16,16.3754899853644,17.065622101734998,25.424119631509399,29.603368396396601,"-"]
["SABHCAI201903Ayrshire & Arran",22,19.878919309659299,17.065622101734998,24.919354563895102,28.846220794975199,"-"]
["SABHCAI201901Ayrshire & Arran",11,9.8513344080243606,17.065622101734998,24.884460662432001,28.7938799427804,"-"]
["SABHCAI202004Ayrshire & Arran",25,24.325691822675399,17.065622101734998,25.215547883081001,29.290510773753901,"-"]
["SABHCAI201904Ayrshire & Arran",16,14.349647088366901,17.065622101734998,24.890033493388302,28.802239189214902,"-"]
["SABHCAI202101Ayrshire & Arran",12,12.073284838972601,17.065622101734998,25.352923966405498,29.4965748987408,"-"]
["SABHCAI202001Ayrshire & Arran",19,17.683465959328,17.065622101734998,25.036349434469301,29.0217131008365,"-"]
["SABHCAI202103Ayrshire & Arran",17,15.701632046107401,17.065622101734998,25.005960202098599,28.976129252280401,"-"]
["SABHCAI202002Ayrshire & Arran",23,28.0940049836322,17.065622101734998,26.196950614773598,30.7626148712929,"-"]
["SABHCAI201902Ayrshire & Arran",18,16.396429222080499,17.065622101734998,24.9511258892326,28.893877782981299,"-"]
["SSICSEC201901Ayrshire & Arran",3,1.1764705882352899,1.1577424023154801,2.4975338567425398,3.1674295839560598,"-"]
["SSICSEC201902Ayrshire & Arran",2,0.71684587813620104,1.1577424023154801,2.4386128095635602,3.0790480131876001,"-"]
["SSICSEC201904Ayrshire & Arran",2,0.79681274900398402,1.1577424023154801,2.5081672890397102,3.18337973240182,"-"]
["SSICSEC201903Ayrshire & Arran",5,1.6501650165016499,1.1577424023154801,2.3868388949757202,3.0013871413058402,"-"]
["SSIHIP201901Ayrshire & Arran",0,0,0,0,0,"-"]
["SSIHIP201904Ayrshire & Arran",0,0,0,0,0,"-"]
["SSIHIP201902Ayrshire & Arran",0,0,0,0,0,"-"]
["SSIHIP201903Ayrshire & Arran",0,0,0,0,0,"-"]
["CDICA202104Borders",1,3.4427206736791298,3.7572519119027801,10.950351058537199,14.546900631854401,"-"]
["CDICA201903Borders",0,0,3.7572519119027801,10.941939349530699,14.5342830683446,"-"]
["CDICA201901Borders",1,3.5109995286603399,3.7572519119027801,11.0213305710994,14.6533699006976,"-"]
["CDICA202002Borders",0,0,3.7572519119027801,10.999666371755801,14.6208736016823,"-"]
["CDICA202103Borders",1,3.4427206736791298,3.7572519119027801,10.950351058537199,14.546900631854401,"-"]
["CDICA202003Borders",4,13.808611140455501,3.7572519119027801,10.960197879227399,14.5616708628897,"-"]
["CDICA202001Borders",3,10.4702655900157,3.7572519119027801,10.999666371755801,14.6208736016823,"-"]
["CDICA202004Borders",0,0,3.7572519119027801,10.960197879227399,14.5616708628897,"-"]
["CDICA202102Borders",1,3.4805527689942801,3.7572519119027801,10.989765595479801,14.606022437268299,"-"]
["CDICA201902Borders",0,0,3.7572519119027801,10.9813077945721,14.5933357359068,"-"]
["CDICA201904Borders",2,6.8693469039006603,3.7572519119027801,10.941939349530699,14.5342830683446,"-"]
["CDICA202101Borders",0,0,3.7572519119027801,11.0298352299884,14.666126889031201,"-"]
["CDIHCAI201902Borders",4,13.4471861762926,10.0578325370883,21.687516395912599,27.502358325324799,"-"]
["CDIHCAI202004Borders",3,11.045248702183301,10.0578325370883,22.228357684730899,28.313620258552199,"-"]
["CDIHCAI201904Borders",3,10.1988781234064,10.0578325370883,21.7527663822137,27.600233304776399,"-"]
["CDIHCAI202104Borders",2,6.5638332786347204,10.0578325370883,21.548518845388099,27.293861999538102,"-"]
["CDIHCAI202001Borders",3,10.396811644429,10.0578325370883,21.865705077012102,27.769641346974101,"-"]
["CDIHCAI202101Borders",0,0,10.0578325370883,22.0088309797184,27.984330201033501,"-"]
["CDIHCAI201901Borders",6,20.415107179312699,10.0578325370883,21.7577393525643,27.607692760302399,"-"]
["CDIHCAI202103Borders",3,10.1214574898785,10.0578325370883,21.708293155419,27.533523464584299,"-"]
["CDIHCAI201903Borders",4,13.8112008839169,10.0578325370883,21.843872823228502,27.736892966298601,"-"]
["CDIHCAI202102Borders",2,6.7599540323125797,10.0578325370883,21.718920446491399,27.549464401192999,"-"]
["CDIHCAI202003Borders",2,7.9067009290373598,10.0578325370883,22.669277645805799,28.975000200164601,"-"]
["CDIHCAI202002Borders",4,19.3836014731537,10.0578325370883,24.020533478619502,31.0018839493851,"-"]
["ECBCOM202004Borders",8,27.617222280910902,45.0870229428333,70.038759701992603,82.514628081572198,"-"]
["ECBCOM202003Borders",8,27.617222280910902,45.0870229428333,70.038759701992603,82.514628081572198,"-"]
["ECBCOM202101Borders",10,35.192255775386599,45.0870229428333,70.279990561237597,82.876474370439695,"-"]
["ECBCOM201904Borders",12,41.216081423403999,45.0870229428333,69.975510299780098,82.419753978253496,"-"]
["ECBCOM201901Borders",16,56.175992458565403,45.0870229428333,70.250529558643905,82.832282866549207,"-"]
["ECBCOM202001Borders",13,45.371150890067902,45.0870229428333,70.175482570707203,82.719712384644197,"-"]
["ECBCOM202102Borders",10,34.805527689942799,45.0870229428333,70.141185275618398,82.668266442011003,"-"]
["ECBCOM202104Borders",12,41.312648084149501,45.0870229428333,70.004649314535499,82.463462500386598,"-"]
["ECBCOM202002Borders",7,24.430619710036598,45.0870229428333,70.175482570707203,82.719712384644197,"-"]
["ECBCOM201902Borders",19,65.975925208892093,45.0870229428333,70.111886593833503,82.624318419333605,"-"]
["ECBCOM202103Borders",18,61.968972126224301,45.0870229428333,70.004649314535499,82.463462500386598,"-"]
["ECBCOM201903Borders",24,82.432162846807898,45.0870229428333,69.975510299780098,82.419753978253496,"aboveUCL"]
["ECBHCAI201902Borders",15,50.4269481610973,43.781153396737103,68.0449808099617,80.176894516573995,"-"]
["ECBHCAI201903Borders",8,27.622401767833701,43.781153396737103,68.371198221664002,80.666220634127498,"-"]
["ECBHCAI202001Borders",10,34.656038814763498,43.781153396737103,68.416748388313295,80.734545884101394,"-"]
["ECBHCAI202004Borders",12,44.180994808733097,43.781153396737103,69.173376031116007,81.869487348305498,"-"]
["ECBHCAI202102Borders",19,64.219563306969505,43.781153396737103,68.110501289501101,80.275175235882998,"-"]
["ECBHCAI202103Borders",14,47.2334682860999,43.781153396737103,68.088328824661701,80.241916538623997,"-"]
["ECBHCAI201901Borders",9,30.622660768968998,43.781153396737103,68.191491903584605,80.396661157008296,"-"]
["ECBHCAI202104Borders",12,39.3829996718083,43.781153396737103,67.7549804438531,79.741893967411102,"-"]
["ECBHCAI202002Borders",14,67.842605156038005,43.781153396737103,72.912518443321602,87.478200966613798,"-"]
["ECBHCAI201904Borders",14,47.594764575896697,43.781153396737103,68.181116445766094,80.381097970280507,"-"]
["ECBHCAI202003Borders",13,51.393556038742801,43.781153396737103,70.093298358192001,83.249370838919504,"-"]
["ECBHCAI202101Borders",9,31.951150241408701,43.781153396737103,68.715362025948195,81.182466340553802,"-"]
["SABCAUN201901Borders",3,10.532998585981,11.2717557357083,23.853509043613599,30.1443856975662,"-"]
["SABCAUN202001Borders",3,10.4702655900157,11.2717557357083,23.815985549645301,30.088100456613802,"-"]
["SABCAUN201902Borders",3,10.4172513487724,11.2717557357083,23.784187561208402,30.040403473958499,"-"]
["SABCAUN202102Borders",3,10.4416583069828,11.2717557357083,23.798836902100899,30.062377485297201,"-"]
["SABCAUN201904Borders",2,6.8693469039006603,11.2717557357083,23.715999414181699,29.938121253418402,"-"]
["SABCAUN202101Borders",4,14.076902310154701,11.2717557357083,23.868239544910502,30.166481449511501,"-"]
["SABCAUN202104Borders",3,10.3281620210374,11.2717557357083,23.730568921559399,29.959975514484999,"-"]
["SABCAUN202103Borders",6,20.6563240420748,11.2717557357083,23.730568921559399,29.959975514484999,"-"]
["SABCAUN202004Borders",4,13.808611140455501,11.2717557357083,23.747624115288001,29.985558305077799,"-"]
["SABCAUN201903Borders",2,6.8693469039006603,11.2717557357083,23.715999414181699,29.938121253418402,"-"]
["SABCAUN202002Borders",5,17.450442650026101,11.2717557357083,23.815985549645301,30.088100456613802,"-"]
["SABCAUN202003Borders",1,3.45215278511386,11.2717557357083,23.747624115288001,29.985558305077799,"-"]
["SABHCAI202003Borders",2,7.9067009290373598,13.6076557854723,28.276784228635901,35.611348450217697,"-"]
["SABHCAI202002Borders",5,24.229501841442101,13.6076557854723,29.848510957828601,37.968938544006697,"-"]
["SABHCAI202104Borders",4,13.1276665572694,13.6076557854723,26.973162426740402,33.655915747374401,"-"]
["SABHCAI201901Borders",3,10.2075535896563,13.6076557854723,27.216519351046401,34.0209511338334,"-"]
["SABHCAI202103Borders",7,23.6167341430499,13.6076557854723,27.1590055125688,33.9346803761171,"-"]
["SABHCAI201903Borders",0,0,13.6076557854723,27.316706358446101,34.171231644933002,"-"]
["SABHCAI202001Borders",3,10.396811644429,13.6076557854723,27.3421007626714,34.209323251270902,"-"]
["SABHCAI202101Borders",7,24.850894632206799,13.6076557854723,27.508579087101602,34.459040737916197,"-"]
["SABHCAI201904Borders",2,6.7992520822709501,13.6076557854723,27.210734990872801,34.012274593572997,"-"]
["SABHCAI202004Borders",5,18.4087478369721,13.6076557854723,27.7639237684423,34.8420577599273,"-"]
["SABHCAI202102Borders",6,20.279862096937698,13.6076557854723,27.171366752411,33.953222235880297,"-"]
["SABHCAI201902Borders",2,6.7235930881463002,13.6076557854723,27.134838817062899,33.898430332858197,"-"]
["SSICSEC201903Borders",1,1.7543859649122799,0.303951367781155,1.76220676244972,2.4913344597839999,"-"]
["SSICSEC201901Borders",0,0,0.303951367781155,1.6390598750291101,2.3066141286530799,"-"]
["SSICSEC201904Borders",0,0,0.303951367781155,1.69102892467343,2.3845677031195698,"-"]
["SSICSEC201902Borders",0,0,0.303951367781155,1.5837898361390299,2.2237090703179598,"-"]
["SSIHIP201902Borders",2,2.0618556701030899,1.7114914425427901,4.34529188975345,5.6621921133587803,"-"]
["SSIHIP201901Borders",1,1.63934426229508,1.7114914425427901,5.0327586438853,6.6933922445565601,"-"]
["SSIHIP201904Borders",2,2.2222222222222201,1.7114914425427901,4.44579973448697,5.8129538804590704,"-"]
["SSIHIP201903Borders",1,1.35135135135135,1.7114914425427901,4.7269465988673502,6.2346741770296399,"-"]
["CDICA202002Dumfries & Galloway",2,5.4244763935235296,8.0796106045811502,17.442052272587699,22.123273106591,"-"]
["CDICA201904Dumfries & Galloway",2,5.3303658529461604,8.0796106045811502,17.3604813042258,22.000916654048101,"-"]
["CDICA201901Dumfries & Galloway",1,2.7244092137280398,8.0796106045811502,17.4630354749482,22.1547479101317,"-"]
["CDICA202003Dumfries & Galloway",6,16.096544080781801,8.0796106045811502,17.391030412257901,22.046740316096301,"-"]
["CDICA202104Dumfries & Galloway",5,13.3771370434548,8.0796106045811502,17.378301192625599,22.0276464866478,"-"]
["CDICA202004Dumfries & Galloway",3,8.0482720403908896,8.0796106045811502,17.391030412257901,22.046740316096301,"-"]
["CDICA202103Dumfries & Galloway",2,5.3508548173819204,8.0796106045811502,17.378301192625599,22.0276464866478,"-"]
["CDICA202001Dumfries & Galloway",2,5.4244763935235296,8.0796106045811502,17.442052272587699,22.123273106591,"-"]
["CDICA202102Dumfries & Galloway",9,24.343449388968299,8.0796106045811502,17.4292533032846,22.104074652636299,"aboveUCL"]
["CDICA202101Dumfries & Galloway",0,0,8.0796106045811502,17.481052274169901,22.181773108964201,"-"]
["CDICA201903Dumfries & Galloway",5,13.3259146323654,8.0796106045811502,17.3604813042258,22.000916654048101,"-"]
["CDICA201902Dumfries & Galloway",4,10.7778826037593,8.0796106045811502,17.411335770929799,22.077198354104102,"-"]
["CDIHCAI202104Dumfries & Galloway",3,6.6844919786096302,18.445248017642601,31.266954218061599,37.6778073182711,"-"]
["CDIHCAI201902Dumfries & Galloway",6,13.1385902292684,18.445248017642601,31.1559929572866,37.5113654271087,"-"]
["CDIHCAI202001Dumfries & Galloway",12,27.067262146433901,18.445248017642601,31.345666143289002,37.7958752061122,"-"]
["CDIHCAI202004Dumfries & Galloway",8,21.314576506007999,18.445248017642601,32.465815945589299,39.476099909562599,"-"]
["CDIHCAI202002Dumfries & Galloway",3,11.075014766686399,18.445248017642601,34.949041285477897,43.2009379193955,"-"]
["CDIHCAI201904Dumfries & Galloway",6,12.914890869172201,18.445248017642601,31.047321000626201,37.348357492117998,"-"]
["CDIHCAI202102Dumfries & Galloway",6,14.925744421503,18.445248017642601,31.9929183635623,38.766753536522103,"-"]
["CDIHCAI202103Dumfries & Galloway",10,23.709042628858601,18.445248017642601,31.671270421225,38.284281623016199,"-"]
["CDIHCAI201901Dumfries & Galloway",3,6.5009643097059397,18.445248017642601,31.089714477791301,37.4119477078656,"-"]
["CDIHCAI202101Dumfries & Galloway",8,21.536059439524099,18.445248017642601,32.538472589838896,39.585084875937,"-"]
["CDIHCAI201903Dumfries & Galloway",7,15.192950470981501,18.445248017642601,31.099727508140599,37.426967253389599,"-"]
["CDIHCAI202003Dumfries & Galloway",10,27.227924959838798,18.445248017642601,32.618826660878597,39.705615982496496,"-"]
["ECBCOM202001Dumfries & Galloway",20,54.244763935235298,59.923778650643499,85.421038217159506,98.169668000417502,"-"]
["ECBCOM201904Dumfries & Galloway",21,55.968841455934701,59.923778650643499,85.198891449556797,97.836447849013396,"-"]
["ECBCOM202003Dumfries & Galloway",23,61.703418976330198,59.923778650643499,85.282087539277995,97.961241983595201,"-"]
["ECBCOM201902Dumfries & Galloway",20,53.889413018796297,59.923778650643499,85.337386255041096,98.044190057239803,"-"]
["ECBCOM201901Dumfries & Galloway",18,49.039365847104698,59.923778650643499,85.478182942445201,98.255385088346003,"-"]
["ECBCOM202004Dumfries & Galloway",23,61.703418976330198,59.923778650643499,85.282087539277995,97.961241983595201,"-"]
["ECBCOM202002Dumfries & Galloway",22,59.669240328758796,59.923778650643499,85.421038217159506,98.169668000417502,"-"]
["ECBCOM201903Dumfries & Galloway",29,77.2903048677193,59.923778650643499,85.198891449556797,97.836447849013396,"-"]
["ECBCOM202104Dumfries & Galloway",28,74.911967443346896,59.923778650643499,85.2474213455057,97.9092426929369,"-"]
["ECBCOM202101Dumfries & Galloway",21,57.432508373232601,59.923778650643499,85.527249096617695,98.3289843196047,"-"]
["ECBCOM202103Dumfries & Galloway",22,58.859402991201101,59.923778650643499,85.2474213455057,97.9092426929369,"-"]
["ECBCOM202102Dumfries & Galloway",25,67.6206927471342,59.923778650643499,85.386182070218695,98.117383780006193,"-"]
["ECBHCAI201903Dumfries & Galloway",12,26.045057950253899,34.255460604193402,51.500609260640303,60.123183588863697,"-"]
["ECBHCAI201902Dumfries & Galloway",15,32.846475573170999,34.255460604193402,51.577286142962699,60.2381989123474,"-"]
["ECBHCAI201904Dumfries & Galloway",18,38.744672607516499,34.255460604193402,51.4291912293154,60.016056541876502,"-"]
["ECBHCAI201901Dumfries & Galloway",11,23.836869135588401,34.255460604193402,51.486963800389901,60.102715398488201,"-"]
["ECBHCAI202004Dumfries & Galloway",15,39.964830948765098,34.255460604193402,53.362273993618402,62.915680688330902,"-"]
["ECBHCAI202104Dumfries & Galloway",11,24.509803921568601,34.255460604193402,51.728500852236799,60.465020976258501,"-"]
["ECBHCAI202103Dumfries & Galloway",22,52.159893783488997,34.255460604193402,52.279490960759098,61.291506139041999,"-"]
["ECBHCAI202102Dumfries & Galloway",15,37.314361053757601,34.255460604193402,52.717823219688597,61.949004527436301,"-"]
["ECBHCAI202002Dumfries & Galloway",10,36.916715888954499,34.255460604193402,56.746339704577899,67.991779254770094,"-"]
["ECBHCAI202101Dumfries & Galloway",10,26.920074299405101,34.255460604193402,53.461288309608499,63.0642021623161,"-"]
["ECBHCAI202001Dumfries & Galloway",15,33.834077683042402,34.255460604193402,51.835767125227399,60.6259203857445,"-"]
["ECBHCAI202003Dumfries & Galloway",11,29.950717455822701,34.255460604193402,53.570792450120202,63.228458373083697,"-"]
["SABCAUN201902Dumfries & Galloway",6,16.1668239056389,12.343849534776799,23.878170544887901,29.645331049943501,"-"]
["SABCAUN202104Dumfries & Galloway",8,21.403419269527699,12.343849534776799,23.837338713281099,29.584083302533202,"-"]
["SABCAUN201901Dumfries & Galloway",6,16.346455282368201,12.343849534776799,23.942073089342099,29.7411848666247,"-"]
["SABCAUN202101Dumfries & Galloway",3,8.2046440533189493,12.343849534776799,23.964342449197101,29.774588906407299,"-"]
["SABCAUN202102Dumfries & Galloway",11,29.753104808739,12.343849534776799,23.9003172076117,29.678551044029199,"aboveUCL"]
["SABCAUN202004Dumfries & Galloway",1,2.6827573467969601,12.343849534776799,23.853072449844198,29.607683907378,"-"]
["SABCAUN202003Dumfries & Galloway",3,8.0482720403908896,12.343849534776799,23.853072449844198,29.607683907378,"-"]
["SABCAUN202002Dumfries & Galloway",4,10.8489527870471,12.343849534776799,23.916137157075401,29.702280968224699,"-"]
["SABCAUN201904Dumfries & Galloway",2,5.3303658529461604,12.343849534776799,23.8153127417159,29.551044345185499,"-"]
["SABCAUN202103Dumfries & Galloway",5,13.3771370434548,12.343849534776799,23.837338713281099,29.584083302533202,"-"]
["SABCAUN202001Dumfries & Galloway",8,21.697905574094101,12.343849534776799,23.916137157075401,29.702280968224699,"-"]
["SABCAUN201903Dumfries & Galloway",3,7.9955487794192397,12.343849534776799,23.8153127417159,29.551044345185499,"-"]
["SABHCAI201901Dumfries & Galloway",4,8.6679524129412506,12.3643970228154,22.7168848884676,27.893128821293601,"-"]
["SABHCAI202003Dumfries & Galloway",6,16.3367549759033,12.3643970228154,23.968825045098399,29.7710390562399,"-"]
["SABHCAI201903Dumfries & Galloway",4,8.6816859834179798,12.3643970228154,22.725082923198201,27.9054258733896,"-"]
["SABHCAI202102Dumfries & Galloway",10,24.876240702505001,12.3643970228154,23.456370994672501,29.002357980601101,"-"]
["SABHCAI202101Dumfries & Galloway",4,10.768029719762,12.3643970228154,23.9030362237182,29.672355824169699,"-"]
["SABHCAI202103Dumfries & Galloway",6,14.2254255773152,12.3643970228154,23.193026042115299,28.607340551765301,"-"]
["SABHCAI202104Dumfries & Galloway",7,15.5971479500891,12.3643970228154,22.8619975562296,28.1107978229367,"-"]
["SABHCAI202001Dumfries & Galloway",8,18.044841430955898,12.3643970228154,22.926441892680401,28.207464327613,"-"]
["SABHCAI201904Dumfries & Galloway",2,4.3049636230573904,12.3643970228154,22.682175795812899,27.841065182311599,"-"]
["SABHCAI202004Dumfries & Galloway",5,13.321610316255001,12.3643970228154,23.843549567612701,29.583125840011402,"-"]
["SABHCAI202002Dumfries & Galloway",4,14.7666863555818,12.3643970228154,25.8766571154795,32.632787161811599,"-"]
["SABHCAI201902Dumfries & Galloway",3,6.5692951146342002,12.3643970228154,22.771149507452701,27.974525749771299,"-"]
["SSICSEC201903Dumfries & Galloway",1,1.16279069767442,0.50761421319796995,2.04026276634329,2.8065870429159498,"-"]
["SSICSEC201902Dumfries & Galloway",0,0,0.50761421319796995,2.0868584320361001,2.8764805414551602,"-"]
["SSICSEC201901Dumfries & Galloway",0,0,0.50761421319796995,2.1826556576331102,3.02017637985068,"-"]
["SSICSEC201904Dumfries & Galloway",0,0,0.50761421319796995,2.1826556576331102,3.02017637985068,"-"]
["SSIHIP201904Dumfries & Galloway",0,0,0.45662100456621002,2.44470720938972,3.4387503118014799,"-"]
["SSIHIP201902Dumfries & Galloway",0,0,0.45662100456621002,2.4666756796613898,3.4717030172089798,"-"]
["SSIHIP201901Dumfries & Galloway",1,3.5714285714285698,0.45662100456621002,3.0048303959066698,4.2789350915769004,"-"]
["SSIHIP201903Dumfries & Galloway",0,0,0.45662100456621002,2.3828862439965302,3.3460188637116901,"-"]
["CDICA202002Fife",1,1.07502152245958,4.0133763573794701,8.1676348769775799,10.244764136776601,"-"]
["CDICA202003Fife",6,6.3800190354666304,4.0133763573794701,8.1449956974262392,10.2108053674496,"-"]
["CDICA201904Fife",4,4.2483108599628698,4.0133763573794701,8.1425494421718092,10.207135984568,"-"]
["CDICA202004Fife",2,2.1266730118222101,4.0133763573794701,8.1449956974262392,10.2108053674496,"-"]
["CDICA201901Fife",5,5.4283972099525597,4.0133763573794701,8.1881770492341897,10.2755773951615,"-"]
["CDICA202001Fife",1,1.07502152245958,4.0133763573794701,8.1676348769775799,10.244764136776601,"-"]
["CDICA202104Fife",1,1.06043121491135,4.0133763573794701,8.1393475480459294,10.202333143379199,"-"]
["CDICA201902Fife",3,3.2212466960157999,4.0133763573794701,8.1651752174844194,10.2410746475369,"-"]
["CDICA202103Fife",4,4.24172485964539,4.0133763573794701,8.1393475480459294,10.202333143379199,"-"]
["CDICA201903Fife",3,3.1862331449721499,4.0133763573794701,8.1425494421718092,10.207135984568,"-"]
["CDICA202102Fife",4,4.2883372207403996,4.0133763573794701,8.1619557786018593,10.236245489213101,"-"]
["CDICA202101Fife",5,5.4199817651024498,4.0133763573794701,8.1849397739886491,10.270721482293199,"-"]
["CDIHCAI202001Fife",7,7.9822110724670701,9.4983472875719599,16.080479503503,19.371545611468498,"-"]
["CDIHCAI201901Fife",6,6.5299015073189297,9.4983472875719599,15.928654292692601,19.143807795252901,"-"]
["CDIHCAI202104Fife",4,4.63768115942029,9.4983472875719599,16.135387762151201,19.453907999440901,"-"]
["CDIHCAI201902Fife",6,6.8292793972022698,9.4983472875719599,16.074408288834402,19.3624387894656,"-"]
["CDIHCAI202102Fife",8,10.0266960783085,9.4983472875719599,16.398964705553801,19.8492734145448,"-"]
["CDIHCAI202004Fife",6,7.7324569882079999,9.4983472875719599,16.4957545150247,19.994458128751099,"-"]
["CDIHCAI201904Fife",12,13.085008941422799,9.4983472875719599,15.9348566724953,19.153111364956899,"-"]
["CDIHCAI201903Fife",8,8.8617129691169296,9.4983472875719599,15.9857052761314,19.229384270411199,"-"]
["CDIHCAI202101Fife",11,13.990816936519799,9.4983472875719599,16.449858257397398,19.925613742310102,"-"]
["CDIHCAI202103Fife",8,9.4654393147021896,9.4983472875719599,16.203048244381201,19.555398722785899,"-"]
["CDIHCAI202002Fife",5,7.8746357980943396,9.4983472875719599,17.233773614462901,21.101486777908299,"-"]
["CDIHCAI202003Fife",7,9.2996067594856004,9.4983472875719599,16.6029089867077,20.1551898362755,"-"]
["ECBCOM202001Fife",31,33.325667196246897,37.190620911716501,49.836682419352798,56.159713173170999,"-"]
["ECBCOM201902Fife",33,35.433713656173801,37.190620911716501,49.829194920659198,56.148481925130604,"-"]
["ECBCOM202004Fife",26,27.646749153688699,37.190620911716501,49.767766039753901,56.056338603772602,"-"]
["ECBCOM202002Fife",36,38.7007748085448,37.190620911716501,49.836682419352798,56.159713173170999,"-"]
["ECBCOM202003Fife",44,46.786806260088603,37.190620911716501,49.767766039753901,56.056338603772602,"-"]
["ECBCOM202104Fife",37,39.235954951719897,37.190620911716501,49.750572395176697,56.030548136906802,"-"]
["ECBCOM201901Fife",25,27.141986049762799,37.190620911716501,49.899215257073898,56.253512429752703,"-"]
["ECBCOM202101Fife",32,34.687883296655599,37.190620911716501,49.8893606027044,56.238730448198403,"-"]
["ECBCOM201903Fife",40,42.4831085996287,37.190620911716501,49.760319345171702,56.045168561899303,"-"]
["ECBCOM201904Fife",34,36.110642309684401,37.190620911716501,49.760319345171702,56.045168561899303,"-"]
["ECBCOM202103Fife",40,42.417248596453902,37.190620911716501,49.750572395176697,56.030548136906802,"-"]
["ECBCOM202102Fife",30,32.162529155553003,37.190620911716501,49.819394562319303,56.133781387620701,"-"]
["ECBHCAI202104Fife",29,33.623188405797102,43.692397522831001,57.927263479401702,65.044696457687095,"-"]
["ECBHCAI202004Fife",39,50.260970423351999,43.692397522831001,58.7001640579061,66.204047325443597,"-"]
["ECBHCAI201902Fife",37,42.113889616080698,43.692397522831001,57.796477079636396,64.848516858039005,"-"]
["ECBHCAI202003Fife",34,45.169518546072901,43.692397522831001,58.929984796064304,66.548778432680905,"-"]
["ECBHCAI202103Fife",51,60.342175631226503,43.692397522831001,58.072379046918599,65.262369808962404,"-"]
["ECBHCAI202102Fife",30,37.600110293656897,43.692397522831001,58.4925730436495,65.892660804058707,"-"]
["ECBHCAI201903Fife",28,31.0159953919093,43.692397522831001,57.606230312179299,64.563146706853402,"-"]
["ECBHCAI202002Fife",23,36.223324671234003,43.692397522831001,60.283038683144397,68.578359263300996,"-"]
["ECBHCAI201901Fife",36,39.179409043913601,43.692397522831001,57.483869584524598,64.379605615371403,"-"]
["ECBHCAI202001Fife",42,47.893266434802399,43.692397522831001,57.809498384438001,64.868048815241593,"-"]
["ECBHCAI201904Fife",55,59.972957648187702,43.692397522831001,57.497172207198297,64.399559549381905,"-"]
["ECBHCAI202101Fife",17,21.622171629166999,43.692397522831001,58.6017275517953,66.056392566277395,"-"]
["SABCAUN202104Fife",8,8.4834497192907801,10.5239646704617,17.2052641372367,20.545913870624201,"-"]
["SABCAUN202101Fife",13,14.0919525892664,10.5239646704617,17.279092891923401,20.6566570026542,"-"]
["SABCAUN202001Fife",6,6.4501291347574696,10.5239646704617,17.251070592728901,20.614623553862501,"-"]
["SABCAUN201901Fife",11,11.9424738618956,10.5239646704617,17.284335101423299,20.664520316903999,"-"]
["SABCAUN202002Fife",13,13.975279791974501,10.5239646704617,17.251070592728901,20.614623553862501,"-"]
["SABCAUN202102Fife",8,8.5766744414807903,10.5239646704617,17.2418742713791,20.600829071837801,"-"]
["SABCAUN202004Fife",12,12.7600380709333,10.5239646704617,17.214410342020699,20.559633177800201,"-"]
["SABCAUN202003Fife",6,6.3800190354666304,10.5239646704617,17.214410342020699,20.559633177800201,"-"]
["SABCAUN201904Fife",8,8.4966217199257397,10.5239646704617,17.210449053109201,20.553691244432901,"-"]
["SABCAUN201902Fife",9,9.66374008804741,10.5239646704617,17.247087597962199,20.608649061712399,"-"]
["SABCAUN202103Fife",9,9.5438809342021305,10.5239646704617,17.2052641372367,20.545913870624201,"-"]
["SABCAUN201903Fife",11,11.6828548648979,10.5239646704617,17.210449053109201,20.553691244432901,"-"]
["SABHCAI202101Fife",14,17.806494282843399,14.297512232871499,22.826263101609701,27.090638535978801,"-"]
["SABHCAI201903Fife",14,15.5079976959546,14.297512232871499,22.256797677562599,26.236440399908201,"-"]
["SABHCAI202102Fife",5,6.2666850489428096,14.297512232871499,22.763822227045502,26.996977224132401,"-"]
["SABHCAI202001Fife",11,12.543474542448299,14.297512232871499,22.3730753871912,26.410856964351002,"-"]
["SABHCAI201901Fife",13,14.1481199325244,14.297512232871499,22.1868023014957,26.131447335807799,"-"]
["SABHCAI202002Fife",4,6.2997086384754697,14.297512232871499,23.788042319338199,28.533307362571499,"-"]
["SABHCAI202104Fife",11,12.7536231884058,14.297512232871499,22.440441872071901,26.511906691672198,"-"]
["SABHCAI202103Fife",14,16.564518800728798,14.297512232871499,22.523453953776698,26.636424814229301,"-"]
["SABHCAI202004Fife",16,20.619885301888001,14.297512232871499,22.882572837552001,27.1751031398923,"-"]
["SABHCAI202003Fife",14,18.599213518971201,14.297512232871499,23.014039765738101,27.3723035321715,"-"]
["SABHCAI201904Fife",10,10.9041741178523,14.297512232871499,22.194411949579401,26.1428618079334,"-"]
["SABHCAI201902Fife",12,13.658558794404501,14.297512232871499,22.365626664517301,26.399683880340199,"-"]
["SSICSEC201901Fife",12,6.4864864864864904,2.8730305838739598,5.3293462324497396,6.5575040567376401,"-"]
["SSICSEC201904Fife",5,2.31481481481481,2.8730305838739598,5.1462594575391698,6.2828738943717699,"-"]
["SSICSEC201903Fife",6,2.5423728813559299,2.8730305838739598,5.0478041105655604,6.1351908739113696,"-"]
["SSICSEC201902Fife",4,1.9607843137254899,2.8730305838739598,5.2121637971060499,6.3817304037221003,"-"]
["SSIHIP201904Fife",1,0.78740157480314998,0.72046109510086498,2.2214009090361699,2.9718708160038201,"-"]
["SSIHIP201901Fife",0,0,0.72046109510086498,2.0969625180682798,2.78521322955199,"-"]
["SSIHIP201903Fife",2,1.40845070422535,0.72046109510086498,2.1399139287861701,2.84964034562883,"-"]
["SSIHIP201902Fife",1,0.76923076923076905,0.72046109510086498,2.2039812883266601,2.94574138493955,"-"]
["CDICA201904Forth Valley",0,0,1.5241657220915601,4.3327289554378297,5.7370105721109699,"-"]
["CDICA202004Forth Valley",1,1.3003827246642099,1.5241657220915601,4.3398352868901,5.7476700692893798,"-"]
["CDICA202103Forth Valley",0,0,1.5241657220915601,4.3359861127531198,5.7418963080839003,"-"]
["CDICA202104Forth Valley",0,0,1.5241657220915601,4.3359861127531198,5.7418963080839003,"-"]
["CDICA201902Forth Valley",0,0,1.5241657220915601,4.34811845821819,5.7600948262814997,"-"]
["CDICA202101Forth Valley",0,0,1.5241657220915601,4.3670568945490196,5.7885024807777503,"-"]
["CDICA202002Forth Valley",2,2.6293452894309302,1.5241657220915601,4.3552637287644203,5.7708127321008504,"-"]
["CDICA202102Forth Valley",2,2.62216128590789,1.5241657220915601,4.3513934631044098,5.7650073336108401,"-"]
["CDICA202001Forth Valley",1,1.31467264471546,1.5241657220915601,4.3552637287644203,5.7708127321008504,"-"]
["CDICA202003Forth Valley",1,1.3003827246642099,1.5241657220915601,4.3398352868901,5.7476700692893798,"-"]
["CDICA201901Forth Valley",3,3.9677363248978201,1.5241657220915601,4.3637637454525597,5.7835627571330601,"-"]
["CDICA201903Forth Valley",2,2.5876541249333598,1.5241657220915601,4.3327289554378297,5.7370105721109699,"-"]
["CDIHCAI202004Forth Valley",11,15.588464536243199,13.520150223891401,22.2745440773657,26.651741004102899,"-"]
["CDIHCAI202104Forth Valley",7,9.2399482562897592,13.520150223891401,21.9691734467606,26.1936850581952,"-"]
["CDIHCAI202001Forth Valley",9,12.051096649795101,13.520150223891401,22.0298215079948,26.284657150046598,"-"]
["CDIHCAI201901Forth Valley",5,6.1862047633776696,13.520150223891401,21.700048400109399,25.7899974882184,"-"]
["CDIHCAI201904Forth Valley",13,17.286084701815,13.520150223891401,22.0001803753517,26.240195451081899,"-"]
["CDIHCAI201902Forth Valley",11,14.2315604259118,13.520150223891401,21.884856052087599,26.067208966185699,"-"]
["CDIHCAI202003Forth Valley",10,15.1400454201363,13.520150223891401,22.5688117487089,27.093142511117598,"-"]
["CDIHCAI202002Forth Valley",7,12.264349288667701,13.520150223891401,23.254209567426599,28.1212392391942,"-"]
["CDIHCAI202102Forth Valley",7,10.2522042239081,13.520150223891401,22.419952508476999,26.869853650769802,"-"]
["CDIHCAI201903Forth Valley",14,19.320738052193601,13.520150223891401,22.159252043973499,26.478802954014601,"-"]
["CDIHCAI202101Forth Valley",7,10.221067079403101,13.520150223891401,22.406427360561999,26.849565928897299,"-"]
["CDIHCAI202103Forth Valley",8,11.4511465460479,13.520150223891401,22.318480222770798,26.7176452222105,"-"]
["ECBCOM202001Forth Valley",39,51.272233143903101,50.624075769469599,66.940213496042503,75.098282359329005,"-"]
["ECBCOM201902Forth Valley",41,53.629842633234198,50.624075769469599,66.899033989698694,75.036513099813206,"-"]
["ECBCOM202103Forth Valley",24,31.123914393602401,50.624075769469599,66.829113054751204,74.931631697392007,"-"]
["ECBCOM202004Forth Valley",46,59.817605334553598,50.624075769469599,66.851296552180301,74.964906943535695,"-"]
["ECBCOM201901Forth Valley",38,50.257993448705697,50.624075769469599,66.989200653193194,75.171763095055098,"-"]
["ECBCOM202003Forth Valley",56,72.821432581195793,50.624075769469599,66.851296552180301,74.964906943535695,"-"]
["ECBCOM201903Forth Valley",40,51.753082498667197,50.624075769469599,66.810341458985903,74.903474303744105,"-"]
["ECBCOM202104Forth Valley",21,27.233425094402101,50.624075769469599,66.829113054751204,74.931631697392007,"-"]
["ECBCOM202102Forth Valley",24,31.465935430894699,50.624075769469599,66.917908444292905,75.064824781704601,"-"]
["ECBCOM202002Forth Valley",29,38.125506696748502,50.624075769469599,66.940213496042503,75.098282359329005,"-"]
["ECBCOM201904Forth Valley",53,68.572834310733995,50.624075769469599,66.810341458985903,74.903474303744105,"-"]
["ECBCOM202101Forth Valley",38,50.374631814830501,50.624075769469599,67.008179676203198,75.200231629569998,"-"]
["ECBHCAI201903Forth Valley",38,52.442003284525498,49.804997833309301,66.386134420471294,74.676702714052396,"-"]
["ECBHCAI202001Forth Valley",37,49.543397338046702,49.804997833309301,66.137716767767799,74.304076234997098,"-"]
["ECBHCAI202002Forth Valley",33,57.817646646576499,49.804997833309301,68.487700142420806,77.829051296976601,"-"]
["ECBHCAI202104Forth Valley",37,48.839726497531601,49.804997833309301,66.021314182404794,74.129472356952604,"-"]
["ECBHCAI201901Forth Valley",28,34.642746674914903,49.804997833309301,65.504779101503601,73.354669735600794,"-"]
["ECBHCAI201902Forth Valley",39,50.457350600959998,49.804997833309301,65.859482748204499,73.886725205652098,"-"]
["ECBHCAI202103Forth Valley",47,67.275485958031595,49.804997833309301,66.691743063145907,75.135115678064295,"-"]
["ECBHCAI201904Forth Valley",38,50.528555282228602,49.804997833309301,66.080826169741599,74.218740337957797,"-"]
["ECBHCAI202101Forth Valley",28,40.884268317612403,49.804997833309301,66.860541108884405,75.388312746672,"-"]
["ECBHCAI202003Forth Valley",42,63.588190764572303,49.804997833309301,67.172207503789906,75.855812339030194,"-"]
["ECBHCAI202102Forth Valley",32,46.867219309294398,49.804997833309301,66.886500095085907,75.427251225974203,"-"]
["ECBHCAI202004Forth Valley",40,56.685325586338799,49.804997833309301,66.607415867651895,75.008624884823206,"-"]
["SABCAUN202101Forth Valley",8,10.6051856452275,10.995766995089101,18.631608477682398,22.449529218978999,"-"]
["SABCAUN202002Forth Valley",11,14.461399091870099,10.995766995089101,18.599932715563298,22.402015575800402,"-"]
["SABCAUN202102Forth Valley",5,6.5554032147697399,10.995766995089101,18.5895374055487,22.386422610778599,"-"]
["SABCAUN202004Forth Valley",12,15.604592695970499,10.995766995089101,18.558492811842399,22.339855720218999,"-"]
["SABCAUN202104Forth Valley",9,11.6714678976009,10.995766995089101,18.5481541524404,22.324347731116099,"-"]
["SABCAUN202103Forth Valley",7,9.0778083648007009,10.995766995089101,18.5481541524404,22.324347731116099,"-"]
["SABCAUN202001Forth Valley",6,7.88803586829279,10.995766995089101,18.599932715563298,22.402015575800402,"-"]
["SABCAUN202003Forth Valley",9,11.7034445219779,10.995766995089101,18.558492811842399,22.339855720218999,"-"]
["SABCAUN201902Forth Valley",9,11.772404480466101,10.995766995089101,18.58074093159,22.373227899840501,"-"]
["SABCAUN201901Forth Valley",6,7.9354726497956296,10.995766995089101,18.622763269423,22.4362614065899,"-"]
["SABCAUN201904Forth Valley",14,18.113578874533498,10.995766995089101,18.5394056160264,22.311224926495001,"-"]
["SABCAUN201903Forth Valley",10,12.938270624666799,10.995766995089101,18.5394056160264,22.311224926495001,"-"]
["SABHCAI202001Forth Valley",8,10.712085910929,18.0268669651885,27.852988978373201,32.766049984965598,"-"]
["SABHCAI202103Forth Valley",16,22.9022930920958,18.0268669651885,28.186303351732899,33.266021545005103,"-"]
["SABHCAI202004Forth Valley",20,28.342662793169399,18.0268669651885,28.1355702609793,33.189921908874801,"-"]
["SABHCAI202102Forth Valley",11,16.110606637569902,18.0268669651885,28.303473454668399,33.4417766994084,"-"]
["SABHCAI202101Forth Valley",10,14.6015243991473,18.0268669651885,28.287855959089299,33.418350456039697,"-"]
["SABHCAI202002Forth Valley",16,28.032798374097698,18.0268669651885,29.266790529784199,34.886752312082002,"-"]
["SABHCAI202003Forth Valley",11,16.654049962149902,18.0268669651885,28.475361299506901,33.699608466666099,"-"]
["SABHCAI201902Forth Valley",14,18.112895087524102,18.0268669651885,27.685597288390799,32.514962449991899,"-"]
["SABHCAI201903Forth Valley",15,20.700790770207401,18.0268669651885,28.0024424879505,32.990230249331503,"-"]
["SABHCAI201901Forth Valley",10,12.3724095267553,18.0268669651885,27.4721997931549,32.194866207138098,"-"]
["SABHCAI201904Forth Valley",8,10.637590585732299,18.0268669651885,27.818762346552099,32.7147100372339,"-"]
["SABHCAI202104Forth Valley",16,21.1198817286623,18.0268669651885,27.782958629414399,32.661004461527298,"-"]
["SSICSEC201903Forth Valley",2,0.91324200913242004,1.6333938294010899,3.3464722224135302,4.2030114189197496,"-"]
["SSICSEC201901Forth Valley",7,3.4482758620689702,1.6333938294010899,3.4127024211838002,4.3023567170751598,"-"]
["SSICSEC201902Forth Valley",2,0.90090090090090102,1.6333938294010899,3.3348579976994701,4.1855900818486598,"-"]
["SSICSEC201904Forth Valley",2,0.97560975609756095,1.6333938294010899,3.4040015935328198,4.2893054755986899,"-"]
["SSIHIP201904Forth Valley",0,0,0,0,0,"-"]
["SSIHIP201901Forth Valley",0,0,0,0,0,"-"]
["SSIHIP201903Forth Valley",0,0,0,0,0,"-"]
["SSIHIP201902Forth Valley",0,0,0,0,0,"-"]
["CDIHCAI201901Golden Jubilee",0,0,6.6204217944285499]
["CDIHCAI201902Golden Jubilee",0,0,6.6204217944285499]
["CDIHCAI201904Golden Jubilee",1,8.5770649283815104,6.6204217944285499]
["CDIHCAI202102Golden Jubilee",0,0,6.6204217944285499]
["CDIHCAI202103Golden Jubilee",0,0,6.6204217944285499]
["CDIHCAI202003Golden Jubilee",1,9.9840255591054294,6.6204217944285499]
["CDIHCAI202002Golden Jubilee",1,12.266928361138399,6.6204217944285499]
["CDIHCAI202004Golden Jubilee",3,26.654820079964502,6.6204217944285499]
["CDIHCAI202104Golden Jubilee",0,0,6.6204217944285499]
["CDIHCAI202001Golden Jubilee",1,9.1617040769583102,6.6204217944285499]
["CDIHCAI202101Golden Jubilee",1,8.2304526748971192,6.6204217944285499]
["CDIHCAI201903Golden Jubilee",1,8.2870638932626193,6.6204217944285499]
["ECBHCAI202104Golden Jubilee",0,0,12.505241167253899]
["ECBHCAI201901Golden Jubilee",3,25.742234425948201,12.505241167253899]
["ECBHCAI202001Golden Jubilee",0,0,12.505241167253899]
["ECBHCAI201903Golden Jubilee",3,24.8611916797879,12.505241167253899]
["ECBHCAI201904Golden Jubilee",1,8.5770649283815104,12.505241167253899]
["ECBHCAI202103Golden Jubilee",2,16.5796236425433,12.505241167253899]
["ECBHCAI202002Golden Jubilee",1,12.266928361138399,12.505241167253899]
["ECBHCAI202004Golden Jubilee",1,8.8849400266548209,12.505241167253899]
["ECBHCAI201902Golden Jubilee",3,25.21644111961,12.505241167253899]
["ECBHCAI202102Golden Jubilee",1,8.0971659919028305,12.505241167253899]
["ECBHCAI202003Golden Jubilee",1,9.9840255591054294,12.505241167253899]
["ECBHCAI202101Golden Jubilee",0,0,12.505241167253899]
["SABHCAI202004Golden Jubilee",1,8.8849400266548209,22.803675069698301]
["SABHCAI202103Golden Jubilee",3,24.869435463815002,22.803675069698301]
["SABHCAI202002Golden Jubilee",3,36.8007850834151,22.803675069698301]
["SABHCAI202101Golden Jubilee",4,32.921810699588498,22.803675069698301]
["SABHCAI201904Golden Jubilee",1,8.5770649283815104,22.803675069698301]
["SABHCAI202001Golden Jubilee",1,9.1617040769583102,22.803675069698301]
["SABHCAI202003Golden Jubilee",2,19.968051118210902,22.803675069698301]
["SABHCAI201903Golden Jubilee",1,8.2870638932626193,22.803675069698301]
["SABHCAI201902Golden Jubilee",3,25.21644111961,22.803675069698301]
["SABHCAI202104Golden Jubilee",2,15.854141894570001,22.803675069698301]
["SABHCAI201901Golden Jubilee",3,25.742234425948201,22.803675069698301]
["SABHCAI202102Golden Jubilee",5,40.485829959514199,22.803675069698301]
["SSIHIP201903Golden Jubilee",3,0.68337129840546695,0.36951501154734401,0.94869013632132204,1.2382776987083099,"-"]
["SSIHIP201902Golden Jubilee",4,0.94339622641509402,0.36951501154734401,0.95884593862734802,1.2535114021673499,"-"]
["SSIHIP201904Golden Jubilee",1,0.230414746543779,0.36951501154734401,0.95201684446687496,1.24326776092664,"-"]
["SSIHIP201901Golden Jubilee",0,0,0.36951501154734401,0.98009647180045101,1.2853872019270001,"-"]
["CDICA202004Grampian",11,7.4734641901148304,5.4083351530087,9.2421084708273398,11.1589951297367,"-"]
["CDICA201904Grampian",8,5.4190080988189502,5.4083351530087,9.2363772109856903,11.1503982399742,"-"]
["CDICA201902Grampian",6,4.1089182287748098,5.4083351530087,9.2573529409230098,11.1818618348802,"-"]
["CDICA202002Grampian",10,6.8687183365690698,5.4083351530087,9.2631156051632502,11.1905058312405,"-"]
["CDICA202104Grampian",5,3.38774767684043,5.4083351530087,9.2368674932330492,11.151133663345201,"-"]
["CDICA202001Grampian",10,6.8687183365690698,5.4083351530087,9.2631156051632502,11.1905058312405,"-"]
["CDICA202103Grampian",8,5.4203962829446901,5.4083351530087,9.2368674932330492,11.151133663345201,"-"]
["CDICA202003Grampian",10,6.7940583546498496,5.4083351530087,9.2421084708273398,11.1589951297367,"-"]
["CDICA202102Grampian",3,2.05498540397353,5.4083351530087,9.2578459096685393,11.1826012879985,"-"]
["CDICA201901Grampian",6,4.1545728757612004,5.4083351530087,9.2786773023727402,11.2138483770548,"-"]
["CDICA201903Grampian",5,3.38688006176185,5.4083351530087,9.2363772109856903,11.1503982399742,"-"]
["CDICA202101Grampian",6,4.15563715025759,5.4083351530087,9.2791730022679602,11.214591926897601,"-"]
["CDIHCAI202003Grampian",14,13.0254368173276,11.692107827216599,18.288531355263402,21.586743119286801,"-"]
["CDIHCAI202104Grampian",12,9.5343275518230399,11.692107827216599,17.787909272909001,20.835809995755302,"-"]
["CDIHCAI201902Grampian",10,7.4961956806920496,11.692107827216599,17.613132339665999,20.573644595890698,"-"]
["CDIHCAI201904Grampian",17,12.5874643663693,11.692107827216599,17.576763659880299,20.519091576212102,"-"]
["CDIHCAI201903Grampian",11,8.2172337803010507,11.692107827216599,17.602861767765901,20.558238738040501,"-"]
["CDIHCAI201901Grampian",19,14.175613468325,11.692107827216599,17.599156269786199,20.552680491070898,"-"]
["CDIHCAI202002Grampian",13,13.581704399427499,11.692107827216599,18.682183260186701,22.177220976671698,"-"]
["CDIHCAI202103Grampian",14,11.5449635096689,11.692107827216599,17.902351857764199,21.007473873037998,"-"]
["CDIHCAI202004Grampian",17,15.7366608657015,11.692107827216599,18.271840267371701,21.5617064874492,"-"]
["CDIHCAI202102Grampian",11,9.5113747395180308,11.692107827216599,18.051296427244999,21.230890727259201,"-"]
["CDIHCAI202001Grampian",17,12.7881085635193,11.692107827216599,17.623478945973901,20.589164505352599,"-"]
["CDIHCAI202101Grampian",17,15.261693150193,11.692107827216599,18.1717839617877,21.4116220290732,"-"]
["ECBCOM201902Grampian",49,33.5561655349943,31.994572168325199,41.356305654679197,46.037172397856203,"-"]
["ECBCOM202004Grampian",36,24.458610076739401,31.994572168325199,41.319227450825601,45.981555092075801,"-"]
["ECBCOM202002Grampian",45,30.909232514560799,31.994572168325199,41.370321834847999,46.058196668109403,"-"]
["ECBCOM202103Grampian",42,28.457080485459599,31.994572168325199,41.306480137576003,45.9624341222015,"-"]
["ECBCOM202104Grampian",44,29.812179556195801,31.994572168325199,41.306480137576003,45.9624341222015,"-"]
["ECBCOM202001Grampian",48,32.969848015531603,31.994572168325199,41.370321834847999,46.058196668109403,"-"]
["ECBCOM202101Grampian",47,32.552491010351098,31.994572168325199,41.409377271965198,46.116779823785201,"-"]
["ECBCOM202003Grampian",39,26.496827583134401,31.994572168325199,41.319227450825601,45.981555092075801,"-"]
["ECBCOM201901Grampian",56,38.776013507104501,31.994572168325199,41.408171611050101,46.114971332412601,"-"]
["ECBCOM202102Grampian",61,41.784703214128498,31.994572168325199,41.357504672783797,46.038970925013103,"-"]
["ECBCOM201903Grampian",50,33.868800617618497,31.994572168325199,41.305287653678597,45.960645396355403,"-"]
["ECBCOM201904Grampian",38,25.740288469389998,31.994572168325199,41.305287653678597,45.960645396355403,"-"]
["ECBHCAI202104Grampian",45,35.753728319336403,40.477940548024797,51.820044171369801,57.4910959830423,"-"]
["ECBHCAI201903Grampian",74,55.279572703843399,40.477940548024797,51.4757370286137,56.974635268908202,"-"]
["ECBHCAI201901Grampian",56,41.780755485589403,40.477940548024797,51.468842423788303,56.964293361670002,"-"]
["ECBHCAI201902Grampian",52,38.980217539598698,40.477940548024797,51.494846885094503,57.003300053629303,"-"]
["ECBHCAI202002Grampian",36,37.610873721491501,40.477940548024797,53.4839678279602,59.986981467927798,"-"]
["ECBHCAI202103Grampian",43,35.459530779697403,40.477940548024797,52.032980840635503,57.810500986940802,"-"]
["ECBHCAI202004Grampian",42,38.878809197615404,40.477940548024797,52.720466459504301,58.841729415243996,"-"]
["ECBHCAI202102Grampian",42,36.316158096341603,40.477940548024797,52.310113348351798,58.226199748515299,"-"]
["ECBHCAI202101Grampian",45,40.398599515216802,40.477940548024797,52.534297504328599,58.5624759824805,"-"]
["ECBHCAI202001Grampian",49,36.859842330143799,40.477940548024797,51.514098214380603,57.032177047558498,"-"]
["ECBHCAI202003Grampian",51,47.449805548836103,40.477940548024797,52.751522597100099,58.8883136216377,"-"]
["ECBHCAI201904Grampian",53,39.243271259857103,40.477940548024797,51.427177795402301,56.901796419091099,"-"]
["SABCAUN202103Grampian",11,7.4530448890489396,9.1657048382568505,14.1497670587681,16.641798169023801,"-"]
["SABCAUN202101Grampian",14,9.6964866839343795,9.1657048382568505,14.204841241395499,16.724409442964902,"-"]
["SABCAUN202102Grampian",19,13.0149075584991,9.1657048382568505,14.177077193177499,16.6827633706379,"-"]
["SABCAUN202002Grampian",13,8.9293338375398008,9.1657048382568505,14.1839373912625,16.693053667765401,"-"]
["SABCAUN201903Grampian",6,4.06425607411422,9.1657048382568505,14.149128799244799,16.640840779738799,"-"]
["SABCAUN202104Grampian",15,10.163243030521301,9.1657048382568505,14.1497670587681,16.641798169023801,"-"]
["SABCAUN201901Grampian",10,6.9242881262686602,9.1657048382568505,14.204195929066699,16.723441474471599,"-"]
["SABCAUN202004Grampian",16,10.870493367439799,9.1657048382568505,14.156589871299101,16.652032387820299,"-"]
["SABCAUN202003Grampian",18,12.2293050383697,9.1657048382568505,14.156589871299101,16.652032387820299,"-"]
["SABCAUN201904Grampian",13,8.8058881605807997,9.1657048382568505,14.149128799244799,16.640840779738799,"-"]
["SABCAUN202001Grampian",16,10.989949338510501,9.1657048382568505,14.1839373912625,16.693053667765401,"-"]
["SABCAUN201902Grampian",12,8.2178364575496197,9.1657048382568505,14.1764354363156,16.681800735345,"-"]
["SABHCAI202004Grampian",21,19.439404598807702,17.7090989897609,25.806768735020601,29.855603607650501,"-"]
["SABHCAI202102Grampian",22,19.022749479036101,17.7090989897609,25.5353456645629,29.4484690019639,"-"]
["SABHCAI202104Grampian",27,21.452236991601801,17.7090989897609,25.211195372684699,28.9622435641467,"-"]
["SABHCAI202003Grampian",22,20.468543570086201,17.7090989897609,25.827310439210802,29.886416163935699,"-"]
["SABHCAI201902Grampian",26,19.490108769799299,17.7090989897609,24.996097586055299,28.639596884202501,"-"]
["SABHCAI202101Grampian",26,23.341413053236401,17.7090989897609,25.6836295457117,29.6708948236871,"-"]
["SABHCAI202103Grampian",22,18.142085515194001,17.7090989897609,25.352039740655599,29.1735101161029,"-"]
["SABHCAI201901Grampian",19,14.175613468325,17.7090989897609,24.978897251656701,28.613796382604601,"-"]
["SABHCAI202002Grampian",18,18.805436860745701,17.7090989897609,26.311777421668602,30.613116637622401,"-"]
["SABHCAI202001Grampian",16,12.0358668833123,17.7090989897609,25.008831143479998,28.658697220339501,"-"]
["SABHCAI201903Grampian",21,15.6874463078475,17.7090989897609,24.983457604095801,28.620636911263201,"-"]
["SABHCAI201904Grampian",20,14.8087816074932,17.7090989897609,24.951338690362402,28.572458540663199,"-"]
["SSICSEC201901Grampian",9,1.9736842105263199,1.7226528854435801,2.9412865594445301,3.5506033964450001,"-"]
["SSICSEC201903Grampian",10,2.15982721382289,1.7226528854435801,2.93203934103532,3.5367325688311801,"-"]
["SSICSEC201904Grampian",6,1.2793176972281499,1.7226528854435801,2.92427849218168,3.5250912955507299,"-"]
["SSICSEC201902Grampian",8,1.6949152542372901,1.7226528854435801,2.9204536794860401,3.5193540765072702,"-"]
["SSIHIP201904Grampian",1,0.36363636363636398,0.48678720445062601,1.3261961624260501,1.7459006414137701,"-"]
["SSIHIP201902Grampian",1,0.32467532467532501,0.48678720445062601,1.2799541155516401,1.67653757110215,"-"]
["SSIHIP201903Grampian",2,0.74626865671641796,0.48678720445062601,1.3370879296785101,1.76223829229246,"-"]
["SSIHIP201901Grampian",0,0,0.48678720445062601,1.2918029080939299,1.69431075991558,"-"]
["CDICA201904Greater Glasgow & Clyde",10,3.3533295898538,4.4212724487687902,6.85651237347943,8.0741323358347508,"-"]
["CDICA202002Greater Glasgow & Clyde",13,4.4114031154630498,4.4212724487687902,6.8710143538436599,8.0958853063810992,"-"]
["CDICA202104Greater Glasgow & Clyde",11,3.68206475885273,4.4212724487687902,6.8543334817362602,8.0708639982200001,"-"]
["CDICA202103Greater Glasgow & Clyde",19,6.3599300380183497,4.4212724487687902,6.8543334817362602,8.0708639982200001,"-"]
["CDICA202003Greater Glasgow & Clyde",10,3.35650237046102,4.4212724487687902,6.8576641623277101,8.0758600191071697,"-"]
["CDICA202102Greater Glasgow & Clyde",17,5.7529962865591102,4.4212724487687902,6.8676654228109903,8.0908619098320909,"-"]
["CDICA202004Greater Glasgow & Clyde",9,3.0208521334149201,4.4212724487687902,6.8576641623277101,8.0758600191071697,"-"]
["CDICA201901Greater Glasgow & Clyde",15,5.1417720377758203,4.4212724487687902,6.8834219188304298,8.1144966538612504,"-"]
["CDICA202101Greater Glasgow & Clyde",8,2.7373733964804101,4.4212724487687902,6.8812189502044898,8.1111922009223392,"-"]
["CDICA201903Greater Glasgow & Clyde",15,5.0299943847807,4.4212724487687902,6.85651237347943,8.0741323358347508,"-"]
["CDICA201902Greater Glasgow & Clyde",12,4.0682152386797696,4.4212724487687902,6.8698562537763701,8.0941481562801592,"-"]
["CDICA202001Greater Glasgow & Clyde",7,2.3753709083262602,4.4212724487687902,6.8710143538436599,8.0958853063810992,"-"]
["CDIHCAI201902Greater Glasgow & Clyde",71,16.909955676862701,16.4680276061749,20.428918222382901,22.4093635304869,"-"]
["CDIHCAI202103Greater Glasgow & Clyde",76,18.395745741747898,16.4680276061749,20.4610586980391,22.457574243971202,"-"]
["CDIHCAI202003Greater Glasgow & Clyde",77,20.427925239099601,16.4680276061749,20.648424882855299,22.7386235211954,"-"]
["CDIHCAI202104Greater Glasgow & Clyde",57,13.691753000775901,16.4680276061749,20.4458271071219,22.4347268575954,"-"]
["CDIHCAI202002Greater Glasgow & Clyde",49,16.0350283558206,16.4680276061749,21.110909273182301,23.432350106685899,"-"]
["CDIHCAI201903Greater Glasgow & Clyde",62,14.877345881494699,16.4680276061749,20.4437648490916,22.431633470549802,"-"]
["CDIHCAI201901Greater Glasgow & Clyde",62,14.5091009505801,16.4680276061749,20.3942527077274,22.357365258503599,"-"]
["CDIHCAI201904Greater Glasgow & Clyde",70,16.292330967066199,16.4680276061749,20.383583075870401,22.341360810718101,"-"]
["CDIHCAI202102Greater Glasgow & Clyde",66,16.631429874583901,16.4680276061749,20.542239530750301,22.579345493038002,"-"]
["CDIHCAI202101Greater Glasgow & Clyde",60,15.6122337463637,16.4680276061749,20.608097624336299,22.678132633416901,"-"]
["CDIHCAI202001Greater Glasgow & Clyde",65,15.7363269476126,16.4680276061749,20.461455026270901,22.4581687363188,"-"]
["CDIHCAI202004Greater Glasgow & Clyde",64,16.3941145128899,16.4680276061749,20.5757849807732,22.6296636680724,"-"]
["ECBCOM202004Greater Glasgow & Clyde",83,27.858969674826401,40.242027575099399,47.592468676094001,51.267689226591301,"-"]
["ECBCOM201902Greater Glasgow & Clyde",134,45.428403498590797,40.242027575099399,47.6292514518655,51.3228633902486,"-"]
["ECBCOM202104Greater Glasgow & Clyde",111,37.155380748422999,40.242027575099399,47.582420221497202,51.252616544696203,"-"]
["ECBCOM202001Greater Glasgow & Clyde",95,32.2371766129992,40.242027575099399,47.632745367185599,51.328104263228703,"-"]
["ECBCOM202003Greater Glasgow & Clyde",106,35.578925126886801,40.242027575099399,47.592468676094001,51.267689226591301,"-"]
["ECBCOM202103Greater Glasgow & Clyde",126,42.176378146858497,40.242027575099399,47.582420221497202,51.252616544696203,"-"]
["ECBCOM201904Greater Glasgow & Clyde",125,41.9166198731725,40.242027575099399,47.588993801326197,51.262476914439603,"-"]
["ECBCOM202102Greater Glasgow & Clyde",125,42.3014432835229,40.242027575099399,47.622641852151403,51.312948990677498,"-"]
["ECBCOM202002Greater Glasgow & Clyde",111,37.666595832030701,40.242027575099399,47.632745367185599,51.328104263228703,"-"]
["ECBCOM201903Greater Glasgow & Clyde",132,44.263950586070102,40.242027575099399,47.588993801326197,51.262476914439603,"-"]
["ECBCOM201901Greater Glasgow & Clyde",151,51.760505180276603,40.242027575099399,47.670178213116898,51.384253532125598,"aboveUCL"]
["ECBCOM202101Greater Glasgow & Clyde",91,31.1376223849647,40.242027575099399,47.663531994841598,51.374284204712801,"-"]
["ECBHCAI202102Greater Glasgow & Clyde",150,37.798704260417999,36.651275635542703,42.7293690394865,45.768415741458398,"-"]
["ECBHCAI201901Greater Glasgow & Clyde",156,36.506770133717701,36.651275635542703,42.508595611511197,45.437255599495401,"-"]
["ECBHCAI201903Greater Glasgow & Clyde",172,41.2726369615661,36.651275635542703,42.582460060737702,45.548052273335202,"-"]
["ECBHCAI202004Greater Glasgow & Clyde",159,40.729128242960797,36.651275635542703,42.7794136572656,45.843482668127102,"-"]
["ECBHCAI202002Greater Glasgow & Clyde",125,40.905684581174903,36.651275635542703,43.577736251228501,47.0409665590714,"-"]
["ECBHCAI201902Greater Glasgow & Clyde",164,39.059615929654598,36.651275635542703,42.560311192308902,45.514828970692001,"-"]
["ECBHCAI202001Greater Glasgow & Clyde",123,29.777972531636099,36.651275635542703,42.608851066217703,45.587638781555199,"-"]
["ECBHCAI202104Greater Glasgow & Clyde",136,32.668042247465202,36.651275635542703,42.5855366304311,45.552667127875203,"-"]
["ECBHCAI202101Greater Glasgow & Clyde",122,31.744875284272801,36.651275635542703,42.827619118675202,45.915790860241401,"-"]
["ECBHCAI202103Greater Glasgow & Clyde",140,33.886900050588302,36.651275635542703,42.608259805857202,45.586751891014401,"-"]
["ECBHCAI202003Greater Glasgow & Clyde",142,37.672277713664201,36.651275635542703,42.887781144740899,46.006033899339997,"-"]
["ECBHCAI201904Greater Glasgow & Clyde",151,35.144885371814297,36.651275635542703,42.492678172700302,45.413379441278998,"-"]
["SABCAUN202103Greater Glasgow & Clyde",18,6.0251968781226504,6.8712769267489504,9.9044562740405695,11.4210459476864,"-"]
["SABCAUN202101Greater Glasgow & Clyde",23,7.8699485148811901,6.8712769267489504,9.9379730854132102,11.4713211647453,"-"]
["SABCAUN201903Greater Glasgow & Clyde",17,5.7006603027514604,6.8712769267489504,9.9071725928446703,11.4251204258925,"-"]
["SABCAUN201901Greater Glasgow & Clyde",31,10.62632887807,6.8712769267489504,9.9407194197009208,11.475440666176899,"-"]
["SABCAUN202004Greater Glasgow & Clyde",15,5.0347535556915304,6.8712769267489504,9.9086084722162493,11.427274244949899,"-"]
["SABCAUN202104Greater Glasgow & Clyde",20,6.6946631979140498,6.8712769267489504,9.9044562740405695,11.4210459476864,"-"]
["SABCAUN202003Greater Glasgow & Clyde",27,9.0625564002447501,6.8712769267489504,9.9086084722162493,11.427274244949899,"-"]
["SABCAUN201902Greater Glasgow & Clyde",18,6.1023228580196598,6.8712769267489504,9.9238077621153895,11.450073179798601,"-"]
["SABCAUN202002Greater Glasgow & Clyde",14,4.7507418166525204,6.8712769267489504,9.9252515093780396,11.4522388006926,"-"]
["SABCAUN201904Greater Glasgow & Clyde",22,7.3773250976783604,6.8712769267489504,9.9071725928446703,11.4251204258925,"-"]
["SABCAUN202102Greater Glasgow & Clyde",20,6.7682309253636603,6.8712769267489504,9.9210765592612198,11.4459763755174,"-"]
["SABCAUN202001Greater Glasgow & Clyde",23,7.8047901273577098,6.8712769267489504,9.9252515093780396,11.4522388006926,"-"]
["SABHCAI202101Greater Glasgow & Clyde",59,15.352029850590901,19.473599184488201,23.975645995671101,26.226669401262502,"-"]
["SABHCAI202002Greater Glasgow & Clyde",69,22.579937888808502,19.473599184488201,24.522419738719599,27.046830015835202,"-"]
["SABHCAI202001Greater Glasgow & Clyde",75,18.1573003241683,19.473599184488201,23.816182064358902,25.987473504294201,"-"]
["SABHCAI202103Greater Glasgow & Clyde",81,19.605992172126101,19.473599184488201,23.815751084147401,25.986827033977001,"-"]
["SABHCAI201901Greater Glasgow & Clyde",80,18.721420581393701,19.473599184488201,23.7431040771326,25.877856523454799,"-"]
["SABHCAI201904Greater Glasgow & Clyde",69,16.059583381822399,19.473599184488201,23.7315015723761,25.860452766320101,"-"]
["SABHCAI202102Greater Glasgow & Clyde",86,21.6712571093063,19.473599184488201,23.904029762390401,26.119245051341501,"-"]
["SABHCAI201902Greater Glasgow & Clyde",84,20.006144744457199,19.473599184488201,23.780800485412801,25.934401135875099,"-"]
["SABHCAI201903Greater Glasgow & Clyde",93,22.3160188222421,19.473599184488201,23.796945190245602,25.958618193124298,"-"]
["SABHCAI202004Greater Glasgow & Clyde",79,20.236485101848402,19.473599184488201,23.940508175954101,26.1739626716871,"-"]
["SABHCAI202003Greater Glasgow & Clyde",70,18.570841126454201,19.473599184488201,24.019499168400799,26.292449160356998,"-"]
["SABHCAI202104Greater Glasgow & Clyde",80,19.216495439685399,19.473599184488201,23.7991877567116,25.961982042823202,"-"]
["SSICSEC201903Greater Glasgow & Clyde",3,0.21945866861741001,0.54852963583726999,0.94806147167619603,1.1478273895956601,"-"]
["SSICSEC201902Greater Glasgow & Clyde",4,0.32813781788351098,0.54852963583726999,0.97162064384583402,1.1831661478501201,"-"]
["SSICSEC201901Greater Glasgow & Clyde",9,0.68912710566615598,0.54852963583726999,0.95728555967831397,1.16166352159884,"-"]
["SSICSEC201904Greater Glasgow & Clyde",4,0.30627871362940301,0.54852963583726999,0.95728555967831397,1.16166352159884,"-"]
["SSIHIP201904Greater Glasgow & Clyde",4,1.25391849529781,0.70921985815602795,1.6488989403616501,2.1187384814644599,"-"]
["SSIHIP201902Greater Glasgow & Clyde",0,0,0.70921985815602795,1.55154477442543,1.97270723256014,"-"]
["SSIHIP201903Greater Glasgow & Clyde",4,1.14942528735632,0.70921985815602795,1.60889408405128,2.0587311969989099,"-"]
["SSIHIP201901Greater Glasgow & Clyde",2,0.51150895140664998,0.70921985815602795,1.5579830203259999,1.9823646014109899,"-"]
["CDICA202103Highland",6,7.4189203472190197,6.4338249404849899,12.074867087784201,14.8953881614338,"-"]
["CDICA202002Highland",9,11.281494171227999,6.4338249404849899,12.113541622182,14.9533999630306,"-"]
["CDICA201904Highland",3,3.6997742968739402,6.4338249404849899,12.0674975313021,14.8843338267106,"-"]
["CDICA202004Highland",3,3.7196230781947399,6.4338249404849899,12.0825892572411,14.9069714156192,"-"]
["CDICA201901Highland",4,5.04265533796152,6.4338249404849899,12.1297499469828,14.9777124502316,"-"]
["CDICA202003Highland",8,9.9189948751859802,6.4338249404849899,12.0825892572411,14.9069714156192,"-"]
["CDICA202104Highland",4,4.94594689814602,6.4338249404849899,12.074867087784201,14.8953881614338,"-"]
["CDICA201902Highland",5,6.23405192879859,6.4338249404849899,12.0983672012353,14.930638331610499,"-"]
["CDICA202001Highland",3,3.760498057076,6.4338249404849899,12.113541622182,14.9533999630306,"-"]
["CDICA202101Highland",3,3.7918926219119502,6.4338249404849899,12.1372009375003,14.988888936007999,"-"]
["CDICA202102Highland",6,7.5004469444412099,6.4338249404849899,12.105777139151099,14.9417532384842,"-"]
["CDICA201903Highland",5,6.1662904947899104,6.4338249404849899,12.0674975313021,14.8843338267106,"-"]
["CDIHCAI202104Highland",14,19.643608811561698,17.5949854291527,27.532346545025401,32.5010271029617,"-"]
["CDIHCAI201902Highland",6,8.0209614459119791,17.5949854291527,27.294768923939799,32.144660671333398,"-"]
["CDIHCAI202002Highland",13,25.813625623001901,17.5949854291527,29.416613153993101,35.327427016413203,"-"]
["CDIHCAI202103Highland",13,18.482448782291002,17.5949854291527,27.598037532916099,32.599563584797899,"-"]
["CDIHCAI202003Highland",14,23.461983207923399,17.5949854291527,28.455309716371499,33.885471859980797,"-"]
["CDIHCAI202001Highland",16,22.444799820441599,17.5949854291527,27.531231272036699,32.499354193478702,"-"]
["CDIHCAI201901Highland",8,10.616133869448101,17.5949854291527,27.259112931076299,32.091176682038103,"-"]
["CDIHCAI202102Highland",16,24.588904256954098,17.5949854291527,27.995002401734201,33.195010888025003,"-"]
["CDIHCAI201904Highland",8,10.8241215548851,17.5949854291527,27.353321891931099,32.232490123320297,"-"]
["CDIHCAI202101Highland",14,21.243342488202401,17.5949854291527,27.929066375867901,33.096106849225599,"-"]
["CDIHCAI201903Highland",15,19.811133857227802,17.5949854291527,27.236238619520499,32.056865214704402,"-"]
["CDIHCAI202004Highland",10,15.7094382304889,17.5949854291527,28.109876522561599,33.367322069266102,"-"]
["ECBCOM202003Highland",32,39.6759795007439,37.772778682847303,51.459779782005199,58.303280331584098,"-"]
["ECBCOM202001Highland",20,25.069987047173399,37.772778682847303,51.534777609709202,58.415777073140099,"-"]
["ECBCOM202004Highland",21,26.037361547363201,37.772778682847303,51.459779782005199,58.303280331584098,"-"]
["ECBCOM202103Highland",24,29.6756813888761,37.772778682847303,51.441068903675401,58.275214014089499,"-"]
["ECBCOM202102Highland",32,40.002383703686498,37.772778682847303,51.515964205251201,58.387556966453097,"-"]
["ECBCOM202002Highland",26,32.590983161325397,37.772778682847303,51.534777609709202,58.415777073140099,"-"]
["ECBCOM201902Highland",41,51.119225816148401,37.772778682847303,51.498009866441599,58.3606254582388,"-"]
["ECBCOM202104Highland",29,35.858115011558603,37.772778682847303,51.441068903675401,58.275214014089499,"-"]
["ECBCOM201904Highland",43,53.030098255193202,37.772778682847303,51.423212409402502,58.248429272680099,"-"]
["ECBCOM201903Highland",26,32.064710572907501,37.772778682847303,51.423212409402502,58.248429272680099,"-"]
["ECBCOM201901Highland",43,54.208544883086397,37.772778682847303,51.5740505102805,58.474686423996999,"-"]
["ECBCOM202101Highland",30,37.918926219119498,37.772778682847303,51.592104319872298,58.5017671383848,"-"]
["ECBHCAI202102Highland",20,30.736130321192601,25.048416756779901,37.457215262484901,43.661614515337298,"-"]
["ECBHCAI202002Highland",13,25.813625623001901,25.048416756779901,39.153412626857502,46.205910561896303,"-"]
["ECBHCAI201902Highland",19,25.399711245387898,25.048416756779901,36.6217304593535,42.4083873106403,"-"]
["ECBHCAI202103Highland",17,24.169356099919,25.048416756779901,36.983575932472803,42.951155520319297,"-"]
["ECBHCAI201903Highland",17,22.4526183715248,25.048416756779901,36.551894923898899,42.303634007458498,"-"]
["ECBHCAI202004Highland",19,29.847932637928899,25.048416756779901,37.5942775213855,43.867207903688303,"-"]
["ECBHCAI202001Highland",16,22.444799820441599,25.048416756779901,36.903865925041302,42.831590509172003,"-"]
["ECBHCAI202101Highland",18,27.312868913403001,25.048416756779901,37.378543577486703,43.543606987840199,"-"]
["ECBHCAI202104Highland",23,32.271643047565597,25.048416756779901,36.905196614965298,42.833586544058001,"-"]
["ECBHCAI201901Highland",18,23.886301206258199,25.048416756779901,36.579187448882401,42.344572794933697,"-"]
["ECBHCAI201904Highland",18,24.354273498491398,25.048416756779901,36.691593035888701,42.513181175443101,"-"]
["ECBHCAI202003Highland",19,31.841262925039,25.048416756779901,38.006431742909299,44.485439235973899,"-"]
["SABCAUN202004Highland",7,8.67912051578773,10.4809083707901,17.6906266876579,21.2954858460919,"-"]
["SABCAUN202101Highland",6,7.5837852438238897,10.4809083707901,17.7603295128071,21.4000400838157,"-"]
["SABCAUN202003Highland",13,16.118366672177199,10.4809083707901,17.6906266876579,21.2954858460919,"-"]
["SABCAUN202103Highland",10,12.364867245365,10.4809083707901,17.6807706087958,21.2807017277987,"-"]
["SABCAUN202104Highland",10,12.364867245365,10.4809083707901,17.6807706087958,21.2807017277987,"-"]
["SABCAUN201904Highland",10,12.3325809895798,10.4809083707901,17.6713645823842,21.266592688181301,"-"]
["SABCAUN201903Highland",10,12.3325809895798,10.4809083707901,17.6713645823842,21.266592688181301,"-"]
["SABCAUN202102Highland",9,11.2506704166618,10.4809083707901,17.720222204050799,21.3398791206812,"-"]
["SABCAUN201902Highland",6,7.4808623145583004,10.4809083707901,17.710764637382599,21.325692770678899,"-"]
["SABCAUN202002Highland",9,11.281494171227999,10.4809083707901,17.730132289228699,21.3547442484481,"-"]
["SABCAUN202001Highland",8,10.027994818869301,10.4809083707901,17.730132289228699,21.3547442484481,"-"]
["SABCAUN201901Highland",10,12.6066383449038,10.4809083707901,17.750819549246799,21.3857751384752,"-"]
["SABHCAI202004Highland",12,18.851325876586699,13.8071760659323,23.121744859929098,27.779029256927501,"-"]
["SABHCAI202002Highland",3,5.9569905283850604,13.8071760659323,24.2793116041756,29.5153793732973,"-"]
["SABHCAI202101Highland",15,22.7607240945025,13.8071760659323,22.9615750079478,27.538774478955599,"-"]
["SABHCAI202001Highland",6,8.4167999326655991,13.8071760659323,22.609154577685299,27.010143833561798,"-"]
["SABHCAI202003Highland",3,5.0275678302693096,13.8071760659323,23.427745294825598,28.2380299092722,"-"]
["SABHCAI202102Highland",10,15.3680651605963,13.8071760659323,23.0199841387204,27.6263881751144,"-"]
["SABHCAI201903Highland",10,13.2074225714852,13.8071760659323,22.347836668524199,26.618166969820201,"-"]
["SABHCAI201904Highland",10,13.530151943606301,13.8071760659323,22.4515543566873,26.7737435020648,"-"]
["SABHCAI201902Highland",10,13.368269076520001,13.8071760659323,22.3996854743943,26.6959401786253,"-"]
["SABHCAI202104Highland",14,19.643608811561698,13.8071760659323,22.6101425372261,27.011625772873099,"-"]
["SABHCAI201901Highland",12,15.9242008041721,13.8071760659323,22.368099774124602,26.648561628220701,"-"]
["SABHCAI202103Highland",8,11.373814635256,13.8071760659323,22.6683346022146,27.098913870355801,"-"]
["SSICSEC201901Highland",5,3.1446540880503102,1.6629711751663001,3.6912718511959302,4.7054221892107497,"-"]
["SSICSEC201904Highland",3,1.68539325842697,1.6629711751663001,3.5799658056218502,4.5384631208496202,"-"]
["SSICSEC201903Highland",4,1.8518518518518501,1.6629711751663001,3.4031906397592202,4.2733003720556804,"-"]
["SSICSEC201902Highland",1,0.54945054945054905,1.6629711751663001,3.5587828943103301,4.5066887538823499,"-"]
["SSIHIP201904Highland",2,1.98019801980198,0.83160083160083198,2.6388307913470999,3.54244577122024,"-"]
["SSIHIP201903Highland",2,1.9047619047619,0.83160083160083198,2.6040731239972201,3.4903092701954201,"-"]
["SSIHIP201902Highland",0,0,0.83160083160083198,2.4895968430251001,3.3185948487372401,"-"]
["SSIHIP201901Highland",0,0,0.83160083160083198,3.0181012214033598,4.1113514163046201,"-"]
["CDICA202002Lanarkshire",13,7.8986214100118302,5.1382172150067698,8.6720028296674503,10.438895636997801,"-"]
["CDICA201904Lanarkshire",12,7.1927323843743602,5.1382172150067698,8.6480995188421002,10.4030406707598,"-"]
["CDICA202103Lanarkshire",9,5.3940603267766098,5.1382172150067698,8.6479404475156691,10.4028020637701,"-"]
["CDICA202104Lanarkshire",9,5.3940603267766098,5.1382172150067698,8.6479404475156691,10.4028020637701,"-"]
["CDICA202004Lanarkshire",4,2.4039282552209902,5.1382172150067698,8.6527449990223904,10.4100088910302,"-"]
["CDICA201901Lanarkshire",4,2.4508569606016399,5.1382172150067698,8.6868839261086404,10.4612172816596,"-"]
["CDICA202003Lanarkshire",8,4.8078565104419804,5.1382172150067698,8.6527449990223904,10.4100088910302,"-"]
["CDICA202102Lanarkshire",7,4.2414833338756202,5.1382172150067698,8.6671719516540406,10.4316493199777,"-"]
["CDICA201902Lanarkshire",13,7.8777545162195404,5.1382172150067698,8.6673318946106903,10.431889234412701,"-"]
["CDICA202001Lanarkshire",3,1.8227587869258099,5.1382172150067698,8.6720028296674503,10.438895636997801,"-"]
["CDICA202101Lanarkshire",10,6.1265870378203404,5.1382172150067698,8.6867230970346405,10.460976038048599,"-"]
["CDICA201903Lanarkshire",8,4.7951549229162396,5.1382172150067698,8.6480995188421002,10.4030406707598,"-"]
["CDIHCAI202001Lanarkshire",20,14.209894349435499,17.709501239973601,24.8038671961563,28.3510501742477,"-"]
["CDIHCAI202003Lanarkshire",27,22.040816326530599,17.709501239973601,25.313904097818799,29.1161055267414,"-"]
["CDIHCAI201902Lanarkshire",17,11.709037310503,17.709501239973601,24.694547633676098,28.1870708305274,"-"]
["CDIHCAI201904Lanarkshire",25,16.969170411196899,17.709501239973601,24.643654909322599,28.1107317439971,"-"]
["CDIHCAI202104Lanarkshire",31,21.424671545962799,17.709501239973601,24.7064613846157,28.204941456936801,"-"]
["CDIHCAI202103Lanarkshire",29,20.7133979972287,17.709501239973601,24.822616348976801,28.379173903478399,"-"]
["CDIHCAI202102Lanarkshire",24,17.7196311363452,17.709501239973601,24.941442306992201,28.557412840501499,"-"]
["CDIHCAI201903Lanarkshire",24,16.386167343734002,17.709501239973601,24.6640063852286,28.141258957856198,"-"]
["CDIHCAI202002Lanarkshire",21,20.9635234691637,17.709501239973601,26.118720046015,30.3233294490357,"-"]
["CDIHCAI201901Lanarkshire",20,13.7102744796951,17.709501239973601,24.678032260189301,28.162297770297101,"-"]
["CDIHCAI202101Lanarkshire",30,23.660425572188,17.709501239973601,25.184029862872102,28.9212941743214,"-"]
["CDIHCAI202004Lanarkshire",25,19.6159972380676,17.709501239973601,25.164856656433699,28.8925343646637,"-"]
["ECBCOM202001Lanarkshire",76,46.176555935453699,48.661939506828901,59.536924737465498,64.974417352783902,"-"]
["ECBCOM202103Lanarkshire",83,49.745223013606498,48.661939506828901,59.4628743905999,64.863341832485403,"-"]
["ECBCOM202002Lanarkshire",70,42.5310383616021,48.661939506828901,59.536924737465498,64.974417352783902,"-"]
["ECBCOM202003Lanarkshire",112,67.309991146187699,48.661939506828901,59.477660071558702,64.885520353923695,"aboveUCL"]
["ECBCOM202004Lanarkshire",81,48.679547168225099,48.661939506828901,59.477660071558702,64.885520353923695,"-"]
["ECBCOM202102Lanarkshire",77,46.656316672631903,48.661939506828901,59.522058038470298,64.952117304290994,"-"]
["ECBCOM202101Lanarkshire",58,35.534204819358003,48.661939506828901,59.5822253605551,65.042368287418299,"-"]
["ECBCOM201903Lanarkshire",88,52.746704152078699,48.661939506828901,59.463363921803499,64.864076129290893,"-"]
["ECBCOM201902Lanarkshire",80,48.478489330581802,48.661939506828901,59.522550252056803,64.952855624670804,"-"]
["ECBCOM201904Lanarkshire",73,43.755788671610702,48.661939506828901,59.463363921803499,64.864076129290893,"-"]
["ECBCOM202104Lanarkshire",76,45.549842759446904,48.661939506828901,59.4628743905999,64.863341832485403,"-"]
["ECBCOM201901Lanarkshire",80,49.017139212032703,48.661939506828901,59.582720301107599,65.043110698247006,"-"]
["ECBHCAI202002Lanarkshire",51,50.9114141393975,44.736544944184203,58.101998706040703,64.784725586969003,"-"]
["ECBHCAI201902Lanarkshire",64,44.081081639540699,44.736544944184203,55.838445935556102,61.389396431241998,"-"]
["ECBHCAI202101Lanarkshire",50,39.434042620313299,44.736544944184203,56.616419758388297,62.556357165490397,"-"]
["ECBHCAI202104Lanarkshire",53,36.629277159226802,44.736544944184203,55.857381426591097,61.417799667794597,"-"]
["ECBHCAI202001Lanarkshire",64,45.471661918193597,44.736544944184203,56.012196386257401,61.6500221072939,"-"]
["ECBHCAI202004Lanarkshire",57,44.7244737027941,44.736544944184203,56.585946225705896,62.5106468664668,"-"]
["ECBHCAI201903Lanarkshire",65,44.379203222612901,44.736544944184203,55.789904251320102,61.316583904887999,"-"]
["ECBHCAI202102Lanarkshire",45,33.224308380647201,44.736544944184203,56.230855672579899,61.978011036777701,"-"]
["ECBHCAI202003Lanarkshire",58,47.346938775510203,44.736544944184203,56.822839417820802,62.865986654639102,"-"]
["ECBHCAI201904Lanarkshire",77,52.265044866486598,44.736544944184203,55.757557999369503,61.268064526962199,"-"]
["ECBHCAI202103Lanarkshire",63,44.9980715112209,44.736544944184203,56.041995936117601,61.694721432084201,"-"]
["ECBHCAI201901Lanarkshire",59,40.4453097151005,44.736544944184203,55.812196712436801,61.3500225965631,"-"]
["SABCAUN202004Lanarkshire",15,9.0147309570787097,9.9741863585425605,14.870841176899701,17.319168586078298,"-"]
["SABCAUN202103Lanarkshire",18,10.7881206535532,9.9741863585425605,14.8641471822207,17.309127594059799,"-"]
["SABCAUN202001Lanarkshire",19,11.5441389838634,9.9741863585425605,14.8976723630545,17.3594153653105,"-"]
["SABCAUN201903Lanarkshire",12,7.1927323843743602,9.9741863585425605,14.864368810110699,17.309460035894698,"-"]
["SABCAUN202003Lanarkshire",16,9.6157130208839607,9.9741863585425605,14.870841176899701,17.319168586078298,"-"]
["SABCAUN202101Lanarkshire",25,15.3164675945509,9.9741863585425605,14.918181538841599,17.3901791289912,"-"]
["SABCAUN201901Lanarkshire",16,9.8034278424065402,9.9741863585425605,14.918405615732899,17.3905152443281,"-"]
["SABCAUN202102Lanarkshire",20,12.118523811073199,9.9741863585425605,14.890941688678099,17.349319353745798,"-"]
["SABCAUN202002Lanarkshire",16,9.7213801969376306,9.9741863585425605,14.8976723630545,17.3594153653105,"-"]
["SABCAUN201902Lanarkshire",11,6.6657922829549996,9.9741863585425605,14.8911645309765,17.3496536171935,"-"]
["SABCAUN202104Lanarkshire",17,10.188780617244699,9.9741863585425605,14.8641471822207,17.309127594059799,"-"]
["SABCAUN201904Lanarkshire",16,9.5903098458324791,9.9741863585425605,14.864368810110699,17.309460035894698,"-"]
["SABHCAI201904Lanarkshire",30,20.3630044934363,19.560668616974301,26.848228637923899,30.492008648398699,"-"]
["SABHCAI202101Lanarkshire",34,26.815148981813,19.560668616974301,27.4161443628402,31.343882235773201,"-"]
["SABHCAI201901Lanarkshire",31,21.2509254435274,19.560668616974301,26.884358066221601,30.5462027908452,"-"]
["SABHCAI202001Lanarkshire",29,20.604346806681502,19.560668616974301,27.016606310538101,30.74457515732,"-"]
["SABHCAI202104Lanarkshire",24,16.586842487197,19.560668616974301,26.914236110533899,30.591019857313601,"-"]
["SABHCAI201903Lanarkshire",31,21.165466152323098,19.560668616974301,26.869617347960101,30.524091713452901,"-"]
["SABHCAI202002Lanarkshire",16,15.972208357457999,19.560668616974301,28.3984720030186,32.817373696040796,"-"]
["SABHCAI202004Lanarkshire",24,18.831357348544898,19.560668616974301,27.395993974000199,31.313656652513099,"-"]
["SABHCAI202102Lanarkshire",26,19.196267064373899,19.560668616974301,27.1611930799425,30.961455311426601,"-"]
["SABHCAI201902Lanarkshire",27,18.5967063166812,19.560668616974301,26.901715162890198,30.572238435848099,"-"]
["SABHCAI202103Lanarkshire",21,14.999357170407,19.560668616974301,27.0363110334266,30.774132241652801,"-"]
["SABHCAI202003Lanarkshire",24,19.591836734693899,19.560668616974301,27.552637773208701,31.5486223513259,"-"]
["SSICSEC201903Lanarkshire",4,1.0050251256281399,1.5450186467767699,2.7814618438082102,3.3996834423239299,"-"]
["SSICSEC201901Lanarkshire",7,1.9073569482288799,1.5450186467767699,2.8326237026585499,3.4764262305994298,"-"]
["SSICSEC201902Lanarkshire",6,1.59574468085106,1.5450186467767699,2.8171202002415701,3.45317097697396,"-"]
["SSICSEC201904Lanarkshire",5,1.4326647564469901,1.5450186467767699,2.8654109738984999,3.52560713745937,"-"]
["SSIHIP201904Lanarkshire",1,0.8,0.88652482269503596,2.5633461585158699,3.4017568264262898,"-"]
["SSIHIP201902Lanarkshire",1,0.934579439252336,0.88652482269503596,2.69890752668692,3.6050988786828602,"-"]
["SSIHIP201903Lanarkshire",1,1.0752688172042999,0.88652482269503596,2.8305430093466502,3.80255210267245,"-"]
["SSIHIP201901Lanarkshire",0,0,0.88652482269503596,2.6822031822419001,3.5800423620153299,"-"]
["CDICA202102Lothian",13,5.7143483372811898,5.86327626866239,9.0740659149763996,10.6794607381334,"-"]
["CDICA202002Lothian",19,8.3746213566814305,5.86327626866239,9.0784612485143992,10.6860537384404,"-"]
["CDICA201904Lothian",11,4.8085352638694197,5.86327626866239,9.0651944834870708,10.6661535908994,"-"]
["CDICA202104Lothian",23,10.000109590242101,5.86327626866239,9.0565682934486293,10.653214305841701,"-"]
["CDICA201903Lothian",18,7.8685122499681404,5.86327626866239,9.0651944834870708,10.6661535908994,"-"]
["CDICA202004Lothian",8,3.4878285741785402,5.86327626866239,9.0609396740369696,10.659771376724301,"-"]
["CDICA202103Lothian",22,9.5653222167532999,5.86327626866239,9.0565682934486293,10.653214305841701,"-"]
["CDICA202003Lothian",21,9.1555500072186593,5.86327626866239,9.0609396740369696,10.659771376724301,"-"]
["CDICA201902Lothian",11,4.86137631072513,5.86327626866239,9.0827393721634095,10.6924709239139,"-"]
["CDICA201901Lothian",8,3.57483025677565,5.86327626866239,9.1005758693364491,10.7192256696735,"-"]
["CDICA202101Lothian",8,3.5555945209749602,5.86327626866239,9.0918543593873498,10.706143404749801,"-"]
["CDICA202001Lothian",6,2.6446172705309801,5.86327626866239,9.0784612485143992,10.6860537384404,"-"]
["CDIHCAI201902Lothian",30,12.282246013387599,13.9722155560888,18.755661856431502,21.147385006602899,"-"]
["CDIHCAI202104Lothian",29,11.827562298625599,13.9722155560888,18.7465326213796,21.133691154024898,"-"]
["CDIHCAI202001Lothian",25,10.3982098441932,13.9722155560888,18.793601735859401,21.204294825744601,"-"]
["CDIHCAI201901Lothian",34,13.4972052845528,13.9722155560888,18.682477964672099,21.037609168963701,"-"]
["CDIHCAI201904Lothian",42,16.8583298211813,13.9722155560888,18.7085816352599,21.076764674845499,"-"]
["CDIHCAI202003Lothian",38,17.436471592316899,13.9722155560888,19.036290674279901,21.5683282333754,"-"]
["CDIHCAI202002Lothian",30,16.469851936031102,13.9722155560888,19.511413108407499,22.281011884566801,"-"]
["CDIHCAI202103Lothian",43,17.780056565389302,13.9722155560888,18.7794463784683,21.183061789658002,"-"]
["CDIHCAI201903Lothian",25,10.183257909336399,13.9722155560888,18.7435076171137,21.1291536476262,"-"]
["CDIHCAI202102Lothian",30,12.9046133992902,13.9722155560888,18.875357950960101,21.326929148395699,"-"]
["CDIHCAI202004Lothian",29,12.8027406694509,13.9722155560888,18.939455160596498,21.423074962850301,"-"]
["CDIHCAI202101Lothian",31,13.711535824704599,13.9722155560888,18.944143645099999,21.430107689605499,"-"]
["ECBCOM202004Lothian",90,39.238071459508497,31.954855664210001,39.419876048287399,43.152386240326102,"-"]
["ECBCOM201902Lothian",69,30.494087767275801,31.954855664210001,39.470767955987,43.2287241018755,"-"]
["ECBCOM202103Lothian",83,36.0873519995693,31.954855664210001,39.409670957550297,43.137078604220498,"-"]
["ECBCOM202001Lothian",70,30.8538681561948,31.954855664210001,39.460780575766897,43.213743031545299,"-"]
["ECBCOM202002Lothian",48,21.156938164247801,31.954855664210001,39.460780575766897,43.213743031545299,"-"]
["ECBCOM202003Lothian",83,36.186221457102299,31.954855664210001,39.419876048287399,43.152386240326102,"-"]
["ECBCOM202104Lothian",79,34.348202505614097,31.954855664210001,39.409670957550297,43.137078604220498,"-"]
["ECBCOM202102Lothian",76,33.406959510259298,31.954855664210001,39.4505195663058,43.198351517353601,"-"]
["ECBCOM201903Lothian",62,27.102653305445799,31.954855664210001,39.429809000962202,43.167285669338298,"-"]
["ECBCOM201904Lothian",63,27.539792874888501,31.954855664210001,39.429809000962202,43.167285669338298,"-"]
["ECBCOM202101Lothian",79,35.111495894627801,31.954855664210001,39.492047107917998,43.260642829772003,"-"]
["ECBCOM201901Lothian",78,34.854595003562601,31.954855664210001,39.512407677901898,43.2911836847478,"-"]
["ECBHCAI201903Lothian",85,34.6230768917438,34.023944751086603,41.469476076581898,45.192241739329603,"-"]
["ECBHCAI202003Lothian",68,31.202107059935599,34.023944751086603,41.926359745790002,45.877567243141797,"-"]
["ECBHCAI202001Lothian",84,34.937985076489198,34.023944751086603,41.547647214624398,45.309498446393398,"-"]
["ECBHCAI202004Lothian",67,29.5787456845934,34.023944751086603,41.7752493460643,45.650901643553098,"-"]
["ECBHCAI202104Lothian",58,23.655124597251099,34.023944751086603,41.474196551399402,45.199322451555901,"-"]
["ECBHCAI201901Lothian",86,34.139989837398403,34.023944751086603,41.374240198495499,45.049387922199898,"-"]
["ECBHCAI201904Lothian",95,38.131936500290998,34.023944751086603,41.414974593830401,45.110489515202403,"-"]
["ECBHCAI202002Lothian",57,31.292718678459099,34.023944751086603,42.667781340087203,46.989699634587602,"-"]
["ECBHCAI202102Lothian",80,34.4123023981073,34.023944751086603,41.675226589938397,45.500867509364397,"-"]
["ECBHCAI202103Lothian",82,33.906154380509797,34.023944751086603,41.525557986899301,45.2763646048057,"-"]
["ECBHCAI201902Lothian",82,33.571472436592899,34.023944751086603,41.488442588885199,45.220691507784501,"-"]
["ECBHCAI202101Lothian",75,33.1730705436403,34.023944751086603,41.782565657409997,45.661876110571598,"-"]
["SABCAUN202102Lothian",27,11.868261931276299,10.2973789468383,14.5524324225294,16.679959160374899,"-"]
["SABCAUN202003Lothian",27,11.771421437852601,10.2973789468383,14.5350370577486,16.653866113203701,"-"]
["SABCAUN202101Lothian",21,9.3334356175592799,10.2973789468383,14.5760063063884,16.7153199861635,"-"]
["SABCAUN202004Lothian",26,11.3354428660802,10.2973789468383,14.5350370577486,16.653866113203701,"-"]
["SABCAUN201901Lothian",23,10.27763698823,10.2973789468383,14.5875643638478,16.732657072352598,"-"]
["SABCAUN202002Lothian",20,8.8153909017699306,10.2973789468383,14.5582572760103,16.6886964405962,"-"]
["SABCAUN202103Lothian",19,8.2609600962869401,10.2973789468383,14.5292439475748,16.645176447943001,"-"]
["SABCAUN201903Lothian",15,6.5570935416401204,10.2973789468383,14.5406756836735,16.662324052091002,"-"]
["SABCAUN202104Lothian",21,9.1305348432645097,10.2973789468383,14.5292439475748,16.645176447943001,"-"]
["SABCAUN202001Lothian",27,11.900777717389399,10.2973789468383,14.5582572760103,16.6886964405962,"-"]
["SABCAUN201904Lothian",21,9.1799309582961701,10.2973789468383,14.5406756836735,16.662324052091002,"-"]
["SABCAUN201902Lothian",31,13.7002423302254,10.2973789468383,14.563926798746801,16.697200724701101,"-"]
["SABHCAI202002Lothian",30,16.469851936031102,13.936662844750201,19.468808583194701,22.2348814524169,"-"]
["SABHCAI202101Lothian",37,16.365381468195899,13.936662844750201,18.9022612964541,21.385060522306102,"-"]
["SABHCAI202103Lothian",44,18.193546252956502,13.936662844750201,18.7377737017936,21.138329130315299,"-"]
["SABHCAI202102Lothian",36,15.4855360791483,13.936662844750201,18.833563171661101,21.282013335116599,"-"]
["SABHCAI202001Lothian",43,17.884920932012299,13.936662844750201,18.7519110383532,21.159535135154801,"-"]
["SABHCAI202003Lothian",27,12.3890719208568,13.936662844750201,18.9942910155556,21.5231051009584,"-"]
["SABHCAI201903Lothian",25,10.183257909336399,13.936662844750201,18.701880693177401,21.084489617391,"-"]
["SABHCAI202004Lothian",25,11.036845404698999,13.936662844750201,18.897578780743,21.378036748739401,"-"]
["SABHCAI201901Lothian",33,13.100228658536601,13.936662844750201,18.640928736060001,20.993061681714799,"-"]
["SABHCAI201904Lothian",32,12.844441768519101,13.936662844750201,18.666999174717599,21.032167339701299,"-"]
["SABHCAI201902Lothian",25,10.235205011156401,13.936662844750201,18.7140194592371,21.1026977664805,"-"]
["SABHCAI202104Lothian",26,10.604021371181499,13.936662844750201,18.704901846386001,21.089021347203801,"-"]
["SSICSEC201901Lothian",10,1.45772594752187,1.40521938629194,2.30402746358059,2.7534315022249198,"-"]
["SSICSEC201903Lothian",12,1.6713091922005601,1.40521938629194,2.2837700321610401,2.7230453550955902,"-"]
["SSICSEC201904Lothian",6,0.87591240875912402,1.40521938629194,2.3046832886056801,2.7544152397625399,"-"]
["SSICSEC201902Lothian",13,1.87590187590188,1.40521938629194,2.2994765073646399,2.7466050679009899,"-"]
["SSIHIP201904Lothian",1,0.42372881355932202,0.412201154163232,1.2463271620487399,1.66339016599149,"-"]
["SSIHIP201902Lothian",0,0,0.412201154163232,1.2553061721922001,1.6768586812066799,"-"]
["SSIHIP201903Lothian",1,0.4149377593361,0.412201154163232,1.23762905149293,1.6503430001577699,"-"]
["SSIHIP201901Lothian",2,0.829875518672199,0.412201154163232,1.23762905149293,1.6503430001577699,"-"]
["CDICA202004Orkney",1,17.7600931677019,8.9529430858546402]
["CDICA202003Orkney",2,35.5201863354037,8.9529430858546402]
["CDICA202002Orkney",0,0,8.9529430858546402]
["CDICA202103Orkney",1,17.7115683229814,8.9529430858546402]
["CDICA202104Orkney",0,0,8.9529430858546402]
["CDICA202102Orkney",1,17.906200941915198,8.9529430858546402]
["CDICA201904Orkney",0,0,8.9529430858546402]
["CDICA201901Orkney",0,0,8.9529430858546402]
["CDICA202101Orkney",0,0,8.9529430858546402]
["CDICA201903Orkney",0,0,8.9529430858546402]
["CDICA201902Orkney",0,0,8.9529430858546402]
["CDICA202001Orkney",0,0,8.9529430858546402]
["CDIHCAI201904Orkney",0,0,5.42020108946042]
["CDIHCAI202002Orkney",0,0,5.42020108946042]
["CDIHCAI202102Orkney",0,0,5.42020108946042]
["CDIHCAI202101Orkney",0,0,5.42020108946042]
["CDIHCAI202103Orkney",0,0,5.42020108946042]
["CDIHCAI201902Orkney",0,0,5.42020108946042]
["CDIHCAI201903Orkney",1,33.523298692591403,5.42020108946042]
["CDIHCAI202004Orkney",0,0,5.42020108946042]
["CDIHCAI202001Orkney",0,0,5.42020108946042]
["CDIHCAI201901Orkney",0,0,5.42020108946042]
["CDIHCAI202003Orkney",0,0,5.42020108946042]
["CDIHCAI202104Orkney",0,0,5.42020108946042]
["ECBCOM202003Orkney",1,17.7600931677019,50.733344153176297]
["ECBCOM202002Orkney",1,17.9552590266876,50.733344153176297]
["ECBCOM202001Orkney",3,53.865777080062799,50.733344153176297]
["ECBCOM201904Orkney",2,35.629917416684599,50.733344153176297]
["ECBCOM202102Orkney",4,71.624803767660893,50.733344153176297]
["ECBCOM202103Orkney",2,35.4231366459627,50.733344153176297]
["ECBCOM201903Orkney",2,35.629917416684599,50.733344153176297]
["ECBCOM202004Orkney",2,35.5201863354037,50.733344153176297]
["ECBCOM202101Orkney",3,54.315476190476197,50.733344153176297]
["ECBCOM201902Orkney",5,90.053637426785201,50.733344153176297]
["ECBCOM202104Orkney",1,17.7115683229814,50.733344153176297]
["ECBCOM201901Orkney",6,109.26508007783301,50.733344153176297]
["ECBHCAI202004Orkney",0,0,46.071709260413598]
["ECBHCAI202102Orkney",2,68.050357264375606,46.071709260413598]
["ECBHCAI201901Orkney",1,26.116479498563599,46.071709260413598]
["ECBHCAI201904Orkney",1,34.305317324185197,46.071709260413598]
["ECBHCAI202103Orkney",2,74.183976261127597,46.071709260413598]
["ECBHCAI202101Orkney",3,94.517958412098295,46.071709260413598]
["ECBHCAI202104Orkney",0,0,46.071709260413598]
["ECBHCAI201902Orkney",2,57.487783845932697,46.071709260413598]
["ECBHCAI202002Orkney",0,0,46.071709260413598]
["ECBHCAI202001Orkney",1,31.4070351758794,46.071709260413598]
["ECBHCAI201903Orkney",4,134.09319477036499,46.071709260413598]
["ECBHCAI202003Orkney",1,37.037037037037003,46.071709260413598]
["SABCAUN202003Orkney",2,35.5201863354037,10.4451002668304]
["SABCAUN202102Orkney",0,0,10.4451002668304]
["SABCAUN202004Orkney",0,0,10.4451002668304]
["SABCAUN202001Orkney",3,53.865777080062799,10.4451002668304]
["SABCAUN201903Orkney",0,0,10.4451002668304]
["SABCAUN202002Orkney",0,0,10.4451002668304]
["SABCAUN202103Orkney",0,0,10.4451002668304]
["SABCAUN202101Orkney",0,0,10.4451002668304]
["SABCAUN201904Orkney",0,0,10.4451002668304]
["SABCAUN201901Orkney",0,0,10.4451002668304]
["SABCAUN201902Orkney",1,18.010727485356998,10.4451002668304]
["SABCAUN202104Orkney",0,0,10.4451002668304]
["SABHCAI202101Orkney",0,0,21.680804357841701]
["SABHCAI202001Orkney",2,62.814070351758801,21.680804357841701]
["SABHCAI202003Orkney",0,0,21.680804357841701]
["SABHCAI201904Orkney",1,34.305317324185197,21.680804357841701]
["SABHCAI201903Orkney",1,33.523298692591403,21.680804357841701]
["SABHCAI201902Orkney",2,57.487783845932697,21.680804357841701]
["SABHCAI202004Orkney",1,32.733224222585903,21.680804357841701]
["SABHCAI201901Orkney",0,0,21.680804357841701]
["SABHCAI202102Orkney",0,0,21.680804357841701]
["SABHCAI202103Orkney",0,0,21.680804357841701]
["SABHCAI202002Orkney",0,0,21.680804357841701]
["SABHCAI202104Orkney",0,0,21.680804357841701]
["SSICSEC201903Orkney",0,0,2.4390243902439002]
["SSICSEC201902Orkney",1,12.5,2.4390243902439002]
["SSICSEC201901Orkney",0,0,2.4390243902439002]
["SSICSEC201904Orkney",0,0,2.4390243902439002]
["SSIHIP201903Orkney",0,0,"NaN"]
["SSIHIP201902Orkney",0,0,"NaN"]
["SSIHIP201904Orkney",0,0,"NaN"]
["SSIHIP201901Orkney",0,0,"NaN"]
["CDICA201901Scotland",50,3.71163541774711,4.9974775640114197,6.2156340310050897,6.8247122645019296,"-"]
["CDICA201902Scotland",66,4.8455196442676502,4.9974775640114197,6.2089223740502204,6.8146447790696296,"-"]
["CDICA201903Scotland",72,5.2285646754350603,4.9974775640114197,6.2023204458260599,6.80474188673338,"-"]
["CDICA201904Scotland",63,4.5749940910056797,4.9974775640114197,6.2023204458260599,6.80474188673338,"-"]
["CDICA202001Scotland",46,3.3847601355834098,4.9974775640114197,6.2102811015313,6.8166828702912303,"-"]
["CDICA202002Scotland",80,5.88653936623201,4.9974775640114197,6.2102811015313,6.8166828702912303,"-"]
["CDICA202003Scotland",90,6.5503746480217604,4.9974775640114197,6.2036717687425798,6.80676887110815,"-"]
["CDICA202004Scotland",56,4.0757886698802102,4.9974775640114197,6.2036717687425798,6.80676887110815,"-"]
["CDICA202101Scotland",49,3.6356059682074999,4.9974775640114197,6.2153331319267204,6.8242609158843601,"-"]
["CDICA202102Scotland",74,5.4301717309401196,4.9974775640114197,6.2086231328306303,6.8141959172402302,"-"]
["CDICA202103Scotland",87,6.3147282012122403,4.9974775640114197,6.2020228353609497,6.8042954710357098,"-"]
["CDICA202104Scotland",66,4.7904834629885897,4.9974775640114197,6.2020228353609497,6.8042954710357098,"-"]
["CDIHCAI201901Scotland",186,12.0896191769959,14.7115851001771,16.6673181192672,17.645184628812299,"-"]
["CDIHCAI201902Scotland",184,12.215491899270001,14.7115851001771,16.688128243145101,17.6763998146291,"-"]
["CDIHCAI201903Scotland",207,13.736172584723001,14.7115851001771,16.6876783128413,17.675724919173401,"-"]
["CDIHCAI201904Scotland",231,15.0836259730898,14.7115851001771,16.6718132303867,17.6519272954915,"-"]
["CDIHCAI202001Scotland",201,13.6183475049968,14.7115851001771,16.708336084253201,17.706711576291202,"-"]
["CDIHCAI202002Scotland",166,15.356876226353,14.7115851001771,17.044812821993499,18.211426682901699,"-"]
["CDIHCAI202003Scotland",227,17.4082024075467,14.7115851001771,16.8359238204403,17.898093180571799,"-"]
["CDIHCAI202004Scotland",222,16.350062196520401,14.7115851001771,16.793404000822999,17.834313451145899,"-"]
["CDIHCAI202101Scotland",213,15.7464365370555,14.7115851001771,16.7973294304029,17.840201595515801,"-"]
["CDIHCAI202102Scotland",203,14.5600289192299,14.7115851001771,16.7660221079345,17.7932406118132,"-"]
["CDIHCAI202103Scotland",245,16.822717397573701,14.7115851001771,16.721717956424499,17.7267843845482,"-"]
["CDIHCAI202104Scotland",198,13.255221251734699,14.7115851001771,16.696402805296898,17.6888116578568,"-"]
["ECBCOM201901Scotland",598,44.391159596255399,41.163594196362702,44.659697789118397,46.407749585496198,"-"]
["ECBCOM201902Scotland",604,44.343846441479698,41.163594196362702,44.640435363782203,46.3788559474919,"-"]
["ECBCOM201903Scotland",606,44.007086018245097,41.163594196362702,44.6214878594106,46.350434690934598,"-"]
["ECBCOM201904Scotland",568,41.247565772876598,41.163594196362702,44.6214878594106,46.350434690934598,"-"]
["ECBCOM202001Scotland",514,37.821015428040702,41.163594196362702,44.644334905554402,46.384705260150298,"-"]
["ECBCOM202002Scotland",488,35.907890134015297,41.163594196362702,44.644334905554402,46.384705260150298,"-"]
["ECBCOM202003Scotland",614,44.688111487615103,41.163594196362702,44.625366150115802,46.356252126992302,"-"]
["ECBCOM202004Scotland",521,37.919391017992702,41.163594196362702,44.625366150115802,46.356252126992302,"-"]
["ECBCOM202101Scotland",493,36.5786478025775,41.163594196362702,44.658834210114001,46.406454216989601,"-"]
["ECBCOM202102Scotland",571,41.900379167118999,41.163594196362702,44.639576542824997,46.377567716056198,"-"]
["ECBCOM202103Scotland",566,41.0820248492658,41.163594196362702,44.620633718711503,46.349153479885899,"-"]
["ECBCOM202104Scotland",549,39.848112442132397,41.163594196362702,44.620633718711503,46.349153479885899,"-"]
["ECBHCAI201901Scotland",573,37.243826819455201,39.031215399511701,42.216776001397697,43.809556302340702,"-"]
["ECBHCAI201902Scotland",584,38.770909071596101,39.031215399511701,42.2506721979126,43.860400597112999,"-"]
["ECBHCAI201903Scotland",608,40.3458595725197,39.031215399511701,42.249939337018397,43.859301305771702,"-"]
["ECBHCAI201904Scotland",626,40.875973416251902,39.031215399511701,42.224097782409501,43.820538973858397,"-"]
["ECBHCAI202001Scotland",538,36.4510992919814,39.031215399511701,42.283587376955303,43.909773365677097,"-"]
["ECBHCAI202002Scotland",429,39.687348801839903,39.031215399511701,42.8316514678788,44.731869502062303,"-"]
["ECBHCAI202003Scotland",547,41.9483996340443,39.031215399511701,42.491406369483499,44.221501854469402,"-"]
["ECBHCAI202004Scotland",555,40.875155491301001,39.031215399511701,42.422148724983998,44.1176153877201,"-"]
["ECBHCAI202101Scotland",468,34.597804222262802,39.031215399511701,42.428542590451897,44.127206185921999,"-"]
["ECBHCAI202102Scotland",532,38.157317167636897,39.031215399511701,42.3775482205495,44.050714631068303,"-"]
["ECBHCAI202103Scotland",604,41.473148196467399,39.031215399511701,42.305384199094298,43.942468598885597,"-"]
["ECBHCAI202104Scotland",509,34.075290995621103,39.031215399511701,42.264150069856903,43.880617405029597,"-"]
["SABCAUN201901Scotland",144,10.6895100031117,9.7935915631725692,11.498883123295199,12.3515289033566,"-"]
["SABCAUN201902Scotland",133,9.7644562528423897,9.7935915631725692,11.489487506008199,12.3374354774261,"-"]
["SABCAUN201903Scotland",102,7.4071332901996696,9.7935915631725692,11.480245497459901,12.323572464603499,"-"]
["SABCAUN201904Scotland",132,9.5857019049642709,9.7935915631725692,11.480245497459901,12.323572464603499,"-"]
["SABCAUN202001Scotland",149,10.9636795696071,9.7935915631725692,11.4913895822757,12.340288591827299,"-"]
["SABCAUN202002Scotland",132,9.7127899542828207,9.7935915631725692,11.4913895822757,12.340288591827299,"-"]
["SABCAUN202003Scotland",149,10.8445091395027,9.7935915631725692,11.482137208112,12.3264100305817,"-"]
["SABCAUN202004Scotland",131,9.5344342098983397,9.7935915631725692,11.482137208112,12.3264100305817,"-"]
["SABCAUN202101Scotland",140,10.387445623450001,9.7935915631725692,11.498461896078,12.3508970625307,"-"]
["SABCAUN202102Scotland",148,10.8603434618802,9.7935915631725692,11.489068599619699,12.3368071178433,"-"]
["SABCAUN202103Scotland",132,9.5809669259771901,9.7935915631725692,11.479828873957,12.3229475293492,"-"]
["SABCAUN202104Scotland",136,9.8712992570674007,9.7935915631725692,11.479828873957,12.3229475293492,"-"]
["SABHCAI201901Scotland",240,15.5995086154786,17.454223919252001,19.584471621613002,20.6495954727935,"-"]
["SABHCAI201902Scotland",251,16.6635242756346,17.454223919252001,19.6071386820676,20.683596063475399,"-"]
["SABHCAI201903Scotland",264,17.518596919646701,17.454223919252001,19.606648603418598,20.682860945501901,"-"]
["SABHCAI201904Scotland",233,15.2142201373589,17.454223919252001,19.589367842130201,20.656939803569301,"-"]
["SABHCAI202001Scotland",241,16.328466411463801,17.454223919252001,19.629149716636199,20.716612615328302,"-"]
["SABHCAI202002Scotland",219,20.259975262477699,17.454223919252001,19.9956510695677,21.266364644725499,"-"]
["SABHCAI202003Scotland",224,17.178138058548299,17.454223919252001,19.7681224083119,20.925071652841901,"-"]
["SABHCAI202004Scotland",256,18.854125776167599,17.454223919252001,19.7218084446163,20.8556007072984,"-"]
["SABHCAI202101Scotland",248,18.333879160515298,17.454223919252001,19.726084149562599,20.862014264717899,"-"]
["SABHCAI202102Scotland",260,18.6483129014767,17.454223919252001,19.691983200657798,20.810862841360699,"-"]
["SABHCAI202103Scotland",267,18.333328755723201,17.454223919252001,19.643725684914099,20.738476567745199,"-"]
["SABHCAI202104Scotland",259,17.338900526259099,17.454223919252001,19.616151602972401,20.697115444832601,"-"]
["SSICSEC201901Scotland",64,1.5798568254751899,1.1980033277870199,1.5398731348796399,1.7108080384259501,"-"]
["SSICSEC201902Scotland",43,1.0441962117532799,1.1980033277870199,1.5370806130002299,1.70661925560684,"-"]
["SSICSEC201903Scotland",51,1.1569872958257701,1.1980033277870199,1.52573700857382,1.68960384896722,"-"]
["SSICSEC201904Scotland",35,0.85116731517509703,1.1980033277870199,1.53732790411263,1.70699019227543,"-"]
["SSIHIP201901Scotland",8,0.372786579683131,0.62128825947921396,0.96052930387165603,1.1301498260678799,"-"]
["SSIHIP201902Scotland",10,0.44306601683650898,0.62128825947921396,0.95208214309334205,1.1174790849004099,"-"]
["SSIHIP201903Scotland",17,0.80150872230080195,0.62128825947921396,0.96252274589933595,1.1331399891094001,"-"]
["SSIHIP201904Scotland",17,0.79254079254079302,0.62128825947921396,0.96060837182387604,1.1302684279962101,"-"]
["CDICA202002Shetland",0,0,2.9116215179200302]
["CDICA202004Shetland",1,17.3951065569096,2.9116215179200302]
["CDICA202103Shetland",0,0,2.9116215179200302]
["CDICA202003Shetland",1,17.3951065569096,2.9116215179200302]
["CDICA201904Shetland",0,0,2.9116215179200302]
["CDICA201901Shetland",0,0,2.9116215179200302]
["CDICA201903Shetland",0,0,2.9116215179200302]
["CDICA202102Shetland",0,0,2.9116215179200302]
["CDICA201902Shetland",0,0,2.9116215179200302]
["CDICA202101Shetland",0,0,2.9116215179200302]
["CDICA202001Shetland",0,0,2.9116215179200302]
["CDICA202104Shetland",0,0,2.9116215179200302]
["CDIHCAI201901Shetland",0,0,39.537057005247597]
["CDIHCAI202104Shetland",0,0,39.537057005247597]
["CDIHCAI202004Shetland",0,0,39.537057005247597]
["CDIHCAI202003Shetland",2,95.648015303682499,39.537057005247597]
["CDIHCAI201903Shetland",2,74.239049740163296,39.537057005247597]
["CDIHCAI202001Shetland",0,0,39.537057005247597]
["CDIHCAI201902Shetland",1,39.339103068450001,39.537057005247597]
["CDIHCAI201904Shetland",2,74.822297044519303,39.537057005247597]
["CDIHCAI202002Shetland",0,0,39.537057005247597]
["CDIHCAI202103Shetland",1,40.716612377850197,39.537057005247597]
["CDIHCAI202102Shetland",2,98.765432098765402,39.537057005247597]
["CDIHCAI202101Shetland",1,47.483380816714202,39.537057005247597]
["ECBCOM202004Shetland",2,34.7902131138191,30.572025938160401]
["ECBCOM201903Shetland",2,34.619470369527299,30.572025938160401]
["ECBCOM202104Shetland",4,69.390315773464394,30.572025938160401]
["ECBCOM202002Shetland",2,35.172523148036902,30.572025938160401]
["ECBCOM202003Shetland",1,17.3951065569096,30.572025938160401]
["ECBCOM201902Shetland",3,52.499856164777597,30.572025938160401]
["ECBCOM202102Shetland",3,52.614635037022403,30.572025938160401]
["ECBCOM202001Shetland",1,17.586261574018501,30.572025938160401]
["ECBCOM202103Shetland",1,17.347578943366099,30.572025938160401]
["ECBCOM202101Shetland",0,0,30.572025938160401]
["ECBCOM201904Shetland",4,69.238940739054598,30.572025938160401]
["ECBCOM201901Shetland",1,17.694395966647299,30.572025938160401]
["ECBHCAI202103Shetland",1,40.716612377850197,79.074114010495293]
["ECBHCAI202101Shetland",2,94.966761633428305,79.074114010495293]
["ECBHCAI202102Shetland",2,98.765432098765402,79.074114010495293]
["ECBHCAI201901Shetland",1,39.824771007566703,79.074114010495293]
["ECBHCAI201902Shetland",3,118.01730920535,79.074114010495293]
["ECBHCAI201904Shetland",3,112.233445566779,79.074114010495293]
["ECBHCAI202003Shetland",2,95.648015303682499,79.074114010495293]
["ECBHCAI202004Shetland",3,141.64305949008499,79.074114010495293]
["ECBHCAI202001Shetland",1,39.7772474144789,79.074114010495293]
["ECBHCAI202002Shetland",0,0,79.074114010495293]
["ECBHCAI202104Shetland",4,170.64846416382301,79.074114010495293]
["ECBHCAI201903Shetland",2,74.239049740163296,79.074114010495293]
["SABCAUN202002Shetland",0,0,13.102296830640199]
["SABCAUN202003Shetland",0,0,13.102296830640199]
["SABCAUN202101Shetland",0,0,13.102296830640199]
["SABCAUN202004Shetland",0,0,13.102296830640199]
["SABCAUN201902Shetland",2,34.999904109851798,13.102296830640199]
["SABCAUN201904Shetland",1,17.3097351847636,13.102296830640199]
["SABCAUN201903Shetland",0,0,13.102296830640199]
["SABCAUN202001Shetland",2,35.172523148036902,13.102296830640199]
["SABCAUN202103Shetland",1,17.347578943366099,13.102296830640199]
["SABCAUN202102Shetland",1,17.5382116790075,13.102296830640199]
["SABCAUN202104Shetland",1,17.347578943366099,13.102296830640199]
["SABCAUN201901Shetland",2,35.388791933294499,13.102296830640199]
["SABHCAI202101Shetland",0,0,35.942779095679697]
["SABHCAI201903Shetland",0,0,35.942779095679697]
["SABHCAI202001Shetland",0,0,35.942779095679697]
["SABHCAI202004Shetland",1,47.2143531633617,35.942779095679697]
["SABHCAI201901Shetland",1,39.824771007566703,35.942779095679697]
["SABHCAI201904Shetland",1,37.411148522259602,35.942779095679697]
["SABHCAI202103Shetland",2,81.433224755700294,35.942779095679697]
["SABHCAI201902Shetland",1,39.339103068450001,35.942779095679697]
["SABHCAI202003Shetland",1,47.8240076518412,35.942779095679697]
["SABHCAI202102Shetland",0,0,35.942779095679697]
["SABHCAI202104Shetland",1,42.662116040955603,35.942779095679697]
["SABHCAI202002Shetland",2,125.707102451289,35.942779095679697]
["SSICSEC201901Shetland",0,0,0]
["SSICSEC201904Shetland",0,0,0]
["SSICSEC201903Shetland",0,0,0]
["SSICSEC201902Shetland",0,0,0]
["SSIHIP201902Shetland",0,0,"NaN"]
["SSIHIP201904Shetland",0,0,"NaN"]
["SSIHIP201903Shetland",0,0,"NaN"]
["SSIHIP201901Shetland",0,0,"NaN"]
["CDICA202004Tayside",5,4.7752501135100403,3.19884448973073,6.6945884749433402,8.4424604675496493,"-"]
["CDICA202002Tayside",2,1.93109015579307,3.19884448973073,6.71374337989299,8.4711928249741195,"-"]
["CDICA202103Tayside",5,4.7622029820523704,3.19884448973073,6.6898096019158997,8.4352921580084796,"-"]
["CDICA202102Tayside",4,3.8516279063632299,3.19884448973073,6.7089383210638998,8.4639852367304904,"-"]
["CDICA201901Tayside",2,1.94292071552713,3.19884448973073,6.7244937135894096,8.4873183255187499,"-"]
["CDICA202001Tayside",0,0,3.19884448973073,6.71374337989299,8.4711928249741195,"-"]
["CDICA201902Tayside",3,2.8823549076501398,3.19884448973073,6.7050685011681104,8.4581805068867908,"-"]
["CDICA201903Tayside",4,3.8013666173356899,3.19884448973073,6.6859608711138696,8.4295190618054399,"-"]
["CDICA202003Tayside",6,5.7303001362120503,3.19884448973073,6.6945884749433402,8.4424604675496493,"-"]
["CDICA201904Tayside",4,3.8013666173356899,3.19884448973073,6.6859608711138696,8.4295190618054399,"-"]
["CDICA202101Tayside",2,1.94721188599475,3.19884448973073,6.7283849730946796,8.4931552147766407,"-"]
["CDICA202104Tayside",1,0.95244059641047296,3.19884448973073,6.6898096019158997,8.4352921580084796,"-"]
["CDIHCAI202104Tayside",12,10.295391954151199,7.7718373239024796,12.9362705439657,15.518487153997301,"-"]
["CDIHCAI201901Tayside",6,5.0314465408805003,7.7718373239024796,12.8776238463777,15.430517107615399,"-"]
["CDIHCAI201903Tayside",10,8.6360260462545604,7.7718373239024796,12.9532575753963,15.543967701143201,"-"]
["CDIHCAI202001Tayside",8,7.1737941300429497,7.7718373239024796,13.051683958695,15.6916072760913,"-"]
["CDIHCAI202103Tayside",11,9.8112669021370706,7.7718373239024796,13.0375608019441,15.670422540964999,"-"]
["CDIHCAI201902Tayside",6,5.2867162443167803,7.7718373239024796,13.005542106588299,15.6223944979312,"-"]
["CDIHCAI202003Tayside",5,5.0276015324129499,7.7718373239024796,13.362808705643999,16.158294396514801,"-"]
["CDIHCAI202102Tayside",10,9.4889264228645196,7.7718373239024796,13.203094730322601,15.9187234335326,"-"]
["CDIHCAI201904Tayside",8,6.78144258237334,7.7718373239024796,12.9052703161403,15.4719868122591,"-"]
["CDIHCAI202002Tayside",7,8.5619579974803397,7.7718373239024796,13.938204382645001,17.021387912016198,"-"]
["CDIHCAI202004Tayside",15,14.3459673485783,7.7718373239024796,13.2245314466805,15.950878508069501,"-"]
["CDIHCAI202101Tayside",6,5.8163205955912298,7.7718373239024796,13.261433392381999,16.006231426621699,"-"]
["ECBCOM202104Tayside",44,41.907386242060802,41.664949478742798,54.2639001224982,60.5633754443759,"-"]
["ECBCOM201901Tayside",38,36.915493595015498,41.664949478742798,54.3890756533483,60.751138740651101,"-"]
["ECBCOM202001Tayside",41,39.587348193757997,41.664949478742798,54.350277521802298,60.692941543332097,"-"]
["ECBCOM202102Tayside",45,43.330813946586403,41.664949478742798,54.332935985269401,60.666929238532703,"-"]
["ECBCOM201903Tayside",51,48.467424371029999,41.664949478742798,54.2500099895815,60.542540245000801,"-"]
["ECBCOM201904Tayside",54,51.318449334031797,41.664949478742798,54.2500099895815,60.542540245000801,"-"]
["ECBCOM202002Tayside",41,39.587348193757997,41.664949478742798,54.350277521802298,60.692941543332097,"-"]
["ECBCOM202103Tayside",39,37.145183260008501,41.664949478742798,54.2639001224982,60.5633754443759,"-"]
["ECBCOM202003Tayside",39,37.246950885378297,41.664949478742798,54.2811471540412,60.589245991690497,"-"]
["ECBCOM202004Tayside",47,44.887351066994398,41.664949478742798,54.2811471540412,60.589245991690497,"-"]
["ECBCOM202101Tayside",37,36.023419890902801,41.664949478742798,54.403119273056198,60.772204170212902,"-"]
["ECBCOM201902Tayside",47,45.156893553185498,41.664949478742798,54.318969741465601,60.645979872826999,"-"]
["ECBHCAI202102Tayside",43,40.8023836183174,43.091375261241502,55.8802906071801,62.274748280149502,"-"]
["ECBHCAI202101Tayside",44,42.653017701002298,43.091375261241502,56.017659940769697,62.480802280533801,"-"]
["ECBHCAI201904Tayside",54,45.77473743102,43.091375261241502,55.179007103947697,61.222823025300798,"-"]
["ECBHCAI201901Tayside",56,46.960167714884697,43.091375261241502,55.113908299941698,61.1251748192918,"-"]
["ECBHCAI202001Tayside",44,39.455867715236202,43.091375261241502,55.523765516228103,61.739960643721403,"-"]
["ECBHCAI202104Tayside",44,37.749770498554398,43.091375261241502,55.252002961020402,61.332316810909902,"-"]
["ECBHCAI202002Tayside",28,34.247831989921401,43.091375261241502,57.611244309065199,64.871178832977094,"-"]
["ECBHCAI202003Tayside",42,42.231852872268803,43.091375261241502,56.256367150253702,62.838863094759901,"-"]
["ECBHCAI202103Tayside",61,54.407934639123802,43.091375261241502,55.490509891869202,61.690077207183002,"-"]
["ECBHCAI202004Tayside",44,42.081504222496399,43.091375261241502,55.930767380840699,62.350463440640397,"-"]
["ECBHCAI201902Tayside",41,36.125894336164698,43.091375261241502,55.4151158617668,61.576986162029499,"-"]
["ECBHCAI201903Tayside",47,40.589322417396403,43.091375261241502,55.292002116038901,61.392315543437597,"-"]
["SABCAUN202001Tayside",13,12.552086012655,11.3558979385441,17.978474887030799,21.289763361274101,"-"]
["SABCAUN201902Tayside",10,9.6078496921671306,11.3558979385441,17.962130163136901,21.265246275433402,"-"]
["SABCAUN201904Tayside",14,13.3047831606749,11.3558979385441,17.926128629581701,21.211243975100501,"-"]
["SABCAUN202102Tayside",17,16.369418602043702,11.3558979385441,17.969421462499302,21.276183224476899,"-"]
["SABCAUN202003Tayside",12,11.460600272424101,11.3558979385441,17.9423842807476,21.2356274518493,"-"]
["SABCAUN202101Tayside",13,12.6568772589658,11.3558979385441,18.0060617624023,21.3311436743314,"-"]
["SABCAUN201903Tayside",8,7.6027332346713798,11.3558979385441,17.926128629581701,21.211243975100501,"-"]
["SABCAUN202002Tayside",11,10.620995856861899,11.3558979385441,17.978474887030799,21.289763361274101,"-"]
["SABCAUN202103Tayside",10,9.5244059641047301,11.3558979385441,17.933380194046901,21.222121321798198,"-"]
["SABCAUN202104Tayside",12,11.4292871569257,11.3558979385441,17.933380194046901,21.222121321798198,"-"]
["SABCAUN202004Tayside",10,9.5505002270200894,11.3558979385441,17.9423842807476,21.2356274518493,"-"]
["SABCAUN201901Tayside",13,12.6289846509263,11.3558979385441,17.998730067720501,21.3201461323087,"-"]
["SABHCAI202001Tayside",19,17.037761058851999,20.9300965554601,29.594627812567801,33.926893441121699,"-"]
["SABHCAI202101Tayside",24,23.265282382364902,20.9300965554601,29.9388386675509,34.443209723596297,"-"]
["SABHCAI201901Tayside",20,16.771488469601699,20.9300965554601,29.308985181615199,33.498429494692701,"-"]
["SABHCAI202004Tayside",20,19.127956464771099,20.9300965554601,29.8782804574181,34.352372408397102,"-"]
["SABHCAI202003Tayside",24,24.1324873555821,20.9300965554601,30.105201372988201,34.692753781752202,"-"]
["SABHCAI202103Tayside",26,23.1902672232331,20.9300965554601,29.5714509020283,33.892128075312399,"-"]
["SABHCAI201902Tayside",22,19.384626229161501,20.9300965554601,29.5189063858876,33.813311301101301,"-"]
["SABHCAI202104Tayside",27,23.164631896840199,20.9300965554601,29.405227777191399,33.642793388057001,"-"]
["SABHCAI201903Tayside",22,18.99925730176,20.9300965554601,29.433104470394198,33.6846084278612,"-"]
["SABHCAI202002Tayside",24,29.355284562789699,20.9300965554601,31.0494586920789,36.109139760388203,"-"]
["SABHCAI202102Tayside",24,22.773423414874799,20.9300965554601,29.843101575950399,34.299604086195501,"-"]
["SABHCAI201904Tayside",30,25.430409683899999,20.9300965554601,29.3543546247023,33.566483659323403,"-"]
["SSICSEC201903Tayside",3,0.96463022508038598,0.96352374397797702,2.07136772287424,2.62528971232237,"-"]
["SSICSEC201901Tayside",2,0.74349442379182196,0.96352374397797702,2.1547181799440001,2.7503153979270101,"-"]
["SSICSEC201904Tayside",2,0.68965517241379304,0.96352374397797702,2.11077831629001,2.6844056024460299,"-"]
["SSICSEC201902Tayside",2,0.70422535211267601,0.96352374397797702,2.1228338617598301,2.7024889206507599,"-"]
["SSIHIP201902Tayside",1,0.62111801242235998,1.48883374689826,3.3977324815691001,4.3521818489045101,"-"]
["SSIHIP201901Tayside",2,1.14942528735632,1.48883374689826,3.3250389088754901,4.2431414898641,"-"]
["SSIHIP201904Tayside",3,1.76470588235294,1.48883374689826,3.3465157228718199,4.2753567108585999,"-"]
["SSIHIP201903Tayside",1,0.68965517241379304,1.48883374689826,3.5002957217429702,4.5060267091653197,"-"]
["CDICA202001Western Isles",1,15.177275554634001,7.5184975638694604]
["CDICA201902Western Isles",1,15.011186418372001,7.5184975638694604]
["CDICA202004Western Isles",0,0,7.5184975638694604]
["CDICA202002Western Isles",1,15.177275554634001,7.5184975638694604]
["CDICA201903Western Isles",0,0,7.5184975638694604]
["CDICA201901Western Isles",0,0,7.5184975638694604]
["CDICA201904Western Isles",1,14.8480213486071,7.5184975638694604]
["CDICA202104Western Isles",0,0,7.5184975638694604]
["CDICA202003Western Isles",0,0,7.5184975638694604]
["CDICA202103Western Isles",1,14.9712879409352,7.5184975638694604]
["CDICA202101Western Isles",1,15.3039832285115,7.5184975638694604]
["CDICA202102Western Isles",0,0,7.5184975638694604]
["CDIHCAI201902Western Isles",1,14.259232853272501,15.5205011710924]
["CDIHCAI201901Western Isles",0,0,15.5205011710924]
["CDIHCAI201904Western Isles",3,43.579314352120903,15.5205011710924]
["CDIHCAI202003Western Isles",0,0,15.5205011710924]
["CDIHCAI202001Western Isles",1,15.730690577316301,15.5205011710924]
["CDIHCAI202102Western Isles",0,0,15.5205011710924]
["CDIHCAI202103Western Isles",0,0,15.5205011710924]
["CDIHCAI202104Western Isles",1,16.485328058028401,15.5205011710924]
["CDIHCAI202002Western Isles",0,0,15.5205011710924]
["CDIHCAI202101Western Isles",2,34.5184673800483,15.5205011710924]
["CDIHCAI202004Western Isles",1,19.413706076490001,15.5205011710924]
["CDIHCAI201903Western Isles",2,29.841838257236599,15.5205011710924]
["ECBCOM202002Western Isles",5,75.886377773170196,72.678809784071504]
["ECBCOM201901Western Isles",5,75.889886892880895,72.678809784071504]
["ECBCOM201903Western Isles",5,74.240106743035696,72.678809784071504]
["ECBCOM202101Western Isles",0,0,72.678809784071504]
["ECBCOM201904Western Isles",5,74.240106743035696,72.678809784071504]
["ECBCOM202102Western Isles",8,121.086460709102,72.678809784071504]
["ECBCOM202003Western Isles",6,90.073831009023806,72.678809784071504]
["ECBCOM202004Western Isles",5,75.061525840853193,72.678809784071504]
["ECBCOM202103Western Isles",3,44.913863822805602,72.678809784071504]
["ECBCOM202001Western Isles",5,75.886377773170196,72.678809784071504]
["ECBCOM202104Western Isles",4,59.885151763740801,72.678809784071504]
["ECBCOM201902Western Isles",6,90.067118510232305,72.678809784071504]
["ECBHCAI201902Western Isles",2,28.518465706545001,40.917684905607103]
["ECBHCAI201901Western Isles",1,14.553922282055,40.917684905607103]
["ECBHCAI201904Western Isles",2,29.052876234747199,40.917684905607103]
["ECBHCAI201903Western Isles",3,44.762757385854997,40.917684905607103]
["ECBHCAI202003Western Isles",3,72.254335260115596,40.917684905607103]
["ECBHCAI202002Western Isles",2,62.5,40.917684905607103]
["ECBHCAI202004Western Isles",1,19.413706076490001,40.917684905607103]
["ECBHCAI202104Western Isles",2,32.970656116056702,40.917684905607103]
["ECBHCAI202102Western Isles",1,16.605778811026202,40.917684905607103]
["ECBHCAI202001Western Isles",2,31.461381154632701,40.917684905607103]
["ECBHCAI202103Western Isles",5,83.682008368200798,40.917684905607103]
["ECBHCAI202101Western Isles",4,69.036934760096599,40.917684905607103]
["SABCAUN201904Western Isles",0,0,12.530829273115801]
["SABCAUN202002Western Isles",3,45.531826663902102,12.530829273115801]
["SABCAUN202001Western Isles",0,0,12.530829273115801]
["SABCAUN201903Western Isles",0,0,12.530829273115801]
["SABCAUN201901Western Isles",2,30.3559547571524,12.530829273115801]
["SABCAUN201902Western Isles",0,0,12.530829273115801]
["SABCAUN202103Western Isles",1,14.9712879409352,12.530829273115801]
["SABCAUN202101Western Isles",1,15.3039832285115,12.530829273115801]
["SABCAUN202004Western Isles",1,15.012305168170601,12.530829273115801]
["SABCAUN202102Western Isles",0,0,12.530829273115801]
["SABCAUN202104Western Isles",0,0,12.530829273115801]
["SABCAUN202003Western Isles",0,0,12.530829273115801]
["SABHCAI201902Western Isles",2,28.518465706545001,23.986229082597301]
["SABHCAI202001Western Isles",1,15.730690577316301,23.986229082597301]
["SABHCAI201904Western Isles",1,14.526438117373599,23.986229082597301]
["SABHCAI202101Western Isles",2,34.5184673800483,23.986229082597301]
["SABHCAI202102Western Isles",1,16.605778811026202,23.986229082597301]
["SABHCAI202002Western Isles",2,62.5,23.986229082597301]
["SABHCAI201903Western Isles",5,74.604595643091599,23.986229082597301]
["SABHCAI202003Western Isles",2,48.169556840077099,23.986229082597301]
["SABHCAI201901Western Isles",0,0,23.986229082597301]
["SABHCAI202104Western Isles",5,82.426640290141805,23.986229082597301]
["SABHCAI202103Western Isles",0,0,23.986229082597301]
["SABHCAI202004Western Isles",1,19.413706076490001,23.986229082597301]
["SSICSEC201902Western Isles",0,0,0]
["SSICSEC201901Western Isles",0,0,0]
["SSICSEC201903Western Isles",0,0,0]
["SSICSEC201904Western Isles",0,0,0]
["SSIHIP201902Western Isles",0,0,1.35135135135135]
["SSIHIP201903Western Isles",0,0,1.35135135135135]
["SSIHIP201901Western Isles",0,0,1.35135135135135]
["SSIHIP201904Western Isles",1,5.8823529411764701,1.35135135135135]
["SABCAUN202002Western Isles",3,45.531826663902102,12.5177821096544]
["SABCAUN201804Western Isles",2,29.574292242622601,12.5177821096544]
["SABCAUN201901Western Isles",2,30.3559547571524,12.5177821096544]
["SABCAUN201902Western Isles",0,0,12.5177821096544]
["SABCAUN201904Western Isles",0,0,12.5177821096544]
["SABCAUN202001Western Isles",0,0,12.5177821096544]
["SABCAUN202003Western Isles",0,0,12.5177821096544]
["SABCAUN202004Western Isles",1,15.012305168170601,12.5177821096544]
["SABCAUN202103Western Isles",1,14.9712879409352,12.5177821096544]
["SABHCAI201901Western Isles",0,0,24.992363444503098]
["SABHCAI202004Western Isles",1,19.413706076490001,24.992363444503098]
["SABHCAI202003Western Isles",2,48.169556840077099,24.992363444503098]
["SABHCAI201804Western Isles",0,0,24.992363444503098]
["SABHCAI201902Western Isles",2,28.518465706545001,24.992363444503098]
["SABHCAI202001Western Isles",1,15.730690577316301,24.992363444503098]
["SABHCAI201903Western Isles",5,74.604595643091599,24.992363444503098]
["SABHCAI201904Western Isles",1,14.526438117373599,24.992363444503098]
["SABHCAI202101Western Isles",2,34.5184673800483,24.992363444503098]
["SABHCAI202102Western Isles",1,16.605778811026202,24.992363444503098]
["SABHCAI202002Western Isles",2,62.5,24.992363444503098]
["SABHCAI202103Western Isles",0,0,24.992363444503098]
["SSICSEC201902Western Isles",0,0,0]
["SSICSEC201804Western Isles",0,0,0]
["SSICSEC201901Western Isles",0,0,0]
["SSICSEC201903Western Isles",0,0,0]
["SSICSEC201904Western Isles",0,0,0]
["SSIHIP201902Western Isles",0,0,1.1764705882352899]
["SSIHIP201804Western Isles",0,0,1.1764705882352899]
["SSIHIP201903Western Isles",0,0,1.1764705882352899]
["SSIHIP201901Western Isles",0,0,1.1764705882352899]
["SSIHIP201904Western Isles",1,5.8823529411764701,1.1764705882352899]

{"sheet":"trend data","index":10,"n_rows":3224,"n_cols":6,"rows_kept":3224,"cut":false,"hidden":true,"merged":[]}
["ref","cases","OCBD","rate","lower","upper"]
["CDICA201404Ayrshire & Arran",9,93547.616438356199,9.6207689117665698,4.3900861827178401,18.264434852804801]
["CDICA201404Borders",0,28744.328767123301,0,0,12.76111723524]
["CDICA201404Dumfries & Galloway",5,37798.136986301397,13.2281651918773,4.2629346041537399,30.870044135160601]
["CDICA201404Fife",5,92567.123287671202,5.4014857785538801,1.7406934601467501,12.6052329979814]
["CDICA201404Forth Valley",5,75717.260273972599,6.6035141550396599,2.1280614954690198,15.410358916473699]
["CDICA201404Grampian",7,147255.45205479499,4.7536440262974198,1.9044312868870199,9.7948247464013303]
["CDICA201404Greater Glasgow & Clyde",19,287995.287671233,6.5973301694053603,3.97015824441567,10.303139340371001]
["CDICA201404Highland",9,80841.534246575306,11.1328911355752,5.0800878803164702,21.135105388551001]
["CDICA201404Lanarkshire",18,164667.39726027401,10.931125589814901,6.4751050694192296,17.276914467635802]
["CDICA201404Lothian",21,216293.26027397299,9.7090403896080204,6.0077122355970198,14.842097975421201]
["CDICA201404Orkney",0,5439.3424657534197,0,0,67.436413786226595]
["CDICA201404Shetland",0,5852.7123287671202,0,0,62.673462941721297]
["CDICA201404Tayside",20,104300.273972603,19.175405047597,11.7078435648052,29.6165030634407]
["CDICA201404Western Isles",3,6868.4931506849298,43.6777024331871,8.7785072172838099,127.618761905075]
["CDICA201501Ayrshire & Arran",6,91378.3561643836,6.5661062989647103,2.39765829967692,14.292110097914099]
["CDICA201501Borders",1,28116.9863013699,3.5565689341011599,4.6484834080849698E-2,19.788238575070899]
["CDICA201501Dumfries & Galloway",5,36904.931506849302,13.548324833151399,4.3661098815897397,31.617187984142799]
["CDICA201501Fife",4,90759.452054794499,4.4072544615904796,1.1856840970404601,11.2835439061003]
["CDICA201501Forth Valley",4,74626.027397260303,5.3600602088954998,1.4420175200351999,13.7229368609198]
["CDICA201501Grampian",6,144941.917808219,4.1395892166536203,1.51159911074354,9.0104336041406903]
["CDICA201501Greater Glasgow & Clyde",14,283534.52054794499,4.9376703665374704,2.6971815057881199,8.2851237450821902]
["CDICA201501Highland",9,79150.684931506898,11.370716510903399,5.1886107960733403,21.5866021570383]
["CDICA201501Lanarkshire",6,161381.095890411,3.7179075819849499,1.35761919857793,8.0925806065577497]
["CDICA201501Lothian",29,213978.082191781,13.5527899413587,9.0745680802315096,19.464887647821399]
["CDICA201501Orkney",1,5343.2876712328798,18.7150694764908,0.24460847393813101,104.12795776259]
["CDICA201501Shetland",1,5720.5479452054797,17.480842911877399,0.22847696682065899,97.260898479109201]
["CDICA201501Tayside",5,102338.630136986,4.8857405979611102,1.57448840106384,11.4016589379015]
["CDICA201501Western Isles",1,6674.79452054795,14.981734597545501,0.19581328519539301,83.356218866469703]
["CDICA201502Ayrshire & Arran",10,92393.671232876703,10.823252141150601,5.1815023168276202,19.905721494381101]
["CDICA201502Borders",3,28429.397260274,10.5524572770034,2.1208721431251001,30.832471895869102]
["CDICA201502Dumfries & Galloway",3,37314.9863013699,8.0396652856063593,1.61584185528533,23.490524288674798]
["CDICA201502Fife",2,91767.890410958906,2.1794115469403499,0.244762469812009,7.8687447277775]
["CDICA201502Forth Valley",5,75455.205479452095,6.6264480604477303,2.1354522210575202,15.463878861369199]
["CDICA201502Grampian",9,146552.383561644,6.1411488378927404,2.8022887678211799,11.6585913142439]
["CDICA201502Greater Glasgow & Clyde",13,286684.904109589,4.5345952345752298,2.4121101579248601,7.75482423823542]
["CDICA201502Highland",11,80030.136986301397,13.744822156037101,6.8519376643443799,24.594998060272001]
["CDICA201502Lanarkshire",11,163174.21917808201,6.7412610003023898,3.36058914613599,12.0628189542198]
["CDICA201502Lothian",17,216355.616438356,7.8574341077221899,4.5745859225229104,12.5812822267873]
["CDICA201502Orkney",0,5402.6575342465803,0,0,67.894318105560799]
["CDICA201502Shetland",0,5784.1095890410998,0,0,63.416804885668199]
["CDICA201502Tayside",14,103475.726027397,13.5297431943538,7.3905648641879402,22.7021223134042]
["CDICA201502Western Isles",0,6748.9589041095896,0,0,54.350567910879299]
["CDICA201503Ayrshire & Arran",17,93408.986301369907,18.1995337634348,10.595740264479801,29.1409978797893]
["CDICA201503Borders",1,28741.8082191781,3.4792522181424399,4.5474294209526901E-2,19.358059475612801]
["CDICA201503Dumfries & Galloway",2,37725.041095890403,5.3015184129723103,0.59539591883628096,19.141081967679]
["CDICA201503Fife",6,92776.328767123297,6.4671668729860201,2.36152989647083,14.076753674376601]
["CDICA201503Forth Valley",4,76284.383561643801,5.2435371608760297,1.41066931307791,13.424612146552001]
["CDICA201503Grampian",14,148162.84931506799,9.4490623423615308,5.1615102477422701,15.854977139018599]
["CDICA201503Greater Glasgow & Clyde",17,289835.287671233,5.8654003577657896,3.4148269700698202,9.39164824832908]
["CDICA201503Highland",7,80909.589041095896,8.6516321278612995,3.4660649421343699,17.826581038450399]
["CDICA201503Lanarkshire",18,164967.342465753,10.9112505123472,6.4633319712319199,17.245501415921499]
["CDICA201503Lothian",33,218733.150684931,15.0868763590088,10.3833434347635,21.188384089281602]
["CDICA201503Orkney",0,5462.0273972602699,0,0,67.156336387022094]
["CDICA201503Shetland",1,5847.6712328767098,17.1008245877061,0.223510076237601,95.146531120867706]
["CDICA201503Tayside",11,104612.821917808,10.5149634608293,5.2418193090127403,18.815485787085102]
["CDICA201503Western Isles",0,6823.1232876712302,0,0,53.759800868369801]
["CDICA201504Ayrshire & Arran",7,93408.986301369907,7.4939256672966801,3.0022581462671201,15.441141189299699]
["CDICA201504Borders",2,28741.8082191781,6.9585044362848798,0.781486513831677,25.1236142953829]
["CDICA201504Dumfries & Galloway",4,37725.041095890403,10.603036825944599,2.85253602995276,27.146113891587898]
["CDICA201504Fife",7,92776.328767123297,7.5450280184836904,3.0227310541869499,15.546436952137]
["CDICA201504Forth Valley",3,76284.383561643801,3.9326528706570199,0.79039921252596701,11.490537789239299]
["CDICA201504Grampian",15,148162.84931506799,10.123995366815899,5.6621274263441403,16.699074094274401]
["CDICA201504Greater Glasgow & Clyde",25,289835.287671233,8.6255887614202802,5.58045617823631,12.733674681058799]
["CDICA201504Highland",9,80909.589041095896,11.123527021536001,5.0758149092021796,21.117328197102701]
["CDICA201504Lanarkshire",19,164967.342465753,11.5174310963664,6.9309891801049703,17.986927193562199]
["CDICA201504Lothian",18,218733.150684931,8.2292052867320695,4.8746095204558397,13.0064625739876]
["CDICA201504Orkney",0,5462.0273972602699,0,0,67.156336387022094]
["CDICA201504Shetland",0,5847.6712328767098,0,0,62.727491789084901]
["CDICA201504Tayside",7,104612.821917808,6.6913403841641301,2.6807219699911702,13.7874241358486]
["CDICA201504Western Isles",0,6823.1232876712302,0,0,53.759800868369801]
["CDICA201601Ayrshire & Arran",10,92133.770491803298,10.8537835221773,5.1961188497756199,19.961873671160301]
["CDICA201601Borders",0,28476.038251366099,0,0,12.881347679322801]
["CDICA201601Dumfries & Galloway",2,37175.737704918,5.3798528918914101,0.60419340389989595,19.423907861147001]
["CDICA201601Fife",5,92076.584699453597,5.43026222825321,1.7499670155815801,12.6723874566222]
["CDICA201601Forth Valley",1,75704.043715847001,1.3209334018582599,1.7264777136324998E-2,7.3494836686912697]
["CDICA201601Grampian",19,146221.58469945399,12.993977625843,7.8195491318942096,20.292869786262401]
["CDICA201601Greater Glasgow & Clyde",19,288755.92896174901,6.5799514726213397,3.9597000477599602,10.2759987956473]
["CDICA201601Highland",2,80035.245901639297,2.4988990506231898,0.28064304986366101,9.0222513308440497]
["CDICA201601Lanarkshire",12,163225.655737705,7.3517854443687298,3.7943971123168101,12.8429789577908]
["CDICA201601Lothian",16,218797.81420764999,7.3126873126873102,4.1771028533786199,11.8760945256935]
["CDICA201601Orkney",0,5432.6502732240397,0,0,67.519485112715699]
["CDICA201601Shetland",0,5768.3060109289599,0,0,63.590549556587902]
["CDICA201601Tayside",11,103299.918032787,10.6486047709241,5.3084409004567803,19.054623676629099]
["CDICA201601Western Isles",0,6688.2513661202202,0,0,54.843894041369502]
["CDICA201602Ayrshire & Arran",5,92133.770491803298,5.4268917610886502,1.7488808421856801,12.664521931160699]
["CDICA201602Borders",0,28476.038251366099,0,0,12.881347679322801]
["CDICA201602Dumfries & Galloway",5,37175.737704918,13.4496322297285,4.33430500856291,31.3868729722506]
["CDICA201602Fife",4,92076.584699453597,4.3442097826025696,1.1687231809121901,11.1221356167433]
["CDICA201602Forth Valley",5,75704.043715847001,6.6046670092912896,2.1284330165538798,15.4130492866885]
["CDICA201602Grampian",8,146221.58469945399,5.4711484740391398,2.35576202428655,10.781005775845699]
["CDICA201602Greater Glasgow & Clyde",15,288755.92896174901,5.1946985310168401,2.9052803718647602,8.5684211147709206]
["CDICA201602Highland",2,80035.245901639297,2.4988990506231898,0.28064304986366101,9.0222513308440497]
["CDICA201602Lanarkshire",14,163225.655737705,8.5770830184301801,4.6851952385679096,14.3918465398429]
["CDICA201602Lothian",23,218797.81420764999,10.511988011988,6.6615122729230896,15.7739396057778]
["CDICA201602Orkney",0,5432.6502732240397,0,0,67.519485112715699]
["CDICA201602Shetland",0,5768.3060109289599,0,0,63.590549556587902]
["CDICA201602Tayside",10,103299.918032787,9.6805497917491596,4.6344472548507802,17.804105970551799]
["CDICA201602Western Isles",0,6688.2513661202202,0,0,54.843894041369502]
["CDICA201603Ayrshire & Arran",9,93146.229508196702,9.6622268528948005,4.4090039985577398,18.343140190373202]
["CDICA201603Borders",0,28788.961748633901,0,0,12.7413330306345]
["CDICA201603Dumfries & Galloway",2,37584.262295082,5.3213762300230298,0.59762608429228803,19.212778427873701]
["CDICA201603Fife",6,93088.415300546403,6.44548516657881,2.3536126741549701,14.0295602052225]
["CDICA201603Forth Valley",4,76535.956284152999,5.2263017203957096,1.4060324608468699,13.380485615829601]
["CDICA201603Grampian",20,147828.41530054601,13.529198672216401,8.2604639233593993,20.895910825717099]
["CDICA201603Greater Glasgow & Clyde",20,291929.07103825099,6.85097922206569,4.1829725525264703,10.5813695519983]
["CDICA201603Highland",8,80914.754098360703,9.8869484176830493,4.25711305934687,19.482426496431302]
["CDICA201603Lanarkshire",15,165019.344262295,9.0898434162711208,5.0837490381654904,14.9932870585068]
["CDICA201603Lothian",20,221202.18579235001,9.0415019762845805,5.5204304924178,13.9646422234139]
["CDICA201603Orkney",0,5492.3497267759603,0,0,66.785577665838403]
["CDICA201603Shetland",1,5831.6939890710401,17.147676161919001,0.22412243261085499,95.407206548596207]
["CDICA201603Tayside",14,104435.081967213,13.405456994226499,7.3226740542465203,22.4935772969448]
["CDICA201603Western Isles",0,6761.7486338797798,0,0,54.247764758311099]
["CDICA201604Ayrshire & Arran",7,93146.229508196702,7.5150653300292802,3.0107272354289298,15.4846992030085]
["CDICA201604Borders",1,28788.961748633901,3.47355354017744,4.5399811722446802E-2,19.326352850147799]
["CDICA201604Dumfries & Galloway",8,37584.262295082,21.285504920092102,9.1650929227110502,41.943506482084203]
["CDICA201604Fife",4,93088.415300546403,4.2969901110525397,1.1560196680761901,11.001242838300501]
["CDICA201604Forth Valley",4,76535.956284152999,5.2263017203957096,1.4060324608468699,13.380485615829601]
["CDICA201604Grampian",12,147828.41530054601,8.1175192033298096,4.1896069543057299,14.1806543603204]
["CDICA201604Greater Glasgow & Clyde",12,291929.07103825099,4.1105875332394204,2.1215528641408001,7.1808664157886399]
["CDICA201604Highland",9,80914.754098360703,11.1228169698934,5.0754909030927404,21.115980207967301]
["CDICA201604Lanarkshire",13,165019.344262295,7.8778642941016299,4.1905121633940201,13.4723056443099]
["CDICA201604Lothian",16,221202.18579235001,7.2332015810276697,4.1316995614940701,11.7470065417186]
["CDICA201604Orkney",0,5492.3497267759603,0,0,66.785577665838403]
["CDICA201604Shetland",0,5831.6939890710401,0,0,62.899347930972802]
["CDICA201604Tayside",8,104435.081967213,7.6602611395580302,3.2983481209323302,15.094695379212]
["CDICA201604Western Isles",0,6761.7486338797798,0,0,54.247764758311099]
["CDICA201701Ayrshire & Arran",12,91333.972602739697,13.138594170423801,6.7810798012807201,22.952069227612601]
["CDICA201701Borders",0,28361.095890411001,0,0,12.93355343753]
["CDICA201701Dumfries & Galloway",2,36789.041095890403,5.4364015490020803,0.61054419569889795,19.628076251521499]
["CDICA201701Fife",3,91580.547945205501,3.2758048158818198,0.65838344548045202,9.57134033057274]
["CDICA201701Forth Valley",2,75348.493150684895,2.6543331078968202,0.29809933241140002,9.5834445209994499]
["CDICA201701Grampian",9,144586.849315069,6.2246324908762203,2.8403834809160302,11.8170798669963]
["CDICA201701Greater Glasgow & Clyde",16,288273.69863013702,5.5502808879308896,3.1703932005687099,9.0138765204490205]
["CDICA201701Highland",4,79394.794520547905,5.0381136750278603,1.35540421267323,12.8986826949824]
["CDICA201701Lanarkshire",10,162278.630136986,6.16224082712466,2.9500989819129999,11.333363400051701]
["CDICA201701Lothian",10,219316.438356164,4.5596217387774001,2.1828642902539799,8.3858861706403296]
["CDICA201701Orkney",0,5424.6575342465803,0,0,67.618968926577196]
["CDICA201701Shetland",0,5690.9589041095896,0,0,64.454823066928]
["CDICA201701Tayside",6,102597.534246575,5.8480937617662798,2.13547114633197,12.729248675012601]
["CDICA201701Western Isles",0,6645.20547945206,0,0,55.199158307409903]
["CDICA201702Ayrshire & Arran",4,92348.794520547905,4.3314046715682704,1.1652782206435,11.0893517069788]
["CDICA201702Borders",2,28676.2191780822,6.9744201199600298,0.78327395138588496,25.181077720399401]
["CDICA201702Dumfries & Galloway",12,37197.8082191781,32.259965235836503,16.649985212511801,56.3555693835252]
["CDICA201702Fife",2,92598.109589041094,2.1598713071748299,0.242567970405763,7.7981948773601797]
["CDICA201702Forth Valley",7,76185.698630137005,9.1880761427197708,3.6809781245073201,18.931917298954399]
["CDICA201702Grampian",17,146193.369863014,11.628434323614901,6.7700563859022802,18.619387967539801]
["CDICA201702Greater Glasgow & Clyde",22,291476.73972602701,7.5477720866093199,4.7284627458559596,11.4280130579159]
["CDICA201702Highland",8,80276.958904109604,9.9654995769781891,4.2909355444995203,19.637213102219601]
["CDICA201702Lanarkshire",6,164081.726027397,3.6567143369750799,1.33527406965347,7.9593843780611504]
["CDICA201702Lothian",9,221753.287671233,4.0585644048458196,1.8519774956441,7.7049335503275804]
["CDICA201702Orkney",1,5484.9315068493197,18.2317682317682,0.23829166169906901,101.438939073117]
["CDICA201702Shetland",0,5754.1917808219196,0,0,63.746528307950697]
["CDICA201702Tayside",10,103737.506849315,9.6397149919224496,4.6148980835712203,17.729004130362899]
["CDICA201702Western Isles",0,6719.0410958904104,0,0,54.592574150185598]
["CDICA201703Ayrshire & Arran",7,93363.616438356199,7.4975673255135602,3.0037170876194801,15.4486447810334]
["CDICA201703Borders",1,28991.342465753401,3.4493056028063198,4.5082887921338501E-2,19.191440810329802]
["CDICA201703Dumfries & Galloway",4,37606.575342465803,10.6364378132649,2.8615219008246,27.231627789235699]
["CDICA201703Fife",7,93615.671232876703,7.4773805579911103,2.9956297526322202,15.4070501961245]
["CDICA201703Forth Valley",8,77022.904109588999,10.3865208569876,4.4722184958887699,20.466843822912502]
["CDICA201703Grampian",15,147799.89041095899,10.148857322080801,5.6760321698448299,16.740082769017299]
["CDICA201703Greater Glasgow & Clyde",27,294679.78082191799,9.1624881505924396,6.0366621437209798,13.331534794550301]
["CDICA201703Highland",4,81159.123287671202,4.9285894647011697,1.3259389037020699,12.618276549439299]
["CDICA201703Lanarkshire",11,165884.821917808,6.6311069770145803,3.30567621292548,11.865709238405501]
["CDICA201703Lothian",11,224190.13698630099,4.9065494797713303,2.4459662555653998,8.7797843848128494]
["CDICA201703Orkney",1,5545.20547945205,18.0335968379447,0.23570153494147,100.336341909279]
["CDICA201703Shetland",0,5817.4246575342504,0,0,63.053631261125197]
["CDICA201703Tayside",7,104877.47945205501,6.6744548367984802,2.6739571881687501,13.752631674259399]
["CDICA201703Western Isles",0,6792.8767123287698,0,0,53.999176605074901]
["CDICA201704Ayrshire & Arran",6,93363.616438356199,6.4264862790116197,2.3466751013552098,13.988206291581101]
["CDICA201704Borders",1,28991.342465753401,3.4493056028063198,4.5082887921338501E-2,19.191440810329802]
["CDICA201704Dumfries & Galloway",1,37606.575342465803,2.65910945331624,3.4754918020860302E-2,14.7949029624942]
["CDICA201704Fife",4,93615.671232876703,4.2727888902806299,1.1495088112948799,10.9392823729947]
["CDICA201704Forth Valley",5,77022.904109588999,6.4915755356172298,2.09198793520157,15.1491322027249]
["CDICA201704Grampian",7,147799.89041095899,4.7361334169710396,1.8974160892682801,9.7587443523697708]
["CDICA201704Greater Glasgow & Clyde",17,294679.78082191799,5.7689740207433902,3.3586877065576202,9.2372509039107804]
["CDICA201704Highland",7,81159.123287671202,8.6250315632270507,3.4554080761052601,17.771770903886999]
["CDICA201704Lanarkshire",9,165884.821917808,5.42545116301193,2.47570629792579,10.299883535577999]
["CDICA201704Lothian",15,224190.13698630099,6.6907492905972701,3.7419885814307801,11.0360894194124]
["CDICA201704Orkney",0,5545.20547945205,0,0,66.148991341216799]
["CDICA201704Shetland",0,5817.4246575342504,0,0,63.053631261125197]
["CDICA201704Tayside",2,104877.47945205501,1.9069870962281401,0.21416738487400799,6.8851588312685097]
["CDICA201704Western Isles",0,6792.8767123287698,0,0,53.999176605074901]
["CDICA201801Ayrshire & Arran",8,91151.506849315105,8.7765965440648195,3.77901878172363,17.294456270527]
["CDICA201801Borders",0,28422.739726027401,0,0,12.905502874856399]
["CDICA201801Dumfries & Galloway",4,36687.945205479497,10.9027637759407,2.9331716005017299,27.913481019943401]
["CDICA201801Fife",2,91703.835616438402,2.18093385795249,0.24493343550395399,7.8742410172542101]
["CDICA201801Forth Valley",0,75469.315068493204,0,0,4.8603826457499801]
["CDICA201801Grampian",12,144135.616438356,8.3254925441222607,4.2969459741551503,14.543967090240301]
["CDICA201801Greater Glasgow & Clyde",17,289721.095890411,5.8677121690960199,3.4161729030323902,9.3953499084896404]
["CDICA201801Highland",15,79347.945205479497,18.9040812098612,10.5726358823746,31.181429995748399]
["CDICA201801Lanarkshire",10,162542.465753425,6.1522384034520003,2.9453104413932101,11.3149673156493]
["CDICA201801Lothian",12,221367.94520547899,5.42083904192239,2.7977987337429302,9.4697706122948908]
["CDICA201801Orkney",1,5471.5068493150702,18.2765009263432,0.23887632403061199,101.68782535896101]
["CDICA201801Shetland",0,5668.7671232876701,0,0,64.707147298159896]
["CDICA201801Tayside",4,102595.068493151,3.8988228759426602,1.0489006980355999,9.9818468586747304]
["CDICA201801Western Isles",1,6615.61643835616,15.115749368451601,0.197564876266839,84.101857797813395]
["CDICA201802Ayrshire & Arran",9,92164.301369862995,9.7651692317204795,4.4559779898305196,18.538569930854202]
["CDICA201802Borders",1,28738.547945205501,3.4796469254697802,4.5479453087355903E-2,19.360255570474301]
["CDICA201802Dumfries & Galloway",5,37095.589041095896,13.4786914812454,4.3436697002692304,31.454687394269801]
["CDICA201802Fife",8,92722.767123287704,8.6278702072845803,3.7149803338802401,17.001388096000898]
["CDICA201802Forth Valley",2,76307.863013698603,2.6209618786480302,0.29435152052930502,9.4629580141808791]
["CDICA201802Grampian",33,145737.12328767101,22.6435099414314,15.584096713960999,31.8011080857056]
["CDICA201802Greater Glasgow & Clyde",11,292940.21917808201,3.7550323512637802,1.8719229180535399,6.7192585212916898]
["CDICA201802Highland",7,80229.589041095896,8.7249605583974805,3.4954421854783999,17.977673363003401]
["CDICA201802Lanarkshire",8,164348.49315068501,4.86770511042356,2.09593194170722,9.5919087481548608]
["CDICA201802Lothian",12,223827.58904109601,5.3612693821210504,2.76705369271279,9.3657071989729701]
["CDICA201802Orkney",1,5532.3013698630102,18.0756602568229,0.23625130948082601,100.570376728642]
["CDICA201802Shetland",1,5731.7534246575296,17.446668164371498,0.228030298276621,97.070755093891805]
["CDICA201802Tayside",4,103735.01369863001,3.8559786685147199,1.0373743167385101,9.8721562338541293]
["CDICA201802Western Isles",0,6689.1232876712302,0,0,54.836745186265503]
["CDICA201803Ayrshire & Arran",10,93177.095890411001,10.732251208774899,5.1379367105025704,19.738355975036601]
["CDICA201803Borders",2,29054.3561643836,6.8836493525597797,0.77307978808212197,24.8533507252756]
["CDICA201803Dumfries & Galloway",3,37503.232876712304,7.9993103790869498,1.6077311759593,23.372614167036001]
["CDICA201803Fife",5,93741.698630137005,5.33380563086207,1.7188827222685401,12.447290523268199]
["CDICA201803Forth Valley",5,77146.410958904104,6.48118290643942,2.0886387860257298,15.124879336454701]
["CDICA201803Grampian",19,147338.630136986,12.895463994971999,7.76026534682559,20.139019722717499]
["CDICA201803Greater Glasgow & Clyde",14,296159.34246575303,4.7271849955632899,2.58220476418991,7.9319415325009297]
["CDICA201803Highland",6,81111.232876712296,7.3972491690761197,2.7011557622528999,16.1012165707413]
["CDICA201803Lanarkshire",6,166154.52054794499,3.6110964542000801,1.31861639000756,7.8600902494911198]
["CDICA201803Lothian",16,226287.23287671199,7.0706596198987697,4.0388534625712698,11.4830319435693]
["CDICA201803Orkney",1,5593.0958904109602,17.879185688814001,0.23368336046473001,99.477220459852703]
["CDICA201803Shetland",1,5794.7397260274001,17.257030466932701,0.22555170807796199,96.015638190697302]
["CDICA201803Tayside",3,104874.95890411,2.86054939267532,0.57492386481201696,8.3580351420719197]
["CDICA201803Western Isles",1,6762.6301369863004,14.7871461213113,0.19326998765234199,82.273556541339204]
["CDICA201804Ayrshire & Arran",5,93177.095890411001,5.3661256043874603,1.72929822068032,12.5227143628336]
["CDICA201804Borders",1,29054.3561643836,3.4418246762798899,4.4985111205971602E-2,19.149818009925699]
["CDICA201804Dumfries & Galloway",0,37503.232876712304,0,0,9.7807501143004796]
["CDICA201804Fife",7,93741.698630137005,7.4673278832068997,2.9916023941951901,15.3863367840138]
["CDICA201804Forth Valley",2,77146.410958904104,2.5924731625757702,0.29115204748007401,9.3600997748963106]
["CDICA201804Grampian",12,147338.630136986,8.1445035757717807,4.2035341051517703,14.2277938926264]
["CDICA201804Greater Glasgow & Clyde",22,296159.34246575303,7.4284335644565997,4.6537005842976198,11.2473236870891]
["CDICA201804Highland",7,81111.232876712296,8.6301240305888101,3.4574482486797198,17.782263869927199]
["CDICA201804Lanarkshire",11,166154.52054794499,6.62034349936682,3.30031050669395,11.846449061091899]
["CDICA201804Lothian",15,226287.23287671199,6.6287433936550997,3.70731005018391,10.933813486857799]
["CDICA201804Orkney",1,5593.0958904109602,17.879185688814001,0.23368336046473001,99.477220459852703]
["CDICA201804Shetland",0,5794.7397260274001,0,0,63.3004701829826]
["CDICA201804Tayside",3,104874.95890411,2.86054939267532,0.57492386481201696,8.3580351420719197]
["CDICA201804Western Isles",0,6762.6301369863004,0,0,54.240693608153897]
["CDICA201901Ayrshire & Arran",1,91075.068493150698,1.0979953312636901,1.4350946583927E-2,6.1090882735416203]
["CDICA201901Borders",1,28481.917808219201,3.5109995286603399,4.5889235825809803E-2,19.5346969501804]
["CDICA201901Dumfries & Galloway",1,36705.205479452103,2.7244092137280398,3.5608394667736701E-2,15.158221447772]
["CDICA201901Fife",5,92108.219178082203,5.4283972099525597,1.74936599110571,12.668035137429101]
["CDICA201901Forth Valley",3,75609.863013698603,3.9677363248978201,0.79745041575102604,11.5930456306353]
["CDICA201901Grampian",6,144419.178082192,4.1545728757612004,1.5170704956074299,9.0430477739217707]
["CDICA201901Greater Glasgow & Clyde",15,291728.21917808201,5.1417720377758203,2.8756797509535299,8.4811212494352599]
["CDICA201901Highland",4,79323.287671232902,5.04265533796152,1.3566260566946,12.9103103542349]
["CDICA201901Lanarkshire",4,163208.21917808201,2.4508569606016399,0.65935428680866104,6.2747346139256397]
["CDICA201901Lothian",8,223786.849315069,3.57483025677565,1.53924708900568,7.04427339686388]
["CDICA201901Orkney",0,5491.2328767123299,0,0,66.799161041073106]
["CDICA201901Shetland",0,5651.5068493150702,0,0,64.904769475772099]
["CDICA201901Tayside",2,102937.808219178,1.94292071552713,0.21820297026918301,7.0148968230699502]
["CDICA201901Western Isles",0,6588.4931506849298,0,0,55.674300762900401]
["CDICA201902Ayrshire & Arran",8,92087.013698630093,8.6874355880203797,3.7406279401489102,17.118762851374498]
["CDICA201902Borders",0,28798.383561643801,0,0,12.737164516903301]
["CDICA201902Dumfries & Galloway",4,37113.041095890403,10.7778826037593,2.8995748065871099,27.593757663455801]
["CDICA201902Fife",3,93131.6438356164,3.2212466960157999,0.64741815146715298,9.4119308533956794]
["CDICA201902Forth Valley",0,76449.972602739697,0,0,4.7980363727742699]
["CDICA201902Grampian",6,146023.83561643801,4.1089182287748098,1.5003993912600899,8.9436736225599898]
["CDICA201902Greater Glasgow & Clyde",12,294969.64383561601,4.0682152386797696,2.0996837123087801,7.1068454189109804]
["CDICA201902Highland",5,80204.657534246595,6.23405192879859,2.0089978697639399,14.548159581577201]
["CDICA201902Lanarkshire",13,165021.64383561601,7.8777545162195404,4.1904537686904497,13.472117907998999]
["CDICA201902Lothian",11,226273.369863014,4.86137631072513,2.4234469581244,8.6989514724292096]
["CDICA201902Orkney",0,5552.2465753424704,0,0,66.065104326335998]
["CDICA201902Shetland",0,5714.3013698630102,0,0,64.191530250763606]
["CDICA201902Tayside",3,104081.561643836,2.8823549076501398,0.57930641837869801,8.4217471202384697]
["CDICA201902Western Isles",1,6661.6986301369898,15.011186418372001,0.196198224452826,83.520084566189098]
["CDICA201903Ayrshire & Arran",7,93098.958904109604,7.5188810727839499,3.0122559194962499,15.49256149378]
["CDICA201903Borders",0,29114.849315068499,0,0,12.598717076502201]
["CDICA201903Dumfries & Galloway",5,37520.876712328798,13.3259146323654,4.2944355316330398,31.098158125142302]
["CDICA201903Fife",3,94155.068493150698,3.1862331449721499,0.64038099764685796,9.30962725716312]
["CDICA201903Forth Valley",2,77290.082191780806,2.5876541249333598,0.29061083737355298,9.3427006851764691]
["CDICA201903Grampian",5,147628.49315068501,3.38688006176185,1.09146264852125,7.9038275883706497]
["CDICA201903Greater Glasgow & Clyde",15,298211.06849315099,5.0299943847807,2.8131649737588802,8.2967490483605797]
["CDICA201903Highland",5,81086.027397260303,6.1662904947899104,1.98716093639694,14.3900274122123]
["CDICA201903Lanarkshire",8,166835.06849315099,4.7951549229162396,2.06469334940881,9.4489471754126004]
["CDICA201903Lothian",18,228759.89041095899,7.8685122499681404,4.6609512570259204,12.436378304619399]
["CDICA201903Orkney",0,5613.2602739725999,0,0,65.347005366267098]
["CDICA201903Shetland",0,5777.0958904109602,0,0,63.493796226298798]
["CDICA201903Tayside",4,105225.315068493,3.8013666173356899,1.0226820312909399,9.7323373323926496]
["CDICA201903Western Isles",0,6734.9041095890398,0,0,54.463989876750297]
["CDICA201904Ayrshire & Arran",6,93098.958904109604,6.4447552052433803,2.3533461238168201,14.0279713354574]
["CDICA201904Borders",2,29114.849315068499,6.8693469039006603,0.77147352759264298,24.801711869989699]
["CDICA201904Dumfries & Galloway",2,37520.876712328798,5.3303658529461604,0.59863567897505099,19.245235376209301]
["CDICA201904Fife",4,94155.068493150698,4.2483108599628698,1.14292348441448,10.876613214172]
["CDICA201904Forth Valley",0,77290.082191780806,0,0,4.7458838035049897]
["CDICA201904Grampian",8,147628.49315068501,5.4190080988189502,2.3333114699909401,10.678262140013]
["CDICA201904Greater Glasgow & Clyde",10,298211.06849315099,3.3533295898538,1.60536637346295,6.1673186602303902]
["CDICA201904Highland",3,81086.027397260303,3.6997742968739402,0.74359440991912995,10.810106502683499]
["CDICA201904Lanarkshire",12,166835.06849315099,7.1927323843743602,3.7123067852643401,12.565126031024]
["CDICA201904Lothian",11,228759.89041095899,4.8085352638694197,2.3971051433621802,8.6043976520767202]
["CDICA201904Orkney",0,5613.2602739725999,0,0,65.347005366267098]
["CDICA201904Shetland",0,5777.0958904109602,0,0,63.493796226298798]
["CDICA201904Tayside",4,105225.315068493,3.8013666173356899,1.0226820312909399,9.7323373323926496]
["CDICA201904Western Isles",1,6734.9041095890398,14.8480213486071,0.19406563505659999,82.612257560034905]
["CDICA202001Ayrshire & Arran",9,91494.781420764994,9.8366265925166996,4.4885849441355203,18.6742273115673]
["CDICA202001Borders",3,28652.5683060109,10.4702655900157,2.1043529519307702,30.592321870846298]
["CDICA202001Dumfries & Galloway",2,36869.918032786903,5.4244763935235296,0.60920492110804803,19.585020590725598]
["CDICA202001Fife",1,93021.393442622997,1.07502152245958,1.4050675814471499E-2,5.9812653020156503]
["CDICA202001Forth Valley",1,76064.562841530103,1.31467264471546,1.7182948198830501E-2,7.3146497154352801]
["CDICA202001Grampian",10,145587.568306011,6.8687183365690698,3.28831662705637,12.6326904749127]
["CDICA202001Greater Glasgow & Clyde",7,294690.81967213098,2.3753709083262602,0.95163429376542197,4.8944223896541601]
["CDICA202001Highland",3,79776.666666666701,3.760498057076,0.75579889727763505,10.9875309243793]
["CDICA202001Lanarkshire",3,164585.683060109,1.8227587869258099,0.36634484588268501,5.3257888277181804]
["CDICA202001Lothian",6,226875.92896174901,2.6446172705309801,0.965699953586999,5.7564040964784997]
["CDICA202001Orkney",0,5569.3989071038204,0,0,65.861640612180295]
["CDICA202001Shetland",0,5686.2568306010899,0,0,64.508121981322205]
["CDICA202001Tayside",0,103568.442622951,0,0,3.5417134790849598]
["CDICA202001Western Isles",1,6588.7978142076499,15.177275554634001,0.19836903179125401,84.444180658230806]
["CDICA202002Ayrshire & Arran",8,91494.781420764994,8.7436680822370594,3.7648404752382301,17.2295700882493]
["CDICA202002Borders",0,28652.5683060109,0,0,12.801984985359599]
["CDICA202002Dumfries & Galloway",2,36869.918032786903,5.4244763935235296,0.60920492110804803,19.585020590725598]
["CDICA202002Fife",1,93021.393442622997,1.07502152245958,1.4050675814471499E-2,5.9812653020156503]
["CDICA202002Forth Valley",2,76064.562841530103,2.6293452894309302,0.29529303354072001,9.4932262393315394]
["CDICA202002Grampian",10,145587.568306011,6.8687183365690698,3.28831662705637,12.6326904749127]
["CDICA202002Greater Glasgow & Clyde",13,294690.81967213098,4.4114031154630498,2.3465799514753201,7.5441476107017102]
["CDICA202002Highland",9,79776.666666666701,11.281494171227999,5.1478974430980102,21.417219062468501]
["CDICA202002Lanarkshire",13,164585.683060109,7.8986214100118302,4.2015536009526402,13.5078033629043]
["CDICA202002Lothian",19,226875.92896174901,8.3746213566814305,5.0397010865510703,13.0787589138521]
["CDICA202002Orkney",0,5569.3989071038204,0,0,65.861640612180295]
["CDICA202002Shetland",0,5686.2568306010899,0,0,64.508121981322205]
["CDICA202002Tayside",2,103568.442622951,1.93109015579307,0.216874319412105,6.9721826993126896]
["CDICA202002Western Isles",1,6588.7978142076499,15.177275554634001,0.19836903179125401,84.444180658230806]
["CDICA202003Ayrshire & Arran",7,92500.218579235006,7.5675496853057203,3.0317538095071699,15.5928425681861]
["CDICA202003Borders",4,28967.4316939891,13.808611140455501,3.7149319999883201,35.3530914639692]
["CDICA202003Dumfries & Galloway",6,37275.081967213097,16.096544080781801,5.8777623684659197,35.0365299804442]
["CDICA202003Fife",6,94043.606557377003,6.3800190354666304,2.3297072718568699,13.8870634025608]
["CDICA202003Forth Valley",1,76900.437158469897,1.3003827246642099,1.6996177022756302E-2,7.2351426533109899]
["CDICA202003Grampian",10,147187.431693989,6.7940583546498496,3.2525740550231399,12.495378621924599]
["CDICA202003Greater Glasgow & Clyde",10,297929.18032786902,3.35650237046102,1.6068853041736699,6.1731539199385104]
["CDICA202003Highland",8,80653.333333333299,9.9189948751859802,4.27091159322993,19.545574671823299]
["CDICA202003Lanarkshire",8,166394.316939891,4.8078565104419804,2.0701623871589798,9.4739759036818398]
["CDICA202003Lothian",21,229369.07103825099,9.1555500072186593,5.6652261804226098,13.995983616615]
["CDICA202003Orkney",2,5630.6010928961796,35.5201863354037,3.9891541126510202,128.245296006057]
["CDICA202003Shetland",1,5748.7431693989101,17.3951065569096,0.227356381135629,96.783873717858796]
["CDICA202003Tayside",6,104706.557377049,5.7303001362120503,2.0924580041287002,12.472853272836501]
["CDICA202003Western Isles",0,6661.2021857923501,0,0,55.0665989433422]
["CDICA202004Ayrshire & Arran",8,92500.218579235006,8.6486282117779698,3.7239182961595598,17.0422921525075]
["CDICA202004Borders",0,28967.4316939891,0,0,12.6628329746492]
["CDICA202004Dumfries & Galloway",3,37275.081967213097,8.0482720403908896,1.6175716728989999,23.515671751303]
["CDICA202004Fife",2,94043.606557377003,2.1266730118222101,0.238839580154981,7.6783327467342097]
["CDICA202004Forth Valley",1,76900.437158469897,1.3003827246642099,1.6996177022756302E-2,7.2351426533109899]
["CDICA202004Grampian",11,147187.431693989,7.4734641901148304,3.7256000976982402,13.373024050271299]
["CDICA202004Greater Glasgow & Clyde",9,297929.18032786902,3.0208521334149201,1.37845543662512,5.7349009727520803]
["CDICA202004Highland",3,80653.333333333299,3.7196230781947399,0.747583691872443,10.8681012404186]
["CDICA202004Lanarkshire",4,166394.316939891,2.4039282552209902,0.64672905262954605,6.1545867730796502]
["CDICA202004Lothian",8,229369.07103825099,3.4878285741785402,1.5017859853847799,6.8728348685478498]
["CDICA202004Orkney",1,5630.6010928961796,17.7600931677019,0.23212680520410001,98.814606782474598]
["CDICA202004Shetland",1,5748.7431693989101,17.3951065569096,0.227356381135629,96.783873717858796]
["CDICA202004Tayside",5,104706.557377049,4.7752501135100403,1.5388815196283601,11.1438116792648]
["CDICA202004Western Isles",0,6661.2021857923501,0,0,55.0665989433422]
["ECBCOM201603Ayrshire & Arran",47,93146.229508196702,50.458295787339502,37.071448723671502,67.100668347104204]
["ECBCOM201603Borders",19,28788.961748633901,65.997517263371293,39.716154951474202,103.069211184309]
["ECBCOM201603Dumfries & Galloway",30,37584.262295082,79.820643450345401,53.843779630185502,113.953602038455]
["ECBCOM201603Fife",42,93088.415300546403,45.118396166051703,32.5137445726631,60.988816696307197]
["ECBCOM201603Forth Valley",38,76535.956284152999,49.6498663437593,35.1305366747861,68.150590895275599]
["ECBCOM201603Grampian",56,147828.41530054601,37.881756282205799,28.613513291164299,49.193743621581298]
["ECBCOM201603Greater Glasgow & Clyde",189,291929.07103825099,64.741753648520799,55.839757653126199,74.659239321669304]
["ECBCOM201603Highland",41,80914.754098360703,50.670610640625597,36.357876637106799,68.742540030894801]
["ECBCOM201603Lanarkshire",117,165019.344262295,70.900778646914702,58.635625789504402,84.973645574080507]
["ECBCOM201603Lothian",91,221202.18579235001,41.138833992094902,33.121387000661798,50.510082912765299]
["ECBCOM201603Orkney",2,5492.3497267759603,36.414287135608397,4.0895676029008197,131.473438468452]
["ECBCOM201603Shetland",1,5831.6939890710401,17.147676161919001,0.22412243261085499,95.407206548596207]
["ECBCOM201603Tayside",44,104435.081967213,42.1314362675692,30.609614761799399,56.5611308590967]
["ECBCOM201603Western Isles",2,6761.7486338797798,29.5781477291094,3.3218234990105202,106.79162195299899]
["ECBCOM201604Ayrshire & Arran",51,93146.229508196702,54.7526188330705,40.763657344398403,71.991398154018299]
["ECBCOM201604Borders",11,28788.961748633901,38.209088941951798,19.047630640069901,68.371380709302102]
["ECBCOM201604Dumfries & Galloway",23,37584.262295082,61.195826645264802,38.780176478912303,91.828422228717599]
["ECBCOM201604Fife",38,93088.415300546403,40.821406054999102,28.8838220147946,56.032435708134599]
["ECBCOM201604Forth Valley",40,76535.956284152999,52.263017203957098,37.3329337399134,71.169657584306407]
["ECBCOM201604Grampian",41,147828.41530054601,27.734857278043499,19.900697992662199,37.626634306997197]
["ECBCOM201604Greater Glasgow & Clyde",197,291929.07103825099,67.482145337347106,58.386754252430201,77.592541893190599]
["ECBCOM201604Highland",36,80914.754098360703,44.491267879573698,31.156589073760099,61.596823121567802]
["ECBCOM201604Lanarkshire",79,165019.344262295,47.873175325694604,37.900162943379399,59.665231154415899]
["ECBCOM201604Lothian",70,221202.18579235001,31.6452569169961,24.667860083821701,39.982614161327902]
["ECBCOM201604Orkney",1,5492.3497267759603,18.207143567804199,0.23796981403074799,101.30193098066]
["ECBCOM201604Shetland",3,5831.6939890710401,51.443028485757097,10.3392113523359,150.307713965548]
["ECBCOM201604Tayside",40,104435.081967213,38.301305697790099,27.3596930347049,52.157164996918198]
["ECBCOM201604Western Isles",1,6761.7486338797798,14.7890738645547,0.19329518351568201,82.284282227785496]
["ECBCOM201701Ayrshire & Arran",48,91333.972602739697,52.554376681695103,38.746011013734602,69.681342997112296]
["ECBCOM201701Borders",21,28361.095890411001,74.045093606908907,45.817258657640899,113.191879919385]
["ECBCOM201701Dumfries & Galloway",21,36789.041095890403,57.082216264521897,35.321052887411902,87.260925122839893]
["ECBCOM201701Fife",28,91580.547945205501,30.574178281563601,20.311673106271101,44.190117511886697]
["ECBCOM201701Forth Valley",35,75348.493150684895,46.4508293881944,32.3497419071604,64.604176539689206]
["ECBCOM201701Grampian",57,144586.849315069,39.422672442216097,29.856363113080501,51.077799850675902]
["ECBCOM201701Greater Glasgow & Clyde",143,288273.69863013702,49.605635435882398,41.807963017643601,58.4352394566965]
["ECBCOM201701Highland",35,79394.794520547905,44.083494656493798,30.701059449020399,61.311668893438402]
["ECBCOM201701Lanarkshire",90,162278.630136986,55.460167444122,44.595104933234602,68.1709319954183]
["ECBCOM201701Lothian",52,219316.438356164,23.7100330416425,17.706414741417799,31.093323506546302]
["ECBCOM201701Orkney",0,5424.6575342465803,0,0,67.618968926577196]
["ECBCOM201701Shetland",1,5690.9589041095896,17.571731176583899,0.22966488865854801,97.766587725967696]
["ECBCOM201701Tayside",40,102597.534246575,38.9872917451086,27.849712038986599,53.091312979701897]
["ECBCOM201701Western Isles",0,6645.20547945206,0,0,55.199158307409903]
["ECBCOM201702Ayrshire & Arran",53,92348.794520547905,57.391111898279597,42.986655169498398,75.070811279501001]
["ECBCOM201702Borders",19,28676.2191780822,66.256991139620197,39.8723018052087,103.47443502994599]
["ECBCOM201702Dumfries & Galloway",27,37197.8082191781,72.5849217806322,47.8222336898476,105.611968536695]
["ECBCOM201702Fife",28,92598.109589041094,30.2381983004476,20.088467907300998,43.704511824942898]
["ECBCOM201702Forth Valley",36,76185.698630137005,47.252963019701703,33.090564092428203,65.420307035818198]
["ECBCOM201702Grampian",51,146193.369863014,34.885302970844798,25.9723199906581,45.868887907526599]
["ECBCOM201702Greater Glasgow & Clyde",171,291476.73972602701,58.666773945917903,50.202369468797301,68.149455412669894]
["ECBCOM201702Highland",47,80276.958904109604,58.547310014746898,43.014405604740404,77.857636105505193]
["ECBCOM201702Lanarkshire",109,164081.726027397,66.430310455047206,54.544903979507701,80.135662563706205]
["ECBCOM201702Lothian",77,221753.287671233,34.7232732414586,27.401948970435999,43.398858690562697]
["ECBCOM201702Orkney",3,5484.9315068493197,54.695304695304699,10.9928659309343,159.81030774027101]
["ECBCOM201702Shetland",2,5754.1917808219196,34.757270459176901,3.9034735653554802,125.490795467952]
["ECBCOM201702Tayside",28,103737.506849315,26.9912019773829,17.931355873610698,39.011494476921001]
["ECBCOM201702Western Isles",6,6719.0410958904104,89.298456645395405,32.607937790762001,194.371415240571]
["ECBCOM201703Ayrshire & Arran",57,93363.616438356199,61.051619650610398,46.236827997951004,79.101243418853699]
["ECBCOM201703Borders",14,28991.342465753401,48.2902784392884,26.378359883740799,81.028279098051996]
["ECBCOM201703Dumfries & Galloway",19,37606.575342465803,50.523079613008498,30.4039082338264,78.902573585217894]
["ECBCOM201703Fife",48,93615.671232876703,51.273466683367602,37.801652883423401,67.982996739816201]
["ECBCOM201703Forth Valley",52,77022.904109588999,67.512385570419198,50.417572046097199,88.535703073584301]
["ECBCOM201703Grampian",51,147799.89041095899,34.506114895074703,25.690012164672702,45.370313038966501]
["ECBCOM201703Greater Glasgow & Clyde",176,294679.78082191799,59.725848685343301,51.227153530792997,69.231401620255994]
["ECBCOM201703Highland",35,81159.123287671202,43.1251578161353,30.033645113172199,59.9788065261897]
["ECBCOM201703Lanarkshire",90,165884.821917808,54.254511630119303,43.625646130338197,66.688955212909207]
["ECBCOM201703Lothian",85,224190.13698630099,37.914245980051199,30.283499215837001,46.882260028146]
["ECBCOM201703Orkney",2,5545.20547945205,36.0671936758893,4.0505866896466403,130.22026082284199]
["ECBCOM201703Shetland",3,5817.4246575342504,51.569211061713503,10.3645719961432,150.67639782986501]
["ECBCOM201703Tayside",41,104877.47945205501,39.093235472676803,28.0507184478525,53.0360354935817]
["ECBCOM201703Western Isles",4,6792.8767123287698,58.885214164717297,15.841894901782201,150.75914160126001]
["ECBCOM201704Ayrshire & Arran",50,93363.616438356199,53.554052325096897,39.745559425212903,70.606157302914696]
["ECBCOM201704Borders",9,28991.342465753401,31.043750425256899,14.1656806281855,58.934640508346099]
["ECBCOM201704Dumfries & Galloway",21,37606.575342465803,55.841298519641001,34.553203911598601,85.363948489734696]
["ECBCOM201704Fife",43,93615.671232876703,45.932480570516802,33.238003897064601,61.8725879068976]
["ECBCOM201704Forth Valley",46,77022.904109588999,59.722494927678497,43.720201498017303,79.663658843060006]
["ECBCOM201704Grampian",46,147799.89041095899,31.123162454381099,22.783892993901802,41.515094084488403]
["ECBCOM201704Greater Glasgow & Clyde",178,294679.78082191799,60.404551511313102,51.855841777087903,69.959982738386799]
["ECBCOM201704Highland",36,81159.123287671202,44.357305182310597,31.062776941430201,61.411355793674502]
["ECBCOM201704Lanarkshire",88,165884.821917808,53.048855816116699,42.5453314603728,65.358626205065903]
["ECBCOM201704Lothian",83,224190.13698630099,37.022146074638201,29.486867333152102,45.895230193298303]
["ECBCOM201704Orkney",5,5545.20547945205,90.167984189723299,29.057712419949802,210.42144629584899]
["ECBCOM201704Shetland",1,5817.4246575342504,17.189737020571201,0.22467217368771,95.641227123229299]
["ECBCOM201704Tayside",46,104877.47945205501,43.860703213247099,32.108484159110098,58.505661922329999]
["ECBCOM201704Western Isles",4,6792.8767123287698,58.885214164717297,15.841894901782201,150.75914160126001]
["ECBCOM201801Ayrshire & Arran",50,91151.506849315105,54.853728400405203,40.710124204944499,72.319662246648903]
["ECBCOM201801Borders",15,28422.739726027401,52.774645036291602,29.515695557804602,87.049398565384195]
["ECBCOM201801Dumfries & Galloway",18,36687.945205479497,49.0624369917333,29.062371653586698,77.544395635682903]
["ECBCOM201801Fife",29,91703.835616438402,31.623540940311099,21.174236186241,45.418594554541201]
["ECBCOM201801Forth Valley",35,75469.315068493204,46.3764643527443,32.297951880256399,64.500749067200999]
["ECBCOM201801Grampian",53,144135.616438356,36.770925403206597,27.541879540033399,48.098444344645699]
["ECBCOM201801Greater Glasgow & Clyde",129,289721.095890411,44.525580577258097,37.173282722566697,52.906089716827097]
["ECBCOM201801Highland",35,79347.945205479497,44.109522823009499,30.719186239869799,61.347869070845903]
["ECBCOM201801Lanarkshire",104,162542.465753425,63.983279395900801,52.277644688671501,77.527403178203201]
["ECBCOM201801Lothian",65,221367.94520547899,29.3628781437463,22.660436840756301,37.426140875312797]
["ECBCOM201801Orkney",1,5471.5068493150702,18.2765009263432,0.23887632403061199,101.68782535896101]
["ECBCOM201801Shetland",0,5668.7671232876701,0,0,64.707147298159896]
["ECBCOM201801Tayside",38,102595.068493151,37.038817321455298,26.207392408532399,50.840364182302103]
["ECBCOM201801Western Isles",6,6615.61643835616,90.694496210709403,33.117711117304097,197.41010365955901]
["ECBCOM201802Ayrshire & Arran",51,92164.301369862995,55.3359589797494,41.197957627403099,72.758402064585894]
["ECBCOM201802Borders",24,28738.547945205501,83.5115262112746,53.491184815843297,124.264611091004]
["ECBCOM201802Dumfries & Galloway",19,37095.589041095896,51.219027628732597,30.822717612978799,79.989444970390096]
["ECBCOM201802Fife",31,92722.767123287704,33.432997053227801,22.711775273264202,47.457362507542598]
["ECBCOM201802Forth Valley",48,76307.863013698603,62.903085087552697,46.375654731133103,83.402596021826298]
["ECBCOM201802Grampian",50,145737.12328767101,34.308348396108201,25.462209501547001,45.232443456452003]
["ECBCOM201802Greater Glasgow & Clyde",138,292940.21917808201,47.108587679491002,39.576325114146798,55.656825630514]
["ECBCOM201802Highland",42,80229.589041095896,52.349763350384798,37.724896686253899,70.763821243140697]
["ECBCOM201802Lanarkshire",76,164348.49315068501,46.243198549023802,36.432866714735397,57.881238436539803]
["ECBCOM201802Lothian",73,223827.58904109601,32.614388741236397,25.563341232401701,41.008420511674103]
["ECBCOM201802Orkney",2,5532.3013698630102,36.151320513645899,4.0600346952863697,130.52399997297599]
["ECBCOM201802Shetland",3,5731.7534246575296,52.340004493114499,10.519488929123799,152.92852415336901]
["ECBCOM201802Tayside",35,103735.01369863001,33.739813349503798,23.497411525866401,46.925596092832897]
["ECBCOM201802Western Isles",6,6689.1232876712302,89.697853395207105,32.753780225905203,195.24076186110301]
["ECBCOM201803Ayrshire & Arran",67,93177.095890411001,71.906083098791996,55.723388682089002,91.319940458460593]
["ECBCOM201803Borders",17,29054.3561643836,58.511019496758102,34.065024591078199,93.687537123892895]
["ECBCOM201803Dumfries & Galloway",19,37503.232876712304,50.662299067550698,30.487688073707201,79.1199944815815]
["ECBCOM201803Fife",39,93741.698630137005,41.603683920724201,29.580533525078401,56.875455635479199]
["ECBCOM201803Forth Valley",40,77146.410958904104,51.849463251515402,37.037520594435499,70.606496581315398]
["ECBCOM201803Grampian",57,147338.630136986,38.6863919849159,29.298748539425301,50.1238415443976]
["ECBCOM201803Greater Glasgow & Clyde",151,296159.34246575303,50.986066737861201,43.177553129510898,59.798321111172598]
["ECBCOM201803Highland",43,81111.232876712296,53.013619045045502,38.362110091388303,71.411118317280398]
["ECBCOM201803Lanarkshire",100,166154.52054794499,60.184940903334699,48.967546195986898,73.201948927239201]
["ECBCOM201803Lothian",77,226287.23287671199,34.027549420762803,26.852916956672299,42.529308761554702]
["ECBCOM201803Orkney",1,5593.0958904109602,17.879185688814001,0.23368336046473001,99.477220459852703]
["ECBCOM201803Shetland",0,5794.7397260274001,0,0,63.3004701829826]
["ECBCOM201803Tayside",53,104874.95890411,50.536372603930701,37.852370354713003,66.104425668288002]
["ECBCOM201803Western Isles",3,6762.6301369863004,44.3614383639339,8.9159270097273193,129.61652112982799]
["ECBCOM201804Ayrshire & Arran",49,93177.095890411001,52.588030922997099,38.9015820864131,69.525989034887601]
["ECBCOM201804Borders",11,29054.3561643836,37.860071439078801,18.873641762927502,67.746848452084606]
["ECBCOM201804Dumfries & Galloway",23,37503.232876712304,61.328046239666598,38.863964859361801,92.026826554751494]
["ECBCOM201804Fife",46,93741.698630137005,49.0710118039311,35.922721017891803,65.455677097314606]
["ECBCOM201804Forth Valley",37,77146.410958904104,47.960753507651702,33.764099745044497,66.109837247204496]
["ECBCOM201804Grampian",51,147338.630136986,34.614140197029997,25.770437658234201,45.512349944041098]
["ECBCOM201804Greater Glasgow & Clyde",150,296159.34246575303,50.648410666749598,42.866883004467198,59.433765285563702]
["ECBCOM201804Highland",26,81111.232876712296,32.0547463993299,20.933743662778099,46.969792255167398]
["ECBCOM201804Lanarkshire",88,166154.52054794499,52.962747994934603,42.476272745775397,65.252537415564305]
["ECBCOM201804Lothian",71,226287.23287671199,31.376052063300801,24.503820943340301,39.577338323503199]
["ECBCOM201804Orkney",3,5593.0958904109602,53.637557066442,10.780275875213301,156.719750424213]
["ECBCOM201804Shetland",1,5794.7397260274001,17.257030466932701,0.22555170807796199,96.015638190697302]
["ECBCOM201804Tayside",42,104874.95890411,40.047691497454501,28.859634267159201,54.134488886958501]
["ECBCOM201804Western Isles",5,6762.6301369863004,73.935730606556604,23.826674365967001,172.54088030222499]
["ECBCOM201901Ayrshire & Arran",43,91075.068493150698,47.213799244338603,34.165201264698297,63.598567024465098]
["ECBCOM201901Borders",16,28481.917808219201,56.175992458565403,32.088463290770399,91.232042064082407]
["ECBCOM201901Dumfries & Galloway",18,36705.205479452103,49.039365847104698,29.0487053495712,77.5079311207393]
["ECBCOM201901Fife",25,92108.219178082203,27.141986049762799,17.559921754960001,40.068826617535898]
["ECBCOM201901Forth Valley",38,75609.863013698603,50.257993448705697,35.560826484940598,68.985320665836994]
["ECBCOM201901Grampian",56,144419.178082192,38.776013507104501,29.288979359837001,50.355037737030798]
["ECBCOM201901Greater Glasgow & Clyde",151,291728.21917808201,51.760505180276603,43.833386362634101,60.706610799382702]
["ECBCOM201901Highland",43,79323.287671232902,54.208544883086397,39.226791231361403,73.020723394953094]
["ECBCOM201901Lanarkshire",80,163208.21917808201,49.017139212032703,38.866054403428201,61.007052741659301]
["ECBCOM201901Lothian",78,223786.849315069,34.854595003562601,27.550012524931901,43.5008290605723]
["ECBCOM201901Orkney",6,5491.2328767123299,109.26508007783301,39.898885912764698,237.831750390031]
["ECBCOM201901Shetland",1,5651.5068493150702,17.694395966647299,0.231268133954594,98.449076994560897]
["ECBCOM201901Tayside",38,102937.808219178,36.915493595015498,26.120132784013599,50.671087093616897]
["ECBCOM201901Western Isles",5,6588.4931506849298,75.889886892880895,24.4564246249078,177.10121727494999]
["ECBCOM201902Ayrshire & Arran",57,92087.013698630093,61.8979785646452,46.877809379881803,80.197824359079704]
["ECBCOM201902Borders",19,28798.383561643801,65.975925208892093,39.703161229634702,103.03549058215199]
["ECBCOM201902Dumfries & Galloway",20,37113.041095890403,53.889413018796297,32.903024257227301,83.232451246614204]
["ECBCOM201902Fife",33,93131.6438356164,35.433713656173801,24.386785528432402,49.7639880377438]
["ECBCOM201902Forth Valley",41,76449.972602739697,53.629842633234198,38.4812256626577,72.757197070561503]
["ECBCOM201902Grampian",49,146023.83561643801,33.5561655349943,24.822909417853701,44.364193830627698]
["ECBCOM201902Greater Glasgow & Clyde",134,294969.64383561601,45.428403498590797,38.0619824303106,53.804212045678803]
["ECBCOM201902Highland",41,80204.657534246595,51.119225816148401,36.679773196137198,69.3511560762107]
["ECBCOM201902Lanarkshire",80,165021.64383561601,48.478489330581802,38.438954904489499,60.336645568674101]
["ECBCOM201902Lothian",69,226273.369863014,30.494087767275801,23.725068483511699,38.592940395607798]
["ECBCOM201902Orkney",5,5552.2465753424704,90.053637426785201,29.0208628066034,210.15459979314801]
["ECBCOM201902Shetland",3,5714.3013698630102,52.499856164777597,10.551616513113199,153.39558334581]
["ECBCOM201902Tayside",47,104081.561643836,45.156893553185498,33.176535944308299,60.050734782407403]
["ECBCOM201902Western Isles",6,6661.6986301369898,90.067118510232305,32.888619890008897,196.04452248253699]
["ECBCOM201903Ayrshire & Arran",55,93098.958904109604,59.076922714730998,44.501684430094002,76.898536758724205]
["ECBCOM201903Borders",24,29114.849315068499,82.432162846807898,52.799826055783299,122.658525382883]
["ECBCOM201903Dumfries & Galloway",29,37520.876712328798,77.2903048677193,51.751420666795298,111.00645011289799]
["ECBCOM201903Fife",40,94155.068493150698,42.4831085996287,30.346871712860001,57.851774618238998]
["ECBCOM201903Forth Valley",40,77290.082191780806,51.753082498667197,36.968673129203196,70.475249180286994]
["ECBCOM201903Grampian",50,147628.49315068501,33.868800617618497,25.1359956747364,44.652939604870497]
["ECBCOM201903Greater Glasgow & Clyde",132,298211.06849315099,44.263950586070102,37.034620888433203,52.491901675631297]
["ECBCOM201903Highland",26,81086.027397260303,32.064710572907501,20.940250888038602,46.984392750117699]
["ECBCOM201903Lanarkshire",88,166835.06849315099,52.746704152078699,42.3030049766055,64.986361481099905]
["ECBCOM201903Lothian",62,228759.89041095899,27.102653305445799,20.778247417752802,34.745100967919797]
["ECBCOM201903Orkney",2,5613.2602739725999,35.629917416684599,4.0014776458116801,128.64147903468901]
["ECBCOM201903Shetland",2,5777.0958904109602,34.619470369527299,3.8879976951233099,124.99326955072]
["ECBCOM201903Tayside",51,105225.315068493,48.467424371029999,36.084291884736103,63.727319711091098]
["ECBCOM201903Western Isles",5,6734.9041095890398,74.240106743035696,23.924763220018502,173.251190812451]
["ECBCOM201904Ayrshire & Arran",41,93098.958904109604,44.039160569163101,31.599586958433399,59.745949773999399]
["ECBCOM201904Borders",12,29114.849315068499,41.216081423403999,21.272408113293,72.001185351352802]
["ECBCOM201904Dumfries & Galloway",21,37520.876712328798,55.968841455934701,34.632124302099399,85.558921904261794]
["ECBCOM201904Fife",34,94155.068493150698,36.110642309684401,25.003631834299899,50.462860350892797]
["ECBCOM201904Forth Valley",53,77290.082191780806,68.572834310733995,51.361904047707299,89.697134855404698]
["ECBCOM201904Grampian",38,147628.49315068501,25.740288469389998,18.2129422430387,35.331733963958101]
["ECBCOM201904Greater Glasgow & Clyde",125,298211.06849315099,41.9166198731725,34.890351058498602,49.942267209831897]
["ECBCOM201904Highland",43,81086.027397260303,53.030098255193202,38.374034900244901,71.433316364627998]
["ECBCOM201904Lanarkshire",73,166835.06849315099,43.755788671610702,34.296033127580799,55.017305272891498]
["ECBCOM201904Lothian",63,228759.89041095899,27.539792874888501,21.161141155883399,35.236079565859498]
["ECBCOM201904Orkney",2,5613.2602739725999,35.629917416684599,4.0014776458116801,128.64147903468901]
["ECBCOM201904Shetland",4,5777.0958904109602,69.238940739054598,18.627358970463799,177.26696623708401]
["ECBCOM201904Tayside",54,105225.315068493,51.318449334031797,38.549194969819403,66.961041720124598]
["ECBCOM201904Western Isles",5,6734.9041095890398,74.240106743035696,23.924763220018502,173.251190812451]
["ECBCOM202001Ayrshire & Arran",52,91494.781420764994,56.833842534540899,42.4429432678388,74.531867962516102]
["ECBCOM202001Borders",13,28652.5683060109,45.371150890067902,24.134505568262899,77.591335596217505]
["ECBCOM202001Dumfries & Galloway",20,36869.918032786903,54.244763935235298,33.119989318979599,83.781292404294504]
["ECBCOM202001Fife",31,93021.393442622997,33.325667196246897,22.638863724593399,47.305010269347797]
["ECBCOM202001Forth Valley",39,76064.562841530103,51.272233143903101,36.454945055078802,70.093110674158098]
["ECBCOM202001Grampian",48,145587.568306011,32.969848015531603,24.307206649372802,43.714404645067503]
["ECBCOM202001Greater Glasgow & Clyde",95,294690.81967213098,32.2371766129992,26.081037907005499,39.408807344031402]
["ECBCOM202001Highland",20,79776.666666666701,25.069987047173399,15.306872829618801,38.7207126180665]
["ECBCOM202001Lanarkshire",76,164585.683060109,46.176555935453699,36.380362097107202,57.7978238560801]
["ECBCOM202001Lothian",70,226875.92896174901,30.8538681561948,24.050962983742501,38.982723670385703]
["ECBCOM202001Orkney",3,5569.3989071038204,53.865777080062799,10.8261443830581,157.38657019626501]
["ECBCOM202001Shetland",1,5686.2568306010899,17.586261574018501,0.22985480290634999,97.847432769703403]
["ECBCOM202001Tayside",41,103568.442622951,39.587348193757997,28.405261034388701,53.706376014038497]
["ECBCOM202001Western Isles",5,6588.7978142076499,75.886377773170196,24.455293769068899,177.09302818154401]
["ECBCOM202002Ayrshire & Arran",45,91494.781420764994,49.1831329625835,35.870961414854897,65.812774287959201]
["ECBCOM202002Borders",7,28652.5683060109,24.430619710036598,9.7875306346974007,50.338989874294498]
["ECBCOM202002Dumfries & Galloway",22,36869.918032786903,59.669240328758796,37.381067781394698,90.344653999656003]
["ECBCOM202002Fife",36,93021.393442622997,38.7007748085448,27.101590829231899,53.580059507452297]
["ECBCOM202002Forth Valley",29,76064.562841530103,38.125506696748502,25.527770120391999,54.756895633997502]
["ECBCOM202002Grampian",45,145587.568306011,30.909232514560799,22.543173240632601,41.3601619165334]
["ECBCOM202002Greater Glasgow & Clyde",111,294690.81967213098,37.666595832030701,30.9854312965549,45.360817760780797]
["ECBCOM202002Highland",26,79776.666666666701,32.590983161325397,21.283939629962799,47.755539520072901]
["ECBCOM202002Lanarkshire",70,164585.683060109,42.5310383616021,33.153458234689701,53.736397247553001]
["ECBCOM202002Lothian",48,226875.92896174901,21.156938164247801,15.5980721471362,28.0517809947718]
["ECBCOM202002Orkney",1,5569.3989071038204,17.9552590266876,0.234677649217332,99.900481582281998]
["ECBCOM202002Shetland",2,5686.2568306010899,35.172523148036902,3.9501092151776298,126.990061364176]
["ECBCOM202002Tayside",41,103568.442622951,39.587348193757997,28.405261034388701,53.706376014038497]
["ECBCOM202002Western Isles",5,6588.7978142076499,75.886377773170196,24.455293769068899,177.09302818154401]
["ECBCOM202003Ayrshire & Arran",64,92500.218579235006,69.189025694223702,53.281056194607103,88.354621109441794]
["ECBCOM202003Borders",8,28967.4316939891,27.617222280910902,11.8913978983318,54.4202801909166]
["ECBCOM202003Dumfries & Galloway",23,37275.081967213097,61.703418976330198,39.101840900444898,92.590098399338203]
["ECBCOM202003Fife",44,94043.606557377003,46.786806260088603,33.991865514887301,62.810929457752501]
["ECBCOM202003Forth Valley",56,76900.437158469897,72.821432581195793,55.004763071728,94.566863739587404]
["ECBCOM202003Grampian",39,147187.431693989,26.496827583134401,18.839444557954099,36.223213899930798]
["ECBCOM202003Greater Glasgow & Clyde",106,297929.18032786902,35.578925126886801,29.128388210446499,43.032202638565998]
["ECBCOM202003Highland",32,80653.333333333299,39.6759795007439,27.133459855738799,56.012817971884203]
["ECBCOM202003Lanarkshire",112,166394.316939891,67.309991146187699,55.4215771565677,80.992330366000203]
["ECBCOM202003Lothian",83,229369.07103825099,36.186221457102299,28.8210820961725,44.8589598304536]
["ECBCOM202003Orkney",1,5630.6010928961796,17.7600931677019,0.23212680520410001,98.814606782474598]
["ECBCOM202003Shetland",1,5748.7431693989101,17.3951065569096,0.227356381135629,96.783873717858796]
["ECBCOM202003Tayside",39,104706.557377049,37.246950885378297,26.482863427943901,50.919464407885002]
["ECBCOM202003Western Isles",6,6661.2021857923501,90.073831009023806,32.891071004521201,196.059133237738]
["ECBCOM202004Ayrshire & Arran",51,92500.218579235006,55.135004850084499,41.048346057067498,72.4941778307916]
["ECBCOM202004Borders",8,28967.4316939891,27.617222280910902,11.8913978983318,54.4202801909166]
["ECBCOM202004Dumfries & Galloway",23,37275.081967213097,61.703418976330198,39.101840900444898,92.590098399338203]
["ECBCOM202004Fife",26,94043.606557377003,27.646749153688699,18.055047220855499,40.5107576925529]
["ECBCOM202004Forth Valley",46,76900.437158469897,59.817605334553598,43.789827627303701,79.790526332686895]
["ECBCOM202004Grampian",36,147187.431693989,24.458610076739401,17.128009602669898,33.862210507783601]
["ECBCOM202004Greater Glasgow & Clyde",83,297929.18032786902,27.858969674826401,22.188712161196399,34.5359186795]
["ECBCOM202004Highland",21,80653.333333333299,26.037361547363201,16.111270452452299,39.8030140569876]
["ECBCOM202004Lanarkshire",81,166394.316939891,48.679547168225099,38.657135522322399,60.505192004152399]
["ECBCOM202004Lothian",90,229369.07103825099,39.238071459508497,31.5510391467453,48.230938065460599]
["ECBCOM202004Orkney",2,5630.6010928961796,35.5201863354037,3.9891541126510202,128.245296006057]
["ECBCOM202004Shetland",2,5748.7431693989101,34.7902131138191,3.9071732454474399,125.609734610217]
["ECBCOM202004Tayside",47,104706.557377049,44.887351066994398,32.978504474957901,59.692290631863898]
["ECBCOM202004Western Isles",5,6661.2021857923501,75.061525840853193,24.189475358535599,175.168103962179]
["SABCAUN201404Ayrshire & Arran",7,93547.616438356199,7.4828202647073301,2.9978090381665501,15.4182586445616]
["SABCAUN201404Borders",2,28744.328767123301,6.9578942552575,0.78141798642779903,25.121411242568499]
["SABCAUN201404Dumfries & Galloway",2,37798.136986301397,5.2912660767509001,0.59424451301831305,19.104066004951399]
["SABCAUN201404Fife",9,92567.123287671202,9.7226744013969899,4.4365870275123198,18.4578961232674]
["SABCAUN201404Forth Valley",9,75717.260273972599,11.886325479071401,5.4238900993804897,22.565453899034502]
["SABCAUN201404Grampian",12,147255.45205479499,8.1491040450812893,4.2059084953724097,14.2358305431768]
["SABCAUN201404Greater Glasgow & Clyde",15,287995.287671233,5.2084185547936999,2.9129536787068102,8.5910516756635094]
["SABCAUN201404Highland",1,80841.534246575306,1.2369879039528,1.6167598193846399E-2,6.8824229788424303]
["SABCAUN201404Lanarkshire",17,164667.39726027401,10.3238408348252,6.0105240848210402,16.5304797248908]
["SABCAUN201404Lothian",32,216293.26027397299,14.794728212736,10.117763167745199,20.886552235161499]
["SABCAUN201404Orkney",0,5439.3424657534197,0,0,67.436413786226595]
["SABCAUN201404Shetland",0,5852.7123287671202,0,0,62.673462941721297]
["SABCAUN201404Tayside",13,104300.273972603,12.464013280938101,6.6300455692771996,21.315294375058102]
["SABCAUN201404Western Isles",0,6868.4931506849298,0,0,53.404690257129097]
["SABCAUN201501Ayrshire & Arran",9,91378.3561643836,9.8491594484470699,4.49430385477089,18.698020163548101]
["SABCAUN201501Borders",6,28116.9863013699,21.339413604607,7.7922317747721701,46.448417795194104]
["SABCAUN201501Dumfries & Galloway",1,36904.931506849302,2.7096649666302901,3.5415685376089301E-2,15.0761865752344]
["SABCAUN201501Fife",6,90759.452054794499,6.6108816923857097,2.4140083386146198,14.389570422696099]
["SABCAUN201501Forth Valley",6,74626.027397260303,8.0400903133432493,2.9358935710466598,17.500456240495598]
["SABCAUN201501Grampian",9,144941.917808219,6.2093838249804403,2.8334253096858601,11.788131217735501]
["SABCAUN201501Greater Glasgow & Clyde",26,283534.52054794499,9.1699592521410196,5.9885538943603702,13.436733384058799]
["SABCAUN201501Highland",6,79150.684931506898,7.5804776739356203,2.7680628949447699,16.500040751358199]
["SABCAUN201501Lanarkshire",12,161381.095890411,7.4358151639699104,3.8377664581466302,12.9897721318889]
["SABCAUN201501Lothian",35,213978.082191781,16.356815446467401,11.3913737404818,22.749186756162999]
["SABCAUN201501Orkney",0,5343.2876712328798,0,0,68.648699417844796]
["SABCAUN201501Shetland",1,5720.5479452054797,17.480842911877399,0.22847696682065899,97.260898479109201]
["SABCAUN201501Tayside",9,102338.630136986,8.7943330763299894,4.0129724015505603,16.695497524116501]
["SABCAUN201501Western Isles",0,6674.79452054795,0,0,54.954463109889097]
["SABCAUN201502Ayrshire & Arran",4,92393.671232876703,4.3293008564602502,1.1647122310600899,11.083965476084099]
["SABCAUN201502Borders",2,28429.397260274,7.0349715180023003,0.79007427771993699,25.399697968958499]
["SABCAUN201502Dumfries & Galloway",1,37314.9863013699,2.6798884285354498,3.5026502020308103E-2,14.910514195286799]
["SABCAUN201502Fife",11,91767.890410958906,11.986763508171901,5.9755270328584702,21.449126215353498]
["SABCAUN201502Forth Valley",10,75455.205479452095,13.2528961208955,6.3446652687696901,24.374232045606099]
["SABCAUN201502Grampian",13,146552.383561644,8.8705483214006193,4.7185555943931998,15.1699412121134]
["SABCAUN201502Greater Glasgow & Clyde",23,286684.904109589,8.0227454150177202,5.0840637359679404,12.038664951358401]
["SABCAUN201502Highland",3,80030.136986301397,3.7485878607373899,0.75340514168397299,10.9527313716073]
["SABCAUN201502Lanarkshire",23,163174.21917808201,14.095363909723201,8.9323198969459892,21.151034302919101]
["SABCAUN201502Lothian",28,216355.616438356,12.9416561774248,8.5976698149927202,18.7051080167113]
["SABCAUN201502Orkney",0,5402.6575342465803,0,0,67.894318105560799]
["SABCAUN201502Shetland",2,5784.1095890410998,34.5774914740432,3.8832831848450202,124.841705146566]
["SABCAUN201502Tayside",11,103475.726027397,10.6305125098494,5.2994217190018897,19.0222493671629]
["SABCAUN201502Western Isles",0,6748.9589041095896,0,0,54.350567910879299]
["SABCAUN201503Ayrshire & Arran",5,93408.986301369907,5.3528040480690597,1.72500518966754,12.4916263755328]
["SABCAUN201503Borders",2,28741.8082191781,6.9585044362848798,0.781486513831677,25.1236142953829]
["SABCAUN201503Dumfries & Galloway",0,37725.041095890403,0,0,9.7232431984149699]
["SABCAUN201503Fife",14,92776.328767123297,15.0900560369674,8.2428791399365995,25.320236529716201]
["SABCAUN201503Forth Valley",8,76284.383561643801,10.4870743217521,4.5155147132783497,20.664986404776499]
["SABCAUN201503Grampian",8,148162.84931506799,5.3994641956351597,2.3248962743249502,10.639750494038299]
["SABCAUN201503Greater Glasgow & Clyde",31,289835.287671233,10.695730064161101,7.2658462899386302,15.1823403127633]
["SABCAUN201503Highland",4,80909.589041095896,4.9437897873493197,1.33002824798452,12.6571927294516]
["SABCAUN201503Lanarkshire",14,164967.342465753,8.4865281762699993,4.6357300399209498,14.239900780543501]
["SABCAUN201503Lothian",17,218733.150684931,7.7720272152469496,4.5248621624954897,12.4445291591048]
["SABCAUN201503Orkney",0,5462.0273972602699,0,0,67.156336387022094]
["SABCAUN201503Shetland",1,5847.6712328767098,17.1008245877061,0.223510076237601,95.146531120867706]
["SABCAUN201503Tayside",8,104612.821917808,7.6472461533304301,3.29274414026044,15.069049092631101]
["SABCAUN201503Western Isles",1,6823.1232876712302,14.656044714990101,0.19155647464766701,81.544127151981201]
["SABCAUN201504Ayrshire & Arran",3,93408.986301369907,3.2116824288414398,0.64549588944921299,9.3839857036435994]
["SABCAUN201504Borders",4,28741.8082191781,13.9170088725698,3.7440942524162901,35.630613576725104]
["SABCAUN201504Dumfries & Galloway",4,37725.041095890403,10.603036825944599,2.85253602995276,27.146113891587898]
["SABCAUN201504Fife",7,92776.328767123297,7.5450280184836904,3.0227310541869499,15.546436952137]
["SABCAUN201504Forth Valley",2,76284.383561643801,2.62176858043801,0.29444211852709801,9.4658706033454898]
["SABCAUN201504Grampian",11,148162.84931506799,7.4242632689983497,3.7010729237056399,13.284983874437399]
["SABCAUN201504Greater Glasgow & Clyde",35,289835.287671233,12.0758242659884,8.4099639008864404,16.795150765175599]
["SABCAUN201504Highland",6,80909.589041095896,7.4156846810239703,2.7078876146198798,16.141344213285201]
["SABCAUN201504Lanarkshire",10,164967.342465753,6.0618058401928598,2.9020169349745299,11.148647119576699]
["SABCAUN201504Lothian",16,218733.150684931,7.3148491437618404,4.1783377196273399,11.8796054251881]
["SABCAUN201504Orkney",0,5462.0273972602699,0,0,67.156336387022094]
["SABCAUN201504Shetland",1,5847.6712328767098,17.1008245877061,0.223510076237601,95.146531120867706]
["SABCAUN201504Tayside",4,104612.821917808,3.8236230766652102,1.0286696887119999,9.7893187792838301]
["SABCAUN201504Western Isles",1,6823.1232876712302,14.656044714990101,0.19155647464766701,81.544127151981201]
["SABCAUN201601Ayrshire & Arran",6,92133.770491803298,6.5122701133063803,2.3779996509299499,14.174927606853601]
["SABCAUN201601Borders",2,28476.038251366099,7.0234489164027298,0.78878021261776299,25.358095725126201]
["SABCAUN201601Dumfries & Galloway",5,37175.737704918,13.4496322297285,4.33430500856291,31.3868729722506]
["SABCAUN201601Fife",6,92076.584699453597,6.5163146739038504,2.37947654969514,14.183731196488701]
["SABCAUN201601Forth Valley",5,75704.043715847001,6.6046670092912896,2.1284330165538798,15.4130492866885]
["SABCAUN201601Grampian",9,146221.58469945399,6.1550420332940297,2.8086284196436502,11.6849666865901]
["SABCAUN201601Greater Glasgow & Clyde",37,288755.92896174901,12.8135897098415,9.0206948267846307,17.662448321103401]
["SABCAUN201601Highland",9,80035.245901639297,11.2450457278043,5.1312655284014603,21.348023946516399]
["SABCAUN201601Lanarkshire",22,163225.655737705,13.478273314676001,8.4437516813706708,20.407331020440498]
["SABCAUN201601Lothian",25,218797.81420764999,11.426073926073901,7.3922727592736504,16.867939369786999]
["SABCAUN201601Orkney",0,5432.6502732240397,0,0,67.519485112715699]
["SABCAUN201601Shetland",4,5768.3060109289599,69.344448654793496,18.6557437753108,177.53708978226501]
["SABCAUN201601Tayside",8,103299.918032787,7.7444398333993201,3.3345937046788401,15.26057115261]
["SABCAUN201601Western Isles",1,6688.2513661202202,14.951591159769601,0.19541930641145799,83.188505109409505]
["SABCAUN201602Ayrshire & Arran",6,92133.770491803298,6.5122701133063803,2.3779996509299499,14.174927606853601]
["SABCAUN201602Borders",7,28476.038251366099,24.582071207409498,9.8482059752250795,50.651053812221299]
["SABCAUN201602Dumfries & Galloway",1,37175.737704918,2.68992644594571,3.5157700257278199E-2,14.966364281989801]
["SABCAUN201602Fife",10,92076.584699453597,10.860524456506401,5.1993459913397597,19.9742713460566]
["SABCAUN201602Forth Valley",4,75704.043715847001,5.2837336074330299,1.42148336701002,13.5275239193003]
["SABCAUN201602Grampian",9,146221.58469945399,6.1550420332940297,2.8086284196436502,11.6849666865901]
["SABCAUN201602Greater Glasgow & Clyde",35,288755.92896174901,12.1209632390393,8.4414000269445495,16.857930401668899]
["SABCAUN201602Highland",6,80035.245901639297,7.4966971518695704,2.7374698684330601,16.317679944068601]
["SABCAUN201602Lanarkshire",15,163225.655737705,9.1897318054609105,5.1396144122112704,15.1580484547541]
["SABCAUN201602Lothian",18,218797.81420764999,8.2267732267732292,4.8731688779859299,13.002618643045301]
["SABCAUN201602Orkney",0,5432.6502732240397,0,0,67.519485112715699]
["SABCAUN201602Shetland",0,5768.3060109289599,0,0,63.590549556587902]
["SABCAUN201602Tayside",9,103299.918032787,8.7124948125742403,3.9756285016786501,16.540132641065899]
["SABCAUN201602Western Isles",1,6688.2513661202202,14.951591159769601,0.19541930641145799,83.188505109409505]
["SABCAUN201603Ayrshire & Arran",15,93146.229508196702,16.103711421491301,9.0064507935699094,26.562346235532999]
["SABCAUN201603Borders",4,28788.961748633901,13.8942141607097,3.73796178886453,35.572254084587499]
["SABCAUN201603Dumfries & Galloway",0,37584.262295082,0,0,9.7596634028796707]
["SABCAUN201603Fife",6,93088.415300546403,6.44548516657881,2.3536126741549701,14.0295602052225]
["SABCAUN201603Forth Valley",1,76535.956284152999,1.3065754300989301,1.7077116515278001E-2,7.2695979766402701]
["SABCAUN201603Grampian",9,147828.41530054601,6.0881394024973599,2.7780998498649101,11.557956179127199]
["SABCAUN201603Greater Glasgow & Clyde",31,291929.07103825099,10.619017794201801,7.2137339461590901,15.073449027951501]
["SABCAUN201603Highland",9,80914.754098360703,11.1228169698934,5.0754909030927404,21.115980207967301]
["SABCAUN201603Lanarkshire",13,165019.344262295,7.8778642941016299,4.1905121633940201,13.4723056443099]
["SABCAUN201603Lothian",23,221202.18579235001,10.3977272727273,6.5891045308261003,15.6024837404976]
["SABCAUN201603Orkney",0,5492.3497267759603,0,0,66.785577665838403]
["SABCAUN201603Shetland",1,5831.6939890710401,17.147676161919001,0.22412243261085499,95.407206548596207]
["SABCAUN201603Tayside",13,104435.081967213,12.447924351781801,6.6214873038884603,21.287779941832198]
["SABCAUN201603Western Isles",2,6761.7486338797798,29.5781477291094,3.3218234990105202,106.79162195299899]
["SABCAUN201604Ayrshire & Arran",10,93146.229508196702,10.7358076143276,5.1396392970606701,19.744896783430299]
["SABCAUN201604Borders",2,28788.961748633901,6.9471070803548702,0.78020651465452695,25.0824642498531]
["SABCAUN201604Dumfries & Galloway",5,37584.262295082,13.3034405750576,4.2871929976002701,31.0457113095088]
["SABCAUN201604Fife",7,93088.415300546403,7.5197326943419398,3.0125971008574601,15.4943162494716]
["SABCAUN201604Forth Valley",4,76535.956284152999,5.2263017203957096,1.4060324608468699,13.380485615829601]
["SABCAUN201604Grampian",16,147828.41530054601,10.823358937773101,6.1824445062315601,17.577564626275102]
["SABCAUN201604Greater Glasgow & Clyde",28,291929.07103825099,9.5913709108919694,6.3719387251859603,13.8628029099964]
["SABCAUN201604Highland",11,80914.754098360703,13.5945540743142,6.7770274532687296,24.326108209494802]
["SABCAUN201604Lanarkshire",12,165019.344262295,7.2718747330168902,3.7531536654437998,12.703381360423499]
["SABCAUN201604Lothian",25,221202.18579235001,11.3018774703557,7.3119219684119798,16.684592202724101]
["SABCAUN201604Orkney",0,5492.3497267759603,0,0,66.785577665838403]
["SABCAUN201604Shetland",2,5831.6939890710401,34.295352323838102,3.8515970742837502,123.82304441964099]
["SABCAUN201604Tayside",13,104435.081967213,12.447924351781801,6.6214873038884603,21.287779941832198]
["SABCAUN201604Western Isles",0,6761.7486338797798,0,0,54.247764758311099]
["SABCAUN201701Ayrshire & Arran",6,91333.972602739697,6.5692970852118799,2.3988234369408801,14.2990553202829]
["SABCAUN201701Borders",2,28361.095890411001,7.0519136768484696,0.79197699529017196,25.4608674728483]
["SABCAUN201701Dumfries & Galloway",10,36789.041095890403,27.182007745010399,13.013060609694399,49.992134413378302]
["SABCAUN201701Fife",7,91580.547945205501,7.64354457039091,3.0621993026907099,15.7494290893717]
["SABCAUN201701Forth Valley",7,75348.493150684895,9.2901658776388807,3.7218778814462898,19.142271935609401]
["SABCAUN201701Grampian",17,144586.849315069,11.757639149432899,6.8452792346345301,18.826270056068001]
["SABCAUN201701Greater Glasgow & Clyde",28,288273.69863013702,9.7129915538790694,6.4527362766550098,14.038586228062201]
["SABCAUN201701Highland",10,79394.794520547905,12.5952841875697,6.0298414328594196,23.164776715041]
["SABCAUN201701Lanarkshire",15,162278.630136986,9.2433612406869994,5.16960817307847,15.246507791214301]
["SABCAUN201701Lothian",30,219316.438356164,13.6788652163322,9.2272095596093795,19.528230991638701]
["SABCAUN201701Orkney",0,5424.6575342465803,0,0,67.618968926577196]
["SABCAUN201701Shetland",1,5690.9589041095896,17.571731176583899,0.22966488865854801,97.766587725967696]
["SABCAUN201701Tayside",7,102597.534246575,6.8227760553939998,2.7333784590169401,14.0582457114651]
["SABCAUN201701Western Isles",2,6645.20547945206,30.096887239744401,3.38008140995457,108.66452603810799]
["SABCAUN201702Ayrshire & Arran",8,92348.794520547905,8.6628093431365496,3.7300243945179701,17.070236351026399]
["SABCAUN201702Borders",3,28676.2191780822,10.46163017994,2.1026173750700301,30.567090682367901]
["SABCAUN201702Dumfries & Galloway",5,37197.8082191781,13.441652181598601,4.3317333425137896,31.368250250626001]
["SABCAUN201702Fife",16,92598.109589041094,17.2789704573986,9.8699744313996707,28.061734036228302]
["SABCAUN201702Forth Valley",3,76185.698630137005,3.9377469183084699,0.79142303318461704,11.5054217235616]
["SABCAUN201702Grampian",9,146193.369863014,6.1562299360314299,2.8091704756312401,11.6872218464799]
["SABCAUN201702Greater Glasgow & Clyde",33,291476.73972602701,11.321658129914001,7.79198170757748,15.900418037224201]
["SABCAUN201702Highland",7,80276.958904109604,8.7198121298559208,3.4933795934251002,17.967065089643999]
["SABCAUN201702Lanarkshire",10,164081.726027397,6.0945238949584599,2.9176803117820902,11.208820945106099]
["SABCAUN201702Lothian",20,221753.287671233,9.0190320107684805,5.5067111034131804,13.929937256249399]
["SABCAUN201702Orkney",1,5484.9315068493197,18.2317682317682,0.23829166169906901,101.438939073117]
["SABCAUN201702Shetland",0,5754.1917808219196,0,0,63.746528307950697]
["SABCAUN201702Tayside",10,103737.506849315,9.6397149919224496,4.6148980835712203,17.729004130362899]
["SABCAUN201702Western Isles",1,6719.0410958904104,14.8830761075659,0.19452380546862799,82.807297202544405]
["SABCAUN201703Ayrshire & Arran",15,93363.616438356199,16.066215697529099,8.9854802617467406,26.500498728696201]
["SABCAUN201703Borders",7,28991.342465753401,24.1451392196442,9.6731598541569603,49.750760853265398]
["SABCAUN201703Dumfries & Galloway",3,37606.575342465803,7.9773283599487099,1.60331314792885,23.3083864739496]
["SABCAUN201703Fife",11,93615.671232876703,11.7501694482717,5.8575824183857401,21.025764575729799]
["SABCAUN201703Forth Valley",6,77022.904109588999,7.78989064274068,2.8445314624418501,16.955859324774401]
["SABCAUN201703Grampian",12,147799.89041095899,8.1190858576646399,4.1904155345790599,14.183391179669799]
["SABCAUN201703Greater Glasgow & Clyde",25,294679.78082191799,8.4837853246226302,5.4887142824816699,12.5243349034759]
["SABCAUN201703Highland",9,81159.123287671202,11.0893262955776,5.0602086582002599,21.052400233764899]
["SABCAUN201703Lanarkshire",15,165884.821917808,9.0424186050198898,5.0572253867072003,14.9150619696661]
["SABCAUN201703Lothian",13,224190.13698630099,5.7986493851842997,3.0845048699386202,9.9165425964349208]
["SABCAUN201703Orkney",0,5545.20547945205,0,0,66.148991341216799]
["SABCAUN201703Shetland",0,5817.4246575342504,0,0,63.053631261125197]
["SABCAUN201703Tayside",11,104877.47945205501,10.4884290292547,5.2285916172286004,18.768005049560902]
["SABCAUN201703Western Isles",0,6792.8767123287698,0,0,53.999176605074901]
["SABCAUN201704Ayrshire & Arran",6,93363.616438356199,6.4264862790116197,2.3466751013552098,13.988206291581101]
["SABCAUN201704Borders",2,28991.342465753401,6.8986112056126299,0.77476010408821205,24.9073703538734]
["SABCAUN201704Dumfries & Galloway",6,37606.575342465803,15.9546567198974,5.8259512352076497,34.727690968261001]
["SABCAUN201704Fife",13,93615.671232876703,13.886563893412101,7.3867501051853903,23.748064975092301]
["SABCAUN201704Forth Valley",5,77022.904109588999,6.4915755356172298,2.09198793520157,15.1491322027249]
["SABCAUN201704Grampian",17,147799.89041095899,11.502038298358199,6.6964688164902997,18.417003315718699]
["SABCAUN201704Greater Glasgow & Clyde",28,294679.78082191799,9.5018395635773505,6.3124594010755501,13.7333995709305]
["SABCAUN201704Highland",2,81159.123287671202,2.4642947323505902,0.27675675385020099,8.8973127677956292]
["SABCAUN201704Lanarkshire",10,165884.821917808,6.0282790700132596,2.8859663953496799,11.0869859348332]
["SABCAUN201704Lothian",17,224190.13698630099,7.5828491960102404,4.4147230137878299,12.141618308247899]
["SABCAUN201704Orkney",0,5545.20547945205,0,0,66.148991341216799]
["SABCAUN201704Shetland",0,5817.4246575342504,0,0,63.053631261125197]
["SABCAUN201704Tayside",25,104877.47945205501,23.837338702851699,15.4219297622922,35.190283782361199]
["SABCAUN201704Western Isles",1,6792.8767123287698,14.721303541179299,0.19240941627875099,81.907217885125505]
["SABCAUN201801Ayrshire & Arran",9,91151.506849315105,9.8736711120729304,4.5054888563841899,18.744554041196999]
["SABCAUN201801Borders",3,28422.739726027401,10.5549290072583,2.1213689206722899,30.839693868118498]
["SABCAUN201801Dumfries & Galloway",7,36687.945205479497,19.079836607896301,7.64387017280972,39.3137674446101]
["SABCAUN201801Fife",13,91703.835616438402,14.1760700766912,7.5407485922267696,24.2431630932427]
["SABCAUN201801Forth Valley",6,75469.315068493204,7.95025103189902,2.9030881474083401,17.304907639383099]
["SABCAUN201801Grampian",15,144135.616438356,10.4068656801528,5.8203305567498704,17.165655927862201]
["SABCAUN201801Greater Glasgow & Clyde",18,289721.095890411,6.2128717084546103,3.68022458113089,9.8195974626234097]
["SABCAUN201801Highland",12,79347.945205479497,15.123264967889,7.8054063679067403,26.419129778123001]
["SABCAUN201801Lanarkshire",13,162542.465753425,7.9979099244875904,4.2543686421951703,13.677601313725599]
["SABCAUN201801Lothian",24,221367.94520547899,10.841678083844799,6.9443612445742096,16.132346896097701]
["SABCAUN201801Orkney",0,5471.5068493150702,0,0,67.039987218778606]
["SABCAUN201801Shetland",1,5668.7671232876701,17.640520032864501,0.230563968257472,98.149319039379506]
["SABCAUN201801Tayside",13,102595.068493151,12.671174346813601,6.7402418019012202,21.669570241318802]
["SABCAUN201801Western Isles",1,6615.61643835616,15.115749368451601,0.197564876266839,84.101857797813395]
["SABCAUN201802Ayrshire & Arran",9,92164.301369862995,9.7651692317204795,4.4559779898305196,18.538569930854202]
["SABCAUN201802Borders",3,28738.547945205501,10.4389407764093,2.0980571742912701,30.500796133304]
["SABCAUN201802Dumfries & Galloway",5,37095.589041095896,13.4786914812454,4.3436697002692304,31.454687394269801]
["SABCAUN201802Fife",6,92722.767123287704,6.4709026554634397,2.3628940428088399,14.0848851623602]
["SABCAUN201802Forth Valley",13,76307.863013698603,17.036252211212201,9.0621797284811105,29.134494864914998]
["SABCAUN201802Grampian",9,145737.12328767101,6.1755027112994796,2.8179649020625201,11.723810018542199]
["SABCAUN201802Greater Glasgow & Clyde",16,292940.21917808201,5.4618652382018604,3.1198890224226399,8.8702859949918693]
["SABCAUN201802Highland",10,80229.589041095896,12.4642293691393,5.9671005083690103,22.923745582979102]
["SABCAUN201802Lanarkshire",13,164348.49315068501,7.9100208044382798,4.2076173384347904,13.5272980025858]
["SABCAUN201802Lothian",21,223827.58904109601,9.3822214187118291,5.8054848010114402,14.342493586973101]
["SABCAUN201802Orkney",0,5532.3013698630102,0,0,66.303284062528306]
["SABCAUN201802Shetland",0,5731.7534246575296,0,0,63.996079745432901]
["SABCAUN201802Tayside",18,103735.01369863001,17.3519040083162,10.278484194986399,27.425113629801601]
["SABCAUN201802Western Isles",0,6689.1232876712302,0,0,54.836745186265503]
["SABCAUN201803Ayrshire & Arran",17,93177.095890411001,18.244827054917401,10.622109948368999,29.213521260235201]
["SABCAUN201803Borders",3,29054.3561643836,10.3254740288397,2.0752522050055,30.169265740550699]
["SABCAUN201803Dumfries & Galloway",4,37503.232876712304,10.6657471721159,2.8694070004908201,27.306666215162]
["SABCAUN201803Fife",8,93741.698630137005,8.5340890093793096,3.6746001128598098,16.816590399305198]
["SABCAUN201803Forth Valley",6,77146.410958904104,7.7774194877273004,2.8399775355081598,16.9287139950487]
["SABCAUN201803Grampian",15,147338.630136986,10.180629469714701,5.6938016316031304,16.7924894946478]
["SABCAUN201803Greater Glasgow & Clyde",23,296159.34246575303,7.76608963556827,4.9214193700526296,11.6535358245089]
["SABCAUN201803Highland",9,81111.232876712296,11.0958737536142,5.0631963513172797,21.0648301779676]
["SABCAUN201803Lanarkshire",13,166154.52054794499,7.8240423174335199,4.1618823673648402,13.3802621547316]
["SABCAUN201803Lothian",18,226287.23287671199,7.9544920723861203,4.7118818203455,12.5722715413819]
["SABCAUN201803Orkney",0,5593.0958904109602,0,0,65.582596192283404]
["SABCAUN201803Shetland",0,5794.7397260274001,0,0,63.3004701829826]
["SABCAUN201803Tayside",15,104874.95890411,14.302746963376601,7.9992110742011402,23.591736526861101]
["SABCAUN201803Western Isles",1,6762.6301369863004,14.7871461213113,0.19326998765234199,82.273556541339204]
["SABCAUN201804Ayrshire & Arran",7,93177.095890411001,7.5125758461424503,3.0097298845595599,15.4795696522374]
["SABCAUN201804Borders",3,29054.3561643836,10.3254740288397,2.0752522050055,30.169265740550699]
["SABCAUN201804Dumfries & Galloway",3,37503.232876712304,7.9993103790869498,1.6077311759593,23.372614167036001]
["SABCAUN201804Fife",12,93741.698630137005,12.801133514069001,6.6069099006922896,22.362552552861601]
["SABCAUN201804Forth Valley",4,77146.410958904104,5.1849463251515404,1.3949066148365701,13.2746066787139]
["SABCAUN201804Grampian",13,147338.630136986,8.8232122070860903,4.6933758559009604,15.0889895002977]
["SABCAUN201804Greater Glasgow & Clyde",16,296159.34246575303,5.4024971377866198,3.0859771852223901,8.77386984287239]
["SABCAUN201804Highland",3,81111.232876712296,3.6986245845380599,0.74336333645427,10.8067472402526]
["SABCAUN201804Lanarkshire",14,166154.52054794499,8.42589172646686,4.602607636268,14.138156343837901]
["SABCAUN201804Lothian",24,226287.23287671199,10.605989429848201,6.7933968696921596,15.781643702704301]
["SABCAUN201804Orkney",1,5593.0958904109602,17.879185688814001,0.23368336046473001,99.477220459852703]
["SABCAUN201804Shetland",0,5794.7397260274001,0,0,63.3004701829826]
["SABCAUN201804Tayside",11,104874.95890411,10.4886811064762,5.2287172803611002,18.768456116784701]
["SABCAUN201804Western Isles",2,6762.6301369863004,29.574292242622601,3.3213905021329202,106.777701755591]
["SABCAUN201901Ayrshire & Arran",11,91075.068493150698,12.0779486439006,6.0209837771389401,21.6122929854224]
["SABCAUN201901Borders",3,28481.917808219201,10.532998585981,2.1169612629719898,30.77561693514]
["SABCAUN201901Dumfries & Galloway",6,36705.205479452103,16.346455282368201,5.96901914065075,35.580499000308897]
["SABCAUN201901Fife",11,92108.219178082203,11.9424738618956,5.9534481807630604,21.369874279468899]
["SABCAUN201901Forth Valley",6,75609.863013698603,7.9354726497956296,2.8976917208363902,17.272740285631301]
["SABCAUN201901Grampian",10,144419.178082192,6.9242881262686602,3.3149199982352799,12.7348923586752]
["SABCAUN201901Greater Glasgow & Clyde",31,291728.21917808201,10.62632887807,7.2187005273349998,15.0838269416308]
["SABCAUN201901Highland",10,79323.287671232902,12.6066383449038,6.0352770996779697,23.185658857556898]
["SABCAUN201901Lanarkshire",16,163208.21917808201,9.8034278424065402,5.5998464945110902,15.9211560338754]
["SABCAUN201901Lothian",23,223786.849315069,10.27763698823,6.5130025696057201,15.4222802535129]
["SABCAUN201901Orkney",0,5491.2328767123299,0,0,66.799161041073106]
["SABCAUN201901Shetland",2,5651.5068493150702,35.388791933294499,3.9743976439038202,127.770897762959]
["SABCAUN201901Tayside",13,102937.808219178,12.6289846509263,6.7177996237695101,21.597419661311999]
["SABCAUN201901Western Isles",2,6588.4931506849298,30.3559547571524,3.40917642209115,109.599886853556]
["SABCAUN201902Ayrshire & Arran",15,92087.013698630093,16.288941727538202,9.1100460203611,26.867875277488199]
["SABCAUN201902Borders",3,28798.383561643801,10.4172513487724,2.09369795238988,30.437423342446198]
["SABCAUN201902Dumfries & Galloway",6,37113.041095890403,16.1668239056389,5.9034255237205198,35.189504505800002]
["SABCAUN201902Fife",9,93131.6438356164,9.66374008804741,4.4096945080997099,18.346012973735402]
["SABCAUN201902Forth Valley",9,76449.972602739697,11.772404480466101,5.37190641632092,22.349181927794401]
["SABCAUN201902Grampian",12,146023.83561643801,8.2178364575496197,4.24138260834345,14.355900549807]
["SABCAUN201902Greater Glasgow & Clyde",18,294969.64383561601,6.1023228580196598,3.6147404353319601,9.6448722691593698]
["SABCAUN201902Highland",6,80204.657534246595,7.4808623145583004,2.7316876700685002,16.2832130579216]
["SABCAUN201902Lanarkshire",11,165021.64383561601,6.6657922829549996,3.3229672008680202,11.927775158403501]
["SABCAUN201902Lothian",31,226273.369863014,13.7002423302254,9.3068780073158308,19.447175665153701]
["SABCAUN201902Orkney",1,5552.2465753424704,18.010727485356998,0.23540262942880599,100.209100117134]
["SABCAUN201902Shetland",2,5714.3013698630102,34.999904109851798,3.9307229445202601,126.36682196336599]
["SABCAUN201902Tayside",10,104081.561643836,9.6078496921671306,4.5996429530101501,17.6703986600299]
["SABCAUN201902Western Isles",0,6661.6986301369898,0,0,55.062495260011303]
["SABCAUN201903Ayrshire & Arran",8,93098.958904109604,8.5930069403245106,3.69996894079947,16.932689342120401]
["SABCAUN201903Borders",2,29114.849315068499,6.8693469039006603,0.77147352759264298,24.801711869989699]
["SABCAUN201903Dumfries & Galloway",3,37520.876712328798,7.9955487794192397,1.60697515565621,23.3616234173941]
["SABCAUN201903Fife",11,94155.068493150698,11.6828548648979,5.82402539422473,20.905311795132601]
["SABCAUN201903Forth Valley",10,77290.082191780806,12.938270624666799,6.1940420811749402,23.795584572435999]
["SABCAUN201903Grampian",6,147628.49315068501,4.06425607411422,1.4840907022246601,8.8464597788365094]
["SABCAUN201903Greater Glasgow & Clyde",17,298211.06849315099,5.7006603027514604,3.31891556614171,9.1278673374392501]
["SABCAUN201903Highland",10,81086.027397260303,12.3325809895798,5.9040754235980204,22.681622795436098]
["SABCAUN201903Lanarkshire",12,166835.06849315099,7.1927323843743602,3.7123067852643401,12.565126031024]
["SABCAUN201903Lothian",15,228759.89041095899,6.5570935416401204,3.6672378674647002,10.815630285039701]
["SABCAUN201903Orkney",0,5613.2602739725999,0,0,65.347005366267098]
["SABCAUN201903Shetland",0,5777.0958904109602,0,0,63.493796226298798]
["SABCAUN201903Tayside",8,105225.315068493,7.6027332346713798,3.2735778091208698,14.981335510109901]
["SABCAUN201903Western Isles",0,6734.9041095890398,0,0,54.463989876750297]
["SABCAUN201904Ayrshire & Arran",9,93098.958904109604,9.6671328078650696,4.4112426517595296,18.352453842511299]
["SABCAUN201904Borders",2,29114.849315068499,6.8693469039006603,0.77147352759264298,24.801711869989699]
["SABCAUN201904Dumfries & Galloway",2,37520.876712328798,5.3303658529461604,0.59863567897505099,19.245235376209301]
["SABCAUN201904Fife",8,94155.068493150698,8.4966217199257397,3.6584674821943302,16.742760367837199]
["SABCAUN201904Forth Valley",14,77290.082191780806,18.113578874533498,9.8944656725406404,30.3935320305829]
["SABCAUN201904Grampian",13,147628.49315068501,8.8058881605807997,4.68416058829931,15.059362834896801]
["SABCAUN201904Greater Glasgow & Clyde",22,298211.06849315099,7.3773250976783604,4.6216825956268304,11.169940822449099]
["SABCAUN201904Highland",10,81086.027397260303,12.3325809895798,5.9040754235980204,22.681622795436098]
["SABCAUN201904Lanarkshire",16,166835.06849315099,9.5903098458324791,5.4781107011521497,15.5750439461825]
["SABCAUN201904Lothian",21,228759.89041095899,9.1799309582961701,5.6803125053554702,14.0332544951061]
["SABCAUN201904Orkney",0,5613.2602739725999,0,0,65.347005366267098]
["SABCAUN201904Shetland",1,5777.0958904109602,17.3097351847636,0.22624056582514601,96.308879668592098]
["SABCAUN201904Tayside",14,105225.315068493,13.3047831606749,7.2676813994487297,22.324652458519001]
["SABCAUN201904Western Isles",0,6734.9041095890398,0,0,54.463989876750297]
["SABCAUN202001Ayrshire & Arran",15,91494.781420764994,16.3943776541945,9.1690140098170492,27.0417870867728]
["SABCAUN202001Borders",3,28652.5683060109,10.4702655900157,2.1043529519307702,30.592321870846298]
["SABCAUN202001Dumfries & Galloway",8,36869.918032786903,21.697905574094101,9.3426640129672798,42.7561500895197]
["SABCAUN202001Fife",6,93021.393442622997,6.4501291347574696,2.35530845066849,14.039668494896601]
["SABCAUN202001Forth Valley",6,76064.562841530103,7.88803586829279,2.8803698579694701,17.169487052579601]
["SABCAUN202001Grampian",16,145587.568306011,10.989949338510501,6.2776031269288399,17.848114051080699]
["SABCAUN202001Greater Glasgow & Clyde",23,294690.81967213098,7.8047901273577098,4.9459441127301798,11.711608495397099]
["SABCAUN202001Highland",8,79776.666666666701,10.027994818869301,4.3178446876610304,19.7603612066785]
["SABCAUN202001Lanarkshire",19,164585.683060109,11.5441389838634,6.9470615210390099,18.028637261014101]
["SABCAUN202001Lothian",27,226875.92896174901,11.900777717389399,7.84077132178966,17.315780344155399]
["SABCAUN202001Orkney",3,5569.3989071038204,53.865777080062799,10.8261443830581,157.38657019626501]
["SABCAUN202001Shetland",2,5686.2568306010899,35.172523148036902,3.9501092151776298,126.990061364176]
["SABCAUN202001Tayside",13,103568.442622951,12.552086012655,6.6768945425197703,21.465911689132401]
["SABCAUN202001Western Isles",0,6588.7978142076499,0,0,55.671726404258102]
["SABCAUN202002Ayrshire & Arran",13,91494.781420764994,14.2084606336352,7.5579782648621201,24.2985557056118]
["SABCAUN202002Borders",5,28652.5683060109,17.450442650026101,5.6236140652579598,40.723405473888498]
["SABCAUN202002Dumfries & Galloway",4,36869.918032786903,10.8489527870471,2.9186948249188198,27.7757130146911]
["SABCAUN202002Fife",13,93021.393442622997,13.975279791974501,7.4339412014182598,23.8997821989899]
["SABCAUN202002Forth Valley",11,76064.562841530103,14.461399091870099,7.2091587647918702,25.8772415223387]
["SABCAUN202002Grampian",13,145587.568306011,8.9293338375398008,4.7498256710556097,15.270473083610501]
["SABCAUN202002Greater Glasgow & Clyde",14,294690.81967213098,4.7507418166525204,2.59507257784706,7.9714685084383401]
["SABCAUN202002Highland",9,79776.666666666701,11.281494171227999,5.1478974430980102,21.417219062468501]
["SABCAUN202002Lanarkshire",16,164585.683060109,9.7213801969376306,5.5529798038751297,15.7879074001606]
["SABCAUN202002Lothian",20,226875.92896174901,8.8153909017699306,5.3823748382025904,13.615412607954999]
["SABCAUN202002Orkney",0,5569.3989071038204,0,0,65.861640612180295]
["SABCAUN202002Shetland",0,5686.2568306010899,0,0,64.508121981322205]
["SABCAUN202002Tayside",11,103568.442622951,10.620995856861899,5.2946775679096802,19.005220259102298]
["SABCAUN202002Western Isles",3,6588.7978142076499,45.531826663902102,9.1511560068113909,133.036195184767]
["SABCAUN202003Ayrshire & Arran",15,92500.218579235006,16.2161778970837,9.0693508140581702,26.7478546184383]
["SABCAUN202003Borders",1,28967.4316939891,3.45215278511386,4.5120100976846898E-2,19.207282123632702]
["SABCAUN202003Dumfries & Galloway",3,37275.081967213097,8.0482720403908896,1.6175716728989999,23.515671751303]
["SABCAUN202003Fife",6,94043.606557377003,6.3800190354666304,2.3297072718568699,13.8870634025608]
["SABCAUN202003Forth Valley",9,76900.437158469897,11.7034445219779,5.3404390602607004,22.2182657109296]
["SABCAUN202003Grampian",18,147187.431693989,12.2293050383697,7.2440879394161799,19.3287192074168]
["SABCAUN202003Greater Glasgow & Clyde",27,297929.18032786902,9.0625564002447501,5.97082258088993,13.186132848600201]
["SABCAUN202003Highland",13,80653.333333333299,16.118366672177199,8.5739242353254994,27.5647757041483]
["SABCAUN202003Lanarkshire",16,166394.316939891,9.6157130208839607,5.4926213277460603,15.6162997110284]
["SABCAUN202003Lothian",27,229369.07103825099,11.771421437852601,7.7555455465528196,17.127565340414598]
["SABCAUN202003Orkney",2,5630.6010928961796,35.5201863354037,3.9891541126510202,128.245296006057]
["SABCAUN202003Shetland",0,5748.7431693989101,0,0,63.8069467423948]
["SABCAUN202003Tayside",12,104706.557377049,11.460600272424101,5.9150350493991102,20.020748599938699]
["SABCAUN202003Western Isles",0,6661.2021857923501,0,0,55.0665989433422]
["SABCAUN202004Ayrshire & Arran",12,92500.218579235006,12.972942317666901,6.6955837110443204,22.662688739651799]
["SABCAUN202004Borders",4,28967.4316939891,13.808611140455501,3.7149319999883201,35.3530914639692]
["SABCAUN202004Dumfries & Galloway",1,37275.081967213097,2.6827573467969601,3.5063999167656901E-2,14.9264764443147]
["SABCAUN202004Fife",12,94043.606557377003,12.7600380709333,6.58569975630716,22.2907621129138]
["SABCAUN202004Forth Valley",12,76900.437158469897,15.604592695970499,8.0538288164848097,27.259970677293701]
["SABCAUN202004Grampian",16,147187.431693989,10.870493367439799,6.20936831033179,17.654112811395098]
["SABCAUN202004Greater Glasgow & Clyde",15,297929.18032786902,5.0347535556915304,2.8158266731339401,8.3045990862939991]
["SABCAUN202004Highland",7,80653.333333333299,8.67912051578773,3.47707749286463,17.883220521931101]
["SABCAUN202004Lanarkshire",15,166394.316939891,9.0147309570787097,5.0417402955847299,14.869392442200599]
["SABCAUN202004Lothian",26,229369.07103825099,11.3354428660802,7.4027494183373701,16.6098146560673]
["SABCAUN202004Orkney",0,5630.6010928961796,0,0,65.145753214221799]
["SABCAUN202004Shetland",0,5748.7431693989101,0,0,63.8069467423948]
["SABCAUN202004Tayside",10,104706.557377049,9.5505002270200894,4.5721875835285104,17.5649236635888]
["SABCAUN202004Western Isles",1,6661.2021857923501,15.012305168170601,0.196212846663088,83.526309129336994]
["SABCAUN202101Ayrshire & Arran",9,90737.260273972599,9.9187477920595697,4.52605795141048,18.8301293307136]
["SABCAUN202101Borders",4,28415.342465753401,14.076902310154701,3.7871103995023701,36.039976058290399]
["SABCAUN202101Dumfries & Galloway",3,36564.657534246602,8.2046440533189493,1.64899990212351,23.972563977193499]
["SABCAUN202101Fife",13,92251.232876712296,14.0919525892664,7.49600355206762,24.0993098281557]
["SABCAUN202101Forth Valley",8,75434.794520547905,10.6051856452275,4.56637097715089,20.897727092883098]
["SABCAUN202101Grampian",14,144382.191780822,9.6964866839343795,5.2966647454371198,16.270140796230098]
["SABCAUN202101Greater Glasgow & Clyde",23,292250.95890411001,7.8699485148811901,4.9872353887168499,11.8093830046938]
["SABCAUN202101Highland",6,79116.164383561598,7.5837852438238897,2.76927067654825,16.507240170747298]
["SABCAUN202101Lanarkshire",25,163223.01369863001,15.3164675945509,9.9092222665498095,22.6112003489343]
["SABCAUN202101Lothian",21,224997.534246575,9.3334356175592799,5.7752973630416298,14.2679152958692]
["SABCAUN202101Orkney",0,5523.2876712328798,0,0,66.411487338602598]
["SABCAUN202101Shetland",0,5639.17808219178,0,0,65.046668840607694]
["SABCAUN202101Tayside",13,102710.95890411,12.6568772589658,6.7326366797144601,21.645120120052599]
["SABCAUN202101Western Isles",1,6534.2465753424704,15.3039832285115,0.200025118122237,85.149163951522098]
["SABCAUN202102Ayrshire & Arran",8,91745.452054794499,8.7197782787336795,3.75455402585234,17.182494760139399]
["SABCAUN202102Borders",3,28731.068493150698,10.4416583069828,2.0986033537014501,30.508736291964201]
["SABCAUN202102Dumfries & Galloway",11,36970.931506849302,29.753104808739,14.832234070096099,53.240234522538998]
["SABCAUN202102Fife",8,93276.246575342506,8.5766744414807903,3.69293650862909,16.900505831619199]
["SABCAUN202102Forth Valley",5,76272.958904109604,6.5554032147697399,2.1125571689702198,15.298084324497101]
["SABCAUN202102Grampian",19,145986.438356164,13.0149075584991,7.8321444003673601,20.325556343855101]
["SABCAUN202102Greater Glasgow & Clyde",20,295498.191780822,6.7682309253636603,4.1324492853184598,10.453564419502399]
["SABCAUN202102Highland",9,79995.232876712296,11.2506704166618,5.13383214953764,21.358702070494498]
["SABCAUN202102Lanarkshire",20,165036.60273972599,12.118523811073199,7.3991543158662898,18.717116884057901]
["SABCAUN202102Lothian",27,227497.50684931499,11.868261931276299,7.8193484493257497,17.2684694688981]
["SABCAUN202102Orkney",0,5584.6575342465803,0,0,65.681690774442103]
["SABCAUN202102Shetland",1,5701.8356164383604,17.5382116790075,0.22922678431917401,97.580090057217902]
["SABCAUN202102Tayside",17,103852.191780822,16.369418602043702,9.5302500625744404,26.210627094960898]
["SABCAUN202102Western Isles",0,6606.8493150684899,0,0,55.519617862169902]
["SABCAUN202103Ayrshire & Arran",17,92753.6438356164,18.328120920110099,10.6706035071974,29.346890959730199]
["SABCAUN202103Borders",6,29046.794520547901,20.6563240420748,7.5427969827575696,44.961571437561098]
["SABCAUN202103Dumfries & Galloway",5,37377.205479452103,13.3771370434548,4.3109425668547798,31.2176938330885]
["SABCAUN202103Fife",9,94301.260273972599,9.5438809342021305,4.3550011649798197,18.1184677819741]
["SABCAUN202103Forth Valley",7,77111.123287671202,9.0778083648007009,3.63680203453448,18.704711905803901]
["SABCAUN202103Grampian",11,147590.68493150701,7.4530448890489396,3.7154208624586298,13.336485733194101]
["SABCAUN202103Greater Glasgow & Clyde",18,298745.42465753399,6.0251968781226504,3.56905448841718,9.5229727495751497]
["SABCAUN202103Highland",10,80874.301369862995,12.364867245365,5.9195320818160004,22.741002472392299]
["SABCAUN202103Lanarkshire",18,166850.191780822,10.7881206535532,6.3903954043319597,17.050891627449499]
["SABCAUN202103Lothian",19,229997.47945205501,8.2609600962869401,4.9713017221962996,12.9012525933594]
["SABCAUN202103Orkney",0,5646.0273972602699,0,0,64.967759352980806]
["SABCAUN202103Shetland",1,5764.4931506849298,17.347578943366099,0.22673518883744401,96.519436904421994]
["SABCAUN202103Tayside",10,104993.42465753399,9.5244059641047301,4.5596952677265197,17.516932068879601]
["SABCAUN202103Western Isles",1,6679.4520547945203,14.9712879409352,0.195676745989145,83.298095169967198]
["CDICA202101Ayrshire & Arran",6,90737.260273972599,6.6124985280397102,2.41459873713218,14.3930897067474]
["CDICA202101Borders",0,28415.342465753401,0,0,12.9088625163545]
["CDICA202101Dumfries & Galloway",0,36564.657534246602,0,0,10.031811426156199]
["CDICA202101Fife",5,92251.232876712296,5.4199817651024498,1.7466540132508399,12.648396347757901]
["CDICA202101Forth Valley",0,75434.794520547905,0,0,4.8626068590353899]
["CDICA202101Grampian",6,144382.191780822,4.15563715025759,1.5174591226663301,9.0453643261651102]
["CDICA202101Greater Glasgow & Clyde",8,292250.95890411001,2.7373733964804101,1.1786556925515299,5.3940481670595997]
["CDICA202101Highland",3,79116.164383561598,3.7918926219119502,0.76210869377889001,11.0792604630618]
["CDICA202101Lanarkshire",10,163223.01369863001,6.1265870378203404,2.9330301573605699,11.2677902810986]
["CDICA202101Lothian",8,224997.534246575,3.5555945209749602,1.5309645837650501,7.0063690007843604]
["CDICA202101Orkney",0,5523.2876712328798,0,0,66.411487338602598]
["CDICA202101Shetland",0,5639.17808219178,0,0,65.046668840607694]
["CDICA202101Tayside",2,102710.95890411,1.94721188599475,0.21868489736712399,7.0303900533597696]
["CDICA202101Western Isles",1,6534.2465753424704,15.3039832285115,0.200025118122237,85.149163951522098]
["ECBCOM202101Ayrshire & Arran",47,90737.260273972599,51.797905136311101,38.055652778034499,68.882113424418407]
["ECBCOM202101Borders",10,28415.342465753401,35.192255775386599,16.847870903908401,64.724283707705993]
["ECBCOM202101Dumfries & Galloway",21,36564.657534246602,57.432508373232601,35.537804914706697,87.796412626122503]
["ECBCOM202101Fife",32,92251.232876712296,34.687883296655599,23.722219356744802,48.9708412337773]
["ECBCOM202101Forth Valley",38,75434.794520547905,50.374631814830501,35.643355778583903,69.145421269480707]
["ECBCOM202101Grampian",47,144382.191780822,32.552491010351098,23.9161466412585,43.289093875931599]
["ECBCOM202101Greater Glasgow & Clyde",91,292250.95890411001,31.1376223849647,25.0692871239632,38.230638444277801]
["ECBCOM202101Highland",30,79116.164383561598,37.918926219119498,25.578574901186101,54.133843593820004]
["ECBCOM202101Lanarkshire",58,163223.01369863001,35.534204819358003,26.980869648349302,45.937220899550901]
["ECBCOM202101Lothian",79,224997.534246575,35.111495894627801,27.797015897501101,43.760112097805496]
["ECBCOM202101Orkney",3,5523.2876712328798,54.315476190476197,10.916526584191701,158.700513936519]
["ECBCOM202101Shetland",0,5639.17808219178,0,0,65.046668840607694]
["ECBCOM202101Tayside",37,102710.95890411,36.023419890902801,25.3602842615893,49.655233746386898]
["ECBCOM202101Western Isles",0,6534.2465753424704,0,0,56.136502505082902]
["CDICA202102Ayrshire & Arran",7,91745.452054794499,7.6298059938919804,3.05669527782534,15.721120922347]
["CDICA202102Borders",1,28731.068493150698,3.4805527689942801,4.5491292583994397E-2,19.3652955537016]
["CDICA202102Dumfries & Galloway",9,36970.931506849302,24.343449388968299,11.108243195769401,46.214533322131402]
["CDICA202102Fife",4,93276.246575342506,4.2883372207403996,1.15369178015277,10.9790895297945]
["CDICA202102Forth Valley",2,76272.958904109604,2.62216128590789,0.29448622197366903,9.4672884627213492]
["CDICA202102Grampian",3,145986.438356164,2.05498540397353,0.41301861579806198,6.00431520841253]
["CDICA202102Greater Glasgow & Clyde",17,295498.191780822,5.7529962865591102,3.3493854945541699,9.2116674398484495]
["CDICA202102Highland",6,79995.232876712296,7.5004469444412099,2.73883913065211,16.325841927112702]
["CDICA202102Lanarkshire",7,165036.60273972599,4.2414833338756202,1.69924662409654,8.7395239715609403]
["CDICA202102Lothian",13,227497.50684931499,5.7143483372811898,3.0396621875266701,9.7723754159547305]
["CDICA202102Orkney",1,5584.6575342465803,17.906200941915198,0.23403645345444299,99.627529446811295]
["CDICA202102Shetland",0,5701.8356164383604,0,0,64.331870281919706]
["CDICA202102Tayside",4,103852.191780822,3.8516279063632299,1.03620383077315,9.8610173227272195]
["CDICA202102Western Isles",0,6606.8493150684899,0,0,55.519617862169902]
["ECBCOM202102Ayrshire & Arran",51,91745.452054794499,55.588586526927202,41.386040370994003,73.090569013330395]
["ECBCOM202102Borders",10,28731.068493150698,34.805527689942799,16.662729465403899,64.013027842786201]
["ECBCOM202102Dumfries & Galloway",25,36970.931506849302,67.6206927471342,43.748238300573597,99.826217892638894]
["ECBCOM202102Fife",30,93276.246575342506,32.162529155553003,21.695542122236699,45.915892048928697]
["ECBCOM202102Forth Valley",24,76272.958904109604,31.465935430894699,20.154704911980701,46.821108490373803]
["ECBCOM202102Grampian",61,145986.438356164,41.784703214128498,31.960088892458,53.675333931275198]
["ECBCOM202102Greater Glasgow & Clyde",125,295498.191780822,42.3014432835229,35.2106684868427,50.4007715846233]
["ECBCOM202102Highland",32,79995.232876712296,40.002383703686498,27.356679936218999,56.473621194255401]
["ECBCOM202102Lanarkshire",77,165036.60273972599,46.656316672631903,36.818936962587301,58.313364647895597]
["ECBCOM202102Lothian",76,227497.50684931499,33.406959510259298,26.3197906150791,41.814499202585203]
["ECBCOM202102Orkney",4,5584.6575342465803,71.624803767660893,19.269227933417699,183.37530204384001]
["ECBCOM202102Shetland",3,5701.8356164383604,52.614635037022403,10.574685198100401,153.73094754201799]
["ECBCOM202102Tayside",45,103852.191780822,43.330813946586403,31.602662570005801,57.9816881561757]
["ECBCOM202102Western Isles",8,6606.8493150684899,121.086460709102,52.137295697109501,238.60325459561099]
["CDICA202103Ayrshire & Arran",9,92753.6438356164,9.7031228400582705,4.4276653872493803,18.4207786930894]
["CDICA202103Borders",1,29046.794520547901,3.4427206736791298,4.4996822012429299E-2,19.154803210726602]
["CDICA202103Dumfries & Galloway",2,37377.205479452103,5.3508548173819204,0.60093672649690599,19.319210588053899]
["CDICA202103Fife",4,94301.260273972599,4.24172485964539,1.1411516521076399,10.8597516001228]
["CDICA202103Forth Valley",0,77111.123287671202,0,0,4.7568980142737498]
["CDICA202103Grampian",8,147590.68493150701,5.4203962829446901,2.33390919302142,10.680997584161201]
["CDICA202103Greater Glasgow & Clyde",19,298745.42465753399,6.3599300380183497,3.8272949853927498,9.9323883592475006]
["CDICA202103Highland",6,80874.301369862995,7.4189203472190197,2.7090691401015499,16.1483871235571]
["CDICA202103Lanarkshire",9,166850.191780822,5.3940603267766098,2.4613822373767298,10.2402899741223]
["CDICA202103Lothian",22,229997.47945205501,9.5653222167532999,5.9924000400421003,14.482767357292699]
["CDICA202103Orkney",1,5646.0273972602699,17.7115683229814,0.23149257896037301,98.544621518041595]
["CDICA202103Shetland",0,5764.4931506849298,0,0,63.632610822333604]
["CDICA202103Tayside",5,104993.42465753399,4.7622029820523704,1.5346769253124299,11.1133641063706]
["CDICA202103Western Isles",1,6679.4520547945203,14.9712879409352,0.195676745989145,83.298095169967198]
["ECBCOM202103Ayrshire & Arran",59,92753.6438356164,63.609360840382003,48.419354091934302,82.053234117037505]
["ECBCOM202103Borders",18,29046.794520547901,61.968972126224301,36.7076201132557,97.943493766977099]
["ECBCOM202103Dumfries & Galloway",22,37377.205479452103,58.859402991201101,36.873727915152799,89.118486653557099]
["ECBCOM202103Fife",40,94301.260273972599,42.417248596453902,30.299826072057499,57.762089136511896]
["ECBCOM202103Forth Valley",24,77111.123287671202,31.123914393602401,19.9356320325026,46.3121833980871]
["ECBCOM202103Grampian",42,147590.68493150701,28.457080485459599,20.5070730524799,38.466874111665398]
["ECBCOM202103Greater Glasgow & Clyde",126,298745.42465753399,42.176378146858497,35.133378435713702,50.2168570736346]
["ECBCOM202103Highland",24,80874.301369862995,29.6756813888761,19.0080032029656,44.157222050043003]
["ECBCOM202103Lanarkshire",83,166850.191780822,49.745223013606498,39.6203609726753,61.667642297766001]
["ECBCOM202103Lothian",83,229997.47945205501,36.0873519995693,28.742335970226701,44.736394366436002]
["ECBCOM202103Orkney",2,5646.0273972602699,35.4231366459627,3.9782547844743799,127.894899022434]
["ECBCOM202103Shetland",1,5764.4931506849298,17.347578943366099,0.22673518883744401,96.519436904421994]
["ECBCOM202103Tayside",39,104993.42465753399,37.145183260008501,26.4105058775943,50.780340188191303]
["ECBCOM202103Western Isles",3,6679.4520547945203,44.913863822805602,9.0269555347541104,131.23061365710501]
["ECBCOM202104Ayrshire & Arran",59,92753.6438356164,63.609360840382003,48.419354091934302,82.053234117037505]
["ECBCOM202104Borders",12,29046.794520547901,41.312648084149501,21.3222480142873,72.169879555143794]
["ECBCOM202104Dumfries & Galloway",28,37377.205479452103,74.911967443346896,49.767074046742401,108.273347982807]
["ECBCOM202104Fife",37,94301.260273972599,39.235954951719897,27.621890810589299,54.083441280442301]
["ECBCOM202104Forth Valley",21,77111.123287671202,27.233425094402101,16.8513647684454,41.631422595588603]
["ECBCOM202104Grampian",44,147590.68493150701,29.812179556195801,21.659345426283899,40.022622973592902]
["ECBCOM202104Greater Glasgow & Clyde",111,298745.42465753399,37.155380748422999,30.564893695505798,44.745175870881802]
["ECBCOM202104Highland",29,80874.301369862995,35.858115011558603,24.009588233058501,51.500405671651102]
["ECBCOM202104Lanarkshire",76,166850.191780822,45.549842759446904,35.886603915877203,57.013385583858998]
["ECBCOM202104Lothian",79,229997.47945205501,34.348202505614097,27.192732943207599,42.8088053130706]
["ECBCOM202104Orkney",1,5646.0273972602699,17.7115683229814,0.23149257896037301,98.544621518041595]
["ECBCOM202104Shetland",4,5764.4931506849298,69.390315773464394,18.668083410714001,177.65451972688899]
["ECBCOM202104Tayside",44,104993.42465753399,41.907386242060802,30.4468364286653,56.260345413965503]
["ECBCOM202104Western Isles",4,6679.4520547945203,59.885151763740801,16.110908211435099,153.31920249637599]
["SABCAUN202104Ayrshire & Arran",12,92753.6438356164,12.937497120077699,6.6772897664786202,22.600768825062499]
["SABCAUN202104Borders",3,29046.794520547901,10.3281620210374,2.0757924476829599,30.177119593138499]
["SABCAUN202104Dumfries & Galloway",8,37377.205479452103,21.403419269527699,9.2158643736846102,42.175859028967601]
["SABCAUN202104Fife",8,94301.260273972599,8.4834497192907801,3.6527958944048602,16.716804681275502]
["SABCAUN202104Forth Valley",9,77111.123287671202,11.6714678976009,5.3258476967080703,22.157560066910602]
["SABCAUN202104Grampian",15,147590.68493150701,10.163243030521301,5.6840777794442996,16.763811346761798]
["SABCAUN202104Greater Glasgow & Clyde",20,298745.42465753399,6.6946631979140498,4.0875313583041297,10.3399387192904]
["SABCAUN202104Highland",10,80874.301369862995,12.364867245365,5.9195320818160004,22.741002472392299]
["SABCAUN202104Lanarkshire",17,166850.191780822,10.188780617244699,5.9318922361072897,16.314222013824299]
["SABCAUN202104Lothian",21,229997.47945205501,9.1305348432645097,5.6497474203668103,13.9577432242199]
["SABCAUN202104Orkney",0,5646.0273972602699,0,0,64.967759352980806]
["SABCAUN202104Shetland",1,5764.4931506849298,17.347578943366099,0.22673518883744401,96.519436904421994]
["SABCAUN202104Tayside",12,104993.42465753399,11.4292871569257,5.8988737514499299,19.966047101031702]
["SABCAUN202104Western Isles",0,6679.4520547945203,0,0,54.916143754972403]
["CDICA202104Ayrshire & Arran",6,92753.6438356164,6.4687485600388497,2.3621074602380001,14.080196452252901]
["CDICA202104Borders",1,29046.794520547901,3.4427206736791298,4.4996822012429299E-2,19.154803210726602]
["CDICA202104Dumfries & Galloway",5,37377.205479452103,13.3771370434548,4.3109425668547798,31.2176938330885]
["CDICA202104Fife",1,94301.260273972599,1.06043121491135,1.38599785334305E-2,5.90008692701503]
["CDICA202104Forth Valley",0,77111.123287671202,0,0,4.7568980142737498]
["CDICA202104Grampian",5,147590.68493150701,3.38774767684043,1.09174224786764,7.9058523072473497]
["CDICA202104Greater Glasgow & Clyde",11,298745.42465753399,3.68206475885273,1.83554780973697,6.58869024085568]
["CDICA202104Highland",4,80874.301369862995,4.94594689814602,1.3306085757122399,12.6627154090692]
["CDICA202104Lanarkshire",9,166850.191780822,5.3940603267766098,2.4613822373767298,10.2402899741223]
["CDICA202104Lothian",23,229997.47945205501,10.000109590242101,6.3371317290320297,15.005831870027601]
["CDICA202104Orkney",0,5646.0273972602699,0,0,64.967759352980806]
["CDICA202104Shetland",0,5764.4931506849298,0,0,63.632610822333604]
["CDICA202104Tayside",1,104993.42465753399,0.95244059641047296,1.24485266323667E-2,5.2992426407493296]
["CDICA202104Western Isles",0,6679.4520547945203,0,0,54.916143754972403]
["CDIHCAI201404Ayrshire & Arran",22,116457,18.891092849721399,11.834727883064801,28.602831840660599]
["CDIHCAI201404Borders",3,32633,9.1931480403272801,1.8476731129578099,26.860803237333201]
["CDIHCAI201404Dumfries & Galloway",10,43399,23.042005576165302,11.031084162154899,42.377996898662502]
["CDIHCAI201404Fife",17,99647,17.060222585727601,9.9324350679666296,27.3167388055987]
["CDIHCAI201404Forth Valley",7,87095,8.0372007577932205,3.2199080321240201,16.560552796702598]
["CDIHCAI201404Grampian",23,159496,14.420424336660499,9.1383127140054192,21.638809168804599]
["CDIHCAI201404Greater Glasgow & Clyde",92,477840,19.2533065461242,15.520405220281701,23.612799952697902]
["CDIHCAI201404Highland",15,80452,18.644657684084901,10.4275460233698,30.753522581553501]
["CDIHCAI201404Lanarkshire",33,163546,20.1778093013586,13.8871108075375,28.338216830561599]
["CDIHCAI201404Lothian",74,288140,25.681960158256398,20.1649878945789,32.241909964870402]
["CDIHCAI201404Golden Jubilee",0,12222,0,0,30.012252433770399]
["CDIHCAI201404Orkney",1,4331,23.089355806973,0.30178098431602401,128.465858449205]
["CDIHCAI201404Shetland",0,3359,0,0,109.20206884356701]
["CDIHCAI201404Tayside",23,134798,17.062567693882698,10.8126554150136,25.603521618923601]
["CDIHCAI201404Western Isles",1,8425,11.869436201780401,0.15513512677420799,66.039837738101696]
["CDIHCAI201501Ayrshire & Arran",18,118008,15.2532031726663,9.0353086127048101,24.108065030116201]
["CDIHCAI201501Borders",4,34341,11.647884452986199,3.13363148881733,29.8211543680695]
["CDIHCAI201501Dumfries & Galloway",8,44394,18.020453214398302,7.7592299942778604,35.5096578185819]
["CDIHCAI201501Fife",10,99050,10.095911155981799,4.8332965325932404,18.5680230934382]
["CDIHCAI201501Forth Valley",13,87778,14.810089088382099,7.8780055290215403,25.327428776290599]
["CDIHCAI201501Grampian",24,162238,14.7930817687595,9.4753324096448406,22.012010032983301]
["CDIHCAI201501Greater Glasgow & Clyde",71,480533,14.7752599717397,11.5390656545438,18.637318090226898]
["CDIHCAI201501Highland",9,81010,11.109739538328601,5.0695234952748498,21.091153512819702]
["CDIHCAI201501Lanarkshire",20,161714,12.367513016807401,7.5511785710424197,19.101681880525401]
["CDIHCAI201501Lothian",52,287680,18.0756395995551,13.4987062609317,23.704383231756601]
["CDIHCAI201501Golden Jubilee",0,12254,0,0,29.933878671906498]
["CDIHCAI201501Orkney",0,4585,0,0,80.002126334905498]
["CDIHCAI201501Shetland",0,3528,0,0,103.971017359847]
["CDIHCAI201501Tayside",20,137758,14.5182130983319,8.8643221550657998,22.423448247123901]
["CDIHCAI201501Western Isles",2,8813,22.693747872461099,2.5486594243077398,81.935561539827106]
["CDIHCAI201502Ayrshire & Arran",28,118290,23.6706399526587,15.725371145119601,34.2121495942312]
["CDIHCAI201502Borders",5,32123,15.565171372536801,5.0160628251236599,36.323822712510399]
["CDIHCAI201502Dumfries & Galloway",12,43654,27.488889906995901,14.1875419614964,48.020883813876303]
["CDIHCAI201502Fife",14,94851,14.759991987432899,8.0625830520966595,24.766408248118399]
["CDIHCAI201502Forth Valley",5,85671,5.8362806550641402,1.8808113145807499,13.619896546018699]
["CDIHCAI201502Grampian",22,155593,14.1394535743896,8.8579621517553804,21.408418037236999]
["CDIHCAI201502Greater Glasgow & Clyde",91,454759,20.010599020580099,16.110782196769499,24.568927156706099]
["CDIHCAI201502Highland",20,79471,25.1664129053365,15.3657471459722,38.869642808411697]
["CDIHCAI201502Lanarkshire",27,158944,16.987114958727599,11.1918806460619,24.716464611925201]
["CDIHCAI201502Lothian",57,274583,20.758750541730599,15.721430221561199,26.895977356045002]
["CDIHCAI201502Golden Jubilee",0,11881,0,0,30.873642727509601]
["CDIHCAI201502Orkney",0,4168,0,0,88.006177842020605]
["CDIHCAI201502Shetland",0,3263,0,0,112.414878714539]
["CDIHCAI201502Tayside",26,135612,19.1723446302687,12.520733837809299,28.093220052647901]
["CDIHCAI201502Western Isles",1,8554,11.6904372223521,0.152795586050117,65.043913133447205]
["CDIHCAI201503Ayrshire & Arran",30,114903,26.108978877836101,17.612061796293201,37.2737184275665]
["CDIHCAI201503Borders",4,31173,12.8316171045456,3.4520911993544399,32.8517711530451]
["CDIHCAI201503Dumfries & Galloway",7,42757,16.371588277942799,6.5588766765170998,33.733455243090397]
["CDIHCAI201503Fife",14,93360,14.9957155098543,8.1913460269325196,25.161938611206899]
["CDIHCAI201503Forth Valley",6,85803,6.9927624908219999,2.5534547051777698,15.220790961478899]
["CDIHCAI201503Grampian",22,148857,14.779284816972,9.2587980751867605,22.3771807013967]
["CDIHCAI201503Greater Glasgow & Clyde",83,439656,18.878395836745099,15.0359936557587,23.402974016170301]
["CDIHCAI201503Highland",19,79641,23.857058550244201,14.356761789791801,37.257889507250603]
["CDIHCAI201503Lanarkshire",33,155047,21.283868762375299,14.648341626278,29.891594224790101]
["CDIHCAI201503Lothian",63,267000,23.595505617977501,18.130413227680599,30.189519475647401]
["CDIHCAI201503Golden Jubilee",0,12077,0,0,30.372588328686099]
["CDIHCAI201503Orkney",2,4206,47.551117451260097,5.3403080138906596,171.682858737636]
["CDIHCAI201503Shetland",4,3047,131.27666557269399,35.317374124540898,336.09723076924001]
["CDIHCAI201503Tayside",23,135107,17.0235443019237,10.7879260484876,25.544964414779798]
["CDIHCAI201503Western Isles",3,8267,36.288859320188699,7.2934700248157904,106.029828479968]
["CDIHCAI201504Ayrshire & Arran",31,117416,26.4018532397629,17.9353635758272,37.476817231657698]
["CDIHCAI201504Borders",2,32713,6.1137773973649603,0.68661802666903404,22.073735330006301]
["CDIHCAI201504Dumfries & Galloway",9,44283,20.3238262990312,9.2740351455912204,38.583527450116897]
["CDIHCAI201504Fife",15,93976,15.9615220907466,8.9269274354318497,26.327811342588902]
["CDIHCAI201504Forth Valley",7,84874,8.2475198529585008,3.3041672368197799,16.993912692094401]
["CDIHCAI201504Grampian",38,151027,25.161063915723702,17.803102883459701,34.536676524727397]
["CDIHCAI201504Greater Glasgow & Clyde",112,447333,25.037276480831999,20.615146825068901,30.126691946761301]
["CDIHCAI201504Highland",13,79839,16.282769072758899,8.6613756350461895,27.8459279691033]
["CDIHCAI201504Lanarkshire",44,158949,27.681835054011,20.1115931942531,37.1626517777906]
["CDIHCAI201504Lothian",61,268100,22.752704214845199,17.402982271377599,29.227418232766301]
["CDIHCAI201504Golden Jubilee",0,12688,0,0,28.9099739317104]
["CDIHCAI201504Orkney",0,3935,0,0,93.217217089083107]
["CDIHCAI201504Shetland",1,3187,31.377470975839302,0.41010776375045499,174.57974049058899]
["CDIHCAI201504Tayside",33,135734,24.312257798340902,16.732590390981802,34.144739046746103]
["CDIHCAI201504Western Isles",1,8107,12.3350191192796,0.161220358094573,68.630274200506605]
["CDIHCAI201601Ayrshire & Arran",29,119132,24.342745861733199,16.2992199789031,34.961717497895698]
["CDIHCAI201601Borders",2,32229,6.2055912377051703,0.69692933402910795,22.4052283300908]
["CDIHCAI201601Dumfries & Galloway",8,45223,17.6901134378524,7.6169926003575901,34.858716785664903]
["CDIHCAI201601Fife",5,94690,5.2803886366036501,1.7016684563464699,12.3226334036748]
["CDIHCAI201601Forth Valley",5,85625,5.8394160583941597,1.88182173584172,13.627213512338299]
["CDIHCAI201601Grampian",30,155101,19.342235059735302,13.047489936102799,27.613374952338599]
["CDIHCAI201601Greater Glasgow & Clyde",72,462860,15.5554595342004,12.1706374012614,19.5898772235468]
["CDIHCAI201601Highland",8,82505,9.6963820374522793,4.1750591644866502,19.106911692601901]
["CDIHCAI201601Lanarkshire",29,158839,18.2574808453843,12.224697174665501,26.2218934201255]
["CDIHCAI201601Lothian",45,272449,16.516852695366801,12.046312425462499,22.101477333999998]
["CDIHCAI201601Golden Jubilee",0,12668,0,0,28.955616454494901]
["CDIHCAI201601Orkney",1,3843,26.0213374967473,0.34010237914980501,144.77898333164401]
["CDIHCAI201601Shetland",0,3146,0,0,116.59559734441901]
["CDIHCAI201601Tayside",18,138172,13.027241409258,7.7167494048582199,20.589877385244101]
["CDIHCAI201601Western Isles",0,7965,0,0,46.052699214757297]
["CDIHCAI201602Ayrshire & Arran",21,116346,18.049610644113201,11.1686492550248,27.592231451099099]
["CDIHCAI201602Borders",2,32572,6.1402431536288802,0.68959030782341002,22.169289692082]
["CDIHCAI201602Dumfries & Galloway",6,43631,13.751690311934199,5.0215230929469401,29.932605873525201]
["CDIHCAI201602Fife",13,93313,13.931606528565201,7.4107098617175797,23.825094500500899]
["CDIHCAI201602Forth Valley",8,84437,9.4745194642159305,4.0795297839332498,18.6697271243427]
["CDIHCAI201602Grampian",21,147762,14.212043691882901,8.7940584603965597,21.725787146963199]
["CDIHCAI201602Greater Glasgow & Clyde",71,450499,15.760301354719999,12.3083554817545,19.8798363011927]
["CDIHCAI201602Highland",9,78289,11.4958678741586,5.2457190454880802,21.824194281106202]
["CDIHCAI201602Lanarkshire",21,149629,14.034712522305201,8.6843303519044905,21.454703034903499]
["CDIHCAI201602Lothian",50,263796,18.954040243218198,14.066889434651999,24.9891817488346]
["CDIHCAI201602Golden Jubilee",0,13158,0,0,27.877317924117801]
["CDIHCAI201602Orkney",2,3801,52.6177321757432,5.9093226799326803,189.97582316508701]
["CDIHCAI201602Shetland",0,2995,0,0,122.474039814872]
["CDIHCAI201602Tayside",24,118332,20.281918669506101,12.9910673315414,30.1793638553488]
["CDIHCAI201602Western Isles",2,6544,30.562347188264098,3.4323556702970901,110.34506476932999]
["CDIHCAI201603Ayrshire & Arran",18,118267,15.2197992677585,9.0155216482033893,24.055269331884201]
["CDIHCAI201603Borders",9,31455,28.6123032904149,13.0561786155529,54.318688477937599]
["CDIHCAI201603Dumfries & Galloway",4,43380,9.2208390963577695,2.4806832401446699,23.6073827144738]
["CDIHCAI201603Fife",8,94057,8.5054807191384008,3.6622819818405001,16.7602172001884]
["CDIHCAI201603Forth Valley",9,83611,10.764133905825799,4.9118189993208503,20.4350425909692]
["CDIHCAI201603Grampian",25,145070,17.233059902116199,11.1491908854748,25.440602910984801]
["CDIHCAI201603Greater Glasgow & Clyde",100,448881,22.277619235387601,18.1254701370821,27.0959000875078]
["CDIHCAI201603Highland",13,78191,16.6259543937282,8.8439279370573693,28.432825301188601]
["CDIHCAI201603Lanarkshire",27,147746,18.274606419124702,12.0401383279931,26.589780781055602]
["CDIHCAI201603Lothian",31,263612,11.759707448826299,7.9886296891618098,16.692631488977401]
["CDIHCAI201603Golden Jubilee",0,12380,0,0,29.629220456021098]
["CDIHCAI201603Orkney",1,3947,25.335697998479901,0.331140978736433,140.964183669498]
["CDIHCAI201603Shetland",0,3141,0,0,116.78120001449901]
["CDIHCAI201603Tayside",18,106847,16.8465188540623,9.9791168565151107,26.626339888569198]
["CDIHCAI201603Western Isles",0,7305,0,0,50.213518034981803]
["CDIHCAI201604Ayrshire & Arran",16,120423,13.2864984263803,7.5894220708650399,21.577800947868699]
["CDIHCAI201604Borders",5,32616,15.3298994358597,4.9402436267919896,35.774777930891901]
["CDIHCAI201604Dumfries & Galloway",5,43532,11.485803546816101,3.7014377040211199,26.803963911466699]
["CDIHCAI201604Fife",18,95378,18.8722766256369,11.1790842622834,29.828100170625898]
["CDIHCAI201604Forth Valley",7,85427,8.1941306612663407,3.2827781621482899,16.883904922668702]
["CDIHCAI201604Grampian",32,145837,21.942305450605801,15.005821446076901,30.9771901425955]
["CDIHCAI201604Greater Glasgow & Clyde",65,443247,14.6645098556787,11.3171535078563,18.691492333932999]
["CDIHCAI201604Highland",15,77349,19.392623046193201,10.8458665615864,31.987257737412801]
["CDIHCAI201604Lanarkshire",27,147122,18.352115930996,12.091205104659201,26.702558089734001]
["CDIHCAI201604Lothian",25,264048,9.4679755196025006,6.1254511367472197,13.9772627109335]
["CDIHCAI201604Golden Jubilee",0,12049,0,0,30.443169495023799]
["CDIHCAI201604Orkney",1,3715,26.917900403768499,0.35182057687017498,149.76733053660999]
["CDIHCAI201604Shetland",0,2392,0,0,153.34855737689901]
["CDIHCAI201604Tayside",15,109748,13.6676750373583,7.6440293460668398,22.544214006005902]
["CDIHCAI201604Western Isles",2,8800,22.727272727272702,2.5524244893663801,82.056602710283698]
["CDIHCAI201701Ayrshire & Arran",26,119981,21.6700977654795,14.1519220310966,31.753175567628901]
["CDIHCAI201701Borders",5,33461,14.942769193987001,4.8154862715234898,34.8713474490891]
["CDIHCAI201701Dumfries & Galloway",7,43221,16.195830730432,6.4884637111089898,33.371308989352798]
["CDIHCAI201701Fife",10,94451,10.587500397031301,5.0686389932701603,19.472135683106099]
["CDIHCAI201701Forth Valley",4,85603,4.6727334322395198,1.2571059303701499,11.963228650326201]
["CDIHCAI201701Grampian",25,147658,16.931016267320398,10.953779150170201,24.994705768035399]
["CDIHCAI201701Greater Glasgow & Clyde",77,439173,17.532953983965299,13.836169966718201,21.913550231483999]
["CDIHCAI201701Highland",18,78104,23.046194817166899,13.6515248741175,36.425081149159503]
["CDIHCAI201701Lanarkshire",20,147866,13.5257598095573,8.2583642719594401,20.890599486205701]
["CDIHCAI201701Lothian",47,259482,18.113009765609899,13.307534514981599,24.087120702063199]
["CDIHCAI201701Golden Jubilee",1,11569,8.6437894372893105,0.11297548993626901,48.0928025709661]
["CDIHCAI201701Orkney",0,3608,0,0,101.665673294219]
["CDIHCAI201701Shetland",0,2383,0,0,153.92771684663899]
["CDIHCAI201701Tayside",17,106222,16.0042175820452,9.3176305964646708,25.625869139740299]
["CDIHCAI201701Western Isles",0,8557,0,0,42.866629571758999]
["CDIHCAI201702Ayrshire & Arran",25,116808,21.4026436545442,13.846766674849601,31.596023083149799]
["CDIHCAI201702Borders",3,32504,9.2296332759045008,1.8550060514137401,26.967406843585302]
["CDIHCAI201702Dumfries & Galloway",7,43510,16.0882555734314,6.4453663538920196,33.149651708315702]
["CDIHCAI201702Fife",13,90490,14.3662283125207,7.6419004235435199,24.5683616214525]
["CDIHCAI201702Forth Valley",8,84320,9.4876660341556001,4.0851904217975701,18.695632699218699]
["CDIHCAI201702Grampian",33,140460,23.4942332336608,16.1695957861991,32.995885019016299]
["CDIHCAI201702Greater Glasgow & Clyde",79,433299,18.232213783092,14.434051397189,22.7231480348673]
["CDIHCAI201702Highland",5,74844,6.6805622361177903,2.15289116203633,15.590162965554599]
["CDIHCAI201702Lanarkshire",16,144126,11.1013973883963,6.34126371397097,18.029110108829698]
["CDIHCAI201702Lothian",34,256027,13.2798493908846,9.19519686570567,18.557941438592799]
["CDIHCAI201702Golden Jubilee",0,11614,0,0,31.583412196103101]
["CDIHCAI201702Orkney",1,3521,28.4010224368077,0.37120518121917101,158.01920844745999]
["CDIHCAI201702Shetland",0,2201,0,0,166.65595149729299]
["CDIHCAI201702Tayside",14,109040,12.839325018341899,7.0134268623846303,21.5436407624934]
["CDIHCAI201702Western Isles",0,7803,0,0,47.008810617139801]
["CDIHCAI201703Ayrshire & Arran",28,118443,23.640063152740101,15.705057730352999,34.167955687559498]
["CDIHCAI201703Borders",6,32452,18.488845063478401,6.7513273162938496,40.243730027972902]
["CDIHCAI201703Dumfries & Galloway",13,41406,31.396415978360601,16.700854207758599,53.692485222557998]
["CDIHCAI201703Fife",12,87701,13.6828542433952,7.0619828369934696,23.902847880992901]
["CDIHCAI201703Forth Valley",14,80291,17.436574460400301,9.5246548812995293,29.257557992082202]
["CDIHCAI201703Grampian",26,138173,18.816990294775401,12.2886653486065,27.5725196513044]
["CDIHCAI201703Greater Glasgow & Clyde",102,426025,23.942256909805799,19.5215372112994,29.0646300515196]
["CDIHCAI201703Highland",12,73950,16.2271805273834,8.3751583067906008,28.347581636388799]
["CDIHCAI201703Lanarkshire",25,139493,17.922046267554599,11.594941120743201,26.457730956367499]
["CDIHCAI201703Lothian",29,252661,11.477829977717199,7.6852330772326898,16.484773387896499]
["CDIHCAI201703Golden Jubilee",0,11658,0,0,31.464209062064]
["CDIHCAI201703Orkney",2,2936,68.119891008174406,7.6503186329782498,245.946220657526]
["CDIHCAI201703Shetland",0,2600,0,0,141.08067278674699]
["CDIHCAI201703Tayside",19,123857,15.3402714420663,9.2315078332335503,23.957108425417601]
["CDIHCAI201703Western Isles",0,7180,0,0,51.0877088085713]
["CDIHCAI201704Ayrshire & Arran",18,123003,14.6337894197703,8.6683958827676495,23.1290662672777]
["CDIHCAI201704Borders",6,32440,18.495684340320601,6.7538247246722598,40.258616734518398]
["CDIHCAI201704Dumfries & Galloway",11,42845,25.673940949935801,12.798728203969601,45.9409747681499]
["CDIHCAI201704Fife",11,89968,12.2265694469145,6.0950728025417797,21.8782351940844]
["CDIHCAI201704Forth Valley",3,86859,3.4538735191517298,0.69417235629183105,10.0916265677005]
["CDIHCAI201704Grampian",22,139048,15.8218744606179,9.9119505859708497,23.955756196909]
["CDIHCAI201704Greater Glasgow & Clyde",74,433674,17.063508534060102,13.3979431829991,21.422044986044199]
["CDIHCAI201704Highland",15,74412,20.1580390259636,11.273946845564501,33.2497769006496]
["CDIHCAI201704Lanarkshire",28,143304,19.5388823759281,12.980476139927701,28.240350412421201]
["CDIHCAI201704Lothian",34,256805,13.2396176086914,9.16733968550467,18.501719486375301]
["CDIHCAI201704Golden Jubilee",0,12434,0,0,29.500542805657201]
["CDIHCAI201704Orkney",0,3819,0,0,96.048638189458401]
["CDIHCAI201704Shetland",1,2589,38.624951718810401,0.50483331134519205,214.90368209482699]
["CDIHCAI201704Tayside",10,126195,7.92424422520702,3.7936370026812498,14.5739743048857]
["CDIHCAI201704Western Isles",2,7572,26.4131008980454,2.96636760518015,95.364250376452205]
["CDIHCAI201801Ayrshire & Arran",18,122158,14.7350153080437,8.7283575268756,23.289056288363899]
["CDIHCAI201801Borders",4,32986,12.126356636148699,3.2623549068536999,31.046148734429]
["CDIHCAI201801Dumfries & Galloway",14,44662,31.3465585956742,17.122924747535301,52.597702492998003]
["CDIHCAI201801Fife",6,91836,6.5333856004181401,2.3857101144253701,14.2208886152247]
["CDIHCAI201801Forth Valley",1,85107,1.1749914813117599,1.53572966157038E-2,6.5374837903287304]
["CDIHCAI201801Grampian",32,144477,22.148854142874001,15.1470751900408,31.268786580740901]
["CDIHCAI201801Greater Glasgow & Clyde",64,435205,14.705713399432501,11.324569672071,18.7792460222398]
["CDIHCAI201801Highland",13,75230,17.280340289778,9.1920187335697605,29.551921349531298]
["CDIHCAI201801Lanarkshire",19,143873,13.206091483461099,7.9471955523330102,20.6241308532313]
["CDIHCAI201801Lothian",42,258580,16.242555495397902,11.7048996742051,21.955883275252301]
["CDIHCAI201801Golden Jubilee",2,11871,16.847780304944799,1.8921182298394501,60.828751061452003]
["CDIHCAI201801Orkney",0,3683,0,0,99.595370416926897]
["CDIHCAI201801Shetland",1,2410,41.493775933610003,0.54232922949074802,230.865407860376]
["CDIHCAI201801Tayside",12,124965,9.6026887528507991,4.95613137108122,16.775126331460399]
["CDIHCAI201801Western Isles",0,8190,0,0,44.7875151703958]
["CDIHCAI201802Ayrshire & Arran",10,115914,8.6270855979432994,4.1301138909308603,15.8666139327868]
["CDIHCAI201802Borders",3,31525,9.5162569389373495,1.91261274211426,27.804872071178298]
["CDIHCAI201802Dumfries & Galloway",7,42410,16.505541145956101,6.6125416189069002,34.009463471559002]
["CDIHCAI201802Fife",4,87527,4.5700183943240402,1.22947249371595,11.700255488636399]
["CDIHCAI201802Forth Valley",9,83252,10.8105510978715,4.9329997880196998,20.523162759735801]
["CDIHCAI201802Grampian",43,138240,31.105324074074101,22.508666415398402,41.899912093600904]
["CDIHCAI201802Greater Glasgow & Clyde",86,417159,20.615640559115299,16.489288042320599,25.460528144746899]
["CDIHCAI201802Highland",22,73332,30.000545464462999,18.794481332543398,45.423552987342603]
["CDIHCAI201802Lanarkshire",27,136851,19.7294868141263,12.9986794207398,28.7066499424764]
["CDIHCAI201802Lothian",27,255469,10.5687969968959,6.9632021004805598,15.377731745447999]
["CDIHCAI201802Golden Jubilee",1,12349,8.0978216859664798,0.10583961803163799,45.055116442101202]
["CDIHCAI201802Orkney",0,3487,0,0,105.19350422871899]
["CDIHCAI201802Shetland",0,2417,0,0,151.76241176894601]
["CDIHCAI201802Tayside",5,117886,4.2413857455507902,1.3668373354889201,9.8979535907060203]
["CDIHCAI201802Western Isles",0,7527,0,0,48.732529460016202]
["CDIHCAI201803Ayrshire & Arran",17,110109,15.4392465647676,8.9887053484971293,24.721240514049601]
["CDIHCAI201803Borders",4,32651,12.250773330066499,3.2958267421357998,31.364682924072]
["CDIHCAI201803Dumfries & Galloway",13,43012,30.2241235004185,16.0772707459884,51.687692809570301]
["CDIHCAI201803Fife",7,89303,7.83848246979385,3.1402964072633801,16.151096221054299]
["CDIHCAI201803Forth Valley",10,82126,12.176411854954599,5.8293113210598397,22.394402350109001]
["CDIHCAI201803Grampian",26,136514,19.045665646014299,12.4380045798453,27.907597446266902]
["CDIHCAI201803Greater Glasgow & Clyde",100,412912,24.218235362498501,19.704390186295299,29.4562394098031]
["CDIHCAI201803Highland",10,73340,13.635124079629099,6.5276523255162298,25.077211445391999]
["CDIHCAI201803Lanarkshire",23,138817,16.5685758948832,10.4996097353567,24.8622539543979]
["CDIHCAI201803Lothian",36,252485,14.2582727686793,9.9848614509652798,19.740150092567401]
["CDIHCAI201803Golden Jubilee",0,12390,0,0,29.605306638058298]
["CDIHCAI201803Orkney",3,3756,79.872204472843407,16.053012964630501,233.37289458037699]
["CDIHCAI201803Shetland",0,2446,0,0,149.963102716902]
["CDIHCAI201803Tayside",6,114636,5.2339579189783301,1.9112152732856,11.392490377087301]
["CDIHCAI201803Western Isles",0,7123,0,0,51.496525234527802]
["CDIHCAI201804Ayrshire & Arran",21,110740,18.963337547408301,11.7340406919371,28.989035221325398]
["CDIHCAI201804Borders",0,31191,0,0,11.760115073115401]
["CDIHCAI201804Dumfries & Galloway",12,43800,27.397260273972599,14.1402501549581,47.8608142011634]
["CDIHCAI201804Fife",11,91463,12.0267211878027,5.9954463542534002,21.520626525932698]
["CDIHCAI201804Forth Valley",15,84592,17.732173255154201,9.9172135978832898,29.248420639435601]
["CDIHCAI201804Grampian",11,133702,8.2272516491899896,4.1013710333359104,14.7218520586183]
["CDIHCAI201804Greater Glasgow & Clyde",67,417273,16.056634385641999,12.443037365393,20.391750362004299]
["CDIHCAI201804Highland",11,72346,15.2047106958229,7.5797073770364403,27.207324025397199]
["CDIHCAI201804Lanarkshire",25,142634,17.527377764067499,11.3396043142296,25.875094748072499]
["CDIHCAI201804Lothian",36,254499,14.145438685417201,9.9058453803235693,19.583934695703601]
["CDIHCAI201804Golden Jubilee",0,11765,0,0,31.178049234640199]
["CDIHCAI201804Orkney",1,3843,26.0213374967473,0.34010237914980501,144.77898333164401]
["CDIHCAI201804Shetland",0,2501,0,0,146.66523360477501]
["CDIHCAI201804Tayside",9,115115,7.8182686878339096,3.5675811002233901,14.8424996401297]
["CDIHCAI201804Western Isles",1,6753,14.808233377758,0.19354560092887599,82.390883006590698]
["CDIHCAI201901Ayrshire & Arran",17,111660,15.224789539673999,8.8638488018777597,24.377853051777599]
["CDIHCAI201901Borders",6,29390,20.415107179312699,7.4547150074300097,44.436526943442502]
["CDIHCAI201901Dumfries & Galloway",3,46147,6.5009643097059397,1.3065880056157999,18.994703708667899]
["CDIHCAI201901Fife",6,91885,6.5299015073189297,2.3844378741728001,14.2133049667277]
["CDIHCAI201901Forth Valley",5,80825,6.1862047633776696,1.9935785478682,14.4365005504976]
["CDIHCAI201901Grampian",19,134033,14.175613468325,8.5306369752285498,22.138246388926198]
["CDIHCAI201901Greater Glasgow & Clyde",62,427318,14.5091009505801,11.123401312879199,18.6003994442992]
["CDIHCAI201901Highland",8,75357,10.616133869448101,4.57108505335896,20.919300784242001]
["CDIHCAI201901Lanarkshire",20,145876,13.7102744796951,8.3710225906767004,21.175583259941899]
["CDIHCAI201901Lothian",34,251904,13.4972052845528,9.3456978370173793,18.861685692559899]
["CDIHCAI201901Golden Jubilee",0,11654,0,0,31.475008516006699]
["CDIHCAI201901Orkney",0,3829,0,0,95.797792960444497]
["CDIHCAI201901Shetland",0,2511,0,0,146.08114267046699]
["CDIHCAI201901Tayside",6,119250,5.0314465408805003,1.8372668684978399,10.951694145641699]
["CDIHCAI201901Western Isles",0,6871,0,0,53.385205828197002]
["CDIHCAI201902Ayrshire & Arran",15,109780,13.663691018400399,7.6418011720909398,22.537642546284701]
["CDIHCAI201902Borders",4,29746,13.4471861762926,3.6176978066790801,34.427763805347801]
["CDIHCAI201902Dumfries & Galloway",6,45667,13.1385902292684,4.79764543474211,28.598102062053002]
["CDIHCAI201902Fife",6,87857,6.8292793972022698,2.4937577434736902,14.8649456146667]
["CDIHCAI201902Forth Valley",11,77293,14.2315604259118,7.0945817848845101,25.465967991168402]
["CDIHCAI201902Grampian",10,133401,7.4961956806920496,3.5887138893513599,13.7867233934157]
["CDIHCAI201902Greater Glasgow & Clyde",71,419871,16.909955676862701,13.2062034200383,21.329995102903101]
["CDIHCAI201902Highland",6,74804,8.0209614459119791,2.9289085352169399,17.4588194062854]
["CDIHCAI201902Lanarkshire",17,145187,11.709037310503,6.8169833195649101,18.748449046825801]
["CDIHCAI201902Lothian",30,244255,12.282246013387599,8.2851066982435704,17.5343885221702]
["CDIHCAI201902Golden Jubilee",0,11897,0,0,30.832121479830398]
["CDIHCAI201902Orkney",0,3479,0,0,105.435397886042]
["CDIHCAI201902Shetland",1,2542,39.339103068450001,0.51416736548886799,218.87711760169401]
["CDIHCAI201902Tayside",6,113492,5.2867162443167803,1.9304803340179699,11.507326744332399]
["CDIHCAI201902Western Isles",1,7013,14.259232853272501,0.18637009027131099,79.336322963568705]
["CDIHCAI201903Ayrshire & Arran",21,110670,18.9753320683112,11.741462602558199,29.007371106980901]
["CDIHCAI201903Borders",4,28962,13.8112008839169,3.7156287189239698,35.359721778671201]
["CDIHCAI201903Dumfries & Galloway",7,46074,15.192950470981501,6.0866842483361898,31.304886613465602]
["CDIHCAI201903Fife",8,90276,8.8617129691169296,3.81566813290322,17.462179861736502]
["CDIHCAI201903Forth Valley",14,72461,19.320738052193601,10.553871255909,32.4190749333059]
["CDIHCAI201903Grampian",11,133865,8.2172337803010507,4.0963770208723602,14.7039260743389]
["CDIHCAI201903Greater Glasgow & Clyde",62,416741,14.877345881494699,11.4057162655388,19.0724826444699]
["CDIHCAI201903Highland",15,75715,19.811133857227802,11.0799304321752,32.677572458973003]
["CDIHCAI201903Lanarkshire",24,146465,16.386167343734002,10.4957428701462,24.382511069068599]
["CDIHCAI201903Lothian",25,245501,10.183257909336399,6.5882139859138196,15.033210717254001]
["CDIHCAI201903Golden Jubilee",1,12067,8.2870638932626193,0.108313039120966,46.108032894962101]
["CDIHCAI201903Orkney",1,2983,33.523298692591403,0.43815402047358398,186.51881761431699]
["CDIHCAI201903Shetland",2,2694,74.239049740163296,8.3375410194595894,268.03938524517298]
["CDIHCAI201903Tayside",10,115794,8.6360260462545604,4.1343940234671903,15.8830568717296]
["CDIHCAI201903Western Isles",2,6702,29.841838257236599,3.35143770612118,107.74367410481899]
["CDIHCAI201904Ayrshire & Arran",21,111501,18.833911803481602,11.653955266994201,28.791183580502199]
["CDIHCAI201904Borders",3,29415,10.1988781234064,2.0498084887014101,29.7993741983306]
["CDIHCAI201904Dumfries & Galloway",6,46458,12.914890869172201,4.7159600944588203,28.111187026298499]
["CDIHCAI201904Fife",12,91708,13.085008941422799,6.7534234394727299,22.858460134458898]
["CDIHCAI201904Forth Valley",13,75205,17.286084701815,9.1950743876930101,29.561745138291801]
["CDIHCAI201904Grampian",17,135055,12.5874643663693,7.3284021859069997,20.1549818352633]
["CDIHCAI201904Greater Glasgow & Clyde",70,429650,16.292330967066199,12.700068821974201,20.584758864605799]
["CDIHCAI201904Highland",8,73909,10.8241215548851,4.6606401976210101,21.329144612944599]
["CDIHCAI201904Lanarkshire",25,147326,16.969170411196899,10.978463555352301,25.051031483217901]
["CDIHCAI201904Lothian",42,249135,16.8583298211813,12.1486461466914,22.788256556945999]
["CDIHCAI201904Golden Jubilee",1,11659,8.5770649283815104,0.11210339163502001,47.721556989751001]
["CDIHCAI201904Orkney",0,2915,0,0,125.835248454731]
["CDIHCAI201904Shetland",2,2673,74.822297044519303,8.4030435863913695,270.14519410793002]
["CDIHCAI201904Tayside",8,117969,6.78144258237334,2.9199472434789802,13.362966111420199]
["CDIHCAI201904Western Isles",3,6884,43.579314352120903,8.7587328145194796,127.331288791966]
["CDIHCAI202001Ayrshire & Arran",17,107445,15.8220484899251,9.2115720342284,25.334180946172399]
["CDIHCAI202001Borders",3,28855,10.396811644429,2.0895899045278798,30.377702028899499]
["CDIHCAI202001Dumfries & Galloway",12,44334,27.067262146433901,13.969931808254699,47.284333965149898]
["CDIHCAI202001Fife",7,87695,7.9822110724670701,3.1978777587985801,16.4472472299312]
["CDIHCAI202001Forth Valley",9,74682,12.051096649795101,5.4990773995369198,22.878261777584001]
["CDIHCAI202001Grampian",17,132936,12.7881085635193,7.4452169255707297,20.476252269975699]
["CDIHCAI202001Greater Glasgow & Clyde",65,413057,15.7363269476126,12.1443150482785,20.0576382981981]
["CDIHCAI202001Highland",16,71286,22.444799820441599,12.8207638812639,36.4512460166819]
["CDIHCAI202001Lanarkshire",20,140747,14.209894349435499,8.6760733190587001,21.9472484928793]
["CDIHCAI202001Lothian",25,240426,10.3982098441932,6.7272804179075001,15.350537230983999]
["CDIHCAI202001Golden Jubilee",1,10915,9.1617040769583102,0.119744703900385,50.974405216995599]
["CDIHCAI202001Orkney",0,3184,0,0,115.20406697410201]
["CDIHCAI202001Shetland",0,2514,0,0,145.90682149782899]
["CDIHCAI202001Tayside",8,111517,7.1737941300429497,3.0888856081671099,14.136102560131]
["CDIHCAI202001Western Isles",1,6357,15.730690577316301,0.205602240533695,87.523302334986198]
["CDIHCAI202002Ayrshire & Arran",13,81868,15.8792202081399,8.4467138482246096,27.155800106576901]
["CDIHCAI202002Borders",4,20636,19.3836014731537,5.2147721921630197,49.626296867313201]
["CDIHCAI202002Dumfries & Galloway",3,27088,11.075014766686399,2.2258976925262899,32.359295335347603]
["CDIHCAI202002Fife",5,63495,7.8746357980943396,2.5376956631458798,18.3767250491215]
["CDIHCAI202002Forth Valley",7,57076,12.264349288667701,4.9134117677805396,25.2705400839024]
["CDIHCAI202002Grampian",13,95717,13.581704399427499,7.2245846539951399,23.226710439370599]
["CDIHCAI202002Greater Glasgow & Clyde",49,305581,16.0350283558206,11.861786054612001,21.199713814600301]
["CDIHCAI202002Highland",13,50361,25.813625623001901,13.7311723223616,44.145093288958499]
["CDIHCAI202002Lanarkshire",21,100174,20.9635234691637,12.971705893995599,32.046696352442503]
["CDIHCAI202002Lothian",30,182151,16.469851936031102,11.109896385852799,23.512701376784499]
["CDIHCAI202002Golden Jubilee",1,8152,12.266928361138399,0.160330402732176,68.251427004846306]
["CDIHCAI202002Orkney",0,2102,0,0,174.50511381805001]
["CDIHCAI202002Shetland",0,1591,0,0,230.55295364270401]
["CDIHCAI202002Tayside",7,81757,8.5619579974803397,3.4301391936817902,17.641808601450801]
["CDIHCAI202002Western Isles",0,3200,0,0,114.628046639232]
["CDIHCAI202003Ayrshire & Arran",20,97707,20.469362481705499,12.4978895210942,31.615026391428302]
["CDIHCAI202003Borders",2,25295,7.9067009290373598,0.88797531158031695,28.547068742854201]
["CDIHCAI202003Dumfries & Galloway",10,36727,27.227924959838798,13.035042926276599,50.076583641600202]
["CDIHCAI202003Fife",7,75272,9.2996067594856004,3.7256601399968399,19.161724755936]
["CDIHCAI202003Forth Valley",10,66050,15.1400454201363,7.2481153906640401,27.845006622332399]
["CDIHCAI202003Grampian",14,107482,13.0254368173276,7.11508964360935,21.855925538623001]
["CDIHCAI202003Greater Glasgow & Clyde",77,376935,20.427925239099601,16.1207430267646,25.531828022899301]
["CDIHCAI202003Highland",14,59671,23.461983207923399,12.816008866525101,39.367843487494298]
["CDIHCAI202003Lanarkshire",27,122500,22.040816326530599,14.521487978838101,32.069663275737497]
["CDIHCAI202003Lothian",38,217934,17.436471592316899,12.337447205026599,23.9337168385842]
["CDIHCAI202003Golden Jubilee",1,10016,9.9840255591054294,0.130492556217322,55.549683800270302]
["CDIHCAI202003Orkney",0,2700,0,0,135.855462683534]
["CDIHCAI202003Shetland",2,2091,95.648015303682499,10.741910811298,345.33625243926201]
["CDIHCAI202003Tayside",5,99451,5.0276015324129499,1.62020478558735,11.732714170736999]
["CDIHCAI202003Western Isles",0,4152,0,0,88.345315328887693]
["CDIHCAI202004Ayrshire & Arran",30,102772,29.190830187210501,19.690954117653501,41.673433118774298]
["CDIHCAI202004Borders",3,27161,11.045248702183301,2.2199151980837302,32.272323995578098]
["CDIHCAI202004Dumfries & Galloway",8,37533,21.314576506007999,9.1776105391514502,42.000792614449303]
["CDIHCAI202004Fife",6,77595,7.7324569882079999,2.82355917350819,16.8308464059253]
["CDIHCAI202004Forth Valley",11,70565,15.588464536243199,7.7710126819114098,27.894013518619499]
["CDIHCAI202004Grampian",17,108028,15.7366608657015,9.1618594921471299,25.197458730713201]
["CDIHCAI202004Greater Glasgow & Clyde",64,390384,16.3941145128899,12.6247729008711,20.935339986036499]
["CDIHCAI202004Highland",10,63656,15.7094382304889,7.5207053781789597,28.892212633609599]
["CDIHCAI202004Lanarkshire",25,127447,19.6159972380676,12.6908685316707,28.958455391626099]
["CDIHCAI202004Lothian",29,226514,12.8027406694509,8.5723561215937707,18.387646366049399]
["CDIHCAI202004Golden Jubilee",3,11255,26.654820079964502,5.3571849573658001,77.8808167075874]
["CDIHCAI202004Orkney",0,3055,0,0,120.068657690848]
["CDIHCAI202004Shetland",0,2118,0,0,173.18685044643101]
["CDIHCAI202004Tayside",15,104559,14.3459673485783,8.0233832828560292,23.6630266044161]
["CDIHCAI202004Western Isles",1,5151,19.413706076490001,0.253739748218346,108.015071431471]
["ECBHCAI201603Ayrshire & Arran",62,118267,52.423753033390497,40.190666899616197,67.206283153703396]
["ECBHCAI201603Borders",12,31455,38.149737720553198,19.689809467085201,66.644529073627595]
["ECBHCAI201603Dumfries & Galloway",16,43380,36.8833563854311,21.068256662973301,59.900035120912598]
["ECBHCAI201603Fife",30,94057,31.895552696768998,21.515450594633901,45.534750932760701]
["ECBHCAI201603Forth Valley",36,83611,43.056535623303098,30.151866900849999,59.610479435981802]
["ECBHCAI201603Grampian",47,145070,32.398152615978503,23.802755021827,43.083850927226599]
["ECBHCAI201603Greater Glasgow & Clyde",161,448881,35.866966968973998,30.540225772106101,41.855409121867297]
["ECBHCAI201603Highland",25,78191,31.972989218708001,20.685412921638399,47.200678649672803]
["ECBHCAI201603Lanarkshire",74,147746,50.085958333897402,39.3265442850836,62.879427783342699]
["ECBHCAI201603Lothian",69,263612,26.174832708677901,20.364593402405699,33.126544604329901]
["ECBHCAI201603Golden Jubilee",1,12380,8.0775444264943506,0.10557459152445101,44.942296683643498]
["ECBHCAI201603Orkney",0,3947,0,0,92.933810297831698]
["ECBHCAI201603Shetland",0,3141,0,0,116.78120001449901]
["ECBHCAI201603Tayside",45,106847,42.116297135155897,30.716873417174501,56.356522861390303]
["ECBHCAI201603Western Isles",4,7305,54.757015742641997,14.7312852782308,140.19004273153701]
["ECBHCAI201604Ayrshire & Arran",52,120423,43.181119885736102,32.247227001028399,56.627695441167603]
["ECBHCAI201604Borders",10,32616,30.659798871719399,14.6780114530709,56.388358088209799]
["ECBHCAI201604Dumfries & Galloway",16,43532,36.754571349811599,20.994692962413399,59.690883110015399]
["ECBHCAI201604Fife",25,95378,26.211495313384599,16.9579265842839,38.695173565146803]
["ECBHCAI201604Forth Valley",38,85427,44.482423589731603,31.4742320247728,61.0576357065097]
["ECBHCAI201604Grampian",47,145837,32.227761130577299,23.677569279513801,42.857260187831301]
["ECBHCAI201604Greater Glasgow & Clyde",148,443247,33.389960902160603,28.2269086088397,39.223845817230398]
["ECBHCAI201604Highland",16,77349,20.685464582606102,11.8158085306828,33.594015740929898]
["ECBHCAI201604Lanarkshire",69,147122,46.899851823656597,36.489112410074398,59.355872515576301]
["ECBHCAI201604Lothian",89,264048,33.705992849784899,27.067803551532101,41.478721861957503]
["ECBHCAI201604Golden Jubilee",0,12049,0,0,30.443169495023799]
["ECBHCAI201604Orkney",3,3715,80.753701211305497,16.230179460336998,235.948476997011]
["ECBHCAI201604Shetland",0,2392,0,0,153.34855737689901]
["ECBHCAI201604Tayside",49,109748,44.647738455370501,33.027813211670399,59.028226001197197]
["ECBHCAI201604Western Isles",2,8800,22.727272727272702,2.5524244893663801,82.056602710283698]
["ECBHCAI201701Ayrshire & Arran",47,119981,39.1728690375976,28.780104108287599,52.093033513746001]
["ECBHCAI201701Borders",15,33461,44.828307581961099,25.071484195694801,73.942273056129196]
["ECBHCAI201701Dumfries & Galloway",11,43221,25.450591147821701,12.687385990585099,45.541312416218602]
["ECBHCAI201701Fife",35,94451,37.0562513896094,25.807077813025799,51.538124037928803]
["ECBHCAI201701Forth Valley",24,85603,28.036400593437101,17.958003568519299,41.717982824563798]
["ECBHCAI201701Grampian",43,147658,29.1213479797911,21.073006848695499,39.227429924686703]
["ECBHCAI201701Greater Glasgow & Clyde",137,439173,31.194996049392799,26.189813856752099,36.877927614430803]
["ECBHCAI201701Highland",22,78104,28.167571443203901,17.646175677021301,42.6482636954293]
["ECBHCAI201701Lanarkshire",60,147866,40.577279428671901,30.9628491750987,52.232124461076999]
["ECBHCAI201701Lothian",90,259482,34.684486785210503,27.8895358421026,42.633729736082401]
["ECBHCAI201701Golden Jubilee",0,11569,0,0,31.706262360233499]
["ECBHCAI201701Orkney",1,3608,27.7161862527716,0.36225428023079298,154.208878310285]
["ECBHCAI201701Shetland",1,2383,41.963911036508598,0.54847395848623703,233.48117202832901]
["ECBHCAI201701Tayside",58,106222,54.602624691683502,41.459385590682501,70.588123328165594]
["ECBHCAI201701Western Isles",3,8557,35.059016010283997,7.0462915385242599,102.43643707419599]
["ECBHCAI201702Ayrshire & Arran",49,116808,41.949181562906602,31.031576984062799,55.460497116459401]
["ECBHCAI201702Borders",13,32504,39.995077528919502,21.274783698204899,68.3974601010718]
["ECBHCAI201702Dumfries & Galloway",17,43510,39.071477821190499,22.7473536478435,62.561045087600299]
["ECBHCAI201702Fife",28,90490,30.942645596198499,20.556460965368501,44.722678478302697]
["ECBHCAI201702Forth Valley",37,84320,43.880455407969599,30.8915929149506,60.485491848898299]
["ECBHCAI201702Grampian",44,140460,31.325644311547801,22.758918030993399,42.0544378287629]
["ECBHCAI201702Greater Glasgow & Clyde",157,433299,36.233640049942402,30.787122153751199,42.365871812128702]
["ECBHCAI201702Highland",15,74844,20.041686708353399,11.208873559298601,33.057858996461199]
["ECBHCAI201702Lanarkshire",60,144126,41.630240206486,31.766320137415502,53.587522831145101]
["ECBHCAI201702Lothian",75,256027,29.2937854210689,23.040442461526901,36.720643712230199]
["ECBHCAI201702Golden Jubilee",0,11614,0,0,31.583412196103101]
["ECBHCAI201702Orkney",1,3521,28.4010224368077,0.37120518121917101,158.01920844745999]
["ECBHCAI201702Shetland",2,2201,90.867787369377595,10.205059294150001,328.077284802588]
["ECBHCAI201702Tayside",40,109040,36.683785766691102,26.204253344434999,49.954491944521401]
["ECBHCAI201702Western Isles",1,7803,12.815583749839799,0.167501402418647,71.304066761951503]
["ECBHCAI201703Ayrshire & Arran",60,118443,50.6572781844432,38.654480687969198,65.207359789617101]
["ECBHCAI201703Borders",12,32452,36.977690126956702,19.084893281990801,64.597056021538094]
["ECBHCAI201703Dumfries & Galloway",14,41406,33.811524899772998,18.469402141583799,56.733772611270702]
["ECBHCAI201703Fife",25,87701,28.505946340406599,18.442356663616501,42.0823966009118]
["ECBHCAI201703Forth Valley",25,80291,31.136740107857701,20.14438880766,45.9661514278881]
["ECBHCAI201703Grampian",64,138173,46.3187453409856,35.669120190874203,59.149195321147097]
["ECBHCAI201703Greater Glasgow & Clyde",139,426025,32.627193239833304,27.4283571527167,38.524559201674201]
["ECBHCAI201703Highland",22,73950,29.749830966869499,18.6374158901701,45.043948447164396]
["ECBHCAI201703Lanarkshire",84,139493,60.218075458983598,48.030592467395898,74.555214171448995]
["ECBHCAI201703Lothian",74,252661,29.288255805209399,22.9965828202373,36.769362653032097]
["ECBHCAI201703Golden Jubilee",2,11658,17.155601303825701,1.92668858349838,61.940135859538202]
["ECBHCAI201703Orkney",2,2936,68.119891008174406,7.6503186329782498,245.946220657526]
["ECBHCAI201703Shetland",3,2600,115.384615384615,23.190429498135401,337.13407386303697]
["ECBHCAI201703Tayside",56,123857,45.2134316187216,34.151403037486297,58.7147529996668]
["ECBHCAI201703Western Isles",3,7180,41.782729805013901,8.3976485647844203,122.08197660778499]
["ECBHCAI201704Ayrshire & Arran",57,123003,46.340333162605802,35.095383645333399,60.040634377656701]
["ECBHCAI201704Borders",13,32440,40.073982737361298,21.316756144465302,68.532399603120794]
["ECBHCAI201704Dumfries & Galloway",9,42845,21.0059516863111,9.5852981293550208,39.8785003168054]
["ECBHCAI201704Fife",28,89968,31.1221767739641,20.675730846036299,44.982162274382098]
["ECBHCAI201704Forth Valley",34,86859,39.143899883719598,27.103911718256299,54.701689781123498]
["ECBHCAI201704Grampian",49,139048,35.239629480467201,26.068238625182701,46.589880812233098]
["ECBHCAI201704Greater Glasgow & Clyde",140,433674,32.282313442816502,27.156030342845199,38.094740127121703]
["ECBHCAI201704Highland",14,74412,18.814169757565999,10.277160472429401,31.569082792322099]
["ECBHCAI201704Lanarkshire",64,143304,44.660302573549899,34.391987272746498,57.031358267102497]
["ECBHCAI201704Lothian",58,256805,22.585230038355999,17.1488049540059,29.197296143628002]
["ECBHCAI201704Golden Jubilee",1,12434,8.0424642110342592,0.10511608839252901,44.747115404817997]
["ECBHCAI201704Orkney",2,3819,52.369730295888999,5.8814704127845303,189.080414729117]
["ECBHCAI201704Shetland",4,2589,154.49980687524101,41.565098090952503,395.55359681493798]
["ECBHCAI201704Tayside",54,126195,42.790918816117902,32.143517463734902,55.834198758386798]
["ECBHCAI201704Western Isles",4,7572,52.826201796090899,14.211838214141,135.246732983871]
["ECBHCAI201801Ayrshire & Arran",56,122158,45.842269847247003,34.626388169534103,59.531370538808197]
["ECBHCAI201801Borders",10,32986,30.315891590371699,14.5133699616007,55.7558566484282]
["ECBHCAI201801Dumfries & Galloway",19,44662,42.5417580941292,25.600888130867599,66.438036322756403]
["ECBHCAI201801Fife",35,91836,38.1114160024391,26.541925895271,53.005655227867202]
["ECBHCAI201801Forth Valley",29,85107,34.074752958041103,22.8154990133208,48.9390923068527]
["ECBHCAI201801Grampian",48,144477,33.223281214310902,24.4940517064577,44.050429287847699]
["ECBHCAI201801Greater Glasgow & Clyde",147,435205,33.777185464321398,28.537277006844899,39.700383049621102]
["ECBHCAI201801Highland",15,75230,19.938854180513101,11.151361593408801,32.888241376194898]
["ECBHCAI201801Lanarkshire",39,143873,27.1072404134202,19.2734526910995,37.057695478879403]
["ECBHCAI201801Lothian",75,258580,29.004563384639201,22.812960639250299,36.358095164789098]
["ECBHCAI201801Golden Jubilee",2,11871,16.847780304944799,1.8921182298394501,60.828751061452003]
["ECBHCAI201801Orkney",1,3683,27.151778441487899,0.35487739426356302,151.06859433709101]
["ECBHCAI201801Shetland",2,2410,82.987551867219906,9.3200562267319995,299.62576923257097]
["ECBHCAI201801Tayside",43,124965,34.409634697715397,24.899756293879701,46.350929042687099]
["ECBHCAI201801Western Isles",3,8190,36.630036630036599,7.3620411105191801,107.02669011525001]
["ECBHCAI201802Ayrshire & Arran",64,115914,55.213347826837101,42.5186719821045,70.507632944328194]
["ECBHCAI201802Borders",12,31525,38.065027755749398,19.6460890336928,66.496547565771806]
["ECBHCAI201802Dumfries & Galloway",16,42410,37.7269511907569,21.550129074269801,61.2700665773447]
["ECBHCAI201802Fife",43,87527,49.1276977389834,35.550150756505701,66.176652322362102]
["ECBHCAI201802Forth Valley",38,83252,45.644549079901999,32.296512025900398,62.652796875750802]
["ECBHCAI201802Grampian",39,138240,28.2118055555556,20.0588068505972,38.567721510654103]
["ECBHCAI201802Greater Glasgow & Clyde",150,417159,35.957512603108199,30.433067209767501,42.1946184721808]
["ECBHCAI201802Highland",13,73332,17.7275950471827,9.42992921680103,30.3167927115753]
["ECBHCAI201802Lanarkshire",51,136851,37.266808426682999,27.745365270219601,49.000206758227201]
["ECBHCAI201802Lothian",90,255469,35.229323322986403,28.327634818238099,43.3034358743258]
["ECBHCAI201802Golden Jubilee",2,12349,16.195643371932999,1.8188788975968999,58.474216847558203]
["ECBHCAI201802Orkney",1,3487,28.677946659019199,0.37482461803060002,159.55997503398501]
["ECBHCAI201802Shetland",4,2417,165.494414563508,44.522978468132401,423.702218516291]
["ECBHCAI201802Tayside",54,117886,45.8069660519485,34.4091002013473,59.769580037617899]
["ECBHCAI201802Western Isles",3,7527,39.8565165404544,8.0105110528965202,116.453911524365]
["ECBHCAI201803Ayrshire & Arran",49,110109,44.501357745506702,32.919529233345202,58.834697864655801]
["ECBHCAI201803Borders",10,32651,30.626933325166199,14.6622774663367,56.327913001287897]
["ECBHCAI201803Dumfries & Galloway",18,43012,41.848786385194799,24.789330855762799,66.143042361990894]
["ECBHCAI201803Fife",36,89303,40.312195558939798,28.230045389818599,55.8110231024923]
["ECBHCAI201803Forth Valley",40,82126,48.705647419818298,34.7918050882448,66.325375662160695]
["ECBHCAI201803Grampian",38,136514,27.835972867251702,19.6957763978805,38.208320359084098]
["ECBHCAI201803Greater Glasgow & Clyde",180,412912,43.592823652497401,37.456437293133298,50.4475736591179]
["ECBHCAI201803Highland",25,73340,34.087810199072798,22.053628603160998,50.322719720433099]
["ECBHCAI201803Lanarkshire",70,138817,50.426100549644502,39.307754593178203,63.711516933645697]
["ECBHCAI201803Lothian",84,252485,33.269303126918402,26.535958314571001,41.190290474356601]
["ECBHCAI201803Golden Jubilee",2,12390,16.142050040355102,1.8128600085895199,58.280718632001303]
["ECBHCAI201803Orkney",3,3756,79.872204472843407,16.053012964630501,233.37289458037699]
["ECBHCAI201803Shetland",2,2446,81.766148814390803,9.1828845079411803,295.21590509014601]
["ECBHCAI201803Tayside",42,114636,36.6377054328483,26.4022903604099,49.525038358933898]
["ECBHCAI201803Western Isles",7,7123,98.273199494595005,39.370755307853699,202.490712597054]
["ECBHCAI201804Ayrshire & Arran",40,110740,36.120642947444502,25.801984690962598,49.187626888483003]
["ECBHCAI201804Borders",11,31191,35.266583309287903,17.580760793147999,63.106058284164703]
["ECBHCAI201804Dumfries & Galloway",15,43800,34.246575342465803,19.153354627217901,56.488182619432401]
["ECBHCAI201804Fife",45,91463,49.2002230410111,35.883425800649903,65.83564280825]
["ECBHCAI201804Forth Valley",29,84592,34.282201626631398,22.9544008242705,49.237035759401699]
["ECBHCAI201804Grampian",49,133702,36.648666437300903,27.110562626994401,48.452751246648397]
["ECBHCAI201804Greater Glasgow & Clyde",152,417273,36.426991442053499,30.865812184714802,42.700514721819097]
["ECBHCAI201804Highland",11,72346,15.2047106958229,7.5797073770364403,27.207324025397199]
["ECBHCAI201804Lanarkshire",72,142634,50.478847960514301,39.494799469606299,63.570891734725599]
["ECBHCAI201804Lothian",96,254499,37.721169827779299,30.553389099596899,46.064618189218002]
["ECBHCAI201804Golden Jubilee",1,11765,8.4997875053123693,0.111093365327046,47.291596510285402]
["ECBHCAI201804Orkney",0,3843,0,0,95.448802822155002]
["ECBHCAI201804Shetland",2,2501,79.968012794882,8.9809418258393094,288.72375203938299]
["ECBHCAI201804Tayside",56,115115,48.6470051687443,36.744910098718201,63.173636470310001]
["ECBHCAI201804Western Isles",3,6753,44.424700133274101,8.9286415956096707,129.80136117931201]
["ECBHCAI201901Ayrshire & Arran",52,111660,46.569944474297003,34.7779671963536,61.071798030733703]
["ECBHCAI201901Borders",9,29390,30.622660768968998,13.9735317574759,58.135227835097901]
["ECBHCAI201901Dumfries & Galloway",11,46147,23.836869135588401,11.882928682234599,42.653716686705103]
["ECBHCAI201901Fife",36,91885,39.179409043913601,27.4367714365453,54.242714220186897]
["ECBHCAI201901Forth Valley",28,80825,34.642746674914903,23.014588960794299,50.070586767727903]
["ECBHCAI201901Grampian",56,134033,41.780755485589403,31.558573828937199,54.257034926322099]
["ECBHCAI201901Greater Glasgow & Clyde",156,427318,36.506770133717701,31.002360180257199,42.706547998014599]
["ECBHCAI201901Highland",18,75357,23.886301206258199,14.149165953635,37.752890084185303]
["ECBHCAI201901Lanarkshire",59,145876,40.4453097151005,30.786911652320299,52.172642880611903]
["ECBHCAI201901Lothian",86,251904,34.139989837398403,27.306652178792,42.1632386160382]
["ECBHCAI201901Golden Jubilee",3,11654,25.742234425948201,5.1737700956883597,75.214397807095907]
["ECBHCAI201901Orkney",1,3829,26.116479498563599,0.34134589790355202,145.308339760644]
["ECBHCAI201901Shetland",1,2511,39.824771007566703,0.520515110741817,221.579304238752]
["ECBHCAI201901Tayside",56,119250,46.960167714884697,35.470778415211299,60.983087314714702]
["ECBHCAI201901Western Isles",1,6871,14.553922282055,0.190221720720812,80.975932607117898]
["ECBHCAI201902Ayrshire & Arran",46,109780,41.901985789761298,30.674593620274202,55.892934560831002]
["ECBHCAI201902Borders",15,29746,50.4269481610973,28.202680450216601,83.176978374609703]
["ECBHCAI201902Dumfries & Galloway",15,45667,32.846475573170999,18.3703096912901,54.178781148994602]
["ECBHCAI201902Fife",37,87857,42.113889616080698,29.647940569204899,58.050430502966201]
["ECBHCAI201902Forth Valley",39,77293,50.457350600959998,35.875557411752197,68.979103174062601]
["ECBHCAI201902Grampian",52,133401,38.980217539598698,29.110035285678801,51.118634553801897]
["ECBHCAI201902Greater Glasgow & Clyde",164,419871,39.059615929654598,33.309881996072399,45.516606661135597]
["ECBHCAI201902Highland",19,74804,25.399711245387898,15.285103279247201,39.667070988810003]
["ECBHCAI201902Lanarkshire",64,145187,44.081081639540699,33.945941056249197,56.291691164559197]
["ECBHCAI201902Lothian",82,244255,33.571472436592899,26.699405009452502,41.671701837786998]
["ECBHCAI201902Golden Jubilee",3,11897,25.21644111961,5.0680941998110498,73.678119865839804]
["ECBHCAI201902Orkney",2,3479,57.487783845932697,6.4562620024214201,207.559098548576]
["ECBHCAI201902Shetland",3,2542,118.01730920535,23.719558101948099,344.82635406919599]
["ECBHCAI201902Tayside",41,113492,36.125894336164698,25.921550837327999,49.0103771428521]
["ECBHCAI201902Western Isles",2,7013,28.518465706545001,3.2028141318157899,102.96565005710799]
["ECBHCAI201903Ayrshire & Arran",50,110670,45.179362067407602,33.530217451011701,59.564888304107399]
["ECBHCAI201903Borders",8,28962,27.622401767833701,11.893628076996499,54.430486471864]
["ECBHCAI201903Dumfries & Galloway",12,46074,26.045057950253899,13.4423526671694,45.498625298670703]
["ECBHCAI201903Fife",28,90276,31.0159953919093,20.605190225045401,44.828693955221901]
["ECBHCAI201903Forth Valley",38,72461,52.442003284525498,37.106156679872797,71.983144664026298]
["ECBHCAI201903Grampian",74,133865,55.279572703843399,43.404471758442902,69.399648431462694]
["ECBHCAI201903Greater Glasgow & Clyde",172,416741,41.2726369615661,35.334504010107402,47.922922103813399]
["ECBHCAI201903Highland",17,75715,22.4526183715248,13.0718795115587,35.951014617466697]
["ECBHCAI201903Lanarkshire",65,146465,44.379203222612901,34.2490993814001,56.566059485466198]
["ECBHCAI201903Lothian",85,245501,34.6230768917438,27.654721722612301,42.812617048148198]
["ECBHCAI201903Golden Jubilee",3,12067,24.8611916797879,4.9966948450445097,72.640141878171505]
["ECBHCAI201903Orkney",4,2983,134.09319477036499,36.075105248902403,343.30816699761101]
["ECBHCAI201903Shetland",2,2694,74.239049740163296,8.3375410194595894,268.03938524517298]
["ECBHCAI201903Tayside",47,115794,40.589322417396403,29.8207650743255,53.976667651283798]
["ECBHCAI201903Western Isles",3,6702,44.762757385854997,8.9965856005896896,130.78910654191199]
["ECBHCAI201904Ayrshire & Arran",46,111501,41.255235379054902,30.201136201771298,55.030236106295298]
["ECBHCAI201904Borders",14,29415,47.594764575896697,25.998438384307999,79.861247280036594]
["ECBHCAI201904Dumfries & Galloway",18,46458,38.744672607516499,22.950594058462901,61.236913730120797]
["ECBHCAI201904Fife",55,91708,59.972957648187702,45.176652962892902,78.064876711809504]
["ECBHCAI201904Forth Valley",38,75205,50.528555282228602,35.752266726683899,69.356700292533802]
["ECBHCAI201904Grampian",53,135055,39.243271259857103,29.393697274248701,51.332412167942501]
["ECBHCAI201904Greater Glasgow & Clyde",151,429650,35.144885371814297,29.762447909033099,41.219205075854397]
["ECBHCAI201904Highland",18,73909,24.354273498491398,14.4263716024851,38.492531871273499]
["ECBHCAI201904Lanarkshire",77,147326,52.265044866486598,41.245077398378598,65.323429644540198]
["ECBHCAI201904Lothian",95,249135,38.131936500290998,30.850111139403801,46.614942655643397]
["ECBHCAI201904Golden Jubilee",1,11659,8.5770649283815104,0.11210339163502001,47.721556989751001]
["ECBHCAI201904Orkney",1,2915,34.305317324185197,0.44837510911584999,190.86985692744699]
["ECBHCAI201904Shetland",3,2673,112.233445566779,22.5570956584931,327.92689563931799]
["ECBHCAI201904Tayside",54,117969,45.77473743102,34.3848908300996,59.727527675191098]
["ECBHCAI201904Western Isles",2,6884,29.052876234747199,3.2628320026763702,104.895134202571]
["ECBHCAI202001Ayrshire & Arran",50,107445,46.535436735073802,34.536638887835302,61.352749673000801]
["ECBHCAI202001Borders",10,28855,34.656038814763498,16.5911634570563,63.7380934813742]
["ECBHCAI202001Dumfries & Galloway",15,44334,33.834077683042402,18.922653779765898,55.807786320456998]
["ECBHCAI202001Fife",42,87695,47.893266434802399,34.513403931306797,64.739749099888797]
["ECBHCAI202001Forth Valley",37,74682,49.543397338046702,34.878272068083803,68.2913777442905]
["ECBHCAI202001Grampian",49,132936,36.859842330143799,27.2667783320876,48.731944297852998]
["ECBHCAI202001Greater Glasgow & Clyde",123,413057,29.777972531636099,24.747916795906399,35.529705189963302]
["ECBHCAI202001Highland",16,71286,22.444799820441599,12.8207638812639,36.4512460166819]
["ECBHCAI202001Lanarkshire",64,140747,45.471661918193597,35.016798540172502,58.067466909482]
["ECBHCAI202001Lothian",84,240426,34.937985076489198,27.866917201361201,43.256263841755597]
["ECBHCAI202001Golden Jubilee",0,10915,0,0,33.606023751309401]
["ECBHCAI202001Orkney",1,3184,31.4070351758794,0.41049417181931602,174.74423145210699]
["ECBHCAI202001Shetland",1,2514,39.7772474144789,0.51989397099152801,221.31488979455301]
["ECBHCAI202001Tayside",44,111517,39.455867715236202,28.665742681683799,52.969200547253202]
["ECBHCAI202001Western Isles",2,6357,31.461381154632701,3.5333231880484699,113.59101838139]
["ECBHCAI202002Ayrshire & Arran",36,81868,43.973225191772102,30.793811299249601,60.879608590925301]
["ECBHCAI202002Borders",14,20636,67.842605156038005,37.058735465905201,113.835946343394]
["ECBHCAI202002Dumfries & Galloway",10,27088,36.916715888954499,17.673435526925601,67.8958464044984]
["ECBHCAI202002Fife",23,63495,36.223324671234003,22.954946446696699,54.355516295576997]
["ECBHCAI202002Forth Valley",33,57076,57.817646646576499,39.792231833511899,81.200539802562005]
["ECBHCAI202002Grampian",36,95717,37.610873721491501,26.338348918655701,52.071124211183701]
["ECBHCAI202002Greater Glasgow & Clyde",125,305581,40.905684581174903,34.048873684083802,48.737771221425497]
["ECBHCAI202002Highland",13,50361,25.813625623001901,13.7311723223616,44.145093288958499]
["ECBHCAI202002Lanarkshire",51,100174,50.9114141393975,37.9038571145689,66.940795965721193]
["ECBHCAI202002Lothian",57,182151,31.292718678459099,23.699224679123098,40.544263552519098]
["ECBHCAI202002Golden Jubilee",1,8152,12.266928361138399,0.160330402732176,68.251427004846306]
["ECBHCAI202002Orkney",0,2102,0,0,174.50511381805001]
["ECBHCAI202002Shetland",0,1591,0,0,230.55295364270401]
["ECBHCAI202002Tayside",28,81757,34.247831989921401,22.752231035338799,49.499800329043502]
["ECBHCAI202002Western Isles",2,3200,62.5,7.0191673457575403,225.65565745328001]
["ECBHCAI202003Ayrshire & Arran",60,97707,61.4080874451165,46.857980043652297,79.046079764618895]
["ECBHCAI202003Borders",13,25295,51.393556038742801,27.338033972186299,87.890533430529302]
["ECBHCAI202003Dumfries & Galloway",11,36727,29.950717455822701,14.930746042396001,53.593842784365201]
["ECBHCAI202003Fife",34,75272,45.169518546072901,31.276154053778601,63.122197798631703]
["ECBHCAI202003Forth Valley",42,66050,63.588190764572303,45.823663251414899,85.955371647460296]
["ECBHCAI202003Grampian",51,107482,47.449805548836103,35.326668489559403,62.389305140117898]
["ECBHCAI202003Greater Glasgow & Clyde",142,376935,37.672277713664201,31.730536439035301,44.403296749488597]
["ECBHCAI202003Highland",19,59671,31.841262925039,19.1615167451661,49.726928964605001]
["ECBHCAI202003Lanarkshire",58,122500,47.346938775510203,35.950194744599798,61.208258254403297]
["ECBHCAI202003Lothian",68,217934,31.202107059935599,24.228452418531901,39.556855240670203]
["ECBHCAI202003Golden Jubilee",1,10016,9.9840255591054294,0.130492556217322,55.549683800270302]
["ECBHCAI202003Orkney",1,2700,37.037037037037003,0.48407905298989001,206.06875294203999]
["ECBHCAI202003Shetland",2,2091,95.648015303682499,10.741910811298,345.33625243926201]
["ECBHCAI202003Tayside",42,99451,42.231852872268803,30.433610096991998,57.086930220055599]
["ECBHCAI202003Western Isles",3,4152,72.254335260115596,14.521945254131101,211.11478613774]
["ECBHCAI202004Ayrshire & Arran",56,102772,54.489549682792997,41.1580034057326,70.760841107302895]
["ECBHCAI202004Borders",12,27161,44.180994808733097,22.802656632199302,77.180651007361803]
["ECBHCAI202004Dumfries & Galloway",15,37533,39.964830948765098,22.351448929532499,65.920187534466706]
["ECBHCAI202004Fife",39,77595,50.260970423351999,35.7359296220963,68.710636273378697]
["ECBHCAI202004Forth Valley",40,70565,56.685325586338799,40.4919122040274,77.191777816631699]
["ECBHCAI202004Grampian",42,108028,38.878809197615404,28.0173006790457,52.554451598796099]
["ECBHCAI202004Greater Glasgow & Clyde",159,390384,40.729128242960797,34.643912707047001,47.575316620145898]
["ECBHCAI202004Highland",19,63656,29.847932637928899,17.9619653402791,46.613918220543901]
["ECBHCAI202004Lanarkshire",57,127447,44.7244737027941,33.871628791002898,57.947053679999598]
["ECBHCAI202004Lothian",67,226514,29.5787456845934,22.9219541863622,37.564684076059798]
["ECBHCAI202004Golden Jubilee",1,11255,8.8849400266548209,0.116127360557326,49.434529803954398]
["ECBHCAI202004Orkney",0,3055,0,0,120.068657690848]
["ECBHCAI202004Shetland",3,2118,141.64305949008499,28.467949336710198,413.85674789607901]
["ECBHCAI202004Tayside",44,104559,42.081504222496399,30.573337796204399,56.494097470595896]
["ECBHCAI202004Western Isles",1,5151,19.413706076490001,0.253739748218346,108.015071431471]
["SABHCAI201404Ayrshire & Arran",22,116457,18.891092849721399,11.834727883064801,28.602831840660599]
["SABHCAI201404Borders",6,32633,18.386296080654599,6.7138808588964496,40.020516865374802]
["SABHCAI201404Dumfries & Galloway",5,43399,11.521002788082701,3.71278108093383,26.886106983893001]
["SABHCAI201404Fife",10,99647,10.035425050428,4.8043395340889399,18.456779304997202]
["SABHCAI201404Forth Valley",13,87095,14.9262299787588,7.9397849397376703,25.526046766464599]
["SABHCAI201404Grampian",27,159496,16.9283242212971,11.153146645732001,24.630923354051799]
["SABHCAI201404Greater Glasgow & Clyde",77,477840,16.1141804788214,12.7165416725128,20.140297161835601]
["SABHCAI201404Highland",14,80452,17.401680505145901,9.5055942061654193,29.199007964280302]
["SABHCAI201404Lanarkshire",31,163546,18.954911767942999,12.876491321214401,26.906056840719501]
["SABHCAI201404Lothian",44,288140,15.270354688693001,11.0943209087018,20.5003343424309]
["SABHCAI201404Golden Jubilee",0,12222,0,0,30.012252433770399]
["SABHCAI201404Orkney",0,4331,0,0,84.694008137968595]
["SABHCAI201404Shetland",1,3359,29.770765108663301,0.38910790207582702,165.64025988196099]
["SABHCAI201404Tayside",23,134798,17.062567693882698,10.8126554150136,25.603521618923601]
["SABHCAI201404Western Isles",2,8425,23.738872403560801,2.6660338880028598,85.708973750800794]
["SABHCAI201501Ayrshire & Arran",21,118008,17.795403701443998,11.0113523339529,27.203628232065402]
["SABHCAI201501Borders",6,34341,17.4718266794793,6.3799561477058901,38.030037764414999]
["SABHCAI201501Dumfries & Galloway",6,44394,13.515339910798801,4.9352181391261896,29.4181539592687]
["SABHCAI201501Fife",11,99050,11.105502271580001,5.5362090853011496,19.872196506222899]
["SABHCAI201501Forth Valley",13,87778,14.810089088382099,7.8780055290215403,25.327428776290599]
["SABHCAI201501Grampian",19,162238,11.7111897336013,7.0475897490156898,18.289522665756099]
["SABHCAI201501Greater Glasgow & Clyde",72,480533,14.9833622248628,11.723026779737999,18.8694024587091]
["SABHCAI201501Highland",9,81010,11.109739538328601,5.0695234952748498,21.091153512819702]
["SABHCAI201501Lanarkshire",33,161714,20.406396477732301,14.044432913226601,28.659250341782599]
["SABHCAI201501Lothian",47,287680,16.3375973303671,12.0031481890171,21.726134086529299]
["SABHCAI201501Golden Jubilee",1,12254,8.1606006202056491,0.106660147141562,45.404409412722998]
["SABHCAI201501Orkney",4,4585,87.241003271537593,23.470455606864999,223.356218572274]
["SABHCAI201501Shetland",0,3528,0,0,103.971017359847]
["SABHCAI201501Tayside",20,137758,14.5182130983319,8.8643221550657998,22.423448247123901]
["SABHCAI201501Western Isles",1,8813,11.346873936230599,0.14830516771504601,63.132376369398301]
["SABHCAI201502Ayrshire & Arran",18,118290,15.216839969566299,9.0137686936179708,24.050592087868399]
["SABHCAI201502Borders",6,32123,18.678205647044201,6.8204736191628399,40.6559015928704]
["SABHCAI201502Dumfries & Galloway",7,43654,16.035185779081001,6.4241052379585302,33.040302053163899]
["SABHCAI201502Fife",21,94851,22.1399879811494,13.699672815522399,33.845144072382702]
["SABHCAI201502Forth Valley",19,85671,22.177866489243701,13.3462532910881,34.635472659907599]
["SABHCAI201502Grampian",25,155593,16.0675608799882,10.395153520761401,23.720014809770099]
["SABHCAI201502Greater Glasgow & Clyde",89,454759,19.5708056355124,15.716455072192,24.0839071908553]
["SABHCAI201502Highland",10,79471,12.5832064526683,6.0240593619478799,23.142563795661999]
["SABHCAI201502Lanarkshire",14,158944,8.8081336823032004,4.8114056842310502,14.7795361180181]
["SABHCAI201502Lothian",51,274583,18.573618905758899,13.8281721104177,24.421494757760499]
["SABHCAI201502Golden Jubilee",4,11881,33.667199730662396,9.0574900225129191,86.195460159403694]
["SABHCAI201502Orkney",2,4168,47.984644913627598,5.3889960428080901,173.24810553034899]
["SABHCAI201502Shetland",1,3263,30.646644192460901,0.40055575944612398,170.51352526616799]
["SABHCAI201502Tayside",17,135612,12.5357637967142,7.29830219462636,20.072199154658101]
["SABHCAI201502Western Isles",0,8554,0,0,42.881663461017297]
["SABHCAI201503Ayrshire & Arran",18,114903,15.665387326701699,9.2794678882889894,24.759532284395998]
["SABHCAI201503Borders",5,31173,16.039521380682,5.1689277942914504,37.4307945014586]
["SABHCAI201503Dumfries & Galloway",10,42757,23.387983254203998,11.1967168312407,43.014306134786203]
["SABHCAI201503Fife",25,93360,26.778063410454202,17.324476454111299,39.531579523313702]
["SABHCAI201503Forth Valley",16,85803,18.647366642192001,10.6516202701512,30.284063768693301]
["SABHCAI201503Grampian",16,148857,10.7485707759796,6.1397245278339696,17.456105682266799]
["SABHCAI201503Greater Glasgow & Clyde",85,439656,19.333296941244999,15.4422135433681,23.9062819521113]
["SABHCAI201503Highland",12,79641,15.067615926469999,7.7766848330277698,26.321915370361399]
["SABHCAI201503Lanarkshire",24,155047,15.4791772817275,9.9147934463482592,23.032915720595302]
["SABHCAI201503Lothian",32,267000,11.9850187265918,8.1962695963727406,16.9199268869876]
["SABHCAI201503Golden Jubilee",3,12077,24.8406061107891,4.9925574807611302,72.579994373097307]
["SABHCAI201503Orkney",0,4206,0,0,87.211067343210104]
["SABHCAI201503Shetland",1,3047,32.819166393173603,0.42895091666317697,182.60112666344199]
["SABHCAI201503Tayside",27,135107,19.984160702258201,13.166470111894,29.077203633252498]
["SABHCAI201503Western Isles",1,8267,12.096286440062901,0.15810008988420199,67.301999872203595]
["SABHCAI201504Ayrshire & Arran",21,117416,17.885126388226499,11.066870496568701,27.340786267711199]
["SABHCAI201504Borders",4,32713,12.227554794729899,3.2895802573128701,31.305238350315602]
["SABHCAI201504Dumfries & Galloway",8,44283,18.065623376916701,7.7786793208674103,35.598666513066497]
["SABHCAI201504Fife",16,93976,17.025623563463,9.7252593645162708,27.650288622043799]
["SABHCAI201504Forth Valley",16,84874,18.8514739496194,10.7682090397505,30.615542139467799]
["SABHCAI201504Grampian",34,151027,22.5125308719633,15.5880648356653,31.4601632337172]
["SABHCAI201504Greater Glasgow & Clyde",91,447333,20.342787140675998,16.378230984570099,24.976786297582599]
["SABHCAI201504Highland",15,79839,18.787810468568001,10.5076082199444,30.9896466480184]
["SABHCAI201504Lanarkshire",34,158949,21.390508905372201,14.811157465199701,29.8921922924876]
["SABHCAI201504Lothian",30,268100,11.1898545318911,7.5482235605351802,15.9748678421584]
["SABHCAI201504Golden Jubilee",2,12688,15.762925598991201,1.7702818022087099,56.911893430839903]
["SABHCAI201504Orkney",1,3935,25.412960609911099,0.33215081145430803,141.39406173913801]
["SABHCAI201504Shetland",0,3187,0,0,115.095622606069]
["SABHCAI201504Tayside",31,135734,22.838787628744502,15.514894202037199,32.419128383988699]
["SABHCAI201504Western Isles",0,8107,0,0,45.246052700819298]
["SABHCAI201601Ayrshire & Arran",26,119132,21.8245307725884,14.252776392682099,31.9794661197637]
["SABHCAI201601Borders",3,32229,9.3083868565577603,1.8708342391992301,27.197511311052001]
["SABHCAI201601Dumfries & Galloway",6,45223,13.267585078389301,4.8447487797883397,28.878878598672699]
["SABHCAI201601Fife",20,94690,21.1215545464146,12.896095590215999,32.622340095335197]
["SABHCAI201601Forth Valley",10,85625,11.6788321167883,5.5911009816450798,21.4792722616648]
["SABHCAI201601Grampian",29,155101,18.6974938910774,12.5193175706584,26.8538521928247]
["SABHCAI201601Greater Glasgow & Clyde",68,462860,14.6912673378559,11.407776756212099,18.6250349782228]
["SABHCAI201601Highland",10,82505,12.1204775468153,5.8025334410443001,22.291530057633501]
["SABHCAI201601Lanarkshire",22,158839,13.8505027102916,8.6769427223671496,20.970920162351899]
["SABHCAI201601Lothian",40,272449,14.681646840326099,10.4875106338331,19.992871332361702]
["SABHCAI201601Golden Jubilee",2,12668,15.7878118092832,1.7730766898029799,57.001744857159501]
["SABHCAI201601Orkney",5,3843,130.10668748373701,41.928437713101097,303.62481316522798]
["SABHCAI201601Shetland",2,3146,63.572790845518099,7.1396489213045502,229.528958630164]
["SABHCAI201601Tayside",36,138172,26.054482818516,18.245576118511501,36.0716483522123]
["SABHCAI201601Western Isles",0,7965,0,0,46.052699214757297]
["SABHCAI201602Ayrshire & Arran",13,116346,11.1735684939749,5.9436127527070397,19.108444150424098]
["SABHCAI201602Borders",3,32572,9.2103647304433292,1.85113338742331,26.911107455602799]
["SABHCAI201602Dumfries & Galloway",4,43631,9.1677935412894502,2.4664123892983398,23.471574388711598]
["SABHCAI201602Fife",17,93313,18.218254691200599,10.6066395595219,29.1709737310074]
["SABHCAI201602Forth Valley",18,84437,21.317668794485801,12.6276241312229,33.693103000745602]
["SABHCAI201602Grampian",24,147762,16.242335647866199,10.4036151343103,24.168490435505301]
["SABHCAI201602Greater Glasgow & Clyde",72,450499,15.9822774301386,12.504580981418,20.127393338699601]
["SABHCAI201602Highland",10,78289,12.773186526842901,6.1150100467927802,23.491968059434299]
["SABHCAI201602Lanarkshire",33,149629,22.054548249336701,15.178751606503599,30.973955648778201]
["SABHCAI201602Lothian",41,263796,15.542312999439,11.1521351636493,21.085557486453801]
["SABHCAI201602Golden Jubilee",3,13158,22.7998176014592,4.5823922096938796,66.617160058055603]
["SABHCAI201602Orkney",1,3801,26.3088660878716,0.34386041648847698,146.37875110326399]
["SABHCAI201602Shetland",0,2995,0,0,122.474039814872]
["SABHCAI201602Tayside",19,118332,16.0565189466924,9.6625330908022207,25.075681795684599]
["SABHCAI201602Western Isles",2,6544,30.562347188264098,3.4323556702970901,110.34506476932999]
["SABHCAI201603Ayrshire & Arran",16,118267,13.528710460229799,7.7277767597028797,21.9711629071946]
["SABHCAI201603Borders",3,31455,9.5374344301382905,1.9168690731251701,27.8667490714957]
["SABHCAI201603Dumfries & Galloway",6,43380,13.8312586445367,5.0505780098747799,30.1057982219404]
["SABHCAI201603Fife",13,94057,13.8214061685999,7.3520904273626897,23.6366356903286]
["SABHCAI201603Forth Valley",12,83611,14.3521785411011,7.4074339116523502,25.072103694620999]
["SABHCAI201603Grampian",27,145070,18.6117046942855,12.2622339381517,27.0802629853026]
["SABHCAI201603Greater Glasgow & Clyde",84,448881,18.713200157725499,14.925852141334699,23.1685691540028]
["SABHCAI201603Highland",11,78191,14.068115256231501,7.0131026575830804,25.173499046455198]
["SABHCAI201603Lanarkshire",31,147746,20.981955518254299,14.2535070297627,29.783398346299201]
["SABHCAI201603Lothian",40,263612,15.1738160630017,10.839080863834701,20.663087422539999]
["SABHCAI201603Golden Jubilee",2,12380,16.155088852988701,1.81432435431536,58.327795141397097]
["SABHCAI201603Orkney",1,3947,25.335697998479901,0.331140978736433,140.964183669498]
["SABHCAI201603Shetland",1,3141,31.836994587710901,0.41611379913170998,177.13646384702599]
["SABHCAI201603Tayside",24,106847,22.462025138749802,14.387479100732399,33.423348186950903]
["SABHCAI201603Western Isles",2,7305,27.378507871320998,3.0747892548150801,98.849843100683998]
["SABHCAI201604Ayrshire & Arran",11,120423,9.1344676681364891,4.5536277114760297,16.3452252803981]
["SABHCAI201604Borders",5,32616,15.3298994358597,4.9402436267919896,35.774777930891901]
["SABHCAI201604Dumfries & Galloway",5,43532,11.485803546816101,3.7014377040211199,26.803963911466699]
["SABHCAI201604Fife",17,95378,17.823816813101601,10.3769984400771,28.539401872145501]
["SABHCAI201604Forth Valley",21,85427,24.582391983798999,15.210971545590001,37.578818879389097]
["SABHCAI201604Grampian",23,145837,15.771032042622901,9.9942012289954505,23.665486174205899]
["SABHCAI201604Greater Glasgow & Clyde",76,443247,17.146196138947399,13.508690968526601,21.4613845524974]
["SABHCAI201604Highland",12,77349,15.514098436954599,8.0071229981921501,27.101884471821901]
["SABHCAI201604Lanarkshire",31,147122,21.0709479207732,14.313961539534001,29.909720993952799]
["SABHCAI201604Lothian",34,264048,12.876446706659401,8.9158738863237996,17.9942058743055]
["SABHCAI201604Golden Jubilee",2,12049,16.5988878745124,1.8641659479146899,59.930127301062001]
["SABHCAI201604Orkney",0,3715,0,0,98.737482973227898]
["SABHCAI201604Shetland",2,2392,83.612040133779303,9.3901904291070792,301.880478198368]
["SABHCAI201604Tayside",25,109748,22.779458395597199,14.737517966212,33.628569671397798]
["SABHCAI201604Western Isles",1,8800,11.363636363636401,0.14852425489462501,63.225640107216698]
["SABHCAI201701Ayrshire & Arran",18,119981,15.002375376101201,8.8867295552468306,23.711625491319101]
["SABHCAI201701Borders",4,33461,11.9542153551896,3.2160437212718098,30.605429071273299]
["SABHCAI201701Dumfries & Galloway",6,43221,13.8821406260845,5.06915791093145,30.216550446953502]
["SABHCAI201701Fife",13,94451,13.7637505161406,7.3214213647971196,23.538036051764799]
["SABHCAI201701Forth Valley",21,85603,24.5318505192575,15.179697746867699,37.5015567259275]
["SABHCAI201701Grampian",20,147658,13.544813013856301,8.2699975039452998,20.920027249639599]
["SABHCAI201701Greater Glasgow & Clyde",84,439173,19.126858891598499,15.255790850199,23.680714639602002]
["SABHCAI201701Highland",6,78104,7.6820649390556204,2.8051581745924401,16.7211605918746]
["SABHCAI201701Lanarkshire",35,147866,23.6700796667253,16.484548892362699,32.920531788960297]
["SABHCAI201701Lothian",28,259482,10.790729222065499,7.1687213477474296,15.596284811669401]
["SABHCAI201701Golden Jubilee",4,11569,34.575157749157199,9.3017580566579596,88.520033032576293]
["SABHCAI201701Orkney",0,3608,0,0,101.665673294219]
["SABHCAI201701Shetland",1,2383,41.963911036508598,0.54847395848623703,233.48117202832901]
["SABHCAI201701Tayside",18,106222,16.945642145694901,10.037833017341701,26.783006703639099]
["SABHCAI201701Western Isles",1,8557,11.686338670094701,0.15274201742114099,65.021109377528006]
["SABHCAI201702Ayrshire & Arran",15,116808,12.841586192726499,7.1820160662980603,21.181617686555199]
["SABHCAI201702Borders",6,32504,18.459266551809002,6.74052652191632,40.179347983871999]
["SABHCAI201702Dumfries & Galloway",5,43510,11.491611123879601,3.7033092652596502,26.8175168235801]
["SABHCAI201702Fife",20,90490,22.101889711570301,13.4946545633501,34.136472357468101]
["SABHCAI201702Forth Valley",14,84320,16.603415559772301,9.0695453637858208,27.859565805767001]
["SABHCAI201702Grampian",20,140460,14.2389292325217,8.6938010211986008,21.992093006032199]
["SABHCAI201702Greater Glasgow & Clyde",86,433299,19.847726396783699,15.875076818655099,24.5121462554368]
["SABHCAI201702Highland",6,74844,8.0166746833413498,2.9273431947566699,17.449488627916399]
["SABHCAI201702Lanarkshire",26,144126,18.039770756143898,11.7810926357007,26.433660531615999]
["SABHCAI201702Lothian",29,256027,11.3269303628133,7.5841949268112003,16.268047233140699]
["SABHCAI201702Golden Jubilee",0,11614,0,0,31.583412196103101]
["SABHCAI201702Orkney",1,3521,28.4010224368077,0.37120518121917101,158.01920844745999]
["SABHCAI201702Shetland",0,2201,0,0,166.65595149729299]
["SABHCAI201702Tayside",19,109040,17.424798239178301,10.4859397074542,27.212541986857499]
["SABHCAI201702Western Isles",1,7803,12.815583749839799,0.167501402418647,71.304066761951503]
["SABHCAI201703Ayrshire & Arran",17,118443,14.3528954855922,8.3562334390185207,22.981780871486599]
["SABHCAI201703Borders",6,32452,18.488845063478401,6.7513273162938496,40.243730027972902]
["SABHCAI201703Dumfries & Galloway",4,41406,9.6604356856494196,2.59894795337574,24.732846982415001]
["SABHCAI201703Fife",13,87701,14.823092097011401,7.8849222851102398,25.349665831920301]
["SABHCAI201703Forth Valley",18,80291,22.418452877657501,13.2796789025927,35.432919481311103]
["SABHCAI201703Grampian",31,138173,22.435642274539902,15.241028635256701,31.846872920703198]
["SABHCAI201703Greater Glasgow & Clyde",76,426025,17.8393286778945,14.0547778785905,22.328957968994299]
["SABHCAI201703Highland",11,73950,14.874915483434799,7.4153010128340604,26.6171881533656]
["SABHCAI201703Lanarkshire",28,139493,20.072691819661198,13.335107516192201,29.0118871592238]
["SABHCAI201703Lothian",39,252661,15.4357023838266,10.974900989969001,21.101799730202998]
["SABHCAI201703Golden Jubilee",5,11658,42.889003259564198,13.8214947788169,100.088364813345]
["SABHCAI201703Orkney",1,2936,34.059945504087203,0.44516806644165602,189.504643373129]
["SABHCAI201703Shetland",2,2600,76.923076923076906,8.6389751947785101,277.73003994249899]
["SABHCAI201703Tayside",26,123857,20.991950394406501,13.7090496073133,30.7594868096247]
["SABHCAI201703Western Isles",1,7180,13.9275766016713,0.18203529847809199,77.491035228900699]
["SABHCAI201704Ayrshire & Arran",14,123003,11.3818362153769,6.2172797823989701,19.0980593054013]
["SABHCAI201704Borders",4,32440,12.330456226880401,3.3172638396262601,31.568688722375899]
["SABHCAI201704Dumfries & Galloway",3,42845,7.0019838954370401,1.4072847869098399,20.458597083531199]
["SABHCAI201704Fife",11,89968,12.2265694469145,6.0950728025417797,21.8782351940844]
["SABHCAI201704Forth Valley",16,86859,18.420658768809201,10.5221217610125,29.915881181514699]
["SABHCAI201704Grampian",22,139048,15.8218744606179,9.9119505859708497,23.955756196909]
["SABHCAI201704Greater Glasgow & Clyde",88,433674,20.291739878341801,16.274032413144599,25.000355264138399]
["SABHCAI201704Highland",6,74412,8.06321561038542,2.9443379302850099,17.550791900066901]
["SABHCAI201704Lanarkshire",30,143304,20.934516831351502,14.121578857390499,29.886549353002501]
["SABHCAI201704Lothian",39,256805,15.186620198204899,10.797801674525701,20.761285105947401]
["SABHCAI201704Golden Jubilee",3,12434,24.127392633102801,4.8492131812089498,70.496106807455007]
["SABHCAI201704Orkney",0,3819,0,0,96.048638189458401]
["SABHCAI201704Shetland",1,2589,38.624951718810401,0.50483331134519205,214.90368209482699]
["SABHCAI201704Tayside",23,126195,18.225761717976098,11.5497787125719,27.3489718862686]
["SABHCAI201704Western Isles",2,7572,26.4131008980454,2.96636760518015,95.364250376452205]
["SABHCAI201801Ayrshire & Arran",23,122158,18.828075115833599,11.931468464063,28.252783339508301]
["SABHCAI201801Borders",12,32986,36.379069908445999,18.7759339352199,63.551314558023201]
["SABHCAI201801Dumfries & Galloway",2,44662,4.4780797993820203,0.502918263992301,16.168064660124902]
["SABHCAI201801Fife",16,91836,17.422361601115,9.9518813323727109,28.2946069465699]
["SABHCAI201801Forth Valley",19,85107,22.3248381449235,13.434698270422,34.865000273149597]
["SABHCAI201801Grampian",28,144477,19.380247375014701,12.8750884414557,28.011068720291899]
["SABHCAI201801Greater Glasgow & Clyde",96,435205,22.058570099148699,17.866998247856301,26.937648383032801]
["SABHCAI201801Highland",5,75230,6.6462847268376999,2.1418448242914701,15.510170902485299]
["SABHCAI201801Lanarkshire",30,143873,20.851723394938599,14.0657297517914,29.768351730225099]
["SABHCAI201801Lothian",40,258580,15.4691004718076,11.0500107691128,21.065193756789402]
["SABHCAI201801Golden Jubilee",4,11871,33.695560609889597,9.0651199526135997,86.268070268206102]
["SABHCAI201801Orkney",0,3683,0,0,99.595370416926897]
["SABHCAI201801Shetland",2,2410,82.987551867219906,9.3200562267319995,299.62576923257097]
["SABHCAI201801Tayside",17,124965,13.6038090665386,7.9201164903586596,21.782347631428699]
["SABHCAI201801Western Isles",2,8190,24.420024420024401,2.74253180786619,88.168266648412299]
["SABHCAI201802Ayrshire & Arran",16,115914,13.8033369567093,7.8846470145088698,22.417167240757699]
["SABHCAI201802Borders",6,31525,19.032513877874699,6.9498516754438704,41.4271063241166]
["SABHCAI201802Dumfries & Galloway",4,42410,9.4317377976892196,2.53742133830408,24.1473299258164]
["SABHCAI201802Fife",24,87527,27.4201103659442,17.563254532612302,40.800946950439702]
["SABHCAI201802Forth Valley",8,83252,9.6093787536635809,4.1375973714261702,18.9354700091064]
["SABHCAI201802Grampian",27,138240,19.53125,12.8680720298587,28.418212899868699]
["SABHCAI201802Greater Glasgow & Clyde",89,417159,21.334790811177498,17.1330341480705,26.254673997699101]
["SABHCAI201802Highland",14,73332,19.091256204658301,10.428517769519701,32.0340177377172]
["SABHCAI201802Lanarkshire",25,136851,18.2680433464133,11.8187892069172,26.968515131760601]
["SABHCAI201802Lothian",35,255469,13.7002924033836,9.5412919239442093,19.054473746350499]
["SABHCAI201802Golden Jubilee",1,12349,8.0978216859664798,0.10583961803163799,45.055116442101202]
["SABHCAI201802Orkney",1,3487,28.677946659019199,0.37482461803060002,159.55997503398501]
["SABHCAI201802Shetland",2,2417,82.7472072817542,9.2930639248755202,298.75800738539402]
["SABHCAI201802Tayside",12,117886,10.179325789321901,5.25374477704871,17.782464940798398]
["SABHCAI201802Western Isles",0,7527,0,0,48.732529460016202]
["SABHCAI201803Ayrshire & Arran",18,110109,16.3474375391657,9.6834836277513201,25.837529521419299]
["SABHCAI201803Borders",9,32651,27.564239992649501,12.5779332440726,52.329005116949801]
["SABHCAI201803Dumfries & Galloway",3,43012,6.9747977308658102,1.4018208103587899,20.379163769271301]
["SABHCAI201803Fife",23,89303,25.7550138293226,16.321112668477099,38.647117198612101]
["SABHCAI201803Forth Valley",20,82126,24.352823709909199,14.8689975335162,37.613050478865297]
["SABHCAI201803Grampian",25,136514,18.313140044244498,11.8479652032453,27.0350899123648]
["SABHCAI201803Greater Glasgow & Clyde",67,412912,16.226217692873998,12.574455405921,20.6071193106633]
["SABHCAI201803Highland",10,73340,13.635124079629099,6.5276523255162298,25.077211445391999]
["SABHCAI201803Lanarkshire",21,138817,15.1278301648933,9.36072430772251,23.125739357640398]
["SABHCAI201803Lothian",35,252485,13.862209636216001,9.6540559103237999,19.2796694992036]
["SABHCAI201803Golden Jubilee",1,12390,8.0710250201775597,0.10548938200748199,44.906023643543797]
["SABHCAI201803Orkney",0,3756,0,0,97.659677647907799]
["SABHCAI201803Shetland",1,2446,40.883074407195402,0.53434727844345897,227.467552307239]
["SABHCAI201803Tayside",19,114636,16.574200076764701,9.9740645669842607,25.884151385663699]
["SABHCAI201803Western Isles",1,7123,14.0390284992279,0.18349198976171599,78.111137574548295]
["SABHCAI201804Ayrshire & Arran",17,110740,15.3512732526639,8.9374874229516905,24.5803781087366]
["SABHCAI201804Borders",4,31191,12.824212112468301,3.4500990336147002,32.832812739375903]
["SABHCAI201804Dumfries & Galloway",5,43800,11.415525114155299,3.6787896377042801,26.6399579222368]
["SABHCAI201804Fife",16,91463,17.493412636803999,9.9924666153502599,28.4099966494122]
["SABHCAI201804Forth Valley",17,84592,20.096463022508001,11.7001295301881,32.178351046925101]
["SABHCAI201804Grampian",26,133702,19.446231170812698,12.6995987884474,28.494545764309301]
["SABHCAI201804Greater Glasgow & Clyde",88,417273,21.0893108348731,16.9136865618865,25.982999304579799]
["SABHCAI201804Highland",14,72346,19.351449976501801,10.5706475143673,32.470607756368999]
["SABHCAI201804Lanarkshire",24,142634,16.826282653504801,10.777647541792,25.0373998046128]
["SABHCAI201804Lothian",35,254499,13.752509833044501,9.5776576981367505,19.127098155617201]
["SABHCAI201804Golden Jubilee",4,11765,33.999150021249498,9.1467946415194206,87.0453261499256]
["SABHCAI201804Orkney",1,3843,26.0213374967473,0.34010237914980501,144.77898333164401]
["SABHCAI201804Shetland",1,2501,39.984006397441,0.522596338693603,222.46526707057501]
["SABHCAI201804Tayside",17,115115,14.7678408547974,8.5978139879048801,23.646189217404199]
["SABHCAI201804Western Isles",0,6753,0,0,54.318043720648902]
["SABHCAI201901Ayrshire & Arran",11,111660,9.8513344080243606,4.9109932822772597,17.627987318120901]
["SABHCAI201901Borders",3,29390,10.2075535896563,2.0515521162011598,29.8247224240863]
["SABHCAI201901Dumfries & Galloway",4,46147,8.6679524129412506,2.3319400818574598,22.191870807503701]
["SABHCAI201901Fife",13,91885,14.1481199325244,7.5258809307988503,24.1953642392691]
["SABHCAI201901Forth Valley",10,80825,12.3724095267553,5.9231428586867896,22.7548739549032]
["SABHCAI201901Grampian",19,134033,14.175613468325,8.5306369752285498,22.138246388926198]
["SABHCAI201901Greater Glasgow & Clyde",80,427318,18.721420581393701,14.844353679606201,23.300802763444501]
["SABHCAI201901Highland",12,75357,15.9242008041721,8.2187846754404301,27.818300383653199]
["SABHCAI201901Lanarkshire",31,145876,21.2509254435274,14.4362242563501,30.165194905757801]
["SABHCAI201901Lothian",33,251904,13.100228658536601,9.0160593882174496,18.398286687670801]
["SABHCAI201901Golden Jubilee",3,11654,25.742234425948201,5.1737700956883597,75.214397807095907]
["SABHCAI201901Orkney",0,3829,0,0,95.797792960444497]
["SABHCAI201901Shetland",1,2511,39.824771007566703,0.520515110741817,221.579304238752]
["SABHCAI201901Tayside",20,119250,16.771488469601699,10.240094687107399,25.903642629998199]
["SABHCAI201901Western Isles",0,6871,0,0,53.385205828197002]
["SABHCAI201902Ayrshire & Arran",18,109780,16.396429222080499,9.7125040878855007,25.914962088485598]
["SABHCAI201902Borders",2,29746,6.7235930881463002,0.75510440080764196,24.275469100063798]
["SABHCAI201902Dumfries & Galloway",3,45667,6.5692951146342002,1.3203213851392099,19.1943546115115]
["SABHCAI201902Fife",12,87857,13.658558794404501,7.0494434909815302,23.860405682085101]
["SABHCAI201902Forth Valley",14,77293,18.112895087524102,9.8940921567854794,30.392384675743902]
["SABHCAI201902Grampian",26,133401,19.490108769799299,12.728253590400399,28.558839572264699]
["SABHCAI201902Greater Glasgow & Clyde",84,419871,20.006144744457199,15.957118817575999,24.7693469909042]
["SABHCAI201902Highland",10,74804,13.368269076520001,6.3998986892861396,24.5864216807263]
["SABHCAI201902Lanarkshire",27,145187,18.5967063166812,12.2523523277405,27.058440158401499]
["SABHCAI201902Lothian",25,244255,10.235205011156401,6.6218219555621403,15.1098985252976]
["SABHCAI201902Golden Jubilee",3,11897,25.21644111961,5.0680941998110498,73.678119865839804]
["SABHCAI201902Orkney",2,3479,57.487783845932697,6.4562620024214201,207.559098548576]
["SABHCAI201902Shetland",1,2542,39.339103068450001,0.51416736548886799,218.87711760169401]
["SABHCAI201902Tayside",22,113492,19.384626229161501,12.1439123909886,29.3500862410373]
["SABHCAI201902Western Isles",2,7013,28.518465706545001,3.2028141318157899,102.96565005710799]
["SABHCAI201903Ayrshire & Arran",22,110670,19.878919309659299,12.4535728298371,30.0984908978748]
["SABHCAI201903Borders",0,28962,0,0,12.6652078325234]
["SABHCAI201903Dumfries & Galloway",4,46074,8.6816859834179798,2.3356348256603701,22.227031778310401]
["SABHCAI201903Fife",14,90276,15.5079976959546,8.4711779994064909,26.021518329813901]
["SABHCAI201903Forth Valley",15,72461,20.700790770207401,11.577495931220099,34.145021442308803]
["SABHCAI201903Grampian",21,133865,15.6874463078475,9.7070008308752591,23.981218095914301]
["SABHCAI201903Greater Glasgow & Clyde",93,416741,22.3160188222421,18.011362709078298,27.3390069874586]
["SABHCAI201903Highland",10,75715,13.2074225714852,6.3228953516919999,24.290598790266799]
["SABHCAI201903Lanarkshire",31,146465,21.165466152323098,14.3781698673357,30.043887427524101]
["SABHCAI201903Lothian",25,245501,10.183257909336399,6.5882139859138196,15.033210717254001]
["SABHCAI201903Golden Jubilee",1,12067,8.2870638932626193,0.108313039120966,46.108032894962101]
["SABHCAI201903Orkney",1,2983,33.523298692591403,0.43815402047358398,186.51881761431699]
["SABHCAI201903Shetland",0,2694,0,0,136.158036097083]
["SABHCAI201903Tayside",22,115794,18.99925730176,11.9024898101635,28.7666026535728]
["SABHCAI201903Western Isles",5,6702,74.604595643091599,24.0422241318185,174.10178409340099]
["SABHCAI201904Ayrshire & Arran",16,111501,14.349647088366901,8.1967065231682295,23.304396584292402]
["SABHCAI201904Borders",2,29415,6.7992520822709501,0.76360141106320301,24.548635181047]
["SABHCAI201904Dumfries & Galloway",2,46458,4.3049636230573904,0.483476161402215,15.543030346775501]
["SABHCAI201904Fife",10,91708,10.9041741178523,5.2202427438539702,20.0545501745219]
["SABHCAI201904Forth Valley",8,75205,10.637590585732299,4.5803238663116996,20.961581666087699]
["SABHCAI201904Grampian",20,135055,14.8087816074932,9.0417333044874706,22.872232672816899]
["SABHCAI201904Greater Glasgow & Clyde",69,429650,16.059583381822399,12.4947077760851,20.324810139035499]
["SABHCAI201904Highland",10,73909,13.530151943606301,6.4773981727984404,24.884150609601701]
["SABHCAI201904Lanarkshire",30,147326,20.3630044934363,13.7360597354132,29.0706465150936]
["SABHCAI201904Lothian",32,249135,12.844441768519101,8.7840085986775094,18.133222866420599]
["SABHCAI201904Golden Jubilee",1,11659,8.5770649283815104,0.11210339163502001,47.721556989751001]
["SABHCAI201904Orkney",1,2915,34.305317324185197,0.44837510911584999,190.86985692744699]
["SABHCAI201904Shetland",1,2673,37.411148522259602,0.48896874039382798,208.15025549700999]
["SABHCAI201904Tayside",30,117969,25.430409683899999,17.1543264466045,36.304979007050001]
["SABHCAI201904Western Isles",1,6884,14.526438117373599,0.18986249899370999,80.823014663496096]
["SABHCAI202001Ayrshire & Arran",19,107445,17.683465959328,10.6416014305068,27.6165068476611]
["SABHCAI202001Borders",3,28855,10.396811644429,2.0895899045278798,30.377702028899499]
["SABHCAI202001Dumfries & Galloway",8,44334,18.044841430955898,7.7697310498933403,35.5577152794272]
["SABHCAI202001Fife",11,87695,12.543474542448299,6.2530533086159803,22.445305478549301]
["SABHCAI202001Forth Valley",8,74682,10.712085910929,4.6123999941883103,21.108376170939799]
["SABHCAI202001Grampian",16,132936,12.0358668833123,6.8750449392172204,19.5467256690828]
["SABHCAI202001Greater Glasgow & Clyde",75,413057,18.1573003241683,14.2812623005962,22.760723696030301]
["SABHCAI202001Highland",6,71286,8.4167999326655991,3.0734516464434498,18.320420936337801]
["SABHCAI202001Lanarkshire",29,140747,20.604346806681502,13.796092808562101,29.592526511821301]
["SABHCAI202001Lothian",43,240426,17.884920932012299,12.942019770177399,24.091586799345301]
["SABHCAI202001Golden Jubilee",1,10915,9.1617040769583102,0.119744703900385,50.974405216995599]
["SABHCAI202001Orkney",2,3184,62.814070351758801,7.0544395434749099,226.789605480684]
["SABHCAI202001Shetland",0,2514,0,0,145.90682149782899]
["SABHCAI202001Tayside",19,111517,17.037761058851999,10.253027481915799,26.608100811956401]
["SABHCAI202001Western Isles",1,6357,15.730690577316301,0.205602240533695,87.523302334986198]
["CDIHCAI202101Ayrshire & Arran",25,99393,25.152676747859498,16.2729077677083,37.132074334174099]
["CDIHCAI202101Borders",0,28168,0,0,13.0222148979531]
["CDIHCAI202101Dumfries & Galloway",8,37147,21.536059439524099,9.2729764547869706,42.437229095165797]
["CDIHCAI202101Fife",11,78623,13.990816936519799,6.9745686363923802,25.035181358398699]
["CDIHCAI202101Forth Valley",7,68486,10.221067079403101,4.0948206941249596,21.060382353018401]
["CDIHCAI202101Grampian",17,111390,15.261693150193,8.8853340265523908,24.436942919126398]
["CDIHCAI202101Greater Glasgow & Clyde",60,384314,15.6122337463637,11.9130519734518,20.096471415461401]
["CDIHCAI202101Highland",14,65903,21.243342488202401,11.604085778711401,35.645093375753397]
["CDIHCAI202101Lanarkshire",30,126794,23.660425572188,15.9603667096194,33.778113069093799]
["CDIHCAI202101Lothian",31,226087,13.711535824704599,9.3145499282104804,19.4632065181648]
["CDIHCAI202101Golden Jubilee",1,12150,8.2304526748971192,0.107573122886642,45.793056209342097]
["CDIHCAI202101Orkney",0,3174,0,0,115.567028747808]
["CDIHCAI202101Shetland",1,2106,47.483380816714202,0.62061417049985801,264.19070890005099]
["CDIHCAI202101Tayside",6,103158,5.8163205955912298,2.1238689589597302,12.660089637912501]
["CDIHCAI202101Western Isles",2,5794,34.5184673800483,3.8766543849541102,124.628599214791]
["ECBHCAI202101Ayrshire & Arran",41,99393,41.250389866489598,29.598549672814201,55.962549904888299]
["ECBHCAI202101Borders",9,28168,31.951150241408701,14.5797393621207,60.657282947796297]
["ECBHCAI202101Dumfries & Galloway",10,37147,26.920074299405101,12.887663110166599,49.510396193637497]
["ECBHCAI202101Fife",17,78623,21.622171629166999,12.588394709152199,34.621307655030797]
["ECBHCAI202101Forth Valley",28,68486,40.884268317612403,27.1610862476447,59.091714737342102]
["ECBHCAI202101Grampian",45,111390,40.398599515216802,29.464097082366798,54.058042895870102]
["ECBHCAI202101Greater Glasgow & Clyde",122,384314,31.744875284272801,26.3616722750909,37.903819753434398]
["ECBHCAI202101Highland",18,65903,27.312868913403001,16.178909894360999,43.168665130175498]
["ECBHCAI202101Lanarkshire",50,126794,39.434042620313299,29.266283619914699,51.990206071388002]
["ECBHCAI202101Lothian",75,226087,33.1730705436403,26.091616776273501,41.583444637290803]
["ECBHCAI202101Golden Jubilee",0,12150,0,0,30.190102818563101]
["ECBHCAI202101Orkney",3,3174,94.517958412098295,18.996571107483302,276.16527789662803]
["ECBHCAI202101Shetland",2,2106,94.966761633428305,10.6654014750352,342.87659252160302]
["ECBHCAI202101Tayside",44,103158,42.653017701002298,30.988557616794999,57.261349943078002]
["ECBHCAI202101Western Isles",4,5794,69.036934760096599,18.573013282270601,176.749786357245]
["SABHCAI202002Ayrshire & Arran",23,81868,28.0940049836322,17.803345930436901,42.156929535198799]
["SABHCAI202002Borders",5,20636,24.229501841442101,7.8082470503705803,56.543426875071297]
["SABHCAI202002Dumfries & Galloway",4,27088,14.7666863555818,3.9726830684242498,37.805975419147799]
["SABHCAI202002Fife",4,63495,6.2997086384754697,1.69481122856093,16.128644179130202]
["SABHCAI202002Forth Valley",16,57076,28.032798374097698,16.012701906927301,45.526377523743598]
["SABHCAI202002Grampian",18,95717,18.805436860745701,11.139491404537001,29.722458268374002]
["SABHCAI202002Greater Glasgow & Clyde",69,305581,22.579937888808502,17.567686459547399,28.576890173919899]
["SABHCAI202002Highland",3,50361,5.9569905283850604,1.1972581302029801,17.405305534915801]
["SABHCAI202002Lanarkshire",16,100174,15.972208357457999,9.1235347898634398,25.9395005045739]
["SABHCAI202002Lothian",30,182151,16.469851936031102,11.109896385852799,23.512701376784499]
["SABHCAI202002Golden Jubilee",3,8152,36.8007850834151,7.3963587702590896,107.525587836592]
["SABHCAI202002Orkney",0,2102,0,0,174.50511381805001]
["SABHCAI202002Shetland",2,1591,125.707102451289,14.1177470184941,453.86430160307799]
["SABHCAI202002Tayside",24,81757,29.355284562789699,18.802781162175201,43.680473644227902]
["SABHCAI202002Western Isles",2,3200,62.5,7.0191673457575403,225.65565745328001]
["SABHCAI202003Ayrshire & Arran",16,97707,16.3754899853644,9.3538945422516395,26.5944458794681]
["SABHCAI202003Borders",2,25295,7.9067009290373598,0.88797531158031695,28.547068742854201]
["SABHCAI202003Dumfries & Galloway",6,36727,16.3367549759033,5.9654770078788903,35.559384835891201]
["SABHCAI202003Fife",14,75272,18.599213518971201,10.1597415383465,31.208398723858501]
["SABHCAI202003Forth Valley",11,66050,16.654049962149902,8.3022181665265506,29.800773110391901]
["SABHCAI202003Grampian",22,107482,20.468543570086201,12.8229555188597,30.9912356270614]
["SABHCAI202003Greater Glasgow & Clyde",70,376935,18.570841126454201,14.4761950186669,23.463572356448399]
["SABHCAI202003Highland",3,59671,5.0275678302693096,1.0104592967296,14.6896916767592]
["SABHCAI202003Lanarkshire",24,122500,19.591836734693899,12.549052893681299,29.1525263978052]
["SABHCAI202003Lothian",27,217934,12.3890719208568,8.1624816568670706,18.026254514109102]
["SABHCAI202003Golden Jubilee",2,10016,19.968051118210902,2.24254547787781,72.094459250249201]
["SABHCAI202003Orkney",0,2700,0,0,135.855462683534]
["SABHCAI202003Shetland",1,2091,47.8240076518412,0.625066209025682,266.08590767264798]
["SABHCAI202003Tayside",24,99451,24.1324873555821,15.457451201857801,35.908985165871997]
["SABHCAI202003Western Isles",2,4152,48.169556840077099,5.4097628869036898,173.91572828769199]
["CDIHCAI202102Ayrshire & Arran",21,102178,20.552369394585899,12.717293998953901,31.418169864448]
["CDIHCAI202102Borders",2,29586,6.7599540323125797,0.75918797763888701,24.406749944247199]
["CDIHCAI202102Dumfries & Galloway",6,40199,14.925744421503,5.4502369230171901,32.488109825313501]
["CDIHCAI202102Fife",8,79787,10.0266960783085,4.3172854771575704,19.7578020128357]
["CDIHCAI202102Forth Valley",7,68278,10.2522042239081,4.1072950299926996,21.124540054319301]
["CDIHCAI202102Grampian",11,115651,9.5113747395180308,4.7415198303436901,17.0196631584801]
["CDIHCAI202102Greater Glasgow & Clyde",66,396839,16.631429874583901,12.862075330097399,21.159669905916299]
["CDIHCAI202102Highland",16,65070,24.588904256954098,14.045504441982199,39.933356747275099]
["CDIHCAI202102Lanarkshire",24,135443,17.7196311363452,11.349859198895199,26.366696571481299]
["CDIHCAI202102Lothian",30,232475,12.9046133992902,8.7049305799741106,18.422893078751201]
["CDIHCAI202102Golden Jubilee",0,12350,0,0,29.701194270894099]
["CDIHCAI202102Orkney",0,2939,0,0,124.80767242107601]
["CDIHCAI202102Shetland",2,2025,98.765432098765402,11.0920175340366,356.59165622246701]
["CDIHCAI202102Tayside",10,105386,9.4889264228645196,4.5427098623475599,17.451679420464298]
["CDIHCAI202102Western Isles",0,6022,0,0,60.911615616994702]
["ECBHCAI202102Ayrshire & Arran",50,102178,48.934212844252201,36.316909367020898,64.515318254571099]
["ECBHCAI202102Borders",19,29586,64.219563306969505,38.646213266437101,100.292556555362]
["ECBHCAI202102Dumfries & Galloway",15,40199,37.314361053757601,20.869099546559401,61.548356892737097]
["ECBHCAI202102Fife",30,79787,37.600110293656897,25.363514564772199,53.678695382489302]
["ECBHCAI202102Forth Valley",32,68278,46.867219309294398,32.051377928930599,66.165096792901096]
["ECBHCAI202102Grampian",42,115651,36.316158096341603,26.170573170625001,49.090386570931102]
["ECBHCAI202102Greater Glasgow & Clyde",150,396839,37.798704260417999,31.991381603520299,44.355178919502499]
["ECBHCAI202102Highland",20,65070,30.736130321192601,18.766425256455399,47.472097489277502]
["ECBHCAI202102Lanarkshire",45,135443,33.224308380647201,24.231638209467,44.458003722384902]
["ECBHCAI202102Lothian",80,232475,34.4123023981073,27.285770623344401,42.829777116978399]
["ECBHCAI202102Golden Jubilee",1,12350,8.0971659919028305,0.105831048022081,45.051468254535003]
["ECBHCAI202102Orkney",2,2939,68.050357264375606,7.6425095292358396,245.695169734773]
["ECBHCAI202102Shetland",2,2025,98.765432098765402,11.0920175340366,356.59165622246701]
["ECBHCAI202102Tayside",43,105386,40.8023836183174,29.5257249090456,54.962175695247801]
["ECBHCAI202102Western Isles",1,6022,16.605778811026202,0.21703976138703099,92.392167542927098]
["SABHCAI202004Ayrshire & Arran",25,102772,24.325691822675399,15.7378772599135,35.911223526802701]
["SABHCAI202004Borders",5,27161,18.4087478369721,5.9324393848329402,42.9597642573532]
["SABHCAI202004Dumfries & Galloway",5,37533,13.321610316255001,4.2930484142340699,31.088113313456699]
["SABHCAI202004Fife",16,77595,20.619885301888001,11.7783487858726,33.487512385400997]
["SABHCAI202004Forth Valley",20,70565,28.342662793169399,17.305056209701,43.775375662542203]
["SABHCAI202004Grampian",21,108028,19.439404598807702,12.0286191193498,29.7167934277185]
["SABHCAI202004Greater Glasgow & Clyde",79,390384,20.236485101848402,16.020789879581699,25.221108755379198]
["SABHCAI202004Highland",12,63656,18.851325876586699,9.7295299231363099,32.931752890708701]
["SABHCAI202004Lanarkshire",24,127447,18.831357348544898,12.061947158238,28.020937987799901]
["SABHCAI202004Lothian",25,226514,11.036845404698999,7.1404554321403104,16.293334029228099]
["SABHCAI202004Golden Jubilee",1,11255,8.8849400266548209,0.116127360557326,49.434529803954398]
["SABHCAI202004Orkney",1,3055,32.733224222585903,0.42782764094032799,182.12295677365199]
["SABHCAI202004Shetland",1,2118,47.2143531633617,0.61709794290495801,262.69387768815301]
["SABHCAI202004Tayside",20,104559,19.127956464771099,11.6788730901936,29.543218504646099]
["SABHCAI202004Western Isles",1,5151,19.413706076490001,0.253739748218346,108.015071431471]
["SABHCAI202101Ayrshire & Arran",12,99393,12.073284838972601,6.2312532752524303,21.091059350366301]
["SABHCAI202101Borders",7,28168,24.850894632206799,9.9559035095797306,51.2049611555246]
["SABHCAI202101Dumfries & Galloway",4,37147,10.768029719762,2.8969240842457298,27.568532106330899]
["SABHCAI202101Fife",14,78623,17.806494282843399,9.7267220161329409,29.8782619429718]
["SABHCAI202101Forth Valley",10,68486,14.6015243991473,6.9903049025108803,26.854578854146101]
["SABHCAI202101Grampian",26,111390,23.341413053236401,15.243394893733701,34.202152417449298]
["SABHCAI202101Greater Glasgow & Clyde",59,384314,15.352029850590901,11.685943067892101,19.8034327473164]
["SABHCAI202101Highland",15,65903,22.7607240945025,12.7295712285047,37.542788624662599]
["SABHCAI202101Lanarkshire",34,126794,26.815148981813,18.5672718577853,37.472862065228703]
["SABHCAI202101Lothian",37,226087,16.365381468195899,11.5211361758466,22.558292483420601]
["SABHCAI202101Golden Jubilee",4,12150,32.921810699588498,8.8569579388869109,84.287099765750995]
["SABHCAI202101Orkney",0,3174,0,0,115.567028747808]
["SABHCAI202101Shetland",0,2106,0,0,174.17367010709501]
["SABHCAI202101Tayside",24,103158,23.265282382364902,14.9019851051393,34.618589772302101]
["SABHCAI202101Western Isles",2,5794,34.5184673800483,3.8766543849541102,124.628599214791]
["CDIHCAI202103Ayrshire & Arran",29,108269,26.785137019830199,17.9345766057384,38.469546490309398]
["CDIHCAI202103Borders",3,29640,10.1214574898785,2.0342482015908301,29.5731643739506]
["CDIHCAI202103Dumfries & Galloway",10,42178,23.709042628858601,11.3504201610641,43.604786557092602]
["CDIHCAI202103Fife",8,84518,9.4654393147021896,4.0756200615960099,18.651834510969501]
["CDIHCAI202103Forth Valley",8,69862,11.4511465460479,4.9306240354695197,22.564709701957099]
["CDIHCAI202103Grampian",14,121265,11.5449635096689,6.3063873753714601,19.3717774192246]
["CDIHCAI202103Greater Glasgow & Clyde",76,413139,18.395745741747898,14.4931530204762,23.025408685069198]
["CDIHCAI202103Highland",13,70337,18.482448782291002,9.8314623786407296,31.607703529084802]
["CDIHCAI202103Lanarkshire",29,140006,20.7133979972287,13.8691104276009,29.749148814760101]
["CDIHCAI202103Lothian",43,241844,17.780056565389302,12.8661370357118,23.950330989478299]
["CDIHCAI202103Golden Jubilee",0,12063,0,0,30.4078379545338]
["CDIHCAI202103Orkney",0,2696,0,0,136.05702865190699]
["CDIHCAI202103Shetland",1,2456,40.716612377850197,0.53217159734230501,226.54138149165601]
["CDIHCAI202103Tayside",11,112116,9.8112669021370706,4.8910192113443101,17.556290484332099]
["CDIHCAI202103Western Isles",0,5975,0,0,61.390753011806197]
["ECBHCAI202103Ayrshire & Arran",54,108269,49.875772381752903,37.465490457434903,65.078616338144997]
["ECBHCAI202103Borders",14,29640,47.2334682860999,25.801081817625501,79.255013115461395]
["ECBHCAI202103Dumfries & Galloway",22,42178,52.159893783488997,32.676677535162298,78.974820704343699]
["ECBHCAI202103Fife",51,84518,60.342175631226503,44.925116337287001,79.340818465535804]
["ECBHCAI202103Forth Valley",47,69862,67.275485958031595,49.426951289920801,89.464576651294806]
["ECBHCAI202103Grampian",43,121265,35.459530779697403,25.6594899209556,47.765174187270802]
["ECBHCAI202103Greater Glasgow & Clyde",140,413139,33.886900050588302,28.5058159672726,39.9882323622058]
["ECBHCAI202103Highland",17,70337,24.169356099919,14.071361548227401,38.699846052028001]
["ECBHCAI202103Lanarkshire",63,140006,44.9980715112209,34.575806263950902,57.5732590031702]
["ECBHCAI202103Lothian",82,241844,33.906154380509797,26.965577688856499,42.0871368832332]
["ECBHCAI202103Golden Jubilee",2,12063,16.5796236425433,1.8620024460270399,59.860573974176901]
["ECBHCAI202103Orkney",2,2696,74.183976261127597,8.3313559000089494,267.84054297125198]
["ECBHCAI202103Shetland",1,2456,40.716612377850197,0.53217159734230501,226.54138149165601]
["ECBHCAI202103Tayside",61,112116,54.407934639123802,41.6152872645862,69.890745551077799]
["ECBHCAI202103Western Isles",5,5975,83.682008368200798,26.967529059656499,195.28538192367699]
["SABHCAI202102Ayrshire & Arran",18,102178,17.6163166239308,10.435110285659,27.843024311240701]
["SABHCAI202102Borders",6,29586,20.279862096937698,7.4053293472712802,44.142145841539097]
["SABHCAI202102Dumfries & Galloway",10,40199,24.876240702505001,11.9092022576024,45.751453702954102]
["SABHCAI202102Fife",5,79787,6.2666850489428096,2.0195142834227102,14.6243141989794]
["SABHCAI202102Forth Valley",11,68278,16.110606637569902,8.0313059828799709,28.828335099759499]
["SABHCAI202102Grampian",22,115651,19.022749479036101,11.9172069854828,28.802171945489501]
["SABHCAI202102Greater Glasgow & Clyde",86,396839,21.6712571093063,17.333616177962401,26.7642254423947]
["SABHCAI202102Highland",10,65070,15.3680651605963,7.3572771100869803,28.2643720209782]
["SABHCAI202102Lanarkshire",26,135443,19.196267064373899,12.5363566755978,28.128273574711699]
["SABHCAI202102Lothian",36,232475,15.4855360791483,10.844296132689401,21.439259258509001]
["SABHCAI202102Golden Jubilee",5,12350,40.485829959514199,13.047043411453201,94.4801746553822]
["SABHCAI202102Orkney",0,2939,0,0,124.80767242107601]
["SABHCAI202102Shetland",0,2025,0,0,181.140616911379]
["SABHCAI202102Tayside",24,105386,22.773423414874799,14.5869373491352,33.886706808600202]
["SABHCAI202102Western Isles",1,6022,16.605778811026202,0.21703976138703099,92.392167542927098]
["SABHCAI202103Ayrshire & Arran",17,108269,15.701632046107401,9.14146576783447,25.141370768747201]
["SABHCAI202103Borders",7,29640,23.6167341430499,9.4614672759055907,48.6619887256686]
["SABHCAI202103Dumfries & Galloway",6,42178,14.2254255773152,5.1945107418172496,30.963761365351001]
["SABHCAI202103Fife",14,84518,16.564518800728798,9.0482981740507409,27.794299305973599]
["SABHCAI202103Forth Valley",16,69862,22.9022930920958,13.082090035209101,37.194233253344997]
["SABHCAI202103Grampian",22,121265,18.142085515194001,11.3654962691467,27.468766648808899]
["SABHCAI202103Greater Glasgow & Clyde",81,413139,19.605992172126101,15.5694031792923,24.368844613672099]
["SABHCAI202103Highland",8,70337,11.373814635256,4.8973265332040201,22.4123256493471]
["SABHCAI202103Lanarkshire",21,140006,14.999357170407,9.2812284203899598,22.929344173889501]
["SABHCAI202103Lothian",44,241844,18.193546252956502,13.2180977267715,24.4246966533304]
["SABHCAI202103Golden Jubilee",3,12063,24.869435463815002,4.9983517114442604,72.664228802445194]
["SABHCAI202103Orkney",0,2696,0,0,136.05702865190699]
["SABHCAI202103Shetland",2,2456,81.433224755700294,9.1454949130391405,294.01388593261299]
["SABHCAI202103Tayside",26,112116,23.1902672232331,15.144687263307601,33.980678563092503]
["SABHCAI202103Western Isles",0,5975,0,0,61.390753011806197]
["ECBHCAI202104Ayrshire & Arran",55,112199,49.020044741931699,36.926001924446503,63.8078210455229]
["ECBHCAI202104Borders",12,30470,39.3829996718083,20.3263195532381,68.798938694156703]
["ECBHCAI202104Dumfries & Galloway",11,44880,24.509803921568601,12.2183937143288,43.857866843613699]
["ECBHCAI202104Fife",29,86250,33.623188405797102,22.513144052483401,48.290542944455801]
["ECBHCAI202104Forth Valley",37,75758,48.839726497531601,34.382891768376098,67.321427079636507]
["ECBHCAI202104Grampian",45,125861,35.753728319336403,26.0764317302806,47.8426629231531]
["ECBHCAI202104Greater Glasgow & Clyde",136,416309,32.668042247465202,27.408130718892298,38.642996483253398]
["ECBHCAI202104Highland",23,71270,32.271643047565597,20.450741190304601,48.425754275118003]
["ECBHCAI202104Lanarkshire",53,144693,36.629277159226802,27.435783247107,47.9131604524163]
["ECBHCAI202104Lothian",58,245190,23.655124597251099,17.961168303003699,30.580413704328901]
["ECBHCAI202104Golden Jubilee",0,12615,0,0,29.077269064252199]
["ECBHCAI202104Orkney",0,3289,0,0,111.526223546835]
["ECBHCAI202104Shetland",4,2344,170.64846416382301,45.909572934076799,436.897722761892]
["ECBHCAI202104Tayside",44,116557,37.749770498554398,27.426217444111799,50.678778086498802]
["ECBHCAI202104Western Isles",2,6066,32.970656116056702,3.7028248444484202,119.040241320557]
["SABHCAI202104Ayrshire & Arran",15,112199,13.3691031114359,7.4770446498822896,22.051733070091]
["SABHCAI202104Borders",4,30470,13.1276665572694,3.5317374124540901,33.609723076923999]
["SABHCAI202104Dumfries & Galloway",7,44880,15.5971479500891,6.2486160886328399,32.137730522032399]
["SABHCAI202104Fife",11,86250,12.7536231884058,6.3578146075255502,22.821345668885598]
["SABHCAI202104Forth Valley",16,75758,21.1198817286623,12.063953299186601,34.299526433448499]
["SABHCAI202104Grampian",27,125861,21.452236991601801,14.133705257448,31.213272985895902]
["SABHCAI202104Greater Glasgow & Clyde",80,416309,19.216495439685399,15.2369022184531,23.916976176997299]
["SABHCAI202104Highland",14,71270,19.643608811561698,10.7302380394895,32.960833292300798]
["SABHCAI202104Lanarkshire",24,144693,16.586842487197,10.6242802310821,24.681114385154402]
["SABHCAI202104Lothian",26,245190,10.604021371181499,6.9250856772829197,15.538063370364499]
["SABHCAI202104Golden Jubilee",2,12615,15.854141894570001,1.7805260013019499,57.241229001228398]
["SABHCAI202104Orkney",0,3289,0,0,111.526223546835]
["SABHCAI202104Shetland",1,2344,42.662116040955603,0.55759959175456597,237.36588436156401]
["SABHCAI202104Tayside",27,116557,23.164631896840199,15.2619085718375,33.704828978764397]
["SABHCAI202104Western Isles",5,6066,82.426640290141805,26.562971666905302,192.35577926046301]
["CDIHCAI202104Ayrshire & Arran",26,112199,23.173112059822301,15.1334838743037,33.955541116941198]
["CDIHCAI202104Borders",2,30470,6.5638332786347204,0.73716230739823196,23.6986578224646]
["CDIHCAI202104Dumfries & Galloway",3,44880,6.6844919786096302,1.34347407966025,19.530940107929901]
["CDIHCAI202104Fife",4,86250,4.63768115942029,1.2476758139997199,11.8734870974362]
["CDIHCAI202104Forth Valley",7,75758,9.2399482562897592,3.7017594189107701,19.038799147665099]
["CDIHCAI202104Grampian",12,125861,9.5343275518230399,4.9208488474361802,16.655704801415499]
["CDIHCAI202104Greater Glasgow & Clyde",57,416309,13.691753000775901,10.3693109553888,17.739655280944898]
["CDIHCAI202104Highland",14,71270,19.643608811561698,10.7302380394895,32.960833292300798]
["CDIHCAI202104Lanarkshire",31,144693,21.424671545962799,14.5542538313486,30.4118234612063]
["CDIHCAI202104Lothian",29,245190,11.827562298625599,7.9194040316762102,16.9870685140475]
["CDIHCAI202104Golden Jubilee",0,12615,0,0,29.077269064252199]
["CDIHCAI202104Orkney",0,3289,0,0,111.526223546835]
["CDIHCAI202104Shetland",0,2344,0,0,156.48880087267099]
["CDIHCAI202104Tayside",12,116557,10.295391954151199,5.3136487451389796,17.985223212771]
["CDIHCAI202104Western Isles",1,6066,16.485328058028401,0.21546545385306701,91.721996858474597]
["SSICSEC201401Ayrshire & Arran",3,245,1.22448979591837,0.41728721193302398,3.5376785172698102]
["SSICSEC201401Borders",1,76,1.31578947368421,0.232642014056747,7.0838446294974897]
["SSICSEC201401Dumfries & Galloway",1,78,1.2820512820512799,0.22666733888537799,6.9110230288493701]
["SSICSEC201401Fife",10,196,5.1020408163265296,2.7945905632825698,9.1356581937329793]
["SSICSEC201401Forth Valley",4,195,2.0512820512820502,0.80051211290779101,5.1547809444806001]
["SSICSEC201401Grampian",4,429,0.93240093240093203,0.36316715369947999,2.3726142499364]
["SSICSEC201401Greater Glasgow & Clyde",15,1219,1.23051681706317,0.74710553167944205,2.02035020420655]
["SSICSEC201401Highland",3,141,2.12765957446809,0.72618123442535398,6.0685517704572201]
["SSICSEC201401Lanarkshire",3,362,0.82872928176795602,0.28222996329250799,2.40789603659378]
["SSICSEC201401Lothian",4,718,0.55710306406685195,0.21684994613967801,1.4236207610071501]
["SSICSEC201401Orkney",0,10,0,0,27.754016876661701]
["SSICSEC201401Shetland",1,6,16.6666666666667,3.00525858717302,56.350943656364599]
["SSICSEC201401Tayside",12,310,3.87096774193548,2.2279693230821498,6.6432574358943501]
["SSICSEC201401Western Isles",0,13,0,0,22.810184305529202]
["SSICSEC201402Ayrshire & Arran",4,270,1.4814814814814801,0.57757844395600499,3.7466732402293101]
["SSICSEC201402Borders",1,74,1.35135135135135,0.238940187493933,7.2655304297595702]
["SSICSEC201402Dumfries & Galloway",2,54,3.7037037037037002,1.0216153585413099,12.5354093434033]
["SSICSEC201402Fife",6,221,2.71493212669683,1.25007267430123,5.7955985893795203]
["SSICSEC201402Forth Valley",3,203,1.47783251231527,0.50383780986007498,4.2541992581185104]
["SSICSEC201402Grampian",7,431,1.6241299303944301,0.78889685019011702,3.3141144532362299]
["SSICSEC201402Greater Glasgow & Clyde",12,1311,0.91533180778031997,0.52437153731209796,1.59311546644562]
["SSICSEC201402Highland",4,156,2.5641025641025599,1.0015304054574601,6.4068038454509404]
["SSICSEC201402Lanarkshire",5,364,1.3736263736263701,0.58811153842226904,3.1748125027954699]
["SSICSEC201402Lothian",3,654,0.45871559633027498,0.15612191580213,1.3399221166822901]
["SSICSEC201402Orkney",0,11,0,0,25.884001724881401]
["SSICSEC201402Shetland",3,13,23.076923076923102,8.1793790924657106,50.256873995126902]
["SSICSEC201402Tayside",8,326,2.4539877300613502,1.2485928555014201,4.7669006419834403]
["SSICSEC201402Western Isles",0,15,0,0,20.388926630434799]
["SSICSEC201403Ayrshire & Arran",1,297,0.336700336700337,5.94590937371186E-2,1.8822936425865799]
["SSICSEC201403Borders",1,50,2,0.35391680889764598,10.495686471837001]
["SSICSEC201403Dumfries & Galloway",1,69,1.4492753623188399,0.25628586443303802,7.7633073350573598]
["SSICSEC201403Fife",12,246,4.8780487804878003,2.8121334959833799,8.3315671527476507]
["SSICSEC201403Forth Valley",3,256,1.171875,0.39932148218063901,3.3882167718941498]
["SSICSEC201403Grampian",4,462,0.86580086580086602,0.33718801505305401,2.20479191975741]
["SSICSEC201403Greater Glasgow & Clyde",17,1386,1.2265512265512299,0.76719062554901896,1.9555369140497401]
["SSICSEC201403Highland",2,206,0.970873786407767,0.26664806235500899,3.47026587653985]
["SSICSEC201403Lanarkshire",7,413,1.6949152542372901,0.82337882258794903,3.4568081836993301]
["SSICSEC201403Lothian",6,785,0.76433121019108297,0.35075221935333301,1.65745830098434]
["SSICSEC201403Orkney",0,9,0,0,29.915275355095901]
["SSICSEC201403Shetland",0,10,0,0,27.754016876661701]
["SSICSEC201403Tayside",4,354,1.1299435028248599,0.44025902383201798,2.8689146440702]
["SSICSEC201403Western Isles",0,20,0,0,16.113012549493298]
["SSICSEC201404Ayrshire & Arran",11,312,3.52564102564103,1.97984531919845,6.20197746792015]
["SSICSEC201404Borders",0,56,0,0,6.4196144488115303]
["SSICSEC201404Dumfries & Galloway",1,67,1.4925373134328399,0.26395037576767799,7.9820519731346602]
["SSICSEC201404Fife",4,249,1.6064257028112401,0.62642498922162304,4.0569815388180697]
["SSICSEC201404Forth Valley",1,257,0.38910505836575898,6.8717882631641802E-2,2.1708021939205602]
["SSICSEC201404Grampian",11,427,2.5761124121779901,1.44441795919298,4.5535172448356001]
["SSICSEC201404Greater Glasgow & Clyde",18,1334,1.3493253373313301,0.85519128864661698,2.12285932661307]
["SSICSEC201404Highland",0,169,0,0,2.2226130746301802]
["SSICSEC201404Lanarkshire",4,386,1.03626943005181,0.40369574891110899,2.6338456525196299]
["SSICSEC201404Lothian",7,684,1.0233918128655,0.49659101092813501,2.09726199243776]
["SSICSEC201404Orkney",0,9,0,0,29.915275355095901]
["SSICSEC201404Shetland",0,11,0,0,25.884001724881401]
["SSICSEC201404Tayside",2,288,0.69444444444444398,0.19064476108571399,2.4962922622858699]
["SSICSEC201404Western Isles",2,12,16.6666666666667,4.69641476148223,44.8036357384673]
["SSICSEC201501Ayrshire & Arran",1,287,0.348432055749129,6.1531732199650899E-2,1.94698424350671]
["SSICSEC201501Borders",1,70,1.4285714285714299,0.25261814032348701,7.6583697039269101]
["SSICSEC201501Dumfries & Galloway",1,56,1.78571428571429,0.31591289644639903,9.4458581791932907]
["SSICSEC201501Fife",4,227,1.7621145374449301,0.68732064944395699,4.4424306605452299]
["SSICSEC201501Forth Valley",3,226,1.3274336283185799,0.452447424360158,3.8294580270463801]
["SSICSEC201501Grampian",8,396,2.0202020202020199,1.02713228654455,3.93523281003369]
["SSICSEC201501Greater Glasgow & Clyde",12,1265,0.94861660079051402,0.54346792533813404,1.65078547871167]
["SSICSEC201501Highland",1,138,0.72463768115941996,0.12802778322552699,3.99036907636996]
["SSICSEC201501Lanarkshire",3,352,0.85227272727272696,0.29025935712663797,2.4754656171315701]
["SSICSEC201501Lothian",6,626,0.95846645367412098,0.43998718910578999,2.0751848795540102]
["SSICSEC201501Orkney",0,13,0,0,22.810184305529202]
["SSICSEC201501Shetland",0,9,0,0,29.915275355095901]
["SSICSEC201501Tayside",7,288,2.4305555555555598,1.1822290962542099,4.9312242291113302]
["SSICSEC201501Western Isles",0,13,0,0,22.810184305529202]
["SSICSEC201502Ayrshire & Arran",2,304,0.65789473684210498,0.18060048117778901,2.3666835765973802]
["SSICSEC201502Borders",1,74,1.35135135135135,0.238940187493933,7.2655304297595702]
["SSICSEC201502Dumfries & Galloway",0,70,0,0,5.2024874867283497]
["SSICSEC201502Fife",11,236,4.6610169491525397,2.6222520430890301,8.1521924235923109]
["SSICSEC201502Forth Valley",2,237,0.84388185654008396,0.231723870571898,3.02419205093004]
["SSICSEC201502Grampian",2,431,0.46403712296983801,0.12734542542699601,1.67597789966426]
["SSICSEC201502Greater Glasgow & Clyde",13,1353,0.96082779009608299,0.56236232912036099,1.63698061555351]
["SSICSEC201502Highland",3,155,1.93548387096774,0.66037571177800503,5.53548230022892]
["SSICSEC201502Lanarkshire",6,371,1.6172506738544501,0.74324385743815802,3.4829679611006599]
["SSICSEC201502Lothian",6,748,0.80213903743315496,0.36812606778199702,1.73891350012699]
["SSICSEC201502Orkney",0,10,0,0,27.754016876661701]
["SSICSEC201502Shetland",0,6,0,0,39.0343033653064]
["SSICSEC201502Tayside",10,355,2.8169014084507,1.5371278342861801,5.1069178950829901]
["SSICSEC201502Western Isles",0,8,0,0,32.441561951087699]
["SSICSEC201503Ayrshire & Arran",1,297,0.336700336700337,5.94590937371186E-2,1.8822936425865799]
["SSICSEC201503Borders",0,79,0,0,4.63728368355995]
["SSICSEC201503Dumfries & Galloway",0,63,0,0,5.7473190348525502]
["SSICSEC201503Fife",6,249,2.4096385542168699,1.1089167193471401,5.1565079576047603]
["SSICSEC201503Forth Valley",8,253,3.1620553359683798,1.6107829176763,6.11444539424825]
["SSICSEC201503Grampian",6,470,1.27659574468085,0.58634510811342999,2.7568818267947801]
["SSICSEC201503Greater Glasgow & Clyde",15,1421,1.05559465165376,0.64073410153731103,1.7343790338456]
["SSICSEC201503Highland",4,182,2.1978021978022002,0.85790927107843096,5.5139687153358103]
["SSICSEC201503Lanarkshire",3,354,0.84745762711864403,0.28861713548616602,2.4616500218258999]
["SSICSEC201503Lothian",6,759,0.79051383399209496,0.36278369298365198,1.7138728501309299]
["SSICSEC201503Orkney",0,11,0,0,25.884001724881401]
["SSICSEC201503Shetland",0,10,0,0,27.754016876661701]
["SSICSEC201503Tayside",7,347,2.0172910662824202,0.98052467864097204,4.1048471814805199]
["SSICSEC201503Western Isles",0,16,0,0,19.361341827272]
["SSICSEC201504Ayrshire & Arran",1,331,0.30211480362537801,5.3349230640992298E-2,1.6912368661880799]
["SSICSEC201504Borders",0,63,0,0,5.7473190348525502]
["SSICSEC201504Dumfries & Galloway",1,63,1.5873015873015901,0.28074219075510898,8.4587254461656105]
["SSICSEC201504Fife",6,228,2.6315789473684199,1.21151850701061,5.6214226045069102]
["SSICSEC201504Forth Valley",4,244,1.63934426229508,0.63929791489078602,4.1385924796192599]
["SSICSEC201504Grampian",3,476,0.630252100840336,0.21456545517630801,1.8364447115120299]
["SSICSEC201504Greater Glasgow & Clyde",21,1341,1.5659955257270699,1.0265071214936701,2.3821917170907398]
["SSICSEC201504Highland",4,178,2.2471910112359601,0.87726322523310696,5.6347780238540102]
["SSICSEC201504Lanarkshire",4,352,1.13636363636364,0.44276539143329402,2.88500741534365]
["SSICSEC201504Lothian",6,716,0.83798882681564202,0.38460221766935998,1.81610415995594]
["SSICSEC201504Orkney",0,8,0,0,32.441561951087699]
["SSICSEC201504Shetland",0,10,0,0,27.754016876661701]
["SSICSEC201504Tayside",10,273,3.6630036630036602,2.0016061932134601,6.6103943153806304]
["SSICSEC201504Western Isles",0,17,0,0,18.432366037156498]
["SSICSEC201601Ayrshire & Arran",3,272,1.1029411764705901,0.37578832635763199,3.19205640772164]
["SSICSEC201601Borders",0,72,0,0,5.0652939811396402]
["SSICSEC201601Dumfries & Galloway",3,59,5.0847457627118704,1.74424011594533,13.9167233222867]
["SSICSEC201601Fife",7,215,3.2558139534883699,1.5858764177717499,6.5668696780345304]
["SSICSEC201601Forth Valley",2,208,0.96153846153846201,0.26408026954240099,3.4375534039192801]
["SSICSEC201601Grampian",5,438,1.1415525114155201,0.488554334078032,2.6441520475754801]
["SSICSEC201601Greater Glasgow & Clyde",12,1265,0.94861660079051402,0.54346792533813404,1.65078547871167]
["SSICSEC201601Highland",2,162,1.2345679012345701,0.33921144271845999,4.3891558668106301]
["SSICSEC201601Lanarkshire",0,340,0,0,1.11725864467825]
["SSICSEC201601Lothian",15,696,2.1551724137931001,1.3103271466052999,3.52528136823577]
["SSICSEC201601Orkney",0,8,0,0,32.441561951087699]
["SSICSEC201601Shetland",1,8,12.5,2.2416908863296201,47.089480576986098]
["SSICSEC201601Tayside",8,267,2.9962546816479398,1.5258945377770801,5.8000110838113299]
["SSICSEC201601Western Isles",0,13,0,0,22.810184305529202]
["SSICSEC201602Ayrshire & Arran",4,300,1.3333333333333299,0.51968776846794695,3.3776060846449898]
["SSICSEC201602Borders",0,78,0,0,4.6939453774119801]
["SSICSEC201602Dumfries & Galloway",0,67,0,0,5.42280242117626]
["SSICSEC201602Fife",8,243,3.2921810699588501,1.6774396733680199,6.3607516201578704]
["SSICSEC201602Forth Valley",5,235,2.12765957446809,0.91213804718214297,4.8831672932610601]
["SSICSEC201602Grampian",2,475,0.42105263157894701,0.115541442940345,1.5220773437314901]
["SSICSEC201602Greater Glasgow & Clyde",22,1425,1.54385964912281,1.02172204891172,2.3265567246066299]
["SSICSEC201602Highland",6,178,3.3707865168539302,1.5538228306884501,7.1579350948907399]
["SSICSEC201602Lanarkshire",3,396,0.75757575757575801,0.25796722207853001,2.2034074823044101]
["SSICSEC201602Lothian",11,717,1.53417015341702,0.8587689681131,2.7261517689808699]
["SSICSEC201602Orkney",0,7,0,0,35.433884297520699]
["SSICSEC201602Shetland",0,10,0,0,27.754016876661701]
["SSICSEC201602Tayside",17,300,5.6666666666666696,3.5677175913187802,8.8866665351471195]
["SSICSEC201602Western Isles",0,17,0,0,18.432366037156498]
["SSICSEC201603Ayrshire & Arran",5,267,1.87265917602996,0.80246300161914796,4.3081256228757603]
["SSICSEC201603Borders",0,51,0,0,7.0049013887268101]
["SSICSEC201603Dumfries & Galloway",0,71,0,0,5.1329741747904896]
["SSICSEC201603Fife",9,239,3.7656903765690402,1.9935502964405301,7.00062533079962]
["SSICSEC201603Forth Valley",1,240,0.41666666666666702,7.3587908975014604E-2,2.3220656628519398]
["SSICSEC201603Grampian",5,490,1.0204081632653099,0.43661646935717602,2.3662255755414301]
["SSICSEC201603Greater Glasgow & Clyde",25,1378,1.8142235123367201,1.23183127633288,2.6645342694720799]
["SSICSEC201603Highland",5,171,2.9239766081871301,1.2552617212789401,6.6613896934873402]
["SSICSEC201603Lanarkshire",7,405,1.7283950617283901,0.83969089321309398,3.52424858848349]
["SSICSEC201603Lothian",9,749,1.2016021361815801,0.63342575163697701,2.2677954348649401]
["SSICSEC201603Orkney",0,12,0,0,24.2500757499242]
["SSICSEC201603Shetland",1,15,6.6666666666666696,1.1866588606194901,29.817077552423999]
["SSICSEC201603Tayside",4,343,1.1661807580174901,0.45440648001455097,2.9597168546719499]
["SSICSEC201603Western Isles",0,15,0,0,20.388926630434799]
["SSICSEC201604Ayrshire & Arran",2,313,0.63897763578274802,0.17540229665585899,2.2995252381123001]
["SSICSEC201604Borders",0,61,0,0,5.9245916201944402]
["SSICSEC201604Dumfries & Galloway",2,88,2.2727272727272698,0.62547971441379202,7.9126990629594198]
["SSICSEC201604Fife",7,243,2.8806584362139902,1.40223940655381,5.8257156869150304]
["SSICSEC201604Forth Valley",1,256,0.390625,6.8986441602360907E-2,2.1791524245376301]
["SSICSEC201604Grampian",3,444,0.67567567567567599,0.2300471942492,1.9675155154231501]
["SSICSEC201604Greater Glasgow & Clyde",14,1269,1.1032308904649299,0.65829200553462297,1.8433232779382001]
["SSICSEC201604Highland",2,165,1.2121212121212099,0.33303221439865399,4.3113208360344197]
["SSICSEC201604Lanarkshire",10,364,2.7472527472527499,1.4989511079679001,4.9825344010120496]
["SSICSEC201604Lothian",6,742,0.80862533692722405,0.371106946233563,1.7528829197111599]
["SSICSEC201604Orkney",0,9,0,0,29.915275355095901]
["SSICSEC201604Shetland",0,5,0,0,43.449149475208102]
["SSICSEC201604Tayside",4,282,1.4184397163120599,0.55294048678998298,3.5897735198486602]
["SSICSEC201604Western Isles",0,17,0,0,18.432366037156498]
["SSICSEC201701Ayrshire & Arran",1,252,0.39682539682539703,7.0082002160106002E-2,2.2132057821564399]
["SSICSEC201701Borders",0,54,0,0,6.6415866781001904]
["SSICSEC201701Dumfries & Galloway",2,55,3.6363636363636398,1.0029330855724901,12.3236929749017]
["SSICSEC201701Fife",4,213,1.8779342723004699,0.73264337100197796,4.7283013923644601]
["SSICSEC201701Forth Valley",3,211,1.4218009478672999,0.48468910696572398,4.0961741895280603]
["SSICSEC201701Grampian",6,406,1.47783251231527,0.67900841627576103,3.1862897867373099]
["SSICSEC201701Greater Glasgow & Clyde",20,1349,1.4825796886582701,0.96176234978499098,2.2789422530303001]
["SSICSEC201701Highland",6,169,3.55029585798817,1.63708166497775,7.5283044457733697]
["SSICSEC201701Lanarkshire",8,380,2.1052631578947398,1.0705329512416899,4.098682683541]
["SSICSEC201701Lothian",5,677,0.73855243722304298,0.31586139645717198,1.71715186242713]
["SSICSEC201701Orkney",0,0,0,0,0]
["SSICSEC201701Shetland",0,7,0,0,35.433884297520699]
["SSICSEC201701Tayside",3,259,1.15830115830116,0.39468710701741,3.3496212520855599]
["SSICSEC201701Western Isles",0,15,0,0,20.388926630434799]
["SSICSEC201702Ayrshire & Arran",4,283,1.4134275618374601,0.550981869272826,3.5772896227283399]
["SSICSEC201702Borders",0,68,0,0,5.3473196588049303]
["SSICSEC201702Dumfries & Galloway",1,74,1.35135135135135,0.238940187493933,7.2655304297595702]
["SSICSEC201702Fife",6,201,2.98507462686567,1.37510131622461,6.3584840492480303]
["SSICSEC201702Forth Valley",1,233,0.42918454935622302,7.5799878717434696E-2,2.3906587163942299]
["SSICSEC201702Grampian",7,416,1.6826923076923099,0.81742400887461897,3.4321786984321401]
["SSICSEC201702Greater Glasgow & Clyde",10,1316,0.75987841945288803,0.413266230785033,1.39313235522711]
["SSICSEC201702Highland",3,176,1.7045454545454499,0.58135373431719795,4.8910175079315401]
["SSICSEC201702Lanarkshire",3,373,0.80428954423592502,0.27389556667679898,2.3377057002746202]
["SSICSEC201702Lothian",5,658,0.75987841945288803,0.32499395023750899,1.7663825966583]
["SSICSEC201702Orkney",1,12,8.3333333333333304,1.4864709450773499,35.388592179859501]
["SSICSEC201702Shetland",0,8,0,0,32.441561951087699]
["SSICSEC201702Tayside",10,284,3.52112676056338,1.9236303199462499,6.3592586022943101]
["SSICSEC201702Western Isles",0,13,0,0,22.810184305529202]
["SSICSEC201703Ayrshire & Arran",5,314,1.5923566878980899,0.68201786238073903,3.6728557602035901]
["SSICSEC201703Borders",0,80,0,0,4.5819736264575104]
["SSICSEC201703Dumfries & Galloway",0,88,0,0,4.1828539572481302]
["SSICSEC201703Fife",11,244,4.5081967213114797,2.5356453605252698,7.8910142478697702]
["SSICSEC201703Forth Valley",5,259,1.93050193050193,0.82733248399599502,4.4388049919591097]
["SSICSEC201703Grampian",8,490,1.6326530612244901,0.82955102980736695,3.1882554895300101]
["SSICSEC201703Greater Glasgow & Clyde",12,1360,0.88235294117647101,0.50545263519847805,1.5359574523072801]
["SSICSEC201703Highland",2,186,1.0752688172042999,0.29536830046733897,3.8352332115300301]
["SSICSEC201703Lanarkshire",1,379,0.26385224274406299,4.6590394921568301E-2,1.47926259493115]
["SSICSEC201703Lothian",10,765,1.3071895424836599,0.71155590112169897,2.3894209450843298]
["SSICSEC201703Orkney",0,9,0,0,29.915275355095901]
["SSICSEC201703Shetland",0,12,0,0,24.2500757499242]
["SSICSEC201703Tayside",4,314,1.2738853503184699,0.49646609086979798,3.2291632792315399]
["SSICSEC201703Western Isles",0,14,0,0,21.531701192718099]
["SSICSEC201704Ayrshire & Arran",2,299,0.668896321070234,0.183623721835913,2.4057167122391898]
["SSICSEC201704Borders",1,70,1.4285714285714299,0.25261814032348701,7.6583697039269101]
["SSICSEC201704Dumfries & Galloway",0,75,0,0,4.8725545904700098]
["SSICSEC201704Fife",9,227,3.9647577092511002,2.09963562834298,7.3620905076741003]
["SSICSEC201704Forth Valley",4,227,1.7621145374449301,0.68732064944395699,4.4424306605452299]
["SSICSEC201704Grampian",6,467,1.2847965738758,0.59012008171116204,2.7744084561240698]
["SSICSEC201704Greater Glasgow & Clyde",17,1311,1.2967200610221199,0.81116307164889101,2.0668718186375101]
["SSICSEC201704Highland",3,149,2.0134228187919501,0.68705867460202097,5.7520259725097604]
["SSICSEC201704Lanarkshire",7,387,1.80878552971576,0.87886644531786295,3.6860519257050801]
["SSICSEC201704Lothian",10,686,1.45772594752187,0.79369267402364296,2.6624050736332099]
["SSICSEC201704Orkney",0,2,0,0,65.7628047110381]
["SSICSEC201704Shetland",0,6,0,0,39.0343033653064]
["SSICSEC201704Tayside",7,301,2.32558139534884,1.13096665746159,4.72177784984975]
["SSICSEC201704Western Isles",0,17,0,0,18.432366037156498]
["SSICSEC201801Ayrshire & Arran",3,319,0.94043887147335403,0.32033371501954899,2.72809622709448]
["SSICSEC201801Borders",0,57,0,0,6.3141008783463901]
["SSICSEC201801Dumfries & Galloway",2,72,2.7777777777777799,0.76508614661404695,9.5743581689067199]
["SSICSEC201801Fife",7,209,3.3492822966507201,1.63166582715798,6.7509060009057098]
["SSICSEC201801Forth Valley",9,231,3.8961038961039001,2.0630411424086699,7.2375257077575696]
["SSICSEC201801Grampian",3,392,0.76530612244898,0.26060292856977801,2.22564409549237]
["SSICSEC201801Greater Glasgow & Clyde",10,1255,0.79681274900398402,0.43337913562098501,1.4605525552287599]
["SSICSEC201801Highland",7,184,3.8043478260869601,1.85481083464146,7.6434046831139302]
["SSICSEC201801Lanarkshire",3,276,1.0869565217391299,0.37033214515708801,3.1465145281037898]
["SSICSEC201801Lothian",12,679,1.7673048600883701,1.0138017809148501,3.0635127822283499]
["SSICSEC201801Orkney",1,3,33.3333333333333,6.1490315276160503,79.234504487351202]
["SSICSEC201801Shetland",0,7,0,0,35.433884297520699]
["SSICSEC201801Tayside",7,279,2.5089605734767,1.2205289798926,5.0874540042229004]
["SSICSEC201801Western Isles",0,12,0,0,24.2500757499242]
["SSICSEC201802Ayrshire & Arran",2,302,0.66225165562913901,0.18179775208326299,2.3821438438278202]
["SSICSEC201802Borders",0,71,0,0,5.1329741747904896]
["SSICSEC201802Dumfries & Galloway",2,78,2.5641025641025599,0.70599454465853695,8.8754408133989795]
["SSICSEC201802Fife",7,223,3.1390134529148002,1.5286775668413,6.3365464485068497]
["SSICSEC201802Forth Valley",4,255,1.5686274509803899,0.61164565265361603,3.9631985764038502]
["SSICSEC201802Grampian",6,498,1.2048192771084301,0.55330979020214199,2.6033834771555302]
["SSICSEC201802Greater Glasgow & Clyde",15,1259,1.1914217633042099,0.72332669879570299,1.95647098921204]
["SSICSEC201802Highland",2,154,1.2987012987013,0.35686878843140901,4.6111497820848601]
["SSICSEC201802Lanarkshire",4,341,1.17302052785924,0.45707700627074399,2.9768474390397999]
["SSICSEC201802Lothian",11,701,1.5691868758915799,0.87841911385432103,2.7878798106132501]
["SSICSEC201802Orkney",0,10,0,0,27.754016876661701]
["SSICSEC201802Shetland",0,10,0,0,27.754016876661701]
["SSICSEC201802Tayside",8,268,2.98507462686567,1.5201721789723099,5.77878427213746]
["SSICSEC201802Western Isles",0,21,0,0,15.4643823264202]
["SSICSEC201803Ayrshire & Arran",0,294,0,0,1.28981310871282]
["SSICSEC201803Borders",0,60,0,0,6.0173930477932904]
["SSICSEC201803Dumfries & Galloway",0,64,0,0,5.6626022971156296]
["SSICSEC201803Fife",5,220,2.2727272727272698,0.97457484920653004,5.209083594979]
["SSICSEC201803Forth Valley",6,228,2.6315789473684199,1.21151850701061,5.6214226045069102]
["SSICSEC201803Grampian",3,493,0.60851926977687598,0.207159080774131,1.7736734421064]
["SSICSEC201803Greater Glasgow & Clyde",18,1394,1.29124820659971,0.81831426116327699,2.03190853947451]
["SSICSEC201803Highland",5,185,2.7027027027027,1.1598213771871,6.1699195273593599]
["SSICSEC201803Lanarkshire",11,380,2.8947368421052602,1.6239022863567201,5.1084581456548204]
["SSICSEC201803Lothian",12,667,1.79910044977511,1.0320927657865799,3.11815671188445]
["SSICSEC201803Orkney",0,2,0,0,65.7628047110381]
["SSICSEC201803Shetland",0,8,0,0,32.441561951087699]
["SSICSEC201803Tayside",6,279,2.1505376344085998,0.98923583992587805,4.6116375818055797]
["SSICSEC201803Western Isles",0,19,0,0,16.818436536845098]
["SSICSEC201804Ayrshire & Arran",4,294,1.3605442176870699,0.53031852542000602,3.4454860633278401]
["SSICSEC201804Borders",0,67,0,0,5.42280242117626]
["SSICSEC201804Dumfries & Galloway",1,83,1.2048192771084301,0.212992258770482,6.5137377876588802]
["SSICSEC201804Fife",4,238,1.6806722689075599,0.65546146613853096,4.24096660909749]
["SSICSEC201804Forth Valley",5,253,1.97628458498024,0.84702028091023496,4.5421378616959496]
["SSICSEC201804Grampian",7,462,1.51515151515152,0.73582597708559205,3.0941454123308998]
["SSICSEC201804Greater Glasgow & Clyde",16,1365,1.17216117216117,0.72277783343117197,1.8956113213110599]
["SSICSEC201804Highland",2,167,1.19760479041916,0.32903629932488299,4.2609464683382603]
["SSICSEC201804Lanarkshire",7,387,1.80878552971576,0.87886644531786295,3.6860519257050801]
["SSICSEC201804Lothian",8,705,1.1347517730496499,0.57608727025294504,2.2230712441457601]
["SSICSEC201804Orkney",0,13,0,0,22.810184305529202]
["SSICSEC201804Shetland",0,5,0,0,43.449149475208102]
["SSICSEC201804Tayside",5,299,1.6722408026755899,0.71633186851657404,3.8542423194417501]
["SSICSEC201804Western Isles",0,8,0,0,32.441561951087699]
["SSICSEC201901Ayrshire & Arran",3,255,1.1764705882352899,0.40089055408692098,3.4012803488900398]
["SSICSEC201901Borders",0,68,0,0,5.3473196588049303]
["SSICSEC201901Dumfries & Galloway",0,72,0,0,5.0652939811396402]
["SSICSEC201901Fife",12,185,6.4864864864864904,3.74909999996015,10.994261632222599]
["SSICSEC201901Forth Valley",7,203,3.4482758620689702,1.68017815534496,6.9455528388070897]
["SSICSEC201901Grampian",9,456,1.9736842105263199,1.0417557220878599,3.7080537775311302]
["SSICSEC201901Greater Glasgow & Clyde",9,1306,0.68912710566615598,0.36296824090774799,1.3045310964167001]
["SSICSEC201901Highland",5,159,3.1446540880503102,1.3505186979646999,7.1495206040318502]
["SSICSEC201901Lanarkshire",7,367,1.9073569482288799,0.92691655049320099,3.8841941771058601]
["SSICSEC201901Lothian",10,686,1.45772594752187,0.79369267402364296,2.6624050736332099]
["SSICSEC201901Orkney",0,4,0,0,48.990002040399901]
["SSICSEC201901Shetland",0,6,0,0,39.0343033653064]
["SSICSEC201901Tayside",2,269,0.74349442379182196,0.20412607015241499,2.6699224620362201]
["SSICSEC201901Western Isles",0,15,0,0,20.388926630434799]
["SSICSEC201902Ayrshire & Arran",2,279,0.71684587813620104,0.19680150212168801,2.5756336700736302]
["SSICSEC201902Borders",0,74,0,0,4.9351503566216497]
["SSICSEC201902Dumfries & Galloway",0,81,0,0,4.5279674122128801]
["SSICSEC201902Fife",4,204,1.9607843137254899,0.76507553668887296,4.9323401875934598]
["SSICSEC201902Forth Valley",2,222,0.90090090090090102,0.247403017178004,3.2247650864840298]
["SSICSEC201902Grampian",8,472,1.6949152542372901,0.86127632324664605,3.3085146323990999]
["SSICSEC201902Greater Glasgow & Clyde",4,1219,0.32813781788351098,0.12767606051480501,0.84069138789388498]
["SSICSEC201902Highland",1,182,0.54945054945054905,9.7054951196549805E-2,3.04626710371473]
["SSICSEC201902Lanarkshire",6,376,1.59574468085106,0.73333318410419202,3.4372473947476201]
["SSICSEC201902Lothian",13,693,1.87590187590188,1.0995003465498501,3.1829075923561998]
["SSICSEC201902Orkney",1,8,12.5,2.2416908863296201,47.089480576986098]
["SSICSEC201902Shetland",0,8,0,0,32.441561951087699]
["SSICSEC201902Tayside",2,284,0.70422535211267601,0.19333286238323999,2.5309432672658501]
["SSICSEC201902Western Isles",0,16,0,0,19.361341827272]
["SSICSEC201903Ayrshire & Arran",5,303,1.6501650165016499,0.70684832168959699,3.8041436689661698]
["SSICSEC201903Borders",1,57,1.7543859649122799,0.31035847066800898,9.29096693826272]
["SSICSEC201903Dumfries & Galloway",1,86,1.16279069767442,0.20555157424055501,6.2965588066965603]
["SSICSEC201903Fife",6,236,2.5423728813559299,1.1702695319334,5.4347564518825902]
["SSICSEC201903Forth Valley",2,219,0.91324200913242004,0.25079695573225103,3.2681151324954398]
["SSICSEC201903Grampian",10,463,2.15982721382289,1.17731134557443,3.9296885447524001]
["SSICSEC201903Greater Glasgow & Clyde",3,1367,0.21945866861741001,7.4661853240225604E-2,0.64326208487195302]
["SSICSEC201903Highland",4,216,1.8518518518518501,0.72243517617336495,4.6639885034214004]
["SSICSEC201903Lanarkshire",4,398,1.0050251256281399,0.391502963055743,2.5553298188165199]
["SSICSEC201903Lothian",12,718,1.6713091922005601,0.95858970028024404,2.89843377966328]
["SSICSEC201903Orkney",0,8,0,0,32.441561951087699]
["SSICSEC201903Shetland",0,10,0,0,27.754016876661701]
["SSICSEC201903Tayside",3,311,0.96463022508038598,0.328587192302288,2.7973021437956098]
["SSICSEC201903Western Isles",0,16,0,0,19.361341827272]
["SSICSEC201904Ayrshire & Arran",2,251,0.79681274900398402,0.218782882292307,2.8582657628268602]
["SSICSEC201904Borders",0,63,0,0,5.7473190348525502]
["SSICSEC201904Dumfries & Galloway",0,72,0,0,5.0652939811396402]
["SSICSEC201904Fife",5,216,2.31481481481481,0.99269514967384498,5.3034744560786597]
["SSICSEC201904Forth Valley",2,205,0.97560975609756095,0.26795077630589498,3.4868566950025]
["SSICSEC201904Grampian",6,469,1.2793176972281499,0.58759805484635996,2.7626993809122502]
["SSICSEC201904Greater Glasgow & Clyde",4,1306,0.30627871362940301,0.119166375128341,0.78488187009459298]
["SSICSEC201904Highland",3,178,1.68539325842697,0.57480306049524699,4.8373798503458403]
["SSICSEC201904Lanarkshire",5,349,1.4326647564469901,0.61345115171149101,3.30944229395931]
["SSICSEC201904Lothian",6,685,0.87591240875912402,0.40203366292051901,1.8977113002176]
["SSICSEC201904Orkney",0,8,0,0,32.441561951087699]
["SSICSEC201904Shetland",0,9,0,0,29.915275355095901]
["SSICSEC201904Tayside",2,290,0.68965517241379304,0.18932854847483299,2.47932013843675]
["SSICSEC201904Western Isles",0,11,0,0,25.884001724881401]
["SSIHIP201401Ayrshire & Arran",0,113,0,0,3.2878700736723898]
["SSIHIP201401Borders",2,52,3.8461538461538498,1.06114883220776,12.981428744365999]
["SSIHIP201401Dumfries & Galloway",1,39,2.5641025641025599,0.45405860652373697,13.181286478627101]
["SSIHIP201401Fife",2,135,1.4814814814814801,0.40721180990761202,5.2406631785684601]
["SSIHIP201401Forth Valley",0,84,0,0,4.3733265332143301]
["SSIHIP201401Grampian",1,171,0.58479532163742698,0.10330277288595401,3.2377785258438698]
["SSIHIP201401Greater Glasgow & Clyde",2,453,0.44150110375275903,0.12115660502036001,1.5953245560647999]
["SSIHIP201401Highland",0,99,0,0,3.7354533573962301]
["SSIHIP201401Lanarkshire",0,111,0,0,3.3451292911279502]
["SSIHIP201401Lothian",2,289,0.69204152249134998,0.18998437512299901,2.48777725437226]
["SSIHIP201401Golden Jubilee",1,349,0.28653295128939799,5.0596719226339897E-2,1.60499037707976]
["SSIHIP201401Orkney",0,0,0,0,0]
["SSIHIP201401Shetland",0,0,0,0,0]
["SSIHIP201401Tayside",5,196,2.5510204081632701,1.0944401954660601,5.8318454227435597]
["SSIHIP201401Western Isles",0,15,0,0,20.388926630434799]
["SSIHIP201402Ayrshire & Arran",0,143,0,0,2.6161523709902399]
["SSIHIP201402Borders",0,72,0,0,5.0652939811396402]
["SSIHIP201402Dumfries & Galloway",0,47,0,0,7.5560171198388701]
["SSIHIP201402Fife",1,135,0.74074074074074103,0.13087545613434901,4.0765090741505201]
["SSIHIP201402Forth Valley",1,70,1.4285714285714299,0.25261814032348701,7.6583697039269101]
["SSIHIP201402Grampian",0,218,0,0,1.73168603183533]
["SSIHIP201402Greater Glasgow & Clyde",4,404,0.99009900990098998,0.38567865538740198,2.51780151926864]
["SSIHIP201402Highland",1,91,1.0989010989011001,0.19424213233478901,5.9650803590613899]
["SSIHIP201402Lanarkshire",2,101,1.98019801980198,0.54472082927216703,6.9347529673887003]
["SSIHIP201402Lothian",1,269,0.37174721189591098,6.5650990890140606E-2,2.0753714924848299]
["SSIHIP201402Golden Jubilee",0,343,0,0,1.10759493670886]
["SSIHIP201402Orkney",0,1,0,0,79.345670852610695]
["SSIHIP201402Shetland",0,0,0,0,0]
["SSIHIP201402Tayside",3,195,1.5384615384615401,0.52456178146258703,4.4249055332240799]
["SSIHIP201402Western Isles",0,9,0,0,29.915275355095901]
["SSIHIP201403Ayrshire & Arran",0,122,0,0,3.0527266023318198]
["SSIHIP201403Borders",2,74,2.7027027027027,0.74431965623096896,9.32947122165438]
["SSIHIP201403Dumfries & Galloway",0,44,0,0,8.0298317782013999]
["SSIHIP201403Fife",1,161,0.62111801242235998,0.109724029448312,3.43404162194066]
["SSIHIP201403Forth Valley",1,72,1.3888888888888899,0.245588864043216,7.4567802842869897]
["SSIHIP201403Grampian",0,233,0,0,1.6220123491819001]
["SSIHIP201403Greater Glasgow & Clyde",6,425,1.4117647058823499,0.64857915345717798,3.0454654541555199]
["SSIHIP201403Highland",0,67,0,0,5.42280242117626]
["SSIHIP201403Lanarkshire",1,110,0.90909090909090895,0.16065339495988401,4.9706869937907996]
["SSIHIP201403Lothian",1,245,0.40816326530612201,7.2085356391811295E-2,2.2754321004964302]
["SSIHIP201403Golden Jubilee",0,354,0,0,1.0735476255415799]
["SSIHIP201403Orkney",0,1,0,0,79.345670852610695]
["SSIHIP201403Shetland",0,0,0,0,0]
["SSIHIP201403Tayside",4,202,1.98019801980198,0.77267650330660997,4.98009650273299]
["SSIHIP201403Western Isles",0,15,0,0,20.388926630434799]
["SSIHIP201404Ayrshire & Arran",0,123,0,0,3.0286593672738298]
["SSIHIP201404Borders",1,69,1.4492753623188399,0.25628586443303802,7.7633073350573598]
["SSIHIP201404Dumfries & Galloway",0,32,0,0,10.7182715057364]
["SSIHIP201404Fife",0,156,0,0,2.4033793455521]
["SSIHIP201404Forth Valley",0,54,0,0,6.6415866781001904]
["SSIHIP201404Grampian",1,215,0.46511627906976699,8.2149568140425705E-2,2.5871783841318998]
["SSIHIP201404Greater Glasgow & Clyde",5,398,1.25628140703518,0.53776180001281704,2.9067795316959999]
["SSIHIP201404Highland",1,47,2.12765957446809,0.37656710104649899,11.1132365243311]
["SSIHIP201404Lanarkshire",2,98,2.0408163265306101,0.56144964757722804,7.1383508268850697]
["SSIHIP201404Lothian",1,255,0.39215686274509798,6.9257107940528403E-2,2.1875671428754102]
["SSIHIP201404Golden Jubilee",1,334,0.29940119760479,5.2869868475524398E-2,1.6762244763298499]
["SSIHIP201404Orkney",0,0,0,0,0]
["SSIHIP201404Shetland",0,0,0,0,0]
["SSIHIP201404Tayside",0,180,0,0,2.0896249815058199]
["SSIHIP201404Western Isles",0,13,0,0,22.810184305529202]
["SSIHIP201501Ayrshire & Arran",0,55,0,0,6.5287143789427899]
["SSIHIP201501Borders",0,80,0,0,4.5819736264575104]
["SSIHIP201501Dumfries & Galloway",0,38,0,0,9.1812932583840006]
["SSIHIP201501Fife",1,134,0.74626865671641796,0.13185304171489001,4.10605481774118]
["SSIHIP201501Forth Valley",2,64,3.125,0.86119577125165903,10.6974938822942]
["SSIHIP201501Grampian",2,221,0.90497737556561098,0.24852407734474999,3.2390867562376502]
["SSIHIP201501Greater Glasgow & Clyde",1,341,0.29325513196480901,5.17841695886418E-2,1.6422109864482199]
["SSIHIP201501Highland",0,94,0,0,3.9263462576245698]
["SSIHIP201501Lanarkshire",2,95,2.1052631578947398,0.57923854515239204,7.3542631383492898]
["SSIHIP201501Lothian",1,212,0.47169811320754701,8.3312740725204906E-2,2.6231164184359601]
["SSIHIP201501Golden Jubilee",0,419,0,0,0.90851988073075096]
["SSIHIP201501Orkney",0,5,0,0,43.449149475208102]
["SSIHIP201501Shetland",0,0,0,0,0]
["SSIHIP201501Tayside",9,187,4.8128342245989302,2.5523878694331001,8.8924962648437091]
["SSIHIP201501Western Isles",0,14,0,0,21.531701192718099]
["SSIHIP201502Ayrshire & Arran",0,151,0,0,2.4809870215755998]
["SSIHIP201502Borders",2,79,2.5316455696202498,0.69702211647619094,8.7687535324731307]
["SSIHIP201502Dumfries & Galloway",0,42,0,0,8.3801612509161991]
["SSIHIP201502Fife",0,129,0,0,2.8918651988533699]
["SSIHIP201502Forth Valley",2,56,3.5714285714285698,0.98492185025776402,12.119005852210099]
["SSIHIP201502Grampian",2,252,0.79365079365079405,0.217913615768799,2.8471078662732099]
["SSIHIP201502Greater Glasgow & Clyde",5,392,1.27551020408163,0.54601098487603295,2.9507412513719999]
["SSIHIP201502Highland",1,88,1.13636363636364,0.20087336004305201,6.1596430072676203]
["SSIHIP201502Lanarkshire",1,116,0.86206896551724099,0.152334856469619,4.7220993967446203]
["SSIHIP201502Lothian",2,248,0.80645161290322598,0.22143279641083399,2.8922704202142202]
["SSIHIP201502Golden Jubilee",1,420,0.238095238095238,4.2040945772280798E-2,1.33620979695802]
["SSIHIP201502Orkney",0,2,0,0,65.7628047110381]
["SSIHIP201502Shetland",0,0,0,0,0]
["SSIHIP201502Tayside",2,164,1.2195121951219501,0.33506679012033402,4.3369573087919697]
["SSIHIP201502Western Isles",0,20,0,0,16.113012549493298]
["SSIHIP201503Ayrshire & Arran",0,130,0,0,2.8702585743147102]
["SSIHIP201503Borders",1,60,1.6666666666666701,0.29480838608736798,8.8553382267794802]
["SSIHIP201503Dumfries & Galloway",0,51,0,0,7.0049013887268101]
["SSIHIP201503Fife",0,135,0,0,2.7668940720936699]
["SSIHIP201503Forth Valley",1,58,1.72413793103448,0.30499598845417702,9.1410726772983306]
["SSIHIP201503Grampian",2,239,0.836820083682008,0.22978221357475501,2.9993185665222302]
["SSIHIP201503Greater Glasgow & Clyde",4,388,1.0309278350515501,0.401611150294229,2.6204263260737699]
["SSIHIP201503Highland",0,106,0,0,3.4973998922084202]
["SSIHIP201503Lanarkshire",0,89,0,0,4.1378002964188498]
["SSIHIP201503Lothian",1,263,0.38022813688212898,6.7149436738730903E-2,2.1220144717373102]
["SSIHIP201503Golden Jubilee",0,412,0,0,0.92381329814044599]
["SSIHIP201503Orkney",0,0,0,0,0]
["SSIHIP201503Tayside",0,182,0,0,2.0671367444102899]
["SSIHIP201503Western Isles",0,21,0,0,15.4643823264202]
["SSIHIP201504Ayrshire & Arran",0,135,0,0,2.7668940720936699]
["SSIHIP201504Borders",2,88,2.2727272727272698,0.62547971441379202,7.9126990629594198]
["SSIHIP201504Dumfries & Galloway",0,55,0,0,6.5287143789427899]
["SSIHIP201504Fife",1,129,0.775193798449612,0.136968533684451,4.2604491427060802]
["SSIHIP201504Forth Valley",1,53,1.88679245283019,0.33383673867494101,9.9431435011494091]
["SSIHIP201504Grampian",0,273,0,0,1.38765272271219]
["SSIHIP201504Greater Glasgow & Clyde",5,407,1.22850122850123,0.525845029001061,2.84323930909907]
["SSIHIP201504Highland",0,56,0,0,6.4196144488115303]
["SSIHIP201504Lanarkshire",2,103,1.94174757281553,0.53411133321984605,6.8053519470005899]
["SSIHIP201504Lothian",1,268,0.37313432835820898,6.5896070366263701E-2,2.0830024058051499]
["SSIHIP201504Golden Jubilee",1,411,0.24330900243309,4.2961827422093798E-2,1.36519010333895]
["SSIHIP201504Orkney",0,2,0,0,65.7628047110381]
["SSIHIP201504Shetland",0,0,0,0,0]
["SSIHIP201504Tayside",2,195,1.02564102564103,0.28171396519349601,3.6619276067914401]
["SSIHIP201504Western Isles",0,16,0,0,19.361341827272]
["SSIHIP201601Ayrshire & Arran",0,96,0,0,3.8476947484815902]
["SSIHIP201601Borders",1,69,1.4492753623188399,0.25628586443303802,7.7633073350573598]
["SSIHIP201601Dumfries & Galloway",0,45,0,0,7.8654261940640797]
["SSIHIP201601Fife",2,133,1.5037593984962401,0.41334978576213199,5.31707137271599]
["SSIHIP201601Forth Valley",0,58,0,0,6.2119996895293799]
["SSIHIP201601Grampian",0,301,0,0,1.2601954588875]
["SSIHIP201601Greater Glasgow & Clyde",2,365,0.54794520547945202,0.15039202796377499,1.9756154505852801]
["SSIHIP201601Highland",0,122,0,0,3.0527266023318198]
["SSIHIP201601Lanarkshire",0,102,0,0,3.6295747607745898]
["SSIHIP201601Lothian",0,196,0,0,1.9223224794036899]
["SSIHIP201601Golden Jubilee",1,448,0.223214285714286,3.9412661395000999E-2,1.25342978604676]
["SSIHIP201601Orkney",0,2,0,0,65.7628047110381]
["SSIHIP201601Shetland",0,0,0,0,0]
["SSIHIP201601Tayside",1,217,0.460829493087558,8.1391997422022605E-2,2.5637618141786902]
["SSIHIP201601Western Isles",0,19,0,0,16.818436536845098]
["SSIHIP201602Ayrshire & Arran",0,106,0,0,3.4973998922084202]
["SSIHIP201602Borders",1,58,1.72413793103448,0.30499598845417702,9.1410726772983306]
["SSIHIP201602Dumfries & Galloway",0,57,0,0,6.3141008783463901]
["SSIHIP201602Fife",1,111,0.90090090090090102,0.15920445055909099,4.9274540425305204]
["SSIHIP201602Forth Valley",0,48,0,0,7.4102651152742203]
["SSIHIP201602Grampian",1,313,0.31948881789137401,5.6418449998160702E-2,1.78727884227659]
["SSIHIP201602Greater Glasgow & Clyde",4,426,0.93896713615023497,0.36572880019501902,2.3891464840957499]
["SSIHIP201602Highland",0,105,0,0,3.5295328256843002]
["SSIHIP201602Lanarkshire",1,132,0.75757575757575801,0.13385269033438901,4.1664500151696702]
["SSIHIP201602Lothian",2,259,0.77220077220077199,0.21201692749995699,2.7713768731769499]
["SSIHIP201602Golden Jubilee",1,474,0.21097046413502099,3.7250221486160397E-2,1.1852469407533801]
["SSIHIP201602Orkney",0,0,0,0,0]
["SSIHIP201602Shetland",0,0,0,0,0]
["SSIHIP201602Tayside",6,220,2.7272727272727302,1.2557816447416199,5.8213657666421401]
["SSIHIP201602Western Isles",0,9,0,0,29.915275355095901]
["SSIHIP201603Ayrshire & Arran",0,93,0,0,3.9668902620361499]
["SSIHIP201603Borders",2,75,2.6666666666666701,0.73435350236005503,9.2116648432848791]
["SSIHIP201603Dumfries & Galloway",0,54,0,0,6.6415866781001904]
["SSIHIP201603Fife",0,113,0,0,3.2878700736723898]
["SSIHIP201603Forth Valley",1,64,1.5625,0.27634707504014,8.33429890029063]
["SSIHIP201603Grampian",1,286,0.34965034965035002,6.1746971182093102E-2,1.95369870673302]
["SSIHIP201603Greater Glasgow & Clyde",5,390,1.2820512820512799,0.54881724311043201,2.9656921434043499]
["SSIHIP201603Highland",0,93,0,0,3.9668902620361499]
["SSIHIP201603Lanarkshire",0,91,0,0,4.0505432215399102]
["SSIHIP201603Lothian",2,245,0.81632653061224503,0.22414768957744999,2.9270939034680898]
["SSIHIP201603Golden Jubilee",1,446,0.224215246636771,3.9589448788706003E-2,1.25900098837851]
["SSIHIP201603Orkney",0,0,0,0,0]
["SSIHIP201603Shetland",0,0,0,0,0]
["SSIHIP201603Tayside",2,188,1.0638297872340401,0.292220835550212,3.7953180506976101]
["SSIHIP201603Western Isles",0,15,0,0,20.388926630434799]
["SSIHIP201604Ayrshire & Arran",0,148,0,0,2.5300049525294801]
["SSIHIP201604Borders",1,71,1.40845070422535,0.24905391347781999,7.5562308479382896]
["SSIHIP201604Dumfries & Galloway",3,50,6,2.06145963646305,16.217343370877]
["SSIHIP201604Fife",2,111,1.8018018018018001,0.49550748667772898,6.3326802083735396]
["SSIHIP201604Forth Valley",0,54,0,0,6.6415866781001904]
["SSIHIP201604Grampian",4,297,1.34680134680135,0.52494933121393506,3.4112084342014901]
["SSIHIP201604Greater Glasgow & Clyde",2,456,0.43859649122806998,0.120358974850641,1.5849238877698799]
["SSIHIP201604Highland",1,94,1.0638297872340401,0.188034733905247,5.7824318161102903]
["SSIHIP201604Lanarkshire",2,101,1.98019801980198,0.54472082927216703,6.9347529673887003]
["SSIHIP201604Lothian",0,232,0,0,1.62888989898305]
["SSIHIP201604Golden Jubilee",0,405,0,0,0.93963040942996001]
["SSIHIP201604Orkney",0,0,0,0,0]
["SSIHIP201604Shetland",0,0,0,0,0]
["SSIHIP201604Tayside",2,188,1.0638297872340401,0.292220835550212,3.7953180506976101]
["SSIHIP201604Western Isles",0,19,0,0,16.818436536845098]
["SSIHIP201701Ayrshire & Arran",0,145,0,0,2.5809988605336098]
["SSIHIP201701Borders",1,64,1.5625,0.27634707504014,8.33429890029063]
["SSIHIP201701Dumfries & Galloway",0,53,0,0,6.7584304453076598]
["SSIHIP201701Fife",0,108,0,0,3.4348578704167299]
["SSIHIP201701Forth Valley",1,52,1.92307692307692,0.340272040906551,10.1207462680244]
["SSIHIP201701Grampian",1,264,0.37878787878787901,6.6894963603423299E-2,2.11409559200855]
["SSIHIP201701Greater Glasgow & Clyde",3,382,0.78534031413612604,0.267434005663087,2.2832500055995699]
["SSIHIP201701Highland",0,86,0,0,4.2759701519118103]
["SSIHIP201701Lanarkshire",1,99,1.0101010101010099,0.17852613200520301,5.5016655414032201]
["SSIHIP201701Lothian",3,258,1.16279069767442,0.39621990008764402,3.3623883577293001]
["SSIHIP201701Golden Jubilee",0,447,0,0,0.85209528135824197]
["SSIHIP201701Orkney",0,0,0,0,0]
["SSIHIP201701Shetland",0,0,0,0,0]
["SSIHIP201701Tayside",2,192,1.0416666666666701,0.28612294459291898,3.71792930988213]
["SSIHIP201701Western Isles",0,14,0,0,21.531701192718099]
["SSIHIP201702Ayrshire & Arran",1,143,0.69930069930069905,0.123547409238715,3.8546168167027099]
["SSIHIP201702Borders",0,62,0,0,5.8346091225000603]
["SSIHIP201702Dumfries & Galloway",1,52,1.92307692307692,0.340272040906551,10.1207462680244]
["SSIHIP201702Fife",0,113,0,0,3.2878700736723898]
["SSIHIP201702Forth Valley",0,51,0,0,7.0049013887268101]
["SSIHIP201702Grampian",0,288,0,0,1.316330502574]
["SSIHIP201702Greater Glasgow & Clyde",7,443,1.58013544018059,0.76746981199132802,3.2253544908488698]
["SSIHIP201702Highland",0,115,0,0,3.2325381011363001]
["SSIHIP201702Lanarkshire",0,113,0,0,3.2878700736723898]
["SSIHIP201702Lothian",4,247,1.6194331983805701,0.63151144344996601,4.0892366302347796]
["SSIHIP201702Golden Jubilee",1,481,0.207900207900208,3.6707979113978599E-2,1.1681391297149699]
["SSIHIP201702Orkney",0,0,0,0,0]
["SSIHIP201702Shetland",0,0,0,0,0]
["SSIHIP201702Tayside",5,175,2.8571428571428599,1.2264270311919501,6.5131592842961696]
["SSIHIP201702Western Isles",0,18,0,0,17.5884550582375]
["SSIHIP201703Ayrshire & Arran",1,122,0.81967213114754101,0.14483536709422801,4.4971907991337901]
["SSIHIP201703Borders",0,70,0,0,5.2024874867283497]
["SSIHIP201703Dumfries & Galloway",0,36,0,0,9.6421830448576404]
["SSIHIP201703Fife",1,99,1.0101010101010099,0.17852613200520301,5.5016655414032201]
["SSIHIP201703Forth Valley",0,51,0,0,7.0049013887268101]
["SSIHIP201703Grampian",2,252,0.79365079365079405,0.217913615768799,2.8471078662732099]
["SSIHIP201703Greater Glasgow & Clyde",2,343,0.58309037900874605,0.16004697401066201,2.1008121616870201]
["SSIHIP201703Highland",0,112,0,0,3.3162525379483698]
["SSIHIP201703Lanarkshire",0,99,0,0,3.7354533573962301]
["SSIHIP201703Lothian",0,262,0,0,1.44507104982817]
["SSIHIP201703Golden Jubilee",1,447,0.223713646532438,3.9500857288371098E-2,1.25620921028303]
["SSIHIP201703Orkney",0,0,0,0,0]
["SSIHIP201703Shetland",0,0,0,0,0]
["SSIHIP201703Tayside",2,170,1.1764705882352899,0.32321904361174703,4.1875539819471497]
["SSIHIP201703Western Isles",0,14,0,0,21.531701192718099]
["SSIHIP201704Ayrshire & Arran",0,143,0,0,2.6161523709902399]
["SSIHIP201704Borders",1,55,1.8181818181818199,0.32166975922527902,9.6060004604832301]
["SSIHIP201704Dumfries & Galloway",2,36,5.5555555555555598,1.5369663767066899,18.144974107611201]
["SSIHIP201704Fife",0,114,0,0,3.2599693147411402]
["SSIHIP201704Forth Valley",0,60,0,0,6.0173930477932904]
["SSIHIP201704Grampian",2,297,0.673400673400673,0.184861550143499,2.4216928625441101]
["SSIHIP201704Greater Glasgow & Clyde",6,397,1.51133501259446,0.69444151989549396,3.2576432936567898]
["SSIHIP201704Highland",0,101,0,0,3.66419436559534]
["SSIHIP201704Lanarkshire",1,111,0.90090090090090102,0.15920445055909099,4.9274540425305204]
["SSIHIP201704Lothian",0,199,0,0,1.8938915883132501]
["SSIHIP201704Golden Jubilee",3,379,0.79155672823219003,0.26955371592015598,2.30111780984925]
["SSIHIP201704Orkney",0,0,0,0,0]
["SSIHIP201704Shetland",0,0,0,0,0]
["SSIHIP201704Tayside",1,170,0.58823529411764697,0.10391087887323,3.2563895325357799]
["SSIHIP201704Western Isles",0,9,0,0,29.915275355095901]
["SSIHIP201801Ayrshire & Arran",0,129,0,0,2.8918651988533699]
["SSIHIP201801Borders",1,44,2.2727272727272698,0.40231483856369998,11.8079791315376]
["SSIHIP201801Dumfries & Galloway",1,37,2.7027027027027,0.47868510549077498,13.8243784375634]
["SSIHIP201801Fife",1,113,0.88495575221238898,0.15638358136017899,4.8432056060525204]
["SSIHIP201801Forth Valley",0,48,0,0,7.4102651152742203]
["SSIHIP201801Grampian",4,302,1.32450331125828,0.516238267608506,3.3555698840621599]
["SSIHIP201801Greater Glasgow & Clyde",2,338,0.59171597633136097,0.16241672734965601,2.1315112205653999]
["SSIHIP201801Highland",0,55,0,0,6.5287143789427899]
["SSIHIP201801Lanarkshire",0,98,0,0,3.7721324095458]
["SSIHIP201801Lothian",5,206,2.42718446601942,1.0410876514298799,5.5551258734384001]
["SSIHIP201801Golden Jubilee",1,449,0.22271714922048999,3.9324858464613997E-2,1.25066263385058]
["SSIHIP201801Orkney",0,0,0,0,0]
["SSIHIP201801Shetland",0,0,0,0,0]
["SSIHIP201801Tayside",2,173,1.15606936416185,0.317603909596543,4.1166468549294501]
["SSIHIP201801Western Isles",0,16,0,0,19.361341827272]
["SSIHIP201802Ayrshire & Arran",0,133,0,0,2.8073334424619398]
["SSIHIP201802Borders",0,74,0,0,4.9351503566216497]
["SSIHIP201802Dumfries & Galloway",0,45,0,0,7.8654261940640797]
["SSIHIP201802Fife",0,143,0,0,2.6161523709902399]
["SSIHIP201802Forth Valley",0,48,0,0,7.4102651152742203]
["SSIHIP201802Grampian",1,296,0.337837837837838,5.9660053007111601E-2,1.8885686117278699]
["SSIHIP201802Greater Glasgow & Clyde",12,381,3.1496062992125999,1.81070286948614,5.4238580511627701]
["SSIHIP201802Highland",0,102,0,0,3.6295747607745898]
["SSIHIP201802Lanarkshire",1,107,0.934579439252336,0.16516291511190101,5.10506053889815]
["SSIHIP201802Lothian",2,297,0.673400673400673,0.184861550143499,2.4216928625441101]
["SSIHIP201802Golden Jubilee",1,478,0.209205020920502,3.6938423516124697E-2,1.1754101989357399]
["SSIHIP201802Orkney",0,0,0,0,0]
["SSIHIP201802Shetland",0,0,0,0,0]
["SSIHIP201802Tayside",1,151,0.66225165562913901,0.11699648169822099,3.6556330958830001]
["SSIHIP201802Western Isles",0,15,0,0,20.388926630434799]
["SSIHIP201803Ayrshire & Arran",2,99,2.0202020202020199,0.55576036255231098,7.0691696268683097]
["SSIHIP201803Borders",0,74,0,0,4.9351503566216497]
["SSIHIP201803Dumfries & Galloway",1,38,2.6315789473684199,0.46604675535300499,13.4951784368003]
["SSIHIP201803Fife",1,135,0.74074074074074103,0.13087545613434901,4.0765090741505201]
["SSIHIP201803Forth Valley",0,58,0,0,6.2119996895293799]
["SSIHIP201803Grampian",1,274,0.36496350364963498,6.4452439151137103E-2,2.0380404920729802]
["SSIHIP201803Greater Glasgow & Clyde",3,346,0.86705202312138696,0.29530009983410399,2.5178587697800299]
["SSIHIP201803Highland",1,121,0.826446280991736,0.146033579652323,4.5331759146188197]
["SSIHIP201803Lanarkshire",0,105,0,0,3.5295328256843002]
["SSIHIP201803Lothian",2,263,0.76045627376425895,0.208788490774269,2.7298837402421801]
["SSIHIP201803Golden Jubilee",1,489,0.20449897750511301,3.6107287726999497E-2,1.1491822657522499]
["SSIHIP201803Orkney",0,0,0,0,0]
["SSIHIP201803Shetland",0,0,0,0,0]
["SSIHIP201803Tayside",1,142,0.70422535211267601,0.124418220451322,3.8810232996636498]
["SSIHIP201803Western Isles",0,11,0,0,25.884001724881401]
["SSIHIP201804Ayrshire & Arran",0,143,0,0,2.6161523709902399]
["SSIHIP201804Borders",1,87,1.14942528735632,0.20318554244781001,6.22734848601492]
["SSIHIP201804Dumfries & Galloway",0,51,0,0,7.0049013887268101]
["SSIHIP201804Fife",1,144,0.69444444444444398,0.12268870304019799,3.82856723574834]
["SSIHIP201804Forth Valley",0,64,0,0,5.6626022971156296]
["SSIHIP201804Grampian",3,288,1.0416666666666701,0.35487456405297801,3.0173657197174002]
["SSIHIP201804Greater Glasgow & Clyde",3,378,0.79365079365079405,0.27026777293406501,2.3071360510599699]
["SSIHIP201804Highland",0,86,0,0,4.2759701519118103]
["SSIHIP201804Lanarkshire",2,130,1.5384615384615401,0.42291172310416097,5.4359542796931803]
["SSIHIP201804Lothian",1,264,0.37878787878787901,6.6894963603423299E-2,2.11409559200855]
["SSIHIP201804Golden Jubilee",0,473,0,0,0.80563440773623796]
["SSIHIP201804Orkney",0,0,0,0,0]
["SSIHIP201804Shetland",0,0,0,0,0]
["SSIHIP201804Tayside",5,156,3.2051282051282,1.37663567902672,7.2829372982207499]
["SSIHIP201804Western Isles",0,12,0,0,24.2500757499242]
["SSIHIP201901Ayrshire & Arran",0,147,0,0,2.54677754677755]
["SSIHIP201901Borders",1,61,1.63934426229508,0.28996561143639799,8.7190656277680603]
["SSIHIP201901Dumfries & Galloway",1,28,3.5714285714285698,0.633235649754187,17.712576118498699]
["SSIHIP201901Fife",0,151,0,0,2.4809870215755998]
["SSIHIP201901Forth Valley",0,65,0,0,5.5803467670710702]
["SSIHIP201901Grampian",0,299,0,0,1.2685179314863]
["SSIHIP201901Greater Glasgow & Clyde",2,391,0.51150895140664998,0.14038352442082899,1.8456280812458501]
["SSIHIP201901Highland",0,69,0,0,5.2739094144005598]
["SSIHIP201901Lanarkshire",0,109,0,0,3.40441822873834]
["SSIHIP201901Lothian",2,241,0.829875518672199,0.22787282525526101,2.9748508948968699]
["SSIHIP201901Golden Jubilee",0,395,0,0,0.963189396492242]
["SSIHIP201901Orkney",0,0,0,0,0]
["SSIHIP201901Shetland",0,0,0,0,0]
["SSIHIP201901Tayside",2,174,1.14942528735632,0.315775303952331,4.0935417512248602]
["SSIHIP201901Western Isles",0,16,0,0,19.361341827272]
["SSIHIP201902Ayrshire & Arran",0,158,0,0,2.3736789552253601]
["SSIHIP201902Borders",2,97,2.0618556701030899,0.56725662042430802,7.2088992517554296]
["SSIHIP201902Dumfries & Galloway",0,45,0,0,7.8654261940640797]
["SSIHIP201902Fife",1,130,0.76923076923076905,0.13591392530527099,4.2286483632507501]
["SSIHIP201902Forth Valley",0,71,0,0,5.1329741747904896]
["SSIHIP201902Grampian",1,308,0.32467532467532501,5.7334701775023499E-2,1.8159240295809]
["SSIHIP201902Greater Glasgow & Clyde",0,397,0,0,0.95838356098768196]
["SSIHIP201902Highland",0,120,0,0,3.10202710559295]
["SSIHIP201902Lanarkshire",1,107,0.934579439252336,0.16516291511190101,5.10506053889815]
["SSIHIP201902Lothian",0,231,0,0,1.6358260206028199]
["SSIHIP201902Golden Jubilee",4,424,0.94339622641509402,0.36745673600339002,2.4002965633485198]
["SSIHIP201902Orkney",0,0,0,0,0]
["SSIHIP201902Shetland",0,0,0,0,0]
["SSIHIP201902Tayside",1,161,0.62111801242235998,0.109724029448312,3.43404162194066]
["SSIHIP201902Western Isles",0,8,0,0,32.441561951087699]
["SSIHIP201903Ayrshire & Arran",0,129,0,0,2.8918651988533699]
["SSIHIP201903Borders",1,74,1.35135135135135,0.238940187493933,7.2655304297595702]
["SSIHIP201903Dumfries & Galloway",0,49,0,0,7.2700296735904999]
["SSIHIP201903Fife",2,142,1.40845070422535,0.38709351215819499,4.9896988433837102]
["SSIHIP201903Forth Valley",0,67,0,0,5.42280242117626]
["SSIHIP201903Grampian",2,268,0.74626865671641796,0.204888625696307,2.6797324183234501]
["SSIHIP201903Greater Glasgow & Clyde",4,348,1.14942528735632,0.44786472460608601,2.9177407069290102]
["SSIHIP201903Highland",2,105,1.9047619047619,0.52390722652503796,6.6806910153236698]
["SSIHIP201903Lanarkshire",1,93,1.0752688172042999,0.19005930979555999,5.8420591186484101]
["SSIHIP201903Lothian",1,241,0.4149377593361,7.3282408169576999E-2,2.3125866598319398]
["SSIHIP201903Golden Jubilee",3,439,0.68337129840546695,0.232670331566945,1.98970444081216]
["SSIHIP201903Orkney",0,0,0,0,0]
["SSIHIP201903Shetland",0,0,0,0,0]
["SSIHIP201903Tayside",1,145,0.68965517241379304,0.121841851192856,3.8028673698851199]
["SSIHIP201903Western Isles",0,21,0,0,15.4643823264202]
["SSIHIP201904Ayrshire & Arran",0,150,0,0,2.4971139145718699]
["SSIHIP201904Borders",2,90,2.2222222222222201,0.61153137948636005,7.7446773808075804]
["SSIHIP201904Dumfries & Galloway",0,46,0,0,7.7076177329780702]
["SSIHIP201904Fife",1,127,0.78740157480314998,0.13912762312385901,4.3255074776392002]
["SSIHIP201904Forth Valley",0,55,0,0,6.5287143789427899]
["SSIHIP201904Grampian",1,275,0.36363636363636398,6.4217961201392004E-2,2.0307348722352301]
["SSIHIP201904Greater Glasgow & Clyde",4,319,1.25391849529781,0.48866767268368,3.1792611196404801]
["SSIHIP201904Highland",2,101,1.98019801980198,0.54472082927216703,6.9347529673887003]
["SSIHIP201904Lanarkshire",1,125,0.8,0.14135587198986699,4.3925834767918897]
["SSIHIP201904Lothian",1,236,0.42372881355932202,7.4835815678341605E-2,2.3607716852722902]
["SSIHIP201904Golden Jubilee",1,434,0.230414746543779,4.0684399817946602E-2,1.2934967286997601]
["SSIHIP201904Orkney",0,0,0,0,0]
["SSIHIP201904Shetland",0,0,0,0,0]
["SSIHIP201904Tayside",3,170,1.76470588235294,0.60193332515890796,5.0593123145498797]
["SSIHIP201904Western Isles",1,17,5.8823529411764701,1.0460130645164201,26.9825452035628]
["CDICA201404Scotland",121,1347888.2191780801,8.9770055319411899,7.4487301317391497,10.7264886844834]
["CDICA201501Scotland",92,1324849.3150684901,6.9441859503277703,5.5978218398942801,8.5165461468452595]
["CDICA201502Scotland",98,1339569.8630137001,7.3157811851279204,5.9391391649141996,8.9157102660484302]
["CDICA201503Scotland",131,1354290.4109589001,9.6729622346838902,8.0873971841936108,11.4784440108307]
["CDICA201504Scotland",116,1354290.4109589001,8.5653711391093896,7.0775790894797197,10.2734594029065]
["CDICA201601Scotland",97,1343791.53005464,7.2183815592330403,5.8534553400033298,8.8059294054404695]
["CDICA201602Scotland",91,1343791.53005464,6.77188373082687,5.4521278317052397,8.3144896324820294]
["CDICA201603Scotland",119,1358558.46994536,8.7592843909608504,7.25619003356283,10.4819016234153]
["CDICA201604Scotland",94,1358558.46994536,6.9190985945405004,5.59116968587022,8.4673396236653193]
["CDICA201701Scotland",74,1337621.91780822,5.5322060004260303,4.3437831980688397,6.9452988274147902]
["CDICA201702Scotland",100,1352484.38356164,7.3938007133700996,6.0157287281777601,8.9929576082430493]
["CDICA201703Scotland",103,1367346.8493150701,7.5328363137410799,6.14838627266231,9.1358679886174397]
["CDICA201704Scotland",74,1367346.8493150701,5.4119406525906797,4.2493531285456099,6.7943140702970801]
["CDICA201801Scotland",86,1340901.36986301,6.4135962519589098,5.1298738781579099,7.9208573419680697]
["CDICA201802Scotland",102,1355800.2739726,7.5232319950144202,6.1341357205035498,9.1328046286770803]
["CDICA201803Scotland",92,1370699.17808219,6.7119030543756102,5.4105747993778204,8.2316678304162298]
["CDICA201804Scotland",86,1370699.17808219,6.2741702464815496,5.0183548808066503,7.7486647910557203]
["CDICA201901Scotland",50,1347115.0684931499,3.71163541774711,2.7546192987465101,4.8934544218180802]
["CDICA201902Scotland",66,1362083.01369863,4.8455196442676502,3.7473289517505601,6.1648094582668396]
["CDICA201903Scotland",72,1377050.9589041099,5.2285646754350603,4.0908444172835399,6.5846296486419602]
["CDICA201904Scotland",63,1377050.9589041099,4.5749940910056797,3.5153530815178802,5.8535246265778502]
["CDICA202001Scotland",46,1359032.7868852499,3.3847601355834098,2.47783344164311,4.5149215054265897]
["CDICA202002Scotland",80,1359032.7868852499,5.88653936623201,4.66748086350443,7.3264254779971596]
["CDICA202003Scotland",90,1373967.2131147501,6.5503746480217604,5.2671071553263102,8.0516371524610495]
["CDICA202004Scotland",56,1373967.2131147501,4.0757886698802102,3.0785962617149201,5.2928724156333704]
["CDICA202101Scotland",49,1347780.82191781,3.6356059682074999,2.6894109082192101,4.8065899453601597]
["CDICA202102Scotland",74,1362756.16438356,5.4301717309401196,4.2636678253972597,6.8172019177621097]
["CDICA202103Scotland",87,1377731.5068493199,6.3147282012122403,5.0576687311903799,7.7893087198515003]
["CDICA202104Scotland",66,1377731.5068493199,4.7904834629885897,3.7047661946797499,6.0947885738613001]
["ECBCOM201603Scotland",719,1358558.46994536,52.923743505049202,49.125387442299498,56.937816940371498]
["ECBCOM201604Scotland",631,1358558.46994536,46.446289501649503,42.892421919518803,50.216052786060501]
["ECBCOM201701Scotland",571,1337621.91780822,42.687697651935999,39.257594063061902,46.337222824400499]
["ECBCOM201702Scotland",657,1352484.38356164,48.577270686841501,44.933192320265398,52.438157723550397]
["ECBCOM201703Scotland",677,1367346.8493150701,49.511943537890403,45.851964112205401,53.386334128631297]
["ECBCOM201704Scotland",656,1367346.8493150701,47.976122541884898,44.374451287333301,51.792247943691102]
["ECBCOM201801Scotland",578,1340901.36986301,43.105332949212197,39.662271171807802,46.767261441280297]
["ECBCOM201802Scotland",598,1355800.2739726,44.106791500182602,40.641938543820103,47.788056279224101]
["ECBCOM201803Scotland",667,1370699.17808219,48.661297144223198,45.037852575077203,52.498648658132801]
["ECBCOM201804Scotland",603,1370699.17808219,43.992147193353198,40.550365760495097,47.647976222648602]
["ECBCOM201901Scotland",598,1347115.0684931499,44.391159596255399,40.903967820748299,48.096158458433599]
["ECBCOM201902Scotland",604,1362083.01369863,44.343846441479698,40.8773641139828,48.025727989862297]
["ECBCOM201903Scotland",606,1377050.9589041099,44.007086018245097,40.572495456827099,47.654729809711696]
["ECBCOM201904Scotland",568,1377050.9589041099,41.247565772876598,37.924623829062199,44.783654317982297]
["ECBCOM202001Scotland",514,1359032.7868852499,37.821015428040702,34.621506946738201,41.236648388027398]
["ECBCOM202002Scotland",488,1359032.7868852499,35.907890134015297,32.792163952388101,39.239822737551002]
["ECBCOM202003Scotland",614,1373967.2131147501,44.688111487615103,41.222705971396898,48.3670298197056]
["ECBCOM202004Scotland",521,1373967.2131147501,37.919391017992702,34.732708610463803,41.3198279393986]
["ECBCOM202101Scotland",493,1347780.82191781,36.5786478025775,33.420491757789698,39.954798878775399]
["ECBCOM202102Scotland",571,1362756.16438356,41.900379167118999,38.533539331244199,45.482593643829603]
["ECBCOM202103Scotland",566,1377731.5068493199,41.0820248492658,37.766699589000403,44.610396593245198]
["ECBCOM202104Scotland",549,1377731.5068493199,39.848112442132397,36.584009505191602,43.325306924810597]
["SABCAUN201404Scotland",119,1347888.2191780801,8.8286252752148897,7.3136320129283803,10.5648792155097]
["SABCAUN201501Scotland",126,1324849.3150684901,9.5105155406662902,7.9223621441722498,11.323594404888301]
["SABCAUN201502Scotland",131,1339569.8630137001,9.7792585229771092,8.1762696807232107,11.6045807582025]
["SABCAUN201503Scotland",113,1354290.4109589001,8.3438529199945002,6.8763613337165603,10.0317254013473]
["SABCAUN201504Scotland",104,1354290.4109589001,7.6792982626497999,6.27438339865492,9.3048693057810006]
["SABCAUN201601Scotland",139,1343791.53005464,10.3438663580762,8.6956686321061696,12.213520450769501]
["SABCAUN201602Scotland",121,1343791.53005464,9.0043728728577097,7.4714383651456098,10.759189507895]
["SABCAUN201603Scotland",127,1358558.46994536,9.3481438458153594,7.7929792397554802,11.1226286816047]
["SABCAUN201604Scotland",135,1358558.46994536,9.9370033006698701,8.3313858429196195,11.7617563586473]
["SABCAUN201701Scotland",142,1337621.91780822,10.615854757574301,8.94150252280971,12.512621419730801]
["SABCAUN201702Scotland",126,1352484.38356164,9.3161888988463204,7.7604859531102797,11.0922214509591]
["SABCAUN201703Scotland",127,1367346.8493150701,9.28806030917589,7.742891247807,11.051139958395]
["SABCAUN201704Scotland",132,1367346.8493150701,9.65373197489148,8.0770536546090401,11.4482043043933]
["SABCAUN201801Scotland",135,1340901.36986301,10.067854581563401,8.4410942204030892,11.9166361386493]
["SABCAUN201802Scotland",123,1355800.2739726,9.0721326998703304,7.5396800430011304,10.824450856356201]
["SABCAUN201803Scotland",132,1370699.17808219,9.6301217736693498,8.0572995468128799,11.4202053493817]
["SABCAUN201804Scotland",113,1370699.17808219,8.2439678820048208,6.7940437737553703,9.9116346851729507]
["SABCAUN201901Scotland",144,1347115.0684931499,10.6895100031117,9.0147838810787402,12.585042319213301]
["SABCAUN201902Scotland",133,1362083.01369863,9.7644562528423897,8.1754309570329795,11.572094610822299]
["SABCAUN201903Scotland",102,1377050.9589041099,7.4071332901996696,6.0394735842328204,8.9918669586147608]
["SABCAUN201904Scotland",132,1377050.9589041099,9.5857019049642709,8.0201344728503194,11.3675285469355]
["SABCAUN202001Scotland",149,1359032.7868852499,10.9636795696071,9.27383566798831,12.872295610921499]
["SABCAUN202002Scotland",132,1359032.7868852499,9.7127899542828207,8.1264660962965998,11.518240205082799]
["SABCAUN202003Scotland",149,1373967.2131147501,10.8445091395027,9.1730331063797408,12.7323793542811]
["SABCAUN202004Scotland",131,1373967.2131147501,9.5344342098983397,7.9715762877193699,11.3140593954612]
["SABCAUN202101Scotland",140,1347780.82191781,10.387445623450001,8.7379669686539305,12.2577039687962]
["SABCAUN202102Scotland",148,1362756.16438356,10.8603434618802,9.1810207043179393,12.757859726735701]
["SABCAUN202103Scotland",132,1377731.5068493199,9.5809669259771901,8.0161728257451799,11.361913412088001]
["SABCAUN202104Scotland",136,1377731.5068493199,9.8712992570674007,8.2819122845967605,11.676750617205901]
["CDIHCAI201404Scotland",321,1711840,18.7517525002337,16.7561995475711,20.9195420267576]
["CDIHCAI201501Scotland",251,1723684,14.5618338396133,12.8158307749499,16.479293980435699]
["CDIHCAI201502Scotland",308,1661417,18.5383922278392,16.525527384076,20.728787910555599]
["CDIHCAI201503Scotland",313,1620901,19.310247818960001,17.229909530660699,21.5725275922305]
["CDIHCAI201504Scotland",367,1642161,22.3486004112873,20.120249491377699,24.756285702777401]
["CDIHCAI201601Scotland",252,1674447,15.0497447814114,13.248709038249499,17.027272160217201]
["CDIHCAI201602Scotland",250,1605104,15.5753147459604,13.7041812471944,17.6305795026624]
["CDIHCAI201603Scotland",263,1587890,16.562860147743201,14.6213274966913,18.690425299607799]
["CDIHCAI201604Scotland",233,1591683,14.638593237472501,12.8190666504976,16.643939086393299]
["CDIHCAI201701Scotland",257,1581339,16.252049687005801,14.3255410739051,18.3654045625855]
["CDIHCAI201702Scotland",238,1550567,15.3492238645605,13.460850140064,17.4283017638022]
["CDIHCAI201703Scotland",288,1538826,18.715566282347702,16.616157986541801,21.006769059268901]
["CDIHCAI201704Scotland",235,1574967,14.920947550012199,13.073971409701199,16.955698295914701]
["CDIHCAI201801Scotland",228,1585233,14.382743735463499,12.576180094780501,16.375925524902801]
["CDIHCAI201802Scotland",244,1525345,15.996381146560299,14.051943280028899,18.134626540557601]
["CDIHCAI201803Scotland",255,1511620,16.869319008745599,14.8620621034504,19.072055280746302]
["CDIHCAI201804Scotland",220,1522217,14.4526043264528,12.6056784102464,16.493948377017201]
["CDIHCAI201901Scotland",186,1538510,12.0896191769959,10.4144449553373,13.9575164054772]
["CDIHCAI201902Scotland",184,1506284,12.215491899270001,10.5140488537913,14.113806112172799]
["CDIHCAI201903Scotland",207,1506970,13.736172584723001,11.928444782531001,15.7404168617116]
["CDIHCAI201904Scotland",231,1531462,15.0836259730898,13.200956052328101,17.159439604667199]
["CDIHCAI202001Scotland",201,1475950,13.6183475049968,11.800530073168,15.6368777489938]
["CDIHCAI202002Scotland",166,1080949,15.356876226353,13.109395739738799,17.879033927015701]
["CDIHCAI202003Scotland",227,1303983,17.4082024075467,15.216973776434701,19.826310599789402]
["CDIHCAI202004Scotland",222,1357793,16.350062196520401,14.2697666168373,18.648297982754201]
["CDIHCAI202101Scotland",213,1352687,15.7464365370555,13.7025177016681,18.009216717434999]
["CDIHCAI202102Scotland",203,1394228,14.5600289192299,12.625766286570601,16.706745363287801]
["CDIHCAI202103Scotland",245,1456364,16.822717397573701,14.7818760701928,19.066537447051701]
["CDIHCAI202104Scotland",198,1493751,13.255221251734699,11.473006552703,15.2357906515119]
["ECBHCAI201603Scotland",582,1587890,36.652412950519199,33.7346508205273,39.754989461726403]
["ECBHCAI201604Scotland",564,1591683,35.434191355942097,32.569688071346903,38.483108253026799]
["ECBHCAI201701Scotland",547,1581339,34.590938438880002,31.752405019397901,37.615131244936599]
["ECBHCAI201702Scotland",539,1550567,34.761477575622301,31.888313083566299,37.824005578505798]
["ECBHCAI201703Scotland",585,1538826,38.015994011018797,34.997291500195203,41.225396882181002]
["ECBHCAI201704Scotland",531,1574967,33.7149921236445,30.907864248562799,36.708569538526497]
["ECBHCAI201801Scotland",524,1585233,33.055077707819599,30.2849733242812,36.0104416894943]
["ECBHCAI201802Scotland",580,1525345,38.024184692643303,34.992114702026498,41.2486516655567]
["ECBHCAI201803Scotland",606,1511620,40.089440467842401,36.960607675180597,43.412359839628898]
["ECBHCAI201804Scotland",582,1522217,38.233707809070602,35.190064682898097,41.470138762331999]
["ECBHCAI201901Scotland",573,1538510,37.243826819455201,34.256275230108201,40.422144858588503]
["ECBHCAI201902Scotland",584,1506284,38.770909071596101,35.689681459523101,42.0469592242315]
["ECBHCAI201903Scotland",608,1506970,40.3458595725197,37.202092534611197,43.684307805980303]
["ECBHCAI201904Scotland",626,1531462,40.875973416251902,37.736104999217702,44.207372674843498]
["ECBHCAI202001Scotland",538,1475950,36.4510992919814,33.435542980213,39.665595036598503]
["ECBHCAI202002Scotland",429,1080949,39.687348801839903,36.020050803931603,43.6267415981727]
["ECBHCAI202003Scotland",547,1303983,41.9483996340443,38.506112733808401,45.615835503788603]
["ECBHCAI202004Scotland",555,1357793,40.875155491301001,37.544686188243602,44.421829106326001]
["ECBHCAI202101Scotland",468,1352687,34.597804222262802,31.5337496728052,37.879147380628602]
["ECBHCAI202102Scotland",532,1394228,38.157317167636897,34.983241473464602,41.542009742014102]
["ECBHCAI202103Scotland",604,1456364,41.473148196467399,38.231076368565702,44.9166748941214]
["ECBHCAI202104Scotland",509,1493751,34.075290995621103,31.1788457683517,37.168382791759697]
["SABHCAI201404Scotland",275,1711840,16.064585475278101,14.221734356891901,18.079923253449099]
["SABHCAI201501Scotland",263,1723684,15.258017130750201,13.4694408712509,17.217970015962401]
["SABHCAI201502Scotland",284,1661417,17.093842184111502,15.1632982395958,19.202052398335699]
["SABHCAI201503Scotland",275,1620901,16.965872684389701,15.019630280629,19.094278936334899]
["SABHCAI201504Scotland",303,1642161,18.451296797329899,16.431904955987498,20.6503284168653]
["SABHCAI201601Scotland",279,1674447,16.662217436562599,14.764142641313301,18.7366060952107]
["SABHCAI201602Scotland",260,1605104,16.198327335798801,14.288946770318001,18.291766331782899]
["SABHCAI201603Scotland",273,1587890,17.192626693284801,15.213382364420699,19.357835145734001]
["SABHCAI201604Scotland",265,1591683,16.6490438108593,14.7045569919736,18.779105864827802]
["SABHCAI201701Scotland",259,1581339,16.378524781846298,14.4442974520099,18.499583847519101]
["SABHCAI201702Scotland",248,1550567,15.994149237021,14.065216658010099,18.113705009510799]
["SABHCAI201703Scotland",278,1538826,18.0657202308773,16.004179987641201,20.319120029886498]
["SABHCAI201704Scotland",262,1574967,16.635269183417801,14.6816473607572,18.776457058157]
["SABHCAI201801Scotland",296,1585233,18.6723339723561,16.605434765384899,20.925364725313401]
["SABHCAI201802Scotland",264,1525345,17.307559929065199,15.2824579596286,19.526315148158901]
["SABHCAI201803Scotland",253,1511620,16.7370106243633,14.7378918059204,18.9316243627235]
["SABHCAI201804Scotland",269,1522217,17.671593471889999,15.6226061252238,19.914596049499899]
["SABHCAI201901Scotland",240,1538510,15.5995086154786,13.68809298701,17.7031062037689]
["SABHCAI201902Scotland",251,1506284,16.6635242756346,14.6655228718414,18.8577289311798]
["SABHCAI201903Scotland",264,1506970,17.518596919646701,15.4688021901098,19.764406179066899]
["SABHCAI201904Scotland",233,1531462,15.2142201373589,13.3231451145794,17.2984213103869]
["SABHCAI202001Scotland",241,1475950,16.328466411463801,14.331750215066901,18.5255018052822]
["SABHCAI202002Scotland",219,1080949,20.259975262477699,17.665213476304402,23.1285345977969]
["SABHCAI202003Scotland",224,1303983,17.178138058548299,15.0019285436688,19.581259402870501]
["SABHCAI202004Scotland",256,1357793,18.854125776167599,16.614946144301701,21.310922428740501]
["SABHCAI202101Scotland",248,1352687,18.333879160515298,16.122769567357999,20.763497568529999]
["SABHCAI202102Scotland",260,1394228,18.6483129014767,16.450139874414099,21.058383066621801]
["SABHCAI202103Scotland",267,1456364,18.333328755723201,16.199914668675401,20.669545846315]
["SABHCAI202104Scotland",259,1493751,17.338900526259099,15.291257303569299,19.584330602524801]
["SSICSEC201401Scotland",61,3998,1.52576288144072,1.18967693208673,1.9549152976507]
["SSICSEC201402Scotland",58,4103,1.4135998050207199,1.09514363808799,1.82295283780238]
["SSICSEC201403Scotland",58,4563,1.2710935787858899,0.98460159532845903,1.63956649493331]
["SSICSEC201404Scotland",61,4261,1.4315888289134,1.1161441892242401,1.83453046185776]
["SSICSEC201501Scotland",47,3966,1.1850731215330299,0.89238252895644499,1.5722397370805701]
["SSICSEC201502Scotland",56,4358,1.2849931161083099,0.99091176714745399,1.6648838949417]
["SSICSEC201503Scotland",56,4511,1.2414098869430299,0.95726088449706703,1.60853455780594]
["SSICSEC201504Scotland",60,4300,1.3953488372092999,1.0856144775655301,1.79185201655451]
["SSICSEC201601Scotland",58,4023,1.4417101665423799,1.11695255467395,1.85911682933161]
["SSICSEC201602Scotland",78,4448,1.75359712230216,1.4074133929905199,2.1830467887014802]
["SSICSEC201603Scotland",71,4446,1.59694107062528,1.2680390526762499,2.0094169358695]
["SSICSEC201604Scotland",51,4258,1.1977454203851601,0.91218111812317704,1.5712898771385899]
["SSICSEC201701Scotland",58,4047,1.4331603657029901,1.1103192163542499,1.84811786496732]
["SSICSEC201702Scotland",51,4115,1.23936816524909,0.94392116796221404,1.6257722137886199]
["SSICSEC201703Scotland",58,4514,1.28489144882588,0.99530322417147798,1.65732629696977]
["SSICSEC201704Scotland",66,4224,1.5625,1.2300894535240701,1.98293536746261]
["SSICSEC201801Scotland",64,3975,1.61006289308176,1.2629148714924201,2.05065257487187]
["SSICSEC201802Scotland",61,4191,1.4554998806967301,1.1348130681289099,1.86509996791994]
["SSICSEC201803Scotland",66,4293,1.53738644304682,1.21028974525536,1.9511393379112101]
["SSICSEC201804Scotland",59,4346,1.3575701794753801,1.05395623374655,1.7471020852506201]
["SSICSEC201901Scotland",64,4051,1.5798568254751899,1.2391855949695001,2.01227557184896]
["SSICSEC201902Scotland",43,4118,1.0441962117532799,0.77615838092823297,1.40348869721276]
["SSICSEC201903Scotland",51,4408,1.1569872958257701,0.88110307211698902,1.51793138097852]
["SSICSEC201904Scotland",35,4112,0.85116731517509703,0.61265856813335096,1.1814240807227201]
["SSIHIP201401Scotland",16,2106,0.75973409306742601,0.46818248739216201,1.2305990704271501]
["SSIHIP201402Scotland",13,2098,0.61963775023832202,0.36247685390728701,1.05730663501024]
["SSIHIP201403Scotland",16,2125,0.752941176470588,0.46399174659346498,1.21962811502517]
["SSIHIP201404Scotland",12,1974,0.60790273556231,0.34808535644114802,1.05959056664592]
["SSIHIP201501Scotland",18,1959,0.91883614088820798,0.58199146284918302,1.44780044700233]
["SSIHIP201502Scotland",18,2159,0.83371931449745296,0.52801406843203702,1.3140810715911599]
["SSIHIP201503Scotland",10,2135,0.46838407494145201,0.254614773793572,0.86008207893268895]
["SSIHIP201504Scotland",15,2191,0.684618895481515,0.415325625320695,1.1265441843275299]
["SSIHIP201601Scotland",7,2173,0.32213529682466602,0.156127966033444,0.66348150853742005]
["SSIHIP201602Scotland",17,2318,0.733390854184642,0.45839721157295699,1.17141250498996]
["SSIHIP201603Scotland",14,2153,0.65025545750116098,0.38773734408270299,1.0885694927290499]
["SSIHIP201604Scotland",17,2226,0.76370170709793395,0.47736363664666198,1.21968964283292]
["SSIHIP201701Scotland",12,2164,0.55452865064695001,0.31749684784504001,0.966803628721145]
["SSIHIP201702Scotland",19,2301,0.82572794437201202,0.52925880909014,1.2861197401342399]
["SSIHIP201703Scotland",9,2077,0.433317284545017,0.22813566310460101,0.82151655453656802]
["SSIHIP201704Scotland",16,2071,0.77257363592467398,0.47610379083335003,1.25133410129297]
["SSIHIP201801Scotland",17,2008,0.84661354581673298,0.52925264164365005,1.3516906692015001]
["SSIHIP201802Scotland",18,2270,0.79295154185021999,0.50216558454474902,1.2500057188565099]
["SSIHIP201803Scotland",13,2155,0.603248259860789,0.352880399840029,1.0294164764106399]
["SSIHIP201804Scotland",16,2276,0.70298769771529002,0.43317662204866297,1.13893259817085]
["SSIHIP201901Scotland",8,2146,0.372786579683131,0.18901495153524001,0.73391816130432896]
["SSIHIP201902Scotland",10,2257,0.44306601683650898,0.240841980599039,0.81370337100807899]
["SSIHIP201903Scotland",17,2121,0.80150872230080195,0.50102298120602595,1.2798909466839401]
["SSIHIP201904Scotland",17,2145,0.79254079254079302,0.49541068323593801,1.26561255830965]

{"sheet":"year end comp","index":11,"n_rows":94,"n_cols":9,"rows_kept":94,"cut":false,"hidden":true,"merged":[]}
["ref","p","lp","pc","r","rl","ru","s","direction"]
["CDICA Ayrshire & Arran",7.6089024158265204,8.6958884752302996,-12.5,0.875,0.52690786300093395,1.4530529031005199,"Non Significant","-"]
["CDIHCAI Ayrshire & Arran",23.931437615954898,20.523766521632002,16.603536639978799,1.16603536639979,0.869581686339854,1.5635546344333999,"Non Significant","-"]
["ECBCOM Ayrshire & Arran",58.697247207804601,57.610261148400802,1.88679245283018,1.0188679245283001,0.84299310987176002,1.2314357442263399,"Non Significant","-"]
["ECBHCAI Ayrshire & Arran",47.388985378128602,51.8225104671209,-8.5552109479629408,0.91444789052037101,0.75205257514008494,1.11191022026804,"Non Significant","-"]
["SABCAUN Ayrshire & Arran",12.500339683143601,14.9460583168021,-16.363636363636399,0.83636363636363598,0.56535340635982101,1.23728649082589,"Non Significant","-"]
["SABHCAI Ayrshire & Arran",14.690585467219901,21.293407766193301,-31.008762765800501,0.68991237234199498,0.496487129186095,0.95869369723812603,"Significant","Decrease"]
["CDICA Borders",2.6032627559875001,6.0742797639708401,-57.142857142857203,0.42857142857142799,0.110822400259165,1.6573677249204499,"Non Significant","-"]
["CDIHCAI Borders",5.9390483947600599,11.7708220938331,-49.544319441616302,0.50455680558383698,0.198644043051559,1.28157666421887,"Non Significant","-"]
["ECBCOM Borders",43.387712599791698,31.239153071850101,38.8888888888889,1.3888888888888899,0.90491410630288105,2.1317076750634301,"Non Significant","-"]
["ECBHCAI Borders",45.815516188149097,48.064190216485002,-4.6784810442197697,0.95321518955780205,0.64751094796452502,1.4032491658403501,"Non Significant","-"]
["SABCAUN Borders",13.884068031933399,11.2808052759459,23.076923076923102,1.2307692307692299,0.59202117914735197,2.5586802512537399,"Non Significant","-"]
["SABHCAI Borders",20.362451639177401,14.7135276172913,38.392723817281002,1.38392723817281,0.72601130359140498,2.6380506626857101,"Non Significant","-"]
["CDICA Dumfries & Galloway",10.7896688920359,8.76660597477915,23.076923076923102,1.2307692307692299,0.59202117914735197,2.5586802512537399,"Non Significant","-"]
["CDIHCAI Dumfries & Galloway",16.422958078878899,22.652077813319401,-27.499109731902099,0.72500890268097895,0.43596615934420402,1.2056851150037899,"Non Significant","-"]
["ECBCOM Dumfries & Galloway",64.738013352215305,59.343178906197302,9.0909090909091006,1.0909090909090899,0.81689199589430705,1.4568420924791099,"Non Significant","-"]
["ECBHCAI Dumfries & Galloway",35.278946984258297,35.007756620584601,0.77465793256305004,1.0077465793256299,0.69175195323318095,1.4680886167301901,"Non Significant","-"]
["SABCAUN Dumfries & Galloway",18.2075662553105,10.7896688920359,68.75,1.6875,0.909262110384633,3.13183208392506,"Non Significant","-"]
["SABHCAI Dumfries & Galloway",16.422958078878899,15.7878118092832,4.0230164716187096,1.04023016471619,0.59647839013666903,1.8141123190356201,"Non Significant","-"]
["CDICA Fife",3.7420148076871702,2.67286771977655,40,1.4,0.62185715860241497,3.1518492195297401,"Non Significant","-"]
["CDIHCAI Fife",9.4173972744229602,8.2221425587965395,14.537022522768799,1.1453702252276901,0.67628754267481805,1.93981534488935,"Non Significant","-"]
["ECBCOM Fife",37.152861304894003,36.618287760938699,1.4598540145985399,1.01459854014599,0.80134039469488705,1.2846103908917701,"Non Significant","-"]
["ECBHCAI Fife",38.580950124248901,45.386226924556901,-14.994145275878701,0.85005854724121299,0.66800376889758695,1.0817297257624101,"Non Significant","-"]
["SABCAUN Fife",10.1568973351509,9.8896105631732301,2.7027027027027102,1.0270270270270301,0.65310680393119502,1.6150260690824101,"Non Significant","-"]
["SABHCAI Fife",13.3666283895036,14.799856605833799,-9.6840682616159697,0.90315931738384003,0.59606729314962603,1.3684642018640101,"Non Significant","-"]
["CDICA Forth Valley",0.65374432059621501,1.63436080149054,-60,0.4,7.7603373183284904E-2,2.0617660474900901,"Non Significant","-"]
["CDIHCAI Forth Valley",10.2697036659301,13.786781829766801,-25.5105085963067,0.74489491403693298,0.458124183944013,1.21117472599067,"Non Significant","-"]
["ECBCOM Forth Valley",34.975321151897496,55.568267250678304,-37.058823529411796,0.629411764705882,0.49418849440858598,0.80163576050929997,"Significant","Decrease"]
["ECBHCAI Forth Valley",50.994390617032103,56.6375902195824,-9.9637000456265596,0.900362999543734,0.71685198395653804,1.1308520435043401,"Non Significant","-"]
["SABCAUN Forth Valley",9.4792926486451208,12.4211420913281,-23.684210526315798,0.76315789473684204,0.47068103753892199,1.23737717445438,"Non Significant","-"]
["SABHCAI Forth Valley",18.768768768768801,20.493864882085798,-8.4176221676221701,0.91582377832377804,0.62801063051682504,1.3355398016957101,"Non Significant","-"]
["CDIHCAI Golden Jubilee",2.03342958233356,14.8743120630671,-86.329252917971402,0.136707470820286,1.6457831319238999E-2,1.1355647178271899,"Non Significant","-"]
["ECBHCAI Golden Jubilee",6.1002887470006897,7.4371560315335401,-17.975517507828702,0.82024482492171302,0.16554938747642201,4.0640535314978097,"Non Significant","-"]
["SABHCAI Golden Jubilee",28.468014152669902,17.353364073578302,64.048964984342604,1.64048964984343,0.66211969348130195,4.0645314098626901,"Non Significant","-"]
["CDICA Grampian",3.7571513961232998,7.0019639655025196,-46.341463414634099,0.53658536585365801,0.31965223396525699,0.90074094360810497,"Significant","Decrease"]
["CDIHCAI Grampian",11.388392697087699,13.7336968635388,-17.077005483334801,0.82922994516665205,0.57494623693684999,1.1959766979683999,"Non Significant","-"]
["ECBCOM Grampian",33.131244129450899,28.690974297668902,15.476190476190499,1.1547619047619,0.93925344845591896,1.4197180312529101,"Non Significant","-"]
["ECBHCAI Grampian",36.906828185006503,40.075377732949399,-7.9064745666457199,0.92093525433354295,0.74750549143128897,1.1346026917480501,"Non Significant","-"]
["SABCAUN Grampian",10.075996925967001,10.759115361625801,-6.3492063492063497,0.93650793650793696,0.65659471949333004,1.3357510944028601,"Non Significant","-"]
["SABHCAI Grampian",20.456927622546502,17.335978008073599,18.002731735235301,1.1800273173523499,0.87492280825416002,1.59152836862985,"Non Significant","-"]
["CDICA Greater Glasgow & Clyde",4.6404103810198798,3.2904728156322798,41.025641025641001,1.4102564102564099,0.93563201438141697,2.1256467415602298,"Non Significant","-"]
["CDIHCAI Greater Glasgow & Clyde",16.080953631594699,17.160658080953901,-6.2917426841430704,0.93708257315856902,0.78828711269374896,1.1139643599103699,"Non Significant","-"]
["ECBCOM Greater Glasgow & Clyde",38.220107320036398,33.326583645506403,14.6835443037975,1.1468354430379699,1.00207919383162,1.3125025861270401,"Significant","Increase"]
["ECBHCAI Greater Glasgow & Clyde",34.024565984995697,36.945887397818403,-7.9070273272018197,0.92092972672798201,0.81813694261524395,1.0366376548896801,"Non Significant","-"]
["SABCAUN Greater Glasgow & Clyde",6.8340589247747303,6.6653167291012796,2.5316455696202498,1.0253164556962,0.75206981329189704,1.39784075326714,"Non Significant","-"]
["SABHCAI Greater Glasgow & Clyde",18.9991189624246,19.717932618507799,-3.6454818564929998,0.96354518143506995,0.82091107306941802,1.1309621067667499,"Non Significant","-"]
["CDICA Highland",5.9215857383282398,7.1682353674499799,-17.3913043478261,0.82608695652173902,0.44991961636028699,1.5167590718891399,"Non Significant","-"]
["CDIHCAI Highland",20.911292097732801,21.634949014997499,-3.34485150283039,0.96655148497169596,0.66496198533845197,1.4049250839888101,"Non Significant","-"]
["ECBCOM Highland",35.841176837249897,30.854578320762901,16.161616161616202,1.16161616161616,0.887891680327621,1.51972603958849,"Non Significant","-"]
["ECBHCAI Highland",28.615452344265901,27.349841207638399,4.6274898893163696,1.0462748988931601,0.75484492503931899,1.45021994285367,"Non Significant","-"]
["SABCAUN Highland",10.9081842548152,11.531509069376099,-5.4054054054053999,0.94594594594594605,0.59587485047705901,1.50168064977936,"Non Significant","-"]
["SABHCAI Highland",17.242644361288399,9.7969580445271696,75.999981656761307,1.7599998165676101,1.0763537655853199,2.8778636293742799,"Significant","Increase"]
["CDICA Lanarkshire",5.2873285394887901,4.2298628315910296,25,1.25,0.76047871908680398,2.0546268564573098,"Non Significant","-"]
["CDIHCAI Lanarkshire",20.8433893545131,18.946030297350799,10.0145467276469,1.1001454672764699,0.83658311455116097,1.4467421444649999,"Non Significant","-"]
["ECBCOM Lanarkshire",44.413559731705803,51.211553568191398,-13.2743362831859,0.86725663716814105,0.74184010079754603,1.0138762705111,"Non Significant","-"]
["ECBHCAI Lanarkshire",38.578553980721701,46.855773853663301,-17.665314628657001,0.82334685371342997,0.68302906028984101,0.99249077518332895,"Significant","Decrease"]
["SABCAUN Lanarkshire",12.0853223759744,9.9703909601788592,21.2121212121212,1.2121212121212099,0.87498240255717097,1.6791627221076599,"Non Significant","-"]
["SABHCAI Lanarkshire",19.1978586159989,18.946030297350799,1.3291877754642301,1.01329187775464,0.76652267632855398,1.33950431113329,"Non Significant","-"]
["CDICA Lothian",7.2329559775997501,5.91787307258162,22.2222222222222,1.2222222222222201,0.85301557905959702,1.7512308065237101,"Non Significant","-"]
["CDIHCAI Lothian",14.0652033215031,14.071105216112599,-4.1943362080449201E-2,0.99958056637919501,0.78182201997821399,1.27799074872667,"Non Significant","-"]
["ECBCOM Lothian",34.740106740895797,31.8907604466898,8.9347079037800707,1.0893470790377999,0.92909522260958,1.2772394365295801,"Non Significant","-"]
["ECBHCAI Lothian",31.1972554875444,31.832992128254698,-1.99709985837626,0.98002900141623694,0.83167719310167099,1.1548433113032299,"Non Significant","-"]
["SABCAUN Lothian",9.6439413034663399,10.9590242084845,-12,0.88,0.66079412734756804,1.1719232480295301,"Non Significant","-"]
["SABHCAI Lothian",15.1227374058266,14.4171160001153,4.8943311942943897,1.0489433119429401,0.82513295777059903,1.3334603366742901,"Non Significant","-"]
["CDICA Orkney",8.9285714285714306,13.3928571428571,-33.3333333333333,0.66666666666666696,0.111392850822185,3.9898830235874398,"Non Significant","-"]
["CDIHCAI Orkney",0,0,0,0,0,0]
["ECBCOM Orkney",44.642857142857103,31.25,42.857142857142797,1.4285714285714299,0.54377288970381099,3.7530674389490599,"Non Significant","-"]
["ECBHCAI Orkney",57.860803438584902,18.114301240829601,219.42056538270799,3.1942056538270802,0.66354562252297999,15.3764103214885,"Non Significant","-"]
["SABCAUN Orkney",0,22.321428571428601,-100,0,0,0]
["SABHCAI Orkney",0,27.171451861244499,-100,0,0,0]
["CDICA Scotland",5.0493962678375404,4.9762166117819202,1.47058823529412,1.01470588235294,0.85825007213801796,1.19968300744411,"Non Significant","-"]
["CDIHCAI Scotland",15.0780318867901,15.6361528548913,-3.5694264009871302,0.96430573599012903,0.87620140288775406,1.0612691892512101,"Non Significant","-"]
["ECBCOM Scotland",39.864617636297098,39.096231247713099,1.96537201684605,1.0196537201684599,0.96058934944533703,1.08234981957037,"Non Significant","-"]
["ECBHCAI Scotland",37.089501020707303,39.646078746041901,-6.4485008510200199,0.9355149914898,0.88048850189005901,0.99398038409755296,"Significant","Decrease"]
["SABCAUN Scotland",10.171972191730701,10.2634467618002,-0.89126559714794695,0.99108734402852094,0.88140030575159201,1.11442453228549,"Non Significant","-"]
["SABHCAI Scotland",18.1498078823527,18.012234906369901,0.76377516003951595,1.0076377516004,0.92245129361002698,1.1006910017728699,"Non Significant","-"]
["CDICA Shetland",0,8.7450808919982492,-100,0,0,0]
["CDIHCAI Shetland",44.787817713581902,24.055809477988898,86.182958235360005,1.8618295823536,0.34100772747824498,10.165193086271399,"Non Significant","-"]
["ECBCOM Shetland",34.980323567992997,26.235242675994801,33.3333333333333,1.3333333333333299,0.46262480569182601,3.8428068618569302,"Non Significant","-"]
["ECBHCAI Shetland",100.772589855559,72.167428433966805,39.63721867652,1.3963721867651999,0.49701596827046701,3.92312402105832,"Non Significant","-"]
["SABCAUN Shetland",13.1176213379974,8.7450808919982492,50,1.5,0.250633914349916,8.9772368030717509,"Non Significant","-"]
["SABHCAI Shetland",33.590863285186401,48.111618955977903,-30.18139066174,0.69818609338259996,0.156258384759908,3.1196010488771302,"Non Significant","-"]
["CDICA Tayside",2.8808066258552398,3.1208738446765101,-7.6923076923076996,0.92307692307692302,0.42119024402749,2.0230074604043899,"Non Significant","-"]
["CDIHCAI Tayside",8.92005571604032,8.8098186687608901,1.2512975740389101,1.0125129757403899,0.64151507298561095,1.5980645961621101,"Non Significant","-"]
["ECBCOM Tayside",39.611091105509502,40.331292761973401,-1.78571428571428,0.98214285714285698,0.79227882274688599,1.2175064688620401,"Non Significant","-"]
["ECBHCAI Tayside",43.914120448198503,39.770038561834902,10.4201103046968,1.1042011030469701,0.89457509346279396,1.36294882886861,"Non Significant","-"]
["SABCAUN Tayside",12.483495378705999,11.043092065778399,13.0434782608696,1.1304347826087,0.76023953233285801,1.6808949592640601,"Non Significant","-"]
["SABHCAI Tayside",23.100657110771099,21.898692119491301,5.4887524091445696,1.0548875240914499,0.79194980836812101,1.4051240075135201,"Non Significant","-"]
["CDICA Western Isles",7.5471698113207504,7.5471698113207504,0,1,0.140858420921045,7.09932706515663,"Non Significant","-"]
["CDIHCAI Western Isles",12.5749255983569,10.604453870625701,18.5815483925054,1.1858154839250501,0.198137050955251,7.0968976026295501,"Non Significant","-"]
["ECBCOM Western Isles",56.603773584905703,79.245283018867894,-28.571428571428601,0.71428571428571397,0.36822056007214299,1.3855936820385399,"Non Significant","-"]
["ECBHCAI Western Isles",50.299702393427502,42.417815482502597,18.5815483925054,1.1858154839250501,0.48472052046719,2.9009672636947701,"Non Significant","-"]
["SABCAUN Western Isles",7.5471698113207504,15.094339622641501,-50,0.5,9.1578662921223394E-2,2.7298935366096302,"Non Significant","-"]
["SABHCAI Western Isles",33.533134928951696,31.813361611876999,5.40582079333808,1.05405820793338,0.36572510522479101,3.03790658568226,"Non Significant","-"]

{"sheet":"quarter comp","index":12,"n_rows":7,"n_cols":9,"rows_kept":7,"cut":false,"hidden":true,"merged":[]}
["ref","p","lp","pc","r","rl","ru","s","direction"]
["CDICA Scotland",4.7904834629885897,6.3147282012122403,-24.137931034482801,0.75862068965517204,0.55090406604476705,1.04465620467234,"Non Significant","-"]
["CDIHCAI Scotland",13.255221251734699,16.822717397573701,-21.2064202324025,0.78793579767597499,0.65335110337742197,0.95024377865117504,"Significant","Decrease"]
["ECBCOM Scotland",39.848112442132397,41.0820248492658,-3.0035335689045901,0.96996466431095396,0.86251389288491198,1.09080150218218,"Non Significant","-"]
["ECBHCAI Scotland",34.075290995621103,41.473148196467399,-17.837703484194201,0.82162296515805799,0.73022380429142897,0.92446218941077496,"Significant","Decrease"]
["SABCAUN Scotland",9.8712992570674007,9.5809669259771901,3.0303030303030298,1.0303030303030301,0.81088760451533604,1.3090893587972401,"Non Significant","-"]
["SABHCAI Scotland",17.338900526259099,18.333328755723201,-5.4241553332406101,0.94575844666759401,0.79715353429135505,1.12206620301602,"Non Significant","-"]