{"text_format":"1","workbook":"xlsx","n_sheets":13,"sheets":["Notes","CDI Data and Charts","ECOLI Data and Charts","SAB Data and Charts","SSI Data and Charts","SSI data","SAB data","CDI data","ECOLI data","data for u-p-charts","trend data","year end comp","quarter comp"],"not_rendered":{"charts":16,"images":0,"macros":1,"external_links":0,"defined_names":4,"comments":0,"pivot_tables":0},"unopened":[],"bounds":{"document_bytes":16777216,"sheet_cells":100000,"rows_first":2000,"rows_last":500,"rows_between":2000,"halvings":0,"cell_chars":16384,"cell_head_chars":4096},"cells_cut":0,"cells_raw":0,"read":"whole","date_system":"1900"}

{"sheet":"Notes","index":0,"n_rows":16,"n_cols":1,"rows_kept":16,"cut":false,"hidden":false,"merged":[]}
["Ayrshire & Arran"]
["Borders"]
["Dumfries & Galloway"]
["Fife"]
["Forth Valley"]
["Golden Jubilee"]
["Grampian"]
["Greater Glasgow & Clyde"]
["Highland"]
["Lanarkshire"]
["Lothian"]
["Orkney"]
["Scotland"]
["Shetland"]
["Tayside"]
["Western Isles"]

{"sheet":"CDI Data and Charts","index":1,"n_rows":28,"n_cols":15,"rows_kept":28,"cut":false,"hidden":false,"merged":[]}
[null,"Scotland",null,null,null,null,null,null,null,null,{"$f":"CONCATENATE(\"Healthcare and community rates for \",B1)","v":"Healthcare and community rates for Scotland"}]
[null,null,null,null,null,null,null,null,null,null,null,"CDIHCAI ",null,"CDICA "]
[null,null,null,"Healthcare associated* CDI",null,null,"Community associated CDI ",null,null,null,null,"Healthcare associated* CDI",null,"Community associated CDI "]
[null,null,"Cases","Rate per 100 000 bed days","95% CI","Cases","Rate per 100 000 population","95% CI",null,null,null,"% change",null,"% change"]
[null,{"$f":"'CDI data'!B8","v":"2014-12-19"},{"$f":"'CDI data'!D8","v":321},{"$f":"'CDI data'!E8","v":18.765999999999998},{"$f":"CONCATENATE(\"(\",TEXT('CDI data'!F8,\"0.0\"),\" ,\", TEXT('CDI data'!G8,\"0.0\"),\")\")","v":"(16.8 ,20.9)"},{"$f":"'CDI data'!H8","v":121},{"$f":"'CDI data'!I8","v":8.9770000000000003},{"$f":"IFERROR(CONCATENATE(\"(\",TEXT('CDI data'!J8,\"0.0\"),\" ,\", TEXT('CDI data'!K8,\"0.0\"),\")\"),\"-\")","v":"(7.4 ,10.7)"},null,null,"This quarter compared to last (national only)",{"$f":"IFERROR(ROUND(VLOOKUP(CONCATENATE(L2,$B$1),'quarter comp'!$A1:$H21,4,FALSE),2),\"-\")","v":12.77},{"$f":"IFERROR(VLOOKUP(CONCATENATE(L2,$B$1),'quarter comp'!$A1:$H21,8,FALSE),\"-\")","v":"Non Significant"},{"$f":"IFERROR(ROUND(VLOOKUP(CONCATENATE(N2,$B$1),'quarter comp'!$A1:$H21,4,FALSE),2),\"-\")","v":12.69},{"$f":"IFERROR(VLOOKUP(CONCATENATE(N2,$B$1),'quarter comp'!$A1:$H21,8,FALSE),\"-\")","v":"Non Significant"}]
[null,{"$f":"'CDI data'!B9","v":"2015-03-24"},{"$f":"'CDI data'!D9","v":251},{"$f":"'CDI data'!E9","v":14.573},{"$f":"CONCATENATE(\"(\",TEXT('CDI data'!F9,\"0.0\"),\" ,\", TEXT('CDI data'!G9,\"0.0\"),\")\")","v":"(12.8 ,16.5)"},{"$f":"'CDI data'!H9","v":92},{"$f":"'CDI data'!I9","v":6.944},{"$f":"IFERROR(CONCATENATE(\"(\",TEXT('CDI data'!J9,\"0.0\"),\" ,\", TEXT('CDI data'!K9,\"0.0\"),\")\"),\"-\")","v":"(5.6 ,8.5)"},null,null,"Year end compared to previous year end ",{"$f":"ROUND(VLOOKUP(CONCATENATE(L2,$B$1),'year end comp'!$A$2:$Z$1086,4,FALSE),2)","v":16.579999999999998},{"$f":"VLOOKUP(CONCATENATE(L2,$B$1),'year end comp'!$A$2:$Z$1086,8,FALSE)","v":"Significant"},{"$f":"IFERROR(ROUND(VLOOKUP(CONCATENATE(N2,$B$1),'year end comp'!$A$2:$Z$1086,4,FALSE),2),\"-\")","v":1.46},{"$f":"IFERROR(VLOOKUP(CONCATENATE(N2,$B$1),'year end comp'!$A$2:$Z$1086,8,FALSE),\"-\")","v":"Non Significant"}]
[null,{"$f":"'CDI data'!B10","v":"2015-06-24"},{"$f":"'CDI data'!D10","v":308},{"$f":"'CDI data'!E10","v":18.552},{"$f":"CONCATENATE(\"(\",TEXT('CDI data'!F10,\"0.0\"),\" ,\", TEXT('CDI data'!G10,\"0.0\"),\")\")","v":"(16.5 ,20.7)"},{"$f":"'CDI data'!H10","v":98},{"$f":"'CDI data'!I10","v":7.3159999999999998},{"$f":"IFERROR(CONCATENATE(\"(\",TEXT('CDI data'!J10,\"0.0\"),\" ,\", TEXT('CDI data'!K10,\"0.0\"),\")\"),\"-\")","v":"(5.9 ,8.9)"}]
[null,{"$f":"'CDI data'!B11","v":"2015-09-24"},{"$f":"'CDI data'!D11","v":313},{"$f":"'CDI data'!E11","v":19.321000000000002},{"$f":"CONCATENATE(\"(\",TEXT('CDI data'!F11,\"0.0\"),\" ,\", TEXT('CDI data'!G11,\"0.0\"),\")\")","v":"(17.2 ,21.6)"},{"$f":"'CDI data'!H11","v":131},{"$f":"'CDI data'!I11","v":9.673},{"$f":"IFERROR(CONCATENATE(\"(\",TEXT('CDI data'!J11,\"0.0\"),\" ,\", TEXT('CDI data'!K11,\"0.0\"),\")\"),\"-\")","v":"(8.1 ,11.5)"}]
[null,{"$f":"'CDI data'!B12","v":"2015-12-24"},{"$f":"'CDI data'!D12","v":367},{"$f":"'CDI data'!E12","v":22.372},{"$f":"CONCATENATE(\"(\",TEXT('CDI data'!F12,\"0.0\"),\" ,\", TEXT('CDI data'!G12,\"0.0\"),\")\")","v":"(20.1 ,24.8)"},{"$f":"'CDI data'!H12","v":116},{"$f":"'CDI data'!I12","v":8.5649999999999995},{"$f":"IFERROR(CONCATENATE(\"(\",TEXT('CDI data'!J12,\"0.0\"),\" ,\", TEXT('CDI data'!K12,\"0.0\"),\")\"),\"-\")","v":"(7.1 ,10.3)"}]
[null,{"$f":"'CDI data'!B13","v":"2016-03-24"},{"$f":"'CDI data'!D13","v":252},{"$f":"'CDI data'!E13","v":15.064},{"$f":"CONCATENATE(\"(\",TEXT('CDI data'!F13,\"0.0\"),\" ,\", TEXT('CDI data'!G13,\"0.0\"),\")\")","v":"(13.3 ,17.0)"},{"$f":"'CDI data'!H13","v":97},{"$f":"'CDI data'!I13","v":7.218},{"$f":"IFERROR(CONCATENATE(\"(\",TEXT('CDI data'!J13,\"0.0\"),\" ,\", TEXT('CDI data'!K13,\"0.0\"),\")\"),\"-\")","v":"(5.9 ,8.8)"}]
[null,{"$f":"'CDI data'!B14","v":"2016-06-24"},{"$f":"'CDI data'!D14","v":250},{"$f":"'CDI data'!E14","v":15.59},{"$f":"CONCATENATE(\"(\",TEXT('CDI data'!F14,\"0.0\"),\" ,\", TEXT('CDI data'!G14,\"0.0\"),\")\")","v":"(13.7 ,17.6)"},{"$f":"'CDI data'!H14","v":91},{"$f":"'CDI data'!I14","v":6.7720000000000002},{"$f":"IFERROR(CONCATENATE(\"(\",TEXT('CDI data'!J14,\"0.0\"),\" ,\", TEXT('CDI data'!K14,\"0.0\"),\")\"),\"-\")","v":"(5.5 ,8.3)"}]
[null,{"$f":"'CDI data'!B15","v":"2016-09-24"},{"$f":"'CDI data'!D15","v":263},{"$f":"'CDI data'!E15","v":16.579999999999998},{"$f":"CONCATENATE(\"(\",TEXT('CDI data'!F15,\"0.0\"),\" ,\", TEXT('CDI data'!G15,\"0.0\"),\")\")","v":"(14.6 ,18.7)"},{"$f":"'CDI data'!H15","v":119},{"$f":"'CDI data'!I15","v":8.7590000000000003},{"$f":"IFERROR(CONCATENATE(\"(\",TEXT('CDI data'!J15,\"0.0\"),\" ,\", TEXT('CDI data'!K15,\"0.0\"),\")\"),\"-\")","v":"(7.3 ,10.5)"}]
[null,{"$f":"'CDI data'!B16","v":"2016-12-24"},{"$f":"'CDI data'!D16","v":233},{"$f":"'CDI data'!E16","v":14.654},{"$f":"CONCATENATE(\"(\",TEXT('CDI data'!F16,\"0.0\"),\" ,\", TEXT('CDI data'!G16,\"0.0\"),\")\")","v":"(12.8 ,16.7)"},{"$f":"'CDI data'!H16","v":94},{"$f":"'CDI data'!I16","v":6.9189999999999996},{"$f":"IFERROR(CONCATENATE(\"(\",TEXT('CDI data'!J16,\"0.0\"),\" ,\", TEXT('CDI data'!K16,\"0.0\"),\")\"),\"-\")","v":"(5.6 ,8.5)"}]
[null,{"$f":"'CDI data'!B17","v":"2017-03-01"},{"$f":"'CDI data'!D17","v":257},{"$f":"'CDI data'!E17","v":16.27},{"$f":"CONCATENATE(\"(\",TEXT('CDI data'!F17,\"0.0\"),\" ,\", TEXT('CDI data'!G17,\"0.0\"),\")\")","v":"(14.3 ,18.4)"},{"$f":"'CDI data'!H17","v":74},{"$f":"'CDI data'!I17","v":5.532},{"$f":"IFERROR(CONCATENATE(\"(\",TEXT('CDI data'!J17,\"0.0\"),\" ,\", TEXT('CDI data'!K17,\"0.0\"),\")\"),\"-\")","v":"(4.3 ,6.9)"}]
[null,{"$f":"'CDI data'!B18","v":"2017-06-01"},{"$f":"'CDI data'!D18","v":238},{"$f":"'CDI data'!E18","v":15.364000000000001},{"$f":"CONCATENATE(\"(\",TEXT('CDI data'!F18,\"0.0\"),\" ,\", TEXT('CDI data'!G18,\"0.0\"),\")\")","v":"(13.5 ,17.4)"},{"$f":"'CDI data'!H18","v":100},{"$f":"'CDI data'!I18","v":7.3940000000000001},{"$f":"IFERROR(CONCATENATE(\"(\",TEXT('CDI data'!J18,\"0.0\"),\" ,\", TEXT('CDI data'!K18,\"0.0\"),\")\"),\"-\")","v":"(6.0 ,9.0)"}]
[null,{"$f":"'CDI data'!B19","v":"2017-09-01"},{"$f":"'CDI data'!D19","v":288},{"$f":"'CDI data'!E19","v":18.734000000000002},{"$f":"CONCATENATE(\"(\",TEXT('CDI data'!F19,\"0.0\"),\" ,\", TEXT('CDI data'!G19,\"0.0\"),\")\")","v":"(16.6 ,21.0)"},{"$f":"'CDI data'!H19","v":103},{"$f":"'CDI data'!I19","v":7.5330000000000004},{"$f":"IFERROR(CONCATENATE(\"(\",TEXT('CDI data'!J19,\"0.0\"),\" ,\", TEXT('CDI data'!K19,\"0.0\"),\")\"),\"-\")","v":"(6.1 ,9.1)"}]
[null,{"$f":"'CDI data'!B20","v":"2017-12-01"},{"$f":"'CDI data'!D20","v":235},{"$f":"'CDI data'!E20","v":14.939},{"$f":"CONCATENATE(\"(\",TEXT('CDI data'!F20,\"0.0\"),\" ,\", TEXT('CDI data'!G20,\"0.0\"),\")\")","v":"(13.1 ,17.0)"},{"$f":"'CDI data'!H20","v":74},{"$f":"'CDI data'!I20","v":5.4119999999999999},{"$f":"IFERROR(CONCATENATE(\"(\",TEXT('CDI data'!J20,\"0.0\"),\" ,\", TEXT('CDI data'!K20,\"0.0\"),\")\"),\"-\")","v":"(4.2 ,6.8)"}]
[null,{"$f":"'CDI data'!B21","v":"2018-03-01"},{"$f":"'CDI data'!D21","v":228},{"$f":"'CDI data'!E21","v":14.404},{"$f":"CONCATENATE(\"(\",TEXT('CDI data'!F21,\"0.0\"),\" ,\", TEXT('CDI data'!G21,\"0.0\"),\")\")","v":"(12.6 ,16.4)"},{"$f":"'CDI data'!H21","v":86},{"$f":"'CDI data'!I21","v":6.4139999999999997},{"$f":"IFERROR(CONCATENATE(\"(\",TEXT('CDI data'!J21,\"0.0\"),\" ,\", TEXT('CDI data'!K21,\"0.0\"),\")\"),\"-\")","v":"(5.1 ,7.9)"}]
[null,{"$f":"'CDI data'!B22","v":"2018-06-01"},{"$f":"'CDI data'!D22","v":244},{"$f":"'CDI data'!E22","v":16.018999999999998},{"$f":"CONCATENATE(\"(\",TEXT('CDI data'!F22,\"0.0\"),\" ,\", TEXT('CDI data'!G22,\"0.0\"),\")\")","v":"(14.1 ,18.2)"},{"$f":"'CDI data'!H22","v":102},{"$f":"'CDI data'!I22","v":7.5229999999999997},{"$f":"IFERROR(CONCATENATE(\"(\",TEXT('CDI data'!J22,\"0.0\"),\" ,\", TEXT('CDI data'!K22,\"0.0\"),\")\"),\"-\")","v":"(6.1 ,9.1)"}]
[null,{"$f":"'CDI data'!B23","v":"2018-09-01"},{"$f":"'CDI data'!D23","v":255},{"$f":"'CDI data'!E23","v":16.895},{"$f":"CONCATENATE(\"(\",TEXT('CDI data'!F23,\"0.0\"),\" ,\", TEXT('CDI data'!G23,\"0.0\"),\")\")","v":"(14.9 ,19.1)"},{"$f":"'CDI data'!H23","v":92},{"$f":"'CDI data'!I23","v":6.7119999999999997},{"$f":"IFERROR(CONCATENATE(\"(\",TEXT('CDI data'!J23,\"0.0\"),\" ,\", TEXT('CDI data'!K23,\"0.0\"),\")\"),\"-\")","v":"(5.4 ,8.2)"}]
[null,{"$f":"'CDI data'!B24","v":"2018-12-01"},{"$f":"'CDI data'!D24","v":220},{"$f":"'CDI data'!E24","v":14.471},{"$f":"CONCATENATE(\"(\",TEXT('CDI data'!F24,\"0.0\"),\" ,\", TEXT('CDI data'!G24,\"0.0\"),\")\")","v":"(12.6 ,16.5)"},{"$f":"'CDI data'!H24","v":86},{"$f":"'CDI data'!I24","v":6.274},{"$f":"IFERROR(CONCATENATE(\"(\",TEXT('CDI data'!J24,\"0.0\"),\" ,\", TEXT('CDI data'!K24,\"0.0\"),\")\"),\"-\")","v":"(5.0 ,7.7)"}]
[null,{"$f":"'CDI data'!B25","v":"2019-03-01"},{"$f":"'CDI data'!D25","v":186},{"$f":"'CDI data'!E25","v":12.103999999999999},{"$f":"CONCATENATE(\"(\",TEXT('CDI data'!F25,\"0.0\"),\" ,\", TEXT('CDI data'!G25,\"0.0\"),\")\")","v":"(10.4 ,14.0)"},{"$f":"'CDI data'!H25","v":50},{"$f":"'CDI data'!I25","v":3.7120000000000002},{"$f":"IFERROR(CONCATENATE(\"(\",TEXT('CDI data'!J25,\"0.0\"),\" ,\", TEXT('CDI data'!K25,\"0.0\"),\")\"),\"-\")","v":"(2.8 ,4.9)"}]
[null,{"$f":"'CDI data'!B26","v":"2019-06-01"},{"$f":"'CDI data'!D26","v":184},{"$f":"'CDI data'!E26","v":12.260999999999999},{"$f":"CONCATENATE(\"(\",TEXT('CDI data'!F26,\"0.0\"),\" ,\", TEXT('CDI data'!G26,\"0.0\"),\")\")","v":"(10.6 ,14.2)"},{"$f":"'CDI data'!H26","v":66},{"$f":"'CDI data'!I26","v":4.8460000000000001},{"$f":"IFERROR(CONCATENATE(\"(\",TEXT('CDI data'!J26,\"0.0\"),\" ,\", TEXT('CDI data'!K26,\"0.0\"),\")\"),\"-\")","v":"(3.7 ,6.2)"}]
[null,{"$f":"'CDI data'!B27","v":"2019-09-01"},{"$f":"'CDI data'!D27","v":207},{"$f":"'CDI data'!E27","v":13.706},{"$f":"CONCATENATE(\"(\",TEXT('CDI data'!F27,\"0.0\"),\" ,\", TEXT('CDI data'!G27,\"0.0\"),\")\")","v":"(11.9 ,15.7)"},{"$f":"'CDI data'!H27","v":72},{"$f":"'CDI data'!I27","v":5.2290000000000001},{"$f":"IFERROR(CONCATENATE(\"(\",TEXT('CDI data'!J27,\"0.0\"),\" ,\", TEXT('CDI data'!K27,\"0.0\"),\")\"),\"-\")","v":"(4.1 ,6.6)"}]
[null,{"$f":"'CDI data'!B28","v":"2019-12-01"},{"$f":"'CDI data'!D28","v":231},{"$f":"'CDI data'!E28","v":15.057},{"$f":"CONCATENATE(\"(\",TEXT('CDI data'!F28,\"0.0\"),\" ,\", TEXT('CDI data'!G28,\"0.0\"),\")\")","v":"(13.2 ,17.1)"},{"$f":"'CDI data'!H28","v":63},{"$f":"'CDI data'!I28","v":4.5750000000000002},{"$f":"IFERROR(CONCATENATE(\"(\",TEXT('CDI data'!J28,\"0.0\"),\" ,\", TEXT('CDI data'!K28,\"0.0\"),\")\"),\"-\")","v":"(3.5 ,5.9)"}]
[null,{"$f":"'CDI data'!B29","v":"2020-03-01"},{"$f":"'CDI data'!D29","v":201},{"$f":"'CDI data'!E29","v":13.616},{"$f":"CONCATENATE(\"(\",TEXT('CDI data'!F29,\"0.0\"),\" ,\", TEXT('CDI data'!G29,\"0.0\"),\")\")","v":"(11.8 ,15.6)"},{"$f":"'CDI data'!H29","v":46},{"$f":"'CDI data'!I29","v":3.3860000000000001},{"$f":"IFERROR(CONCATENATE(\"(\",TEXT('CDI data'!J29,\"0.0\"),\" ,\", TEXT('CDI data'!K29,\"0.0\"),\")\"),\"-\")","v":"(2.5 ,4.5)"}]
[null,{"$f":"'CDI data'!B30","v":"2020-06-01"},{"$f":"'CDI data'!D30","v":167},{"$f":"'CDI data'!E30","v":15.446999999999999},{"$f":"CONCATENATE(\"(\",TEXT('CDI data'!F30,\"0.0\"),\" ,\", TEXT('CDI data'!G30,\"0.0\"),\")\")","v":"(13.2 ,18.0)"},{"$f":"'CDI data'!H30","v":79},{"$f":"'CDI data'!I30","v":5.8159999999999998},{"$f":"IFERROR(CONCATENATE(\"(\",TEXT('CDI data'!J30,\"0.0\"),\" ,\", TEXT('CDI data'!K30,\"0.0\"),\")\"),\"-\")","v":"(4.6 ,7.2)"}]
[null,{"$f":"'CDI data'!B31","v":"2020-09-01"},{"$f":"'CDI data'!D31","v":227},{"$f":"'CDI data'!E31","v":17.4207},{"$f":"CONCATENATE(\"(\",TEXT('CDI data'!F31,\"0.0\"),\" ,\", TEXT('CDI data'!G31,\"0.0\"),\")\")","v":"(15.2 ,19.8)"},{"$f":"'CDI data'!H31","v":90},{"$f":"'CDI data'!I31","v":6.5536000000000003},{"$f":"IFERROR(CONCATENATE(\"(\",TEXT('CDI data'!J31,\"0.0\"),\" ,\", TEXT('CDI data'!K31,\"0.0\"),\")\"),\"-\")","v":"(5.3 ,8.1)"}]

{"sheet":"ECOLI Data and Charts","index":2,"n_rows":21,"n_cols":15,"rows_kept":21,"cut":false,"hidden":false,"merged":[]}
[null,"Scotland",null,null,null,null,null,null,null,null,{"$f":"CONCATENATE(\"Healthcare and community rates for \",B1)","v":"Healthcare and community rates for Scotland"}]
[null,null,null,null,null,null,null,null,null,null,null,"ECBHCAI ",null,"ECBCOM "]
[null,null,null,"Healthcare associated ECB infection ",null,null,"Community associated ECB infection ",null,null,null,null,"Healthcare associated  ECB",null,"Community associated ECB"]
[null,null,"Cases","Rate per 100 000 bed days","95% CI","Cases","Rate per 100 000 Population","95% CI",null,null,null,"% change",null,"% change"]
[null,{"$f":"'ECOLI data'!B8","v":"2016-09-24"},{"$f":"'ECOLI data'!D8","v":582},{"$f":"'ECOLI data'!E8","v":36.69},{"$f":"CONCATENATE(\"(\",TEXT('ECOLI data'!F8,\"0.0\"),\" ,\", TEXT('ECOLI data'!G8,\"0.0\"),\")\")","v":"(33.8 ,39.8)"},{"$f":"'ECOLI data'!H8","v":719},{"$f":"'ECOLI data'!I8","v":52.923999999999999},{"$f":"IFERROR(CONCATENATE(\"(\",TEXT('ECOLI data'!J8,\"0.0\"),\" ,\", TEXT('ECOLI data'!K8,\"0.0\"),\")\"),\"-\")","v":"(49.1 ,56.9)"},null,null,"This quarter compared to last (national only)",{"$f":"IFERROR(ROUND(VLOOKUP(CONCATENATE(L2,$B$1),'quarter comp'!$A1:$H21,4,FALSE),2),\"-\")","v":5.79},{"$f":"IFERROR(VLOOKUP(CONCATENATE(L2,$B$1),'quarter comp'!$A1:$H21,8,FALSE),\"-\")","v":"Non Significant"},{"$f":"IFERROR(ROUND(VLOOKUP(CONCATENATE(N2,$B$1),'quarter comp'!$A1:$H21,4,FALSE),2),\"-\")","v":24.45},{"$f":"IFERROR(VLOOKUP(CONCATENATE(N2,$B$1),'quarter comp'!$A1:$H21,8,FALSE),\"-\")","v":"Significant"}]
[null,{"$f":"'ECOLI data'!B9","v":"2016-12-24"},{"$f":"'ECOLI data'!D9","v":564},{"$f":"'ECOLI data'!E9","v":35.472000000000001},{"$f":"CONCATENATE(\"(\",TEXT('ECOLI data'!F9,\"0.0\"),\" ,\", TEXT('ECOLI data'!G9,\"0.0\"),\")\")","v":"(32.6 ,38.5)"},{"$f":"'ECOLI data'!H9","v":631},{"$f":"'ECOLI data'!I9","v":46.445999999999998},{"$f":"IFERROR(CONCATENATE(\"(\",TEXT('ECOLI data'!J9,\"0.0\"),\" ,\", TEXT('ECOLI data'!K9,\"0.0\"),\")\"),\"-\")","v":"(42.9 ,50.2)"},null,null,"Year end compared to previous year end ",{"$f":"ROUND(VLOOKUP(CONCATENATE(L2,$B$1),'year end comp'!$A$2:$Z$1086,4,FALSE),2)","v":2.56},{"$f":"VLOOKUP(CONCATENATE(L2,$B$1),'year end comp'!$A$2:$Z$1086,8,FALSE)","v":"Non Significant"},{"$f":"IFERROR(ROUND(VLOOKUP(CONCATENATE(N2,$B$1),'year end comp'!$A$2:$Z$1086,4,FALSE),2),\"-\")","v":-9.42},{"$f":"IFERROR(VLOOKUP(CONCATENATE(N2,$B$1),'year end comp'!$A$2:$Z$1086,8,FALSE),\"-\")","v":"Significant"}]
[null,{"$f":"'ECOLI data'!B10","v":"2017-03-01"},{"$f":"'ECOLI data'!D10","v":547},{"$f":"'ECOLI data'!E10","v":34.628999999999998},{"$f":"CONCATENATE(\"(\",TEXT('ECOLI data'!F10,\"0.0\"),\" ,\", TEXT('ECOLI data'!G10,\"0.0\"),\")\")","v":"(31.8 ,37.7)"},{"$f":"'ECOLI data'!H10","v":571},{"$f":"'ECOLI data'!I10","v":42.688000000000002},{"$f":"IFERROR(CONCATENATE(\"(\",TEXT('ECOLI data'!J10,\"0.0\"),\" ,\", TEXT('ECOLI data'!K10,\"0.0\"),\")\"),\"-\")","v":"(39.3 ,46.3)"}]
[null,{"$f":"'ECOLI data'!B11","v":"2017-06-01"},{"$f":"'ECOLI data'!D11","v":534},{"$f":"'ECOLI data'!E11","v":34.472000000000001},{"$f":"CONCATENATE(\"(\",TEXT('ECOLI data'!F11,\"0.0\"),\" ,\", TEXT('ECOLI data'!G11,\"0.0\"),\")\")","v":"(31.6 ,37.5)"},{"$f":"'ECOLI data'!H11","v":662},{"$f":"'ECOLI data'!I11","v":48.947000000000003},{"$f":"IFERROR(CONCATENATE(\"(\",TEXT('ECOLI data'!J11,\"0.0\"),\" ,\", TEXT('ECOLI data'!K11,\"0.0\"),\")\"),\"-\")","v":"(45.3 ,52.8)"}]
[null,{"$f":"'ECOLI data'!B12","v":"2017-09-01"},{"$f":"'ECOLI data'!D12","v":585},{"$f":"'ECOLI data'!E12","v":38.052999999999997},{"$f":"CONCATENATE(\"(\",TEXT('ECOLI data'!F12,\"0.0\"),\" ,\", TEXT('ECOLI data'!G12,\"0.0\"),\")\")","v":"(35.0 ,41.3)"},{"$f":"'ECOLI data'!H12","v":677},{"$f":"'ECOLI data'!I12","v":49.512},{"$f":"IFERROR(CONCATENATE(\"(\",TEXT('ECOLI data'!J12,\"0.0\"),\" ,\", TEXT('ECOLI data'!K12,\"0.0\"),\")\"),\"-\")","v":"(45.9 ,53.4)"}]
[null,{"$f":"'ECOLI data'!B13","v":"2017-12-01"},{"$f":"'ECOLI data'!D13","v":529},{"$f":"'ECOLI data'!E13","v":33.628999999999998},{"$f":"CONCATENATE(\"(\",TEXT('ECOLI data'!F13,\"0.0\"),\" ,\", TEXT('ECOLI data'!G13,\"0.0\"),\")\")","v":"(30.8 ,36.6)"},{"$f":"'ECOLI data'!H13","v":658},{"$f":"'ECOLI data'!I13","v":48.122},{"$f":"IFERROR(CONCATENATE(\"(\",TEXT('ECOLI data'!J13,\"0.0\"),\" ,\", TEXT('ECOLI data'!K13,\"0.0\"),\")\"),\"-\")","v":"(44.5 ,51.9)"}]
[null,{"$f":"'ECOLI data'!B14","v":"2018-03-01"},{"$f":"'ECOLI data'!D14","v":524},{"$f":"'ECOLI data'!E14","v":33.103000000000002},{"$f":"CONCATENATE(\"(\",TEXT('ECOLI data'!F14,\"0.0\"),\" ,\", TEXT('ECOLI data'!G14,\"0.0\"),\")\")","v":"(30.3 ,36.1)"},{"$f":"'ECOLI data'!H14","v":578},{"$f":"'ECOLI data'!I14","v":43.104999999999997},{"$f":"IFERROR(CONCATENATE(\"(\",TEXT('ECOLI data'!J14,\"0.0\"),\" ,\", TEXT('ECOLI data'!K14,\"0.0\"),\")\"),\"-\")","v":"(39.7 ,46.8)"}]
[null,{"$f":"'ECOLI data'!B15","v":"2018-06-01"},{"$f":"'ECOLI data'!D15","v":580},{"$f":"'ECOLI data'!E15","v":38.076999999999998},{"$f":"CONCATENATE(\"(\",TEXT('ECOLI data'!F15,\"0.0\"),\" ,\", TEXT('ECOLI data'!G15,\"0.0\"),\")\")","v":"(35.0 ,41.3)"},{"$f":"'ECOLI data'!H15","v":598},{"$f":"'ECOLI data'!I15","v":44.106999999999999},{"$f":"IFERROR(CONCATENATE(\"(\",TEXT('ECOLI data'!J15,\"0.0\"),\" ,\", TEXT('ECOLI data'!K15,\"0.0\"),\")\"),\"-\")","v":"(40.6 ,47.8)"}]
[null,{"$f":"'ECOLI data'!B16","v":"2018-09-01"},{"$f":"'ECOLI data'!D16","v":606},{"$f":"'ECOLI data'!E16","v":40.15},{"$f":"CONCATENATE(\"(\",TEXT('ECOLI data'!F16,\"0.0\"),\" ,\", TEXT('ECOLI data'!G16,\"0.0\"),\")\")","v":"(37.0 ,43.5)"},{"$f":"'ECOLI data'!H16","v":667},{"$f":"'ECOLI data'!I16","v":48.661000000000001},{"$f":"IFERROR(CONCATENATE(\"(\",TEXT('ECOLI data'!J16,\"0.0\"),\" ,\", TEXT('ECOLI data'!K16,\"0.0\"),\")\"),\"-\")","v":"(45.0 ,52.5)"}]
[null,{"$f":"'ECOLI data'!B17","v":"2018-12-01"},{"$f":"'ECOLI data'!D17","v":582},{"$f":"'ECOLI data'!E17","v":38.283000000000001},{"$f":"CONCATENATE(\"(\",TEXT('ECOLI data'!F17,\"0.0\"),\" ,\", TEXT('ECOLI data'!G17,\"0.0\"),\")\")","v":"(35.2 ,41.5)"},{"$f":"'ECOLI data'!H17","v":603},{"$f":"'ECOLI data'!I17","v":43.991999999999997},{"$f":"IFERROR(CONCATENATE(\"(\",TEXT('ECOLI data'!J17,\"0.0\"),\" ,\", TEXT('ECOLI data'!K17,\"0.0\"),\")\"),\"-\")","v":"(40.6 ,47.6)"}]
[null,{"$f":"'ECOLI data'!B18","v":"2019-03-01"},{"$f":"'ECOLI data'!D18","v":573},{"$f":"'ECOLI data'!E18","v":37.286999999999999},{"$f":"CONCATENATE(\"(\",TEXT('ECOLI data'!F18,\"0.0\"),\" ,\", TEXT('ECOLI data'!G18,\"0.0\"),\")\")","v":"(34.3 ,40.5)"},{"$f":"'ECOLI data'!H18","v":598},{"$f":"'ECOLI data'!I18","v":44.390999999999998},{"$f":"IFERROR(CONCATENATE(\"(\",TEXT('ECOLI data'!J18,\"0.0\"),\" ,\", TEXT('ECOLI data'!K18,\"0.0\"),\")\"),\"-\")","v":"(40.9 ,48.1)"}]
[null,{"$f":"'ECOLI data'!B19","v":"2019-06-01"},{"$f":"'ECOLI data'!D19","v":584},{"$f":"'ECOLI data'!E19","v":38.914999999999999},{"$f":"CONCATENATE(\"(\",TEXT('ECOLI data'!F19,\"0.0\"),\" ,\", TEXT('ECOLI data'!G19,\"0.0\"),\")\")","v":"(35.8 ,42.2)"},{"$f":"'ECOLI data'!H19","v":604},{"$f":"'ECOLI data'!I19","v":44.344000000000001},{"$f":"IFERROR(CONCATENATE(\"(\",TEXT('ECOLI data'!J19,\"0.0\"),\" ,\", TEXT('ECOLI data'!K19,\"0.0\"),\")\"),\"-\")","v":"(40.9 ,48.0)"}]
[null,{"$f":"'ECOLI data'!B20","v":"2019-09-01"},{"$f":"'ECOLI data'!D20","v":608},{"$f":"'ECOLI data'!E20","v":40.258000000000003},{"$f":"CONCATENATE(\"(\",TEXT('ECOLI data'!F20,\"0.0\"),\" ,\", TEXT('ECOLI data'!G20,\"0.0\"),\")\")","v":"(37.1 ,43.6)"},{"$f":"'ECOLI data'!H20","v":606},{"$f":"'ECOLI data'!I20","v":44.006999999999998},{"$f":"IFERROR(CONCATENATE(\"(\",TEXT('ECOLI data'!J20,\"0.0\"),\" ,\", TEXT('ECOLI data'!K20,\"0.0\"),\")\"),\"-\")","v":"(40.6 ,47.7)"}]
[null,{"$f":"'ECOLI data'!B21","v":"2019-12-01"},{"$f":"'ECOLI data'!D21","v":626},{"$f":"'ECOLI data'!E21","v":40.804000000000002},{"$f":"CONCATENATE(\"(\",TEXT('ECOLI data'!F21,\"0.0\"),\" ,\", TEXT('ECOLI data'!G21,\"0.0\"),\")\")","v":"(37.7 ,44.1)"},{"$f":"'ECOLI data'!H21","v":568},{"$f":"'ECOLI data'!I21","v":41.247999999999998},{"$f":"IFERROR(CONCATENATE(\"(\",TEXT('ECOLI data'!J21,\"0.0\"),\" ,\", TEXT('ECOLI data'!K21,\"0.0\"),\")\"),\"-\")","v":"(37.9 ,44.8)"}]
[null,{"$f":"'ECOLI data'!B22","v":"2020-03-01"},{"$f":"'ECOLI data'!D22","v":538},{"$f":"'ECOLI data'!E22","v":36.445999999999998},{"$f":"CONCATENATE(\"(\",TEXT('ECOLI data'!F22,\"0.0\"),\" ,\", TEXT('ECOLI data'!G22,\"0.0\"),\")\")","v":"(33.4 ,39.7)"},{"$f":"'ECOLI data'!H22","v":514},{"$f":"'ECOLI data'!I22","v":37.840000000000003},{"$f":"IFERROR(CONCATENATE(\"(\",TEXT('ECOLI data'!J22,\"0.0\"),\" ,\", TEXT('ECOLI data'!K22,\"0.0\"),\")\"),\"-\")","v":"(34.6 ,41.3)"}]
[null,{"$f":"'ECOLI data'!B23","v":"2020-06-01"},{"$f":"'ECOLI data'!D23","v":429},{"$f":"'ECOLI data'!E23","v":39.682000000000002},{"$f":"CONCATENATE(\"(\",TEXT('ECOLI data'!F23,\"0.0\"),\" ,\", TEXT('ECOLI data'!G23,\"0.0\"),\")\")","v":"(36.0 ,43.6)"},{"$f":"'ECOLI data'!H23","v":488},{"$f":"'ECOLI data'!I23","v":35.926000000000002},{"$f":"IFERROR(CONCATENATE(\"(\",TEXT('ECOLI data'!J23,\"0.0\"),\" ,\", TEXT('ECOLI data'!K23,\"0.0\"),\")\"),\"-\")","v":"(32.8 ,39.3)"}]
[null,{"$f":"'ECOLI data'!B24","v":"2020-09-01"},{"$f":"'ECOLI data'!D24","v":547},{"$f":"'ECOLI data'!E24","v":41.9786},{"$f":"CONCATENATE(\"(\",TEXT('ECOLI data'!F24,\"0.0\"),\" ,\", TEXT('ECOLI data'!G24,\"0.0\"),\")\")","v":"(38.5 ,45.6)"},{"$f":"'ECOLI data'!H24","v":614},{"$f":"'ECOLI data'!I24","v":44.7102},{"$f":"IFERROR(CONCATENATE(\"(\",TEXT('ECOLI data'!J24,\"0.0\"),\" ,\", TEXT('ECOLI data'!K24,\"0.0\"),\")\"),\"-\")","v":"(41.2 ,48.4)"}]

{"sheet":"SAB Data and Charts","index":3,"n_rows":28,"n_cols":14,"rows_kept":28,"cut":false,"hidden":false,"merged":[]}
[null,"Scotland",null,null,null,null,null,null,null,{"$f":"CONCATENATE(\"Healthcare and community rates for \",B1)","v":"Healthcare and community rates for Scotland"}]
[null,null,null,null,null,null,null,null,null,null,"SABHCAI ",null,"SABCAUN "]
[null,null," ","Healthcare associated SAB infection",null,null,"Community associated SAB infection ",null,null,null,"Healthcare associated SAB infection ",null,"Community associated SAB infection "]
[null,null,"Cases","Rate per 100 000 bed days","95% CI","Cases","Rate per 100 000 population","95% CI",null,null,"% change",null,"% change"]
[null,{"$f":"'SAB data'!B8","v":"2014-12-19"},{"$f":"'SAB data'!D8","v":275},{"$f":"'SAB data'!E8","v":16.077000000000002},{"$f":"CONCATENATE(\"(\",TEXT('SAB data'!F8,\"0.0\"),\" ,\", TEXT('SAB data'!G8,\"0.0\"),\")\")","v":"(14.2 ,18.1)"},{"$f":"'SAB data'!H8","v":119},{"$f":"'SAB data'!I8","v":8.8290000000000006},{"$f":"IFERROR(CONCATENATE(\"(\",TEXT('SAB data'!J8,\"0.0\"),\" ,\", TEXT('SAB data'!K8,\"0.0\"),\")\"),\"-\")","v":"(7.3 ,10.6)"},null,"This quarter compared to last (national only)",{"$f":"IFERROR(ROUND(VLOOKUP(CONCATENATE(K2,$B$1),'quarter comp'!$A1:$H21,4,FALSE),2),\"-\")","v":-14.76},{"$f":"IFERROR(VLOOKUP(CONCATENATE(K2,$B$1),'quarter comp'!$A1:$H21,8,FALSE),\"-\")","v":"Non Significant"},{"$f":"IFERROR(ROUND(VLOOKUP(CONCATENATE(M2,$B$1),'quarter comp'!$A1:$H21,4,FALSE),2),\"-\")","v":11.65},{"$f":"IFERROR(VLOOKUP(CONCATENATE(M2,$B$1),'quarter comp'!$A1:$H21,8,FALSE),\"-\")","v":"Non Significant"}]
[null,{"$f":"'SAB data'!B9","v":"2015-03-24"},{"$f":"'SAB data'!D9","v":263},{"$f":"'SAB data'!E9","v":15.27},{"$f":"CONCATENATE(\"(\",TEXT('SAB data'!F9,\"0.0\"),\" ,\", TEXT('SAB data'!G9,\"0.0\"),\")\")","v":"(13.5 ,17.2)"},{"$f":"'SAB data'!H9","v":126},{"$f":"'SAB data'!I9","v":9.5109999999999992},{"$f":"IFERROR(CONCATENATE(\"(\",TEXT('SAB data'!J9,\"0.0\"),\" ,\", TEXT('SAB data'!K9,\"0.0\"),\")\"),\"-\")","v":"(7.9 ,11.3)"},null,"Year end compared to previous year end ",{"$f":"ROUND(VLOOKUP(CONCATENATE(K2,$B$1),'year end comp'!$A$2:$Z$1086,4,FALSE),2)","v":0.84},{"$f":"VLOOKUP(CONCATENATE(K2,$B$1),'year end comp'!$A$2:$Z$1086,8,FALSE)","v":"Non Significant"},{"$f":"IFERROR(ROUND(VLOOKUP(CONCATENATE(M2,$B$1),'year end comp'!$A$2:$Z$1086,4,FALSE),2),\"-\")","v":14.23},{"$f":"IFERROR(VLOOKUP(CONCATENATE(M2,$B$1),'year end comp'!$A$2:$Z$1086,8,FALSE),\"-\")","v":"Significant"}]
[null,{"$f":"'SAB data'!B10","v":"2015-06-24"},{"$f":"'SAB data'!D10","v":284},{"$f":"'SAB data'!E10","v":17.106000000000002},{"$f":"CONCATENATE(\"(\",TEXT('SAB data'!F10,\"0.0\"),\" ,\", TEXT('SAB data'!G10,\"0.0\"),\")\")","v":"(15.2 ,19.2)"},{"$f":"'SAB data'!H10","v":131},{"$f":"'SAB data'!I10","v":9.7789999999999999},{"$f":"IFERROR(CONCATENATE(\"(\",TEXT('SAB data'!J10,\"0.0\"),\" ,\", TEXT('SAB data'!K10,\"0.0\"),\")\"),\"-\")","v":"(8.2 ,11.6)"}]
[null,{"$f":"'SAB data'!B11","v":"2015-09-24"},{"$f":"'SAB data'!D11","v":275},{"$f":"'SAB data'!E11","v":16.975000000000001},{"$f":"CONCATENATE(\"(\",TEXT('SAB data'!F11,\"0.0\"),\" ,\", TEXT('SAB data'!G11,\"0.0\"),\")\")","v":"(15.0 ,19.1)"},{"$f":"'SAB data'!H11","v":113},{"$f":"'SAB data'!I11","v":8.3439999999999994},{"$f":"IFERROR(CONCATENATE(\"(\",TEXT('SAB data'!J11,\"0.0\"),\" ,\", TEXT('SAB data'!K11,\"0.0\"),\")\"),\"-\")","v":"(6.9 ,10.0)"}]
[null,{"$f":"'SAB data'!B12","v":"2015-12-24"},{"$f":"'SAB data'!D12","v":303},{"$f":"'SAB data'!E12","v":18.47},{"$f":"CONCATENATE(\"(\",TEXT('SAB data'!F12,\"0.0\"),\" ,\", TEXT('SAB data'!G12,\"0.0\"),\")\")","v":"(16.4 ,20.7)"},{"$f":"'SAB data'!H12","v":104},{"$f":"'SAB data'!I12","v":7.6790000000000003},{"$f":"IFERROR(CONCATENATE(\"(\",TEXT('SAB data'!J12,\"0.0\"),\" ,\", TEXT('SAB data'!K12,\"0.0\"),\")\"),\"-\")","v":"(6.3 ,9.3)"}]
[null,{"$f":"'SAB data'!B13","v":"2016-03-24"},{"$f":"'SAB data'!D13","v":279},{"$f":"'SAB data'!E13","v":16.678000000000001},{"$f":"CONCATENATE(\"(\",TEXT('SAB data'!F13,\"0.0\"),\" ,\", TEXT('SAB data'!G13,\"0.0\"),\")\")","v":"(14.8 ,18.8)"},{"$f":"'SAB data'!H13","v":139},{"$f":"'SAB data'!I13","v":10.343999999999999},{"$f":"IFERROR(CONCATENATE(\"(\",TEXT('SAB data'!J13,\"0.0\"),\" ,\", TEXT('SAB data'!K13,\"0.0\"),\")\"),\"-\")","v":"(8.7 ,12.2)"}]
[null,{"$f":"'SAB data'!B14","v":"2016-06-24"},{"$f":"'SAB data'!D14","v":260},{"$f":"'SAB data'!E14","v":16.213000000000001},{"$f":"CONCATENATE(\"(\",TEXT('SAB data'!F14,\"0.0\"),\" ,\", TEXT('SAB data'!G14,\"0.0\"),\")\")","v":"(14.3 ,18.3)"},{"$f":"'SAB data'!H14","v":121},{"$f":"'SAB data'!I14","v":9.0039999999999996},{"$f":"IFERROR(CONCATENATE(\"(\",TEXT('SAB data'!J14,\"0.0\"),\" ,\", TEXT('SAB data'!K14,\"0.0\"),\")\"),\"-\")","v":"(7.5 ,10.8)"}]
[null,{"$f":"'SAB data'!B15","v":"2016-09-24"},{"$f":"'SAB data'!D15","v":273},{"$f":"'SAB data'!E15","v":17.21},{"$f":"CONCATENATE(\"(\",TEXT('SAB data'!F15,\"0.0\"),\" ,\", TEXT('SAB data'!G15,\"0.0\"),\")\")","v":"(15.2 ,19.4)"},{"$f":"'SAB data'!H15","v":127},{"$f":"'SAB data'!I15","v":9.3480000000000008},{"$f":"IFERROR(CONCATENATE(\"(\",TEXT('SAB data'!J15,\"0.0\"),\" ,\", TEXT('SAB data'!K15,\"0.0\"),\")\"),\"-\")","v":"(7.8 ,11.1)"}]
[null,{"$f":"'SAB data'!B16","v":"2016-12-24"},{"$f":"'SAB data'!D16","v":265},{"$f":"'SAB data'!E16","v":16.667000000000002},{"$f":"CONCATENATE(\"(\",TEXT('SAB data'!F16,\"0.0\"),\" ,\", TEXT('SAB data'!G16,\"0.0\"),\")\")","v":"(14.7 ,18.8)"},{"$f":"'SAB data'!H16","v":135},{"$f":"'SAB data'!I16","v":9.9369999999999994},{"$f":"IFERROR(CONCATENATE(\"(\",TEXT('SAB data'!J16,\"0.0\"),\" ,\", TEXT('SAB data'!K16,\"0.0\"),\")\"),\"-\")","v":"(8.3 ,11.8)"}]
[null,{"$f":"'SAB data'!B17","v":"2017-03-01"},{"$f":"'SAB data'!D17","v":259},{"$f":"'SAB data'!E17","v":16.396999999999998},{"$f":"CONCATENATE(\"(\",TEXT('SAB data'!F17,\"0.0\"),\" ,\", TEXT('SAB data'!G17,\"0.0\"),\")\")","v":"(14.5 ,18.5)"},{"$f":"'SAB data'!H17","v":142},{"$f":"'SAB data'!I17","v":10.616},{"$f":"IFERROR(CONCATENATE(\"(\",TEXT('SAB data'!J17,\"0.0\"),\" ,\", TEXT('SAB data'!K17,\"0.0\"),\")\"),\"-\")","v":"(8.9 ,12.5)"}]
[null,{"$f":"'SAB data'!B18","v":"2017-06-01"},{"$f":"'SAB data'!D18","v":248},{"$f":"'SAB data'!E18","v":16.010000000000002},{"$f":"CONCATENATE(\"(\",TEXT('SAB data'!F18,\"0.0\"),\" ,\", TEXT('SAB data'!G18,\"0.0\"),\")\")","v":"(14.1 ,18.1)"},{"$f":"'SAB data'!H18","v":126},{"$f":"'SAB data'!I18","v":9.3160000000000007},{"$f":"IFERROR(CONCATENATE(\"(\",TEXT('SAB data'!J18,\"0.0\"),\" ,\", TEXT('SAB data'!K18,\"0.0\"),\")\"),\"-\")","v":"(7.8 ,11.1)"}]
[null,{"$f":"'SAB data'!B19","v":"2017-09-01"},{"$f":"'SAB data'!D19","v":278},{"$f":"'SAB data'!E19","v":18.082999999999998},{"$f":"CONCATENATE(\"(\",TEXT('SAB data'!F19,\"0.0\"),\" ,\", TEXT('SAB data'!G19,\"0.0\"),\")\")","v":"(16.0 ,20.3)"},{"$f":"'SAB data'!H19","v":127},{"$f":"'SAB data'!I19","v":9.2880000000000003},{"$f":"IFERROR(CONCATENATE(\"(\",TEXT('SAB data'!J19,\"0.0\"),\" ,\", TEXT('SAB data'!K19,\"0.0\"),\")\"),\"-\")","v":"(7.7 ,11.1)"}]
[null,{"$f":"'SAB data'!B20","v":"2017-12-01"},{"$f":"'SAB data'!D20","v":262},{"$f":"'SAB data'!E20","v":16.655000000000001},{"$f":"CONCATENATE(\"(\",TEXT('SAB data'!F20,\"0.0\"),\" ,\", TEXT('SAB data'!G20,\"0.0\"),\")\")","v":"(14.7 ,18.8)"},{"$f":"'SAB data'!H20","v":132},{"$f":"'SAB data'!I20","v":9.6539999999999999},{"$f":"IFERROR(CONCATENATE(\"(\",TEXT('SAB data'!J20,\"0.0\"),\" ,\", TEXT('SAB data'!K20,\"0.0\"),\")\"),\"-\")","v":"(8.1 ,11.4)"}]
[null,{"$f":"'SAB data'!B21","v":"2018-03-01"},{"$f":"'SAB data'!D21","v":296},{"$f":"'SAB data'!E21","v":18.699000000000002},{"$f":"CONCATENATE(\"(\",TEXT('SAB data'!F21,\"0.0\"),\" ,\", TEXT('SAB data'!G21,\"0.0\"),\")\")","v":"(16.6 ,21.0)"},{"$f":"'SAB data'!H21","v":135},{"$f":"'SAB data'!I21","v":10.068},{"$f":"IFERROR(CONCATENATE(\"(\",TEXT('SAB data'!J21,\"0.0\"),\" ,\", TEXT('SAB data'!K21,\"0.0\"),\")\"),\"-\")","v":"(8.4 ,11.9)"}]
[null,{"$f":"'SAB data'!B22","v":"2018-06-01"},{"$f":"'SAB data'!D22","v":264},{"$f":"'SAB data'!E22","v":17.332000000000001},{"$f":"CONCATENATE(\"(\",TEXT('SAB data'!F22,\"0.0\"),\" ,\", TEXT('SAB data'!G22,\"0.0\"),\")\")","v":"(15.3 ,19.6)"},{"$f":"'SAB data'!H22","v":123},{"$f":"'SAB data'!I22","v":9.0719999999999992},{"$f":"IFERROR(CONCATENATE(\"(\",TEXT('SAB data'!J22,\"0.0\"),\" ,\", TEXT('SAB data'!K22,\"0.0\"),\")\"),\"-\")","v":"(7.5 ,10.8)"}]
[null,{"$f":"'SAB data'!B23","v":"2018-09-01"},{"$f":"'SAB data'!D23","v":253},{"$f":"'SAB data'!E23","v":16.762},{"$f":"CONCATENATE(\"(\",TEXT('SAB data'!F23,\"0.0\"),\" ,\", TEXT('SAB data'!G23,\"0.0\"),\")\")","v":"(14.8 ,19.0)"},{"$f":"'SAB data'!H23","v":132},{"$f":"'SAB data'!I23","v":9.6300000000000008},{"$f":"IFERROR(CONCATENATE(\"(\",TEXT('SAB data'!J23,\"0.0\"),\" ,\", TEXT('SAB data'!K23,\"0.0\"),\")\"),\"-\")","v":"(8.1 ,11.4)"}]
[null,{"$f":"'SAB data'!B24","v":"2018-12-01"},{"$f":"'SAB data'!D24","v":269},{"$f":"'SAB data'!E24","v":17.693999999999999},{"$f":"CONCATENATE(\"(\",TEXT('SAB data'!F24,\"0.0\"),\" ,\", TEXT('SAB data'!G24,\"0.0\"),\")\")","v":"(15.6 ,19.9)"},{"$f":"'SAB data'!H24","v":113},{"$f":"'SAB data'!I24","v":8.2439999999999998},{"$f":"IFERROR(CONCATENATE(\"(\",TEXT('SAB data'!J24,\"0.0\"),\" ,\", TEXT('SAB data'!K24,\"0.0\"),\")\"),\"-\")","v":"(6.8 ,9.9)"}]
[null,{"$f":"'SAB data'!B25","v":"2019-03-01"},{"$f":"'SAB data'!D25","v":240},{"$f":"'SAB data'!E25","v":15.618},{"$f":"CONCATENATE(\"(\",TEXT('SAB data'!F25,\"0.0\"),\" ,\", TEXT('SAB data'!G25,\"0.0\"),\")\")","v":"(13.7 ,17.7)"},{"$f":"'SAB data'!H25","v":144},{"$f":"'SAB data'!I25","v":10.69},{"$f":"IFERROR(CONCATENATE(\"(\",TEXT('SAB data'!J25,\"0.0\"),\" ,\", TEXT('SAB data'!K25,\"0.0\"),\")\"),\"-\")","v":"(9.0 ,12.6)"}]
[null,{"$f":"'SAB data'!B26","v":"2019-06-01"},{"$f":"'SAB data'!D26","v":251},{"$f":"'SAB data'!E26","v":16.725999999999999},{"$f":"CONCATENATE(\"(\",TEXT('SAB data'!F26,\"0.0\"),\" ,\", TEXT('SAB data'!G26,\"0.0\"),\")\")","v":"(14.7 ,18.9)"},{"$f":"'SAB data'!H26","v":133},{"$f":"'SAB data'!I26","v":9.7639999999999993},{"$f":"IFERROR(CONCATENATE(\"(\",TEXT('SAB data'!J26,\"0.0\"),\" ,\", TEXT('SAB data'!K26,\"0.0\"),\")\"),\"-\")","v":"(8.2 ,11.6)"}]
[null,{"$f":"'SAB data'!B27","v":"2019-09-01"},{"$f":"'SAB data'!D27","v":264},{"$f":"'SAB data'!E27","v":17.48},{"$f":"CONCATENATE(\"(\",TEXT('SAB data'!F27,\"0.0\"),\" ,\", TEXT('SAB data'!G27,\"0.0\"),\")\")","v":"(15.4 ,19.7)"},{"$f":"'SAB data'!H27","v":102},{"$f":"'SAB data'!I27","v":7.407},{"$f":"IFERROR(CONCATENATE(\"(\",TEXT('SAB data'!J27,\"0.0\"),\" ,\", TEXT('SAB data'!K27,\"0.0\"),\")\"),\"-\")","v":"(6.0 ,9.0)"}]
[null,{"$f":"'SAB data'!B28","v":"2019-12-01"},{"$f":"'SAB data'!D28","v":233},{"$f":"'SAB data'!E28","v":15.186999999999999},{"$f":"CONCATENATE(\"(\",TEXT('SAB data'!F28,\"0.0\"),\" ,\", TEXT('SAB data'!G28,\"0.0\"),\")\")","v":"(13.3 ,17.3)"},{"$f":"'SAB data'!H28","v":132},{"$f":"'SAB data'!I28","v":9.5860000000000003},{"$f":"IFERROR(CONCATENATE(\"(\",TEXT('SAB data'!J28,\"0.0\"),\" ,\", TEXT('SAB data'!K28,\"0.0\"),\")\"),\"-\")","v":"(8.0 ,11.4)"}]
[null,{"$f":"'SAB data'!B29","v":"2020-03-01"},{"$f":"'SAB data'!D29","v":241},{"$f":"'SAB data'!E29","v":16.326000000000001},{"$f":"CONCATENATE(\"(\",TEXT('SAB data'!F29,\"0.0\"),\" ,\", TEXT('SAB data'!G29,\"0.0\"),\")\")","v":"(14.3 ,18.5)"},{"$f":"'SAB data'!H29","v":149},{"$f":"'SAB data'!I29","v":10.968999999999999},{"$f":"IFERROR(CONCATENATE(\"(\",TEXT('SAB data'!J29,\"0.0\"),\" ,\", TEXT('SAB data'!K29,\"0.0\"),\")\"),\"-\")","v":"(9.3 ,12.9)"}]
[null,{"$f":"'SAB data'!B30","v":"2020-06-01"},{"$f":"'SAB data'!D30","v":219},{"$f":"'SAB data'!E30","v":20.257000000000001},{"$f":"CONCATENATE(\"(\",TEXT('SAB data'!F30,\"0.0\"),\" ,\", TEXT('SAB data'!G30,\"0.0\"),\")\")","v":"(17.7 ,23.1)"},{"$f":"'SAB data'!H30","v":132},{"$f":"'SAB data'!I30","v":9.718},{"$f":"IFERROR(CONCATENATE(\"(\",TEXT('SAB data'!J30,\"0.0\"),\" ,\", TEXT('SAB data'!K30,\"0.0\"),\")\"),\"-\")","v":"(8.1 ,11.5)"}]
[null,{"$f":"'SAB data'!B31","v":"2020-09-01"},{"$f":"'SAB data'!D31","v":225},{"$f":"'SAB data'!E31","v":17.267199999999999},{"$f":"CONCATENATE(\"(\",TEXT('SAB data'!F31,\"0.0\"),\" ,\", TEXT('SAB data'!G31,\"0.0\"),\")\")","v":"(15.1 ,19.7)"},{"$f":"'SAB data'!H31","v":149},{"$f":"'SAB data'!I31","v":10.8499},{"$f":"IFERROR(CONCATENATE(\"(\",TEXT('SAB data'!J31,\"0.0\"),\" ,\", TEXT('SAB data'!K31,\"0.0\"),\")\"),\"-\")","v":"(9.2 ,12.7)"}]

{"sheet":"SSI Data and Charts","index":4,"n_rows":31,"n_cols":17,"rows_kept":31,"cut":false,"hidden":false,"merged":[]}
[null,"Scotland",null,null,null,null,null,null,null,null,null,null,{"$f":"CONCATENATE(\"% SSI for \",B1)","v":"% SSI for Scotland"}]
[]
[null,null,null,"Casesarean Section",null,null,null,"Hip Arthroplasty",null,null,null,null,null,"SSICSEC ",null,"SSIHIP "]
[null,null,"SSI to day 10","Procedures","SSI Incidence (%)","95% CI","SSI inpatient & readmission to day 30","Procedures","SSI Incidence (%)","95% CI",null,null,null,"% change",null,"% change"]
[null,{"$f":"'SSI data'!B8","v":"2014-03-24"},{"$f":"'SSI data'!D8","v":61},{"$f":"'SSI data'!L8","v":3998},{"$f":"'SSI data'!E8","v":1.526},{"$f":"IFERROR(CONCATENATE(\"(\",TEXT('SSI data'!F8,\"0.0\"),\" ,\", TEXT('SSI data'!G8,\"0.0\"),\")\"),\"-\")","v":"(1.2 ,2.0)"},{"$f":"'SSI data'!H8","v":16},{"$f":"'SSI data'!M8","v":2106},{"$f":"'SSI data'!I8","v":0.76},{"$f":"IFERROR(CONCATENATE(\"(\",TEXT('SSI data'!J8,\"0.0\"),\", \", TEXT('SSI data'!K8,\"0.0\"),\")\"),\"-\")","v":"(0.5, 1.2)"},null,null,"Year end compared to previous year end ",{"$f":"IFERROR(ROUND(VLOOKUP(CONCATENATE(N3,$B$1),'year end comp'!$A$2:$Z$1086,4,FALSE),2),\"-\")","v":-33.619999999999997},{"$f":"IF(IFERROR(VLOOKUP(CONCATENATE(N3,$B$1),'year end comp'!$A$2:$Z$1086,8,FALSE),\"-\")=0,\"-\",IFERROR(VLOOKUP(CONCATENATE(N3,$B$1),'year end comp'!$A$2:$Z$1086,8,FALSE),\"-\"))","v":"Significant"},{"$f":"IFERROR(ROUND(VLOOKUP(CONCATENATE(P3,$B$1),'year end comp'!$A$2:$Z$1086,4,FALSE),2),\"-\")","v":36.75},{"$f":"IF(IFERROR(VLOOKUP(CONCATENATE(P3,$B$1),'year end comp'!$A$2:$Z$1086,8,FALSE),\"-\")=0,\"-\",IFERROR(VLOOKUP(CONCATENATE(P3,$B$1),'year end comp'!$A$2:$Z$1086,8,FALSE),\"-\"))","v":"Non Significant"}]
[null,{"$f":"'SSI data'!B9","v":"2014-06-27"},{"$f":"'SSI data'!D9","v":58},{"$f":"'SSI data'!L9","v":4103},{"$f":"'SSI data'!E9","v":1.4139999999999999},{"$f":"IFERROR(CONCATENATE(\"(\",TEXT('SSI data'!F9,\"0.0\"),\" ,\", TEXT('SSI data'!G9,\"0.0\"),\")\"),\"-\")","v":"(1.1 ,1.8)"},{"$f":"'SSI data'!H9","v":13},{"$f":"'SSI data'!M9","v":2098},{"$f":"'SSI data'!I9","v":0.62},{"$f":"IFERROR(CONCATENATE(\"(\",TEXT('SSI data'!J9,\"0.0\"),\" ,\", TEXT('SSI data'!K9,\"0.0\"),\")\"),\"-\")","v":"(0.4 ,1.1)"}]
[null,{"$f":"'SSI data'!B10","v":"2014-09-30"},{"$f":"'SSI data'!D10","v":58},{"$f":"'SSI data'!L10","v":4563},{"$f":"'SSI data'!E10","v":1.2709999999999999},{"$f":"IFERROR(CONCATENATE(\"(\",TEXT('SSI data'!F10,\"0.0\"),\" ,\", TEXT('SSI data'!G10,\"0.0\"),\")\"),\"-\")","v":"(1.0 ,1.6)"},{"$f":"'SSI data'!H10","v":16},{"$f":"'SSI data'!M10","v":2125},{"$f":"'SSI data'!I10","v":0.753},{"$f":"IFERROR(CONCATENATE(\"(\",TEXT('SSI data'!J10,\"0.0\"),\" ,\", TEXT('SSI data'!K10,\"0.0\"),\")\"),\"-\")","v":"(0.5 ,1.2)"}]
[null,{"$f":"'SSI data'!B11","v":"2014-12-19"},{"$f":"'SSI data'!D11","v":61},{"$f":"'SSI data'!L11","v":4261},{"$f":"'SSI data'!E11","v":1.4319999999999999},{"$f":"IFERROR(CONCATENATE(\"(\",TEXT('SSI data'!F11,\"0.0\"),\" ,\", TEXT('SSI data'!G11,\"0.0\"),\")\"),\"-\")","v":"(1.1 ,1.8)"},{"$f":"'SSI data'!H11","v":12},{"$f":"'SSI data'!M11","v":1974},{"$f":"'SSI data'!I11","v":0.60799999999999998},{"$f":"IFERROR(CONCATENATE(\"(\",TEXT('SSI data'!J11,\"0.0\"),\" ,\", TEXT('SSI data'!K11,\"0.0\"),\")\"),\"-\")","v":"(0.3 ,1.1)"}]
[null,{"$f":"'SSI data'!B12","v":"2015-03-24"},{"$f":"'SSI data'!D12","v":47},{"$f":"'SSI data'!L12","v":3966},{"$f":"'SSI data'!E12","v":1.1850000000000001},{"$f":"IFERROR(CONCATENATE(\"(\",TEXT('SSI data'!F12,\"0.0\"),\" ,\", TEXT('SSI data'!G12,\"0.0\"),\")\"),\"-\")","v":"(0.9 ,1.6)"},{"$f":"'SSI data'!H12","v":18},{"$f":"'SSI data'!M12","v":1959},{"$f":"'SSI data'!I12","v":0.91900000000000004},{"$f":"IFERROR(CONCATENATE(\"(\",TEXT('SSI data'!J12,\"0.0\"),\" ,\", TEXT('SSI data'!K12,\"0.0\"),\")\"),\"-\")","v":"(0.6 ,1.4)"}]
[null,{"$f":"'SSI data'!B13","v":"2015-06-24"},{"$f":"'SSI data'!D13","v":56},{"$f":"'SSI data'!L13","v":4358},{"$f":"'SSI data'!E13","v":1.2849999999999999},{"$f":"IFERROR(CONCATENATE(\"(\",TEXT('SSI data'!F13,\"0.0\"),\" ,\", TEXT('SSI data'!G13,\"0.0\"),\")\"),\"-\")","v":"(1.0 ,1.7)"},{"$f":"'SSI data'!H13","v":18},{"$f":"'SSI data'!M13","v":2159},{"$f":"'SSI data'!I13","v":0.83399999999999996},{"$f":"IFERROR(CONCATENATE(\"(\",TEXT('SSI data'!J13,\"0.0\"),\" ,\", TEXT('SSI data'!K13,\"0.0\"),\")\"),\"-\")","v":"(0.5 ,1.3)"}]
[null,{"$f":"'SSI data'!B14","v":"2015-09-24"},{"$f":"'SSI data'!D14","v":56},{"$f":"'SSI data'!L14","v":4511},{"$f":"'SSI data'!E14","v":1.2410000000000001},{"$f":"IFERROR(CONCATENATE(\"(\",TEXT('SSI data'!F14,\"0.0\"),\" ,\", TEXT('SSI data'!G14,\"0.0\"),\")\"),\"-\")","v":"(1.0 ,1.6)"},{"$f":"'SSI data'!H14","v":10},{"$f":"'SSI data'!M14","v":2135},{"$f":"'SSI data'!I14","v":0.46800000000000003},{"$f":"IFERROR(CONCATENATE(\"(\",TEXT('SSI data'!J14,\"0.0\"),\" ,\", TEXT('SSI data'!K14,\"0.0\"),\")\"),\"-\")","v":"(0.3 ,0.9)"}]
[null,{"$f":"'SSI data'!B15","v":"2015-12-24"},{"$f":"'SSI data'!D15","v":60},{"$f":"'SSI data'!L15","v":4300},{"$f":"'SSI data'!E15","v":1.395},{"$f":"IFERROR(CONCATENATE(\"(\",TEXT('SSI data'!F15,\"0.0\"),\" ,\", TEXT('SSI data'!G15,\"0.0\"),\")\"),\"-\")","v":"(1.1 ,1.8)"},{"$f":"'SSI data'!H15","v":15},{"$f":"'SSI data'!M15","v":2191},{"$f":"'SSI data'!I15","v":0.68500000000000005},{"$f":"IFERROR(CONCATENATE(\"(\",TEXT('SSI data'!J15,\"0.0\"),\" ,\", TEXT('SSI data'!K15,\"0.0\"),\")\"),\"-\")","v":"(0.4 ,1.1)"}]
[null,{"$f":"'SSI data'!B16","v":"2016-03-24"},{"$f":"'SSI data'!D16","v":58},{"$f":"'SSI data'!L16","v":4023},{"$f":"'SSI data'!E16","v":1.4419999999999999},{"$f":"IFERROR(CONCATENATE(\"(\",TEXT('SSI data'!F16,\"0.0\"),\" ,\", TEXT('SSI data'!G16,\"0.0\"),\")\"),\"-\")","v":"(1.1 ,1.9)"},{"$f":"'SSI data'!H16","v":7},{"$f":"'SSI data'!M16","v":2173},{"$f":"'SSI data'!I16","v":0.32200000000000001},{"$f":"IFERROR(CONCATENATE(\"(\",TEXT('SSI data'!J16,\"0.0\"),\" ,\", TEXT('SSI data'!K16,\"0.0\"),\")\"),\"-\")","v":"(0.2 ,0.7)"}]
[null,{"$f":"'SSI data'!B17","v":"2016-06-24"},{"$f":"'SSI data'!D17","v":78},{"$f":"'SSI data'!L17","v":4448},{"$f":"'SSI data'!E17","v":1.754},{"$f":"IFERROR(CONCATENATE(\"(\",TEXT('SSI data'!F17,\"0.0\"),\" ,\", TEXT('SSI data'!G17,\"0.0\"),\")\"),\"-\")","v":"(1.4 ,2.2)"},{"$f":"'SSI data'!H17","v":17},{"$f":"'SSI data'!M17","v":2318},{"$f":"'SSI data'!I17","v":0.73299999999999998},{"$f":"IFERROR(CONCATENATE(\"(\",TEXT('SSI data'!J17,\"0.0\"),\" ,\", TEXT('SSI data'!K17,\"0.0\"),\")\"),\"-\")","v":"(0.5 ,1.2)"}]
[null,{"$f":"'SSI data'!B18","v":"2016-09-24"},{"$f":"'SSI data'!D18","v":71},{"$f":"'SSI data'!L18","v":4446},{"$f":"'SSI data'!E18","v":1.597},{"$f":"IFERROR(CONCATENATE(\"(\",TEXT('SSI data'!F18,\"0.0\"),\" ,\", TEXT('SSI data'!G18,\"0.0\"),\")\"),\"-\")","v":"(1.3 ,2.0)"},{"$f":"'SSI data'!H18","v":14},{"$f":"'SSI data'!M18","v":2153},{"$f":"'SSI data'!I18","v":0.65},{"$f":"IFERROR(CONCATENATE(\"(\",TEXT('SSI data'!J18,\"0.0\"),\" ,\", TEXT('SSI data'!K18,\"0.0\"),\")\"),\"-\")","v":"(0.4 ,1.1)"}]
[null,{"$f":"'SSI data'!B19","v":"2016-12-24"},{"$f":"'SSI data'!D19","v":51},{"$f":"'SSI data'!L19","v":4258},{"$f":"'SSI data'!E19","v":1.198},{"$f":"IFERROR(CONCATENATE(\"(\",TEXT('SSI data'!F19,\"0.0\"),\" ,\", TEXT('SSI data'!G19,\"0.0\"),\")\"),\"-\")","v":"(0.9 ,1.6)"},{"$f":"'SSI data'!H19","v":17},{"$f":"'SSI data'!M19","v":2226},{"$f":"'SSI data'!I19","v":0.76400000000000001},{"$f":"IFERROR(CONCATENATE(\"(\",TEXT('SSI data'!J19,\"0.0\"),\" ,\", TEXT('SSI data'!K19,\"0.0\"),\")\"),\"-\")","v":"(0.5 ,1.2)"}]
[null,{"$f":"'SSI data'!B20","v":"2017-03-01"},{"$f":"'SSI data'!D20","v":58},{"$f":"'SSI data'!L20","v":4047},{"$f":"'SSI data'!E20","v":1.4330000000000001},{"$f":"IFERROR(CONCATENATE(\"(\",TEXT('SSI data'!F20,\"0.0\"),\" ,\", TEXT('SSI data'!G20,\"0.0\"),\")\"),\"-\")","v":"(1.1 ,1.8)"},{"$f":"'SSI data'!H20","v":12},{"$f":"'SSI data'!M20","v":2164},{"$f":"'SSI data'!I20","v":0.55500000000000005},{"$f":"IFERROR(CONCATENATE(\"(\",TEXT('SSI data'!J20,\"0.0\"),\" ,\", TEXT('SSI data'!K20,\"0.0\"),\")\"),\"-\")","v":"(0.3 ,1.0)"}]
[null,{"$f":"'SSI data'!B21","v":"2017-06-01"},{"$f":"'SSI data'!D21","v":51},{"$f":"'SSI data'!L21","v":4115},{"$f":"'SSI data'!E21","v":1.2390000000000001},{"$f":"IFERROR(CONCATENATE(\"(\",TEXT('SSI data'!F21,\"0.0\"),\" ,\", TEXT('SSI data'!G21,\"0.0\"),\")\"),\"-\")","v":"(0.9 ,1.6)"},{"$f":"'SSI data'!H21","v":19},{"$f":"'SSI data'!M21","v":2301},{"$f":"'SSI data'!I21","v":0.82599999999999996},{"$f":"IFERROR(CONCATENATE(\"(\",TEXT('SSI data'!J21,\"0.0\"),\" ,\", TEXT('SSI data'!K21,\"0.0\"),\")\"),\"-\")","v":"(0.5 ,1.3)"}]
[null,{"$f":"'SSI data'!B22","v":"2017-09-01"},{"$f":"'SSI data'!D22","v":58},{"$f":"'SSI data'!L22","v":4514},{"$f":"'SSI data'!E22","v":1.2849999999999999},{"$f":"IFERROR(CONCATENATE(\"(\",TEXT('SSI data'!F22,\"0.0\"),\" ,\", TEXT('SSI data'!G22,\"0.0\"),\")\"),\"-\")","v":"(1.0 ,1.7)"},{"$f":"'SSI data'!H22","v":9},{"$f":"'SSI data'!M22","v":2077},{"$f":"'SSI data'!I22","v":0.433},{"$f":"IFERROR(CONCATENATE(\"(\",TEXT('SSI data'!J22,\"0.0\"),\" ,\", TEXT('SSI data'!K22,\"0.0\"),\")\"),\"-\")","v":"(0.2 ,0.8)"}]
[null,{"$f":"'SSI data'!B23","v":"2017-12-01"},{"$f":"'SSI data'!D23","v":66},{"$f":"'SSI data'!L23","v":4224},{"$f":"'SSI data'!E23","v":1.5629999999999999},{"$f":"IFERROR(CONCATENATE(\"(\",TEXT('SSI data'!F23,\"0.0\"),\" ,\", TEXT('SSI data'!G23,\"0.0\"),\")\"),\"-\")","v":"(1.2 ,2.0)"},{"$f":"'SSI data'!H23","v":16},{"$f":"'SSI data'!M23","v":2071},{"$f":"'SSI data'!I23","v":0.77300000000000002},{"$f":"IFERROR(CONCATENATE(\"(\",TEXT('SSI data'!J23,\"0.0\"),\" ,\", TEXT('SSI data'!K23,\"0.0\"),\")\"),\"-\")","v":"(0.5 ,1.3)"}]
[null,{"$f":"'SSI data'!B24","v":"2018-03-01"},{"$f":"'SSI data'!D24","v":64},{"$f":"'SSI data'!L24","v":3975},{"$f":"'SSI data'!E24","v":1.61},{"$f":"IFERROR(CONCATENATE(\"(\",TEXT('SSI data'!F24,\"0.0\"),\" ,\", TEXT('SSI data'!G24,\"0.0\"),\")\"),\"-\")","v":"(1.3 ,2.1)"},{"$f":"'SSI data'!H24","v":17},{"$f":"'SSI data'!M24","v":2008},{"$f":"'SSI data'!I24","v":0.84699999999999998},{"$f":"IFERROR(CONCATENATE(\"(\",TEXT('SSI data'!J24,\"0.0\"),\" ,\", TEXT('SSI data'!K24,\"0.0\"),\")\"),\"-\")","v":"(0.5 ,1.4)"}]
[null,{"$f":"'SSI data'!B25","v":"2018-06-01"},{"$f":"'SSI data'!D25","v":61},{"$f":"'SSI data'!L25","v":4191},{"$f":"'SSI data'!E25","v":1.4550000000000001},{"$f":"IFERROR(CONCATENATE(\"(\",TEXT('SSI data'!F25,\"0.0\"),\" ,\", TEXT('SSI data'!G25,\"0.0\"),\")\"),\"-\")","v":"(1.1 ,1.9)"},{"$f":"'SSI data'!H25","v":18},{"$f":"'SSI data'!M25","v":2270},{"$f":"'SSI data'!I25","v":0.79300000000000004},{"$f":"IFERROR(CONCATENATE(\"(\",TEXT('SSI data'!J25,\"0.0\"),\" ,\", TEXT('SSI data'!K25,\"0.0\"),\")\"),\"-\")","v":"(0.5 ,1.3)"}]
[null,{"$f":"'SSI data'!B26","v":"2018-09-01"},{"$f":"'SSI data'!D26","v":66},{"$f":"'SSI data'!L26","v":4293},{"$f":"'SSI data'!E26","v":1.5369999999999999},{"$f":"IFERROR(CONCATENATE(\"(\",TEXT('SSI data'!F26,\"0.0\"),\" ,\", TEXT('SSI data'!G26,\"0.0\"),\")\"),\"-\")","v":"(1.2 ,2.0)"},{"$f":"'SSI data'!H26","v":13},{"$f":"'SSI data'!M26","v":2155},{"$f":"'SSI data'!I26","v":0.60299999999999998},{"$f":"IFERROR(CONCATENATE(\"(\",TEXT('SSI data'!J26,\"0.0\"),\" ,\", TEXT('SSI data'!K26,\"0.0\"),\")\"),\"-\")","v":"(0.4 ,1.0)"}]
[null,{"$f":"'SSI data'!B27","v":"2018-12-01"},{"$f":"'SSI data'!D27","v":59},{"$f":"'SSI data'!L27","v":4346},{"$f":"'SSI data'!E27","v":1.3580000000000001},{"$f":"IFERROR(CONCATENATE(\"(\",TEXT('SSI data'!F27,\"0.0\"),\" ,\", TEXT('SSI data'!G27,\"0.0\"),\")\"),\"-\")","v":"(1.1 ,1.7)"},{"$f":"'SSI data'!H27","v":16},{"$f":"'SSI data'!M27","v":2276},{"$f":"'SSI data'!I27","v":0.70299999999999996},{"$f":"IFERROR(CONCATENATE(\"(\",TEXT('SSI data'!J27,\"0.0\"),\" ,\", TEXT('SSI data'!K27,\"0.0\"),\")\"),\"-\")","v":"(0.4 ,1.1)"}]
[null,{"$f":"'SSI data'!B28","v":"2019-03-01"},{"$f":"'SSI data'!D28","v":64},{"$f":"'SSI data'!L28","v":4051},{"$f":"'SSI data'!E28","v":1.58},{"$f":"IFERROR(CONCATENATE(\"(\",TEXT('SSI data'!F28,\"0.0\"),\" ,\", TEXT('SSI data'!G28,\"0.0\"),\")\"),\"-\")","v":"(1.2 ,2.0)"},{"$f":"'SSI data'!H28","v":8},{"$f":"'SSI data'!M28","v":2146},{"$f":"'SSI data'!I28","v":0.373},{"$f":"IFERROR(CONCATENATE(\"(\",TEXT('SSI data'!J28,\"0.0\"),\" ,\", TEXT('SSI data'!K28,\"0.0\"),\")\"),\"-\")","v":"(0.2 ,0.7)"}]
[null,{"$f":"'SSI data'!B29","v":"2019-06-01"},{"$f":"'SSI data'!D29","v":43},{"$f":"'SSI data'!L29","v":4118},{"$f":"'SSI data'!E29","v":1.044},{"$f":"IFERROR(CONCATENATE(\"(\",TEXT('SSI data'!F29,\"0.0\"),\" ,\", TEXT('SSI data'!G29,\"0.0\"),\")\"),\"-\")","v":"(0.8 ,1.4)"},{"$f":"'SSI data'!H29","v":10},{"$f":"'SSI data'!M29","v":2257},{"$f":"'SSI data'!I29","v":0.443},{"$f":"IFERROR(CONCATENATE(\"(\",TEXT('SSI data'!J29,\"0.0\"),\" ,\", TEXT('SSI data'!K29,\"0.0\"),\")\"),\"-\")","v":"(0.2 ,0.8)"}]
[null,{"$f":"'SSI data'!B30","v":"2019-09-01"},{"$f":"'SSI data'!D30","v":51},{"$f":"'SSI data'!L30","v":4408},{"$f":"'SSI data'!E30","v":1.157},{"$f":"IFERROR(CONCATENATE(\"(\",TEXT('SSI data'!F30,\"0.0\"),\" ,\", TEXT('SSI data'!G30,\"0.0\"),\")\"),\"-\")","v":"(0.9 ,1.5)"},{"$f":"'SSI data'!H30","v":17},{"$f":"'SSI data'!M30","v":2121},{"$f":"'SSI data'!I30","v":0.80200000000000005},{"$f":"IFERROR(CONCATENATE(\"(\",TEXT('SSI data'!J30,\"0.0\"),\" ,\", TEXT('SSI data'!K30,\"0.0\"),\")\"),\"-\")","v":"(0.5 ,1.3)"}]
[null,{"$f":"'SSI data'!B31","v":"2019-12-01"},{"$f":"'SSI data'!D31","v":35},{"$f":"'SSI data'!L31","v":4112},{"$f":"'SSI data'!E31","v":0.85099999999999998},{"$f":"IFERROR(CONCATENATE(\"(\",TEXT('SSI data'!F31,\"0.0\"),\" ,\", TEXT('SSI data'!G31,\"0.0\"),\")\"),\"-\")","v":"(0.6 ,1.2)"},{"$f":"'SSI data'!H31","v":17},{"$f":"'SSI data'!M31","v":2145},{"$f":"'SSI data'!I31","v":0.79300000000000004},{"$f":"IFERROR(CONCATENATE(\"(\",TEXT('SSI data'!J31,\"0.0\"),\" ,\", TEXT('SSI data'!K31,\"0.0\"),\")\"),\"-\")","v":"(0.5 ,1.3)"}]
[null,"2020-03-01",{"$f":"'SSI data'!D32","v":"-"},{"$f":"'SSI data'!L32","v":"-"},{"$f":"'SSI data'!E32","v":"-"},{"$f":"IFERROR(CONCATENATE(\"(\",TEXT('SSI data'!F32,\"0.0\"),\" ,\", TEXT('SSI data'!G32,\"0.0\"),\")\"),\"-\")","v":"(- ,-)"},{"$f":"'SSI data'!H32","v":"-"},{"$f":"'SSI data'!M32","v":"-"},{"$f":"'SSI data'!I32","v":"-"},{"$f":"IFERROR(CONCATENATE(\"(\",TEXT('SSI data'!J32,\"0.0\"),\" ,\", TEXT('SSI data'!K32,\"0.0\"),\")\"),\"-\")","v":"(- ,-)"}]
[null,"2020-06-01",{"$f":"'SSI data'!D33","v":"-"},{"$f":"'SSI data'!L33","v":"-"},{"$f":"'SSI data'!E33","v":"-"},{"$f":"IFERROR(CONCATENATE(\"(\",TEXT('SSI data'!F33,\"0.0\"),\" ,\", TEXT('SSI data'!G33,\"0.0\"),\")\"),\"-\")","v":"(- ,-)"},{"$f":"'SSI data'!H33","v":"-"},{"$f":"'SSI data'!M33","v":"-"},{"$f":"'SSI data'!I33","v":"-"},{"$f":"IFERROR(CONCATENATE(\"(\",TEXT('SSI data'!J33,\"0.0\"),\" ,\", TEXT('SSI data'!K33,\"0.0\"),\")\"),\"-\")","v":"(- ,-)"}]
[null,"2020-09-01",{"$f":"'SSI data'!D34","v":"-"},{"$f":"'SSI data'!L34","v":"-"},{"$f":"'SSI data'!E34","v":"-"},{"$f":"IFERROR(CONCATENATE(\"(\",TEXT('SSI data'!F34,\"0.0\"),\" ,\", TEXT('SSI data'!G34,\"0.0\"),\")\"),\"-\")","v":"(- ,-)"},{"$f":"'SSI data'!H34","v":"-"},{"$f":"'SSI data'!M34","v":"-"},{"$f":"'SSI data'!I34","v":"-"},{"$f":"IFERROR(CONCATENATE(\"(\",TEXT('SSI data'!J34,\"0.0\"),\" ,\", TEXT('SSI data'!K34,\"0.0\"),\")\"),\"-\")","v":"(- ,-)"}]

{"sheet":"SSI data","index":5,"n_rows":34,"n_cols":29,"rows_kept":34,"cut":false,"hidden":true,"merged":[]}
["Trend data",null,null,null,null,null,null,null,null,null,null,null,null,null,null,null,"data for u-charts"]
[]
["add a new line for current quarter"]
[null,null,null,null,null,null,null,null,null,null,null,null,null,null,null,null,null,null,null,"change this"]
[null,null,null,"SSICSEC","SSICSEC","SSICSEC","SSICSEC","SSIHIP","SSIHIP","SSIHIP","SSIHIP","SSICSEC","SSIHIP",null,null,null,null,null,"current quarter end","2019-12-31",3,4,5,6,null,3,4,5,6]
[null,null,null,2,4,5,6,2,4,5,6,3,3]
[null,null,"ref","C SEC cases","C SEC prop","C SEC_lower_CI","C SEC_upper_CI","HIP cases","HIP prop","HIP_lower_CI","HIP_upper_CI","C SEC OPS","HIP OPS",null,null,null,null,null,null,null,"SSICSEC",null,null,null,null,"SSIHIP"]
["201401","2014-03-24",{"$f":"CONCATENATE(A8,'SSI Data and Charts'!B$1)","v":"201401Scotland"},{"$f":"IFERROR(VLOOKUP(CONCATENATE(D$5,$C8),'trend data'!$A$2:$O$11161,D$6,FALSE),\"-\")","v":61},{"$f":"IFERROR(ROUND(VLOOKUP(CONCATENATE(E$5,$C8),'trend data'!$A$2:$O$11161,E$6,FALSE),3),\"-\")","v":1.526},{"$f":"IFERROR(ROUND(VLOOKUP(CONCATENATE(F$5,$C8),'trend data'!$A$2:$O$11161,F$6,FALSE),3),\"-\")","v":1.19},{"$f":"IFERROR(ROUND(VLOOKUP(CONCATENATE(G$5,$C8),'trend data'!$A$2:$O$11161,G$6,FALSE),3),\"-\")","v":1.9550000000000001},{"$f":"IFERROR(VLOOKUP(CONCATENATE(H$5,$C8),'trend data'!$A$2:$O$11161,H$6,FALSE),\"-\")","v":16},{"$f":"IFERROR(ROUND(VLOOKUP(CONCATENATE(I$5,$C8),'trend data'!$A$2:$O$11161,I$6,FALSE),3),\"-\")","v":0.76},{"$f":"IFERROR(ROUND(VLOOKUP(CONCATENATE(J$5,$C8),'trend data'!$A$2:$O$11161,J$6,FALSE),3),\"-\")","v":0.46800000000000003},{"$f":"IFERROR(ROUND(VLOOKUP(CONCATENATE(K$5,$C8),'trend data'!$A$2:$O$11161,K$6,FALSE),3),\"-\")","v":1.2310000000000001},{"$f":"IFERROR(VLOOKUP(CONCATENATE(L$5,$C8),'trend data'!$A$2:$O$11161,L$6,FALSE),\"-\")","v":3998},{"$f":"IFERROR(VLOOKUP(CONCATENATE(M$5,$C8),'trend data'!$A$2:$O$11161,M$6,FALSE),\"-\")","v":2106},null,null,null,"change to last 12 quarters",null,null,null,"C SEC prop","C SEC av prop","C SEC UWL 2sd","C SEC UWL 3sd",null,"HIP prop","HIP av prop","HIP UWL 2sd","HIP UWL 3 sd"]
["201402","2014-06-27",{"$f":"CONCATENATE(A9,'SSI Data and Charts'!B$1)","v":"201402Scotland"},{"$f":"IFERROR(VLOOKUP(CONCATENATE(D$5,$C9),'trend data'!$A$2:$O$11161,D$6,FALSE),\"-\")","v":58},{"$f":"IFERROR(ROUND(VLOOKUP(CONCATENATE(E$5,$C9),'trend data'!$A$2:$O$11161,E$6,FALSE),3),\"-\")","v":1.4139999999999999},{"$f":"IFERROR(ROUND(VLOOKUP(CONCATENATE(F$5,$C9),'trend data'!$A$2:$O$11161,F$6,FALSE),3),\"-\")","v":1.095},{"$f":"IFERROR(ROUND(VLOOKUP(CONCATENATE(G$5,$C9),'trend data'!$A$2:$O$11161,G$6,FALSE),3),\"-\")","v":1.823},{"$f":"IFERROR(VLOOKUP(CONCATENATE(H$5,$C9),'trend data'!$A$2:$O$11161,H$6,FALSE),\"-\")","v":13},{"$f":"IFERROR(ROUND(VLOOKUP(CONCATENATE(I$5,$C9),'trend data'!$A$2:$O$11161,I$6,FALSE),3),\"-\")","v":0.62},{"$f":"IFERROR(ROUND(VLOOKUP(CONCATENATE(J$5,$C9),'trend data'!$A$2:$O$11161,J$6,FALSE),3),\"-\")","v":0.36199999999999999},{"$f":"IFERROR(ROUND(VLOOKUP(CONCATENATE(K$5,$C9),'trend data'!$A$2:$O$11161,K$6,FALSE),3),\"-\")","v":1.0569999999999999},{"$f":"IFERROR(VLOOKUP(CONCATENATE(L$5,$C9),'trend data'!$A$2:$O$11161,L$6,FALSE),\"-\")","v":4103},{"$f":"IFERROR(VLOOKUP(CONCATENATE(M$5,$C9),'trend data'!$A$2:$O$11161,M$6,FALSE),\"-\")","v":2098},null,null,null,{"$f":"YEAR(T9)&\"0\"&IF(MONTH(T9)<4,1,IF(MONTH(T9)<7,2,IF(MONTH(T9)<10,3,4)))","v":"201701"},{"$f":"CONCATENATE(U$7,$Q9,'SSI Data and Charts'!B$1)","v":"SSICSEC201701Scotland"},1,{"$f":"T10-92","v":"2017-03-24"},{"$f":"ROUND(VLOOKUP($R9,'data for u-p-charts'!$A$2:$F$5000,U$5,FALSE),2)","v":{"$error":"#N/A"}},{"$f":"ROUND(VLOOKUP($R9,'data for u-p-charts'!$A$2:$F$5000,V$5,FALSE),2)","v":{"$error":"#N/A"}},{"$f":"ROUND(VLOOKUP($R9,'data for u-p-charts'!$A$2:$F$5000,W$5,FALSE),2)","v":{"$error":"#N/A"}},{"$f":"ROUND(VLOOKUP($R9,'data for u-p-charts'!$A$2:$F$5000,X$5,FALSE),2)","v":{"$error":"#N/A"}},{"$f":"CONCATENATE(Z$7,$Q9,'SSI Data and Charts'!$B$1)","v":"SSIHIP201701Scotland"},{"$f":"ROUND(VLOOKUP($Y9,'data for u-p-charts'!$A$2:$F$5000,Z$5,FALSE),2)","v":{"$error":"#N/A"}},{"$f":"ROUND(VLOOKUP($Y9,'data for u-p-charts'!$A$2:$F$5000,AA$5,FALSE),2)","v":{"$error":"#N/A"}},{"$f":"ROUND(VLOOKUP($Y9,'data for u-p-charts'!$A$2:$F$5000,AB$5,FALSE),2)","v":{"$error":"#N/A"}},{"$f":"ROUND(VLOOKUP($Y9,'data for u-p-charts'!$A$2:$F$5000,AC$5,FALSE),2)","v":{"$error":"#N/A"}}]
["201403","2014-09-30",{"$f":"CONCATENATE(A10,'SSI Data and Charts'!B$1)","v":"201403Scotland"},{"$f":"IFERROR(VLOOKUP(CONCATENATE(D$5,$C10),'trend data'!$A$2:$O$11161,D$6,FALSE),\"-\")","v":58},{"$f":"IFERROR(ROUND(VLOOKUP(CONCATENATE(E$5,$C10),'trend data'!$A$2:$O$11161,E$6,FALSE),3),\"-\")","v":1.2709999999999999},{"$f":"IFERROR(ROUND(VLOOKUP(CONCATENATE(F$5,$C10),'trend data'!$A$2:$O$11161,F$6,FALSE),3),\"-\")","v":0.98499999999999999},{"$f":"IFERROR(ROUND(VLOOKUP(CONCATENATE(G$5,$C10),'trend data'!$A$2:$O$11161,G$6,FALSE),3),\"-\")","v":1.64},{"$f":"IFERROR(VLOOKUP(CONCATENATE(H$5,$C10),'trend data'!$A$2:$O$11161,H$6,FALSE),\"-\")","v":16},{"$f":"IFERROR(ROUND(VLOOKUP(CONCATENATE(I$5,$C10),'trend data'!$A$2:$O$11161,I$6,FALSE),3),\"-\")","v":0.753},{"$f":"IFERROR(ROUND(VLOOKUP(CONCATENATE(J$5,$C10),'trend data'!$A$2:$O$11161,J$6,FALSE),3),\"-\")","v":0.46400000000000002},{"$f":"IFERROR(ROUND(VLOOKUP(CONCATENATE(K$5,$C10),'trend data'!$A$2:$O$11161,K$6,FALSE),3),\"-\")","v":1.22},{"$f":"IFERROR(VLOOKUP(CONCATENATE(L$5,$C10),'trend data'!$A$2:$O$11161,L$6,FALSE),\"-\")","v":4563},{"$f":"IFERROR(VLOOKUP(CONCATENATE(M$5,$C10),'trend data'!$A$2:$O$11161,M$6,FALSE),\"-\")","v":2125},null,null,null,{"$f":"YEAR(T10)&\"0\"&IF(MONTH(T10)<4,1,IF(MONTH(T10)<7,2,IF(MONTH(T10)<10,3,4)))","v":"201702"},{"$f":"CONCATENATE(U$7,$Q10,'SSI Data and Charts'!B$1)","v":"SSICSEC201702Scotland"},2,"2017-06-24",{"$f":"ROUND(VLOOKUP($R10,'data for u-p-charts'!$A$2:$F$5000,U$5,FALSE),2)","v":{"$error":"#N/A"}},{"$f":"ROUND(VLOOKUP($R10,'data for u-p-charts'!$A$2:$F$5000,V$5,FALSE),2)","v":{"$error":"#N/A"}},{"$f":"ROUND(VLOOKUP($R10,'data for u-p-charts'!$A$2:$F$5000,W$5,FALSE),2)","v":{"$error":"#N/A"}},{"$f":"ROUND(VLOOKUP($R10,'data for u-p-charts'!$A$2:$F$5000,X$5,FALSE),2)","v":{"$error":"#N/A"}},{"$f":"CONCATENATE(Z$7,$Q10,'SSI Data and Charts'!$B$1)","v":"SSIHIP201702Scotland"},{"$f":"ROUND(VLOOKUP($Y10,'data for u-p-charts'!$A$2:$F$5000,Z$5,FALSE),2)","v":{"$error":"#N/A"}},{"$f":"ROUND(VLOOKUP($Y10,'data for u-p-charts'!$A$2:$F$5000,AA$5,FALSE),2)","v":{"$error":"#N/A"}},{"$f":"ROUND(VLOOKUP($Y10,'data for u-p-charts'!$A$2:$F$5000,AB$5,FALSE),2)","v":{"$error":"#N/A"}},{"$f":"ROUND(VLOOKUP($Y10,'data for u-p-charts'!$A$2:$F$5000,AC$5,FALSE),2)","v":{"$error":"#N/A"}}]
[201404,"2014-12-19",{"$f":"CONCATENATE(A11,'SSI Data and Charts'!B$1)","v":"201404Scotland"},{"$f":"IFERROR(VLOOKUP(CONCATENATE(D$5,$C11),'trend data'!$A$2:$O$11161,D$6,FALSE),\"-\")","v":61},{"$f":"IFERROR(ROUND(VLOOKUP(CONCATENATE(E$5,$C11),'trend data'!$A$2:$O$11161,E$6,FALSE),3),\"-\")","v":1.4319999999999999},{"$f":"IFERROR(ROUND(VLOOKUP(CONCATENATE(F$5,$C11),'trend data'!$A$2:$O$11161,F$6,FALSE),3),\"-\")","v":1.1160000000000001},{"$f":"IFERROR(ROUND(VLOOKUP(CONCATENATE(G$5,$C11),'trend data'!$A$2:$O$11161,G$6,FALSE),3),\"-\")","v":1.835},{"$f":"IFERROR(VLOOKUP(CONCATENATE(H$5,$C11),'trend data'!$A$2:$O$11161,H$6,FALSE),\"-\")","v":12},{"$f":"IFERROR(ROUND(VLOOKUP(CONCATENATE(I$5,$C11),'trend data'!$A$2:$O$11161,I$6,FALSE),3),\"-\")","v":0.60799999999999998},{"$f":"IFERROR(ROUND(VLOOKUP(CONCATENATE(J$5,$C11),'trend data'!$A$2:$O$11161,J$6,FALSE),3),\"-\")","v":0.34799999999999998},{"$f":"IFERROR(ROUND(VLOOKUP(CONCATENATE(K$5,$C11),'trend data'!$A$2:$O$11161,K$6,FALSE),3),\"-\")","v":1.06},{"$f":"IFERROR(VLOOKUP(CONCATENATE(L$5,$C11),'trend data'!$A$2:$O$11161,L$6,FALSE),\"-\")","v":4261},{"$f":"IFERROR(VLOOKUP(CONCATENATE(M$5,$C11),'trend data'!$A$2:$O$11161,M$6,FALSE),\"-\")","v":1974},null,null,null,"201703",{"$f":"CONCATENATE(U$7,$Q11,'SSI Data and Charts'!B$1)","v":"SSICSEC201703Scotland"},3,"2017-09-24",{"$f":"ROUND(VLOOKUP($R11,'data for u-p-charts'!$A$2:$F$5000,U$5,FALSE),2)","v":{"$error":"#N/A"}},{"$f":"ROUND(VLOOKUP($R11,'data for u-p-charts'!$A$2:$F$5000,V$5,FALSE),2)","v":{"$error":"#N/A"}},{"$f":"ROUND(VLOOKUP($R11,'data for u-p-charts'!$A$2:$F$5000,W$5,FALSE),2)","v":{"$error":"#N/A"}},{"$f":"ROUND(VLOOKUP($R11,'data for u-p-charts'!$A$2:$F$5000,X$5,FALSE),2)","v":{"$error":"#N/A"}},{"$f":"CONCATENATE(Z$7,$Q11,'SSI Data and Charts'!$B$1)","v":"SSIHIP201703Scotland"},{"$f":"ROUND(VLOOKUP($Y11,'data for u-p-charts'!$A$2:$F$5000,Z$5,FALSE),2)","v":{"$error":"#N/A"}},{"$f":"ROUND(VLOOKUP($Y11,'data for u-p-charts'!$A$2:$F$5000,AA$5,FALSE),2)","v":{"$error":"#N/A"}},{"$f":"ROUND(VLOOKUP($Y11,'data for u-p-charts'!$A$2:$F$5000,AB$5,FALSE),2)","v":{"$error":"#N/A"}},{"$f":"ROUND(VLOOKUP($Y11,'data for u-p-charts'!$A$2:$F$5000,AC$5,FALSE),2)","v":{"$error":"#N/A"}}]
[201501,"2015-03-24",{"$f":"CONCATENATE(A12,'SSI Data and Charts'!B$1)","v":"201501Scotland"},{"$f":"IFERROR(VLOOKUP(CONCATENATE(D$5,$C12),'trend data'!$A$2:$O$11161,D$6,FALSE),\"-\")","v":47},{"$f":"IFERROR(ROUND(VLOOKUP(CONCATENATE(E$5,$C12),'trend data'!$A$2:$O$11161,E$6,FALSE),3),\"-\")","v":1.1850000000000001},{"$f":"IFERROR(ROUND(VLOOKUP(CONCATENATE(F$5,$C12),'trend data'!$A$2:$O$11161,F$6,FALSE),3),\"-\")","v":0.89200000000000002},{"$f":"IFERROR(ROUND(VLOOKUP(CONCATENATE(G$5,$C12),'trend data'!$A$2:$O$11161,G$6,FALSE),3),\"-\")","v":1.5720000000000001},{"$f":"IFERROR(VLOOKUP(CONCATENATE(H$5,$C12),'trend data'!$A$2:$O$11161,H$6,FALSE),\"-\")","v":18},{"$f":"IFERROR(ROUND(VLOOKUP(CONCATENATE(I$5,$C12),'trend data'!$A$2:$O$11161,I$6,FALSE),3),\"-\")","v":0.91900000000000004},{"$f":"IFERROR(ROUND(VLOOKUP(CONCATENATE(J$5,$C12),'trend data'!$A$2:$O$11161,J$6,FALSE),3),\"-\")","v":0.58199999999999996},{"$f":"IFERROR(ROUND(VLOOKUP(CONCATENATE(K$5,$C12),'trend data'!$A$2:$O$11161,K$6,FALSE),3),\"-\")","v":1.448},{"$f":"IFERROR(VLOOKUP(CONCATENATE(L$5,$C12),'trend data'!$A$2:$O$11161,L$6,FALSE),\"-\")","v":3966},{"$f":"IFERROR(VLOOKUP(CONCATENATE(M$5,$C12),'trend data'!$A$2:$O$11161,M$6,FALSE),\"-\")","v":1959},null,null,null,"201704",{"$f":"CONCATENATE(U$7,$Q12,'SSI Data and Charts'!B$1)","v":"SSICSEC201704Scotland"},4,"2017-12-25",{"$f":"ROUND(VLOOKUP($R12,'data for u-p-charts'!$A$2:$F$5000,U$5,FALSE),2)","v":1.56},{"$f":"ROUND(VLOOKUP($R12,'data for u-p-charts'!$A$2:$F$5000,V$5,FALSE),2)","v":1.34},{"$f":"ROUND(VLOOKUP($R12,'data for u-p-charts'!$A$2:$F$5000,W$5,FALSE),2)","v":1.7},{"$f":"ROUND(VLOOKUP($R12,'data for u-p-charts'!$A$2:$F$5000,X$5,FALSE),2)","v":1.87},{"$f":"CONCATENATE(Z$7,$Q12,'SSI Data and Charts'!$B$1)","v":"SSIHIP201704Scotland"},{"$f":"ROUND(VLOOKUP($Y12,'data for u-p-charts'!$A$2:$F$5000,Z$5,FALSE),2)","v":0.77},{"$f":"ROUND(VLOOKUP($Y12,'data for u-p-charts'!$A$2:$F$5000,AA$5,FALSE),2)","v":0.66},{"$f":"ROUND(VLOOKUP($Y12,'data for u-p-charts'!$A$2:$F$5000,AB$5,FALSE),2)","v":1.01},{"$f":"ROUND(VLOOKUP($Y12,'data for u-p-charts'!$A$2:$F$5000,AC$5,FALSE),2)","v":1.19}]
[201502,"2015-06-24",{"$f":"CONCATENATE(A13,'SSI Data and Charts'!B$1)","v":"201502Scotland"},{"$f":"IFERROR(VLOOKUP(CONCATENATE(D$5,$C13),'trend data'!$A$2:$O$11161,D$6,FALSE),\"-\")","v":56},{"$f":"IFERROR(ROUND(VLOOKUP(CONCATENATE(E$5,$C13),'trend data'!$A$2:$O$11161,E$6,FALSE),3),\"-\")","v":1.2849999999999999},{"$f":"IFERROR(ROUND(VLOOKUP(CONCATENATE(F$5,$C13),'trend data'!$A$2:$O$11161,F$6,FALSE),3),\"-\")","v":0.99099999999999999},{"$f":"IFERROR(ROUND(VLOOKUP(CONCATENATE(G$5,$C13),'trend data'!$A$2:$O$11161,G$6,FALSE),3),\"-\")","v":1.665},{"$f":"IFERROR(VLOOKUP(CONCATENATE(H$5,$C13),'trend data'!$A$2:$O$11161,H$6,FALSE),\"-\")","v":18},{"$f":"IFERROR(ROUND(VLOOKUP(CONCATENATE(I$5,$C13),'trend data'!$A$2:$O$11161,I$6,FALSE),3),\"-\")","v":0.83399999999999996},{"$f":"IFERROR(ROUND(VLOOKUP(CONCATENATE(J$5,$C13),'trend data'!$A$2:$O$11161,J$6,FALSE),3),\"-\")","v":0.52800000000000002},{"$f":"IFERROR(ROUND(VLOOKUP(CONCATENATE(K$5,$C13),'trend data'!$A$2:$O$11161,K$6,FALSE),3),\"-\")","v":1.3140000000000001},{"$f":"IFERROR(VLOOKUP(CONCATENATE(L$5,$C13),'trend data'!$A$2:$O$11161,L$6,FALSE),\"-\")","v":4358},{"$f":"IFERROR(VLOOKUP(CONCATENATE(M$5,$C13),'trend data'!$A$2:$O$11161,M$6,FALSE),\"-\")","v":2159},null,null,null,"201801",{"$f":"CONCATENATE(U$7,$Q13,'SSI Data and Charts'!B$1)","v":"SSICSEC201801Scotland"},5,"2018-03-27",{"$f":"ROUND(VLOOKUP($R13,'data for u-p-charts'!$A$2:$F$5000,U$5,FALSE),2)","v":1.61},{"$f":"ROUND(VLOOKUP($R13,'data for u-p-charts'!$A$2:$F$5000,V$5,FALSE),2)","v":1.34},{"$f":"ROUND(VLOOKUP($R13,'data for u-p-charts'!$A$2:$F$5000,W$5,FALSE),2)","v":1.71},{"$f":"ROUND(VLOOKUP($R13,'data for u-p-charts'!$A$2:$F$5000,X$5,FALSE),2)","v":1.89},{"$f":"CONCATENATE(Z$7,$Q13,'SSI Data and Charts'!$B$1)","v":"SSIHIP201801Scotland"},{"$f":"ROUND(VLOOKUP($Y13,'data for u-p-charts'!$A$2:$F$5000,Z$5,FALSE),2)","v":0.85},{"$f":"ROUND(VLOOKUP($Y13,'data for u-p-charts'!$A$2:$F$5000,AA$5,FALSE),2)","v":0.66},{"$f":"ROUND(VLOOKUP($Y13,'data for u-p-charts'!$A$2:$F$5000,AB$5,FALSE),2)","v":1.02},{"$f":"ROUND(VLOOKUP($Y13,'data for u-p-charts'!$A$2:$F$5000,AC$5,FALSE),2)","v":1.2}]
[201503,"2015-09-24",{"$f":"CONCATENATE(A14,'SSI Data and Charts'!B$1)","v":"201503Scotland"},{"$f":"IFERROR(VLOOKUP(CONCATENATE(D$5,$C14),'trend data'!$A$2:$O$11161,D$6,FALSE),\"-\")","v":56},{"$f":"IFERROR(ROUND(VLOOKUP(CONCATENATE(E$5,$C14),'trend data'!$A$2:$O$11161,E$6,FALSE),3),\"-\")","v":1.2410000000000001},{"$f":"IFERROR(ROUND(VLOOKUP(CONCATENATE(F$5,$C14),'trend data'!$A$2:$O$11161,F$6,FALSE),3),\"-\")","v":0.95699999999999996},{"$f":"IFERROR(ROUND(VLOOKUP(CONCATENATE(G$5,$C14),'trend data'!$A$2:$O$11161,G$6,FALSE),3),\"-\")","v":1.609},{"$f":"IFERROR(VLOOKUP(CONCATENATE(H$5,$C14),'trend data'!$A$2:$O$11161,H$6,FALSE),\"-\")","v":10},{"$f":"IFERROR(ROUND(VLOOKUP(CONCATENATE(I$5,$C14),'trend data'!$A$2:$O$11161,I$6,FALSE),3),\"-\")","v":0.46800000000000003},{"$f":"IFERROR(ROUND(VLOOKUP(CONCATENATE(J$5,$C14),'trend data'!$A$2:$O$11161,J$6,FALSE),3),\"-\")","v":0.255},{"$f":"IFERROR(ROUND(VLOOKUP(CONCATENATE(K$5,$C14),'trend data'!$A$2:$O$11161,K$6,FALSE),3),\"-\")","v":0.86},{"$f":"IFERROR(VLOOKUP(CONCATENATE(L$5,$C14),'trend data'!$A$2:$O$11161,L$6,FALSE),\"-\")","v":4511},{"$f":"IFERROR(VLOOKUP(CONCATENATE(M$5,$C14),'trend data'!$A$2:$O$11161,M$6,FALSE),\"-\")","v":2135},null,null,null,"201802",{"$f":"CONCATENATE(U$7,$Q14,'SSI Data and Charts'!B$1)","v":"SSICSEC201802Scotland"},6,"2018-06-27",{"$f":"ROUND(VLOOKUP($R14,'data for u-p-charts'!$A$2:$F$5000,U$5,FALSE),2)","v":1.46},{"$f":"ROUND(VLOOKUP($R14,'data for u-p-charts'!$A$2:$F$5000,V$5,FALSE),2)","v":1.34},{"$f":"ROUND(VLOOKUP($R14,'data for u-p-charts'!$A$2:$F$5000,W$5,FALSE),2)","v":1.7},{"$f":"ROUND(VLOOKUP($R14,'data for u-p-charts'!$A$2:$F$5000,X$5,FALSE),2)","v":1.88},{"$f":"CONCATENATE(Z$7,$Q14,'SSI Data and Charts'!$B$1)","v":"SSIHIP201802Scotland"},{"$f":"ROUND(VLOOKUP($Y14,'data for u-p-charts'!$A$2:$F$5000,Z$5,FALSE),2)","v":0.79},{"$f":"ROUND(VLOOKUP($Y14,'data for u-p-charts'!$A$2:$F$5000,AA$5,FALSE),2)","v":0.66},{"$f":"ROUND(VLOOKUP($Y14,'data for u-p-charts'!$A$2:$F$5000,AB$5,FALSE),2)","v":0.99},{"$f":"ROUND(VLOOKUP($Y14,'data for u-p-charts'!$A$2:$F$5000,AC$5,FALSE),2)","v":1.1599999999999999}]
[201504,"2015-12-24",{"$f":"CONCATENATE(A15,'SSI Data and Charts'!B$1)","v":"201504Scotland"},{"$f":"IFERROR(VLOOKUP(CONCATENATE(D$5,$C15),'trend data'!$A$2:$O$11161,D$6,FALSE),\"-\")","v":60},{"$f":"IFERROR(ROUND(VLOOKUP(CONCATENATE(E$5,$C15),'trend data'!$A$2:$O$11161,E$6,FALSE),3),\"-\")","v":1.395},{"$f":"IFERROR(ROUND(VLOOKUP(CONCATENATE(F$5,$C15),'trend data'!$A$2:$O$11161,F$6,FALSE),3),\"-\")","v":1.0860000000000001},{"$f":"IFERROR(ROUND(VLOOKUP(CONCATENATE(G$5,$C15),'trend data'!$A$2:$O$11161,G$6,FALSE),3),\"-\")","v":1.792},{"$f":"IFERROR(VLOOKUP(CONCATENATE(H$5,$C15),'trend data'!$A$2:$O$11161,H$6,FALSE),\"-\")","v":15},{"$f":"IFERROR(ROUND(VLOOKUP(CONCATENATE(I$5,$C15),'trend data'!$A$2:$O$11161,I$6,FALSE),3),\"-\")","v":0.68500000000000005},{"$f":"IFERROR(ROUND(VLOOKUP(CONCATENATE(J$5,$C15),'trend data'!$A$2:$O$11161,J$6,FALSE),3),\"-\")","v":0.41499999999999998},{"$f":"IFERROR(ROUND(VLOOKUP(CONCATENATE(K$5,$C15),'trend data'!$A$2:$O$11161,K$6,FALSE),3),\"-\")","v":1.127},{"$f":"IFERROR(VLOOKUP(CONCATENATE(L$5,$C15),'trend data'!$A$2:$O$11161,L$6,FALSE),\"-\")","v":4300},{"$f":"IFERROR(VLOOKUP(CONCATENATE(M$5,$C15),'trend data'!$A$2:$O$11161,M$6,FALSE),\"-\")","v":2191},null,null,null,"201803",{"$f":"CONCATENATE(U$7,$Q15,'SSI Data and Charts'!B$1)","v":"SSICSEC201803Scotland"},7,"2018-09-27",{"$f":"ROUND(VLOOKUP($R15,'data for u-p-charts'!$A$2:$F$5000,U$5,FALSE),2)","v":1.54},{"$f":"ROUND(VLOOKUP($R15,'data for u-p-charts'!$A$2:$F$5000,V$5,FALSE),2)","v":1.34},{"$f":"ROUND(VLOOKUP($R15,'data for u-p-charts'!$A$2:$F$5000,W$5,FALSE),2)","v":1.69},{"$f":"ROUND(VLOOKUP($R15,'data for u-p-charts'!$A$2:$F$5000,X$5,FALSE),2)","v":1.87},{"$f":"CONCATENATE(Z$7,$Q15,'SSI Data and Charts'!$B$1)","v":"SSIHIP201803Scotland"},{"$f":"ROUND(VLOOKUP($Y15,'data for u-p-charts'!$A$2:$F$5000,Z$5,FALSE),2)","v":0.6},{"$f":"ROUND(VLOOKUP($Y15,'data for u-p-charts'!$A$2:$F$5000,AA$5,FALSE),2)","v":0.66},{"$f":"ROUND(VLOOKUP($Y15,'data for u-p-charts'!$A$2:$F$5000,AB$5,FALSE),2)","v":1},{"$f":"ROUND(VLOOKUP($Y15,'data for u-p-charts'!$A$2:$F$5000,AC$5,FALSE),2)","v":1.18}]
[201601,"2016-03-24",{"$f":"CONCATENATE(A16,'SSI Data and Charts'!B$1)","v":"201601Scotland"},{"$f":"IFERROR(VLOOKUP(CONCATENATE(D$5,$C16),'trend data'!$A$2:$O$11161,D$6,FALSE),\"-\")","v":58},{"$f":"IFERROR(ROUND(VLOOKUP(CONCATENATE(E$5,$C16),'trend data'!$A$2:$O$11161,E$6,FALSE),3),\"-\")","v":1.4419999999999999},{"$f":"IFERROR(ROUND(VLOOKUP(CONCATENATE(F$5,$C16),'trend data'!$A$2:$O$11161,F$6,FALSE),3),\"-\")","v":1.117},{"$f":"IFERROR(ROUND(VLOOKUP(CONCATENATE(G$5,$C16),'trend data'!$A$2:$O$11161,G$6,FALSE),3),\"-\")","v":1.859},{"$f":"IFERROR(VLOOKUP(CONCATENATE(H$5,$C16),'trend data'!$A$2:$O$11161,H$6,FALSE),\"-\")","v":7},{"$f":"IFERROR(ROUND(VLOOKUP(CONCATENATE(I$5,$C16),'trend data'!$A$2:$O$11161,I$6,FALSE),3),\"-\")","v":0.32200000000000001},{"$f":"IFERROR(ROUND(VLOOKUP(CONCATENATE(J$5,$C16),'trend data'!$A$2:$O$11161,J$6,FALSE),3),\"-\")","v":0.156},{"$f":"IFERROR(ROUND(VLOOKUP(CONCATENATE(K$5,$C16),'trend data'!$A$2:$O$11161,K$6,FALSE),3),\"-\")","v":0.66300000000000003},{"$f":"IFERROR(VLOOKUP(CONCATENATE(L$5,$C16),'trend data'!$A$2:$O$11161,L$6,FALSE),\"-\")","v":4023},{"$f":"IFERROR(VLOOKUP(CONCATENATE(M$5,$C16),'trend data'!$A$2:$O$11161,M$6,FALSE),\"-\")","v":2173},null,null,null,"201804",{"$f":"CONCATENATE(U$7,$Q16,'SSI Data and Charts'!B$1)","v":"SSICSEC201804Scotland"},8,"2018-12-28",{"$f":"ROUND(VLOOKUP($R16,'data for u-p-charts'!$A$2:$F$5000,U$5,FALSE),2)","v":1.36},{"$f":"ROUND(VLOOKUP($R16,'data for u-p-charts'!$A$2:$F$5000,V$5,FALSE),2)","v":1.34},{"$f":"ROUND(VLOOKUP($R16,'data for u-p-charts'!$A$2:$F$5000,W$5,FALSE),2)","v":1.69},{"$f":"ROUND(VLOOKUP($R16,'data for u-p-charts'!$A$2:$F$5000,X$5,FALSE),2)","v":1.87},{"$f":"CONCATENATE(Z$7,$Q16,'SSI Data and Charts'!$B$1)","v":"SSIHIP201804Scotland"},{"$f":"ROUND(VLOOKUP($Y16,'data for u-p-charts'!$A$2:$F$5000,Z$5,FALSE),2)","v":0.7},{"$f":"ROUND(VLOOKUP($Y16,'data for u-p-charts'!$A$2:$F$5000,AA$5,FALSE),2)","v":0.66},{"$f":"ROUND(VLOOKUP($Y16,'data for u-p-charts'!$A$2:$F$5000,AB$5,FALSE),2)","v":0.99},{"$f":"ROUND(VLOOKUP($Y16,'data for u-p-charts'!$A$2:$F$5000,AC$5,FALSE),2)","v":1.1599999999999999}]
[201602,"2016-06-24",{"$f":"CONCATENATE(A17,'SSI Data and Charts'!B$1)","v":"201602Scotland"},{"$f":"IFERROR(VLOOKUP(CONCATENATE(D$5,$C17),'trend data'!$A$2:$O$11161,D$6,FALSE),\"-\")","v":78},{"$f":"IFERROR(ROUND(VLOOKUP(CONCATENATE(E$5,$C17),'trend data'!$A$2:$O$11161,E$6,FALSE),3),\"-\")","v":1.754},{"$f":"IFERROR(ROUND(VLOOKUP(CONCATENATE(F$5,$C17),'trend data'!$A$2:$O$11161,F$6,FALSE),3),\"-\")","v":1.407},{"$f":"IFERROR(ROUND(VLOOKUP(CONCATENATE(G$5,$C17),'trend data'!$A$2:$O$11161,G$6,FALSE),3),\"-\")","v":2.1829999999999998},{"$f":"IFERROR(VLOOKUP(CONCATENATE(H$5,$C17),'trend data'!$A$2:$O$11161,H$6,FALSE),\"-\")","v":17},{"$f":"IFERROR(ROUND(VLOOKUP(CONCATENATE(I$5,$C17),'trend data'!$A$2:$O$11161,I$6,FALSE),3),\"-\")","v":0.73299999999999998},{"$f":"IFERROR(ROUND(VLOOKUP(CONCATENATE(J$5,$C17),'trend data'!$A$2:$O$11161,J$6,FALSE),3),\"-\")","v":0.45800000000000002},{"$f":"IFERROR(ROUND(VLOOKUP(CONCATENATE(K$5,$C17),'trend data'!$A$2:$O$11161,K$6,FALSE),3),\"-\")","v":1.171},{"$f":"IFERROR(VLOOKUP(CONCATENATE(L$5,$C17),'trend data'!$A$2:$O$11161,L$6,FALSE),\"-\")","v":4448},{"$f":"IFERROR(VLOOKUP(CONCATENATE(M$5,$C17),'trend data'!$A$2:$O$11161,M$6,FALSE),\"-\")","v":2318},null,null,null,"201901",{"$f":"CONCATENATE(U$7,$Q17,'SSI Data and Charts'!B$1)","v":"SSICSEC201901Scotland"},9,"2019-03-30",{"$f":"ROUND(VLOOKUP($R17,'data for u-p-charts'!$A$2:$F$5000,U$5,FALSE),2)","v":1.58},{"$f":"ROUND(VLOOKUP($R17,'data for u-p-charts'!$A$2:$F$5000,V$5,FALSE),2)","v":1.34},{"$f":"ROUND(VLOOKUP($R17,'data for u-p-charts'!$A$2:$F$5000,W$5,FALSE),2)","v":1.7},{"$f":"ROUND(VLOOKUP($R17,'data for u-p-charts'!$A$2:$F$5000,X$5,FALSE),2)","v":1.89},{"$f":"CONCATENATE(Z$7,$Q17,'SSI Data and Charts'!$B$1)","v":"SSIHIP201901Scotland"},{"$f":"ROUND(VLOOKUP($Y17,'data for u-p-charts'!$A$2:$F$5000,Z$5,FALSE),2)","v":0.37},{"$f":"ROUND(VLOOKUP($Y17,'data for u-p-charts'!$A$2:$F$5000,AA$5,FALSE),2)","v":0.66},{"$f":"ROUND(VLOOKUP($Y17,'data for u-p-charts'!$A$2:$F$5000,AB$5,FALSE),2)","v":1},{"$f":"ROUND(VLOOKUP($Y17,'data for u-p-charts'!$A$2:$F$5000,AC$5,FALSE),2)","v":1.18}]
[201603,"2016-09-24",{"$f":"CONCATENATE(A18,'SSI Data and Charts'!B$1)","v":"201603Scotland"},{"$f":"IFERROR(VLOOKUP(CONCATENATE(D$5,$C18),'trend data'!$A$2:$O$11161,D$6,FALSE),\"-\")","v":71},{"$f":"IFERROR(ROUND(VLOOKUP(CONCATENATE(E$5,$C18),'trend data'!$A$2:$O$11161,E$6,FALSE),3),\"-\")","v":1.597},{"$f":"IFERROR(ROUND(VLOOKUP(CONCATENATE(F$5,$C18),'trend data'!$A$2:$O$11161,F$6,FALSE),3),\"-\")","v":1.268},{"$f":"IFERROR(ROUND(VLOOKUP(CONCATENATE(G$5,$C18),'trend data'!$A$2:$O$11161,G$6,FALSE),3),\"-\")","v":2.0089999999999999},{"$f":"IFERROR(VLOOKUP(CONCATENATE(H$5,$C18),'trend data'!$A$2:$O$11161,H$6,FALSE),\"-\")","v":14},{"$f":"IFERROR(ROUND(VLOOKUP(CONCATENATE(I$5,$C18),'trend data'!$A$2:$O$11161,I$6,FALSE),3),\"-\")","v":0.65},{"$f":"IFERROR(ROUND(VLOOKUP(CONCATENATE(J$5,$C18),'trend data'!$A$2:$O$11161,J$6,FALSE),3),\"-\")","v":0.38800000000000001},{"$f":"IFERROR(ROUND(VLOOKUP(CONCATENATE(K$5,$C18),'trend data'!$A$2:$O$11161,K$6,FALSE),3),\"-\")","v":1.089},{"$f":"IFERROR(VLOOKUP(CONCATENATE(L$5,$C18),'trend data'!$A$2:$O$11161,L$6,FALSE),\"-\")","v":4446},{"$f":"IFERROR(VLOOKUP(CONCATENATE(M$5,$C18),'trend data'!$A$2:$O$11161,M$6,FALSE),\"-\")","v":2153},null,null,null,"201902",{"$f":"CONCATENATE(U$7,$Q18,'SSI Data and Charts'!B$1)","v":"SSICSEC201902Scotland"},10,"2019-06-30",{"$f":"ROUND(VLOOKUP($R18,'data for u-p-charts'!$A$2:$F$5000,U$5,FALSE),2)","v":1.04},{"$f":"ROUND(VLOOKUP($R18,'data for u-p-charts'!$A$2:$F$5000,V$5,FALSE),2)","v":1.34},{"$f":"ROUND(VLOOKUP($R18,'data for u-p-charts'!$A$2:$F$5000,W$5,FALSE),2)","v":1.7},{"$f":"ROUND(VLOOKUP($R18,'data for u-p-charts'!$A$2:$F$5000,X$5,FALSE),2)","v":1.88},{"$f":"CONCATENATE(Z$7,$Q18,'SSI Data and Charts'!$B$1)","v":"SSIHIP201902Scotland"},{"$f":"ROUND(VLOOKUP($Y18,'data for u-p-charts'!$A$2:$F$5000,Z$5,FALSE),2)","v":0.44},{"$f":"ROUND(VLOOKUP($Y18,'data for u-p-charts'!$A$2:$F$5000,AA$5,FALSE),2)","v":0.66},{"$f":"ROUND(VLOOKUP($Y18,'data for u-p-charts'!$A$2:$F$5000,AB$5,FALSE),2)","v":0.99},{"$f":"ROUND(VLOOKUP($Y18,'data for u-p-charts'!$A$2:$F$5000,AC$5,FALSE),2)","v":1.1599999999999999}]
[201604,"2016-12-24",{"$f":"CONCATENATE(A19,'SSI Data and Charts'!B$1)","v":"201604Scotland"},{"$f":"IFERROR(VLOOKUP(CONCATENATE(D$5,$C19),'trend data'!$A$2:$O$11161,D$6,FALSE),\"-\")","v":51},{"$f":"IFERROR(ROUND(VLOOKUP(CONCATENATE(E$5,$C19),'trend data'!$A$2:$O$11161,E$6,FALSE),3),\"-\")","v":1.198},{"$f":"IFERROR(ROUND(VLOOKUP(CONCATENATE(F$5,$C19),'trend data'!$A$2:$O$11161,F$6,FALSE),3),\"-\")","v":0.91200000000000003},{"$f":"IFERROR(ROUND(VLOOKUP(CONCATENATE(G$5,$C19),'trend data'!$A$2:$O$11161,G$6,FALSE),3),\"-\")","v":1.571},{"$f":"IFERROR(VLOOKUP(CONCATENATE(H$5,$C19),'trend data'!$A$2:$O$11161,H$6,FALSE),\"-\")","v":17},{"$f":"IFERROR(ROUND(VLOOKUP(CONCATENATE(I$5,$C19),'trend data'!$A$2:$O$11161,I$6,FALSE),3),\"-\")","v":0.76400000000000001},{"$f":"IFERROR(ROUND(VLOOKUP(CONCATENATE(J$5,$C19),'trend data'!$A$2:$O$11161,J$6,FALSE),3),\"-\")","v":0.47699999999999998},{"$f":"IFERROR(ROUND(VLOOKUP(CONCATENATE(K$5,$C19),'trend data'!$A$2:$O$11161,K$6,FALSE),3),\"-\")","v":1.22},{"$f":"IFERROR(VLOOKUP(CONCATENATE(L$5,$C19),'trend data'!$A$2:$O$11161,L$6,FALSE),\"-\")","v":4258},{"$f":"IFERROR(VLOOKUP(CONCATENATE(M$5,$C19),'trend data'!$A$2:$O$11161,M$6,FALSE),\"-\")","v":2226},null,null,null,"201903",{"$f":"CONCATENATE(U$7,$Q19,'SSI Data and Charts'!B$1)","v":"SSICSEC201903Scotland"},11,{"$f":"T20-92","v":"2019-09-30"},{"$f":"ROUND(VLOOKUP($R19,'data for u-p-charts'!$A$2:$F$5000,U$5,FALSE),2)","v":1.1599999999999999},{"$f":"ROUND(VLOOKUP($R19,'data for u-p-charts'!$A$2:$F$5000,V$5,FALSE),2)","v":1.34},{"$f":"ROUND(VLOOKUP($R19,'data for u-p-charts'!$A$2:$F$5000,W$5,FALSE),2)","v":1.69},{"$f":"ROUND(VLOOKUP($R19,'data for u-p-charts'!$A$2:$F$5000,X$5,FALSE),2)","v":1.86},{"$f":"CONCATENATE(Z$7,$Q19,'SSI Data and Charts'!$B$1)","v":"SSIHIP201903Scotland"},{"$f":"ROUND(VLOOKUP($Y19,'data for u-p-charts'!$A$2:$F$5000,Z$5,FALSE),2)","v":0.8},{"$f":"ROUND(VLOOKUP($Y19,'data for u-p-charts'!$A$2:$F$5000,AA$5,FALSE),2)","v":0.66},{"$f":"ROUND(VLOOKUP($Y19,'data for u-p-charts'!$A$2:$F$5000,AB$5,FALSE),2)","v":1.01},{"$f":"ROUND(VLOOKUP($Y19,'data for u-p-charts'!$A$2:$F$5000,AC$5,FALSE),2)","v":1.18}]
[201701,"2017-03-01",{"$f":"CONCATENATE(A20,'SSI Data and Charts'!B$1)","v":"201701Scotland"},{"$f":"IFERROR(VLOOKUP(CONCATENATE(D$5,$C20),'trend data'!$A$2:$O$11161,D$6,FALSE),\"-\")","v":58},{"$f":"IFERROR(ROUND(VLOOKUP(CONCATENATE(E$5,$C20),'trend data'!$A$2:$O$11161,E$6,FALSE),3),\"-\")","v":1.4330000000000001},{"$f":"IFERROR(ROUND(VLOOKUP(CONCATENATE(F$5,$C20),'trend data'!$A$2:$O$11161,F$6,FALSE),3),\"-\")","v":1.1100000000000001},{"$f":"IFERROR(ROUND(VLOOKUP(CONCATENATE(G$5,$C20),'trend data'!$A$2:$O$11161,G$6,FALSE),3),\"-\")","v":1.8480000000000001},{"$f":"IFERROR(VLOOKUP(CONCATENATE(H$5,$C20),'trend data'!$A$2:$O$11161,H$6,FALSE),\"-\")","v":12},{"$f":"IFERROR(ROUND(VLOOKUP(CONCATENATE(I$5,$C20),'trend data'!$A$2:$O$11161,I$6,FALSE),3),\"-\")","v":0.55500000000000005},{"$f":"IFERROR(ROUND(VLOOKUP(CONCATENATE(J$5,$C20),'trend data'!$A$2:$O$11161,J$6,FALSE),3),\"-\")","v":0.317},{"$f":"IFERROR(ROUND(VLOOKUP(CONCATENATE(K$5,$C20),'trend data'!$A$2:$O$11161,K$6,FALSE),3),\"-\")","v":0.96699999999999997},{"$f":"IFERROR(VLOOKUP(CONCATENATE(L$5,$C20),'trend data'!$A$2:$O$11161,L$6,FALSE),\"-\")","v":4047},{"$f":"IFERROR(VLOOKUP(CONCATENATE(M$5,$C20),'trend data'!$A$2:$O$11161,M$6,FALSE),\"-\")","v":2164},null,null,null,"201904",{"$f":"CONCATENATE(U$7,$Q20,'SSI Data and Charts'!B$1)","v":"SSICSEC201904Scotland"},12,{"$f":"T5","v":"2019-12-31"},{"$f":"ROUND(VLOOKUP($R20,'data for u-p-charts'!$A$2:$F$5000,U$5,FALSE),2)","v":0.85},{"$f":"ROUND(VLOOKUP($R20,'data for u-p-charts'!$A$2:$F$5000,V$5,FALSE),2)","v":1.34},{"$f":"ROUND(VLOOKUP($R20,'data for u-p-charts'!$A$2:$F$5000,W$5,FALSE),2)","v":1.7},{"$f":"ROUND(VLOOKUP($R20,'data for u-p-charts'!$A$2:$F$5000,X$5,FALSE),2)","v":1.88},{"$f":"CONCATENATE(Z$7,$Q20,'SSI Data and Charts'!$B$1)","v":"SSIHIP201904Scotland"},{"$f":"ROUND(VLOOKUP($Y20,'data for u-p-charts'!$A$2:$F$5000,Z$5,FALSE),2)","v":0.79},{"$f":"ROUND(VLOOKUP($Y20,'data for u-p-charts'!$A$2:$F$5000,AA$5,FALSE),2)","v":0.66},{"$f":"ROUND(VLOOKUP($Y20,'data for u-p-charts'!$A$2:$F$5000,AB$5,FALSE),2)","v":1},{"$f":"ROUND(VLOOKUP($Y20,'data for u-p-charts'!$A$2:$F$5000,AC$5,FALSE),2)","v":1.18}]
[201702,"2017-06-01",{"$f":"CONCATENATE(A21,'SSI Data and Charts'!B$1)","v":"201702Scotland"},{"$f":"IFERROR(VLOOKUP(CONCATENATE(D$5,$C21),'trend data'!$A$2:$O$11161,D$6,FALSE),\"-\")","v":51},{"$f":"IFERROR(ROUND(VLOOKUP(CONCATENATE(E$5,$C21),'trend data'!$A$2:$O$11161,E$6,FALSE),3),\"-\")","v":1.2390000000000001},{"$f":"IFERROR(ROUND(VLOOKUP(CONCATENATE(F$5,$C21),'trend data'!$A$2:$O$11161,F$6,FALSE),3),\"-\")","v":0.94399999999999995},{"$f":"IFERROR(ROUND(VLOOKUP(CONCATENATE(G$5,$C21),'trend data'!$A$2:$O$11161,G$6,FALSE),3),\"-\")","v":1.6259999999999999},{"$f":"IFERROR(VLOOKUP(CONCATENATE(H$5,$C21),'trend data'!$A$2:$O$11161,H$6,FALSE),\"-\")","v":19},{"$f":"IFERROR(ROUND(VLOOKUP(CONCATENATE(I$5,$C21),'trend data'!$A$2:$O$11161,I$6,FALSE),3),\"-\")","v":0.82599999999999996},{"$f":"IFERROR(ROUND(VLOOKUP(CONCATENATE(J$5,$C21),'trend data'!$A$2:$O$11161,J$6,FALSE),3),\"-\")","v":0.52900000000000003},{"$f":"IFERROR(ROUND(VLOOKUP(CONCATENATE(K$5,$C21),'trend data'!$A$2:$O$11161,K$6,FALSE),3),\"-\")","v":1.286},{"$f":"IFERROR(VLOOKUP(CONCATENATE(L$5,$C21),'trend data'!$A$2:$O$11161,L$6,FALSE),\"-\")","v":4115},{"$f":"IFERROR(VLOOKUP(CONCATENATE(M$5,$C21),'trend data'!$A$2:$O$11161,M$6,FALSE),\"-\")","v":2301}]
[201703,"2017-09-01",{"$f":"CONCATENATE(A22,'SSI Data and Charts'!B$1)","v":"201703Scotland"},{"$f":"IFERROR(VLOOKUP(CONCATENATE(D$5,$C22),'trend data'!$A$2:$O$11161,D$6,FALSE),\"-\")","v":58},{"$f":"IFERROR(ROUND(VLOOKUP(CONCATENATE(E$5,$C22),'trend data'!$A$2:$O$11161,E$6,FALSE),3),\"-\")","v":1.2849999999999999},{"$f":"IFERROR(ROUND(VLOOKUP(CONCATENATE(F$5,$C22),'trend data'!$A$2:$O$11161,F$6,FALSE),3),\"-\")","v":0.995},{"$f":"IFERROR(ROUND(VLOOKUP(CONCATENATE(G$5,$C22),'trend data'!$A$2:$O$11161,G$6,FALSE),3),\"-\")","v":1.657},{"$f":"IFERROR(VLOOKUP(CONCATENATE(H$5,$C22),'trend data'!$A$2:$O$11161,H$6,FALSE),\"-\")","v":9},{"$f":"IFERROR(ROUND(VLOOKUP(CONCATENATE(I$5,$C22),'trend data'!$A$2:$O$11161,I$6,FALSE),3),\"-\")","v":0.433},{"$f":"IFERROR(ROUND(VLOOKUP(CONCATENATE(J$5,$C22),'trend data'!$A$2:$O$11161,J$6,FALSE),3),\"-\")","v":0.22800000000000001},{"$f":"IFERROR(ROUND(VLOOKUP(CONCATENATE(K$5,$C22),'trend data'!$A$2:$O$11161,K$6,FALSE),3),\"-\")","v":0.82199999999999995},{"$f":"IFERROR(VLOOKUP(CONCATENATE(L$5,$C22),'trend data'!$A$2:$O$11161,L$6,FALSE),\"-\")","v":4514},{"$f":"IFERROR(VLOOKUP(CONCATENATE(M$5,$C22),'trend data'!$A$2:$O$11161,M$6,FALSE),\"-\")","v":2077}]
[201704,"2017-12-01",{"$f":"CONCATENATE(A23,'SSI Data and Charts'!B$1)","v":"201704Scotland"},{"$f":"IFERROR(VLOOKUP(CONCATENATE(D$5,$C23),'trend data'!$A$2:$O$11161,D$6,FALSE),\"-\")","v":66},{"$f":"IFERROR(ROUND(VLOOKUP(CONCATENATE(E$5,$C23),'trend data'!$A$2:$O$11161,E$6,FALSE),3),\"-\")","v":1.5629999999999999},{"$f":"IFERROR(ROUND(VLOOKUP(CONCATENATE(F$5,$C23),'trend data'!$A$2:$O$11161,F$6,FALSE),3),\"-\")","v":1.23},{"$f":"IFERROR(ROUND(VLOOKUP(CONCATENATE(G$5,$C23),'trend data'!$A$2:$O$11161,G$6,FALSE),3),\"-\")","v":1.9830000000000001},{"$f":"IFERROR(VLOOKUP(CONCATENATE(H$5,$C23),'trend data'!$A$2:$O$11161,H$6,FALSE),\"-\")","v":16},{"$f":"IFERROR(ROUND(VLOOKUP(CONCATENATE(I$5,$C23),'trend data'!$A$2:$O$11161,I$6,FALSE),3),\"-\")","v":0.77300000000000002},{"$f":"IFERROR(ROUND(VLOOKUP(CONCATENATE(J$5,$C23),'trend data'!$A$2:$O$11161,J$6,FALSE),3),\"-\")","v":0.47599999999999998},{"$f":"IFERROR(ROUND(VLOOKUP(CONCATENATE(K$5,$C23),'trend data'!$A$2:$O$11161,K$6,FALSE),3),\"-\")","v":1.2509999999999999},{"$f":"IFERROR(VLOOKUP(CONCATENATE(L$5,$C23),'trend data'!$A$2:$O$11161,L$6,FALSE),\"-\")","v":4224},{"$f":"IFERROR(VLOOKUP(CONCATENATE(M$5,$C23),'trend data'!$A$2:$O$11161,M$6,FALSE),\"-\")","v":2071}]
[201801,"2018-03-01",{"$f":"CONCATENATE(A24,'SSI Data and Charts'!B$1)","v":"201801Scotland"},{"$f":"IFERROR(VLOOKUP(CONCATENATE(D$5,$C24),'trend data'!$A$2:$O$11161,D$6,FALSE),\"-\")","v":64},{"$f":"IFERROR(ROUND(VLOOKUP(CONCATENATE(E$5,$C24),'trend data'!$A$2:$O$11161,E$6,FALSE),3),\"-\")","v":1.61},{"$f":"IFERROR(ROUND(VLOOKUP(CONCATENATE(F$5,$C24),'trend data'!$A$2:$O$11161,F$6,FALSE),3),\"-\")","v":1.2629999999999999},{"$f":"IFERROR(ROUND(VLOOKUP(CONCATENATE(G$5,$C24),'trend data'!$A$2:$O$11161,G$6,FALSE),3),\"-\")","v":2.0510000000000002},{"$f":"IFERROR(VLOOKUP(CONCATENATE(H$5,$C24),'trend data'!$A$2:$O$11161,H$6,FALSE),\"-\")","v":17},{"$f":"IFERROR(ROUND(VLOOKUP(CONCATENATE(I$5,$C24),'trend data'!$A$2:$O$11161,I$6,FALSE),3),\"-\")","v":0.84699999999999998},{"$f":"IFERROR(ROUND(VLOOKUP(CONCATENATE(J$5,$C24),'trend data'!$A$2:$O$11161,J$6,FALSE),3),\"-\")","v":0.52900000000000003},{"$f":"IFERROR(ROUND(VLOOKUP(CONCATENATE(K$5,$C24),'trend data'!$A$2:$O$11161,K$6,FALSE),3),\"-\")","v":1.3520000000000001},{"$f":"IFERROR(VLOOKUP(CONCATENATE(L$5,$C24),'trend data'!$A$2:$O$11161,L$6,FALSE),\"-\")","v":3975},{"$f":"IFERROR(VLOOKUP(CONCATENATE(M$5,$C24),'trend data'!$A$2:$O$11161,M$6,FALSE),\"-\")","v":2008}]
[201802,"2018-06-01",{"$f":"CONCATENATE(A25,'SSI Data and Charts'!B$1)","v":"201802Scotland"},{"$f":"IFERROR(VLOOKUP(CONCATENATE(D$5,$C25),'trend data'!$A$2:$O$11161,D$6,FALSE),\"-\")","v":61},{"$f":"IFERROR(ROUND(VLOOKUP(CONCATENATE(E$5,$C25),'trend data'!$A$2:$O$11161,E$6,FALSE),3),\"-\")","v":1.4550000000000001},{"$f":"IFERROR(ROUND(VLOOKUP(CONCATENATE(F$5,$C25),'trend data'!$A$2:$O$11161,F$6,FALSE),3),\"-\")","v":1.135},{"$f":"IFERROR(ROUND(VLOOKUP(CONCATENATE(G$5,$C25),'trend data'!$A$2:$O$11161,G$6,FALSE),3),\"-\")","v":1.865},{"$f":"IFERROR(VLOOKUP(CONCATENATE(H$5,$C25),'trend data'!$A$2:$O$11161,H$6,FALSE),\"-\")","v":18},{"$f":"IFERROR(ROUND(VLOOKUP(CONCATENATE(I$5,$C25),'trend data'!$A$2:$O$11161,I$6,FALSE),3),\"-\")","v":0.79300000000000004},{"$f":"IFERROR(ROUND(VLOOKUP(CONCATENATE(J$5,$C25),'trend data'!$A$2:$O$11161,J$6,FALSE),3),\"-\")","v":0.502},{"$f":"IFERROR(ROUND(VLOOKUP(CONCATENATE(K$5,$C25),'trend data'!$A$2:$O$11161,K$6,FALSE),3),\"-\")","v":1.25},{"$f":"IFERROR(VLOOKUP(CONCATENATE(L$5,$C25),'trend data'!$A$2:$O$11161,L$6,FALSE),\"-\")","v":4191},{"$f":"IFERROR(VLOOKUP(CONCATENATE(M$5,$C25),'trend data'!$A$2:$O$11161,M$6,FALSE),\"-\")","v":2270}]
[201803,"2018-09-01",{"$f":"CONCATENATE(A26,'SSI Data and Charts'!B$1)","v":"201803Scotland"},{"$f":"IFERROR(VLOOKUP(CONCATENATE(D$5,$C26),'trend data'!$A$2:$O$11161,D$6,FALSE),\"-\")","v":66},{"$f":"IFERROR(ROUND(VLOOKUP(CONCATENATE(E$5,$C26),'trend data'!$A$2:$O$11161,E$6,FALSE),3),\"-\")","v":1.5369999999999999},{"$f":"IFERROR(ROUND(VLOOKUP(CONCATENATE(F$5,$C26),'trend data'!$A$2:$O$11161,F$6,FALSE),3),\"-\")","v":1.21},{"$f":"IFERROR(ROUND(VLOOKUP(CONCATENATE(G$5,$C26),'trend data'!$A$2:$O$11161,G$6,FALSE),3),\"-\")","v":1.9510000000000001},{"$f":"IFERROR(VLOOKUP(CONCATENATE(H$5,$C26),'trend data'!$A$2:$O$11161,H$6,FALSE),\"-\")","v":13},{"$f":"IFERROR(ROUND(VLOOKUP(CONCATENATE(I$5,$C26),'trend data'!$A$2:$O$11161,I$6,FALSE),3),\"-\")","v":0.60299999999999998},{"$f":"IFERROR(ROUND(VLOOKUP(CONCATENATE(J$5,$C26),'trend data'!$A$2:$O$11161,J$6,FALSE),3),\"-\")","v":0.35299999999999998},{"$f":"IFERROR(ROUND(VLOOKUP(CONCATENATE(K$5,$C26),'trend data'!$A$2:$O$11161,K$6,FALSE),3),\"-\")","v":1.0289999999999999},{"$f":"IFERROR(VLOOKUP(CONCATENATE(L$5,$C26),'trend data'!$A$2:$O$11161,L$6,FALSE),\"-\")","v":4293},{"$f":"IFERROR(VLOOKUP(CONCATENATE(M$5,$C26),'trend data'!$A$2:$O$11161,M$6,FALSE),\"-\")","v":2155}]
[201804,"2018-12-01",{"$f":"CONCATENATE(A27,'SSI Data and Charts'!B$1)","v":"201804Scotland"},{"$f":"IFERROR(VLOOKUP(CONCATENATE(D$5,$C27),'trend data'!$A$2:$O$11161,D$6,FALSE),\"-\")","v":59},{"$f":"IFERROR(ROUND(VLOOKUP(CONCATENATE(E$5,$C27),'trend data'!$A$2:$O$11161,E$6,FALSE),3),\"-\")","v":1.3580000000000001},{"$f":"IFERROR(ROUND(VLOOKUP(CONCATENATE(F$5,$C27),'trend data'!$A$2:$O$11161,F$6,FALSE),3),\"-\")","v":1.054},{"$f":"IFERROR(ROUND(VLOOKUP(CONCATENATE(G$5,$C27),'trend data'!$A$2:$O$11161,G$6,FALSE),3),\"-\")","v":1.7470000000000001},{"$f":"IFERROR(VLOOKUP(CONCATENATE(H$5,$C27),'trend data'!$A$2:$O$11161,H$6,FALSE),\"-\")","v":16},{"$f":"IFERROR(ROUND(VLOOKUP(CONCATENATE(I$5,$C27),'trend data'!$A$2:$O$11161,I$6,FALSE),3),\"-\")","v":0.70299999999999996},{"$f":"IFERROR(ROUND(VLOOKUP(CONCATENATE(J$5,$C27),'trend data'!$A$2:$O$11161,J$6,FALSE),3),\"-\")","v":0.433},{"$f":"IFERROR(ROUND(VLOOKUP(CONCATENATE(K$5,$C27),'trend data'!$A$2:$O$11161,K$6,FALSE),3),\"-\")","v":1.139},{"$f":"IFERROR(VLOOKUP(CONCATENATE(L$5,$C27),'trend data'!$A$2:$O$11161,L$6,FALSE),\"-\")","v":4346},{"$f":"IFERROR(VLOOKUP(CONCATENATE(M$5,$C27),'trend data'!$A$2:$O$11161,M$6,FALSE),\"-\")","v":2276}]
[201901,"2019-03-01",{"$f":"CONCATENATE(A28,'SSI Data and Charts'!B$1)","v":"201901Scotland"},{"$f":"IFERROR(VLOOKUP(CONCATENATE(D$5,$C28),'trend data'!$A$2:$O$11161,D$6,FALSE),\"-\")","v":64},{"$f":"IFERROR(ROUND(VLOOKUP(CONCATENATE(E$5,$C28),'trend data'!$A$2:$O$11161,E$6,FALSE),3),\"-\")","v":1.58},{"$f":"IFERROR(ROUND(VLOOKUP(CONCATENATE(F$5,$C28),'trend data'!$A$2:$O$11161,F$6,FALSE),3),\"-\")","v":1.2390000000000001},{"$f":"IFERROR(ROUND(VLOOKUP(CONCATENATE(G$5,$C28),'trend data'!$A$2:$O$11161,G$6,FALSE),3),\"-\")","v":2.012},{"$f":"IFERROR(VLOOKUP(CONCATENATE(H$5,$C28),'trend data'!$A$2:$O$11161,H$6,FALSE),\"-\")","v":8},{"$f":"IFERROR(ROUND(VLOOKUP(CONCATENATE(I$5,$C28),'trend data'!$A$2:$O$11161,I$6,FALSE),3),\"-\")","v":0.373},{"$f":"IFERROR(ROUND(VLOOKUP(CONCATENATE(J$5,$C28),'trend data'!$A$2:$O$11161,J$6,FALSE),3),\"-\")","v":0.189},{"$f":"IFERROR(ROUND(VLOOKUP(CONCATENATE(K$5,$C28),'trend data'!$A$2:$O$11161,K$6,FALSE),3),\"-\")","v":0.73399999999999999},{"$f":"IFERROR(VLOOKUP(CONCATENATE(L$5,$C28),'trend data'!$A$2:$O$11161,L$6,FALSE),\"-\")","v":4051},{"$f":"IFERROR(VLOOKUP(CONCATENATE(M$5,$C28),'trend data'!$A$2:$O$11161,M$6,FALSE),\"-\")","v":2146}]
[201902,"2019-06-01",{"$f":"CONCATENATE(A29,'SSI Data and Charts'!B$1)","v":"201902Scotland"},{"$f":"IFERROR(VLOOKUP(CONCATENATE(D$5,$C29),'trend data'!$A$2:$O$11161,D$6,FALSE),\"-\")","v":43},{"$f":"IFERROR(ROUND(VLOOKUP(CONCATENATE(E$5,$C29),'trend data'!$A$2:$O$11161,E$6,FALSE),3),\"-\")","v":1.044},{"$f":"IFERROR(ROUND(VLOOKUP(CONCATENATE(F$5,$C29),'trend data'!$A$2:$O$11161,F$6,FALSE),3),\"-\")","v":0.77600000000000002},{"$f":"IFERROR(ROUND(VLOOKUP(CONCATENATE(G$5,$C29),'trend data'!$A$2:$O$11161,G$6,FALSE),3),\"-\")","v":1.403},{"$f":"IFERROR(VLOOKUP(CONCATENATE(H$5,$C29),'trend data'!$A$2:$O$11161,H$6,FALSE),\"-\")","v":10},{"$f":"IFERROR(ROUND(VLOOKUP(CONCATENATE(I$5,$C29),'trend data'!$A$2:$O$11161,I$6,FALSE),3),\"-\")","v":0.443},{"$f":"IFERROR(ROUND(VLOOKUP(CONCATENATE(J$5,$C29),'trend data'!$A$2:$O$11161,J$6,FALSE),3),\"-\")","v":0.24099999999999999},{"$f":"IFERROR(ROUND(VLOOKUP(CONCATENATE(K$5,$C29),'trend data'!$A$2:$O$11161,K$6,FALSE),3),\"-\")","v":0.81399999999999995},{"$f":"IFERROR(VLOOKUP(CONCATENATE(L$5,$C29),'trend data'!$A$2:$O$11161,L$6,FALSE),\"-\")","v":4118},{"$f":"IFERROR(VLOOKUP(CONCATENATE(M$5,$C29),'trend data'!$A$2:$O$11161,M$6,FALSE),\"-\")","v":2257}]
[201903,"2019-09-01",{"$f":"CONCATENATE(A30,'SSI Data and Charts'!B$1)","v":"201903Scotland"},{"$f":"IFERROR(VLOOKUP(CONCATENATE(D$5,$C30),'trend data'!$A$2:$O$11161,D$6,FALSE),\"-\")","v":51},{"$f":"IFERROR(ROUND(VLOOKUP(CONCATENATE(E$5,$C30),'trend data'!$A$2:$O$11161,E$6,FALSE),3),\"-\")","v":1.157},{"$f":"IFERROR(ROUND(VLOOKUP(CONCATENATE(F$5,$C30),'trend data'!$A$2:$O$11161,F$6,FALSE),3),\"-\")","v":0.88100000000000001},{"$f":"IFERROR(ROUND(VLOOKUP(CONCATENATE(G$5,$C30),'trend data'!$A$2:$O$11161,G$6,FALSE),3),\"-\")","v":1.518},{"$f":"IFERROR(VLOOKUP(CONCATENATE(H$5,$C30),'trend data'!$A$2:$O$11161,H$6,FALSE),\"-\")","v":17},{"$f":"IFERROR(ROUND(VLOOKUP(CONCATENATE(I$5,$C30),'trend data'!$A$2:$O$11161,I$6,FALSE),3),\"-\")","v":0.80200000000000005},{"$f":"IFERROR(ROUND(VLOOKUP(CONCATENATE(J$5,$C30),'trend data'!$A$2:$O$11161,J$6,FALSE),3),\"-\")","v":0.501},{"$f":"IFERROR(ROUND(VLOOKUP(CONCATENATE(K$5,$C30),'trend data'!$A$2:$O$11161,K$6,FALSE),3),\"-\")","v":1.28},{"$f":"IFERROR(VLOOKUP(CONCATENATE(L$5,$C30),'trend data'!$A$2:$O$11161,L$6,FALSE),\"-\")","v":4408},{"$f":"IFERROR(VLOOKUP(CONCATENATE(M$5,$C30),'trend data'!$A$2:$O$11161,M$6,FALSE),\"-\")","v":2121}]
[201904,"2019-12-01",{"$f":"CONCATENATE(A31,'SSI Data and Charts'!B$1)","v":"201904Scotland"},{"$f":"IFERROR(VLOOKUP(CONCATENATE(D$5,$C31),'trend data'!$A$2:$O$11161,D$6,FALSE),\"-\")","v":35},{"$f":"IFERROR(ROUND(VLOOKUP(CONCATENATE(E$5,$C31),'trend data'!$A$2:$O$11161,E$6,FALSE),3),\"-\")","v":0.85099999999999998},{"$f":"IFERROR(ROUND(VLOOKUP(CONCATENATE(F$5,$C31),'trend data'!$A$2:$O$11161,F$6,FALSE),3),\"-\")","v":0.61299999999999999},{"$f":"IFERROR(ROUND(VLOOKUP(CONCATENATE(G$5,$C31),'trend data'!$A$2:$O$11161,G$6,FALSE),3),\"-\")","v":1.181},{"$f":"IFERROR(VLOOKUP(CONCATENATE(H$5,$C31),'trend data'!$A$2:$O$11161,H$6,FALSE),\"-\")","v":17},{"$f":"IFERROR(ROUND(VLOOKUP(CONCATENATE(I$5,$C31),'trend data'!$A$2:$O$11161,I$6,FALSE),3),\"-\")","v":0.79300000000000004},{"$f":"IFERROR(ROUND(VLOOKUP(CONCATENATE(J$5,$C31),'trend data'!$A$2:$O$11161,J$6,FALSE),3),\"-\")","v":0.495},{"$f":"IFERROR(ROUND(VLOOKUP(CONCATENATE(K$5,$C31),'trend data'!$A$2:$O$11161,K$6,FALSE),3),\"-\")","v":1.266},{"$f":"IFERROR(VLOOKUP(CONCATENATE(L$5,$C31),'trend data'!$A$2:$O$11161,L$6,FALSE),\"-\")","v":4112},{"$f":"IFERROR(VLOOKUP(CONCATENATE(M$5,$C31),'trend data'!$A$2:$O$11161,M$6,FALSE),\"-\")","v":2145}]
[202001,"2020-03-01",{"$f":"CONCATENATE(A32,'SSI Data and Charts'!B$1)","v":"202001Scotland"},{"$f":"IFERROR(VLOOKUP(CONCATENATE(D$5,$C32),'trend data'!$A$2:$O$11161,D$6,FALSE),\"-\")","v":"-"},{"$f":"IFERROR(ROUND(VLOOKUP(CONCATENATE(E$5,$C32),'trend data'!$A$2:$O$11161,E$6,FALSE),3),\"-\")","v":"-"},{"$f":"IFERROR(ROUND(VLOOKUP(CONCATENATE(F$5,$C32),'trend data'!$A$2:$O$11161,F$6,FALSE),3),\"-\")","v":"-"},{"$f":"IFERROR(ROUND(VLOOKUP(CONCATENATE(G$5,$C32),'trend data'!$A$2:$O$11161,G$6,FALSE),3),\"-\")","v":"-"},{"$f":"IFERROR(VLOOKUP(CONCATENATE(H$5,$C32),'trend data'!$A$2:$O$11161,H$6,FALSE),\"-\")","v":"-"},{"$f":"IFERROR(ROUND(VLOOKUP(CONCATENATE(I$5,$C32),'trend data'!$A$2:$O$11161,I$6,FALSE),3),\"-\")","v":"-"},{"$f":"IFERROR(ROUND(VLOOKUP(CONCATENATE(J$5,$C32),'trend data'!$A$2:$O$11161,J$6,FALSE),3),\"-\")","v":"-"},{"$f":"IFERROR(ROUND(VLOOKUP(CONCATENATE(K$5,$C32),'trend data'!$A$2:$O$11161,K$6,FALSE),3),\"-\")","v":"-"},{"$f":"IFERROR(VLOOKUP(CONCATENATE(L$5,$C32),'trend data'!$A$2:$O$11161,L$6,FALSE),\"-\")","v":"-"},{"$f":"IFERROR(VLOOKUP(CONCATENATE(M$5,$C32),'trend data'!$A$2:$O$11161,M$6,FALSE),\"-\")","v":"-"}]
[202002,"2020-06-01",{"$f":"CONCATENATE(A33,'SSI Data and Charts'!B$1)","v":"202002Scotland"},{"$f":"IFERROR(VLOOKUP(CONCATENATE(D$5,$C33),'trend data'!$A$2:$O$11161,D$6,FALSE),\"-\")","v":"-"},{"$f":"IFERROR(ROUND(VLOOKUP(CONCATENATE(E$5,$C33),'trend data'!$A$2:$O$11161,E$6,FALSE),3),\"-\")","v":"-"},{"$f":"IFERROR(ROUND(VLOOKUP(CONCATENATE(F$5,$C33),'trend data'!$A$2:$O$11161,F$6,FALSE),3),\"-\")","v":"-"},{"$f":"IFERROR(ROUND(VLOOKUP(CONCATENATE(G$5,$C33),'trend data'!$A$2:$O$11161,G$6,FALSE),3),\"-\")","v":"-"},{"$f":"IFERROR(VLOOKUP(CONCATENATE(H$5,$C33),'trend data'!$A$2:$O$11161,H$6,FALSE),\"-\")","v":"-"},{"$f":"IFERROR(ROUND(VLOOKUP(CONCATENATE(I$5,$C33),'trend data'!$A$2:$O$11161,I$6,FALSE),3),\"-\")","v":"-"},{"$f":"IFERROR(ROUND(VLOOKUP(CONCATENATE(J$5,$C33),'trend data'!$A$2:$O$11161,J$6,FALSE),3),\"-\")","v":"-"},{"$f":"IFERROR(ROUND(VLOOKUP(CONCATENATE(K$5,$C33),'trend data'!$A$2:$O$11161,K$6,FALSE),3),\"-\")","v":"-"},{"$f":"IFERROR(VLOOKUP(CONCATENATE(L$5,$C33),'trend data'!$A$2:$O$11161,L$6,FALSE),\"-\")","v":"-"},{"$f":"IFERROR(VLOOKUP(CONCATENATE(M$5,$C33),'trend data'!$A$2:$O$11161,M$6,FALSE),\"-\")","v":"-"}]
[202003,"2020-09-01",{"$f":"CONCATENATE(A34,'SSI Data and Charts'!B$1)","v":"202003Scotland"},{"$f":"IFERROR(VLOOKUP(CONCATENATE(D$5,$C34),'trend data'!$A$2:$O$11161,D$6,FALSE),\"-\")","v":"-"},{"$f":"IFERROR(ROUND(VLOOKUP(CONCATENATE(E$5,$C34),'trend data'!$A$2:$O$11161,E$6,FALSE),4),\"-\")","v":"-"},{"$f":"IFERROR(ROUND(VLOOKUP(CONCATENATE(F$5,$C34),'trend data'!$A$2:$O$11161,F$6,FALSE),4),\"-\")","v":"-"},{"$f":"IFERROR(ROUND(VLOOKUP(CONCATENATE(G$5,$C34),'trend data'!$A$2:$O$11161,G$6,FALSE),4),\"-\")","v":"-"},{"$f":"IFERROR(VLOOKUP(CONCATENATE(H$5,$C34),'trend data'!$A$2:$O$11161,H$6,FALSE),\"-\")","v":"-"},{"$f":"IFERROR(ROUND(VLOOKUP(CONCATENATE(I$5,$C34),'trend data'!$A$2:$O$11161,I$6,FALSE),4),\"-\")","v":"-"},{"$f":"IFERROR(ROUND(VLOOKUP(CONCATENATE(J$5,$C34),'trend data'!$A$2:$O$11161,J$6,FALSE),4),\"-\")","v":"-"},{"$f":"IFERROR(ROUND(VLOOKUP(CONCATENATE(K$5,$C34),'trend data'!$A$2:$O$11161,K$6,FALSE),4),\"-\")","v":"-"},{"$f":"IFERROR(VLOOKUP(CONCATENATE(L$5,$C34),'trend data'!$A$2:$O$11161,L$6,FALSE),\"-\")","v":"-"},{"$f":"IFERROR(VLOOKUP(CONCATENATE(M$5,$C34),'trend data'!$A$2:$O$11161,M$6,FALSE),\"-\")","v":"-"}]

{"sheet":"SAB data","index":6,"n_rows":31,"n_cols":37,"rows_kept":31,"cut":false,"hidden":true,"merged":[]}
["Trend data",null,null,null,null,null,null,null,null,null,null,null,null,null,null,null,null,null,null,"data for u-charts"]
[]
["always last 3 years"]
[null,null,null,null,null,null,null,null,null,null,null,null,null,null,null,null,null,null,null,null,null,null,"change this"]
[null,null,null,"SABHCAI","SABHCAI","SABHCAI","SABHCAI","SABCAUN","SABCAUN","SABCAUN","SABCAUN","SAB    ","SAB    ","SAB    ","SAB    ","SAB    ",null,null,null,null,null,"current quarter end","2020-09-30",3,4,5,6,null,3,4,5,6,null,3,4,5,6]
[null,null,null,2,4,5,6,2,4,5,6,2,4,5,6,3]
[null,null,"ref","HCAI Cases","Healthcare associated rate","Healthcare associated  lower CI","Healthcare associated  upper CI","Community associatedCases","Community associated rate","Community associated lower CI","Community associated upper CI","CASES","RATE","LOWER","UPPER","beds",null,null,null,null,null,null,null,"SABHCAI",null,null,null,null,"SABCAUN",null,null,null,null,"SAB "]
[201404,"2014-12-19",{"$f":"CONCATENATE(A8,'SAB Data and Charts'!B$1)","v":"201404Scotland"},{"$f":"VLOOKUP(CONCATENATE(D$5,$C8),'trend data'!$A$2:$O$11161,D$6,FALSE)","v":275},{"$f":"ROUND(VLOOKUP(CONCATENATE(E$5,$C8),'trend data'!$A$2:$O$11161,E$6,FALSE),3)","v":16.077000000000002},{"$f":"ROUND(VLOOKUP(CONCATENATE(F$5,$C8),'trend data'!$A$2:$O$11161,F$6,FALSE),3)","v":14.233000000000001},{"$f":"ROUND(VLOOKUP(CONCATENATE(G$5,$C8),'trend data'!$A$2:$O$11161,G$6,FALSE),3)","v":18.094000000000001},{"$f":"IFERROR(VLOOKUP(CONCATENATE(H$5,$C8),'trend data'!$A$2:$O$11161,H$6,FALSE),\"-\")","v":119},{"$f":"IFERROR(ROUND(VLOOKUP(CONCATENATE(I$5,$C8),'trend data'!$A$2:$O$11161,I$6,FALSE),3),\"-\")","v":8.8290000000000006},{"$f":"IFERROR(ROUND(VLOOKUP(CONCATENATE(J$5,$C8),'trend data'!$A$2:$O$11161,J$6,FALSE),3),\"-\")","v":7.3140000000000001},{"$f":"IFERROR(ROUND(VLOOKUP(CONCATENATE(K$5,$C8),'trend data'!$A$2:$O$11161,K$6,FALSE),3),\"-\")","v":10.565},{"$f":"IFERROR(VLOOKUP(CONCATENATE(L$5,$C8),'trend data'!$A$2:$O$11161,L$6,FALSE),\"-\")","v":"-"},{"$f":"IFERROR(VLOOKUP(CONCATENATE(M$5,$C8),'trend data'!$A$2:$O$11161,M$6,FALSE),\"-\")","v":"-"},{"$f":"IFERROR(VLOOKUP(CONCATENATE(N$5,$C8),'trend data'!$A$2:$O$11161,N$6,FALSE),\"-\")","v":"-"},{"$f":"IFERROR(VLOOKUP(CONCATENATE(O$5,$C8),'trend data'!$A$2:$O$11161,O$6,FALSE),\"-\")","v":"-"},{"$f":"IFERROR(VLOOKUP(CONCATENATE(P$5,$C8),'trend data'!$A$2:$O$11161,P$6,FALSE),\"-\")","v":"-"},null,null,null,"change to last 12 quarters",null,null,null,"Healthcare associated rate","Healthcare associated av rate","Healthcare associated UWL 2sd","Healthcare associated UWL 3sd",null,"Community associated rate","Community associated av rate","Community associated UWL 2sd","Community associated UWL 3 sd",null,"sa rate","sa av rate","sa UWL 2 sd","sa UWL 3 sd"]
[201501,"2015-03-24",{"$f":"CONCATENATE(A9,'SAB Data and Charts'!B$1)","v":"201501Scotland"},{"$f":"VLOOKUP(CONCATENATE(D$5,$C9),'trend data'!$A$2:$O$11161,D$6,FALSE)","v":263},{"$f":"ROUND(VLOOKUP(CONCATENATE(E$5,$C9),'trend data'!$A$2:$O$11161,E$6,FALSE),3)","v":15.27},{"$f":"ROUND(VLOOKUP(CONCATENATE(F$5,$C9),'trend data'!$A$2:$O$11161,F$6,FALSE),3)","v":13.48},{"$f":"ROUND(VLOOKUP(CONCATENATE(G$5,$C9),'trend data'!$A$2:$O$11161,G$6,FALSE),3)","v":17.231999999999999},{"$f":"IFERROR(VLOOKUP(CONCATENATE(H$5,$C9),'trend data'!$A$2:$O$11161,H$6,FALSE),\"-\")","v":126},{"$f":"IFERROR(ROUND(VLOOKUP(CONCATENATE(I$5,$C9),'trend data'!$A$2:$O$11161,I$6,FALSE),3),\"-\")","v":9.5109999999999992},{"$f":"IFERROR(ROUND(VLOOKUP(CONCATENATE(J$5,$C9),'trend data'!$A$2:$O$11161,J$6,FALSE),3),\"-\")","v":7.9219999999999997},{"$f":"IFERROR(ROUND(VLOOKUP(CONCATENATE(K$5,$C9),'trend data'!$A$2:$O$11161,K$6,FALSE),3),\"-\")","v":11.324},{"$f":"IFERROR(VLOOKUP(CONCATENATE(L$5,$C9),'trend data'!$A$2:$O$11161,L$6,FALSE),\"-\")","v":"-"},{"$f":"IFERROR(VLOOKUP(CONCATENATE(M$5,$C9),'trend data'!$A$2:$O$11161,M$6,FALSE),\"-\")","v":"-"},{"$f":"IFERROR(VLOOKUP(CONCATENATE(N$5,$C9),'trend data'!$A$2:$O$11161,N$6,FALSE),\"-\")","v":"-"},{"$f":"IFERROR(VLOOKUP(CONCATENATE(O$5,$C9),'trend data'!$A$2:$O$11161,O$6,FALSE),\"-\")","v":"-"},{"$f":"IFERROR(VLOOKUP(CONCATENATE(P$5,$C9),'trend data'!$A$2:$O$11161,P$6,FALSE),\"-\")","v":"-"},null,null,null,{"$f":"YEAR(W9)&\"0\"&IF(MONTH(W9)<4,1,IF(MONTH(W9)<7,2,IF(MONTH(W9)<10,3,4)))","v":"201704"},{"$f":"CONCATENATE(X$7,$T9,'SAB Data and Charts'!B$1)","v":"SABHCAI201704Scotland"},1,{"$f":"W10-92","v":"2017-12-23"},{"$f":"ROUND(VLOOKUP($U9,'data for u-p-charts'!$A$2:$F$5000,X$5,FALSE),2)","v":16.66},{"$f":"ROUND(VLOOKUP($U9,'data for u-p-charts'!$A$2:$F$5000,Y$5,FALSE),2)","v":17.16},{"$f":"ROUND(VLOOKUP($U9,'data for u-p-charts'!$A$2:$F$5000,Z$5,FALSE),2)","v":19.25},{"$f":"ROUND(VLOOKUP($U9,'data for u-p-charts'!$A$2:$F$5000,AA$5,FALSE),2)","v":20.3},{"$f":"CONCATENATE(AC$7,$T9,'SAB Data and Charts'!$B$1)","v":"SABCAUN201704Scotland"},{"$f":"ROUND(VLOOKUP($AB9,'data for u-p-charts'!$A$2:$F$5000,AC$5,FALSE),2)","v":9.65},{"$f":"ROUND(VLOOKUP($AB9,'data for u-p-charts'!$A$2:$F$5000,AD$5,FALSE),2)","v":9.5},{"$f":"ROUND(VLOOKUP($AB9,'data for u-p-charts'!$A$2:$F$5000,AE$5,FALSE),2)","v":11.17},{"$f":"ROUND(VLOOKUP($AB9,'data for u-p-charts'!$A$2:$F$5000,AF$5,FALSE),2)","v":12},{"$f":"CONCATENATE(AH$7,$T9,'SAB Data and Charts'!$B$1)","v":"SAB 201704Scotland"},{"$f":"VLOOKUP($AG9,'data for u-p-charts'!$A$2:$F$5000,AH$5,FALSE)","v":{"$error":"#N/A"}},{"$f":"VLOOKUP($AG9,'data for u-p-charts'!$A$2:$F$5000,AI$5,FALSE)","v":{"$error":"#N/A"}},{"$f":"VLOOKUP($AG9,'data for u-p-charts'!$A$2:$F$5000,AJ$5,FALSE)","v":{"$error":"#N/A"}},{"$f":"VLOOKUP($AG9,'data for u-p-charts'!$A$2:$F$5000,AK$5,FALSE)","v":{"$error":"#N/A"}}]
[201502,"2015-06-24",{"$f":"CONCATENATE(A10,'SAB Data and Charts'!B$1)","v":"201502Scotland"},{"$f":"VLOOKUP(CONCATENATE(D$5,$C10),'trend data'!$A$2:$O$11161,D$6,FALSE)","v":284},{"$f":"ROUND(VLOOKUP(CONCATENATE(E$5,$C10),'trend data'!$A$2:$O$11161,E$6,FALSE),3)","v":17.106000000000002},{"$f":"ROUND(VLOOKUP(CONCATENATE(F$5,$C10),'trend data'!$A$2:$O$11161,F$6,FALSE),3)","v":15.173999999999999},{"$f":"ROUND(VLOOKUP(CONCATENATE(G$5,$C10),'trend data'!$A$2:$O$11161,G$6,FALSE),3)","v":19.216000000000001},{"$f":"IFERROR(VLOOKUP(CONCATENATE(H$5,$C10),'trend data'!$A$2:$O$11161,H$6,FALSE),\"-\")","v":131},{"$f":"IFERROR(ROUND(VLOOKUP(CONCATENATE(I$5,$C10),'trend data'!$A$2:$O$11161,I$6,FALSE),3),\"-\")","v":9.7789999999999999},{"$f":"IFERROR(ROUND(VLOOKUP(CONCATENATE(J$5,$C10),'trend data'!$A$2:$O$11161,J$6,FALSE),3),\"-\")","v":8.1760000000000002},{"$f":"IFERROR(ROUND(VLOOKUP(CONCATENATE(K$5,$C10),'trend data'!$A$2:$O$11161,K$6,FALSE),3),\"-\")","v":11.605},{"$f":"IFERROR(VLOOKUP(CONCATENATE(L$5,$C10),'trend data'!$A$2:$O$11161,L$6,FALSE),\"-\")","v":"-"},{"$f":"IFERROR(VLOOKUP(CONCATENATE(M$5,$C10),'trend data'!$A$2:$O$11161,M$6,FALSE),\"-\")","v":"-"},{"$f":"IFERROR(VLOOKUP(CONCATENATE(N$5,$C10),'trend data'!$A$2:$O$11161,N$6,FALSE),\"-\")","v":"-"},{"$f":"IFERROR(VLOOKUP(CONCATENATE(O$5,$C10),'trend data'!$A$2:$O$11161,O$6,FALSE),\"-\")","v":"-"},{"$f":"IFERROR(VLOOKUP(CONCATENATE(P$5,$C10),'trend data'!$A$2:$O$11161,P$6,FALSE),\"-\")","v":"-"},null,null,null,{"$f":"YEAR(W10)&\"0\"&IF(MONTH(W10)<4,1,IF(MONTH(W10)<7,2,IF(MONTH(W10)<10,3,4)))","v":"201801"},{"$f":"CONCATENATE(X$7,T10,'SAB Data and Charts'!B$1)","v":"SABHCAI201801Scotland"},2,"2018-03-25",{"$f":"ROUND(VLOOKUP($U10,'data for u-p-charts'!$A$2:$F$5000,X$5,FALSE),2)","v":18.7},{"$f":"ROUND(VLOOKUP($U10,'data for u-p-charts'!$A$2:$F$5000,Y$5,FALSE),2)","v":17.16},{"$f":"ROUND(VLOOKUP($U10,'data for u-p-charts'!$A$2:$F$5000,Z$5,FALSE),2)","v":19.25},{"$f":"ROUND(VLOOKUP($U10,'data for u-p-charts'!$A$2:$F$5000,AA$5,FALSE),2)","v":20.29},{"$f":"CONCATENATE(AC$7,$T10,'SAB Data and Charts'!$B$1)","v":"SABCAUN201801Scotland"},{"$f":"ROUND(VLOOKUP($AB10,'data for u-p-charts'!$A$2:$F$5000,AC$5,FALSE),2)","v":10.07},{"$f":"ROUND(VLOOKUP($AB10,'data for u-p-charts'!$A$2:$F$5000,AD$5,FALSE),2)","v":9.5},{"$f":"ROUND(VLOOKUP($AB10,'data for u-p-charts'!$A$2:$F$5000,AE$5,FALSE),2)","v":11.19},{"$f":"ROUND(VLOOKUP($AB10,'data for u-p-charts'!$A$2:$F$5000,AF$5,FALSE),2)","v":12.03},{"$f":"CONCATENATE(AH$7,$T10,'SAB Data and Charts'!$B$1)","v":"SAB 201801Scotland"},{"$f":"VLOOKUP($AG10,'data for u-p-charts'!$A$2:$F$5000,AH$5,FALSE)","v":{"$error":"#N/A"}},{"$f":"VLOOKUP($AG10,'data for u-p-charts'!$A$2:$F$5000,AI$5,FALSE)","v":{"$error":"#N/A"}},{"$f":"VLOOKUP($AG10,'data for u-p-charts'!$A$2:$F$5000,AJ$5,FALSE)","v":{"$error":"#N/A"}},{"$f":"VLOOKUP($AG10,'data for u-p-charts'!$A$2:$F$5000,AK$5,FALSE)","v":{"$error":"#N/A"}}]
[201503,"2015-09-24",{"$f":"CONCATENATE(A11,'SAB Data and Charts'!B$1)","v":"201503Scotland"},{"$f":"VLOOKUP(CONCATENATE(D$5,$C11),'trend data'!$A$2:$O$11161,D$6,FALSE)","v":275},{"$f":"ROUND(VLOOKUP(CONCATENATE(E$5,$C11),'trend data'!$A$2:$O$11161,E$6,FALSE),3)","v":16.975000000000001},{"$f":"ROUND(VLOOKUP(CONCATENATE(F$5,$C11),'trend data'!$A$2:$O$11161,F$6,FALSE),3)","v":15.028},{"$f":"ROUND(VLOOKUP(CONCATENATE(G$5,$C11),'trend data'!$A$2:$O$11161,G$6,FALSE),3)","v":19.105},{"$f":"IFERROR(VLOOKUP(CONCATENATE(H$5,$C11),'trend data'!$A$2:$O$11161,H$6,FALSE),\"-\")","v":113},{"$f":"IFERROR(ROUND(VLOOKUP(CONCATENATE(I$5,$C11),'trend data'!$A$2:$O$11161,I$6,FALSE),3),\"-\")","v":8.3439999999999994},{"$f":"IFERROR(ROUND(VLOOKUP(CONCATENATE(J$5,$C11),'trend data'!$A$2:$O$11161,J$6,FALSE),3),\"-\")","v":6.8760000000000003},{"$f":"IFERROR(ROUND(VLOOKUP(CONCATENATE(K$5,$C11),'trend data'!$A$2:$O$11161,K$6,FALSE),3),\"-\")","v":10.032},{"$f":"IFERROR(VLOOKUP(CONCATENATE(L$5,$C11),'trend data'!$A$2:$O$11161,L$6,FALSE),\"-\")","v":"-"},{"$f":"IFERROR(VLOOKUP(CONCATENATE(M$5,$C11),'trend data'!$A$2:$O$11161,M$6,FALSE),\"-\")","v":"-"},{"$f":"IFERROR(VLOOKUP(CONCATENATE(N$5,$C11),'trend data'!$A$2:$O$11161,N$6,FALSE),\"-\")","v":"-"},{"$f":"IFERROR(VLOOKUP(CONCATENATE(O$5,$C11),'trend data'!$A$2:$O$11161,O$6,FALSE),\"-\")","v":"-"},{"$f":"IFERROR(VLOOKUP(CONCATENATE(P$5,$C11),'trend data'!$A$2:$O$11161,P$6,FALSE),\"-\")","v":"-"},null,null,null,{"$f":"YEAR(W11)&\"0\"&IF(MONTH(W11)<4,1,IF(MONTH(W11)<7,2,IF(MONTH(W11)<10,3,4)))","v":"201802"},{"$f":"CONCATENATE(X$7,T11,'SAB Data and Charts'!B$1)","v":"SABHCAI201802Scotland"},3,"2018-06-25",{"$f":"ROUND(VLOOKUP($U11,'data for u-p-charts'!$A$2:$F$5000,X$5,FALSE),2)","v":17.329999999999998},{"$f":"ROUND(VLOOKUP($U11,'data for u-p-charts'!$A$2:$F$5000,Y$5,FALSE),2)","v":17.16},{"$f":"ROUND(VLOOKUP($U11,'data for u-p-charts'!$A$2:$F$5000,Z$5,FALSE),2)","v":19.29},{"$f":"ROUND(VLOOKUP($U11,'data for u-p-charts'!$A$2:$F$5000,AA$5,FALSE),2)","v":20.350000000000001},{"$f":"CONCATENATE(AC$7,$T11,'SAB Data and Charts'!$B$1)","v":"SABCAUN201802Scotland"},{"$f":"ROUND(VLOOKUP($AB11,'data for u-p-charts'!$A$2:$F$5000,AC$5,FALSE),2)","v":9.07},{"$f":"ROUND(VLOOKUP($AB11,'data for u-p-charts'!$A$2:$F$5000,AD$5,FALSE),2)","v":9.5},{"$f":"ROUND(VLOOKUP($AB11,'data for u-p-charts'!$A$2:$F$5000,AE$5,FALSE),2)","v":11.18},{"$f":"ROUND(VLOOKUP($AB11,'data for u-p-charts'!$A$2:$F$5000,AF$5,FALSE),2)","v":12.01},{"$f":"CONCATENATE(AH$7,$T11,'SAB Data and Charts'!$B$1)","v":"SAB 201802Scotland"},{"$f":"VLOOKUP($AG11,'data for u-p-charts'!$A$2:$F$5000,AH$5,FALSE)","v":{"$error":"#N/A"}},{"$f":"VLOOKUP($AG11,'data for u-p-charts'!$A$2:$F$5000,AI$5,FALSE)","v":{"$error":"#N/A"}},{"$f":"VLOOKUP($AG11,'data for u-p-charts'!$A$2:$F$5000,AJ$5,FALSE)","v":{"$error":"#N/A"}},{"$f":"VLOOKUP($AG11,'data for u-p-charts'!$A$2:$F$5000,AK$5,FALSE)","v":{"$error":"#N/A"}}]
[201504,"2015-12-24",{"$f":"CONCATENATE(A12,'SAB Data and Charts'!B$1)","v":"201504Scotland"},{"$f":"VLOOKUP(CONCATENATE(D$5,$C12),'trend data'!$A$2:$O$11161,D$6,FALSE)","v":303},{"$f":"ROUND(VLOOKUP(CONCATENATE(E$5,$C12),'trend data'!$A$2:$O$11161,E$6,FALSE),3)","v":18.47},{"$f":"ROUND(VLOOKUP(CONCATENATE(F$5,$C12),'trend data'!$A$2:$O$11161,F$6,FALSE),3)","v":16.449000000000002},{"$f":"ROUND(VLOOKUP(CONCATENATE(G$5,$C12),'trend data'!$A$2:$O$11161,G$6,FALSE),3)","v":20.672000000000001},{"$f":"IFERROR(VLOOKUP(CONCATENATE(H$5,$C12),'trend data'!$A$2:$O$11161,H$6,FALSE),\"-\")","v":104},{"$f":"IFERROR(ROUND(VLOOKUP(CONCATENATE(I$5,$C12),'trend data'!$A$2:$O$11161,I$6,FALSE),3),\"-\")","v":7.6790000000000003},{"$f":"IFERROR(ROUND(VLOOKUP(CONCATENATE(J$5,$C12),'trend data'!$A$2:$O$11161,J$6,FALSE),3),\"-\")","v":6.274},{"$f":"IFERROR(ROUND(VLOOKUP(CONCATENATE(K$5,$C12),'trend data'!$A$2:$O$11161,K$6,FALSE),3),\"-\")","v":9.3049999999999997},{"$f":"IFERROR(VLOOKUP(CONCATENATE(L$5,$C12),'trend data'!$A$2:$O$11161,L$6,FALSE),\"-\")","v":"-"},{"$f":"IFERROR(VLOOKUP(CONCATENATE(M$5,$C12),'trend data'!$A$2:$O$11161,M$6,FALSE),\"-\")","v":"-"},{"$f":"IFERROR(VLOOKUP(CONCATENATE(N$5,$C12),'trend data'!$A$2:$O$11161,N$6,FALSE),\"-\")","v":"-"},{"$f":"IFERROR(VLOOKUP(CONCATENATE(O$5,$C12),'trend data'!$A$2:$O$11161,O$6,FALSE),\"-\")","v":"-"},{"$f":"IFERROR(VLOOKUP(CONCATENATE(P$5,$C12),'trend data'!$A$2:$O$11161,P$6,FALSE),\"-\")","v":"-"},null,null,null,"201803",{"$f":"CONCATENATE(X$7,T12,'SAB Data and Charts'!B$1)","v":"SABHCAI201803Scotland"},4,"2018-09-25",{"$f":"ROUND(VLOOKUP($U12,'data for u-p-charts'!$A$2:$F$5000,X$5,FALSE),2)","v":16.760000000000002},{"$f":"ROUND(VLOOKUP($U12,'data for u-p-charts'!$A$2:$F$5000,Y$5,FALSE),2)","v":17.16},{"$f":"ROUND(VLOOKUP($U12,'data for u-p-charts'!$A$2:$F$5000,Z$5,FALSE),2)","v":19.3},{"$f":"ROUND(VLOOKUP($U12,'data for u-p-charts'!$A$2:$F$5000,AA$5,FALSE),2)","v":20.36},{"$f":"CONCATENATE(AC$7,$T12,'SAB Data and Charts'!$B$1)","v":"SABCAUN201803Scotland"},{"$f":"ROUND(VLOOKUP($AB12,'data for u-p-charts'!$A$2:$F$5000,AC$5,FALSE),2)","v":9.6300000000000008},{"$f":"ROUND(VLOOKUP($AB12,'data for u-p-charts'!$A$2:$F$5000,AD$5,FALSE),2)","v":9.5},{"$f":"ROUND(VLOOKUP($AB12,'data for u-p-charts'!$A$2:$F$5000,AE$5,FALSE),2)","v":11.17},{"$f":"ROUND(VLOOKUP($AB12,'data for u-p-charts'!$A$2:$F$5000,AF$5,FALSE),2)","v":12},{"$f":"CONCATENATE(AH$7,$T12,'SAB Data and Charts'!$B$1)","v":"SAB 201803Scotland"},{"$f":"VLOOKUP($AG12,'data for u-p-charts'!$A$2:$F$5000,AH$5,FALSE)","v":{"$error":"#N/A"}},{"$f":"VLOOKUP($AG12,'data for u-p-charts'!$A$2:$F$5000,AI$5,FALSE)","v":{"$error":"#N/A"}},{"$f":"VLOOKUP($AG12,'data for u-p-charts'!$A$2:$F$5000,AJ$5,FALSE)","v":{"$error":"#N/A"}},{"$f":"VLOOKUP($AG12,'data for u-p-charts'!$A$2:$F$5000,AK$5,FALSE)","v":{"$error":"#N/A"}}]
[201601,"2016-03-24",{"$f":"CONCATENATE(A13,'SAB Data and Charts'!B$1)","v":"201601Scotland"},{"$f":"VLOOKUP(CONCATENATE(D$5,$C13),'trend data'!$A$2:$O$11161,D$6,FALSE)","v":279},{"$f":"ROUND(VLOOKUP(CONCATENATE(E$5,$C13),'trend data'!$A$2:$O$11161,E$6,FALSE),3)","v":16.678000000000001},{"$f":"ROUND(VLOOKUP(CONCATENATE(F$5,$C13),'trend data'!$A$2:$O$11161,F$6,FALSE),3)","v":14.778},{"$f":"ROUND(VLOOKUP(CONCATENATE(G$5,$C13),'trend data'!$A$2:$O$11161,G$6,FALSE),3)","v":18.754000000000001},{"$f":"IFERROR(VLOOKUP(CONCATENATE(H$5,$C13),'trend data'!$A$2:$O$11161,H$6,FALSE),\"-\")","v":139},{"$f":"IFERROR(ROUND(VLOOKUP(CONCATENATE(I$5,$C13),'trend data'!$A$2:$O$11161,I$6,FALSE),3),\"-\")","v":10.343999999999999},{"$f":"IFERROR(ROUND(VLOOKUP(CONCATENATE(J$5,$C13),'trend data'!$A$2:$O$11161,J$6,FALSE),3),\"-\")","v":8.6959999999999997},{"$f":"IFERROR(ROUND(VLOOKUP(CONCATENATE(K$5,$C13),'trend data'!$A$2:$O$11161,K$6,FALSE),3),\"-\")","v":12.214},{"$f":"IFERROR(VLOOKUP(CONCATENATE(L$5,$C13),'trend data'!$A$2:$O$11161,L$6,FALSE),\"-\")","v":"-"},{"$f":"IFERROR(VLOOKUP(CONCATENATE(M$5,$C13),'trend data'!$A$2:$O$11161,M$6,FALSE),\"-\")","v":"-"},{"$f":"IFERROR(VLOOKUP(CONCATENATE(N$5,$C13),'trend data'!$A$2:$O$11161,N$6,FALSE),\"-\")","v":"-"},{"$f":"IFERROR(VLOOKUP(CONCATENATE(O$5,$C13),'trend data'!$A$2:$O$11161,O$6,FALSE),\"-\")","v":"-"},{"$f":"IFERROR(VLOOKUP(CONCATENATE(P$5,$C13),'trend data'!$A$2:$O$11161,P$6,FALSE),\"-\")","v":"-"},null,null,null,"201804",{"$f":"CONCATENATE(X$7,T13,'SAB Data and Charts'!B$1)","v":"SABHCAI201804Scotland"},5,"2018-12-26",{"$f":"ROUND(VLOOKUP($U13,'data for u-p-charts'!$A$2:$F$5000,X$5,FALSE),2)","v":17.690000000000001},{"$f":"ROUND(VLOOKUP($U13,'data for u-p-charts'!$A$2:$F$5000,Y$5,FALSE),2)","v":17.16},{"$f":"ROUND(VLOOKUP($U13,'data for u-p-charts'!$A$2:$F$5000,Z$5,FALSE),2)","v":19.29},{"$f":"ROUND(VLOOKUP($U13,'data for u-p-charts'!$A$2:$F$5000,AA$5,FALSE),2)","v":20.350000000000001},{"$f":"CONCATENATE(AC$7,$T13,'SAB Data and Charts'!$B$1)","v":"SABCAUN201804Scotland"},{"$f":"ROUND(VLOOKUP($AB13,'data for u-p-charts'!$A$2:$F$5000,AC$5,FALSE),2)","v":8.24},{"$f":"ROUND(VLOOKUP($AB13,'data for u-p-charts'!$A$2:$F$5000,AD$5,FALSE),2)","v":9.5},{"$f":"ROUND(VLOOKUP($AB13,'data for u-p-charts'!$A$2:$F$5000,AE$5,FALSE),2)","v":11.17},{"$f":"ROUND(VLOOKUP($AB13,'data for u-p-charts'!$A$2:$F$5000,AF$5,FALSE),2)","v":12},{"$f":"CONCATENATE(AH$7,$T13,'SAB Data and Charts'!$B$1)","v":"SAB 201804Scotland"},{"$f":"VLOOKUP($AG13,'data for u-p-charts'!$A$2:$F$5000,AH$5,FALSE)","v":{"$error":"#N/A"}},{"$f":"VLOOKUP($AG13,'data for u-p-charts'!$A$2:$F$5000,AI$5,FALSE)","v":{"$error":"#N/A"}},{"$f":"VLOOKUP($AG13,'data for u-p-charts'!$A$2:$F$5000,AJ$5,FALSE)","v":{"$error":"#N/A"}},{"$f":"VLOOKUP($AG13,'data for u-p-charts'!$A$2:$F$5000,AK$5,FALSE)","v":{"$error":"#N/A"}}]
[201602,"2016-06-24",{"$f":"CONCATENATE(A14,'SAB Data and Charts'!B$1)","v":"201602Scotland"},{"$f":"VLOOKUP(CONCATENATE(D$5,$C14),'trend data'!$A$2:$O$11161,D$6,FALSE)","v":260},{"$f":"ROUND(VLOOKUP(CONCATENATE(E$5,$C14),'trend data'!$A$2:$O$11161,E$6,FALSE),3)","v":16.213000000000001},{"$f":"ROUND(VLOOKUP(CONCATENATE(F$5,$C14),'trend data'!$A$2:$O$11161,F$6,FALSE),3)","v":14.302},{"$f":"ROUND(VLOOKUP(CONCATENATE(G$5,$C14),'trend data'!$A$2:$O$11161,G$6,FALSE),3)","v":18.308},{"$f":"IFERROR(VLOOKUP(CONCATENATE(H$5,$C14),'trend data'!$A$2:$O$11161,H$6,FALSE),\"-\")","v":121},{"$f":"IFERROR(ROUND(VLOOKUP(CONCATENATE(I$5,$C14),'trend data'!$A$2:$O$11161,I$6,FALSE),3),\"-\")","v":9.0039999999999996},{"$f":"IFERROR(ROUND(VLOOKUP(CONCATENATE(J$5,$C14),'trend data'!$A$2:$O$11161,J$6,FALSE),3),\"-\")","v":7.4710000000000001},{"$f":"IFERROR(ROUND(VLOOKUP(CONCATENATE(K$5,$C14),'trend data'!$A$2:$O$11161,K$6,FALSE),3),\"-\")","v":10.759},{"$f":"IFERROR(VLOOKUP(CONCATENATE(L$5,$C14),'trend data'!$A$2:$O$11161,L$6,FALSE),\"-\")","v":"-"},{"$f":"IFERROR(VLOOKUP(CONCATENATE(M$5,$C14),'trend data'!$A$2:$O$11161,M$6,FALSE),\"-\")","v":"-"},{"$f":"IFERROR(VLOOKUP(CONCATENATE(N$5,$C14),'trend data'!$A$2:$O$11161,N$6,FALSE),\"-\")","v":"-"},{"$f":"IFERROR(VLOOKUP(CONCATENATE(O$5,$C14),'trend data'!$A$2:$O$11161,O$6,FALSE),\"-\")","v":"-"},{"$f":"IFERROR(VLOOKUP(CONCATENATE(P$5,$C14),'trend data'!$A$2:$O$11161,P$6,FALSE),\"-\")","v":"-"},null,null,null,"201901",{"$f":"CONCATENATE(X$7,T14,'SAB Data and Charts'!B$1)","v":"SABHCAI201901Scotland"},6,"2019-03-28",{"$f":"ROUND(VLOOKUP($U14,'data for u-p-charts'!$A$2:$F$5000,X$5,FALSE),2)","v":15.62},{"$f":"ROUND(VLOOKUP($U14,'data for u-p-charts'!$A$2:$F$5000,Y$5,FALSE),2)","v":17.16},{"$f":"ROUND(VLOOKUP($U14,'data for u-p-charts'!$A$2:$F$5000,Z$5,FALSE),2)","v":19.28},{"$f":"ROUND(VLOOKUP($U14,'data for u-p-charts'!$A$2:$F$5000,AA$5,FALSE),2)","v":20.34},{"$f":"CONCATENATE(AC$7,$T14,'SAB Data and Charts'!$B$1)","v":"SABCAUN201901Scotland"},{"$f":"ROUND(VLOOKUP($AB14,'data for u-p-charts'!$A$2:$F$5000,AC$5,FALSE),2)","v":10.69},{"$f":"ROUND(VLOOKUP($AB14,'data for u-p-charts'!$A$2:$F$5000,AD$5,FALSE),2)","v":9.5},{"$f":"ROUND(VLOOKUP($AB14,'data for u-p-charts'!$A$2:$F$5000,AE$5,FALSE),2)","v":11.18},{"$f":"ROUND(VLOOKUP($AB14,'data for u-p-charts'!$A$2:$F$5000,AF$5,FALSE),2)","v":12.02},{"$f":"CONCATENATE(AH$7,$T14,'SAB Data and Charts'!$B$1)","v":"SAB 201901Scotland"},{"$f":"VLOOKUP($AG14,'data for u-p-charts'!$A$2:$F$5000,AH$5,FALSE)","v":{"$error":"#N/A"}},{"$f":"VLOOKUP($AG14,'data for u-p-charts'!$A$2:$F$5000,AI$5,FALSE)","v":{"$error":"#N/A"}},{"$f":"VLOOKUP($AG14,'data for u-p-charts'!$A$2:$F$5000,AJ$5,FALSE)","v":{"$error":"#N/A"}},{"$f":"VLOOKUP($AG14,'data for u-p-charts'!$A$2:$F$5000,AK$5,FALSE)","v":{"$error":"#N/A"}}]
[201603,"2016-09-24",{"$f":"CONCATENATE(A15,'SAB Data and Charts'!B$1)","v":"201603Scotland"},{"$f":"VLOOKUP(CONCATENATE(D$5,$C15),'trend data'!$A$2:$O$11161,D$6,FALSE)","v":273},{"$f":"ROUND(VLOOKUP(CONCATENATE(E$5,$C15),'trend data'!$A$2:$O$11161,E$6,FALSE),3)","v":17.21},{"$f":"ROUND(VLOOKUP(CONCATENATE(F$5,$C15),'trend data'!$A$2:$O$11161,F$6,FALSE),3)","v":15.228999999999999},{"$f":"ROUND(VLOOKUP(CONCATENATE(G$5,$C15),'trend data'!$A$2:$O$11161,G$6,FALSE),3)","v":19.378},{"$f":"IFERROR(VLOOKUP(CONCATENATE(H$5,$C15),'trend data'!$A$2:$O$11161,H$6,FALSE),\"-\")","v":127},{"$f":"IFERROR(ROUND(VLOOKUP(CONCATENATE(I$5,$C15),'trend data'!$A$2:$O$11161,I$6,FALSE),3),\"-\")","v":9.3480000000000008},{"$f":"IFERROR(ROUND(VLOOKUP(CONCATENATE(J$5,$C15),'trend data'!$A$2:$O$11161,J$6,FALSE),3),\"-\")","v":7.7930000000000001},{"$f":"IFERROR(ROUND(VLOOKUP(CONCATENATE(K$5,$C15),'trend data'!$A$2:$O$11161,K$6,FALSE),3),\"-\")","v":11.122999999999999},{"$f":"IFERROR(VLOOKUP(CONCATENATE(L$5,$C15),'trend data'!$A$2:$O$11161,L$6,FALSE),\"-\")","v":"-"},{"$f":"IFERROR(VLOOKUP(CONCATENATE(M$5,$C15),'trend data'!$A$2:$O$11161,M$6,FALSE),\"-\")","v":"-"},{"$f":"IFERROR(VLOOKUP(CONCATENATE(N$5,$C15),'trend data'!$A$2:$O$11161,N$6,FALSE),\"-\")","v":"-"},{"$f":"IFERROR(VLOOKUP(CONCATENATE(O$5,$C15),'trend data'!$A$2:$O$11161,O$6,FALSE),\"-\")","v":"-"},{"$f":"IFERROR(VLOOKUP(CONCATENATE(P$5,$C15),'trend data'!$A$2:$O$11161,P$6,FALSE),\"-\")","v":"-"},null,null,null,"201902",{"$f":"CONCATENATE(X$7,T15,'SAB Data and Charts'!B$1)","v":"SABHCAI201902Scotland"},7,"2019-06-28",{"$f":"ROUND(VLOOKUP($U15,'data for u-p-charts'!$A$2:$F$5000,X$5,FALSE),2)","v":16.73},{"$f":"ROUND(VLOOKUP($U15,'data for u-p-charts'!$A$2:$F$5000,Y$5,FALSE),2)","v":17.16},{"$f":"ROUND(VLOOKUP($U15,'data for u-p-charts'!$A$2:$F$5000,Z$5,FALSE),2)","v":19.3},{"$f":"ROUND(VLOOKUP($U15,'data for u-p-charts'!$A$2:$F$5000,AA$5,FALSE),2)","v":20.37},{"$f":"CONCATENATE(AC$7,$T15,'SAB Data and Charts'!$B$1)","v":"SABCAUN201902Scotland"},{"$f":"ROUND(VLOOKUP($AB15,'data for u-p-charts'!$A$2:$F$5000,AC$5,FALSE),2)","v":9.76},{"$f":"ROUND(VLOOKUP($AB15,'data for u-p-charts'!$A$2:$F$5000,AD$5,FALSE),2)","v":9.5},{"$f":"ROUND(VLOOKUP($AB15,'data for u-p-charts'!$A$2:$F$5000,AE$5,FALSE),2)","v":11.17},{"$f":"ROUND(VLOOKUP($AB15,'data for u-p-charts'!$A$2:$F$5000,AF$5,FALSE),2)","v":12.01},{"$f":"CONCATENATE(AH$7,$T15,'SAB Data and Charts'!$B$1)","v":"SAB 201902Scotland"},{"$f":"VLOOKUP($AG15,'data for u-p-charts'!$A$2:$F$5000,AH$5,FALSE)","v":{"$error":"#N/A"}},{"$f":"VLOOKUP($AG15,'data for u-p-charts'!$A$2:$F$5000,AI$5,FALSE)","v":{"$error":"#N/A"}},{"$f":"VLOOKUP($AG15,'data for u-p-charts'!$A$2:$F$5000,AJ$5,FALSE)","v":{"$error":"#N/A"}},{"$f":"VLOOKUP($AG15,'data for u-p-charts'!$A$2:$F$5000,AK$5,FALSE)","v":{"$error":"#N/A"}}]
[201604,"2016-12-24",{"$f":"CONCATENATE(A16,'SAB Data and Charts'!B$1)","v":"201604Scotland"},{"$f":"VLOOKUP(CONCATENATE(D$5,$C16),'trend data'!$A$2:$O$11161,D$6,FALSE)","v":265},{"$f":"ROUND(VLOOKUP(CONCATENATE(E$5,$C16),'trend data'!$A$2:$O$11161,E$6,FALSE),3)","v":16.667000000000002},{"$f":"ROUND(VLOOKUP(CONCATENATE(F$5,$C16),'trend data'!$A$2:$O$11161,F$6,FALSE),3)","v":14.72},{"$f":"ROUND(VLOOKUP(CONCATENATE(G$5,$C16),'trend data'!$A$2:$O$11161,G$6,FALSE),3)","v":18.798999999999999},{"$f":"IFERROR(VLOOKUP(CONCATENATE(H$5,$C16),'trend data'!$A$2:$O$11161,H$6,FALSE),\"-\")","v":135},{"$f":"IFERROR(ROUND(VLOOKUP(CONCATENATE(I$5,$C16),'trend data'!$A$2:$O$11161,I$6,FALSE),3),\"-\")","v":9.9369999999999994},{"$f":"IFERROR(ROUND(VLOOKUP(CONCATENATE(J$5,$C16),'trend data'!$A$2:$O$11161,J$6,FALSE),3),\"-\")","v":8.3309999999999995},{"$f":"IFERROR(ROUND(VLOOKUP(CONCATENATE(K$5,$C16),'trend data'!$A$2:$O$11161,K$6,FALSE),3),\"-\")","v":11.762},{"$f":"IFERROR(VLOOKUP(CONCATENATE(L$5,$C16),'trend data'!$A$2:$O$11161,L$6,FALSE),\"-\")","v":"-"},{"$f":"IFERROR(VLOOKUP(CONCATENATE(M$5,$C16),'trend data'!$A$2:$O$11161,M$6,FALSE),\"-\")","v":"-"},{"$f":"IFERROR(VLOOKUP(CONCATENATE(N$5,$C16),'trend data'!$A$2:$O$11161,N$6,FALSE),\"-\")","v":"-"},{"$f":"IFERROR(VLOOKUP(CONCATENATE(O$5,$C16),'trend data'!$A$2:$O$11161,O$6,FALSE),\"-\")","v":"-"},{"$f":"IFERROR(VLOOKUP(CONCATENATE(P$5,$C16),'trend data'!$A$2:$O$11161,P$6,FALSE),\"-\")","v":"-"},null,null,null,"201903",{"$f":"CONCATENATE(X$7,T16,'SAB Data and Charts'!B$1)","v":"SABHCAI201903Scotland"},8,"2019-09-28",{"$f":"ROUND(VLOOKUP($U16,'data for u-p-charts'!$A$2:$F$5000,X$5,FALSE),2)","v":17.48},{"$f":"ROUND(VLOOKUP($U16,'data for u-p-charts'!$A$2:$F$5000,Y$5,FALSE),2)","v":17.16},{"$f":"ROUND(VLOOKUP($U16,'data for u-p-charts'!$A$2:$F$5000,Z$5,FALSE),2)","v":19.3},{"$f":"ROUND(VLOOKUP($U16,'data for u-p-charts'!$A$2:$F$5000,AA$5,FALSE),2)","v":20.36},{"$f":"CONCATENATE(AC$7,$T16,'SAB Data and Charts'!$B$1)","v":"SABCAUN201903Scotland"},{"$f":"ROUND(VLOOKUP($AB16,'data for u-p-charts'!$A$2:$F$5000,AC$5,FALSE),2)","v":7.41},{"$f":"ROUND(VLOOKUP($AB16,'data for u-p-charts'!$A$2:$F$5000,AD$5,FALSE),2)","v":9.5},{"$f":"ROUND(VLOOKUP($AB16,'data for u-p-charts'!$A$2:$F$5000,AE$5,FALSE),2)","v":11.16},{"$f":"ROUND(VLOOKUP($AB16,'data for u-p-charts'!$A$2:$F$5000,AF$5,FALSE),2)","v":12},{"$f":"CONCATENATE(AH$7,$T16,'SAB Data and Charts'!$B$1)","v":"SAB 201903Scotland"},{"$f":"VLOOKUP($AG16,'data for u-p-charts'!$A$2:$F$5000,AH$5,FALSE)","v":{"$error":"#N/A"}},{"$f":"VLOOKUP($AG16,'data for u-p-charts'!$A$2:$F$5000,AI$5,FALSE)","v":{"$error":"#N/A"}},{"$f":"VLOOKUP($AG16,'data for u-p-charts'!$A$2:$F$5000,AJ$5,FALSE)","v":{"$error":"#N/A"}},{"$f":"VLOOKUP($AG16,'data for u-p-charts'!$A$2:$F$5000,AK$5,FALSE)","v":{"$error":"#N/A"}}]
[201701,"2017-03-01",{"$f":"CONCATENATE(A17,'SAB Data and Charts'!B$1)","v":"201701Scotland"},{"$f":"VLOOKUP(CONCATENATE(D$5,$C17),'trend data'!$A$2:$O$11161,D$6,FALSE)","v":259},{"$f":"ROUND(VLOOKUP(CONCATENATE(E$5,$C17),'trend data'!$A$2:$O$11161,E$6,FALSE),3)","v":16.396999999999998},{"$f":"ROUND(VLOOKUP(CONCATENATE(F$5,$C17),'trend data'!$A$2:$O$11161,F$6,FALSE),3)","v":14.46},{"$f":"ROUND(VLOOKUP(CONCATENATE(G$5,$C17),'trend data'!$A$2:$O$11161,G$6,FALSE),3)","v":18.52},{"$f":"IFERROR(VLOOKUP(CONCATENATE(H$5,$C17),'trend data'!$A$2:$O$11161,H$6,FALSE),\"-\")","v":142},{"$f":"IFERROR(ROUND(VLOOKUP(CONCATENATE(I$5,$C17),'trend data'!$A$2:$O$11161,I$6,FALSE),3),\"-\")","v":10.616},{"$f":"IFERROR(ROUND(VLOOKUP(CONCATENATE(J$5,$C17),'trend data'!$A$2:$O$11161,J$6,FALSE),3),\"-\")","v":8.9420000000000002},{"$f":"IFERROR(ROUND(VLOOKUP(CONCATENATE(K$5,$C17),'trend data'!$A$2:$O$11161,K$6,FALSE),3),\"-\")","v":12.513},{"$f":"IFERROR(VLOOKUP(CONCATENATE(L$5,$C17),'trend data'!$A$2:$O$11161,L$6,FALSE),\"-\")","v":"-"},{"$f":"IFERROR(VLOOKUP(CONCATENATE(M$5,$C17),'trend data'!$A$2:$O$11161,M$6,FALSE),\"-\")","v":"-"},{"$f":"IFERROR(VLOOKUP(CONCATENATE(N$5,$C17),'trend data'!$A$2:$O$11161,N$6,FALSE),\"-\")","v":"-"},{"$f":"IFERROR(VLOOKUP(CONCATENATE(O$5,$C17),'trend data'!$A$2:$O$11161,O$6,FALSE),\"-\")","v":"-"},{"$f":"IFERROR(VLOOKUP(CONCATENATE(P$5,$C17),'trend data'!$A$2:$O$11161,P$6,FALSE),\"-\")","v":"-"},null,null,null,"201904",{"$f":"CONCATENATE(X$7,T17,'SAB Data and Charts'!B$1)","v":"SABHCAI201904Scotland"},9,"2019-12-29",{"$f":"ROUND(VLOOKUP($U17,'data for u-p-charts'!$A$2:$F$5000,X$5,FALSE),2)","v":15.19},{"$f":"ROUND(VLOOKUP($U17,'data for u-p-charts'!$A$2:$F$5000,Y$5,FALSE),2)","v":17.16},{"$f":"ROUND(VLOOKUP($U17,'data for u-p-charts'!$A$2:$F$5000,Z$5,FALSE),2)","v":19.28},{"$f":"ROUND(VLOOKUP($U17,'data for u-p-charts'!$A$2:$F$5000,AA$5,FALSE),2)","v":20.34},{"$f":"CONCATENATE(AC$7,$T17,'SAB Data and Charts'!$B$1)","v":"SABCAUN201904Scotland"},{"$f":"ROUND(VLOOKUP($AB17,'data for u-p-charts'!$A$2:$F$5000,AC$5,FALSE),2)","v":9.59},{"$f":"ROUND(VLOOKUP($AB17,'data for u-p-charts'!$A$2:$F$5000,AD$5,FALSE),2)","v":9.5},{"$f":"ROUND(VLOOKUP($AB17,'data for u-p-charts'!$A$2:$F$5000,AE$5,FALSE),2)","v":11.16},{"$f":"ROUND(VLOOKUP($AB17,'data for u-p-charts'!$A$2:$F$5000,AF$5,FALSE),2)","v":12},{"$f":"CONCATENATE(AH$7,$T17,'SAB Data and Charts'!$B$1)","v":"SAB 201904Scotland"},{"$f":"VLOOKUP($AG17,'data for u-p-charts'!$A$2:$F$5000,AH$5,FALSE)","v":{"$error":"#N/A"}},{"$f":"VLOOKUP($AG17,'data for u-p-charts'!$A$2:$F$5000,AI$5,FALSE)","v":{"$error":"#N/A"}},{"$f":"VLOOKUP($AG17,'data for u-p-charts'!$A$2:$F$5000,AJ$5,FALSE)","v":{"$error":"#N/A"}},{"$f":"VLOOKUP($AG17,'data for u-p-charts'!$A$2:$F$5000,AK$5,FALSE)","v":{"$error":"#N/A"}}]
[201702,"2017-06-01",{"$f":"CONCATENATE(A18,'SAB Data and Charts'!B$1)","v":"201702Scotland"},{"$f":"VLOOKUP(CONCATENATE(D$5,$C18),'trend data'!$A$2:$O$11161,D$6,FALSE)","v":248},{"$f":"ROUND(VLOOKUP(CONCATENATE(E$5,$C18),'trend data'!$A$2:$O$11161,E$6,FALSE),3)","v":16.010000000000002},{"$f":"ROUND(VLOOKUP(CONCATENATE(F$5,$C18),'trend data'!$A$2:$O$11161,F$6,FALSE),3)","v":14.079000000000001},{"$f":"ROUND(VLOOKUP(CONCATENATE(G$5,$C18),'trend data'!$A$2:$O$11161,G$6,FALSE),3)","v":18.131},{"$f":"IFERROR(VLOOKUP(CONCATENATE(H$5,$C18),'trend data'!$A$2:$O$11161,H$6,FALSE),\"-\")","v":126},{"$f":"IFERROR(ROUND(VLOOKUP(CONCATENATE(I$5,$C18),'trend data'!$A$2:$O$11161,I$6,FALSE),3),\"-\")","v":9.3160000000000007},{"$f":"IFERROR(ROUND(VLOOKUP(CONCATENATE(J$5,$C18),'trend data'!$A$2:$O$11161,J$6,FALSE),3),\"-\")","v":7.76},{"$f":"IFERROR(ROUND(VLOOKUP(CONCATENATE(K$5,$C18),'trend data'!$A$2:$O$11161,K$6,FALSE),3),\"-\")","v":11.092000000000001},{"$f":"IFERROR(VLOOKUP(CONCATENATE(L$5,$C18),'trend data'!$A$2:$O$11161,L$6,FALSE),\"-\")","v":"-"},{"$f":"IFERROR(VLOOKUP(CONCATENATE(M$5,$C18),'trend data'!$A$2:$O$11161,M$6,FALSE),\"-\")","v":"-"},{"$f":"IFERROR(VLOOKUP(CONCATENATE(N$5,$C18),'trend data'!$A$2:$O$11161,N$6,FALSE),\"-\")","v":"-"},{"$f":"IFERROR(VLOOKUP(CONCATENATE(O$5,$C18),'trend data'!$A$2:$O$11161,O$6,FALSE),\"-\")","v":"-"},{"$f":"IFERROR(VLOOKUP(CONCATENATE(P$5,$C18),'trend data'!$A$2:$O$11161,P$6,FALSE),\"-\")","v":"-"},null,null,null,"202001",{"$f":"CONCATENATE(X$7,T18,'SAB Data and Charts'!B$1)","v":"SABHCAI202001Scotland"},10,"2020-03-30",{"$f":"ROUND(VLOOKUP($U18,'data for u-p-charts'!$A$2:$F$5000,X$5,FALSE),2)","v":16.329999999999998},{"$f":"ROUND(VLOOKUP($U18,'data for u-p-charts'!$A$2:$F$5000,Y$5,FALSE),2)","v":17.16},{"$f":"ROUND(VLOOKUP($U18,'data for u-p-charts'!$A$2:$F$5000,Z$5,FALSE),2)","v":19.32},{"$f":"ROUND(VLOOKUP($U18,'data for u-p-charts'!$A$2:$F$5000,AA$5,FALSE),2)","v":20.399999999999999},{"$f":"CONCATENATE(AC$7,$T18,'SAB Data and Charts'!$B$1)","v":"SABCAUN202001Scotland"},{"$f":"ROUND(VLOOKUP($AB18,'data for u-p-charts'!$A$2:$F$5000,AC$5,FALSE),2)","v":10.97},{"$f":"ROUND(VLOOKUP($AB18,'data for u-p-charts'!$A$2:$F$5000,AD$5,FALSE),2)","v":9.5},{"$f":"ROUND(VLOOKUP($AB18,'data for u-p-charts'!$A$2:$F$5000,AE$5,FALSE),2)","v":11.18},{"$f":"ROUND(VLOOKUP($AB18,'data for u-p-charts'!$A$2:$F$5000,AF$5,FALSE),2)","v":12.01},{"$f":"CONCATENATE(AH$7,$T18,'SAB Data and Charts'!$B$1)","v":"SAB 202001Scotland"},{"$f":"VLOOKUP($AG18,'data for u-p-charts'!$A$2:$F$5000,AH$5,FALSE)","v":{"$error":"#N/A"}},{"$f":"VLOOKUP($AG18,'data for u-p-charts'!$A$2:$F$5000,AI$5,FALSE)","v":{"$error":"#N/A"}},{"$f":"VLOOKUP($AG18,'data for u-p-charts'!$A$2:$F$5000,AJ$5,FALSE)","v":{"$error":"#N/A"}},{"$f":"VLOOKUP($AG18,'data for u-p-charts'!$A$2:$F$5000,AK$5,FALSE)","v":{"$error":"#N/A"}}]
[201703,"2017-09-01",{"$f":"CONCATENATE(A19,'SAB Data and Charts'!B$1)","v":"201703Scotland"},{"$f":"VLOOKUP(CONCATENATE(D$5,$C19),'trend data'!$A$2:$O$11161,D$6,FALSE)","v":278},{"$f":"ROUND(VLOOKUP(CONCATENATE(E$5,$C19),'trend data'!$A$2:$O$11161,E$6,FALSE),3)","v":18.082999999999998},{"$f":"ROUND(VLOOKUP(CONCATENATE(F$5,$C19),'trend data'!$A$2:$O$11161,F$6,FALSE),3)","v":16.02},{"$f":"ROUND(VLOOKUP(CONCATENATE(G$5,$C19),'trend data'!$A$2:$O$11161,G$6,FALSE),3)","v":20.338999999999999},{"$f":"IFERROR(VLOOKUP(CONCATENATE(H$5,$C19),'trend data'!$A$2:$O$11161,H$6,FALSE),\"-\")","v":127},{"$f":"IFERROR(ROUND(VLOOKUP(CONCATENATE(I$5,$C19),'trend data'!$A$2:$O$11161,I$6,FALSE),3),\"-\")","v":9.2880000000000003},{"$f":"IFERROR(ROUND(VLOOKUP(CONCATENATE(J$5,$C19),'trend data'!$A$2:$O$11161,J$6,FALSE),3),\"-\")","v":7.7430000000000003},{"$f":"IFERROR(ROUND(VLOOKUP(CONCATENATE(K$5,$C19),'trend data'!$A$2:$O$11161,K$6,FALSE),3),\"-\")","v":11.051},{"$f":"IFERROR(VLOOKUP(CONCATENATE(L$5,$C19),'trend data'!$A$2:$O$11161,L$6,FALSE),\"-\")","v":"-"},{"$f":"IFERROR(VLOOKUP(CONCATENATE(M$5,$C19),'trend data'!$A$2:$O$11161,M$6,FALSE),\"-\")","v":"-"},{"$f":"IFERROR(VLOOKUP(CONCATENATE(N$5,$C19),'trend data'!$A$2:$O$11161,N$6,FALSE),\"-\")","v":"-"},{"$f":"IFERROR(VLOOKUP(CONCATENATE(O$5,$C19),'trend data'!$A$2:$O$11161,O$6,FALSE),\"-\")","v":"-"},{"$f":"IFERROR(VLOOKUP(CONCATENATE(P$5,$C19),'trend data'!$A$2:$O$11161,P$6,FALSE),\"-\")","v":"-"},null,null,null,"202002",{"$f":"CONCATENATE(X$7,T19,'SAB Data and Charts'!B$1)","v":"SABHCAI202002Scotland"},11,{"$f":"W20-92","v":"2020-06-30"},{"$f":"ROUND(VLOOKUP($U19,'data for u-p-charts'!$A$2:$F$5000,X$5,FALSE),2)","v":20.260000000000002},{"$f":"ROUND(VLOOKUP($U19,'data for u-p-charts'!$A$2:$F$5000,Y$5,FALSE),2)","v":17.16},{"$f":"ROUND(VLOOKUP($U19,'data for u-p-charts'!$A$2:$F$5000,Z$5,FALSE),2)","v":19.690000000000001},{"$f":"ROUND(VLOOKUP($U19,'data for u-p-charts'!$A$2:$F$5000,AA$5,FALSE),2)","v":20.95},{"$f":"CONCATENATE(AC$7,$T19,'SAB Data and Charts'!$B$1)","v":"SABCAUN202002Scotland"},{"$f":"ROUND(VLOOKUP($AB19,'data for u-p-charts'!$A$2:$F$5000,AC$5,FALSE),2)","v":9.7200000000000006},{"$f":"ROUND(VLOOKUP($AB19,'data for u-p-charts'!$A$2:$F$5000,AD$5,FALSE),2)","v":9.5},{"$f":"ROUND(VLOOKUP($AB19,'data for u-p-charts'!$A$2:$F$5000,AE$5,FALSE),2)","v":11.18},{"$f":"ROUND(VLOOKUP($AB19,'data for u-p-charts'!$A$2:$F$5000,AF$5,FALSE),2)","v":12.01},{"$f":"CONCATENATE(AH$7,$T19,'SAB Data and Charts'!$B$1)","v":"SAB 202002Scotland"},{"$f":"VLOOKUP($AG19,'data for u-p-charts'!$A$2:$F$5000,AH$5,FALSE)","v":{"$error":"#N/A"}},{"$f":"VLOOKUP($AG19,'data for u-p-charts'!$A$2:$F$5000,AI$5,FALSE)","v":{"$error":"#N/A"}},{"$f":"VLOOKUP($AG19,'data for u-p-charts'!$A$2:$F$5000,AJ$5,FALSE)","v":{"$error":"#N/A"}},{"$f":"VLOOKUP($AG19,'data for u-p-charts'!$A$2:$F$5000,AK$5,FALSE)","v":{"$error":"#N/A"}}]
[201704,"2017-12-01",{"$f":"CONCATENATE(A20,'SAB Data and Charts'!B$1)","v":"201704Scotland"},{"$f":"VLOOKUP(CONCATENATE(D$5,$C20),'trend data'!$A$2:$O$11161,D$6,FALSE)","v":262},{"$f":"ROUND(VLOOKUP(CONCATENATE(E$5,$C20),'trend data'!$A$2:$O$11161,E$6,FALSE),3)","v":16.655000000000001},{"$f":"ROUND(VLOOKUP(CONCATENATE(F$5,$C20),'trend data'!$A$2:$O$11161,F$6,FALSE),3)","v":14.699},{"$f":"ROUND(VLOOKUP(CONCATENATE(G$5,$C20),'trend data'!$A$2:$O$11161,G$6,FALSE),3)","v":18.798999999999999},{"$f":"IFERROR(VLOOKUP(CONCATENATE(H$5,$C20),'trend data'!$A$2:$O$11161,H$6,FALSE),\"-\")","v":132},{"$f":"IFERROR(ROUND(VLOOKUP(CONCATENATE(I$5,$C20),'trend data'!$A$2:$O$11161,I$6,FALSE),3),\"-\")","v":9.6539999999999999},{"$f":"IFERROR(ROUND(VLOOKUP(CONCATENATE(J$5,$C20),'trend data'!$A$2:$O$11161,J$6,FALSE),3),\"-\")","v":8.077},{"$f":"IFERROR(ROUND(VLOOKUP(CONCATENATE(K$5,$C20),'trend data'!$A$2:$O$11161,K$6,FALSE),3),\"-\")","v":11.448},{"$f":"IFERROR(VLOOKUP(CONCATENATE(L$5,$C20),'trend data'!$A$2:$O$11161,L$6,FALSE),\"-\")","v":"-"},{"$f":"IFERROR(VLOOKUP(CONCATENATE(M$5,$C20),'trend data'!$A$2:$O$11161,M$6,FALSE),\"-\")","v":"-"},{"$f":"IFERROR(VLOOKUP(CONCATENATE(N$5,$C20),'trend data'!$A$2:$O$11161,N$6,FALSE),\"-\")","v":"-"},{"$f":"IFERROR(VLOOKUP(CONCATENATE(O$5,$C20),'trend data'!$A$2:$O$11161,O$6,FALSE),\"-\")","v":"-"},{"$f":"IFERROR(VLOOKUP(CONCATENATE(P$5,$C20),'trend data'!$A$2:$O$11161,P$6,FALSE),\"-\")","v":"-"},null,null,null,"202003",{"$f":"CONCATENATE(X$7,T20,'SAB Data and Charts'!B$1)","v":"SABHCAI202003Scotland"},12,{"$f":"W5","v":"2020-09-30"},{"$f":"ROUND(VLOOKUP($U20,'data for u-p-charts'!$A$2:$F$5000,X$5,FALSE),2)","v":17.27},{"$f":"ROUND(VLOOKUP($U20,'data for u-p-charts'!$A$2:$F$5000,Y$5,FALSE),2)","v":17.16},{"$f":"ROUND(VLOOKUP($U20,'data for u-p-charts'!$A$2:$F$5000,Z$5,FALSE),2)","v":19.46},{"$f":"ROUND(VLOOKUP($U20,'data for u-p-charts'!$A$2:$F$5000,AA$5,FALSE),2)","v":20.61},{"$f":"CONCATENATE(AC$7,$T20,'SAB Data and Charts'!$B$1)","v":"SABCAUN202003Scotland"},{"$f":"ROUND(VLOOKUP($AB20,'data for u-p-charts'!$A$2:$F$5000,AC$5,FALSE),2)","v":10.85},{"$f":"ROUND(VLOOKUP($AB20,'data for u-p-charts'!$A$2:$F$5000,AD$5,FALSE),2)","v":9.5},{"$f":"ROUND(VLOOKUP($AB20,'data for u-p-charts'!$A$2:$F$5000,AE$5,FALSE),2)","v":11.17},{"$f":"ROUND(VLOOKUP($AB20,'data for u-p-charts'!$A$2:$F$5000,AF$5,FALSE),2)","v":12},{"$f":"CONCATENATE(AH$7,$T20,'SAB Data and Charts'!$B$1)","v":"SAB 202003Scotland"},{"$f":"VLOOKUP($AG20,'data for u-p-charts'!$A$2:$F$5000,AH$5,FALSE)","v":{"$error":"#N/A"}},{"$f":"VLOOKUP($AG20,'data for u-p-charts'!$A$2:$F$5000,AI$5,FALSE)","v":{"$error":"#N/A"}},{"$f":"VLOOKUP($AG20,'data for u-p-charts'!$A$2:$F$5000,AJ$5,FALSE)","v":{"$error":"#N/A"}},{"$f":"VLOOKUP($AG20,'data for u-p-charts'!$A$2:$F$5000,AK$5,FALSE)","v":{"$error":"#N/A"}}]
[201801,"2018-03-01",{"$f":"CONCATENATE(A21,'SAB Data and Charts'!B$1)","v":"201801Scotland"},{"$f":"IFERROR(VLOOKUP(CONCATENATE(D$5,$C21),'trend data'!$A$2:$O$11161,D$6,FALSE),\"-\")","v":296},{"$f":"ROUND(VLOOKUP(CONCATENATE(E$5,$C21),'trend data'!$A$2:$O$11161,E$6,FALSE),3)","v":18.699000000000002},{"$f":"ROUND(VLOOKUP(CONCATENATE(F$5,$C21),'trend data'!$A$2:$O$11161,F$6,FALSE),3)","v":16.629000000000001},{"$f":"ROUND(VLOOKUP(CONCATENATE(G$5,$C21),'trend data'!$A$2:$O$11161,G$6,FALSE),3)","v":20.956},{"$f":"IFERROR(VLOOKUP(CONCATENATE(H$5,$C21),'trend data'!$A$2:$O$11161,H$6,FALSE),\"-\")","v":135},{"$f":"IFERROR(ROUND(VLOOKUP(CONCATENATE(I$5,$C21),'trend data'!$A$2:$O$11161,I$6,FALSE),3),\"-\")","v":10.068},{"$f":"IFERROR(ROUND(VLOOKUP(CONCATENATE(J$5,$C21),'trend data'!$A$2:$O$11161,J$6,FALSE),3),\"-\")","v":8.4410000000000007},{"$f":"IFERROR(ROUND(VLOOKUP(CONCATENATE(K$5,$C21),'trend data'!$A$2:$O$11161,K$6,FALSE),3),\"-\")","v":11.917},{"$f":"IFERROR(VLOOKUP(CONCATENATE(L$5,$C21),'trend data'!$A$2:$O$11161,L$6,FALSE),\"-\")","v":"-"},{"$f":"IFERROR(VLOOKUP(CONCATENATE(M$5,$C21),'trend data'!$A$2:$O$11161,M$6,FALSE),\"-\")","v":"-"},{"$f":"IFERROR(VLOOKUP(CONCATENATE(N$5,$C21),'trend data'!$A$2:$O$11161,N$6,FALSE),\"-\")","v":"-"},{"$f":"IFERROR(VLOOKUP(CONCATENATE(O$5,$C21),'trend data'!$A$2:$O$11161,O$6,FALSE),\"-\")","v":"-"},{"$f":"IFERROR(VLOOKUP(CONCATENATE(P$5,$C21),'trend data'!$A$2:$O$11161,P$6,FALSE),\"-\")","v":"-"}]
[201802,"2018-06-01",{"$f":"CONCATENATE(A22,'SAB Data and Charts'!B$1)","v":"201802Scotland"},{"$f":"IFERROR(VLOOKUP(CONCATENATE(D$5,$C22),'trend data'!$A$2:$O$11161,D$6,FALSE),\"-\")","v":264},{"$f":"ROUND(VLOOKUP(CONCATENATE(E$5,$C22),'trend data'!$A$2:$O$11161,E$6,FALSE),3)","v":17.332000000000001},{"$f":"ROUND(VLOOKUP(CONCATENATE(F$5,$C22),'trend data'!$A$2:$O$11161,F$6,FALSE),3)","v":15.304},{"$f":"ROUND(VLOOKUP(CONCATENATE(G$5,$C22),'trend data'!$A$2:$O$11161,G$6,FALSE),3)","v":19.553000000000001},{"$f":"IFERROR(VLOOKUP(CONCATENATE(H$5,$C22),'trend data'!$A$2:$O$11161,H$6,FALSE),\"-\")","v":123},{"$f":"IFERROR(ROUND(VLOOKUP(CONCATENATE(I$5,$C22),'trend data'!$A$2:$O$11161,I$6,FALSE),3),\"-\")","v":9.0719999999999992},{"$f":"IFERROR(ROUND(VLOOKUP(CONCATENATE(J$5,$C22),'trend data'!$A$2:$O$11161,J$6,FALSE),3),\"-\")","v":7.54},{"$f":"IFERROR(ROUND(VLOOKUP(CONCATENATE(K$5,$C22),'trend data'!$A$2:$O$11161,K$6,FALSE),3),\"-\")","v":10.824},{"$f":"IFERROR(VLOOKUP(CONCATENATE(L$5,$C22),'trend data'!$A$2:$O$11161,L$6,FALSE),\"-\")","v":"-"},{"$f":"IFERROR(VLOOKUP(CONCATENATE(M$5,$C22),'trend data'!$A$2:$O$11161,M$6,FALSE),\"-\")","v":"-"},{"$f":"IFERROR(VLOOKUP(CONCATENATE(N$5,$C22),'trend data'!$A$2:$O$11161,N$6,FALSE),\"-\")","v":"-"},{"$f":"IFERROR(VLOOKUP(CONCATENATE(O$5,$C22),'trend data'!$A$2:$O$11161,O$6,FALSE),\"-\")","v":"-"},{"$f":"IFERROR(VLOOKUP(CONCATENATE(P$5,$C22),'trend data'!$A$2:$O$11161,P$6,FALSE),\"-\")","v":"-"}]
[201803,"2018-09-01",{"$f":"CONCATENATE(A23,'SAB Data and Charts'!B$1)","v":"201803Scotland"},{"$f":"IFERROR(VLOOKUP(CONCATENATE(D$5,$C23),'trend data'!$A$2:$O$11161,D$6,FALSE),\"-\")","v":253},{"$f":"ROUND(VLOOKUP(CONCATENATE(E$5,$C23),'trend data'!$A$2:$O$11161,E$6,FALSE),3)","v":16.762},{"$f":"ROUND(VLOOKUP(CONCATENATE(F$5,$C23),'trend data'!$A$2:$O$11161,F$6,FALSE),3)","v":14.76},{"$f":"ROUND(VLOOKUP(CONCATENATE(G$5,$C23),'trend data'!$A$2:$O$11161,G$6,FALSE),3)","v":18.96},{"$f":"IFERROR(VLOOKUP(CONCATENATE(H$5,$C23),'trend data'!$A$2:$O$11161,H$6,FALSE),\"-\")","v":132},{"$f":"IFERROR(ROUND(VLOOKUP(CONCATENATE(I$5,$C23),'trend data'!$A$2:$O$11161,I$6,FALSE),3),\"-\")","v":9.6300000000000008},{"$f":"IFERROR(ROUND(VLOOKUP(CONCATENATE(J$5,$C23),'trend data'!$A$2:$O$11161,J$6,FALSE),3),\"-\")","v":8.0570000000000004},{"$f":"IFERROR(ROUND(VLOOKUP(CONCATENATE(K$5,$C23),'trend data'!$A$2:$O$11161,K$6,FALSE),3),\"-\")","v":11.42},{"$f":"IFERROR(VLOOKUP(CONCATENATE(L$5,$C23),'trend data'!$A$2:$O$11161,L$6,FALSE),\"-\")","v":"-"},{"$f":"IFERROR(VLOOKUP(CONCATENATE(M$5,$C23),'trend data'!$A$2:$O$11161,M$6,FALSE),\"-\")","v":"-"},{"$f":"IFERROR(VLOOKUP(CONCATENATE(N$5,$C23),'trend data'!$A$2:$O$11161,N$6,FALSE),\"-\")","v":"-"},{"$f":"IFERROR(VLOOKUP(CONCATENATE(O$5,$C23),'trend data'!$A$2:$O$11161,O$6,FALSE),\"-\")","v":"-"},{"$f":"IFERROR(VLOOKUP(CONCATENATE(P$5,$C23),'trend data'!$A$2:$O$11161,P$6,FALSE),\"-\")","v":"-"}]
[201804,"2018-12-01",{"$f":"CONCATENATE(A24,'SAB Data and Charts'!B$1)","v":"201804Scotland"},{"$f":"IFERROR(VLOOKUP(CONCATENATE(D$5,$C24),'trend data'!$A$2:$O$11161,D$6,FALSE),\"-\")","v":269},{"$f":"ROUND(VLOOKUP(CONCATENATE(E$5,$C24),'trend data'!$A$2:$O$11161,E$6,FALSE),3)","v":17.693999999999999},{"$f":"ROUND(VLOOKUP(CONCATENATE(F$5,$C24),'trend data'!$A$2:$O$11161,F$6,FALSE),3)","v":15.643000000000001},{"$f":"ROUND(VLOOKUP(CONCATENATE(G$5,$C24),'trend data'!$A$2:$O$11161,G$6,FALSE),3)","v":19.940000000000001},{"$f":"IFERROR(VLOOKUP(CONCATENATE(H$5,$C24),'trend data'!$A$2:$O$11161,H$6,FALSE),\"-\")","v":113},{"$f":"IFERROR(ROUND(VLOOKUP(CONCATENATE(I$5,$C24),'trend data'!$A$2:$O$11161,I$6,FALSE),3),\"-\")","v":8.2439999999999998},{"$f":"IFERROR(ROUND(VLOOKUP(CONCATENATE(J$5,$C24),'trend data'!$A$2:$O$11161,J$6,FALSE),3),\"-\")","v":6.7939999999999996},{"$f":"IFERROR(ROUND(VLOOKUP(CONCATENATE(K$5,$C24),'trend data'!$A$2:$O$11161,K$6,FALSE),3),\"-\")","v":9.9120000000000008},{"$f":"IFERROR(VLOOKUP(CONCATENATE(L$5,$C24),'trend data'!$A$2:$O$11161,L$6,FALSE),\"-\")","v":"-"},{"$f":"IFERROR(VLOOKUP(CONCATENATE(M$5,$C24),'trend data'!$A$2:$O$11161,M$6,FALSE),\"-\")","v":"-"},{"$f":"IFERROR(VLOOKUP(CONCATENATE(N$5,$C24),'trend data'!$A$2:$O$11161,N$6,FALSE),\"-\")","v":"-"},{"$f":"IFERROR(VLOOKUP(CONCATENATE(O$5,$C24),'trend data'!$A$2:$O$11161,O$6,FALSE),\"-\")","v":"-"},{"$f":"IFERROR(VLOOKUP(CONCATENATE(P$5,$C24),'trend data'!$A$2:$O$11161,P$6,FALSE),\"-\")","v":"-"}]
[201901,"2019-03-01",{"$f":"CONCATENATE(A25,'SAB Data and Charts'!B$1)","v":"201901Scotland"},{"$f":"IFERROR(VLOOKUP(CONCATENATE(D$5,$C25),'trend data'!$A$2:$O$11161,D$6,FALSE),\"-\")","v":240},{"$f":"ROUND(VLOOKUP(CONCATENATE(E$5,$C25),'trend data'!$A$2:$O$11161,E$6,FALSE),3)","v":15.618},{"$f":"ROUND(VLOOKUP(CONCATENATE(F$5,$C25),'trend data'!$A$2:$O$11161,F$6,FALSE),3)","v":13.704000000000001},{"$f":"ROUND(VLOOKUP(CONCATENATE(G$5,$C25),'trend data'!$A$2:$O$11161,G$6,FALSE),3)","v":17.724},{"$f":"IFERROR(VLOOKUP(CONCATENATE(H$5,$C25),'trend data'!$A$2:$O$11161,H$6,FALSE),\"-\")","v":144},{"$f":"IFERROR(ROUND(VLOOKUP(CONCATENATE(I$5,$C25),'trend data'!$A$2:$O$11161,I$6,FALSE),3),\"-\")","v":10.69},{"$f":"IFERROR(ROUND(VLOOKUP(CONCATENATE(J$5,$C25),'trend data'!$A$2:$O$11161,J$6,FALSE),3),\"-\")","v":9.0150000000000006},{"$f":"IFERROR(ROUND(VLOOKUP(CONCATENATE(K$5,$C25),'trend data'!$A$2:$O$11161,K$6,FALSE),3),\"-\")","v":12.585000000000001},{"$f":"IFERROR(VLOOKUP(CONCATENATE(L$5,$C25),'trend data'!$A$2:$O$11161,L$6,FALSE),\"-\")","v":"-"},{"$f":"IFERROR(VLOOKUP(CONCATENATE(M$5,$C25),'trend data'!$A$2:$O$11161,M$6,FALSE),\"-\")","v":"-"},{"$f":"IFERROR(VLOOKUP(CONCATENATE(N$5,$C25),'trend data'!$A$2:$O$11161,N$6,FALSE),\"-\")","v":"-"},{"$f":"IFERROR(VLOOKUP(CONCATENATE(O$5,$C25),'trend data'!$A$2:$O$11161,O$6,FALSE),\"-\")","v":"-"},{"$f":"IFERROR(VLOOKUP(CONCATENATE(P$5,$C25),'trend data'!$A$2:$O$11161,P$6,FALSE),\"-\")","v":"-"}]
[201902,"2019-06-01",{"$f":"CONCATENATE(A26,'SAB Data and Charts'!B$1)","v":"201902Scotland"},{"$f":"IFERROR(VLOOKUP(CONCATENATE(D$5,$C26),'trend data'!$A$2:$O$11161,D$6,FALSE),\"-\")","v":251},{"$f":"ROUND(VLOOKUP(CONCATENATE(E$5,$C26),'trend data'!$A$2:$O$11161,E$6,FALSE),3)","v":16.725999999999999},{"$f":"ROUND(VLOOKUP(CONCATENATE(F$5,$C26),'trend data'!$A$2:$O$11161,F$6,FALSE),3)","v":14.72},{"$f":"ROUND(VLOOKUP(CONCATENATE(G$5,$C26),'trend data'!$A$2:$O$11161,G$6,FALSE),3)","v":18.928000000000001},{"$f":"IFERROR(VLOOKUP(CONCATENATE(H$5,$C26),'trend data'!$A$2:$O$11161,H$6,FALSE),\"-\")","v":133},{"$f":"IFERROR(ROUND(VLOOKUP(CONCATENATE(I$5,$C26),'trend data'!$A$2:$O$11161,I$6,FALSE),3),\"-\")","v":9.7639999999999993},{"$f":"IFERROR(ROUND(VLOOKUP(CONCATENATE(J$5,$C26),'trend data'!$A$2:$O$11161,J$6,FALSE),3),\"-\")","v":8.1750000000000007},{"$f":"IFERROR(ROUND(VLOOKUP(CONCATENATE(K$5,$C26),'trend data'!$A$2:$O$11161,K$6,FALSE),3),\"-\")","v":11.571999999999999},{"$f":"IFERROR(VLOOKUP(CONCATENATE(L$5,$C26),'trend data'!$A$2:$O$11161,L$6,FALSE),\"-\")","v":"-"},{"$f":"IFERROR(VLOOKUP(CONCATENATE(M$5,$C26),'trend data'!$A$2:$O$11161,M$6,FALSE),\"-\")","v":"-"},{"$f":"IFERROR(VLOOKUP(CONCATENATE(N$5,$C26),'trend data'!$A$2:$O$11161,N$6,FALSE),\"-\")","v":"-"},{"$f":"IFERROR(VLOOKUP(CONCATENATE(O$5,$C26),'trend data'!$A$2:$O$11161,O$6,FALSE),\"-\")","v":"-"},{"$f":"IFERROR(VLOOKUP(CONCATENATE(P$5,$C26),'trend data'!$A$2:$O$11161,P$6,FALSE),\"-\")","v":"-"}]
[201903,"2019-09-01",{"$f":"CONCATENATE(A27,'SAB Data and Charts'!B$1)","v":"201903Scotland"},{"$f":"IFERROR(VLOOKUP(CONCATENATE(D$5,$C27),'trend data'!$A$2:$O$11161,D$6,FALSE),\"-\")","v":264},{"$f":"ROUND(VLOOKUP(CONCATENATE(E$5,$C27),'trend data'!$A$2:$O$11161,E$6,FALSE),3)","v":17.48},{"$f":"ROUND(VLOOKUP(CONCATENATE(F$5,$C27),'trend data'!$A$2:$O$11161,F$6,FALSE),3)","v":15.435},{"$f":"ROUND(VLOOKUP(CONCATENATE(G$5,$C27),'trend data'!$A$2:$O$11161,G$6,FALSE),3)","v":19.721},{"$f":"IFERROR(VLOOKUP(CONCATENATE(H$5,$C27),'trend data'!$A$2:$O$11161,H$6,FALSE),\"-\")","v":102},{"$f":"IFERROR(ROUND(VLOOKUP(CONCATENATE(I$5,$C27),'trend data'!$A$2:$O$11161,I$6,FALSE),3),\"-\")","v":7.407},{"$f":"IFERROR(ROUND(VLOOKUP(CONCATENATE(J$5,$C27),'trend data'!$A$2:$O$11161,J$6,FALSE),3),\"-\")","v":6.0389999999999997},{"$f":"IFERROR(ROUND(VLOOKUP(CONCATENATE(K$5,$C27),'trend data'!$A$2:$O$11161,K$6,FALSE),3),\"-\")","v":8.9920000000000009},{"$f":"IFERROR(VLOOKUP(CONCATENATE(L$5,$C27),'trend data'!$A$2:$O$11161,L$6,FALSE),\"-\")","v":"-"},{"$f":"IFERROR(VLOOKUP(CONCATENATE(M$5,$C27),'trend data'!$A$2:$O$11161,M$6,FALSE),\"-\")","v":"-"},{"$f":"IFERROR(VLOOKUP(CONCATENATE(N$5,$C27),'trend data'!$A$2:$O$11161,N$6,FALSE),\"-\")","v":"-"},{"$f":"IFERROR(VLOOKUP(CONCATENATE(O$5,$C27),'trend data'!$A$2:$O$11161,O$6,FALSE),\"-\")","v":"-"},{"$f":"IFERROR(VLOOKUP(CONCATENATE(P$5,$C27),'trend data'!$A$2:$O$11161,P$6,FALSE),\"-\")","v":"-"}]
[201904,"2019-12-01",{"$f":"CONCATENATE(A28,'SAB Data and Charts'!B$1)","v":"201904Scotland"},{"$f":"IFERROR(VLOOKUP(CONCATENATE(D$5,$C28),'trend data'!$A$2:$O$11161,D$6,FALSE),\"-\")","v":233},{"$f":"ROUND(VLOOKUP(CONCATENATE(E$5,$C28),'trend data'!$A$2:$O$11161,E$6,FALSE),3)","v":15.186999999999999},{"$f":"ROUND(VLOOKUP(CONCATENATE(F$5,$C28),'trend data'!$A$2:$O$11161,F$6,FALSE),3)","v":13.3},{"$f":"ROUND(VLOOKUP(CONCATENATE(G$5,$C28),'trend data'!$A$2:$O$11161,G$6,FALSE),3)","v":17.268000000000001},{"$f":"IFERROR(VLOOKUP(CONCATENATE(H$5,$C28),'trend data'!$A$2:$O$11161,H$6,FALSE),\"-\")","v":132},{"$f":"IFERROR(ROUND(VLOOKUP(CONCATENATE(I$5,$C28),'trend data'!$A$2:$O$11161,I$6,FALSE),3),\"-\")","v":9.5860000000000003},{"$f":"IFERROR(ROUND(VLOOKUP(CONCATENATE(J$5,$C28),'trend data'!$A$2:$O$11161,J$6,FALSE),3),\"-\")","v":8.02},{"$f":"IFERROR(ROUND(VLOOKUP(CONCATENATE(K$5,$C28),'trend data'!$A$2:$O$11161,K$6,FALSE),3),\"-\")","v":11.368},{"$f":"IFERROR(VLOOKUP(CONCATENATE(L$5,$C28),'trend data'!$A$2:$O$11161,L$6,FALSE),\"-\")","v":"-"},{"$f":"IFERROR(VLOOKUP(CONCATENATE(M$5,$C28),'trend data'!$A$2:$O$11161,M$6,FALSE),\"-\")","v":"-"},{"$f":"IFERROR(VLOOKUP(CONCATENATE(N$5,$C28),'trend data'!$A$2:$O$11161,N$6,FALSE),\"-\")","v":"-"},{"$f":"IFERROR(VLOOKUP(CONCATENATE(O$5,$C28),'trend data'!$A$2:$O$11161,O$6,FALSE),\"-\")","v":"-"},{"$f":"IFERROR(VLOOKUP(CONCATENATE(P$5,$C28),'trend data'!$A$2:$O$11161,P$6,FALSE),\"-\")","v":"-"}]
[202001,"2020-03-01",{"$f":"CONCATENATE(A29,'SAB Data and Charts'!B$1)","v":"202001Scotland"},{"$f":"IFERROR(VLOOKUP(CONCATENATE(D$5,$C29),'trend data'!$A$2:$O$11161,D$6,FALSE),\"-\")","v":241},{"$f":"ROUND(VLOOKUP(CONCATENATE(E$5,$C29),'trend data'!$A$2:$O$11161,E$6,FALSE),3)","v":16.326000000000001},{"$f":"ROUND(VLOOKUP(CONCATENATE(F$5,$C29),'trend data'!$A$2:$O$11161,F$6,FALSE),3)","v":14.33},{"$f":"ROUND(VLOOKUP(CONCATENATE(G$5,$C29),'trend data'!$A$2:$O$11161,G$6,FALSE),3)","v":18.523},{"$f":"IFERROR(VLOOKUP(CONCATENATE(H$5,$C29),'trend data'!$A$2:$O$11161,H$6,FALSE),\"-\")","v":149},{"$f":"IFERROR(ROUND(VLOOKUP(CONCATENATE(I$5,$C29),'trend data'!$A$2:$O$11161,I$6,FALSE),3),\"-\")","v":10.968999999999999},{"$f":"IFERROR(ROUND(VLOOKUP(CONCATENATE(J$5,$C29),'trend data'!$A$2:$O$11161,J$6,FALSE),3),\"-\")","v":9.2780000000000005},{"$f":"IFERROR(ROUND(VLOOKUP(CONCATENATE(K$5,$C29),'trend data'!$A$2:$O$11161,K$6,FALSE),3),\"-\")","v":12.879},{"$f":"IFERROR(VLOOKUP(CONCATENATE(L$5,$C29),'trend data'!$A$2:$O$11161,L$6,FALSE),\"-\")","v":"-"},{"$f":"IFERROR(VLOOKUP(CONCATENATE(M$5,$C29),'trend data'!$A$2:$O$11161,M$6,FALSE),\"-\")","v":"-"},{"$f":"IFERROR(VLOOKUP(CONCATENATE(N$5,$C29),'trend data'!$A$2:$O$11161,N$6,FALSE),\"-\")","v":"-"},{"$f":"IFERROR(VLOOKUP(CONCATENATE(O$5,$C29),'trend data'!$A$2:$O$11161,O$6,FALSE),\"-\")","v":"-"},{"$f":"IFERROR(VLOOKUP(CONCATENATE(P$5,$C29),'trend data'!$A$2:$O$11161,P$6,FALSE),\"-\")","v":"-"}]
[202002,"2020-06-01",{"$f":"CONCATENATE(A30,'SAB Data and Charts'!B$1)","v":"202002Scotland"},{"$f":"IFERROR(VLOOKUP(CONCATENATE(D$5,$C30),'trend data'!$A$2:$O$11161,D$6,FALSE),\"-\")","v":219},{"$f":"ROUND(VLOOKUP(CONCATENATE(E$5,$C30),'trend data'!$A$2:$O$11161,E$6,FALSE),3)","v":20.257000000000001},{"$f":"ROUND(VLOOKUP(CONCATENATE(F$5,$C30),'trend data'!$A$2:$O$11161,F$6,FALSE),3)","v":17.663},{"$f":"ROUND(VLOOKUP(CONCATENATE(G$5,$C30),'trend data'!$A$2:$O$11161,G$6,FALSE),3)","v":23.126000000000001},{"$f":"IFERROR(VLOOKUP(CONCATENATE(H$5,$C30),'trend data'!$A$2:$O$11161,H$6,FALSE),\"-\")","v":132},{"$f":"IFERROR(ROUND(VLOOKUP(CONCATENATE(I$5,$C30),'trend data'!$A$2:$O$11161,I$6,FALSE),3),\"-\")","v":9.718},{"$f":"IFERROR(ROUND(VLOOKUP(CONCATENATE(J$5,$C30),'trend data'!$A$2:$O$11161,J$6,FALSE),3),\"-\")","v":8.1300000000000008},{"$f":"IFERROR(ROUND(VLOOKUP(CONCATENATE(K$5,$C30),'trend data'!$A$2:$O$11161,K$6,FALSE),3),\"-\")","v":11.523999999999999},{"$f":"IFERROR(VLOOKUP(CONCATENATE(L$5,$C30),'trend data'!$A$2:$O$11161,L$6,FALSE),\"-\")","v":"-"},{"$f":"IFERROR(VLOOKUP(CONCATENATE(M$5,$C30),'trend data'!$A$2:$O$11161,M$6,FALSE),\"-\")","v":"-"},{"$f":"IFERROR(VLOOKUP(CONCATENATE(N$5,$C30),'trend data'!$A$2:$O$11161,N$6,FALSE),\"-\")","v":"-"},{"$f":"IFERROR(VLOOKUP(CONCATENATE(O$5,$C30),'trend data'!$A$2:$O$11161,O$6,FALSE),\"-\")","v":"-"},{"$f":"IFERROR(VLOOKUP(CONCATENATE(P$5,$C30),'trend data'!$A$2:$O$11161,P$6,FALSE),\"-\")","v":"-"}]
[202003,"2020-09-01",{"$f":"CONCATENATE(A31,'SAB Data and Charts'!B$1)","v":"202003Scotland"},{"$f":"IFERROR(VLOOKUP(CONCATENATE(D$5,$C31),'trend data'!$A$2:$O$11161,D$6,FALSE),\"-\")","v":225},{"$f":"ROUND(VLOOKUP(CONCATENATE(E$5,$C31),'trend data'!$A$2:$O$11161,E$6,FALSE),4)","v":17.267199999999999},{"$f":"ROUND(VLOOKUP(CONCATENATE(F$5,$C31),'trend data'!$A$2:$O$11161,F$6,FALSE),4)","v":15.0844},{"$f":"ROUND(VLOOKUP(CONCATENATE(G$5,$C31),'trend data'!$A$2:$O$11161,G$6,FALSE),4)","v":19.677099999999999},{"$f":"IFERROR(VLOOKUP(CONCATENATE(H$5,$C31),'trend data'!$A$2:$O$11161,H$6,FALSE),\"-\")","v":149},{"$f":"IFERROR(ROUND(VLOOKUP(CONCATENATE(I$5,$C31),'trend data'!$A$2:$O$11161,I$6,FALSE),4),\"-\")","v":10.8499},{"$f":"IFERROR(ROUND(VLOOKUP(CONCATENATE(J$5,$C31),'trend data'!$A$2:$O$11161,J$6,FALSE),4),\"-\")","v":9.1776},{"$f":"IFERROR(ROUND(VLOOKUP(CONCATENATE(K$5,$C31),'trend data'!$A$2:$O$11161,K$6,FALSE),4),\"-\")","v":12.7387},{"$f":"IFERROR(VLOOKUP(CONCATENATE(L$5,$C31),'trend data'!$A$2:$O$11161,L$6,FALSE),\"-\")","v":"-"},{"$f":"IFERROR(VLOOKUP(CONCATENATE(M$5,$C31),'trend data'!$A$2:$O$11161,M$6,FALSE),\"-\")","v":"-"},{"$f":"IFERROR(VLOOKUP(CONCATENATE(N$5,$C31),'trend data'!$A$2:$O$11161,N$6,FALSE),\"-\")","v":"-"},{"$f":"IFERROR(VLOOKUP(CONCATENATE(O$5,$C31),'trend data'!$A$2:$O$11161,O$6,FALSE),\"-\")","v":"-"}]

{"sheet":"CDI data","index":7,"n_rows":31,"n_cols":27,"rows_kept":31,"cut":false,"hidden":true,"merged":[]}
["Trend data",null,null,null,null,null,null,null,null,null,null,null,null,null,"u-chart data"]
[]
["always last 3 years"]
[null,null,null,null,null,null,null,null,null,null,null,null,null,null,null,null,"change this"]
[null,null,null,"CDIHCAI","CDIHCAI","CDIHCAI","CDIHCAI","CDICA","CDICA","CDICA","CDICA",null,null,null,null,"current quarter end","2020-09-30",null,3,4,5,6,null,3,4,5,6]
[null,null,null,2,4,5,6,2,4,5,6]
[null,null,"ref","Healthcare associated Cases","Healthcare associated rate","Healthcare associated lower CI","Healthcare associated upper CI","Community associated Cases","Community associated rate","Community associated lower CI","Community associated upper CI",null,null,null,null,null,null,null,"CDIHCAI",null,null,null,null,"CDICA"]
[201404,"2014-12-19",{"$f":"CONCATENATE(A8,'CDI Data and Charts'!B$1)","v":"201404Scotland"},{"$f":"VLOOKUP(CONCATENATE(D$5,$C8),'trend data'!$A$2:$O$11161,D$6,FALSE)","v":321},{"$f":"ROUND(VLOOKUP(CONCATENATE(E$5,$C8),'trend data'!$A$2:$O$11161,E$6,FALSE),3)","v":18.765999999999998},{"$f":"ROUND(VLOOKUP(CONCATENATE(F$5,$C8),'trend data'!$A$2:$O$11161,F$6,FALSE),3)","v":16.768999999999998},{"$f":"ROUND(VLOOKUP(CONCATENATE(G$5,$C8),'trend data'!$A$2:$O$11161,G$6,FALSE),3)","v":20.936},{"$f":"IFERROR(VLOOKUP(CONCATENATE(H$5,$C8),'trend data'!$A$2:$O$11161,H$6,FALSE),\"-\")","v":121},{"$f":"IFERROR(ROUND(VLOOKUP(CONCATENATE(I$5,$C8),'trend data'!$A$2:$O$11161,I$6,FALSE),3),\"-\")","v":8.9770000000000003},{"$f":"IFERROR(ROUND(VLOOKUP(CONCATENATE(J$5,$C8),'trend data'!$A$2:$O$11161,J$6,FALSE),3),\"-\")","v":7.4489999999999998},{"$f":"IFERROR(ROUND(VLOOKUP(CONCATENATE(K$5,$C8),'trend data'!$A$2:$O$11161,K$6,FALSE),3),\"-\")","v":10.726000000000001},null,null,null,null,null,null,null,"Healthcare associated rate","Healthcare associated av rate","Healthcare associated UWL 2sd","Healthcare associated UWL 3sd",null,"Community associatedrate","Community associatedav rate","Community associatedUWL 2sd","Community associatedUWL 3 sd"]
[201501,"2015-03-24",{"$f":"CONCATENATE(A9,'CDI Data and Charts'!B$1)","v":"201501Scotland"},{"$f":"VLOOKUP(CONCATENATE(D$5,$C9),'trend data'!$A$2:$O$11161,D$6,FALSE)","v":251},{"$f":"ROUND(VLOOKUP(CONCATENATE(E$5,$C9),'trend data'!$A$2:$O$11161,E$6,FALSE),3)","v":14.573},{"$f":"ROUND(VLOOKUP(CONCATENATE(F$5,$C9),'trend data'!$A$2:$O$11161,F$6,FALSE),3)","v":12.826000000000001},{"$f":"ROUND(VLOOKUP(CONCATENATE(G$5,$C9),'trend data'!$A$2:$O$11161,G$6,FALSE),3)","v":16.492000000000001},{"$f":"IFERROR(VLOOKUP(CONCATENATE(H$5,$C9),'trend data'!$A$2:$O$11161,H$6,FALSE),\"-\")","v":92},{"$f":"IFERROR(ROUND(VLOOKUP(CONCATENATE(I$5,$C9),'trend data'!$A$2:$O$11161,I$6,FALSE),3),\"-\")","v":6.944},{"$f":"IFERROR(ROUND(VLOOKUP(CONCATENATE(J$5,$C9),'trend data'!$A$2:$O$11161,J$6,FALSE),3),\"-\")","v":5.5979999999999999},{"$f":"IFERROR(ROUND(VLOOKUP(CONCATENATE(K$5,$C9),'trend data'!$A$2:$O$11161,K$6,FALSE),3),\"-\")","v":8.5169999999999995},null,null,null,{"$f":"YEAR(Q9)&\"0\"&IF(MONTH(Q9)<4,1,IF(MONTH(Q9)<7,2,IF(MONTH(Q9)<10,3,4)))","v":"201704"},1,{"$f":"Q10-92","v":"2017-12-23"},{"$f":"CONCATENATE(S$7,$O9,'CDI Data and Charts'!B$1)","v":"CDIHCAI201704Scotland"},{"$f":"ROUND(VLOOKUP($R9,'data for u-p-charts'!$A$2:$F$5000,S$5,FALSE),2)","v":14.94},{"$f":"ROUND(VLOOKUP($R9,'data for u-p-charts'!$A$2:$F$5000,T$5,FALSE),2)","v":14.79},{"$f":"ROUND(VLOOKUP($R9,'data for u-p-charts'!$A$2:$F$5000,U$5,FALSE),2)","v":16.73},{"$f":"ROUND(VLOOKUP($R9,'data for u-p-charts'!$A$2:$F$5000,V$5,FALSE),2)","v":17.7},{"$f":"CONCATENATE(X$7,$O9,'CDI Data and Charts'!B$1)","v":"CDICA201704Scotland"},{"$f":"ROUND(VLOOKUP($W9,'data for u-p-charts'!$A$2:$F$5000,X$5,FALSE),2)","v":5.41},{"$f":"ROUND(VLOOKUP($W9,'data for u-p-charts'!$A$2:$F$5000,Y$5,FALSE),2)","v":5.62},{"$f":"ROUND(VLOOKUP($W9,'data for u-p-charts'!$A$2:$F$5000,Z$5,FALSE),2)","v":6.9},{"$f":"ROUND(VLOOKUP($W9,'data for u-p-charts'!$A$2:$F$5000,AA$5,FALSE),2)","v":7.54}]
[201502,"2015-06-24",{"$f":"CONCATENATE(A10,'CDI Data and Charts'!B$1)","v":"201502Scotland"},{"$f":"VLOOKUP(CONCATENATE(D$5,$C10),'trend data'!$A$2:$O$11161,D$6,FALSE)","v":308},{"$f":"ROUND(VLOOKUP(CONCATENATE(E$5,$C10),'trend data'!$A$2:$O$11161,E$6,FALSE),3)","v":18.552},{"$f":"ROUND(VLOOKUP(CONCATENATE(F$5,$C10),'trend data'!$A$2:$O$11161,F$6,FALSE),3)","v":16.538},{"$f":"ROUND(VLOOKUP(CONCATENATE(G$5,$C10),'trend data'!$A$2:$O$11161,G$6,FALSE),3)","v":20.744},{"$f":"IFERROR(VLOOKUP(CONCATENATE(H$5,$C10),'trend data'!$A$2:$O$11161,H$6,FALSE),\"-\")","v":98},{"$f":"IFERROR(ROUND(VLOOKUP(CONCATENATE(I$5,$C10),'trend data'!$A$2:$O$11161,I$6,FALSE),3),\"-\")","v":7.3159999999999998},{"$f":"IFERROR(ROUND(VLOOKUP(CONCATENATE(J$5,$C10),'trend data'!$A$2:$O$11161,J$6,FALSE),3),\"-\")","v":5.9390000000000001},{"$f":"IFERROR(ROUND(VLOOKUP(CONCATENATE(K$5,$C10),'trend data'!$A$2:$O$11161,K$6,FALSE),3),\"-\")","v":8.9160000000000004},null,null,null,{"$f":"YEAR(Q10)&\"0\"&IF(MONTH(Q10)<4,1,IF(MONTH(Q10)<7,2,IF(MONTH(Q10)<10,3,4)))","v":"201801"},2,"2018-03-25",{"$f":"CONCATENATE(S$7,$O10,'CDI Data and Charts'!B$1)","v":"CDIHCAI201801Scotland"},{"$f":"ROUND(VLOOKUP($R10,'data for u-p-charts'!$A$2:$F$5000,S$5,FALSE),2)","v":14.4},{"$f":"ROUND(VLOOKUP($R10,'data for u-p-charts'!$A$2:$F$5000,T$5,FALSE),2)","v":14.79},{"$f":"ROUND(VLOOKUP($R10,'data for u-p-charts'!$A$2:$F$5000,U$5,FALSE),2)","v":16.73},{"$f":"ROUND(VLOOKUP($R10,'data for u-p-charts'!$A$2:$F$5000,V$5,FALSE),2)","v":17.690000000000001},{"$f":"CONCATENATE(X$7,$O10,'CDI Data and Charts'!B$1)","v":"CDICA201801Scotland"},{"$f":"ROUND(VLOOKUP($W10,'data for u-p-charts'!$A$2:$F$5000,X$5,FALSE),2)","v":6.41},{"$f":"ROUND(VLOOKUP($W10,'data for u-p-charts'!$A$2:$F$5000,Y$5,FALSE),2)","v":5.62},{"$f":"ROUND(VLOOKUP($W10,'data for u-p-charts'!$A$2:$F$5000,Z$5,FALSE),2)","v":6.91},{"$f":"ROUND(VLOOKUP($W10,'data for u-p-charts'!$A$2:$F$5000,AA$5,FALSE),2)","v":7.56}]
[201503,"2015-09-24",{"$f":"CONCATENATE(A11,'CDI Data and Charts'!B$1)","v":"201503Scotland"},{"$f":"VLOOKUP(CONCATENATE(D$5,$C11),'trend data'!$A$2:$O$11161,D$6,FALSE)","v":313},{"$f":"ROUND(VLOOKUP(CONCATENATE(E$5,$C11),'trend data'!$A$2:$O$11161,E$6,FALSE),3)","v":19.321000000000002},{"$f":"ROUND(VLOOKUP(CONCATENATE(F$5,$C11),'trend data'!$A$2:$O$11161,F$6,FALSE),3)","v":17.239999999999998},{"$f":"ROUND(VLOOKUP(CONCATENATE(G$5,$C11),'trend data'!$A$2:$O$11161,G$6,FALSE),3)","v":21.585000000000001},{"$f":"IFERROR(VLOOKUP(CONCATENATE(H$5,$C11),'trend data'!$A$2:$O$11161,H$6,FALSE),\"-\")","v":131},{"$f":"IFERROR(ROUND(VLOOKUP(CONCATENATE(I$5,$C11),'trend data'!$A$2:$O$11161,I$6,FALSE),3),\"-\")","v":9.673},{"$f":"IFERROR(ROUND(VLOOKUP(CONCATENATE(J$5,$C11),'trend data'!$A$2:$O$11161,J$6,FALSE),3),\"-\")","v":8.0869999999999997},{"$f":"IFERROR(ROUND(VLOOKUP(CONCATENATE(K$5,$C11),'trend data'!$A$2:$O$11161,K$6,FALSE),3),\"-\")","v":11.478},null,null,null,"201802",3,"2018-06-25",{"$f":"CONCATENATE(S$7,$O11,'CDI Data and Charts'!B$1)","v":"CDIHCAI201802Scotland"},{"$f":"ROUND(VLOOKUP($R11,'data for u-p-charts'!$A$2:$F$5000,S$5,FALSE),2)","v":16.02},{"$f":"ROUND(VLOOKUP($R11,'data for u-p-charts'!$A$2:$F$5000,T$5,FALSE),2)","v":14.79},{"$f":"ROUND(VLOOKUP($R11,'data for u-p-charts'!$A$2:$F$5000,U$5,FALSE),2)","v":16.77},{"$f":"ROUND(VLOOKUP($R11,'data for u-p-charts'!$A$2:$F$5000,V$5,FALSE),2)","v":17.75},{"$f":"CONCATENATE(X$7,$O11,'CDI Data and Charts'!B$1)","v":"CDICA201802Scotland"},{"$f":"ROUND(VLOOKUP($W11,'data for u-p-charts'!$A$2:$F$5000,X$5,FALSE),2)","v":7.52},{"$f":"ROUND(VLOOKUP($W11,'data for u-p-charts'!$A$2:$F$5000,Y$5,FALSE),2)","v":5.62},{"$f":"ROUND(VLOOKUP($W11,'data for u-p-charts'!$A$2:$F$5000,Z$5,FALSE),2)","v":6.91},{"$f":"ROUND(VLOOKUP($W11,'data for u-p-charts'!$A$2:$F$5000,AA$5,FALSE),2)","v":7.55}]
[201504,"2015-12-24",{"$f":"CONCATENATE(A12,'CDI Data and Charts'!B$1)","v":"201504Scotland"},{"$f":"VLOOKUP(CONCATENATE(D$5,$C12),'trend data'!$A$2:$O$11161,D$6,FALSE)","v":367},{"$f":"ROUND(VLOOKUP(CONCATENATE(E$5,$C12),'trend data'!$A$2:$O$11161,E$6,FALSE),3)","v":22.372},{"$f":"ROUND(VLOOKUP(CONCATENATE(F$5,$C12),'trend data'!$A$2:$O$11161,F$6,FALSE),3)","v":20.140999999999998},{"$f":"ROUND(VLOOKUP(CONCATENATE(G$5,$C12),'trend data'!$A$2:$O$11161,G$6,FALSE),3)","v":24.782},{"$f":"IFERROR(VLOOKUP(CONCATENATE(H$5,$C12),'trend data'!$A$2:$O$11161,H$6,FALSE),\"-\")","v":116},{"$f":"IFERROR(ROUND(VLOOKUP(CONCATENATE(I$5,$C12),'trend data'!$A$2:$O$11161,I$6,FALSE),3),\"-\")","v":8.5649999999999995},{"$f":"IFERROR(ROUND(VLOOKUP(CONCATENATE(J$5,$C12),'trend data'!$A$2:$O$11161,J$6,FALSE),3),\"-\")","v":7.0780000000000003},{"$f":"IFERROR(ROUND(VLOOKUP(CONCATENATE(K$5,$C12),'trend data'!$A$2:$O$11161,K$6,FALSE),3),\"-\")","v":10.273},null,null,null,"201803",4,"2018-09-25",{"$f":"CONCATENATE(S$7,$O12,'CDI Data and Charts'!B$1)","v":"CDIHCAI201803Scotland"},{"$f":"ROUND(VLOOKUP($R12,'data for u-p-charts'!$A$2:$F$5000,S$5,FALSE),2)","v":16.89},{"$f":"ROUND(VLOOKUP($R12,'data for u-p-charts'!$A$2:$F$5000,T$5,FALSE),2)","v":14.79},{"$f":"ROUND(VLOOKUP($R12,'data for u-p-charts'!$A$2:$F$5000,U$5,FALSE),2)","v":16.77},{"$f":"ROUND(VLOOKUP($R12,'data for u-p-charts'!$A$2:$F$5000,V$5,FALSE),2)","v":17.760000000000002},{"$f":"CONCATENATE(X$7,$O12,'CDI Data and Charts'!B$1)","v":"CDICA201803Scotland"},{"$f":"ROUND(VLOOKUP($W12,'data for u-p-charts'!$A$2:$F$5000,X$5,FALSE),2)","v":6.71},{"$f":"ROUND(VLOOKUP($W12,'data for u-p-charts'!$A$2:$F$5000,Y$5,FALSE),2)","v":5.62},{"$f":"ROUND(VLOOKUP($W12,'data for u-p-charts'!$A$2:$F$5000,Z$5,FALSE),2)","v":6.9},{"$f":"ROUND(VLOOKUP($W12,'data for u-p-charts'!$A$2:$F$5000,AA$5,FALSE),2)","v":7.54}]
[201601,"2016-03-24",{"$f":"CONCATENATE(A13,'CDI Data and Charts'!B$1)","v":"201601Scotland"},{"$f":"VLOOKUP(CONCATENATE(D$5,$C13),'trend data'!$A$2:$O$11161,D$6,FALSE)","v":252},{"$f":"ROUND(VLOOKUP(CONCATENATE(E$5,$C13),'trend data'!$A$2:$O$11161,E$6,FALSE),3)","v":15.064},{"$f":"ROUND(VLOOKUP(CONCATENATE(F$5,$C13),'trend data'!$A$2:$O$11161,F$6,FALSE),3)","v":13.260999999999999},{"$f":"ROUND(VLOOKUP(CONCATENATE(G$5,$C13),'trend data'!$A$2:$O$11161,G$6,FALSE),3)","v":17.042999999999999},{"$f":"IFERROR(VLOOKUP(CONCATENATE(H$5,$C13),'trend data'!$A$2:$O$11161,H$6,FALSE),\"-\")","v":97},{"$f":"IFERROR(ROUND(VLOOKUP(CONCATENATE(I$5,$C13),'trend data'!$A$2:$O$11161,I$6,FALSE),3),\"-\")","v":7.218},{"$f":"IFERROR(ROUND(VLOOKUP(CONCATENATE(J$5,$C13),'trend data'!$A$2:$O$11161,J$6,FALSE),3),\"-\")","v":5.8529999999999998},{"$f":"IFERROR(ROUND(VLOOKUP(CONCATENATE(K$5,$C13),'trend data'!$A$2:$O$11161,K$6,FALSE),3),\"-\")","v":8.8059999999999992},null,null,null,"201804",5,"2018-12-26",{"$f":"CONCATENATE(S$7,$O13,'CDI Data and Charts'!B$1)","v":"CDIHCAI201804Scotland"},{"$f":"ROUND(VLOOKUP($R13,'data for u-p-charts'!$A$2:$F$5000,S$5,FALSE),2)","v":14.47},{"$f":"ROUND(VLOOKUP($R13,'data for u-p-charts'!$A$2:$F$5000,T$5,FALSE),2)","v":14.79},{"$f":"ROUND(VLOOKUP($R13,'data for u-p-charts'!$A$2:$F$5000,U$5,FALSE),2)","v":16.77},{"$f":"ROUND(VLOOKUP($R13,'data for u-p-charts'!$A$2:$F$5000,V$5,FALSE),2)","v":17.75},{"$f":"CONCATENATE(X$7,$O13,'CDI Data and Charts'!B$1)","v":"CDICA201804Scotland"},{"$f":"ROUND(VLOOKUP($W13,'data for u-p-charts'!$A$2:$F$5000,X$5,FALSE),2)","v":6.27},{"$f":"ROUND(VLOOKUP($W13,'data for u-p-charts'!$A$2:$F$5000,Y$5,FALSE),2)","v":5.62},{"$f":"ROUND(VLOOKUP($W13,'data for u-p-charts'!$A$2:$F$5000,Z$5,FALSE),2)","v":6.9},{"$f":"ROUND(VLOOKUP($W13,'data for u-p-charts'!$A$2:$F$5000,AA$5,FALSE),2)","v":7.54}]
[201602,"2016-06-24",{"$f":"CONCATENATE(A14,'CDI Data and Charts'!B$1)","v":"201602Scotland"},{"$f":"VLOOKUP(CONCATENATE(D$5,$C14),'trend data'!$A$2:$O$11161,D$6,FALSE)","v":250},{"$f":"ROUND(VLOOKUP(CONCATENATE(E$5,$C14),'trend data'!$A$2:$O$11161,E$6,FALSE),3)","v":15.59},{"$f":"ROUND(VLOOKUP(CONCATENATE(F$5,$C14),'trend data'!$A$2:$O$11161,F$6,FALSE),3)","v":13.717000000000001},{"$f":"ROUND(VLOOKUP(CONCATENATE(G$5,$C14),'trend data'!$A$2:$O$11161,G$6,FALSE),3)","v":17.646999999999998},{"$f":"IFERROR(VLOOKUP(CONCATENATE(H$5,$C14),'trend data'!$A$2:$O$11161,H$6,FALSE),\"-\")","v":91},{"$f":"IFERROR(ROUND(VLOOKUP(CONCATENATE(I$5,$C14),'trend data'!$A$2:$O$11161,I$6,FALSE),3),\"-\")","v":6.7720000000000002},{"$f":"IFERROR(ROUND(VLOOKUP(CONCATENATE(J$5,$C14),'trend data'!$A$2:$O$11161,J$6,FALSE),3),\"-\")","v":5.452},{"$f":"IFERROR(ROUND(VLOOKUP(CONCATENATE(K$5,$C14),'trend data'!$A$2:$O$11161,K$6,FALSE),3),\"-\")","v":8.3140000000000001},null,null,null,"201901",6,"2019-03-28",{"$f":"CONCATENATE(S$7,$O14,'CDI Data and Charts'!B$1)","v":"CDIHCAI201901Scotland"},{"$f":"ROUND(VLOOKUP($R14,'data for u-p-charts'!$A$2:$F$5000,S$5,FALSE),2)","v":12.1},{"$f":"ROUND(VLOOKUP($R14,'data for u-p-charts'!$A$2:$F$5000,T$5,FALSE),2)","v":14.79},{"$f":"ROUND(VLOOKUP($R14,'data for u-p-charts'!$A$2:$F$5000,U$5,FALSE),2)","v":16.760000000000002},{"$f":"ROUND(VLOOKUP($R14,'data for u-p-charts'!$A$2:$F$5000,V$5,FALSE),2)","v":17.739999999999998},{"$f":"CONCATENATE(X$7,$O14,'CDI Data and Charts'!B$1)","v":"CDICA201901Scotland"},{"$f":"ROUND(VLOOKUP($W14,'data for u-p-charts'!$A$2:$F$5000,X$5,FALSE),2)","v":3.71},{"$f":"ROUND(VLOOKUP($W14,'data for u-p-charts'!$A$2:$F$5000,Y$5,FALSE),2)","v":5.62},{"$f":"ROUND(VLOOKUP($W14,'data for u-p-charts'!$A$2:$F$5000,Z$5,FALSE),2)","v":6.91},{"$f":"ROUND(VLOOKUP($W14,'data for u-p-charts'!$A$2:$F$5000,AA$5,FALSE),2)","v":7.56}]
[201603,"2016-09-24",{"$f":"CONCATENATE(A15,'CDI Data and Charts'!B$1)","v":"201603Scotland"},{"$f":"VLOOKUP(CONCATENATE(D$5,$C15),'trend data'!$A$2:$O$11161,D$6,FALSE)","v":263},{"$f":"ROUND(VLOOKUP(CONCATENATE(E$5,$C15),'trend data'!$A$2:$O$11161,E$6,FALSE),3)","v":16.579999999999998},{"$f":"ROUND(VLOOKUP(CONCATENATE(F$5,$C15),'trend data'!$A$2:$O$11161,F$6,FALSE),3)","v":14.635999999999999},{"$f":"ROUND(VLOOKUP(CONCATENATE(G$5,$C15),'trend data'!$A$2:$O$11161,G$6,FALSE),3)","v":18.71},{"$f":"IFERROR(VLOOKUP(CONCATENATE(H$5,$C15),'trend data'!$A$2:$O$11161,H$6,FALSE),\"-\")","v":119},{"$f":"IFERROR(ROUND(VLOOKUP(CONCATENATE(I$5,$C15),'trend data'!$A$2:$O$11161,I$6,FALSE),3),\"-\")","v":8.7590000000000003},{"$f":"IFERROR(ROUND(VLOOKUP(CONCATENATE(J$5,$C15),'trend data'!$A$2:$O$11161,J$6,FALSE),3),\"-\")","v":7.2560000000000002},{"$f":"IFERROR(ROUND(VLOOKUP(CONCATENATE(K$5,$C15),'trend data'!$A$2:$O$11161,K$6,FALSE),3),\"-\")","v":10.481999999999999},null,null,null,"201902",7,"2019-06-28",{"$f":"CONCATENATE(S$7,$O15,'CDI Data and Charts'!B$1)","v":"CDIHCAI201902Scotland"},{"$f":"ROUND(VLOOKUP($R15,'data for u-p-charts'!$A$2:$F$5000,S$5,FALSE),2)","v":12.26},{"$f":"ROUND(VLOOKUP($R15,'data for u-p-charts'!$A$2:$F$5000,T$5,FALSE),2)","v":14.79},{"$f":"ROUND(VLOOKUP($R15,'data for u-p-charts'!$A$2:$F$5000,U$5,FALSE),2)","v":16.78},{"$f":"ROUND(VLOOKUP($R15,'data for u-p-charts'!$A$2:$F$5000,V$5,FALSE),2)","v":17.77},{"$f":"CONCATENATE(X$7,$O15,'CDI Data and Charts'!B$1)","v":"CDICA201902Scotland"},{"$f":"ROUND(VLOOKUP($W15,'data for u-p-charts'!$A$2:$F$5000,X$5,FALSE),2)","v":4.8499999999999996},{"$f":"ROUND(VLOOKUP($W15,'data for u-p-charts'!$A$2:$F$5000,Y$5,FALSE),2)","v":5.62},{"$f":"ROUND(VLOOKUP($W15,'data for u-p-charts'!$A$2:$F$5000,Z$5,FALSE),2)","v":6.9},{"$f":"ROUND(VLOOKUP($W15,'data for u-p-charts'!$A$2:$F$5000,AA$5,FALSE),2)","v":7.55}]
[201604,"2016-12-24",{"$f":"CONCATENATE(A16,'CDI Data and Charts'!B$1)","v":"201604Scotland"},{"$f":"VLOOKUP(CONCATENATE(D$5,$C16),'trend data'!$A$2:$O$11161,D$6,FALSE)","v":233},{"$f":"ROUND(VLOOKUP(CONCATENATE(E$5,$C16),'trend data'!$A$2:$O$11161,E$6,FALSE),3)","v":14.654},{"$f":"ROUND(VLOOKUP(CONCATENATE(F$5,$C16),'trend data'!$A$2:$O$11161,F$6,FALSE),3)","v":12.833},{"$f":"ROUND(VLOOKUP(CONCATENATE(G$5,$C16),'trend data'!$A$2:$O$11161,G$6,FALSE),3)","v":16.661000000000001},{"$f":"IFERROR(VLOOKUP(CONCATENATE(H$5,$C16),'trend data'!$A$2:$O$11161,H$6,FALSE),\"-\")","v":94},{"$f":"IFERROR(ROUND(VLOOKUP(CONCATENATE(I$5,$C16),'trend data'!$A$2:$O$11161,I$6,FALSE),3),\"-\")","v":6.9189999999999996},{"$f":"IFERROR(ROUND(VLOOKUP(CONCATENATE(J$5,$C16),'trend data'!$A$2:$O$11161,J$6,FALSE),3),\"-\")","v":5.5910000000000002},{"$f":"IFERROR(ROUND(VLOOKUP(CONCATENATE(K$5,$C16),'trend data'!$A$2:$O$11161,K$6,FALSE),3),\"-\")","v":8.4670000000000005},null,null,null,"201903",8,"2019-09-28",{"$f":"CONCATENATE(S$7,$O16,'CDI Data and Charts'!B$1)","v":"CDIHCAI201903Scotland"},{"$f":"ROUND(VLOOKUP($R16,'data for u-p-charts'!$A$2:$F$5000,S$5,FALSE),2)","v":13.71},{"$f":"ROUND(VLOOKUP($R16,'data for u-p-charts'!$A$2:$F$5000,T$5,FALSE),2)","v":14.79},{"$f":"ROUND(VLOOKUP($R16,'data for u-p-charts'!$A$2:$F$5000,U$5,FALSE),2)","v":16.77},{"$f":"ROUND(VLOOKUP($R16,'data for u-p-charts'!$A$2:$F$5000,V$5,FALSE),2)","v":17.760000000000002},{"$f":"CONCATENATE(X$7,$O16,'CDI Data and Charts'!B$1)","v":"CDICA201903Scotland"},{"$f":"ROUND(VLOOKUP($W16,'data for u-p-charts'!$A$2:$F$5000,X$5,FALSE),2)","v":5.23},{"$f":"ROUND(VLOOKUP($W16,'data for u-p-charts'!$A$2:$F$5000,Y$5,FALSE),2)","v":5.62},{"$f":"ROUND(VLOOKUP($W16,'data for u-p-charts'!$A$2:$F$5000,Z$5,FALSE),2)","v":6.9},{"$f":"ROUND(VLOOKUP($W16,'data for u-p-charts'!$A$2:$F$5000,AA$5,FALSE),2)","v":7.54}]
[201701,"2017-03-01",{"$f":"CONCATENATE(A17,'CDI Data and Charts'!B$1)","v":"201701Scotland"},{"$f":"VLOOKUP(CONCATENATE(D$5,$C17),'trend data'!$A$2:$O$11161,D$6,FALSE)","v":257},{"$f":"ROUND(VLOOKUP(CONCATENATE(E$5,$C17),'trend data'!$A$2:$O$11161,E$6,FALSE),3)","v":16.27},{"$f":"ROUND(VLOOKUP(CONCATENATE(F$5,$C17),'trend data'!$A$2:$O$11161,F$6,FALSE),3)","v":14.340999999999999},{"$f":"ROUND(VLOOKUP(CONCATENATE(G$5,$C17),'trend data'!$A$2:$O$11161,G$6,FALSE),3)","v":18.385999999999999},{"$f":"IFERROR(VLOOKUP(CONCATENATE(H$5,$C17),'trend data'!$A$2:$O$11161,H$6,FALSE),\"-\")","v":74},{"$f":"IFERROR(ROUND(VLOOKUP(CONCATENATE(I$5,$C17),'trend data'!$A$2:$O$11161,I$6,FALSE),3),\"-\")","v":5.532},{"$f":"IFERROR(ROUND(VLOOKUP(CONCATENATE(J$5,$C17),'trend data'!$A$2:$O$11161,J$6,FALSE),3),\"-\")","v":4.3440000000000003},{"$f":"IFERROR(ROUND(VLOOKUP(CONCATENATE(K$5,$C17),'trend data'!$A$2:$O$11161,K$6,FALSE),3),\"-\")","v":6.9450000000000003},null,null,null,"201904",9,"2019-12-29",{"$f":"CONCATENATE(S$7,$O17,'CDI Data and Charts'!B$1)","v":"CDIHCAI201904Scotland"},{"$f":"ROUND(VLOOKUP($R17,'data for u-p-charts'!$A$2:$F$5000,S$5,FALSE),2)","v":15.06},{"$f":"ROUND(VLOOKUP($R17,'data for u-p-charts'!$A$2:$F$5000,T$5,FALSE),2)","v":14.79},{"$f":"ROUND(VLOOKUP($R17,'data for u-p-charts'!$A$2:$F$5000,U$5,FALSE),2)","v":16.760000000000002},{"$f":"ROUND(VLOOKUP($R17,'data for u-p-charts'!$A$2:$F$5000,V$5,FALSE),2)","v":17.739999999999998},{"$f":"CONCATENATE(X$7,$O17,'CDI Data and Charts'!B$1)","v":"CDICA201904Scotland"},{"$f":"ROUND(VLOOKUP($W17,'data for u-p-charts'!$A$2:$F$5000,X$5,FALSE),2)","v":4.57},{"$f":"ROUND(VLOOKUP($W17,'data for u-p-charts'!$A$2:$F$5000,Y$5,FALSE),2)","v":5.62},{"$f":"ROUND(VLOOKUP($W17,'data for u-p-charts'!$A$2:$F$5000,Z$5,FALSE),2)","v":6.9},{"$f":"ROUND(VLOOKUP($W17,'data for u-p-charts'!$A$2:$F$5000,AA$5,FALSE),2)","v":7.54}]
[201702,"2017-06-01",{"$f":"CONCATENATE(A18,'CDI Data and Charts'!B$1)","v":"201702Scotland"},{"$f":"VLOOKUP(CONCATENATE(D$5,$C18),'trend data'!$A$2:$O$11161,D$6,FALSE)","v":238},{"$f":"ROUND(VLOOKUP(CONCATENATE(E$5,$C18),'trend data'!$A$2:$O$11161,E$6,FALSE),3)","v":15.364000000000001},{"$f":"ROUND(VLOOKUP(CONCATENATE(F$5,$C18),'trend data'!$A$2:$O$11161,F$6,FALSE),3)","v":13.474},{"$f":"ROUND(VLOOKUP(CONCATENATE(G$5,$C18),'trend data'!$A$2:$O$11161,G$6,FALSE),3)","v":17.445},{"$f":"IFERROR(VLOOKUP(CONCATENATE(H$5,$C18),'trend data'!$A$2:$O$11161,H$6,FALSE),\"-\")","v":100},{"$f":"IFERROR(ROUND(VLOOKUP(CONCATENATE(I$5,$C18),'trend data'!$A$2:$O$11161,I$6,FALSE),3),\"-\")","v":7.3940000000000001},{"$f":"IFERROR(ROUND(VLOOKUP(CONCATENATE(J$5,$C18),'trend data'!$A$2:$O$11161,J$6,FALSE),3),\"-\")","v":6.016},{"$f":"IFERROR(ROUND(VLOOKUP(CONCATENATE(K$5,$C18),'trend data'!$A$2:$O$11161,K$6,FALSE),3),\"-\")","v":8.9930000000000003},null,null,null,"202001",10,"2020-03-30",{"$f":"CONCATENATE(S$7,$O18,'CDI Data and Charts'!B$1)","v":"CDIHCAI202001Scotland"},{"$f":"ROUND(VLOOKUP($R18,'data for u-p-charts'!$A$2:$F$5000,S$5,FALSE),2)","v":13.62},{"$f":"ROUND(VLOOKUP($R18,'data for u-p-charts'!$A$2:$F$5000,T$5,FALSE),2)","v":14.79},{"$f":"ROUND(VLOOKUP($R18,'data for u-p-charts'!$A$2:$F$5000,U$5,FALSE),2)","v":16.8},{"$f":"ROUND(VLOOKUP($R18,'data for u-p-charts'!$A$2:$F$5000,V$5,FALSE),2)","v":17.8},{"$f":"CONCATENATE(X$7,$O18,'CDI Data and Charts'!B$1)","v":"CDICA202001Scotland"},{"$f":"ROUND(VLOOKUP($W18,'data for u-p-charts'!$A$2:$F$5000,X$5,FALSE),2)","v":3.39},{"$f":"ROUND(VLOOKUP($W18,'data for u-p-charts'!$A$2:$F$5000,Y$5,FALSE),2)","v":5.62},{"$f":"ROUND(VLOOKUP($W18,'data for u-p-charts'!$A$2:$F$5000,Z$5,FALSE),2)","v":6.91},{"$f":"ROUND(VLOOKUP($W18,'data for u-p-charts'!$A$2:$F$5000,AA$5,FALSE),2)","v":7.55}]
[201703,"2017-09-01",{"$f":"CONCATENATE(A19,'CDI Data and Charts'!B$1)","v":"201703Scotland"},{"$f":"VLOOKUP(CONCATENATE(D$5,$C19),'trend data'!$A$2:$O$11161,D$6,FALSE)","v":288},{"$f":"ROUND(VLOOKUP(CONCATENATE(E$5,$C19),'trend data'!$A$2:$O$11161,E$6,FALSE),3)","v":18.734000000000002},{"$f":"ROUND(VLOOKUP(CONCATENATE(F$5,$C19),'trend data'!$A$2:$O$11161,F$6,FALSE),3)","v":16.632000000000001},{"$f":"ROUND(VLOOKUP(CONCATENATE(G$5,$C19),'trend data'!$A$2:$O$11161,G$6,FALSE),3)","v":21.027000000000001},{"$f":"IFERROR(VLOOKUP(CONCATENATE(H$5,$C19),'trend data'!$A$2:$O$11161,H$6,FALSE),\"-\")","v":103},{"$f":"IFERROR(ROUND(VLOOKUP(CONCATENATE(I$5,$C19),'trend data'!$A$2:$O$11161,I$6,FALSE),3),\"-\")","v":7.5330000000000004},{"$f":"IFERROR(ROUND(VLOOKUP(CONCATENATE(J$5,$C19),'trend data'!$A$2:$O$11161,J$6,FALSE),3),\"-\")","v":6.1479999999999997},{"$f":"IFERROR(ROUND(VLOOKUP(CONCATENATE(K$5,$C19),'trend data'!$A$2:$O$11161,K$6,FALSE),3),\"-\")","v":9.1359999999999992},null,null,null,"202002",11,{"$f":"Q20-92","v":"2020-06-30"},{"$f":"CONCATENATE(S$7,$O19,'CDI Data and Charts'!B$1)","v":"CDIHCAI202002Scotland"},{"$f":"ROUND(VLOOKUP($R19,'data for u-p-charts'!$A$2:$F$5000,S$5,FALSE),2)","v":15.45},{"$f":"ROUND(VLOOKUP($R19,'data for u-p-charts'!$A$2:$F$5000,T$5,FALSE),2)","v":14.79},{"$f":"ROUND(VLOOKUP($R19,'data for u-p-charts'!$A$2:$F$5000,U$5,FALSE),2)","v":17.13},{"$f":"ROUND(VLOOKUP($R19,'data for u-p-charts'!$A$2:$F$5000,V$5,FALSE),2)","v":18.3},{"$f":"CONCATENATE(X$7,$O19,'CDI Data and Charts'!B$1)","v":"CDICA202002Scotland"},{"$f":"ROUND(VLOOKUP($W19,'data for u-p-charts'!$A$2:$F$5000,X$5,FALSE),2)","v":5.82},{"$f":"ROUND(VLOOKUP($W19,'data for u-p-charts'!$A$2:$F$5000,Y$5,FALSE),2)","v":5.62},{"$f":"ROUND(VLOOKUP($W19,'data for u-p-charts'!$A$2:$F$5000,Z$5,FALSE),2)","v":6.91},{"$f":"ROUND(VLOOKUP($W19,'data for u-p-charts'!$A$2:$F$5000,AA$5,FALSE),2)","v":7.55}]
[201704,"2017-12-01",{"$f":"CONCATENATE(A20,'CDI Data and Charts'!B$1)","v":"201704Scotland"},{"$f":"VLOOKUP(CONCATENATE(D$5,$C20),'trend data'!$A$2:$O$11161,D$6,FALSE)","v":235},{"$f":"ROUND(VLOOKUP(CONCATENATE(E$5,$C20),'trend data'!$A$2:$O$11161,E$6,FALSE),3)","v":14.939},{"$f":"ROUND(VLOOKUP(CONCATENATE(F$5,$C20),'trend data'!$A$2:$O$11161,F$6,FALSE),3)","v":13.09},{"$f":"ROUND(VLOOKUP(CONCATENATE(G$5,$C20),'trend data'!$A$2:$O$11161,G$6,FALSE),3)","v":16.975999999999999},{"$f":"IFERROR(VLOOKUP(CONCATENATE(H$5,$C20),'trend data'!$A$2:$O$11161,H$6,FALSE),\"-\")","v":74},{"$f":"IFERROR(ROUND(VLOOKUP(CONCATENATE(I$5,$C20),'trend data'!$A$2:$O$11161,I$6,FALSE),3),\"-\")","v":5.4119999999999999},{"$f":"IFERROR(ROUND(VLOOKUP(CONCATENATE(J$5,$C20),'trend data'!$A$2:$O$11161,J$6,FALSE),3),\"-\")","v":4.2489999999999997},{"$f":"IFERROR(ROUND(VLOOKUP(CONCATENATE(K$5,$C20),'trend data'!$A$2:$O$11161,K$6,FALSE),3),\"-\")","v":6.7939999999999996},null,null,null,"202003",12,{"$f":"Q5","v":"2020-09-30"},{"$f":"CONCATENATE(S$7,$O20,'CDI Data and Charts'!B$1)","v":"CDIHCAI202003Scotland"},{"$f":"ROUND(VLOOKUP($R20,'data for u-p-charts'!$A$2:$F$5000,S$5,FALSE),2)","v":17.420000000000002},{"$f":"ROUND(VLOOKUP($R20,'data for u-p-charts'!$A$2:$F$5000,T$5,FALSE),2)","v":14.79},{"$f":"ROUND(VLOOKUP($R20,'data for u-p-charts'!$A$2:$F$5000,U$5,FALSE),2)","v":16.93},{"$f":"ROUND(VLOOKUP($R20,'data for u-p-charts'!$A$2:$F$5000,V$5,FALSE),2)","v":17.989999999999998},{"$f":"CONCATENATE(X$7,$O20,'CDI Data and Charts'!B$1)","v":"CDICA202003Scotland"},{"$f":"ROUND(VLOOKUP($W20,'data for u-p-charts'!$A$2:$F$5000,X$5,FALSE),2)","v":6.55},{"$f":"ROUND(VLOOKUP($W20,'data for u-p-charts'!$A$2:$F$5000,Y$5,FALSE),2)","v":5.62},{"$f":"ROUND(VLOOKUP($W20,'data for u-p-charts'!$A$2:$F$5000,Z$5,FALSE),2)","v":6.9},{"$f":"ROUND(VLOOKUP($W20,'data for u-p-charts'!$A$2:$F$5000,AA$5,FALSE),2)","v":7.54}]
[201801,"2018-03-01",{"$f":"CONCATENATE(A21,'CDI Data and Charts'!B$1)","v":"201801Scotland"},{"$f":"IFERROR(VLOOKUP(CONCATENATE(D$5,$C21),'trend data'!$A$2:$O$11161,D$6,FALSE),\"-\")","v":228},{"$f":"ROUND(VLOOKUP(CONCATENATE(E$5,$C21),'trend data'!$A$2:$O$11161,E$6,FALSE),3)","v":14.404},{"$f":"ROUND(VLOOKUP(CONCATENATE(F$5,$C21),'trend data'!$A$2:$O$11161,F$6,FALSE),3)","v":12.593999999999999},{"$f":"ROUND(VLOOKUP(CONCATENATE(G$5,$C21),'trend data'!$A$2:$O$11161,G$6,FALSE),3)","v":16.399999999999999},{"$f":"IFERROR(VLOOKUP(CONCATENATE(H$5,$C21),'trend data'!$A$2:$O$11161,H$6,FALSE),\"-\")","v":86},{"$f":"IFERROR(ROUND(VLOOKUP(CONCATENATE(I$5,$C21),'trend data'!$A$2:$O$11161,I$6,FALSE),3),\"-\")","v":6.4139999999999997},{"$f":"IFERROR(ROUND(VLOOKUP(CONCATENATE(J$5,$C21),'trend data'!$A$2:$O$11161,J$6,FALSE),3),\"-\")","v":5.13},{"$f":"IFERROR(ROUND(VLOOKUP(CONCATENATE(K$5,$C21),'trend data'!$A$2:$O$11161,K$6,FALSE),3),\"-\")","v":7.9210000000000003}]
[201802,"2018-06-01",{"$f":"CONCATENATE(A22,'CDI Data and Charts'!B$1)","v":"201802Scotland"},{"$f":"IFERROR(VLOOKUP(CONCATENATE(D$5,$C22),'trend data'!$A$2:$O$11161,D$6,FALSE),\"-\")","v":244},{"$f":"ROUND(VLOOKUP(CONCATENATE(E$5,$C22),'trend data'!$A$2:$O$11161,E$6,FALSE),3)","v":16.018999999999998},{"$f":"ROUND(VLOOKUP(CONCATENATE(F$5,$C22),'trend data'!$A$2:$O$11161,F$6,FALSE),3)","v":14.071},{"$f":"ROUND(VLOOKUP(CONCATENATE(G$5,$C22),'trend data'!$A$2:$O$11161,G$6,FALSE),3)","v":18.16},{"$f":"IFERROR(VLOOKUP(CONCATENATE(H$5,$C22),'trend data'!$A$2:$O$11161,H$6,FALSE),\"-\")","v":102},{"$f":"IFERROR(ROUND(VLOOKUP(CONCATENATE(I$5,$C22),'trend data'!$A$2:$O$11161,I$6,FALSE),3),\"-\")","v":7.5229999999999997},{"$f":"IFERROR(ROUND(VLOOKUP(CONCATENATE(J$5,$C22),'trend data'!$A$2:$O$11161,J$6,FALSE),3),\"-\")","v":6.1340000000000003},{"$f":"IFERROR(ROUND(VLOOKUP(CONCATENATE(K$5,$C22),'trend data'!$A$2:$O$11161,K$6,FALSE),3),\"-\")","v":9.1329999999999991}]
[201803,"2018-09-01",{"$f":"CONCATENATE(A23,'CDI Data and Charts'!B$1)","v":"201803Scotland"},{"$f":"IFERROR(VLOOKUP(CONCATENATE(D$5,$C23),'trend data'!$A$2:$O$11161,D$6,FALSE),\"-\")","v":255},{"$f":"ROUND(VLOOKUP(CONCATENATE(E$5,$C23),'trend data'!$A$2:$O$11161,E$6,FALSE),3)","v":16.895},{"$f":"ROUND(VLOOKUP(CONCATENATE(F$5,$C23),'trend data'!$A$2:$O$11161,F$6,FALSE),3)","v":14.884},{"$f":"ROUND(VLOOKUP(CONCATENATE(G$5,$C23),'trend data'!$A$2:$O$11161,G$6,FALSE),3)","v":19.100999999999999},{"$f":"IFERROR(VLOOKUP(CONCATENATE(H$5,$C23),'trend data'!$A$2:$O$11161,H$6,FALSE),\"-\")","v":92},{"$f":"IFERROR(ROUND(VLOOKUP(CONCATENATE(I$5,$C23),'trend data'!$A$2:$O$11161,I$6,FALSE),3),\"-\")","v":6.7119999999999997},{"$f":"IFERROR(ROUND(VLOOKUP(CONCATENATE(J$5,$C23),'trend data'!$A$2:$O$11161,J$6,FALSE),3),\"-\")","v":5.4109999999999996},{"$f":"IFERROR(ROUND(VLOOKUP(CONCATENATE(K$5,$C23),'trend data'!$A$2:$O$11161,K$6,FALSE),3),\"-\")","v":8.2319999999999993}]
[201804,"2018-12-01",{"$f":"CONCATENATE(A24,'CDI Data and Charts'!B$1)","v":"201804Scotland"},{"$f":"IFERROR(VLOOKUP(CONCATENATE(D$5,$C24),'trend data'!$A$2:$O$11161,D$6,FALSE),\"-\")","v":220},{"$f":"ROUND(VLOOKUP(CONCATENATE(E$5,$C24),'trend data'!$A$2:$O$11161,E$6,FALSE),3)","v":14.471},{"$f":"ROUND(VLOOKUP(CONCATENATE(F$5,$C24),'trend data'!$A$2:$O$11161,F$6,FALSE),3)","v":12.622},{"$f":"ROUND(VLOOKUP(CONCATENATE(G$5,$C24),'trend data'!$A$2:$O$11161,G$6,FALSE),3)","v":16.515000000000001},{"$f":"IFERROR(VLOOKUP(CONCATENATE(H$5,$C24),'trend data'!$A$2:$O$11161,H$6,FALSE),\"-\")","v":86},{"$f":"IFERROR(ROUND(VLOOKUP(CONCATENATE(I$5,$C24),'trend data'!$A$2:$O$11161,I$6,FALSE),3),\"-\")","v":6.274},{"$f":"IFERROR(ROUND(VLOOKUP(CONCATENATE(J$5,$C24),'trend data'!$A$2:$O$11161,J$6,FALSE),3),\"-\")","v":5.0179999999999998},{"$f":"IFERROR(ROUND(VLOOKUP(CONCATENATE(K$5,$C24),'trend data'!$A$2:$O$11161,K$6,FALSE),3),\"-\")","v":7.7489999999999997}]
[201901,"2019-03-01",{"$f":"CONCATENATE(A25,'CDI Data and Charts'!B$1)","v":"201901Scotland"},{"$f":"IFERROR(VLOOKUP(CONCATENATE(D$5,$C25),'trend data'!$A$2:$O$11161,D$6,FALSE),\"-\")","v":186},{"$f":"ROUND(VLOOKUP(CONCATENATE(E$5,$C25),'trend data'!$A$2:$O$11161,E$6,FALSE),3)","v":12.103999999999999},{"$f":"ROUND(VLOOKUP(CONCATENATE(F$5,$C25),'trend data'!$A$2:$O$11161,F$6,FALSE),3)","v":10.426},{"$f":"ROUND(VLOOKUP(CONCATENATE(G$5,$C25),'trend data'!$A$2:$O$11161,G$6,FALSE),3)","v":13.974},{"$f":"IFERROR(VLOOKUP(CONCATENATE(H$5,$C25),'trend data'!$A$2:$O$11161,H$6,FALSE),\"-\")","v":50},{"$f":"IFERROR(ROUND(VLOOKUP(CONCATENATE(I$5,$C25),'trend data'!$A$2:$O$11161,I$6,FALSE),3),\"-\")","v":3.7120000000000002},{"$f":"IFERROR(ROUND(VLOOKUP(CONCATENATE(J$5,$C25),'trend data'!$A$2:$O$11161,J$6,FALSE),3),\"-\")","v":2.7549999999999999},{"$f":"IFERROR(ROUND(VLOOKUP(CONCATENATE(K$5,$C25),'trend data'!$A$2:$O$11161,K$6,FALSE),3),\"-\")","v":4.8929999999999998}]
[201902,"2019-06-01",{"$f":"CONCATENATE(A26,'CDI Data and Charts'!B$1)","v":"201902Scotland"},{"$f":"IFERROR(VLOOKUP(CONCATENATE(D$5,$C26),'trend data'!$A$2:$O$11161,D$6,FALSE),\"-\")","v":184},{"$f":"ROUND(VLOOKUP(CONCATENATE(E$5,$C26),'trend data'!$A$2:$O$11161,E$6,FALSE),3)","v":12.260999999999999},{"$f":"ROUND(VLOOKUP(CONCATENATE(F$5,$C26),'trend data'!$A$2:$O$11161,F$6,FALSE),3)","v":10.553000000000001},{"$f":"ROUND(VLOOKUP(CONCATENATE(G$5,$C26),'trend data'!$A$2:$O$11161,G$6,FALSE),3)","v":14.166},{"$f":"IFERROR(VLOOKUP(CONCATENATE(H$5,$C26),'trend data'!$A$2:$O$11161,H$6,FALSE),\"-\")","v":66},{"$f":"IFERROR(ROUND(VLOOKUP(CONCATENATE(I$5,$C26),'trend data'!$A$2:$O$11161,I$6,FALSE),3),\"-\")","v":4.8460000000000001},{"$f":"IFERROR(ROUND(VLOOKUP(CONCATENATE(J$5,$C26),'trend data'!$A$2:$O$11161,J$6,FALSE),3),\"-\")","v":3.7469999999999999},{"$f":"IFERROR(ROUND(VLOOKUP(CONCATENATE(K$5,$C26),'trend data'!$A$2:$O$11161,K$6,FALSE),3),\"-\")","v":6.165}]
[201903,"2019-09-01",{"$f":"CONCATENATE(A27,'CDI Data and Charts'!B$1)","v":"201903Scotland"},{"$f":"IFERROR(VLOOKUP(CONCATENATE(D$5,$C27),'trend data'!$A$2:$O$11161,D$6,FALSE),\"-\")","v":207},{"$f":"ROUND(VLOOKUP(CONCATENATE(E$5,$C27),'trend data'!$A$2:$O$11161,E$6,FALSE),3)","v":13.706},{"$f":"ROUND(VLOOKUP(CONCATENATE(F$5,$C27),'trend data'!$A$2:$O$11161,F$6,FALSE),3)","v":11.901999999999999},{"$f":"ROUND(VLOOKUP(CONCATENATE(G$5,$C27),'trend data'!$A$2:$O$11161,G$6,FALSE),3)","v":15.706},{"$f":"IFERROR(VLOOKUP(CONCATENATE(H$5,$C27),'trend data'!$A$2:$O$11161,H$6,FALSE),\"-\")","v":72},{"$f":"IFERROR(ROUND(VLOOKUP(CONCATENATE(I$5,$C27),'trend data'!$A$2:$O$11161,I$6,FALSE),3),\"-\")","v":5.2290000000000001},{"$f":"IFERROR(ROUND(VLOOKUP(CONCATENATE(J$5,$C27),'trend data'!$A$2:$O$11161,J$6,FALSE),3),\"-\")","v":4.0910000000000002},{"$f":"IFERROR(ROUND(VLOOKUP(CONCATENATE(K$5,$C27),'trend data'!$A$2:$O$11161,K$6,FALSE),3),\"-\")","v":6.585}]
[201904,"2019-12-01",{"$f":"CONCATENATE(A28,'CDI Data and Charts'!B$1)","v":"201904Scotland"},{"$f":"IFERROR(VLOOKUP(CONCATENATE(D$5,$C28),'trend data'!$A$2:$O$11161,D$6,FALSE),\"-\")","v":231},{"$f":"ROUND(VLOOKUP(CONCATENATE(E$5,$C28),'trend data'!$A$2:$O$11161,E$6,FALSE),3)","v":15.057},{"$f":"ROUND(VLOOKUP(CONCATENATE(F$5,$C28),'trend data'!$A$2:$O$11161,F$6,FALSE),3)","v":13.178000000000001},{"$f":"ROUND(VLOOKUP(CONCATENATE(G$5,$C28),'trend data'!$A$2:$O$11161,G$6,FALSE),3)","v":17.129000000000001},{"$f":"IFERROR(VLOOKUP(CONCATENATE(H$5,$C28),'trend data'!$A$2:$O$11161,H$6,FALSE),\"-\")","v":63},{"$f":"IFERROR(ROUND(VLOOKUP(CONCATENATE(I$5,$C28),'trend data'!$A$2:$O$11161,I$6,FALSE),3),\"-\")","v":4.5750000000000002},{"$f":"IFERROR(ROUND(VLOOKUP(CONCATENATE(J$5,$C28),'trend data'!$A$2:$O$11161,J$6,FALSE),3),\"-\")","v":3.5150000000000001},{"$f":"IFERROR(ROUND(VLOOKUP(CONCATENATE(K$5,$C28),'trend data'!$A$2:$O$11161,K$6,FALSE),3),\"-\")","v":5.8540000000000001}]
[202001,"2020-03-01",{"$f":"CONCATENATE(A29,'CDI Data and Charts'!B$1)","v":"202001Scotland"},{"$f":"IFERROR(VLOOKUP(CONCATENATE(D$5,$C29),'trend data'!$A$2:$O$11161,D$6,FALSE),\"-\")","v":201},{"$f":"ROUND(VLOOKUP(CONCATENATE(E$5,$C29),'trend data'!$A$2:$O$11161,E$6,FALSE),3)","v":13.616},{"$f":"ROUND(VLOOKUP(CONCATENATE(F$5,$C29),'trend data'!$A$2:$O$11161,F$6,FALSE),3)","v":11.798999999999999},{"$f":"ROUND(VLOOKUP(CONCATENATE(G$5,$C29),'trend data'!$A$2:$O$11161,G$6,FALSE),3)","v":15.635},{"$f":"IFERROR(VLOOKUP(CONCATENATE(H$5,$C29),'trend data'!$A$2:$O$11161,H$6,FALSE),\"-\")","v":46},{"$f":"IFERROR(ROUND(VLOOKUP(CONCATENATE(I$5,$C29),'trend data'!$A$2:$O$11161,I$6,FALSE),3),\"-\")","v":3.3860000000000001},{"$f":"IFERROR(ROUND(VLOOKUP(CONCATENATE(J$5,$C29),'trend data'!$A$2:$O$11161,J$6,FALSE),3),\"-\")","v":2.4790000000000001},{"$f":"IFERROR(ROUND(VLOOKUP(CONCATENATE(K$5,$C29),'trend data'!$A$2:$O$11161,K$6,FALSE),3),\"-\")","v":4.5170000000000003}]
[202002,"2020-06-01",{"$f":"CONCATENATE(A30,'CDI Data and Charts'!B$1)","v":"202002Scotland"},{"$f":"IFERROR(VLOOKUP(CONCATENATE(D$5,$C30),'trend data'!$A$2:$O$11161,D$6,FALSE),\"-\")","v":167},{"$f":"ROUND(VLOOKUP(CONCATENATE(E$5,$C30),'trend data'!$A$2:$O$11161,E$6,FALSE),3)","v":15.446999999999999},{"$f":"ROUND(VLOOKUP(CONCATENATE(F$5,$C30),'trend data'!$A$2:$O$11161,F$6,FALSE),3)","v":13.193},{"$f":"ROUND(VLOOKUP(CONCATENATE(G$5,$C30),'trend data'!$A$2:$O$11161,G$6,FALSE),3)","v":17.975999999999999},{"$f":"IFERROR(VLOOKUP(CONCATENATE(H$5,$C30),'trend data'!$A$2:$O$11161,H$6,FALSE),\"-\")","v":79},{"$f":"IFERROR(ROUND(VLOOKUP(CONCATENATE(I$5,$C30),'trend data'!$A$2:$O$11161,I$6,FALSE),3),\"-\")","v":5.8159999999999998},{"$f":"IFERROR(ROUND(VLOOKUP(CONCATENATE(J$5,$C30),'trend data'!$A$2:$O$11161,J$6,FALSE),3),\"-\")","v":4.6040000000000001},{"$f":"IFERROR(ROUND(VLOOKUP(CONCATENATE(K$5,$C30),'trend data'!$A$2:$O$11161,K$6,FALSE),3),\"-\")","v":7.2480000000000002}]
[202003,"2020-09-01",{"$f":"CONCATENATE(A31,'CDI Data and Charts'!B$1)","v":"202003Scotland"},{"$f":"IFERROR(VLOOKUP(CONCATENATE(D$5,$C31),'trend data'!$A$2:$O$11161,D$6,FALSE),\"-\")","v":227},{"$f":"ROUND(VLOOKUP(CONCATENATE(E$5,$C31),'trend data'!$A$2:$O$11161,E$6,FALSE),4)","v":17.4207},{"$f":"ROUND(VLOOKUP(CONCATENATE(F$5,$C31),'trend data'!$A$2:$O$11161,F$6,FALSE),4)","v":15.2279},{"$f":"ROUND(VLOOKUP(CONCATENATE(G$5,$C31),'trend data'!$A$2:$O$11161,G$6,FALSE),4)","v":19.840599999999998},{"$f":"IFERROR(VLOOKUP(CONCATENATE(H$5,$C31),'trend data'!$A$2:$O$11161,H$6,FALSE),\"-\")","v":90},{"$f":"IFERROR(ROUND(VLOOKUP(CONCATENATE(I$5,$C31),'trend data'!$A$2:$O$11161,I$6,FALSE),4),\"-\")","v":6.5536000000000003},{"$f":"IFERROR(ROUND(VLOOKUP(CONCATENATE(J$5,$C31),'trend data'!$A$2:$O$11161,J$6,FALSE),4),\"-\")","v":5.2697000000000003},{"$f":"IFERROR(ROUND(VLOOKUP(CONCATENATE(K$5,$C31),'trend data'!$A$2:$O$11161,K$6,FALSE),4),\"-\")","v":8.0556000000000001}]

{"sheet":"ECOLI data","index":8,"n_rows":24,"n_cols":30,"rows_kept":24,"cut":false,"hidden":true,"merged":[]}
["Trend data",null,null,null,null,null,null,null,null,null,null,null,null,null,null,null,null,"u-chart data"]
[]
["add a new line for current quarter"]
[null,null,null,null,null,null,null,null,null,null,null,null,null,null,null,null,null,null,null,null,"change this"]
[null,null,null,"ECBHCAI","ECBHCAI","ECBHCAI","ECBHCAI","ECBCOM","ECBCOM","ECBCOM","ECBCOM","ECBHCAI","ECBCOM",null,null,null,null,null,null,"current quarter end","2020-09-30",3,4,5,6,null,3,4,5,6]
[null,null,null,2,4,5,6,2,4,5,6,3,3]
[null,null,"ref","Healthcare associated Cases","Healthcare associated rate","Healthcare associated lower CI","Healthcare associated upper CI","Community associatedCases","Community associatedrate","Community associated lower CI","Community associated upper CI","ALL beds","Pop",null,null,null,null,null,null,null,null,"ECBHCAI",null,null,null,null,"ECBCOM"]
[201603,"2016-09-24",{"$f":"CONCATENATE(A8,'ECOLI Data and Charts'!B$1)","v":"201603Scotland"},{"$f":"VLOOKUP(CONCATENATE(D$5,$C8),'trend data'!$A$2:$O$11161,D$6,FALSE)","v":582},{"$f":"ROUND(VLOOKUP(CONCATENATE(E$5,$C8),'trend data'!$A$2:$O$11161,E$6,FALSE),3)","v":36.69},{"$f":"ROUND(VLOOKUP(CONCATENATE(F$5,$C8),'trend data'!$A$2:$O$11161,F$6,FALSE),3)","v":33.770000000000003},{"$f":"ROUND(VLOOKUP(CONCATENATE(G$5,$C8),'trend data'!$A$2:$O$11161,G$6,FALSE),3)","v":39.795999999999999},{"$f":"IFERROR(VLOOKUP(CONCATENATE(H$5,$C8),'trend data'!$A$2:$O$11161,H$6,FALSE),\"-\")","v":719},{"$f":"IFERROR(ROUND(VLOOKUP(CONCATENATE(I$5,$C8),'trend data'!$A$2:$O$11161,I$6,FALSE),3),\"-\")","v":52.923999999999999},{"$f":"IFERROR(ROUND(VLOOKUP(CONCATENATE(J$5,$C8),'trend data'!$A$2:$O$11161,J$6,FALSE),3),\"-\")","v":49.125},{"$f":"IFERROR(ROUND(VLOOKUP(CONCATENATE(K$5,$C8),'trend data'!$A$2:$O$11161,K$6,FALSE),3),\"-\")","v":56.938000000000002},{"$f":"VLOOKUP(CONCATENATE(L$5,$C8),'trend data'!$A$2:$O$11161,L$6,FALSE)","v":1586248},{"$f":"ROUND(VLOOKUP(CONCATENATE(M$5,$C8),'trend data'!$A$2:$O$11161,M$6,FALSE),2)","v":1358558.47},null,null,null,null,"change to last 12 quarters",null,null,null,"Healthcare associated rate","Healthcare associated av rate","Healthcare associated UWL 2sd","Healthcare associated UWL 3sd",null,"Community associated rate","Community associated av rate","Community associated UWL 2sd","Community associated UWL 3 sd"]
[201604,"2016-12-24",{"$f":"CONCATENATE(A9,'ECOLI Data and Charts'!B$1)","v":"201604Scotland"},{"$f":"VLOOKUP(CONCATENATE(D$5,$C9),'trend data'!$A$2:$O$11161,D$6,FALSE)","v":564},{"$f":"ROUND(VLOOKUP(CONCATENATE(E$5,$C9),'trend data'!$A$2:$O$11161,E$6,FALSE),3)","v":35.472000000000001},{"$f":"ROUND(VLOOKUP(CONCATENATE(F$5,$C9),'trend data'!$A$2:$O$11161,F$6,FALSE),3)","v":32.603999999999999},{"$f":"ROUND(VLOOKUP(CONCATENATE(G$5,$C9),'trend data'!$A$2:$O$11161,G$6,FALSE),3)","v":38.524000000000001},{"$f":"IFERROR(VLOOKUP(CONCATENATE(H$5,$C9),'trend data'!$A$2:$O$11161,H$6,FALSE),\"-\")","v":631},{"$f":"IFERROR(ROUND(VLOOKUP(CONCATENATE(I$5,$C9),'trend data'!$A$2:$O$11161,I$6,FALSE),3),\"-\")","v":46.445999999999998},{"$f":"IFERROR(ROUND(VLOOKUP(CONCATENATE(J$5,$C9),'trend data'!$A$2:$O$11161,J$6,FALSE),3),\"-\")","v":42.892000000000003},{"$f":"IFERROR(ROUND(VLOOKUP(CONCATENATE(K$5,$C9),'trend data'!$A$2:$O$11161,K$6,FALSE),3),\"-\")","v":50.216000000000001},{"$f":"VLOOKUP(CONCATENATE(L$5,$C9),'trend data'!$A$2:$O$11161,L$6,FALSE)","v":1590008},{"$f":"ROUND(VLOOKUP(CONCATENATE(M$5,$C9),'trend data'!$A$2:$O$11161,M$6,FALSE),2)","v":1358558.47},null,null,null,null,{"$f":"YEAR(U9)&\"0\"&IF(MONTH(U9)<4,1,IF(MONTH(U9)<7,2,IF(MONTH(U9)<10,3,4)))","v":"201704"},{"$f":"CONCATENATE(V$7,$R9,'ECOLI Data and Charts'!B$1)","v":"ECBHCAI201704Scotland"},1,{"$f":"U10-92","v":"2017-12-23"},{"$f":"ROUND(VLOOKUP($S9,'data for u-p-charts'!$A$2:$F$5000,V$5,FALSE),2)","v":33.630000000000003},{"$f":"ROUND(VLOOKUP($S9,'data for u-p-charts'!$A$2:$F$5000,W$5,FALSE),2)","v":37.82},{"$f":"ROUND(VLOOKUP($S9,'data for u-p-charts'!$A$2:$F$5000,X$5,FALSE),2)","v":40.92},{"$f":"ROUND(VLOOKUP($S9,'data for u-p-charts'!$A$2:$F$5000,Y$5,FALSE),2)","v":42.47},{"$f":"CONCATENATE(AA$7,$R9,'ECOLI Data and Charts'!$B$1)","v":"ECBCOM201704Scotland"},{"$f":"ROUND(VLOOKUP($Z9,'data for u-p-charts'!$A$2:$F$5000,AA$5,FALSE),2)","v":48.12},{"$f":"ROUND(VLOOKUP($Z9,'data for u-p-charts'!$A$2:$F$5000,AB$5,FALSE),2)","v":43.78},{"$f":"ROUND(VLOOKUP($Z9,'data for u-p-charts'!$A$2:$F$5000,AC$5,FALSE),2)","v":47.36},{"$f":"ROUND(VLOOKUP($Z9,'data for u-p-charts'!$A$2:$F$5000,AD$5,FALSE),2)","v":49.15}]
[201701,"2017-03-01",{"$f":"CONCATENATE(A10,'ECOLI Data and Charts'!B$1)","v":"201701Scotland"},{"$f":"VLOOKUP(CONCATENATE(D$5,$C10),'trend data'!$A$2:$O$11161,D$6,FALSE)","v":547},{"$f":"ROUND(VLOOKUP(CONCATENATE(E$5,$C10),'trend data'!$A$2:$O$11161,E$6,FALSE),3)","v":34.628999999999998},{"$f":"ROUND(VLOOKUP(CONCATENATE(F$5,$C10),'trend data'!$A$2:$O$11161,F$6,FALSE),3)","v":31.788},{"$f":"ROUND(VLOOKUP(CONCATENATE(G$5,$C10),'trend data'!$A$2:$O$11161,G$6,FALSE),3)","v":37.656999999999996},{"$f":"IFERROR(VLOOKUP(CONCATENATE(H$5,$C10),'trend data'!$A$2:$O$11161,H$6,FALSE),\"-\")","v":571},{"$f":"IFERROR(ROUND(VLOOKUP(CONCATENATE(I$5,$C10),'trend data'!$A$2:$O$11161,I$6,FALSE),3),\"-\")","v":42.688000000000002},{"$f":"IFERROR(ROUND(VLOOKUP(CONCATENATE(J$5,$C10),'trend data'!$A$2:$O$11161,J$6,FALSE),3),\"-\")","v":39.258000000000003},{"$f":"IFERROR(ROUND(VLOOKUP(CONCATENATE(K$5,$C10),'trend data'!$A$2:$O$11161,K$6,FALSE),3),\"-\")","v":46.337000000000003},{"$f":"VLOOKUP(CONCATENATE(L$5,$C10),'trend data'!$A$2:$O$11161,L$6,FALSE)","v":1579585},{"$f":"ROUND(VLOOKUP(CONCATENATE(M$5,$C10),'trend data'!$A$2:$O$11161,M$6,FALSE),2)","v":1337621.92},null,null,null,null,{"$f":"YEAR(U10)&\"0\"&IF(MONTH(U10)<4,1,IF(MONTH(U10)<7,2,IF(MONTH(U10)<10,3,4)))","v":"201801"},{"$f":"CONCATENATE(V$7,R10,'ECOLI Data and Charts'!B$1)","v":"ECBHCAI201801Scotland"},2,"2018-03-25",{"$f":"ROUND(VLOOKUP($S10,'data for u-p-charts'!$A$2:$F$5000,V$5,FALSE),2)","v":33.1},{"$f":"ROUND(VLOOKUP($S10,'data for u-p-charts'!$A$2:$F$5000,W$5,FALSE),2)","v":37.82},{"$f":"ROUND(VLOOKUP($S10,'data for u-p-charts'!$A$2:$F$5000,X$5,FALSE),2)","v":40.909999999999997},{"$f":"ROUND(VLOOKUP($S10,'data for u-p-charts'!$A$2:$F$5000,Y$5,FALSE),2)","v":42.46},{"$f":"CONCATENATE(AA$7,$R10,'ECOLI Data and Charts'!$B$1)","v":"ECBCOM201801Scotland"},{"$f":"ROUND(VLOOKUP($Z10,'data for u-p-charts'!$A$2:$F$5000,AA$5,FALSE),2)","v":43.11},{"$f":"ROUND(VLOOKUP($Z10,'data for u-p-charts'!$A$2:$F$5000,AB$5,FALSE),2)","v":43.78},{"$f":"ROUND(VLOOKUP($Z10,'data for u-p-charts'!$A$2:$F$5000,AC$5,FALSE),2)","v":47.39},{"$f":"ROUND(VLOOKUP($Z10,'data for u-p-charts'!$A$2:$F$5000,AD$5,FALSE),2)","v":49.2}]
[201702,"2017-06-01",{"$f":"CONCATENATE(A11,'ECOLI Data and Charts'!B$1)","v":"201702Scotland"},{"$f":"VLOOKUP(CONCATENATE(D$5,$C11),'trend data'!$A$2:$O$11161,D$6,FALSE)","v":534},{"$f":"ROUND(VLOOKUP(CONCATENATE(E$5,$C11),'trend data'!$A$2:$O$11161,E$6,FALSE),3)","v":34.472000000000001},{"$f":"ROUND(VLOOKUP(CONCATENATE(F$5,$C11),'trend data'!$A$2:$O$11161,F$6,FALSE),3)","v":31.61},{"$f":"ROUND(VLOOKUP(CONCATENATE(G$5,$C11),'trend data'!$A$2:$O$11161,G$6,FALSE),3)","v":37.524000000000001},{"$f":"IFERROR(VLOOKUP(CONCATENATE(H$5,$C11),'trend data'!$A$2:$O$11161,H$6,FALSE),\"-\")","v":662},{"$f":"IFERROR(ROUND(VLOOKUP(CONCATENATE(I$5,$C11),'trend data'!$A$2:$O$11161,I$6,FALSE),3),\"-\")","v":48.947000000000003},{"$f":"IFERROR(ROUND(VLOOKUP(CONCATENATE(J$5,$C11),'trend data'!$A$2:$O$11161,J$6,FALSE),3),\"-\")","v":45.289000000000001},{"$f":"IFERROR(ROUND(VLOOKUP(CONCATENATE(K$5,$C11),'trend data'!$A$2:$O$11161,K$6,FALSE),3),\"-\")","v":52.822000000000003},{"$f":"VLOOKUP(CONCATENATE(L$5,$C11),'trend data'!$A$2:$O$11161,L$6,FALSE)","v":1549065},{"$f":"ROUND(VLOOKUP(CONCATENATE(M$5,$C11),'trend data'!$A$2:$O$11161,M$6,FALSE),2)","v":1352484.38},null,null,null,null,{"$f":"YEAR(U11)&\"0\"&IF(MONTH(U11)<4,1,IF(MONTH(U11)<7,2,IF(MONTH(U11)<10,3,4)))","v":"201802"},{"$f":"CONCATENATE(V$7,R11,'ECOLI Data and Charts'!B$1)","v":"ECBHCAI201802Scotland"},3,"2018-06-25",{"$f":"ROUND(VLOOKUP($S11,'data for u-p-charts'!$A$2:$F$5000,V$5,FALSE),2)","v":38.08},{"$f":"ROUND(VLOOKUP($S11,'data for u-p-charts'!$A$2:$F$5000,W$5,FALSE),2)","v":37.82},{"$f":"ROUND(VLOOKUP($S11,'data for u-p-charts'!$A$2:$F$5000,X$5,FALSE),2)","v":40.97},{"$f":"ROUND(VLOOKUP($S11,'data for u-p-charts'!$A$2:$F$5000,Y$5,FALSE),2)","v":42.55},{"$f":"CONCATENATE(AA$7,$R11,'ECOLI Data and Charts'!$B$1)","v":"ECBCOM201802Scotland"},{"$f":"ROUND(VLOOKUP($Z11,'data for u-p-charts'!$A$2:$F$5000,AA$5,FALSE),2)","v":44.11},{"$f":"ROUND(VLOOKUP($Z11,'data for u-p-charts'!$A$2:$F$5000,AB$5,FALSE),2)","v":43.78},{"$f":"ROUND(VLOOKUP($Z11,'data for u-p-charts'!$A$2:$F$5000,AC$5,FALSE),2)","v":47.37},{"$f":"ROUND(VLOOKUP($Z11,'data for u-p-charts'!$A$2:$F$5000,AD$5,FALSE),2)","v":49.17}]
[201703,"2017-09-01",{"$f":"CONCATENATE(A12,'ECOLI Data and Charts'!B$1)","v":"201703Scotland"},{"$f":"VLOOKUP(CONCATENATE(D$5,$C12),'trend data'!$A$2:$O$11161,D$6,FALSE)","v":585},{"$f":"ROUND(VLOOKUP(CONCATENATE(E$5,$C12),'trend data'!$A$2:$O$11161,E$6,FALSE),3)","v":38.052999999999997},{"$f":"ROUND(VLOOKUP(CONCATENATE(F$5,$C12),'trend data'!$A$2:$O$11161,F$6,FALSE),3)","v":35.030999999999999},{"$f":"ROUND(VLOOKUP(CONCATENATE(G$5,$C12),'trend data'!$A$2:$O$11161,G$6,FALSE),3)","v":41.265000000000001},{"$f":"IFERROR(VLOOKUP(CONCATENATE(H$5,$C12),'trend data'!$A$2:$O$11161,H$6,FALSE),\"-\")","v":677},{"$f":"IFERROR(ROUND(VLOOKUP(CONCATENATE(I$5,$C12),'trend data'!$A$2:$O$11161,I$6,FALSE),3),\"-\")","v":49.512},{"$f":"IFERROR(ROUND(VLOOKUP(CONCATENATE(J$5,$C12),'trend data'!$A$2:$O$11161,J$6,FALSE),3),\"-\")","v":45.851999999999997},{"$f":"IFERROR(ROUND(VLOOKUP(CONCATENATE(K$5,$C12),'trend data'!$A$2:$O$11161,K$6,FALSE),3),\"-\")","v":53.386000000000003},{"$f":"VLOOKUP(CONCATENATE(L$5,$C12),'trend data'!$A$2:$O$11161,L$6,FALSE)","v":1537335},{"$f":"ROUND(VLOOKUP(CONCATENATE(M$5,$C12),'trend data'!$A$2:$O$11161,M$6,FALSE),2)","v":1367346.85},null,null,null,null,"201803",{"$f":"CONCATENATE(V$7,R12,'ECOLI Data and Charts'!B$1)","v":"ECBHCAI201803Scotland"},4,"2018-09-25",{"$f":"ROUND(VLOOKUP($S12,'data for u-p-charts'!$A$2:$F$5000,V$5,FALSE),2)","v":40.15},{"$f":"ROUND(VLOOKUP($S12,'data for u-p-charts'!$A$2:$F$5000,W$5,FALSE),2)","v":37.82},{"$f":"ROUND(VLOOKUP($S12,'data for u-p-charts'!$A$2:$F$5000,X$5,FALSE),2)","v":40.98},{"$f":"ROUND(VLOOKUP($S12,'data for u-p-charts'!$A$2:$F$5000,Y$5,FALSE),2)","v":42.57},{"$f":"CONCATENATE(AA$7,$R12,'ECOLI Data and Charts'!$B$1)","v":"ECBCOM201803Scotland"},{"$f":"ROUND(VLOOKUP($Z12,'data for u-p-charts'!$A$2:$F$5000,AA$5,FALSE),2)","v":48.66},{"$f":"ROUND(VLOOKUP($Z12,'data for u-p-charts'!$A$2:$F$5000,AB$5,FALSE),2)","v":43.78},{"$f":"ROUND(VLOOKUP($Z12,'data for u-p-charts'!$A$2:$F$5000,AC$5,FALSE),2)","v":47.35},{"$f":"ROUND(VLOOKUP($Z12,'data for u-p-charts'!$A$2:$F$5000,AD$5,FALSE),2)","v":49.14}]
[201704,"2017-12-01",{"$f":"CONCATENATE(A13,'ECOLI Data and Charts'!B$1)","v":"201704Scotland"},{"$f":"VLOOKUP(CONCATENATE(D$5,$C13),'trend data'!$A$2:$O$11161,D$6,FALSE)","v":529},{"$f":"ROUND(VLOOKUP(CONCATENATE(E$5,$C13),'trend data'!$A$2:$O$11161,E$6,FALSE),3)","v":33.628999999999998},{"$f":"ROUND(VLOOKUP(CONCATENATE(F$5,$C13),'trend data'!$A$2:$O$11161,F$6,FALSE),3)","v":30.824000000000002},{"$f":"ROUND(VLOOKUP(CONCATENATE(G$5,$C13),'trend data'!$A$2:$O$11161,G$6,FALSE),3)","v":36.619999999999997},{"$f":"IFERROR(VLOOKUP(CONCATENATE(H$5,$C13),'trend data'!$A$2:$O$11161,H$6,FALSE),\"-\")","v":658},{"$f":"IFERROR(ROUND(VLOOKUP(CONCATENATE(I$5,$C13),'trend data'!$A$2:$O$11161,I$6,FALSE),3),\"-\")","v":48.122},{"$f":"IFERROR(ROUND(VLOOKUP(CONCATENATE(J$5,$C13),'trend data'!$A$2:$O$11161,J$6,FALSE),3),\"-\")","v":44.515000000000001},{"$f":"IFERROR(ROUND(VLOOKUP(CONCATENATE(K$5,$C13),'trend data'!$A$2:$O$11161,K$6,FALSE),3),\"-\")","v":51.944000000000003},{"$f":"VLOOKUP(CONCATENATE(L$5,$C13),'trend data'!$A$2:$O$11161,L$6,FALSE)","v":1573065},{"$f":"ROUND(VLOOKUP(CONCATENATE(M$5,$C13),'trend data'!$A$2:$O$11161,M$6,FALSE),2)","v":1367346.85},null,null,null,null,"201804",{"$f":"CONCATENATE(V$7,R13,'ECOLI Data and Charts'!B$1)","v":"ECBHCAI201804Scotland"},5,"2018-12-26",{"$f":"ROUND(VLOOKUP($S13,'data for u-p-charts'!$A$2:$F$5000,V$5,FALSE),2)","v":38.28},{"$f":"ROUND(VLOOKUP($S13,'data for u-p-charts'!$A$2:$F$5000,W$5,FALSE),2)","v":37.82},{"$f":"ROUND(VLOOKUP($S13,'data for u-p-charts'!$A$2:$F$5000,X$5,FALSE),2)","v":40.97},{"$f":"ROUND(VLOOKUP($S13,'data for u-p-charts'!$A$2:$F$5000,Y$5,FALSE),2)","v":42.55},{"$f":"CONCATENATE(AA$7,$R13,'ECOLI Data and Charts'!$B$1)","v":"ECBCOM201804Scotland"},{"$f":"ROUND(VLOOKUP($Z13,'data for u-p-charts'!$A$2:$F$5000,AA$5,FALSE),2)","v":43.99},{"$f":"ROUND(VLOOKUP($Z13,'data for u-p-charts'!$A$2:$F$5000,AB$5,FALSE),2)","v":43.78},{"$f":"ROUND(VLOOKUP($Z13,'data for u-p-charts'!$A$2:$F$5000,AC$5,FALSE),2)","v":47.35},{"$f":"ROUND(VLOOKUP($Z13,'data for u-p-charts'!$A$2:$F$5000,AD$5,FALSE),2)","v":49.14}]
[201801,"2018-03-01",{"$f":"CONCATENATE(A14,'ECOLI Data and Charts'!B$1)","v":"201801Scotland"},{"$f":"IFERROR(VLOOKUP(CONCATENATE(D$5,$C14),'trend data'!$A$2:$O$11161,D$6,FALSE),\"-\")","v":524},{"$f":"ROUND(VLOOKUP(CONCATENATE(E$5,$C14),'trend data'!$A$2:$O$11161,E$6,FALSE),3)","v":33.103000000000002},{"$f":"ROUND(VLOOKUP(CONCATENATE(F$5,$C14),'trend data'!$A$2:$O$11161,F$6,FALSE),3)","v":30.329000000000001},{"$f":"ROUND(VLOOKUP(CONCATENATE(G$5,$C14),'trend data'!$A$2:$O$11161,G$6,FALSE),3)","v":36.061999999999998},{"$f":"IFERROR(VLOOKUP(CONCATENATE(H$5,$C14),'trend data'!$A$2:$O$11161,H$6,FALSE),\"-\")","v":578},{"$f":"IFERROR(ROUND(VLOOKUP(CONCATENATE(I$5,$C14),'trend data'!$A$2:$O$11161,I$6,FALSE),3),\"-\")","v":43.104999999999997},{"$f":"IFERROR(ROUND(VLOOKUP(CONCATENATE(J$5,$C14),'trend data'!$A$2:$O$11161,J$6,FALSE),3),\"-\")","v":39.661999999999999},{"$f":"IFERROR(ROUND(VLOOKUP(CONCATENATE(K$5,$C14),'trend data'!$A$2:$O$11161,K$6,FALSE),3),\"-\")","v":46.767000000000003},{"$f":"VLOOKUP(CONCATENATE(L$5,$C14),'trend data'!$A$2:$O$11161,L$6,FALSE)","v":1582946},{"$f":"ROUND(VLOOKUP(CONCATENATE(M$5,$C14),'trend data'!$A$2:$O$11161,M$6,FALSE),2)","v":1340901.3700000001},null,null,null,null,"201901",{"$f":"CONCATENATE(V$7,R14,'ECOLI Data and Charts'!B$1)","v":"ECBHCAI201901Scotland"},6,"2019-03-28",{"$f":"ROUND(VLOOKUP($S14,'data for u-p-charts'!$A$2:$F$5000,V$5,FALSE),2)","v":37.29},{"$f":"ROUND(VLOOKUP($S14,'data for u-p-charts'!$A$2:$F$5000,W$5,FALSE),2)","v":37.82},{"$f":"ROUND(VLOOKUP($S14,'data for u-p-charts'!$A$2:$F$5000,X$5,FALSE),2)","v":40.96},{"$f":"ROUND(VLOOKUP($S14,'data for u-p-charts'!$A$2:$F$5000,Y$5,FALSE),2)","v":42.53},{"$f":"CONCATENATE(AA$7,$R14,'ECOLI Data and Charts'!$B$1)","v":"ECBCOM201901Scotland"},{"$f":"ROUND(VLOOKUP($Z14,'data for u-p-charts'!$A$2:$F$5000,AA$5,FALSE),2)","v":44.39},{"$f":"ROUND(VLOOKUP($Z14,'data for u-p-charts'!$A$2:$F$5000,AB$5,FALSE),2)","v":43.78},{"$f":"ROUND(VLOOKUP($Z14,'data for u-p-charts'!$A$2:$F$5000,AC$5,FALSE),2)","v":47.38},{"$f":"ROUND(VLOOKUP($Z14,'data for u-p-charts'!$A$2:$F$5000,AD$5,FALSE),2)","v":49.19}]
[201802,"2018-06-01",{"$f":"CONCATENATE(A15,'ECOLI Data and Charts'!B$1)","v":"201802Scotland"},{"$f":"IFERROR(VLOOKUP(CONCATENATE(D$5,$C15),'trend data'!$A$2:$O$11161,D$6,FALSE),\"-\")","v":580},{"$f":"ROUND(VLOOKUP(CONCATENATE(E$5,$C15),'trend data'!$A$2:$O$11161,E$6,FALSE),3)","v":38.076999999999998},{"$f":"ROUND(VLOOKUP(CONCATENATE(F$5,$C15),'trend data'!$A$2:$O$11161,F$6,FALSE),3)","v":35.040999999999997},{"$f":"ROUND(VLOOKUP(CONCATENATE(G$5,$C15),'trend data'!$A$2:$O$11161,G$6,FALSE),3)","v":41.305999999999997},{"$f":"IFERROR(VLOOKUP(CONCATENATE(H$5,$C15),'trend data'!$A$2:$O$11161,H$6,FALSE),\"-\")","v":598},{"$f":"IFERROR(ROUND(VLOOKUP(CONCATENATE(I$5,$C15),'trend data'!$A$2:$O$11161,I$6,FALSE),3),\"-\")","v":44.106999999999999},{"$f":"IFERROR(ROUND(VLOOKUP(CONCATENATE(J$5,$C15),'trend data'!$A$2:$O$11161,J$6,FALSE),3),\"-\")","v":40.642000000000003},{"$f":"IFERROR(ROUND(VLOOKUP(CONCATENATE(K$5,$C15),'trend data'!$A$2:$O$11161,K$6,FALSE),3),\"-\")","v":47.787999999999997},{"$f":"VLOOKUP(CONCATENATE(L$5,$C15),'trend data'!$A$2:$O$11161,L$6,FALSE)","v":1523228},{"$f":"ROUND(VLOOKUP(CONCATENATE(M$5,$C15),'trend data'!$A$2:$O$11161,M$6,FALSE),2)","v":1355800.27},null,null,null,null,"201902",{"$f":"CONCATENATE(V$7,R15,'ECOLI Data and Charts'!B$1)","v":"ECBHCAI201902Scotland"},7,"2019-06-28",{"$f":"ROUND(VLOOKUP($S15,'data for u-p-charts'!$A$2:$F$5000,V$5,FALSE),2)","v":38.92},{"$f":"ROUND(VLOOKUP($S15,'data for u-p-charts'!$A$2:$F$5000,W$5,FALSE),2)","v":37.82},{"$f":"ROUND(VLOOKUP($S15,'data for u-p-charts'!$A$2:$F$5000,X$5,FALSE),2)","v":40.99},{"$f":"ROUND(VLOOKUP($S15,'data for u-p-charts'!$A$2:$F$5000,Y$5,FALSE),2)","v":42.58},{"$f":"CONCATENATE(AA$7,$R15,'ECOLI Data and Charts'!$B$1)","v":"ECBCOM201902Scotland"},{"$f":"ROUND(VLOOKUP($Z15,'data for u-p-charts'!$A$2:$F$5000,AA$5,FALSE),2)","v":44.34},{"$f":"ROUND(VLOOKUP($Z15,'data for u-p-charts'!$A$2:$F$5000,AB$5,FALSE),2)","v":43.78},{"$f":"ROUND(VLOOKUP($Z15,'data for u-p-charts'!$A$2:$F$5000,AC$5,FALSE),2)","v":47.36},{"$f":"ROUND(VLOOKUP($Z15,'data for u-p-charts'!$A$2:$F$5000,AD$5,FALSE),2)","v":49.16}]
[201803,"2018-09-01",{"$f":"CONCATENATE(A16,'ECOLI Data and Charts'!B$1)","v":"201803Scotland"},{"$f":"IFERROR(VLOOKUP(CONCATENATE(D$5,$C16),'trend data'!$A$2:$O$11161,D$6,FALSE),\"-\")","v":606},{"$f":"ROUND(VLOOKUP(CONCATENATE(E$5,$C16),'trend data'!$A$2:$O$11161,E$6,FALSE),3)","v":40.15},{"$f":"ROUND(VLOOKUP(CONCATENATE(F$5,$C16),'trend data'!$A$2:$O$11161,F$6,FALSE),3)","v":37.015999999999998},{"$f":"ROUND(VLOOKUP(CONCATENATE(G$5,$C16),'trend data'!$A$2:$O$11161,G$6,FALSE),3)","v":43.478000000000002},{"$f":"IFERROR(VLOOKUP(CONCATENATE(H$5,$C16),'trend data'!$A$2:$O$11161,H$6,FALSE),\"-\")","v":667},{"$f":"IFERROR(ROUND(VLOOKUP(CONCATENATE(I$5,$C16),'trend data'!$A$2:$O$11161,I$6,FALSE),3),\"-\")","v":48.661000000000001},{"$f":"IFERROR(ROUND(VLOOKUP(CONCATENATE(J$5,$C16),'trend data'!$A$2:$O$11161,J$6,FALSE),3),\"-\")","v":45.037999999999997},{"$f":"IFERROR(ROUND(VLOOKUP(CONCATENATE(K$5,$C16),'trend data'!$A$2:$O$11161,K$6,FALSE),3),\"-\")","v":52.499000000000002},{"$f":"VLOOKUP(CONCATENATE(L$5,$C16),'trend data'!$A$2:$O$11161,L$6,FALSE)","v":1509347},{"$f":"ROUND(VLOOKUP(CONCATENATE(M$5,$C16),'trend data'!$A$2:$O$11161,M$6,FALSE),2)","v":1370699.18},null,null,null,null,"201903",{"$f":"CONCATENATE(V$7,R16,'ECOLI Data and Charts'!B$1)","v":"ECBHCAI201903Scotland"},8,"2019-09-28",{"$f":"ROUND(VLOOKUP($S16,'data for u-p-charts'!$A$2:$F$5000,V$5,FALSE),2)","v":40.26},{"$f":"ROUND(VLOOKUP($S16,'data for u-p-charts'!$A$2:$F$5000,W$5,FALSE),2)","v":37.82},{"$f":"ROUND(VLOOKUP($S16,'data for u-p-charts'!$A$2:$F$5000,X$5,FALSE),2)","v":40.98},{"$f":"ROUND(VLOOKUP($S16,'data for u-p-charts'!$A$2:$F$5000,Y$5,FALSE),2)","v":42.57},{"$f":"CONCATENATE(AA$7,$R16,'ECOLI Data and Charts'!$B$1)","v":"ECBCOM201903Scotland"},{"$f":"ROUND(VLOOKUP($Z16,'data for u-p-charts'!$A$2:$F$5000,AA$5,FALSE),2)","v":44.01},{"$f":"ROUND(VLOOKUP($Z16,'data for u-p-charts'!$A$2:$F$5000,AB$5,FALSE),2)","v":43.78},{"$f":"ROUND(VLOOKUP($Z16,'data for u-p-charts'!$A$2:$F$5000,AC$5,FALSE),2)","v":47.34},{"$f":"ROUND(VLOOKUP($Z16,'data for u-p-charts'!$A$2:$F$5000,AD$5,FALSE),2)","v":49.13}]
[201804,"2018-12-01",{"$f":"CONCATENATE(A17,'ECOLI Data and Charts'!B$1)","v":"201804Scotland"},{"$f":"IFERROR(VLOOKUP(CONCATENATE(D$5,$C17),'trend data'!$A$2:$O$11161,D$6,FALSE),\"-\")","v":582},{"$f":"ROUND(VLOOKUP(CONCATENATE(E$5,$C17),'trend data'!$A$2:$O$11161,E$6,FALSE),3)","v":38.283000000000001},{"$f":"ROUND(VLOOKUP(CONCATENATE(F$5,$C17),'trend data'!$A$2:$O$11161,F$6,FALSE),3)","v":35.235999999999997},{"$f":"ROUND(VLOOKUP(CONCATENATE(G$5,$C17),'trend data'!$A$2:$O$11161,G$6,FALSE),3)","v":41.524000000000001},{"$f":"IFERROR(VLOOKUP(CONCATENATE(H$5,$C17),'trend data'!$A$2:$O$11161,H$6,FALSE),\"-\")","v":603},{"$f":"IFERROR(ROUND(VLOOKUP(CONCATENATE(I$5,$C17),'trend data'!$A$2:$O$11161,I$6,FALSE),3),\"-\")","v":43.991999999999997},{"$f":"IFERROR(ROUND(VLOOKUP(CONCATENATE(J$5,$C17),'trend data'!$A$2:$O$11161,J$6,FALSE),3),\"-\")","v":40.549999999999997},{"$f":"IFERROR(ROUND(VLOOKUP(CONCATENATE(K$5,$C17),'trend data'!$A$2:$O$11161,K$6,FALSE),3),\"-\")","v":47.648000000000003},{"$f":"VLOOKUP(CONCATENATE(L$5,$C17),'trend data'!$A$2:$O$11161,L$6,FALSE)","v":1520249},{"$f":"ROUND(VLOOKUP(CONCATENATE(M$5,$C17),'trend data'!$A$2:$O$11161,M$6,FALSE),2)","v":1370699.18},null,null,null,null,"201904",{"$f":"CONCATENATE(V$7,R17,'ECOLI Data and Charts'!B$1)","v":"ECBHCAI201904Scotland"},9,"2019-12-29",{"$f":"ROUND(VLOOKUP($S17,'data for u-p-charts'!$A$2:$F$5000,V$5,FALSE),2)","v":40.799999999999997},{"$f":"ROUND(VLOOKUP($S17,'data for u-p-charts'!$A$2:$F$5000,W$5,FALSE),2)","v":37.82},{"$f":"ROUND(VLOOKUP($S17,'data for u-p-charts'!$A$2:$F$5000,X$5,FALSE),2)","v":40.96},{"$f":"ROUND(VLOOKUP($S17,'data for u-p-charts'!$A$2:$F$5000,Y$5,FALSE),2)","v":42.53},{"$f":"CONCATENATE(AA$7,$R17,'ECOLI Data and Charts'!$B$1)","v":"ECBCOM201904Scotland"},{"$f":"ROUND(VLOOKUP($Z17,'data for u-p-charts'!$A$2:$F$5000,AA$5,FALSE),2)","v":41.25},{"$f":"ROUND(VLOOKUP($Z17,'data for u-p-charts'!$A$2:$F$5000,AB$5,FALSE),2)","v":43.78},{"$f":"ROUND(VLOOKUP($Z17,'data for u-p-charts'!$A$2:$F$5000,AC$5,FALSE),2)","v":47.34},{"$f":"ROUND(VLOOKUP($Z17,'data for u-p-charts'!$A$2:$F$5000,AD$5,FALSE),2)","v":49.13}]
[201901,"2019-03-01",{"$f":"CONCATENATE(A18,'ECOLI Data and Charts'!B$1)","v":"201901Scotland"},{"$f":"IFERROR(VLOOKUP(CONCATENATE(D$5,$C18),'trend data'!$A$2:$O$11161,D$6,FALSE),\"-\")","v":573},{"$f":"ROUND(VLOOKUP(CONCATENATE(E$5,$C18),'trend data'!$A$2:$O$11161,E$6,FALSE),3)","v":37.286999999999999},{"$f":"ROUND(VLOOKUP(CONCATENATE(F$5,$C18),'trend data'!$A$2:$O$11161,F$6,FALSE),3)","v":34.295999999999999},{"$f":"ROUND(VLOOKUP(CONCATENATE(G$5,$C18),'trend data'!$A$2:$O$11161,G$6,FALSE),3)","v":40.469000000000001},{"$f":"IFERROR(VLOOKUP(CONCATENATE(H$5,$C18),'trend data'!$A$2:$O$11161,H$6,FALSE),\"-\")","v":598},{"$f":"IFERROR(ROUND(VLOOKUP(CONCATENATE(I$5,$C18),'trend data'!$A$2:$O$11161,I$6,FALSE),3),\"-\")","v":44.390999999999998},{"$f":"IFERROR(ROUND(VLOOKUP(CONCATENATE(J$5,$C18),'trend data'!$A$2:$O$11161,J$6,FALSE),3),\"-\")","v":40.904000000000003},{"$f":"IFERROR(ROUND(VLOOKUP(CONCATENATE(K$5,$C18),'trend data'!$A$2:$O$11161,K$6,FALSE),3),\"-\")","v":48.095999999999997},{"$f":"VLOOKUP(CONCATENATE(L$5,$C18),'trend data'!$A$2:$O$11161,L$6,FALSE)","v":1536734},{"$f":"ROUND(VLOOKUP(CONCATENATE(M$5,$C18),'trend data'!$A$2:$O$11161,M$6,FALSE),2)","v":1347115.07},null,null,null,null,"202001",{"$f":"CONCATENATE(V$7,R18,'ECOLI Data and Charts'!B$1)","v":"ECBHCAI202001Scotland"},10,"2020-03-30",{"$f":"ROUND(VLOOKUP($S18,'data for u-p-charts'!$A$2:$F$5000,V$5,FALSE),2)","v":36.450000000000003},{"$f":"ROUND(VLOOKUP($S18,'data for u-p-charts'!$A$2:$F$5000,W$5,FALSE),2)","v":37.82},{"$f":"ROUND(VLOOKUP($S18,'data for u-p-charts'!$A$2:$F$5000,X$5,FALSE),2)","v":41.02},{"$f":"ROUND(VLOOKUP($S18,'data for u-p-charts'!$A$2:$F$5000,Y$5,FALSE),2)","v":42.62},{"$f":"CONCATENATE(AA$7,$R18,'ECOLI Data and Charts'!$B$1)","v":"ECBCOM202001Scotland"},{"$f":"ROUND(VLOOKUP($Z18,'data for u-p-charts'!$A$2:$F$5000,AA$5,FALSE),2)","v":37.840000000000003},{"$f":"ROUND(VLOOKUP($Z18,'data for u-p-charts'!$A$2:$F$5000,AB$5,FALSE),2)","v":43.78},{"$f":"ROUND(VLOOKUP($Z18,'data for u-p-charts'!$A$2:$F$5000,AC$5,FALSE),2)","v":47.37},{"$f":"ROUND(VLOOKUP($Z18,'data for u-p-charts'!$A$2:$F$5000,AD$5,FALSE),2)","v":49.16}]
[201902,"2019-06-01",{"$f":"CONCATENATE(A19,'ECOLI Data and Charts'!B$1)","v":"201902Scotland"},{"$f":"IFERROR(VLOOKUP(CONCATENATE(D$5,$C19),'trend data'!$A$2:$O$11161,D$6,FALSE),\"-\")","v":584},{"$f":"ROUND(VLOOKUP(CONCATENATE(E$5,$C19),'trend data'!$A$2:$O$11161,E$6,FALSE),3)","v":38.914999999999999},{"$f":"ROUND(VLOOKUP(CONCATENATE(F$5,$C19),'trend data'!$A$2:$O$11161,F$6,FALSE),3)","v":35.822000000000003},{"$f":"ROUND(VLOOKUP(CONCATENATE(G$5,$C19),'trend data'!$A$2:$O$11161,G$6,FALSE),3)","v":42.203000000000003},{"$f":"IFERROR(VLOOKUP(CONCATENATE(H$5,$C19),'trend data'!$A$2:$O$11161,H$6,FALSE),\"-\")","v":604},{"$f":"IFERROR(ROUND(VLOOKUP(CONCATENATE(I$5,$C19),'trend data'!$A$2:$O$11161,I$6,FALSE),3),\"-\")","v":44.344000000000001},{"$f":"IFERROR(ROUND(VLOOKUP(CONCATENATE(J$5,$C19),'trend data'!$A$2:$O$11161,J$6,FALSE),3),\"-\")","v":40.877000000000002},{"$f":"IFERROR(ROUND(VLOOKUP(CONCATENATE(K$5,$C19),'trend data'!$A$2:$O$11161,K$6,FALSE),3),\"-\")","v":48.026000000000003},{"$f":"VLOOKUP(CONCATENATE(L$5,$C19),'trend data'!$A$2:$O$11161,L$6,FALSE)","v":1500700},{"$f":"ROUND(VLOOKUP(CONCATENATE(M$5,$C19),'trend data'!$A$2:$O$11161,M$6,FALSE),2)","v":1362083.01},null,null,null,null,"202002",{"$f":"CONCATENATE(V$7,R19,'ECOLI Data and Charts'!B$1)","v":"ECBHCAI202002Scotland"},11,{"$f":"U20-92","v":"2020-06-30"},{"$f":"ROUND(VLOOKUP($S19,'data for u-p-charts'!$A$2:$F$5000,V$5,FALSE),2)","v":39.68},{"$f":"ROUND(VLOOKUP($S19,'data for u-p-charts'!$A$2:$F$5000,W$5,FALSE),2)","v":37.82},{"$f":"ROUND(VLOOKUP($S19,'data for u-p-charts'!$A$2:$F$5000,X$5,FALSE),2)","v":41.56},{"$f":"ROUND(VLOOKUP($S19,'data for u-p-charts'!$A$2:$F$5000,Y$5,FALSE),2)","v":43.43},{"$f":"CONCATENATE(AA$7,$R19,'ECOLI Data and Charts'!$B$1)","v":"ECBCOM202002Scotland"},{"$f":"ROUND(VLOOKUP($Z19,'data for u-p-charts'!$A$2:$F$5000,AA$5,FALSE),2)","v":35.93},{"$f":"ROUND(VLOOKUP($Z19,'data for u-p-charts'!$A$2:$F$5000,AB$5,FALSE),2)","v":43.78},{"$f":"ROUND(VLOOKUP($Z19,'data for u-p-charts'!$A$2:$F$5000,AC$5,FALSE),2)","v":47.37},{"$f":"ROUND(VLOOKUP($Z19,'data for u-p-charts'!$A$2:$F$5000,AD$5,FALSE),2)","v":49.16}]
[201903,"2019-09-01",{"$f":"CONCATENATE(A20,'ECOLI Data and Charts'!B$1)","v":"201903Scotland"},{"$f":"IFERROR(VLOOKUP(CONCATENATE(D$5,$C20),'trend data'!$A$2:$O$11161,D$6,FALSE),\"-\")","v":608},{"$f":"ROUND(VLOOKUP(CONCATENATE(E$5,$C20),'trend data'!$A$2:$O$11161,E$6,FALSE),3)","v":40.258000000000003},{"$f":"ROUND(VLOOKUP(CONCATENATE(F$5,$C20),'trend data'!$A$2:$O$11161,F$6,FALSE),3)","v":37.121000000000002},{"$f":"ROUND(VLOOKUP(CONCATENATE(G$5,$C20),'trend data'!$A$2:$O$11161,G$6,FALSE),3)","v":43.588999999999999},{"$f":"IFERROR(VLOOKUP(CONCATENATE(H$5,$C20),'trend data'!$A$2:$O$11161,H$6,FALSE),\"-\")","v":606},{"$f":"IFERROR(ROUND(VLOOKUP(CONCATENATE(I$5,$C20),'trend data'!$A$2:$O$11161,I$6,FALSE),3),\"-\")","v":44.006999999999998},{"$f":"IFERROR(ROUND(VLOOKUP(CONCATENATE(J$5,$C20),'trend data'!$A$2:$O$11161,J$6,FALSE),3),\"-\")","v":40.572000000000003},{"$f":"IFERROR(ROUND(VLOOKUP(CONCATENATE(K$5,$C20),'trend data'!$A$2:$O$11161,K$6,FALSE),3),\"-\")","v":47.655000000000001},{"$f":"VLOOKUP(CONCATENATE(L$5,$C20),'trend data'!$A$2:$O$11161,L$6,FALSE)","v":1510265},{"$f":"ROUND(VLOOKUP(CONCATENATE(M$5,$C20),'trend data'!$A$2:$O$11161,M$6,FALSE),2)","v":1377050.96},null,null,null,null,"202003",{"$f":"CONCATENATE(V$7,R20,'ECOLI Data and Charts'!B$1)","v":"ECBHCAI202003Scotland"},12,{"$f":"U5","v":"2020-09-30"},{"$f":"ROUND(VLOOKUP($S20,'data for u-p-charts'!$A$2:$F$5000,V$5,FALSE),2)","v":41.98},{"$f":"ROUND(VLOOKUP($S20,'data for u-p-charts'!$A$2:$F$5000,W$5,FALSE),2)","v":37.82},{"$f":"ROUND(VLOOKUP($S20,'data for u-p-charts'!$A$2:$F$5000,X$5,FALSE),2)","v":41.23},{"$f":"ROUND(VLOOKUP($S20,'data for u-p-charts'!$A$2:$F$5000,Y$5,FALSE),2)","v":42.93},{"$f":"CONCATENATE(AA$7,$R20,'ECOLI Data and Charts'!$B$1)","v":"ECBCOM202003Scotland"},{"$f":"ROUND(VLOOKUP($Z20,'data for u-p-charts'!$A$2:$F$5000,AA$5,FALSE),2)","v":44.71},{"$f":"ROUND(VLOOKUP($Z20,'data for u-p-charts'!$A$2:$F$5000,AB$5,FALSE),2)","v":43.78},{"$f":"ROUND(VLOOKUP($Z20,'data for u-p-charts'!$A$2:$F$5000,AC$5,FALSE),2)","v":47.35},{"$f":"ROUND(VLOOKUP($Z20,'data for u-p-charts'!$A$2:$F$5000,AD$5,FALSE),2)","v":49.13}]
[201904,"2019-12-01",{"$f":"CONCATENATE(A21,'ECOLI Data and Charts'!B$1)","v":"201904Scotland"},{"$f":"IFERROR(VLOOKUP(CONCATENATE(D$5,$C21),'trend data'!$A$2:$O$11161,D$6,FALSE),\"-\")","v":626},{"$f":"ROUND(VLOOKUP(CONCATENATE(E$5,$C21),'trend data'!$A$2:$O$11161,E$6,FALSE),3)","v":40.804000000000002},{"$f":"ROUND(VLOOKUP(CONCATENATE(F$5,$C21),'trend data'!$A$2:$O$11161,F$6,FALSE),3)","v":37.668999999999997},{"$f":"ROUND(VLOOKUP(CONCATENATE(G$5,$C21),'trend data'!$A$2:$O$11161,G$6,FALSE),3)","v":44.128999999999998},{"$f":"IFERROR(VLOOKUP(CONCATENATE(H$5,$C21),'trend data'!$A$2:$O$11161,H$6,FALSE),\"-\")","v":568},{"$f":"IFERROR(ROUND(VLOOKUP(CONCATENATE(I$5,$C21),'trend data'!$A$2:$O$11161,I$6,FALSE),3),\"-\")","v":41.247999999999998},{"$f":"IFERROR(ROUND(VLOOKUP(CONCATENATE(J$5,$C21),'trend data'!$A$2:$O$11161,J$6,FALSE),3),\"-\")","v":37.924999999999997},{"$f":"IFERROR(ROUND(VLOOKUP(CONCATENATE(K$5,$C21),'trend data'!$A$2:$O$11161,K$6,FALSE),3),\"-\")","v":44.783999999999999},{"$f":"VLOOKUP(CONCATENATE(L$5,$C21),'trend data'!$A$2:$O$11161,L$6,FALSE)","v":1534177},{"$f":"ROUND(VLOOKUP(CONCATENATE(M$5,$C21),'trend data'!$A$2:$O$11161,M$6,FALSE),2)","v":1377050.96}]
[202001,"2020-03-01",{"$f":"CONCATENATE(A22,'ECOLI Data and Charts'!B$1)","v":"202001Scotland"},{"$f":"IFERROR(VLOOKUP(CONCATENATE(D$5,$C22),'trend data'!$A$2:$O$11161,D$6,FALSE),\"-\")","v":538},{"$f":"ROUND(VLOOKUP(CONCATENATE(E$5,$C22),'trend data'!$A$2:$O$11161,E$6,FALSE),3)","v":36.445999999999998},{"$f":"ROUND(VLOOKUP(CONCATENATE(F$5,$C22),'trend data'!$A$2:$O$11161,F$6,FALSE),3)","v":33.430999999999997},{"$f":"ROUND(VLOOKUP(CONCATENATE(G$5,$C22),'trend data'!$A$2:$O$11161,G$6,FALSE),3)","v":39.659999999999997},{"$f":"IFERROR(VLOOKUP(CONCATENATE(H$5,$C22),'trend data'!$A$2:$O$11161,H$6,FALSE),\"-\")","v":514},{"$f":"IFERROR(ROUND(VLOOKUP(CONCATENATE(I$5,$C22),'trend data'!$A$2:$O$11161,I$6,FALSE),3),\"-\")","v":37.840000000000003},{"$f":"IFERROR(ROUND(VLOOKUP(CONCATENATE(J$5,$C22),'trend data'!$A$2:$O$11161,J$6,FALSE),3),\"-\")","v":34.639000000000003},{"$f":"IFERROR(ROUND(VLOOKUP(CONCATENATE(K$5,$C22),'trend data'!$A$2:$O$11161,K$6,FALSE),3),\"-\")","v":41.256999999999998},{"$f":"VLOOKUP(CONCATENATE(L$5,$C22),'trend data'!$A$2:$O$11161,L$6,FALSE)","v":1476165},{"$f":"ROUND(VLOOKUP(CONCATENATE(M$5,$C22),'trend data'!$A$2:$O$11161,M$6,FALSE),2)","v":1358361.48}]
[202002,"2020-06-01",{"$f":"CONCATENATE(A23,'ECOLI Data and Charts'!B$1)","v":"202002Scotland"},{"$f":"IFERROR(VLOOKUP(CONCATENATE(D$5,$C23),'trend data'!$A$2:$O$11161,D$6,FALSE),\"-\")","v":429},{"$f":"ROUND(VLOOKUP(CONCATENATE(E$5,$C23),'trend data'!$A$2:$O$11161,E$6,FALSE),3)","v":39.682000000000002},{"$f":"ROUND(VLOOKUP(CONCATENATE(F$5,$C23),'trend data'!$A$2:$O$11161,F$6,FALSE),3)","v":36.015999999999998},{"$f":"ROUND(VLOOKUP(CONCATENATE(G$5,$C23),'trend data'!$A$2:$O$11161,G$6,FALSE),3)","v":43.621000000000002},{"$f":"IFERROR(VLOOKUP(CONCATENATE(H$5,$C23),'trend data'!$A$2:$O$11161,H$6,FALSE),\"-\")","v":488},{"$f":"IFERROR(ROUND(VLOOKUP(CONCATENATE(I$5,$C23),'trend data'!$A$2:$O$11161,I$6,FALSE),3),\"-\")","v":35.926000000000002},{"$f":"IFERROR(ROUND(VLOOKUP(CONCATENATE(J$5,$C23),'trend data'!$A$2:$O$11161,J$6,FALSE),3),\"-\")","v":32.808},{"$f":"IFERROR(ROUND(VLOOKUP(CONCATENATE(K$5,$C23),'trend data'!$A$2:$O$11161,K$6,FALSE),3),\"-\")","v":39.259},{"$f":"VLOOKUP(CONCATENATE(L$5,$C23),'trend data'!$A$2:$O$11161,L$6,FALSE)","v":1081085},{"$f":"ROUND(VLOOKUP(CONCATENATE(M$5,$C23),'trend data'!$A$2:$O$11161,M$6,FALSE),2)","v":1358361.48}]
[202003,"2020-09-01",{"$f":"CONCATENATE(A24,'ECOLI Data and Charts'!B$1)","v":"202003Scotland"},{"$f":"IFERROR(VLOOKUP(CONCATENATE(D$5,$C24),'trend data'!$A$2:$O$11161,D$6,FALSE),\"-\")","v":547},{"$f":"ROUND(VLOOKUP(CONCATENATE(E$5,$C24),'trend data'!$A$2:$O$11161,E$6,FALSE),4)","v":41.9786},{"$f":"ROUND(VLOOKUP(CONCATENATE(F$5,$C24),'trend data'!$A$2:$O$11161,F$6,FALSE),4)","v":38.533799999999999},{"$f":"ROUND(VLOOKUP(CONCATENATE(G$5,$C24),'trend data'!$A$2:$O$11161,G$6,FALSE),4)","v":45.648600000000002},{"$f":"IFERROR(VLOOKUP(CONCATENATE(H$5,$C24),'trend data'!$A$2:$O$11161,H$6,FALSE),\"-\")","v":614},{"$f":"IFERROR(ROUND(VLOOKUP(CONCATENATE(I$5,$C24),'trend data'!$A$2:$O$11161,I$6,FALSE),4),\"-\")","v":44.7102},{"$f":"IFERROR(ROUND(VLOOKUP(CONCATENATE(J$5,$C24),'trend data'!$A$2:$O$11161,J$6,FALSE),4),\"-\")","v":41.243099999999998},{"$f":"IFERROR(ROUND(VLOOKUP(CONCATENATE(K$5,$C24),'trend data'!$A$2:$O$11161,K$6,FALSE),4),\"-\")","v":48.390900000000002},{"$f":"VLOOKUP(CONCATENATE(L$5,$C24),'trend data'!$A$2:$O$11161,L$6,FALSE)","v":1303046},{"$f":"ROUND(VLOOKUP(CONCATENATE(M$5,$C24),'trend data'!$A$2:$O$11161,M$6,FALSE),2)","v":1373288.52}]

{"sheet":"data for u-p-charts","index":9,"n_rows":1396,"n_cols":7,"rows_kept":1396,"cut":false,"hidden":true,"merged":[]}
["ref","cases","rate","av","uwl2","uwl3","aboveUCL"]
["CDICA201704Ayrshire & Arran",6,6.4264862790116197,7.5714689030095403,13.2669607469831,16.114706668969902,"-"]
["CDICA201801Ayrshire & Arran",8,8.7765965440648195,7.5714689030095403,13.3356569554436,16.2177509816607,"-"]
["CDICA201803Ayrshire & Arran",10,10.732251208774899,7.5714689030095403,13.272658473144,16.1232532582113,"-"]
["CDICA201804Ayrshire & Arran",5,5.3661256043874603,7.5714689030095403,13.272658473144,16.1232532582113,"-"]
["CDICA201902Ayrshire & Arran",8,8.6874355880203797,7.5714689030095403,13.306303181417,16.173720320620699,"-"]
["CDICA202001Ayrshire & Arran",9,9.8001413790887497,7.5714689030095403,13.314153745364001,16.185496166541199,"-"]
["CDICA202002Ayrshire & Arran",8,8.7112367814122198,7.5714689030095403,13.314153745364001,16.185496166541199,"-"]
["CDICA202003Ayrshire & Arran",7,7.5394807469559604,7.5714689030095403,13.2828582271291,16.138552889188801,"-"]
["CDICA201901Ayrshire & Arran",1,1.0979953312636901,7.5714689030095403,13.338075359605201,16.221378587903001,"-"]
["CDICA201903Ayrshire & Arran",7,7.5188810727839499,7.5714689030095403,13.2750504458654,16.1268412172933,"-"]
["CDICA201802Ayrshire & Arran",9,9.7651692317204795,7.5714689030095403,13.303898101897699,16.1701127013418,"-"]
["CDICA201904Ayrshire & Arran",6,6.4447552052433803,7.5714689030095403,13.2750504458654,16.1268412172933,"-"]
["CDIHCAI201704Ayrshire & Arran",18,14.6337894197703,16.200502215568701,23.458826753139402,27.087989021924699,"-"]
["CDIHCAI202001Ayrshire & Arran",17,15.821901234108299,16.200502215568701,23.966533013369801,27.849548412270401,"-"]
["CDIHCAI201801Ayrshire & Arran",18,14.7350153080437,16.200502215568701,23.483887389211802,27.1255799760334,"-"]
["CDIHCAI202002Ayrshire & Arran",13,15.8792202081399,16.200502215568701,25.097370154749498,29.545804124339799,"-"]
["CDIHCAI202003Ayrshire & Arran",20,20.469362481705499,16.200502215568701,24.3443827676906,28.4163230437516,"-"]
["CDIHCAI201803Ayrshire & Arran",17,15.4392465647676,16.200502215568701,23.872047012516902,27.707819410991,"-"]
["CDIHCAI201902Ayrshire & Arran",15,13.663691018400399,16.200502215568701,23.883533850133102,27.725049667415298,"-"]
["CDIHCAI201804Ayrshire & Arran",21,18.963337547408301,16.200502215568701,23.850159437286798,27.674988048145799,"-"]
["CDIHCAI201903Ayrshire & Arran",21,18.9753320683112,16.200502215568701,23.852578301290901,27.678616344152001,"-"]
["CDIHCAI201901Ayrshire & Arran",17,15.224789539673999,16.200502215568701,23.818580353154701,27.627619421947699,"-"]
["CDIHCAI201904Ayrshire & Arran",21,18.833911803481602,16.200502215568701,23.824010093306399,27.635764032175299,"-"]
["CDIHCAI201802Ayrshire & Arran",10,8.6270855979432994,16.200502215568701,23.6774834070224,27.415974002749198,"-"]
["ECBCOM201704Ayrshire & Arran",50,53.554052325096897,55.614241823296297,71.050220617335597,78.768210014355205,"-"]
["ECBCOM201801Ayrshire & Arran",50,54.853728400405203,55.614241823296297,71.236401766580798,79.047481738222999,"-"]
["ECBCOM201803Ayrshire & Arran",67,71.906083098791996,55.614241823296297,71.065662651597705,78.791373065748502,"-"]
["ECBCOM201804Ayrshire & Arran",49,52.588030922997099,55.614241823296297,71.065662651597705,78.791373065748502,"-"]
["ECBCOM201902Ayrshire & Arran",57,61.8979785646452,55.614241823296297,71.156846875482202,78.928149401575297,"-"]
["ECBCOM202001Ayrshire & Arran",52,56.623039079179399,55.614241823296297,71.178123552181404,78.960064416623993,"-"]
["ECBCOM202002Ayrshire & Arran",45,49.000706895443699,55.614241823296297,71.178123552181404,78.960064416623993,"-"]
["ECBCOM202003Ayrshire & Arran",64,68.932395400740205,55.614241823296297,71.093306126565395,78.832838278199901,"-"]
["ECBCOM201901Ayrshire & Arran",43,47.213799244338603,55.614241823296297,71.242956149657104,79.057313312837493,"-"]
["ECBCOM201903Ayrshire & Arran",55,59.076922714730998,55.614241823296297,71.072145399921197,78.801097188233697,"-"]
["ECBCOM201802Ayrshire & Arran",51,55.3359589797494,55.614241823296297,71.150328604984196,78.918371995828196,"-"]
["ECBCOM201904Ayrshire & Arran",41,44.039160569163101,55.614241823296297,71.072145399921197,78.801097188233697,"-"]
["ECBHCAI201704Ayrshire & Arran",57,46.340333162605802,45.451408993678797,57.608952130398002,63.687723698757601,"-"]
["ECBHCAI202001Ayrshire & Arran",50,46.535003629730298,45.451408993678797,58.459349591627998,64.963319890602705,"-"]
["ECBHCAI201801Ayrshire & Arran",56,45.842269847247003,45.451408993678797,57.650928176317002,63.750687767636101,"-"]
["ECBHCAI202002Ayrshire & Arran",36,43.973225191772102,45.451408993678797,60.353478361396299,67.804513045255007,"-"]
["ECBHCAI202003Ayrshire & Arran",60,61.4080874451165,45.451408993678797,59.092240097360602,65.912655649201497,"-"]
["ECBHCAI201803Ayrshire & Arran",49,44.501357745506702,45.451408993678797,58.301087498876598,64.725926751475498,"-"]
["ECBHCAI201902Ayrshire & Arran",46,41.901985789761298,45.451408993678797,58.320327713763803,64.754787073806199,"-"]
["ECBHCAI201804Ayrshire & Arran",40,36.120642947444502,45.451408993678797,58.264426264091497,64.670934899297805,"-"]
["ECBHCAI201903Ayrshire & Arran",50,45.179362067407602,45.451408993678797,58.268477811155698,64.677012219894195,"-"]
["ECBHCAI201901Ayrshire & Arran",52,46.569944474297003,45.451408993678797,58.211531952798801,64.591593432358707,"-"]
["ECBHCAI201904Ayrshire & Arran",46,41.255235379054902,45.451408993678797,58.220626654995399,64.605235485653694,"-"]
["ECBHCAI201802Ayrshire & Arran",64,55.213347826837101,45.451408993678797,57.975197492940502,64.237091742571295,"-"]
["SABCAUN201704Ayrshire & Arran",6,6.4264862790116197,12.0782956309914,19.271857620549,22.8686386153278,"-"]
["SABCAUN201801Ayrshire & Arran",9,9.8736711120729304,12.0782956309914,19.358622810904102,22.998786400860499,"-"]
["SABCAUN201803Ayrshire & Arran",17,18.244827054917401,12.0782956309914,19.279054004542001,22.8794331913173,"-"]
["SABCAUN201804Ayrshire & Arran",7,7.5125758461424503,12.0782956309914,19.279054004542001,22.8794331913173,"-"]
["SABCAUN201902Ayrshire & Arran",15,16.288941727538202,12.0782956309914,19.3215481913853,22.943174471582299,"-"]
["SABCAUN202001Ayrshire & Arran",15,16.333568965147901,12.0782956309914,19.3314636683894,22.958047687088399,"-"]
["SABCAUN202002Ayrshire & Arran",13,14.1557597697949,12.0782956309914,19.3314636683894,22.958047687088399,"-"]
["SABCAUN202003Ayrshire & Arran",15,16.156030172048499,12.0782956309914,19.291936572822301,22.898757043737699,"-"]
["SABCAUN201901Ayrshire & Arran",11,12.0779486439006,12.0782956309914,19.3616773215116,23.0033681667717,"-"]
["SABCAUN201903Ayrshire & Arran",8,8.5930069403245106,12.0782956309914,19.282075131517502,22.883964881780599,"-"]
["SABCAUN201802Ayrshire & Arran",9,9.7651692317204795,12.0782956309914,19.318510510165499,22.938617949752501,"-"]
["SABCAUN201904Ayrshire & Arran",9,9.6671328078650696,12.0782956309914,19.282075131517502,22.883964881780599,"-"]
["SABHCAI201704Ayrshire & Arran",14,11.3818362153769,16.0504975654245,23.2751406008963,26.8874621186322,"-"]
["SABHCAI202001Ayrshire & Arran",19,17.6833013792975,16.0504975654245,23.780490902891302,27.645487571624699,"-"]
["SABHCAI201801Ayrshire & Arran",23,18.828075115833599,16.0504975654245,23.300084945686599,26.924878635817599,"-"]
["SABHCAI202002Ayrshire & Arran",23,28.0940049836322,16.0504975654245,24.906080511819901,29.333871985017598,"-"]
["SABHCAI202003Ayrshire & Arran",16,16.3754899853644,16.0504975654245,24.156587284622098,28.209632144221001,"-"]
["SABHCAI201803Ayrshire & Arran",18,16.3474375391657,16.0504975654245,23.686443354524201,27.504416249074001,"-"]
["SABHCAI201902Ayrshire & Arran",18,16.396429222080499,16.0504975654245,23.697876888662002,27.521566550280699,"-"]
["SABHCAI201804Ayrshire & Arran",17,15.3512732526639,16.0504975654245,23.664657346316499,27.4717372367625,"-"]
["SABHCAI201903Ayrshire & Arran",22,19.878919309659299,16.0504975654245,23.6670649858331,27.475348696037301,"-"]
["SABHCAI201901Ayrshire & Arran",11,9.8513344080243606,16.0504975654245,23.633224801648598,27.4245884197606,"-"]
["SABHCAI201904Ayrshire & Arran",16,14.349647088366901,16.0504975654245,23.638629345654302,27.432695235769199,"-"]
["SABHCAI201802Ayrshire & Arran",16,13.8033369567093,16.0504975654245,23.4927826012586,27.213925119175599,"-"]
["SSICSEC201704Ayrshire & Arran",2,0.668896321070234,0.96219931271477699,2.09128633700294,2.65582984914702,"-"]
["SSICSEC201801Ayrshire & Arran",3,0.94043887147335403,0.96219931271477699,2.0553188816096002,2.6018786660570101,"-"]
["SSICSEC201803Ayrshire & Arran",0,0,0.96219931271477699,2.1008469396929299,2.6701707531820098,"-"]
["SSICSEC201804Ayrshire & Arran",4,1.3605442176870699,0.96219931271477699,2.1008469396929299,2.6701707531820098,"-"]
["SSICSEC201902Ayrshire & Arran",2,0.71684587813620104,0.96219931271477699,2.1310550393705698,2.7154829026984699,"-"]
["SSICSEC201903Ayrshire & Arran",5,1.6501650165016499,0.96219931271477699,2.0838088572314999,2.6446136294898599,"-"]
["SSICSEC201904Ayrshire & Arran",2,0.79681274900398402,0.96219931271477699,2.1945268404132099,2.8106906042624198,"-"]
["SSICSEC201802Ayrshire & Arran",2,0.66225165562913901,0.96219931271477699,2.0856642919895201,2.6473967816269002,"-"]
["SSICSEC201901Ayrshire & Arran",3,1.1764705882352899,0.96219931271477699,2.18482332305171,2.79613532822018,"-"]
["SSIHIP201704Ayrshire & Arran",0,0,0.22172949002217299,1.0083978660608599,1.4017320540802101,"-"]
["SSIHIP201904Ayrshire & Arran",0,0,0.22172949002217299,0.98982297453165302,1.37386971678639,"-"]
["SSIHIP201801Ayrshire & Arran",0,0,0.22172949002217299,1.0499859951636701,1.46411424773442,"-"]
["SSIHIP201804Ayrshire & Arran",0,0,0.22172949002217299,1.0083978660608599,1.4017320540802101,"-"]
["SSIHIP201802Ayrshire & Arran",0,0,0.22172949002217299,1.0374359283613701,1.4452891475309699,"-"]
["SSIHIP201803Ayrshire & Arran",2,2.0202020202020199,0.22172949002217299,1.16718721222,1.63991607331892,"aboveUCL"]
["SSIHIP201902Ayrshire & Arran",0,0,0.22172949002217299,0.97012498952950599,1.34432273928317,"-"]
["SSIHIP201903Ayrshire & Arran",0,0,0.22172949002217299,1.0499859951636701,1.46411424773442,"-"]
["SSIHIP201901Ayrshire & Arran",0,0,0.22172949002217299,0.99762107785339804,1.3855668717690099,"-"]
["CDICA202003Borders",4,13.776334064808999,3.4661836424976702,10.376415461259199,13.83153137064,"-"]
["CDICA201803Borders",2,6.8836493525597797,3.4661836424976702,10.374149013941301,13.828131699663199,"-"]
["CDICA201904Borders",2,6.8693469039006603,3.4661836424976702,10.366968796803301,13.8173613739561,"-"]
["CDICA201704Borders",1,3.4493056028063198,3.4661836424976702,10.381652291381201,13.839386615823001,"-"]
["CDICA202002Borders",0,0,3.4661836424976702,10.4142800286384,13.888328221708701,"-"]
["CDICA201802Borders",1,3.4796469254697802,3.4661836424976702,10.4120011623381,13.8849099222584,"-"]
["CDICA201804Borders",1,3.4418246762798899,3.4661836424976702,10.374149013941301,13.828131699663199,"-"]
["CDICA201901Borders",1,3.5109995286603399,3.4661836424976702,10.4432228813323,13.9317425007496,"-"]
["CDICA201801Borders",0,0,3.4661836424976702,10.450482440294801,13.9426318391934,"-"]
["CDICA201903Borders",0,0,3.4661836424976702,10.366968796803301,13.8173613739561,"-"]
["CDICA202001Borders",3,10.4457917634266,3.4661836424976702,10.4142800286384,13.888328221708701,"-"]
["CDICA201902Borders",0,0,3.4661836424976702,10.404781601250001,13.874080580626201,"-"]
["CDIHCAI201902Borders",4,13.4471861762926,13.012866125294501,26.241109904194499,32.855231793644499,"-"]
["CDIHCAI201804Borders",0,0,13.012866125294501,25.931060866895599,32.390158237696198,"-"]
["CDIHCAI201803Borders",4,12.250773330066499,13.012866125294501,25.638937298683501,31.951972885377899,"-"]
["CDIHCAI201904Borders",3,10.1988781234064,13.012866125294501,26.315328837042401,32.966560192916397,"-"]
["CDIHCAI201801Borders",4,12.126356636148699,13.012866125294501,25.574659607667101,31.855556348853501,"-"]
["CDIHCAI201903Borders",4,13.8112008839169,13.012866125294501,26.418958327422601,33.122004428486598,"-"]
["CDIHCAI201802Borders",3,9.5162569389373495,13.012866125294501,25.862446017794099,32.287235964043902,"-"]
["CDIHCAI202002Borders",4,18.545994065281899,13.012866125294501,28.5478761971297,36.315381233047297,"-"]
["CDIHCAI202003Borders",2,7.9067009290373598,13.012866125294501,27.3578192923359,34.530295875856602,"-"]
["CDIHCAI202001Borders",3,10.396811644429,13.012866125294501,26.443791536888899,33.159254242686103,"-"]
["CDIHCAI201901Borders",6,20.415107179312699,13.012866125294501,26.320985367770401,32.975044989008303,"-"]
["CDIHCAI201704Borders",6,18.495684340320601,13.012866125294501,25.679932721164199,32.013466019099099,"-"]
["ECBCOM202003Borders",8,27.552668129617999,52.281603274339901,79.119055317168403,92.537781338582604,"-"]
["ECBCOM201803Borders",17,58.511019496758102,52.281603274339901,79.110253055131906,92.524577945527994,"-"]
["ECBCOM201904Borders",12,41.216081423403999,52.281603274339901,79.082367053887296,92.482748943660994,"-"]
["ECBCOM201704Borders",9,31.043750425256899,52.281603274339901,79.139393734307205,92.568288964290801,"-"]
["ECBCOM202002Borders",7,24.3735141146621,52.281603274339901,79.266110949716307,92.758364787404503,"-"]
["ECBCOM201802Borders",24,83.5115262112746,52.281603274339901,79.257260455746007,92.745089046449095,"-"]
["ECBCOM201804Borders",11,37.860071439078801,52.281603274339901,79.110253055131906,92.524577945527994,"-"]
["ECBCOM201901Borders",16,56.175992458565403,52.281603274339901,79.378517080440702,92.926973983491095,"-"]
["ECBCOM201801Borders",15,52.774645036291602,52.281603274339901,79.406711223650206,92.969265198305294,"-"]
["ECBCOM201903Borders",24,82.432162846807898,52.281603274339901,79.082367053887296,92.482748943660994,"-"]
["ECBCOM202001Borders",13,45.265097641515297,52.281603274339901,79.266110949716307,92.758364787404503,"-"]
["ECBCOM201902Borders",19,65.975925208892093,52.281603274339901,79.229221653350706,92.703030842856194,"-"]
["ECBHCAI201902Borders",15,50.4269481610973,38.2079898998009,60.87492514929,72.208392774034607,"-"]
["ECBHCAI201804Borders",11,35.266583309287903,38.2079898998009,60.343648165732297,71.411477298698003,"-"]
["ECBHCAI201803Borders",10,30.626933325166199,38.2079898998009,59.843086933554403,70.660635450431201,"-"]
["ECBHCAI201904Borders",14,47.594764575896697,38.2079898998009,61.002101195730397,72.399156843695096,"-"]
["ECBHCAI201801Borders",10,30.315891590371699,38.2079898998009,59.732945460158099,70.495423240336706,"-"]
["ECBHCAI201903Borders",8,27.622401767833701,38.2079898998009,61.179672987394198,72.665514531190794,"-"]
["ECBHCAI201802Borders",12,38.065027755749398,38.2079898998009,60.226074860633403,71.235117341049701,"-"]
["ECBHCAI202002Borders",14,64.910979228486596,38.2079898998009,64.827628400878694,78.137447651417503,"-"]
["ECBHCAI202003Borders",13,51.393556038742801,38.2079898998009,62.788435348873101,75.078658073409201,"-"]
["ECBHCAI202001Borders",10,34.656038814763498,38.2079898998009,61.222225329217999,72.729343043926605,"-"]
["ECBHCAI201901Borders",9,30.622660768968998,38.2079898998009,61.011793806321002,72.413695759581103,"-"]
["ECBHCAI201704Borders",13,40.073982737361298,38.2079898998009,59.913333642220302,70.766005513430002,"-"]
["SABCAUN202003Borders",1,3.4440835162022498,11.265096838117399,23.722694412061202,29.951493199033099,"-"]
["SABCAUN201803Borders",3,10.3254740288397,11.265096838117399,23.718608516052299,29.945364355019802,"-"]
["SABCAUN201904Borders",2,6.8693469039006603,11.265096838117399,23.7056641955222,29.9259478742247,"-"]
["SABCAUN201704Borders",2,6.8986112056126299,11.265096838117399,23.7321352418241,29.965654443677401,"-"]
["SABCAUN202002Borders",5,17.4096529390443,11.265096838117399,23.790955731665601,30.0538851784397,"-"]
["SABCAUN201802Borders",3,10.4389407764093,11.265096838117399,23.786847447017902,30.0477227514681,"-"]
["SABCAUN201804Borders",3,10.3254740288397,11.265096838117399,23.718608516052299,29.945364355019802,"-"]
["SABCAUN201901Borders",3,10.532998585981,11.265096838117399,23.843133201388699,30.132151383024301,"-"]
["SABCAUN201801Borders",3,10.5549290072583,11.265096838117399,23.856220557427001,30.151782417081801,"-"]
["SABCAUN201903Borders",2,6.8693469039006603,11.265096838117399,23.7056641955222,29.9259478742247,"-"]
["SABCAUN202001Borders",3,10.4457917634266,11.265096838117399,23.790955731665601,30.0538851784397,"-"]
["SABCAUN201902Borders",3,10.4172513487724,11.265096838117399,23.7738321981731,30.028199878201001,"-"]
["SABHCAI201902Borders",2,6.7235930881463002,15.504691553542401,29.9440292781916,37.163698140516097,"-"]
["SABHCAI201804Borders",4,12.824212112468301,15.504691553542401,29.605594121145099,36.656045404946397,"-"]
["SABHCAI201803Borders",9,27.564239992649501,15.504691553542401,29.286725575233302,36.177742586078701,"-"]
["SABHCAI201904Borders",2,6.7992520822709501,15.504691553542401,30.025043224930499,37.285219060624598,"-"]
["SABHCAI201801Borders",12,36.379069908445999,15.504691553542401,29.2165630272595,36.072498764118102,"aboveUCL"]
["SABHCAI201903Borders",0,0,15.504691553542401,30.138160372969399,37.454894782682999,"-"]
["SABHCAI201802Borders",6,19.032513877874699,15.504691553542401,29.530697332450899,36.543700221905198,"-"]
["SABHCAI202002Borders",5,23.1824925816024,15.504691553542401,32.4619884352988,40.940636876176903,"-"]
["SABHCAI202003Borders",2,7.9067009290373598,15.504691553542401,31.162977482138299,38.992120446436203,"-"]
["SABHCAI202001Borders",3,10.396811644429,15.504691553542401,30.165267153299801,37.495554953178399,"-"]
["SABHCAI201901Borders",3,10.2075535896563,15.504691553542401,30.0312176316693,37.294480670732803,"-"]
["SABHCAI201704Borders",4,12.330456226880401,15.504691553542401,29.3314742781041,36.244865640384901,"-"]
["SSICSEC201803Borders",0,0,0.29985007496251898,1.71158889473519,2.4174583046215199,"-"]
["SSICSEC201704Borders",1,1.4285714285714299,0.29985007496251898,1.6068662499372299,2.2603743374245902,"-"]
["SSICSEC201904Borders",0,0,0.29985007496251898,1.6775660921629401,2.3664241007631501,"-"]
["SSICSEC201801Borders",0,0,0.29985007496251898,1.7482635428475199,2.4724702767900202,"-"]
["SSICSEC201802Borders",0,0,0.29985007496251898,1.59762927076548,2.2465188686669602,"-"]
["SSICSEC201902Borders",0,0,0.29985007496251898,1.57105077208607,2.2066511206478401,"-"]
["SSICSEC201903Borders",1,1.7543859649122799,0.29985007496251898,1.7482635428475199,2.4724702767900202,"-"]
["SSICSEC201804Borders",0,0,0.29985007496251898,1.63580738567554,2.3037860410320499,"-"]
["SSICSEC201901Borders",0,0,0.29985007496251898,1.6259477873768,2.2889966435839502,"-"]
["SSIHIP201801Borders",1,2.2727272727272698,1.2396694214876001,4.5758370905107499,6.24392092502233,"-"]
["SSIHIP201803Borders",0,0,1.2396694214876001,3.8121869797938599,5.0984457589469896,"-"]
["SSIHIP201902Borders",2,2.0618556701030899,1.2396694214876001,3.4865932005773002,4.6100550901221498,"-"]
["SSIHIP201804Borders",1,1.14942528735632,1.2396694214876001,3.6122150922245901,4.7984879275930901,"-"]
["SSIHIP201903Borders",1,1.35135135135135,1.2396694214876001,3.8121869797938599,5.0984457589469896,"-"]
["SSIHIP201704Borders",1,1.8181818181818199,1.2396694214876001,4.2236284983967201,5.7156080368512701,"-"]
["SSIHIP201904Borders",2,2.2222222222222201,1.2396694214876001,3.57233753498805,4.73867159173827,"-"]
["SSIHIP201802Borders",0,0,1.2396694214876001,3.8121869797938599,5.0984457589469896,"-"]
["SSIHIP201901Borders",1,1.63934426229508,1.2396694214876001,4.0730785582012503,5.4897831265580797,"-"]
["CDICA201904Dumfries & Galloway",2,5.3303658529461604,7.3844265188957898,16.257046758702302,20.693356878605599,"-"]
["CDICA201801Dumfries & Galloway",4,10.9027637759407,7.3844265188957898,16.357199666385501,20.843586240130399,"-"]
["CDICA202002Dumfries & Galloway",2,5.4037055246245096,7.3844265188957898,16.3178767343882,20.7846018421344,"-"]
["CDICA201903Dumfries & Galloway",5,13.3259146323654,7.3844265188957898,16.257046758702302,20.693356878605599,"-"]
["CDICA201803Dumfries & Galloway",3,7.9993103790869498,7.3844265188957898,16.259133627392998,20.696487181641601,"-"]
["CDICA202003Dumfries & Galloway",6,16.034908785027099,7.3844265188957898,16.269192719542399,20.711575819865701,"-"]
["CDICA201704Dumfries & Galloway",1,2.65910945331624,7.3844265188957898,16.2469314387737,20.6781838987126,"-"]
["CDICA201902Dumfries & Galloway",4,10.7778826037593,7.3844265188957898,16.305664219839802,20.7662830703119,"-"]
["CDICA201901Dumfries & Galloway",1,2.7244092137280398,7.3844265188957898,16.355089737672301,20.840421347060499,"-"]
["CDICA201802Dumfries & Galloway",5,13.4786914812454,7.3844265188957898,16.307762523513102,20.769430525821701,"-"]
["CDICA202001Dumfries & Galloway",2,5.4037055246245096,7.3844265188957898,16.3178767343882,20.7846018421344,"-"]
["CDICA201804Dumfries & Galloway",0,0,7.3844265188957898,16.259133627392998,20.696487181641601,"-"]
["CDIHCAI202003Dumfries & Galloway",10,27.227924959838798,20.8210498868463,35.879788000036498,43.4091570566315,"-"]
["CDIHCAI201901Dumfries & Galloway",3,6.5009643097059397,20.8210498868463,34.2551806591241,40.972246045262999,"-"]
["CDIHCAI201902Dumfries & Galloway",6,13.1385902292684,20.8210498868463,34.325598320773601,41.0778725377372,"-"]
["CDIHCAI201804Dumfries & Galloway",12,27.397260273972599,20.8210498868463,34.610414422933502,41.505096690977098,"-"]
["CDIHCAI201704Dumfries & Galloway",11,25.673940949935801,20.8210498868463,34.7632475134182,41.734346326704099,"-"]
["CDIHCAI201904Dumfries & Galloway",6,12.914890869172201,20.8210498868463,34.210139651033998,40.904684533127799,"-"]
["CDIHCAI202002Dumfries & Galloway",3,11.075014766686399,20.8210498868463,38.3555277311673,47.122766653327801,"-"]
["CDIHCAI202001Dumfries & Galloway",12,27.067262146433901,20.8210498868463,34.527116857975699,41.3801503435404,"-"]
["CDIHCAI201802Dumfries & Galloway",7,16.505541145956101,20.8210498868463,34.834567760861503,41.8413266978691,"-"]
["CDIHCAI201803Dumfries & Galloway",13,30.2241235004185,20.8210498868463,34.736154941187799,41.693707468358603,"-"]
["CDIHCAI201801Dumfries & Galloway",14,31.3465585956742,20.8210498868463,34.4766950858263,41.304517685316299,"-"]
["CDIHCAI201903Dumfries & Galloway",7,15.192950470981501,20.8210498868463,34.265819016983201,40.988203582051597,"-"]
["ECBCOM201904Dumfries & Galloway",21,55.968841455934701,55.718854642577298,80.091046999936793,92.277143178616498,"-"]
["ECBCOM201801Dumfries & Galloway",18,49.0624369917333,55.718854642577298,80.366156929724298,92.689808073297797,"-"]
["ECBCOM202002Dumfries & Galloway",22,59.440760770869602,55.718854642577298,80.258140804071303,92.527783884818305,"-"]
["ECBCOM201903Dumfries & Galloway",29,77.2903048677193,55.718854642577298,80.091046999936793,92.277143178616498,"-"]
["ECBCOM201803Dumfries & Galloway",19,50.662299067550698,55.718854642577298,80.096779417619402,92.285741805140404,"-"]
["ECBCOM202003Dumfries & Galloway",23,61.467150342603802,55.718854642577298,80.124410728571505,92.327188771568601,"-"]
["ECBCOM201704Dumfries & Galloway",21,55.841298519641001,55.718854642577298,80.0632612369497,92.2354645341359,"-"]
["ECBCOM201902Dumfries & Galloway",20,53.889413018796297,55.718854642577298,80.224594259116699,92.477464067386293,"-"]
["ECBCOM201901Dumfries & Galloway",18,49.039365847104698,55.718854642577298,80.360361168486904,92.681114431441699,"-"]
["ECBCOM201802Dumfries & Galloway",19,51.219027628732597,55.718854642577298,80.2303580875422,92.486109810024701,"-"]
["ECBCOM202001Dumfries & Galloway",20,54.037055246245103,55.718854642577298,80.258140804071303,92.527783884818305,"-"]
["ECBCOM201804Dumfries & Galloway",23,61.328046239666598,55.718854642577298,80.096779417619402,92.285741805140404,"-"]
["ECBHCAI202003Dumfries & Galloway",11,29.950717455822701,33.469351219977298,52.561768389859502,62.1079769748006,"-"]
["ECBHCAI201901Dumfries & Galloway",11,23.836869135588401,33.469351219977298,50.501988821558001,59.018307622348303,"-"]
["ECBHCAI201902Dumfries & Galloway",15,32.846475573170999,33.469351219977298,50.591268770663604,59.152227546006699,"-"]
["ECBHCAI201804Dumfries & Galloway",15,34.246575342465803,33.469351219977298,50.952376573871497,59.6938892508186,"-"]
["ECBHCAI201704Dumfries & Galloway",9,21.0059516863111,33.469351219977298,51.146147997410601,59.984546386127299,"-"]
["ECBHCAI201904Dumfries & Galloway",18,38.744672607516499,33.469351219977298,50.444882993051998,58.932648879589301,"-"]
["ECBHCAI202002Dumfries & Galloway",10,36.916715888954499,33.469351219977298,55.700667240182099,66.816325250284507,"-"]
["ECBHCAI202001Dumfries & Galloway",15,33.834077683042402,33.469351219977298,50.846766671670103,59.535474397516502,"-"]
["ECBHCAI201802Dumfries & Galloway",16,37.7269511907569,33.469351219977298,51.236572301665802,60.120182842509998,"-"]
["ECBHCAI201803Dumfries & Galloway",18,41.848786385194799,33.469351219977298,51.111798326984101,59.933021880487502,"-"]
["ECBHCAI201801Dumfries & Galloway",19,42.5417580941292,33.469351219977298,50.782838771398197,59.4395825471086,"-"]
["ECBHCAI201903Dumfries & Galloway",12,26.045057950253899,33.469351219977298,50.515476802072797,59.038539593120497,"-"]
["SABCAUN201904Dumfries & Galloway",2,5.3303658529461604,12.7549185326382,24.4158260619418,30.2462798265936,"-"]
["SABCAUN201801Dumfries & Galloway",7,19.079836607896301,12.7549185326382,24.547452770143,30.443719888895401,"-"]
["SABCAUN202002Dumfries & Galloway",4,10.807411049249,12.7549185326382,24.495772312577099,30.3661992025465,"-"]
["SABCAUN201903Dumfries & Galloway",3,7.9955487794192397,12.7549185326382,24.4158260619418,30.2462798265936,"-"]
["SABCAUN201803Dumfries & Galloway",4,10.6657471721159,12.7549185326382,24.4185687447311,30.250393850777499,"-"]
["SABCAUN202003Dumfries & Galloway",3,8.0174543925135406,12.7549185326382,24.431788981844001,30.270224206446901,"-"]
["SABCAUN201704Dumfries & Galloway",6,15.9546567198974,12.7549185326382,24.402531927049399,30.226338624255,"-"]
["SABCAUN201902Dumfries & Galloway",6,16.1668239056389,12.7549185326382,24.479721923965801,30.3421236196296,"-"]
["SABCAUN201901Dumfries & Galloway",6,16.346455282368201,12.7549185326382,24.544679780546499,30.4395604045006,"-"]
["SABCAUN201802Dumfries & Galloway",5,13.4786914812454,12.7549185326382,24.4824796352665,30.346260186580601,"-"]
["SABCAUN202001Dumfries & Galloway",8,21.614822098497999,12.7549185326382,24.495772312577099,30.3661992025465,"-"]
["SABCAUN201804Dumfries & Galloway",3,7.9993103790869498,12.7549185326382,24.4185687447311,30.250393850777499,"-"]
["SABHCAI202003Dumfries & Galloway",6,16.3367549759033,8.9511055588311397,18.8247073426474,23.761508234555599,"-"]
["SABHCAI201901Dumfries & Galloway",4,8.6679524129412506,8.9511055588311397,17.759496843689099,22.163692486118101,"-"]
["SABHCAI201902Dumfries & Galloway",3,6.5692951146342002,8.9511055588311397,17.805667774111601,22.232948881751799,"-"]
["SABHCAI201804Dumfries & Galloway",5,11.415525114155299,8.9511055588311397,17.992413884788899,22.513068047767799,"-"]
["SABHCAI201704Dumfries & Galloway",3,7.0019838954370401,8.9511055588311397,18.0926223526893,22.663380749618302,"-"]
["SABHCAI201904Dumfries & Galloway",2,4.3049636230573904,8.9511055588311397,17.729964689369101,22.119394254638099,"-"]
["SABHCAI202002Dumfries & Galloway",4,14.7666863555818,8.9511055588311397,20.447982018242399,26.196420247948002,"-"]
["SABHCAI202001Dumfries & Galloway",8,18.044841430955898,8.9511055588311397,17.937797954836899,22.431144152839799,"-"]
["SABHCAI201802Dumfries & Galloway",4,9.4317377976892196,8.9511055588311397,18.1393850838747,22.733524846396399,"-"]
["SABHCAI201803Dumfries & Galloway",3,6.9747977308658102,8.9511055588311397,18.074858495751801,22.636734964212099,"-"]
["SABHCAI201801Dumfries & Galloway",2,4.4780797993820203,8.9511055588311397,17.904737781023201,22.3815538921192,"-"]
["SABHCAI201903Dumfries & Galloway",4,8.6816859834179798,8.9511055588311397,17.7664721233138,22.174155405555201,"-"]
["SSICSEC201904Dumfries & Galloway",0,0,0.77821011673151796,2.8493799510598299,3.8849648682239901,"-"]
["SSICSEC201901Dumfries & Galloway",0,0,0.77821011673151796,2.8493799510598299,3.8849648682239901,"-"]
["SSICSEC201903Dumfries & Galloway",1,1.16279069767442,0.77821011673151796,2.6733127486380299,3.6208640645912902,"-"]
["SSICSEC201804Dumfries & Galloway",1,1.2048192771084301,0.77821011673151796,2.70725758362074,3.6717813170653502,"-"]
["SSICSEC201704Dumfries & Galloway",0,0,0.77821011673151796,2.8075338226311799,3.8221956755809998,"-"]
["SSICSEC201801Dumfries & Galloway",2,2.7777777777777799,0.77821011673151796,2.8493799510598299,3.8849648682239901,"-"]
["SSICSEC201902Dumfries & Galloway",0,0,0.77821011673151796,2.73092776318828,3.70728658641666,"-"]
["SSICSEC201802Dumfries & Galloway",2,2.5641025641025599,0.77821011673151796,2.7681257274582101,3.7630835328215499,"-"]
["SSICSEC201803Dumfries & Galloway",0,0,0.77821011673151796,2.9750174689953699,4.0734211451273001,"-"]
["SSIHIP201904Dumfries & Galloway",0,0,1.21654501216545,4.4491845239323498,6.0655042798157996,"-"]
["SSIHIP201801Dumfries & Galloway",1,2.7027027027027,1.21654501216545,4.82096451335173,6.6231742639448701,"-"]
["SSIHIP201803Dumfries & Galloway",1,2.6315789473684199,1.21654501216545,4.7732217497649003,6.5515601185646304,"-"]
["SSIHIP201902Dumfries & Galloway",0,0,1.21654501216545,4.4849053819318501,6.1190855668150599,"-"]
["SSIHIP201804Dumfries & Galloway",0,0,1.21654501216545,4.2866349955171001,5.8216799871929199,"-"]
["SSIHIP201802Dumfries & Galloway",0,0,1.21654501216545,4.4849053819318501,6.1190855668150599,"-"]
["SSIHIP201901Dumfries & Galloway",1,3.5714285714285698,1.21654501216545,5.3599480209066703,7.4316495252772796,"-"]
["SSIHIP201903Dumfries & Galloway",0,0,1.21654501216545,4.3486632814928896,5.9147224161566099,"-"]
["SSIHIP201704Dumfries & Galloway",2,5.5555555555555598,1.21654501216545,4.8706829930474704,6.6977519834884696,"-"]
["CDICA201904Fife",4,4.2483108599628698,4.4704896600591297,8.8284742598691093,11.0074665597741,"-"]
["CDICA201903Fife",3,3.1862331449721499,4.4704896600591297,8.8284742598691093,11.0074665597741,"-"]
["CDICA201901Fife",5,5.4283972099525597,4.4704896600591297,8.8766302477196497,11.079700541549901,"-"]
["CDICA202002Fife",1,1.0766906764765201,4.4704896600591297,8.8583522542023605,11.052283551274,"-"]
["CDICA201704Fife",4,4.2727888902806299,4.4704896600591297,8.8410112025772598,11.0262719738363,"-"]
["CDICA201902Fife",3,3.2212466960157999,4.4704896600591297,8.8523538062931308,11.043285879410099,"-"]
["CDICA202003Fife",6,6.38992510169758,4.4704896600591297,8.8344400184455392,11.0164151976387,"-"]
["CDICA201802Fife",8,8.6278702072845803,4.4704896600591297,8.8620044642012008,11.0577618662722,"-"]
["CDICA202001Fife",1,1.0766906764765201,4.4704896600591297,8.8583522542023605,11.052283551274,"-"]
["CDICA201803Fife",5,5.33380563086207,4.4704896600591297,8.8380723252444398,11.0218636578371,"-"]
["CDICA201801Fife",2,2.18093385795249,4.4704896600591297,8.8863343722856492,11.0942567283989,"-"]
["CDICA201804Fife",7,7.4673278832068997,4.4704896600591297,8.8380723252444398,11.0218636578371,"-"]
["CDIHCAI201902Fife",6,6.8292793972022698,9.0436570645241101,15.460388364603,18.668754014642399,"-"]
["CDIHCAI201903Fife",8,8.8617129691169296,9.0436570645241101,15.373834514522599,18.5389232395219,"-"]
["CDIHCAI201803Fife",7,7.83848246979385,9.0436570645241101,15.408226284066201,18.590510893837202,"-"]
["CDIHCAI202003Fife",7,9.3329600149327394,9.0436570645241101,15.988504682803701,19.460928491943601,"-"]
["CDIHCAI201804Fife",11,12.0267211878027,9.0436570645241101,15.3326240857341,18.477107596339099,"-"]
["CDIHCAI202001Fife",7,7.9822110724670701,9.0436570645241101,15.466312481363101,18.677640189782601,"-"]
["CDIHCAI201901Fife",6,6.5299015073189297,9.0436570645241101,15.3181658047795,18.4554201749072,"-"]
["CDIHCAI202002Fife",5,7.9062633418193897,9.0436570645241101,16.606806372860301,20.388381027028402,"-"]
["CDIHCAI201801Fife",6,6.5333856004181401,9.0436570645241101,15.3198394944455,18.457930709406298,"-"]
["CDIHCAI201704Fife",11,12.2265694469145,9.0436570645241101,15.3846607462905,18.5551625871738,"-"]
["CDIHCAI201802Fife",4,4.5700183943240402,9.0436570645241101,15.4724733736773,18.686881528253899,"-"]
["CDIHCAI201904Fife",12,13.085008941422799,9.0436570645241101,15.3242179087073,18.464498330798801,"-"]
["ECBCOM201904Fife",34,36.110642309684401,38.893260042514399,51.747467875670601,58.174571792248699,"-"]
["ECBCOM201903Fife",40,42.4831085996287,38.893260042514399,51.747467875670601,58.174571792248699,"-"]
["ECBCOM201901Fife",25,27.141986049762799,38.893260042514399,51.889507633284502,58.387631428669501,"-"]
["ECBCOM202002Fife",36,38.760864353154503,38.893260042514399,51.835595297877298,58.306762925558701,"-"]
["ECBCOM201704Fife",43,45.932480570516802,38.893260042514399,51.784446544014301,58.230039794764203,"-"]
["ECBCOM201902Fife",33,35.433713656173801,38.893260042514399,51.817902418442799,58.280223606406999,"-"]
["ECBCOM202003Fife",44,46.859450745782198,38.893260042514399,51.765064335425699,58.200966481881402,"-"]
["ECBCOM201802Fife",31,33.432997053227801,38.893260042514399,51.846367769716103,58.322921633316902,"-"]
["ECBCOM202001Fife",31,33.377410970771997,38.893260042514399,51.835595297877298,58.306762925558701,"-"]
["ECBCOM201803Fife",39,41.603683920724201,38.893260042514399,51.775778101258901,58.217037130631098,"-"]
["ECBCOM201801Fife",29,31.623540940311099,38.893260042514399,51.918130688541602,58.4305660115552,"-"]
["ECBCOM201804Fife",46,49.0710118039311,38.893260042514399,51.775778101258901,58.217037130631098,"-"]
["ECBHCAI201902Fife",37,42.113889616080698,41.220036936199399,54.919261950783302,61.768874458075302,"-"]
["ECBHCAI201903Fife",28,31.0159953919093,41.220036936199399,54.734476175490798,61.491695795136401,"-"]
["ECBHCAI201803Fife",36,40.312195558939798,41.220036936199399,54.807899943386602,61.601831446980299,"-"]
["ECBHCAI202003Fife",34,45.331520072530402,41.220036936199399,56.046749442244497,63.460105695267004,"-"]
["ECBHCAI201804Fife",45,49.2002230410111,41.220036936199399,54.646495097505699,61.3597241781588,"-"]
["ECBHCAI202001Fife",42,47.893266434802399,41.220036936199399,54.931909481857097,61.787845754685897,"-"]
["ECBHCAI201901Fife",36,39.179409043913601,41.220036936199399,54.615627785963603,61.313423210845698,"-"]
["ECBHCAI202002Fife",23,36.368811372369201,41.220036936199399,57.366775727103601,65.440145122555705,"-"]
["ECBHCAI201801Fife",35,38.1114160024391,41.220036936199399,54.619200983946797,61.3187830078204,"-"]
["ECBHCAI201704Fife",28,31.1221767739641,41.220036936199399,54.757589342945202,61.526365546318097,"-"]
["ECBHCAI201802Fife",43,49.1276977389834,41.220036936199399,54.945062510424997,61.807575297537802,"-"]
["ECBHCAI201904Fife",55,59.972957648187702,41.220036936199399,54.628548559740899,61.332804371511699,"-"]
["SABCAUN201904Fife",8,8.4966217199257397,10.8185849773431,17.598017995573901,20.9877345046893,"-"]
["SABCAUN201903Fife",11,11.6828548648979,10.8185849773431,17.598017995573901,20.9877345046893,"-"]
["SABCAUN201901Fife",11,11.9424738618956,10.8185849773431,17.672931131814401,21.100104209049999,"-"]
["SABCAUN202002Fife",13,13.9969787941947,10.8185849773431,17.644497246856702,21.057453381613499,"-"]
["SABCAUN201704Fife",13,13.886563893412101,10.8185849773431,17.617520901423301,21.0169888634634,"-"]
["SABCAUN201902Fife",9,9.66374008804741,10.8185849773431,17.635165851831701,21.043456289076001,"-"]
["SABCAUN202003Fife",6,6.38992510169758,10.8185849773431,17.607298537931399,21.001655318225499,"-"]
["SABCAUN201802Fife",6,6.4709026554634397,10.8185849773431,17.650178752260999,21.065975639720001,"-"]
["SABCAUN202001Fife",6,6.4601440588590897,10.8185849773431,17.644497246856702,21.057453381613499,"-"]
["SABCAUN201803Fife",8,8.5340890093793096,10.8185849773431,17.612949081222901,21.010131133162702,"-"]
["SABCAUN201801Fife",13,14.1760700766912,10.8185849773431,17.688027206843799,21.122748321594099,"-"]
["SABCAUN201804Fife",12,12.801133514069001,10.8185849773431,17.612949081222901,21.010131133162702,"-"]
["SABHCAI201902Fife",12,13.658558794404501,15.897797155531901,24.405460311972,28.659291890192101,"-"]
["SABHCAI201903Fife",14,15.5079976959546,15.897797155531901,24.290702350801499,28.487154948436299,"-"]
["SABHCAI201803Fife",23,25.7550138293226,15.897797155531901,24.336300892636501,28.5555527611888,"-"]
["SABHCAI202003Fife",15,19.999200031998701,15.897797155531901,25.105666621470501,29.709601354439901,"-"]
["SABHCAI201804Fife",16,17.493412636803999,15.897797155531901,24.2360632471412,28.405196292945799,"-"]
["SABHCAI202001Fife",11,12.543474542448299,15.897797155531901,24.4133148390728,28.6710736808433,"-"]
["SABHCAI201901Fife",13,14.1481199325244,15.897797155531901,24.216893645294,28.376441890174998,"-"]
["SABHCAI202002Fife",4,6.3250106734555098,15.897797155531901,25.925445767902001,30.939270074087101,"-"]
["SABHCAI201801Fife",16,17.422361601115,15.897797155531901,24.219112717161099,28.379770497975802,"-"]
["SABHCAI201704Fife",11,12.2265694469145,15.897797155531901,24.3050563776148,28.5086859886562,"-"]
["SABHCAI201802Fife",24,27.4201103659442,15.897797155531901,24.421483296516499,28.683326367008799,"-"]
["SABHCAI201904Fife",10,10.9041741178523,15.897797155531901,24.224917864978,28.388478219701099,"-"]
["SSICSEC201901Fife",12,6.4864864864864904,3.1789282470481401,5.75862963309803,7.0484803261229798,"-"]
["SSICSEC201804Fife",4,1.6806722689075599,3.1789282470481401,5.4533281213706397,6.5905280585318904,"-"]
["SSICSEC201904Fife",5,2.31481481481481,3.1789282470481401,5.5663460366156103,6.7600549313993401,"-"]
["SSICSEC201902Fife",4,1.9607843137254899,3.1789282470481401,5.6355608853773997,6.86387720454203,"-"]
["SSICSEC201802Fife",7,3.1390134529148002,3.1789282470481401,5.5285765936214801,6.7034007669081603,"-"]
["SSICSEC201704Fife",9,3.9647577092511002,3.1789282470481401,5.5077828364902004,6.6722101312112301,"-"]
["SSICSEC201903Fife",6,2.5423728813559299,3.1789282470481401,5.4629450770528196,6.6049534920551602,"-"]
["SSICSEC201803Fife",5,2.2727272727272698,3.1789282470481401,5.5445426777267999,6.7273498930661404,"-"]
["SSICSEC201801Fife",7,3.3492822966507201,3.1789282470481401,5.6059974423046999,6.8195320399329704,"-"]
["SSIHIP201803Fife",1,0.74074074074074103,0.61633281972264997,1.96352101166965,2.6371151076431398,"-"]
["SSIHIP201902Fife",1,0.76923076923076905,0.61633281972264997,1.9891840450937801,2.67560965777934,"-"]
["SSIHIP201704Fife",0,0,0.61633281972264997,2.0823623762519401,2.8153771545165802,"-"]
["SSIHIP201904Fife",1,0.78740157480314998,0.61633281972264997,2.0053041813384702,2.6997898621463801,"-"]
["SSIHIP201801Fife",1,0.88495575221238898,0.61633281972264997,2.0888349443973802,2.8250860067347499,"-"]
["SSIHIP201804Fife",1,0.69444444444444398,0.61633281972264997,1.92074217762715,2.5729468565793998,"-"]
["SSIHIP201802Fife",0,0,0.61633281972264997,1.92529510371399,2.57977624570966,"-"]
["SSIHIP201901Fife",0,0,0.61633281972264997,1.89014875689359,2.5270567254790501,"-"]
["SSIHIP201903Fife",2,1.40845070422535,0.61633281972264997,1.9298960398120999,2.58667764985683,"-"]
["CDICA202003Forth Valley",1,1.2973717941446701,3.26357267600318,7.3789424712890304,9.4366273689319602,"-"]
["CDICA201904Forth Valley",0,0,3.26357267600318,7.3733165359242401,9.4281884658847801,"-"]
["CDICA201903Forth Valley",2,2.5876541249333598,3.26357267600318,7.3733165359242401,9.4281884658847801,"-"]
["CDICA201902Forth Valley",0,0,3.26357267600318,7.3958358489337801,9.4619674353990693,"-"]
["CDICA202002Forth Valley",2,2.6232572540947201,3.26357267600318,7.4014926115724204,9.4704525793570404,"-"]
["CDICA201901Forth Valley",3,3.9677363248978201,3.26357267600318,7.4187294489014599,9.4963078353505903,"-"]
["CDICA201803Forth Valley",5,6.48118290643942,3.26357267600318,7.37714158308468,9.4339260366254294,"-"]
["CDICA201704Forth Valley",5,6.4915755356172298,3.26357267600318,7.38043833251918,9.4388711607771807,"-"]
["CDICA202001Forth Valley",1,1.3116286270473601,3.26357267600318,7.4014926115724204,9.4704525793570404,"-"]
["CDICA201804Forth Valley",2,2.5924731625757702,3.26357267600318,7.37714158308468,9.4339260366254294,"-"]
["CDICA201801Forth Valley",0,0,3.26357267600318,7.42259676305948,9.5021088065876391,"-"]
["CDICA201802Forth Valley",2,2.6209618786480302,3.26357267600318,7.3996818554136299,9.4677364451188506,"-"]
["CDIHCAI201804Forth Valley",15,17.732173255154201,11.698963535068399,19.136670140549501,22.8555234432901,"-"]
["CDIHCAI202003Forth Valley",10,15.133629952480399,11.698963535068399,20.114372852915999,24.322077511839701,"-"]
["CDIHCAI201902Forth Valley",11,14.9178838303701,11.698963535068399,19.6653424079404,23.6485318443764,"-"]
["CDIHCAI201901Forth Valley",5,6.1862047633776696,11.698963535068399,19.308020451518601,23.112548909743602,"-"]
["CDIHCAI201803Forth Valley",10,12.176411854954599,11.698963535068399,19.247510369501899,23.021783786718601,"-"]
["CDIHCAI201704Forth Valley",3,3.4538735191517298,11.698963535068399,19.038967200398499,22.7089690330636,"-"]
["CDIHCAI201801Forth Valley",1,1.1749914813117599,11.698963535068399,19.114132445857301,22.821716901251701,"-"]
["CDIHCAI201904Forth Valley",13,16.308711360899199,11.698963535068399,19.3609580437329,23.191955298065199,"-"]
["CDIHCAI201802Forth Valley",9,10.8105510978715,11.698963535068399,19.196288779239602,22.944951401325099,"-"]
["CDIHCAI202002Forth Valley",7,12.002743484225,11.698963535068399,20.656630908178101,25.135464594732898,"-"]
["CDIHCAI202001Forth Valley",9,11.7936890659398,11.698963535068399,19.529784077468399,23.445194348668402,"-"]
["CDIHCAI201903Forth Valley",14,18.0252095430609,11.698963535068399,19.461074241317601,23.342129594442198,"-"]
["ECBCOM202003Forth Valley",56,72.652820472101496,54.175306421652799,70.942597734276603,79.326243390588502,"-"]
["ECBCOM201904Forth Valley",53,68.572834310733995,54.175306421652799,70.919675930924797,79.291860685560806,"-"]
["ECBCOM201903Forth Valley",40,51.753082498667197,54.175306421652799,70.919675930924797,79.291860685560806,"-"]
["ECBCOM201902Forth Valley",41,53.629842633234198,54.175306421652799,71.011426587651599,79.429486670651002,"-"]
["ECBCOM202002Forth Valley",29,38.037230184373399,54.175306421652799,71.034473990866005,79.464057775472597,"-"]
["ECBCOM201901Forth Valley",38,50.257993448705697,54.175306421652799,71.1047022053841,79.569400097249698,"-"]
["ECBCOM201803Forth Valley",40,51.849463251515402,54.175306421652799,70.935260357893497,79.315237326013801,"-"]
["ECBCOM201704Forth Valley",46,59.722494927678497,54.175306421652799,70.948692336282406,79.335385293597298,"-"]
["ECBCOM202001Forth Valley",39,51.153516454847001,54.175306421652799,71.034473990866005,79.464057775472597,"-"]
["ECBCOM201804Forth Valley",37,47.960753507651702,54.175306421652799,70.935260357893497,79.315237326013801,"-"]
["ECBCOM201801Forth Valley",35,46.3764643527443,54.175306421652799,71.120458841193397,79.593035050963607,"-"]
["ECBCOM201802Forth Valley",48,62.903085087552697,54.175306421652799,71.027096409379794,79.452991403243303,"-"]
["ECBHCAI201804Forth Valley",29,34.282201626631398,43.001595696467803,57.261205276329903,64.391010066260904,"-"]
["ECBHCAI202003Forth Valley",42,63.561245800417701,43.001595696467803,59.135661974210798,67.202695113082399,"-"]
["ECBHCAI201902Forth Valley",39,52.890679034948498,43.001595696467803,58.274778482234296,65.9113698751176,"-"]
["ECBHCAI201901Forth Valley",28,34.642746674914903,43.001595696467803,57.589718978928197,64.883780620158404,"-"]
["ECBHCAI201803Forth Valley",40,48.705647419818298,43.001595696467803,57.473708736662502,64.709765256759795,"-"]
["ECBHCAI201704Forth Valley",34,39.143899883719598,43.001595696467803,57.073888694047497,64.110035192837401,"-"]
["ECBHCAI201801Forth Valley",29,34.074752958041103,43.001595696467803,57.217995891476598,64.326195988981098,"-"]
["ECBHCAI201904Forth Valley",38,47.671617824167001,43.001595696467803,57.6912112045718,65.036018958623899,"-"]
["ECBHCAI201802Forth Valley",38,45.644549079901999,43.001595696467803,57.3755064388383,64.562461810023507,"-"]
["ECBHCAI202002Forth Valley",33,56.584362139917701,43.001595696467803,60.1752819229024,68.762125036119699,"-"]
["ECBHCAI202001Forth Valley",37,48.485166159974803,43.001595696467803,58.014885349799698,65.521530176465603,"-"]
["ECBHCAI201903Forth Valley",38,48.925568759736798,43.001595696467803,57.88315449649,65.323933896501103,"-"]
["SABCAUN202003Forth Valley",9,11.676346147302,10.4434325632102,17.805229855057,21.486128500980399,"-"]
["SABCAUN201904Forth Valley",14,18.113578874533498,10.4434325632102,17.795165875926902,21.4710325322852,"-"]
["SABCAUN201903Forth Valley",10,12.938270624666799,10.4434325632102,17.795165875926902,21.4710325322852,"-"]
["SABCAUN201902Forth Valley",9,11.772404480466101,10.4434325632102,17.8354496476836,21.531458189920301,"-"]
["SABCAUN202002Forth Valley",11,14.427914897520999,10.4434325632102,17.845568772317701,21.5466368768714,"-"]
["SABCAUN201901Forth Valley",6,7.9354726497956296,10.4434325632102,17.876402964305498,21.5928881648532,"-"]
["SABCAUN201803Forth Valley",6,7.7774194877273004,10.4434325632102,17.802008328301199,21.4812962108467,"-"]
["SABCAUN201704Forth Valley",5,6.4915755356172298,10.4434325632102,17.807905732973399,21.490142317855099,"-"]
["SABCAUN202001Forth Valley",6,7.8697717622841497,10.4434325632102,17.845568772317701,21.5466368768714,"-"]
["SABCAUN201804Forth Valley",4,5.1849463251515404,10.4434325632102,17.802008328301199,21.4812962108467,"-"]
["SABCAUN201801Forth Valley",6,7.95025103189902,10.4434325632102,17.883321026183701,21.6032652576705,"-"]
["SABCAUN201802Forth Valley",13,17.036252211212201,10.4434325632102,17.8423295932283,21.541778108237299,"-"]
["SABHCAI201804Forth Valley",17,20.096463022508001,17.811935472311401,26.989361775361001,31.578074926885801,"-"]
["SABHCAI202003Forth Valley",11,16.6469929477284,17.811935472311401,28.195754426345999,33.387663903363297,"-"]
["SABHCAI201902Forth Valley",14,18.986397602289198,17.811935472311401,27.641693338005702,32.556572270852797,"-"]
["SABHCAI201901Forth Valley",10,12.3724095267553,17.811935472311401,27.2007918484112,31.8952200364612,"-"]
["SABHCAI201803Forth Valley",20,24.352823709909199,17.811935472311401,27.126128131790601,31.7832244615301,"-"]
["SABHCAI201704Forth Valley",16,18.420658768809201,17.811935472311401,26.8688055904523,31.3972406495228,"-"]
["SABHCAI201801Forth Valley",19,22.3248381449235,17.811935472311401,26.961552392301101,31.536360852295999,"-"]
["SABHCAI201904Forth Valley",8,10.036130068245701,17.811935472311401,27.266111829015301,31.9932000073672,"-"]
["SABHCAI201802Forth Valley",8,9.6093787536635809,17.811935472311401,27.062925535252099,31.688420566722499,"-"]
["SABHCAI202002Forth Valley",16,27.434842249657098,17.811935472311401,28.864849565933199,34.391306612744103,"-"]
["SABHCAI202001Forth Valley",8,10.4832791697243,17.811935472311401,27.474427182769801,32.305673037999,"-"]
["SABHCAI201903Forth Valley",15,19.312724510422399,17.811935472311401,27.389645745289599,32.178500881778703,"-"]
["SSICSEC201901Forth Valley",7,3.4482758620689702,1.9982623805386599,3.9626406487293102,4.9448297828246401,"-"]
["SSICSEC201804Forth Valley",5,1.97628458498024,1.9982623805386599,3.7578580289890899,4.6376558532143104,"-"]
["SSICSEC201802Forth Valley",4,1.5686274509803899,1.9982623805386599,3.7509440704289601,4.6272849153741102,"-"]
["SSICSEC201902Forth Valley",2,0.90090090090090102,1.9982623805386599,3.8766994609563499,4.8159180011651896,"-"]
["SSICSEC201803Forth Valley",6,2.6315789473684199,1.9982623805386599,3.8518184010759402,4.77859641134458,"-"]
["SSICSEC201801Forth Valley",9,3.8961038961039001,1.9982623805386599,3.8397429890120098,4.76048329324869,"-"]
["SSICSEC201904Forth Valley",2,0.97560975609756095,1.9982623805386599,3.9530348294623301,4.9304210539241602,"-"]
["SSICSEC201704Forth Valley",4,1.7621145374449301,1.9982623805386599,3.8558966370744701,4.7847137653423699,"-"]
["SSICSEC201903Forth Valley",2,0.91324200913242004,1.9982623805386599,3.8895217059202301,4.8351513686110099,"-"]
["SSIHIP201803Forth Valley",0,0,0,0,0,"-"]
["SSIHIP201801Forth Valley",0,0,0,0,0,"-"]
["SSIHIP201802Forth Valley",0,0,0,0,0,"-"]
["SSIHIP201901Forth Valley",0,0,0,0,0,"-"]
["SSIHIP201902Forth Valley",0,0,0,0,0,"-"]
["SSIHIP201804Forth Valley",0,0,0,0,0,"-"]
["SSIHIP201903Forth Valley",0,0,0,0,0,"-"]
["SSIHIP201704Forth Valley",0,0,0,0,0,"-"]
["SSIHIP201904Forth Valley",0,0,0,0,0,"-"]
["CDIHCAI201804Golden Jubilee",0,0,5.0428280179524698]
["CDIHCAI201802Golden Jubilee",1,8.0978216859664798,5.0428280179524698]
["CDIHCAI201801Golden Jubilee",2,16.847780304944799,5.0428280179524698]
["CDIHCAI202001Golden Jubilee",1,9.1617040769583102,5.0428280179524698]
["CDIHCAI201803Golden Jubilee",0,0,5.0428280179524698]
["CDIHCAI202002Golden Jubilee",1,12.266928361138399,5.0428280179524698]
["CDIHCAI202003Golden Jubilee",1,9.9840255591054294,5.0428280179524698]
["CDIHCAI201904Golden Jubilee",1,8.5770649283815104,5.0428280179524698]
["CDIHCAI201902Golden Jubilee",0,0,5.0428280179524698]
["CDIHCAI201901Golden Jubilee",0,0,5.0428280179524698]
["CDIHCAI201704Golden Jubilee",0,0,5.0428280179524698]
["CDIHCAI201903Golden Jubilee",1,8.2870638932626193,5.0428280179524698]
["ECBHCAI201804Golden Jubilee",1,8.4997875053123693,15.128484053857401]
["ECBHCAI201802Golden Jubilee",2,16.195643371932999,15.128484053857401]
["ECBHCAI201801Golden Jubilee",2,16.847780304944799,15.128484053857401]
["ECBHCAI202001Golden Jubilee",0,0,15.128484053857401]
["ECBHCAI201803Golden Jubilee",2,16.142050040355102,15.128484053857401]
["ECBHCAI202002Golden Jubilee",1,12.266928361138399,15.128484053857401]
["ECBHCAI202003Golden Jubilee",1,9.9840255591054294,15.128484053857401]
["ECBHCAI201904Golden Jubilee",1,8.5770649283815104,15.128484053857401]
["ECBHCAI201902Golden Jubilee",3,25.21644111961,15.128484053857401]
["ECBHCAI201901Golden Jubilee",3,25.742234425948201,15.128484053857401]
["ECBHCAI201704Golden Jubilee",1,8.0424642110342592,15.128484053857401]
["ECBHCAI201903Golden Jubilee",3,24.8611916797879,15.128484053857401]
["SABHCAI201804Golden Jubilee",4,33.999150021249498,21.6121200769391]
["SABHCAI201802Golden Jubilee",1,8.0978216859664798,21.6121200769391]
["SABHCAI201801Golden Jubilee",4,33.695560609889597,21.6121200769391]
["SABHCAI202001Golden Jubilee",1,9.1617040769583102,21.6121200769391]
["SABHCAI201803Golden Jubilee",1,8.0710250201775597,21.6121200769391]
["SABHCAI202002Golden Jubilee",3,36.8007850834151,21.6121200769391]
["SABHCAI202003Golden Jubilee",2,19.968051118210902,21.6121200769391]
["SABHCAI201904Golden Jubilee",1,8.5770649283815104,21.6121200769391]
["SABHCAI201902Golden Jubilee",3,25.21644111961,21.6121200769391]
["SABHCAI201901Golden Jubilee",3,25.742234425948201,21.6121200769391]
["SABHCAI201704Golden Jubilee",3,24.127392633102801,21.6121200769391]
["SABHCAI201903Golden Jubilee",1,8.2870638932626193,21.6121200769391]
["SSIHIP201704Golden Jubilee",3,0.79155672823219003,0.34036759700476499,0.93870222156585603,1.2378695338464001,"-"]
["SSIHIP201904Golden Jubilee",1,0.230414746543779,0.34036759700476499,0.89950542573313497,1.17907434009732,"-"]
["SSIHIP201801Golden Jubilee",1,0.22271714922048999,0.34036759700476499,0.89008637183208095,1.16494575924574,"-"]
["SSIHIP201804Golden Jubilee",0,0,0.34036759700476499,0.87595847301382301,1.1437539110183499,"-"]
["SSIHIP201802Golden Jubilee",1,0.209205020920502,0.34036759700476499,0.87314990160513195,1.1395410539053199,"-"]
["SSIHIP201803Golden Jubilee",1,0.20449897750511301,0.34036759700476499,0.86712337833488895,1.1305012689999501,"-"]
["SSIHIP201902Golden Jubilee",4,0.94339622641509402,0.34036759700476499,0.90606060661888499,1.18890711142594,"-"]
["SSIHIP201903Golden Jubilee",3,0.68337129840546695,0.34036759700476499,0.89631215102703699,1.1742844280381699,"-"]
["SSIHIP201901Golden Jubilee",0,0,0.34036759700476499,0.92645878617168598,1.21950438075515,"-"]
["CDICA201904Grampian",8,5.4190080988189502,8.1384121605892901,12.834267855228999,15.1821957025488,"-"]
["CDICA202002Grampian",10,6.8669592316510499,8.1384121605892901,12.8664622668018,15.230487319908001,"-"]
["CDICA201901Grampian",6,4.1545728757612004,8.1384121605892901,12.8861573386817,15.260029927727899,"-"]
["CDICA201804Grampian",12,8.1445035757717807,8.1384121605892901,12.8388847234644,15.189121004901899,"-"]
["CDICA202001Grampian",10,6.8669592316510499,8.1384121605892901,12.8664622668018,15.230487319908001,"-"]
["CDICA201803Grampian",19,12.895463994971999,8.1384121605892901,12.8388847234644,15.189121004901899,"-"]
["CDICA201903Grampian",5,3.38688006176185,8.1384121605892901,12.834267855228999,15.1821957025488,"-"]
["CDICA202003Grampian",10,6.7923183704374503,8.1384121605892901,12.8406961343434,15.191838121220499,"-"]
["CDICA201801Grampian",12,8.3254925441222607,8.1384121605892901,12.8908252235844,15.267031755082,"-"]
["CDICA201802Grampian",33,22.6435099414314,8.1384121605892901,12.864640930309401,15.2277553151694,"aboveUCL"]
["CDICA201704Grampian",7,4.7361334169710396,8.1384121605892901,12.831544273115901,15.178110329379299,"-"]
["CDICA201902Grampian",6,4.1089182287748098,8.1384121605892901,12.859998763976501,15.2207920656701,"-"]
["CDIHCAI201803Grampian",26,19.368151309957501,15.7018604479671,22.541968510587001,25.9620225418969,"-"]
["CDIHCAI202003Grampian",14,13.1491204177663,15.7018604479671,23.382367384608401,27.222620852929001,"-"]
["CDIHCAI201802Grampian",43,31.5890775254733,15.7018604479671,22.4945191868403,25.8908485562769,"aboveUCL"]
["CDIHCAI201902Grampian",10,7.6120879957372303,15.7018604479671,22.616307451935299,26.073530953919398,"-"]
["CDIHCAI201804Grampian",11,8.3501601712542008,15.7018604479671,22.606748037788901,26.059191832699799,"-"]
["CDIHCAI201801Grampian",32,22.5050988114495,15.7018604479671,22.3480240114928,25.671105793255599,"-"]
["CDIHCAI201903Grampian",11,8.3364910951117892,15.7018604479671,22.601094128764,26.050710969162399,"-"]
["CDIHCAI202002Grampian",13,13.7432341001353,15.7018604479671,23.8503731757658,27.924629539665201,"-"]
["CDIHCAI201704Grampian",22,16.041299053563399,15.7018604479671,22.469137853288501,25.852776555949301,"-"]
["CDIHCAI201904Grampian",17,12.7571120899902,15.7018604479671,22.5671249989058,25.999757274375199,"-"]
["CDIHCAI202001Grampian",17,12.925987317325401,15.7018604479671,22.612415869738399,26.067693580624098,"-"]
["CDIHCAI201901Grampian",19,14.3659692870699,15.7018604479671,22.593082094233399,26.0386929173665,"-"]
["ECBCOM201904Grampian",38,25.740288469389998,33.805712051678597,43.376329257334397,48.161637860162202,"-"]
["ECBCOM202002Grampian",45,30.901316542429701,33.805712051678597,43.441944644467398,48.260060940861798,"-"]
["ECBCOM201901Grampian",56,38.776013507104501,33.805712051678597,43.482085144103202,48.320271690315501,"-"]
["ECBCOM201804Grampian",51,34.614140197029997,33.805712051678597,43.385738890304999,48.175752309618197,"-"]
["ECBCOM202001Grampian",48,32.961404311925101,33.805712051678597,43.441944644467398,48.260060940861798,"-"]
["ECBCOM201803Grampian",57,38.6863919849159,33.805712051678597,43.385738890304999,48.175752309618197,"-"]
["ECBCOM201903Grampian",50,33.868800617618497,33.805712051678597,43.376329257334397,48.161637860162202,"-"]
["ECBCOM202003Grampian",39,26.4900416447061,33.805712051678597,43.389430724393002,48.1812900607502,"-"]
["ECBCOM201801Grampian",53,36.770925403206597,33.805712051678597,43.491598754075298,48.334542105273599,"-"]
["ECBCOM201802Grampian",50,34.308348396108201,33.805712051678597,43.438232581000101,48.254492845660899,"-"]
["ECBCOM201704Grampian",46,31.123162454381099,33.805712051678597,43.370778328275399,48.153311466573797,"-"]
["ECBCOM201902Grampian",49,33.5561655349943,33.805712051678597,43.428771388010802,48.240301056176897,"-"]
["ECBHCAI201803Grampian",38,28.307298068399401,38.5871631251661,49.309978585168501,54.671386315169599,"-"]
["ECBHCAI202003Grampian",51,47.900367236148803,38.5871631251661,50.627420057792499,56.647548524105702,"-"]
["ECBHCAI201802Grampian",39,28.650558685894399,38.5871631251661,49.235595207365101,54.559811248464598,"-"]
["ECBHCAI201902Grampian",52,39.5828575778336,38.5871631251661,49.426515157730201,54.846191174012297,"-"]
["ECBHCAI201804Grampian",49,37.196168035586901,38.5871631251661,49.411529453870102,54.823712618222103,"-"]
["ECBHCAI201801Grampian",48,33.7576482171742,38.5871631251661,49.005943757906799,54.215334074277102,"-"]
["ECBHCAI201903Grampian",74,56.0818491852975,38.5871631251661,49.4026661694678,54.810417691618603,"aboveUCL"]
["ECBHCAI202002Grampian",36,38.058186738836298,38.5871631251661,51.361083866441597,57.748044237079398,"-"]
["ECBHCAI201704Grampian",49,35.7283478920275,38.5871631251661,49.195806456469299,54.500128122120898,"-"]
["ECBHCAI201904Grampian",53,39.772172986439898,38.5871631251661,49.3494148600629,54.730540727511297,"-"]
["ECBHCAI202001Grampian",49,37.257257561702602,38.5871631251661,49.420414564382497,54.837040283990802,"-"]
["ECBHCAI201901Grampian",56,42.341804214521702,38.5871631251661,49.390106197177197,54.791577733182798,"-"]
["SABCAUN201904Grampian",13,8.8058881605807997,8.5937079457970906,13.419128806051599,15.831839236178901,"-"]
["SABCAUN202002Grampian",13,8.9270470011463701,8.5937079457970906,13.452211506051199,15.881463286178199,"-"]
["SABCAUN201901Grampian",10,6.9242881262686602,8.5937079457970906,13.4724499922555,15.9118210154847,"-"]
["SABCAUN201804Grampian",13,8.8232122070860903,8.5937079457970906,13.423873060079201,15.838955617220201,"-"]
["SABCAUN202001Grampian",16,10.987134770641701,8.5937079457970906,13.452211506051199,15.881463286178199,"-"]
["SABCAUN201803Grampian",15,10.180629469714701,8.5937079457970906,13.423873060079201,15.838955617220201,"-"]
["SABCAUN201903Grampian",6,4.06425607411422,8.5937079457970906,13.419128806051599,15.831839236178901,"-"]
["SABCAUN202003Grampian",18,12.2261730667874,8.5937079457970906,13.425734450294399,15.841747702543101,"-"]
["SABCAUN201801Grampian",15,10.4068656801528,8.5937079457970906,13.477246670571001,15.9190160329579,"-"]
["SABCAUN201802Grampian",9,6.1755027112994796,8.5937079457970906,13.4503399163611,15.878655901643199,"-"]
["SABCAUN201704Grampian",17,11.502038298358199,8.5937079457970906,13.416330076534001,15.8276411419025,"-"]
["SABCAUN201902Grampian",12,8.2178364575496197,8.5937079457970906,13.445569666226501,15.871500526441199,"-"]
["SABHCAI201803Grampian",25,18.623222413420599,17.7361095748292,25.005811228799299,28.640662055784301,"-"]
["SABHCAI202003Grampian",22,20.662903513632799,17.7361095748292,25.898991428371701,29.980432355143002,"-"]
["SABHCAI201802Grampian",27,19.835002167157601,17.7361095748292,24.955381846081501,28.565017981707602,"-"]
["SABHCAI201902Grampian",26,19.7914287889168,17.7361095748292,25.0848190339285,28.759173763478099,"-"]
["SABHCAI201804Grampian",26,19.736742222964502,17.7361095748292,25.074659239931801,28.743934072483199,"-"]
["SABHCAI201801Grampian",28,19.691961460018302,17.7361095748292,24.799686028300101,28.331474255035499,"-"]
["SABHCAI201903Grampian",21,15.915119363395201,17.7361095748292,25.068650236650999,28.734920567561801,"-"]
["SABHCAI202002Grampian",18,19.029093369418099,17.7361095748292,26.396390364601601,30.7265307594879,"-"]
["SABHCAI201704Grampian",22,16.041299053563399,17.7361095748292,24.928406435633001,28.524554866034901,"-"]
["SABHCAI201904Grampian",20,15.008367164694301,17.7361095748292,25.032547672590201,28.680766721470601,"-"]
["SABHCAI202001Grampian",16,12.165635122188601,17.7361095748292,25.080683040567799,28.752969773437201,"-"]
["SABHCAI201901Grampian",19,14.3659692870699,17.7361095748292,25.0601350055836,28.722147720960798,"-"]
["SSICSEC201904Grampian",6,1.2793176972281499,1.4157014157014201,2.5067228501079599,3.05223356731124,"-"]
["SSICSEC201804Grampian",7,1.51515151515152,1.4157014157014201,2.5149570909571799,3.0645849285850701,"-"]
["SSICSEC201903Grampian",10,2.15982721382289,1.4157014157014201,2.51376934811951,3.0628033143285598,"-"]
["SSICSEC201901Grampian",9,1.9736842105263199,1.4157014157014201,2.5221654021287798,3.0753973953424598,"-"]
["SSICSEC201802Grampian",6,1.2048192771084301,1.4157014157014201,2.4744797185353899,3.0038688699523801,"-"]
["SSICSEC201801Grampian",3,0.76530612244898,1.4157014157014201,2.6090756880037298,3.2057628241548901,"-"]
["SSICSEC201902Grampian",8,1.6949152542372901,1.4157014157014201,2.50325009402642,3.0470244331889198,"-"]
["SSICSEC201803Grampian",3,0.60851926977687598,1.4157014157014201,2.4798352322332402,3.0119021404991599,"-"]
["SSICSEC201704Grampian",6,1.2847965738758,1.4157014157014201,2.5090565884631801,3.0557341748440598,"-"]
["SSIHIP201704Grampian",2,0.673400673400673,0.59461350122420398,1.4868379366586399,1.93295015437585,"-"]
["SSIHIP201904Grampian",1,0.36363636363636398,0.59461350122420398,1.5218403335803401,1.9854537497584099,"-"]
["SSIHIP201801Grampian",4,1.32450331125828,0.59461350122420398,1.4794211460256601,1.9218249684263899,"-"]
["SSIHIP201804Grampian",3,1.0416666666666701,0.59461350122420398,1.5006716986022,1.9537007972911999,"-"]
["SSIHIP201802Grampian",1,0.337837837837838,0.59461350122420398,1.4883438017561701,1.93520895202215,"-"]
["SSIHIP201803Grampian",1,0.36496350364963498,0.59461350122420398,1.5235308123445299,1.9879894679046901,"-"]
["SSIHIP201902Grampian",1,0.32467532467532501,0.59461350122420398,1.4707605038529601,1.90883400516734,"-"]
["SSIHIP201903Grampian",2,0.74626865671641796,0.59461350122420398,1.53387158336902,2.00350062444143,"-"]
["SSIHIP201901Grampian",0,0,0.59461350122420398,1.48384890167364,1.9284666018983601,"-"]
["CDICA201903Greater Glasgow & Clyde",15,5.0299943847807,5.0908044047664198,7.7039362458078298,9.0105021663285392,"-"]
["CDICA202003Greater Glasgow & Clyde",10,3.3625167942095602,5.0908044047664198,7.7075134300165002,9.01586794264154,"-"]
["CDICA201804Greater Glasgow & Clyde",22,7.4284335644565997,5.0908044047664198,7.7129722209912899,9.0240561291037196,"-"]
["CDICA201802Greater Glasgow & Clyde",11,3.7550323512637802,5.0908044047664198,7.7273403713748099,9.0456083546790005,"-"]
["CDICA201803Greater Glasgow & Clyde",14,4.7271849955632899,5.0908044047664198,7.7129722209912899,9.0240561291037196,"-"]
["CDICA202001Greater Glasgow & Clyde",7,2.3796272697483101,5.0908044047664198,7.7218516689926897,9.0373753011058202,"-"]
["CDICA201904Greater Glasgow & Clyde",10,3.3533295898538,5.0908044047664198,7.7039362458078298,9.0105021663285392,"-"]
["CDICA201901Greater Glasgow & Clyde",15,5.1417720377758203,5.0908044047664198,7.7328115073667103,9.0538150586668493,"-"]
["CDICA202002Greater Glasgow & Clyde",13,4.4193077866754198,5.0908044047664198,7.7218516689926897,9.0373753011058202,"-"]
["CDICA201801Greater Glasgow & Clyde",17,5.8677121690960199,5.0908044047664198,7.7419473306109303,9.0675187935331891,"-"]
["CDICA201902Greater Glasgow & Clyde",12,4.0682152386797696,5.0908044047664198,7.7182548836279299,9.0319801230586894,"-"]
["CDICA201704Greater Glasgow & Clyde",17,5.7689740207433902,5.0908044047664198,7.7195468173943702,9.0339180237083507,"-"]
["CDIHCAI201803Greater Glasgow & Clyde",100,24.218235362498501,17.602630705084302,21.732059980007701,23.796774617469499,"aboveUCL"]
["CDIHCAI201804Greater Glasgow & Clyde",67,16.056634385641999,17.602630705084302,21.7104245746748,23.764321509470101,"-"]
["CDIHCAI201704Greater Glasgow & Clyde",74,17.063508534060102,17.602630705084302,21.632000176636399,23.6466849124125,"-"]
["CDIHCAI202001Greater Glasgow & Clyde",65,15.7363269476126,17.602630705084302,21.731335116608701,23.795687322370799,"-"]
["CDIHCAI201901Greater Glasgow & Clyde",62,14.5091009505801,17.602630705084302,21.6618563256235,23.691469135893101,"-"]
["CDIHCAI202003Greater Glasgow & Clyde",77,20.4108681245858,17.602630705084302,21.922833766493,24.082935297197398,"-"]
["CDIHCAI201903Greater Glasgow & Clyde",62,14.877345881494699,17.602630705084302,21.7130456862829,23.768253176882201,"-"]
["CDIHCAI201902Greater Glasgow & Clyde",71,16.909955676862701,17.602630705084302,21.697696131441901,23.745228844620701,"-"]
["CDIHCAI201802Greater Glasgow & Clyde",86,20.615640559115299,17.602630705084302,21.710985819323,23.765163376442299,"-"]
["CDIHCAI202002Greater Glasgow & Clyde",49,16.069788797061499,17.602630705084302,22.4079895988855,24.810669045786099,"-"]
["CDIHCAI201801Greater Glasgow & Clyde",64,14.705713399432501,17.602630705084302,21.624906508539802,23.636044410267498,"-"]
["CDIHCAI201904Greater Glasgow & Clyde",70,16.292330967066199,17.602630705084302,21.650825260955699,23.674922538891401,"-"]
["ECBCOM201903Greater Glasgow & Clyde",132,44.263950586070102,47.2313519775551,55.1908064853749,59.170533739284899,"-"]
["ECBCOM202003Greater Glasgow & Clyde",106,35.642678018621403,47.2313519775551,55.201702389870803,59.186877596028602,"-"]
["ECBCOM201804Greater Glasgow & Clyde",150,50.648410666749598,47.2313519775551,55.218329564110199,59.211818357387699,"-"]
["ECBCOM201802Greater Glasgow & Clyde",138,47.108587679491002,47.2313519775551,55.262094152464599,59.277465239919401,"-"]
["ECBCOM201803Greater Glasgow & Clyde",151,50.986066737861201,47.2313519775551,55.218329564110199,59.211818357387699,"-"]
["ECBCOM202001Greater Glasgow & Clyde",95,32.294941518012699,47.2313519775551,55.245375869739199,59.252387815831199,"-"]
["ECBCOM201904Greater Glasgow & Clyde",125,41.9166198731725,47.2313519775551,55.1908064853749,59.170533739284899,"-"]
["ECBCOM201901Greater Glasgow & Clyde",151,51.760505180276603,47.2313519775551,55.278758928940803,59.302462404633602,"-"]
["ECBCOM202002Greater Glasgow & Clyde",111,37.734089563151699,47.2313519775551,55.245375869739199,59.252387815831199,"-"]
["ECBCOM201801Greater Glasgow & Clyde",129,44.525580577258097,47.2313519775551,55.306586139325603,59.344203220210801,"-"]
["ECBCOM201902Greater Glasgow & Clyde",134,45.428403498590797,47.2313519775551,55.234420261210197,59.235954403037702,"-"]
["ECBCOM201704Greater Glasgow & Clyde",178,60.404551511313102,47.2313519775551,55.2383554197351,59.241857140825097,"aboveUCL"]
["ECBHCAI201803Greater Glasgow & Clyde",180,43.592823652497401,36.315519080787404,42.246784673929596,45.212417470500696,"-"]
["ECBHCAI201804Greater Glasgow & Clyde",152,36.426991442053499,36.315519080787404,42.215708869816901,45.165803764331599,"-"]
["ECBHCAI201704Greater Glasgow & Clyde",140,32.282313442816502,36.315519080787404,42.103064748128503,44.996837581799099,"-"]
["ECBHCAI202001Greater Glasgow & Clyde",123,29.777972531636099,36.315519080787404,42.245743523433397,45.210855744756401,"-"]
["ECBHCAI201901Greater Glasgow & Clyde",156,36.506770133717701,36.315519080787404,42.145948337467601,45.061162965807704,"-"]
["ECBHCAI202003Greater Glasgow & Clyde",142,37.640821736249201,36.315519080787404,42.5208007474643,45.623441580802698,"-"]
["ECBHCAI201903Greater Glasgow & Clyde",172,41.2726369615661,36.315519080787404,42.219473677992902,45.1714509765957,"-"]
["ECBHCAI201902Greater Glasgow & Clyde",164,39.059615929654598,36.315519080787404,42.197426494123903,45.138380200792199,"-"]
["ECBHCAI201802Greater Glasgow & Clyde",150,35.957512603108199,36.315519080787404,42.216515008110903,45.167012971772699,"-"]
["ECBHCAI202002Greater Glasgow & Clyde",125,40.994359176177397,36.315519080787404,43.2176496106852,46.668714875634201,"-"]
["ECBHCAI201801Greater Glasgow & Clyde",147,33.777185464321398,36.315519080787404,42.092875826921798,44.981554199988999,"-"]
["ECBHCAI201904Greater Glasgow & Clyde",151,35.144885371814297,36.315519080787404,42.130103974974901,45.037396422068703,"-"]
["SABCAUN201903Greater Glasgow & Clyde",17,5.7006603027514604,7.0988439199798297,10.184602392098,11.727481628156999,"-"]
["SABCAUN202003Greater Glasgow & Clyde",27,9.0787953443658207,7.0988439199798297,10.188826567206499,11.7338178908198,"-"]
["SABCAUN201804Greater Glasgow & Clyde",16,5.4024971377866198,7.0988439199798297,10.195272667718299,11.7434870415875,"-"]
["SABCAUN201802Greater Glasgow & Clyde",16,5.4618652382018604,7.0988439199798297,10.2122395275905,11.7689373313959,"-"]
["SABCAUN201803Greater Glasgow & Clyde",23,7.76608963556827,7.0988439199798297,10.195272667718299,11.7434870415875,"-"]
["SABCAUN202001Greater Glasgow & Clyde",23,7.8187753148872901,7.0988439199798297,10.205758105715599,11.759215198583499,"-"]
["SABCAUN201904Greater Glasgow & Clyde",22,7.3773250976783604,7.0988439199798297,10.184602392098,11.727481628156999,"-"]
["SABCAUN201901Greater Glasgow & Clyde",31,10.62632887807,7.0988439199798297,10.218700205913001,11.7786283488796,"-"]
["SABCAUN202002Greater Glasgow & Clyde",14,4.7592545394966104,7.0988439199798297,10.205758105715599,11.759215198583499,"-"]
["SABCAUN201801Greater Glasgow & Clyde",18,6.2128717084546103,7.0988439199798297,10.229488388710701,11.794810623076099,"-"]
["SABCAUN201902Greater Glasgow & Clyde",18,6.1023228580196598,7.0988439199798297,10.201510784268899,11.752844216413401,"-"]
["SABCAUN201704Greater Glasgow & Clyde",28,9.5018395635773505,7.0988439199798297,10.2030363848921,11.755132617348201,"-"]
["SABHCAI201803Greater Glasgow & Clyde",67,16.226217692873998,19.661654021504699,24.0259205793988,26.208053858345799,"-"]
["SABHCAI201804Greater Glasgow & Clyde",88,21.0893108348731,19.661654021504699,24.0030547861681,26.173755168499799,"-"]
["SABHCAI201704Greater Glasgow & Clyde",88,20.291739878341801,19.661654021504699,23.920170456423001,26.049428673882201,"-"]
["SABHCAI202001Greater Glasgow & Clyde",75,18.1573003241683,19.661654021504699,24.025154493607999,26.206904729659598,"-"]
["SABHCAI201901Greater Glasgow & Clyde",80,18.721420581393701,19.661654021504699,23.951724500310601,26.096759739713601,"-"]
["SABHCAI202003Greater Glasgow & Clyde",70,18.555334658714401,19.661654021504699,24.2275435158991,26.510488263096299,"-"]
["SABHCAI201903Greater Glasgow & Clyde",93,22.3160188222421,19.661654021504699,24.0058249582607,26.177910426638601,"-"]
["SABHCAI201902Greater Glasgow & Clyde",84,20.006144744457199,19.661654021504699,23.989602486725001,26.153576719335199,"-"]
["SABHCAI201802Greater Glasgow & Clyde",89,21.334790811177498,19.661654021504699,24.003647948342799,26.174644911761799,"-"]
["SABHCAI202002Greater Glasgow & Clyde",69,22.6288862652499,19.661654021504699,24.740289765734602,27.279607637849502,"-"]
["SABHCAI201801Greater Glasgow & Clyde",96,22.058570099148699,19.661654021504699,23.9126733771934,26.038183055037798,"-"]
["SABHCAI201904Greater Glasgow & Clyde",69,16.059583381822399,19.661654021504699,23.940066107970601,26.079272151203501,"-"]
["SSICSEC201901Greater Glasgow & Clyde",9,0.68912710566615598,0.82179272561254002,1.3214217741557499,1.57123629842735,"-"]
["SSICSEC201902Greater Glasgow & Clyde",4,0.32813781788351098,0.82179272561254002,1.3389437819008601,1.59751931004503,"-"]
["SSICSEC201802Greater Glasgow & Clyde",15,1.1914217633042099,0.82179272561254002,1.33066220497736,1.58509694465977,"-"]
["SSICSEC201904Greater Glasgow & Clyde",4,0.30627871362940301,0.82179272561254002,1.3214217741557499,1.57123629842735,"-"]
["SSICSEC201803Greater Glasgow & Clyde",18,1.29124820659971,0.82179272561254002,1.3053944959205099,1.5471953810745001,"-"]
["SSICSEC201903Greater Glasgow & Clyde",3,0.21945866861741001,0.82179272561254002,1.3101470205843,1.55432416807018,"-"]
["SSICSEC201804Greater Glasgow & Clyde",16,1.17216117216117,0.82179272561254002,1.3105046583436699,1.55486062470924,"-"]
["SSICSEC201801Greater Glasgow & Clyde",10,0.79681274900398402,0.82179272561254002,1.3314725072093301,1.5863123980077301,"-"]
["SSICSEC201704Greater Glasgow & Clyde",17,1.2967200610221199,0.82179272561254002,1.32046810073704,1.56980578829929,"-"]
["SSIHIP201801Greater Glasgow & Clyde",2,0.59171597633136097,1.04452996151732,2.1505219969232501,2.7035180146262099,"-"]
["SSIHIP201803Greater Glasgow & Clyde",3,0.86705202312138696,1.04452996151732,2.1376611871395399,2.6842267999506499,"-"]
["SSIHIP201902Greater Glasgow & Clyde",0,0,1.04452996151732,2.0650348659948601,2.57528731823363,"-"]
["SSIHIP201804Greater Glasgow & Clyde",3,0.79365079365079405,1.04452996151732,2.0903680387150501,2.6132870773139198,"-"]
["SSIHIP201903Greater Glasgow & Clyde",4,1.14942528735632,1.04452996151732,2.1345154792489298,2.6795082381147299,"-"]
["SSIHIP201704Greater Glasgow & Clyde",6,1.51133501259446,1.04452996151732,2.0650348659948601,2.57528731823363,"-"]
["SSIHIP201904Greater Glasgow & Clyde",4,1.25391849529781,1.04452996151732,2.1829827052315798,2.7522090770887102,"-"]
["SSIHIP201802Greater Glasgow & Clyde",12,3.1496062992125999,1.04452996151732,2.0862424286404799,2.6070986622020702,"aboveUCL"]
["SSIHIP201901Greater Glasgow & Clyde",2,0.51150895140664998,1.04452996151732,2.0728350169708798,2.58698754469766,"-"]
["CDICA202003Highland",8,9.8930951061615602,7.7656690934873298,13.963511577160601,17.062432818997198,"-"]
["CDICA201901Highland",4,5.04265533796152,7.7656690934873298,14.023431689424999,17.152312987393799,"-"]
["CDICA202002Highland",9,11.2520367416233,7.7656690934873298,13.997472612113301,17.1133743714263,"-"]
["CDICA201801Highland",15,18.9040812098612,7.7656690934873298,14.022459307693399,17.150854414796399,"aboveUCL"]
["CDICA201902Highland",5,6.23405192879859,7.7656690934873298,13.9889533962115,17.100595547573601,"-"]
["CDICA201803Highland",6,7.3972491690761197,7.7656690934873298,13.954077033559299,17.048281003595299,"-"]
["CDICA201802Highland",7,8.7249605583974805,7.7656690934873298,13.987986371995801,17.099145011249998,"-"]
["CDICA201904Highland",3,3.6997742968739402,7.7656690934873298,13.9550387878491,17.049723635029999,"-"]
["CDICA202001Highland",3,3.7506789138744399,7.7656690934873298,13.997472612113301,17.1133743714263,"-"]
["CDICA201903Highland",5,6.1662904947899104,7.7656690934873298,13.9550387878491,17.049723635029999,"-"]
["CDICA201704Highland",7,8.6250315632270507,7.7656690934873298,13.952250934901601,17.0455418556088,"-"]
["CDICA201804Highland",7,8.6301240305888101,7.7656690934873298,13.954077033559299,17.048281003595299,"-"]
["CDIHCAI202003Highland",14,23.461983207923399,17.244532094504699,27.996155525805801,33.371967241456403,"-"]
["CDIHCAI202001Highland",16,22.444799820441599,17.244532094504699,27.081326171569799,31.999723210102399,"-"]
["CDIHCAI201803Highland",10,13.635124079629099,17.244532094504699,26.942600661053699,31.791634944328301,"-"]
["CDIHCAI202002Highland",13,25.813625623001901,17.244532094504699,28.947837288816,34.799489885971703,"-"]
["CDIHCAI201804Highland",11,15.2047106958229,17.244532094504699,27.008996825573199,31.891229191107499,"-"]
["CDIHCAI201902Highland",6,8.0209614459119791,17.244532094504699,26.847230572287302,31.6485798111786,"-"]
["CDIHCAI201901Highland",8,10.616133869448101,17.244532094504699,26.811931459829999,31.595631142492699,"-"]
["CDIHCAI201903Highland",15,19.811133857227802,17.244532094504699,26.789286096984998,31.5616630982252,"-"]
["CDIHCAI201801Highland",13,17.280340289778,17.244532094504699,26.820003687326398,31.607739483737198,"-"]
["CDIHCAI201904Highland",8,10.8241215548851,17.244532094504699,26.905197484322201,31.735530179230899,"-"]
["CDIHCAI201802Highland",22,30.000545464462999,17.244532094504699,26.943129641803399,31.7924284154528,"-"]
["CDIHCAI201704Highland",15,20.1580390259636,17.244532094504699,26.872490700502201,31.686470003500901,"-"]
["ECBCOM202003Highland",32,39.572380424646198,43.073577905209703,57.670341292668198,64.968722986397495,"-"]
["ECBCOM201901Highland",43,54.208544883086397,43.073577905209703,57.811461320028997,65.1804030274387,"-"]
["ECBCOM202002Highland",26,32.505883920245097,43.073577905209703,57.7503241565284,65.088697282187695,"-"]
["ECBCOM201801Highland",35,44.109522823009499,43.073577905209703,57.809171228582599,65.176967890268998,"-"]
["ECBCOM201902Highland",41,51.119225816148401,43.073577905209703,57.730260242498098,65.058601411142405,"-"]
["ECBCOM201803Highland",43,53.013619045045502,43.073577905209703,57.648121657209799,64.935393533209904,"-"]
["ECBCOM201802Highland",42,52.349763350384798,43.073577905209703,57.727982768731401,65.055185200492303,"-"]
["ECBCOM201904Highland",43,53.030098255193202,43.073577905209703,57.650386719582997,64.938791126769601,"-"]
["ECBCOM202001Highland",20,25.004526092496199,43.073577905209703,57.7503241565284,65.088697282187695,"-"]
["ECBCOM201903Highland",26,32.064710572907501,43.073577905209703,57.650386719582997,64.938791126769601,"-"]
["ECBCOM201704Highland",36,44.357305182310597,43.073577905209703,57.643820946099602,64.928942466544598,"-"]
["ECBCOM201804Highland",26,32.0547463993299,43.073577905209703,57.648121657209799,64.935393533209904,"-"]
["ECBHCAI202003Highland",19,31.841262925039,23.2627580603721,35.750356925788601,41.994156358496902,"-"]
["ECBHCAI202001Highland",16,22.444799820441599,23.2627580603721,34.687817665647799,40.400347468285702,"-"]
["ECBHCAI201803Highland",25,34.087810199072798,23.2627580603721,34.5266932978912,40.158660916650803,"-"]
["ECBHCAI202002Highland",13,25.813625623001901,23.2627580603721,36.855698847400703,43.652169240915001,"-"]
["ECBHCAI201804Highland",11,15.2047106958229,23.2627580603721,34.603809900236897,40.274335820169298,"-"]
["ECBHCAI201902Highland",19,25.399711245387898,23.2627580603721,34.415924592133997,39.992507858015003,"-"]
["ECBHCAI201901Highland",18,23.886301206258199,23.2627580603721,34.374926024848897,39.931010007087401,"-"]
["ECBHCAI201903Highland",17,22.4526183715248,23.2627580603721,34.348624303143701,39.891557424529502,"-"]
["ECBHCAI201801Highland",15,19.938854180513101,23.2627580603721,34.384301607947499,39.945073381735199,"-"]
["ECBHCAI201904Highland",18,24.354273498491398,23.2627580603721,34.483250940529999,40.093497380609001,"-"]
["ECBHCAI201802Highland",13,17.7275950471827,23.2627580603721,34.527307688773803,40.1595825029747,"-"]
["ECBHCAI201704Highland",14,18.814169757565999,23.2627580603721,34.445263263679898,40.036515865333897,"-"]
["SABCAUN202003Highland",13,16.076279547512499,10.147140948823401,17.2318650246904,20.774227062623801,"-"]
["SABCAUN201901Highland",10,12.6066383449038,10.147140948823401,17.300359418200198,20.8769686528885,"-"]
["SABCAUN202002Highland",9,11.2520367416233,10.147140948823401,17.270685721183501,20.8324581073636,"-"]
["SABCAUN201801Highland",12,15.123264967889,10.147140948823401,17.299247893297299,20.875301365534199,"-"]
["SABCAUN201902Highland",6,7.4808623145583004,10.147140948823401,17.260947446265099,20.8178506949859,"-"]
["SABCAUN201803Highland",9,11.0958737536142,10.147140948823401,17.221080443060099,20.758050190178501,"-"]
["SABCAUN201802Highland",10,12.4642293691393,10.147140948823401,17.259842045513,20.8161925938577,"-"]
["SABCAUN201904Highland",10,12.3325809895798,10.147140948823401,17.222179819785101,20.759699255266,"-"]
["SABCAUN202001Highland",8,10.0018104369985,10.147140948823401,17.270685721183501,20.8324581073636,"-"]
["SABCAUN201903Highland",10,12.3325809895798,10.147140948823401,17.222179819785101,20.759699255266,"-"]
["SABCAUN201704Highland",2,2.4642947323505902,10.147140948823401,17.218993038425499,20.7549190832265,"-"]
["SABCAUN201804Highland",3,3.6986245845380599,10.147140948823401,17.221080443060099,20.758050190178501,"-"]
["SABHCAI202003Highland",3,5.0275678302693096,12.846597734832301,22.126478588956399,26.7664190160184,"-"]
["SABHCAI202001Highland",6,8.4167999326655991,12.846597734832301,21.336876212774801,25.582015451745999,"-"]
["SABHCAI201803Highland",10,13.635124079629099,12.846597734832301,21.2171402289726,25.402411476042801,"-"]
["SABHCAI202002Highland",3,5.9569905283850604,12.846597734832301,22.947888809301901,27.998534346536701,"-"]
["SABHCAI201804Highland",14,19.351449976501801,12.846597734832301,21.274447713730499,25.4883727031796,"-"]
["SABHCAI201902Highland",10,13.368269076520001,12.846597734832301,21.1348249333845,25.2789385326606,"-"]
["SABHCAI201901Highland",12,15.9242008041721,12.846597734832301,21.104357761617099,25.233237775009499,"-"]
["SABHCAI201903Highland",10,13.2074225714852,12.846597734832301,21.0848122231742,25.203919467345099,"-"]
["SABHCAI201801Highland",5,6.6462847268376999,12.846597734832301,21.111325017294501,25.243688658525599,"-"]
["SABHCAI201904Highland",10,13.530151943606301,12.846597734832301,21.184857009061499,25.353986646176001,"-"]
["SABHCAI201802Highland",14,19.091256204658301,12.846597734832301,21.217596799867501,25.403096332385001,"-"]
["SABHCAI201704Highland",6,8.06321561038542,12.846597734832301,21.156627313433599,25.311642102734201,"-"]
["SSICSEC201904Highland",3,1.68539325842697,1.9318181818181801,3.9951409993404901,5.0268024081016396,"-"]
["SSICSEC201903Highland",4,1.8518518518518501,1.9318181818181801,3.8048722174143901,4.7413992352124898,"-"]
["SSICSEC201804Highland",2,1.19760479041916,1.9318181818181801,4.0620111487834096,5.1271076322660303,"-"]
["SSICSEC201801Highland",7,3.8043478260869601,1.9318181818181801,3.9612210533771099,4.9759224891565799,"-"]
["SSICSEC201901Highland",5,3.1446540880503102,1.9318181818181801,4.1149432668651604,5.2065058093886503,"-"]
["SSICSEC201704Highland",3,2.0134228187919501,1.9318181818181801,4.1870129110951897,5.3146102757336902,"-"]
["SSICSEC201902Highland",1,0.54945054945054905,1.9318181818181801,3.97234115235281,4.99260263762012,"-"]
["SSICSEC201802Highland",2,1.2987012987013,1.9318181818181801,4.1501005212673503,5.2592416909919297,"-"]
["SSICSEC201803Highland",5,2.7027027027027,1.9318181818181801,3.9557287486609001,4.9676840320822597,"-"]
["SSIHIP201904Highland",2,1.98019801980198,0.51440329218106995,1.9380469019262601,2.64986870679886,"-"]
["SSIHIP201801Highland",0,0,0.51440329218106995,2.4436182709384502,3.4082257603171402,"-"]
["SSIHIP201803Highland",1,0.826446280991736,0.51440329218106995,1.81507976552132,2.4654180021914498,"-"]
["SSIHIP201902Highland",0,0,0.51440329218106995,1.82048800703306,2.47353036445906,"-"]
["SSIHIP201804Highland",0,0,0.51440329218106995,2.0572143549492901,2.8286198863333998,"-"]
["SSIHIP201802Highland",0,0,0.51440329218106995,1.9310510678950299,2.6393749557520101,"-"]
["SSIHIP201901Highland",0,0,0.51440329218106995,2.2368168073292898,3.0980235649033898,"-"]
["SSIHIP201903Highland",2,1.9047619047619,0.51440329218106995,1.9106665839177801,2.6087982297861401,"-"]
["SSIHIP201704Highland",0,0,0.51440329218106995,1.9380469019262601,2.64986870679886,"-"]
["CDICA201901Lanarkshire",4,2.4508569606016399,5.4490106525494104,9.1034252002154492,10.930632474048499,"-"]
["CDICA202003Lanarkshire",8,4.8082923336639602,5.4490106525494104,9.0684329922817195,10.878144162147899,"-"]
["CDICA202001Lanarkshire",3,1.8229240166088601,5.4490106525494104,9.0882655919181605,10.9078930616025,"-"]
["CDICA202002Lanarkshire",13,7.8993374053050696,5.4490106525494104,9.0882655919181605,10.9078930616025,"-"]
["CDICA201704Lanarkshire",9,5.42545116301193,5.4490106525494104,9.0738227507990796,10.8862287999239,"-"]
["CDICA201804Lanarkshire",11,6.62034349936682,5.4490106525494104,9.0708796954902393,10.8818142169607,"-"]
["CDICA201904Lanarkshire",12,7.1927323843743602,5.4490106525494104,9.0634850441861392,10.8707222400045,"-"]
["CDICA201802Lanarkshire",8,4.86770511042356,5.4490106525494104,9.0907257018199594,10.9115832264552,"-"]
["CDICA201903Lanarkshire",8,4.7951549229162396,5.4490106525494104,9.0634850441861392,10.8707222400045,"-"]
["CDICA201902Lanarkshire",13,7.8777545162195404,5.4490106525494104,9.0832905315752708,10.9004304710882,"-"]
["CDICA201801Lanarkshire",10,6.1522384034520003,5.4490106525494104,9.1109015628542807,10.941847018006699,"-"]
["CDICA201803Lanarkshire",6,3.6110964542000801,5.4490106525494104,9.0708796954902393,10.8818142169607,"-"]
["CDIHCAI201803Lanarkshire",23,16.5685758948832,16.3998498875054,23.274151844489499,26.711302822981601,"-"]
["CDIHCAI202002Lanarkshire",21,20.9635234691637,16.3998498875054,24.492158263893899,28.538312452088199,"-"]
["CDIHCAI201801Lanarkshire",19,13.206091483461099,16.3998498875054,23.152282867034899,26.5284993567996,"-"]
["CDIHCAI202001Lanarkshire",20,14.209894349435499,16.3998498875054,23.226857053871299,26.640360637054201,"-"]
["CDIHCAI201901Lanarkshire",20,13.7102744796951,16.3998498875054,23.105764342425001,26.458721569884801,"-"]
["CDIHCAI201804Lanarkshire",25,17.527377764067499,16.3998498875054,23.181547188356401,26.572395838781802,"-"]
["CDIHCAI201704Lanarkshire",28,19.5388823759281,16.3998498875054,23.1656751242041,26.548587742553501,"-"]
["CDIHCAI201902Lanarkshire",17,11.709037310503,16.3998498875054,23.121657316349101,26.482561030770999,"-"]
["CDIHCAI201802Lanarkshire",27,19.7294868141263,16.3998498875054,23.323353839922799,26.785105816131502,"-"]
["CDIHCAI202003Lanarkshire",27,22.040816326530599,16.3998498875054,23.7176726678763,27.376584058061798,"-"]
["CDIHCAI201903Lanarkshire",24,16.386167343734002,16.3998498875054,23.092267047605102,26.438475627654899,"-"]
["CDIHCAI201904Lanarkshire",25,16.969170411196899,16.3998498875054,23.072682538895702,26.409098864590899,"-"]
["ECBCOM201901Lanarkshire",80,49.017139212032703,51.109701768820003,62.301777909303702,67.897815979545598,"-"]
["ECBCOM202003Lanarkshire",112,67.316092671295394,51.109701768820003,62.194610139908697,67.737064325453105,"-"]
["ECBCOM202001Lanarkshire",76,46.180741754091201,51.109701768820003,62.255349818535699,67.8281738433935,"-"]
["ECBCOM202002Lanarkshire",70,42.534893720873498,51.109701768820003,62.255349818535699,67.8281738433935,"-"]
["ECBCOM201704Lanarkshire",88,53.048855816116699,51.109701768820003,62.211116911901399,67.761824483442197,"-"]
["ECBCOM201804Lanarkshire",88,52.962747994934603,51.109701768820003,62.202103457441801,67.748304301752697,"-"]
["ECBCOM201904Lanarkshire",73,43.755788671610702,51.109701768820003,62.1794564645108,67.714333812356202,"-"]
["ECBCOM201802Lanarkshire",76,46.243198549023802,51.109701768820003,62.262884195650201,67.839475409065301,"-"]
["ECBCOM201903Lanarkshire",88,52.746704152078699,51.109701768820003,62.1794564645108,67.714333812356202,"-"]
["ECBCOM201902Lanarkshire",80,48.478489330581802,51.109701768820003,62.240113108678301,67.8053187786075,"-"]
["ECBCOM201801Lanarkshire",104,63.983279395900801,51.109701768820003,62.324675152847398,67.932161844861199,"-"]
["ECBCOM201803Lanarkshire",100,60.184940903334699,51.109701768820003,62.202103457441801,67.748304301752697,"-"]
["ECBHCAI201803Lanarkshire",70,50.426100549644502,45.488634724467602,56.937438700634203,62.661840688717497,"-"]
["ECBHCAI202002Lanarkshire",51,50.9114141393975,45.488634724467602,58.965967098823903,65.704633286002107,"-"]
["ECBHCAI201801Lanarkshire",39,27.1072404134202,45.488634724467602,56.7344720514551,62.357390714948899,"-"]
["ECBHCAI202001Lanarkshire",64,45.471661918193597,45.488634724467602,56.858671606859303,62.543690048055197,"-"]
["ECBHCAI201901Lanarkshire",59,40.4453097151005,45.488634724467602,56.656997789653403,62.241179322246403,"-"]
["ECBHCAI201804Lanarkshire",72,50.478847960514301,45.488634724467602,56.783210305957397,62.430498096702401,"-"]
["ECBHCAI201704Lanarkshire",64,44.660302573549899,45.488634724467602,56.7567761818365,62.390846910520899,"-"]
["ECBHCAI201902Lanarkshire",64,44.081081639540699,45.488634724467602,56.683466737947299,62.280882744687197,"-"]
["ECBHCAI201802Lanarkshire",51,37.266808426682999,45.488634724467602,57.019382148052799,62.784755859845397,"-"]
["ECBHCAI202003Lanarkshire",58,47.346938775510203,45.488634724467602,57.676100312835402,63.769833107019302,"-"]
["ECBHCAI201903Lanarkshire",65,44.379203222612901,45.488634724467602,56.634518724350798,62.207460724292403,"-"]
["ECBHCAI201904Lanarkshire",77,52.265044866486598,45.488634724467602,56.601901710639901,62.158535203726103,"-"]
["SABCAUN201901Lanarkshire",16,9.8034278424065402,8.4762387928546392,13.034094521724199,15.313022386159,"-"]
["SABCAUN202003Lanarkshire",16,9.6165846673279205,8.4762387928546392,12.990451570626,15.2475579595116,"-"]
["SABCAUN202001Lanarkshire",19,11.5451854385228,8.4762387928546392,13.015187168268801,15.284661355976001,"-"]
["SABCAUN202002Lanarkshire",16,9.7222614219139398,8.4762387928546392,13.015187168268801,15.284661355976001,"-"]
["SABCAUN201704Lanarkshire",10,6.0282790700132596,8.4762387928546392,12.997173780549099,15.2576412743964,"-"]
["SABCAUN201804Lanarkshire",14,8.42589172646686,8.4762387928546392,12.993503145670401,15.2521353220784,"-"]
["SABCAUN201904Lanarkshire",16,9.5903098458324791,8.4762387928546392,12.984280395112201,15.238301196241,"-"]
["SABCAUN201802Lanarkshire",13,7.9100208044382798,8.4762387928546392,13.018255464397599,15.289263800169101,"-"]
["SABCAUN201903Lanarkshire",12,7.1927323843743602,8.4762387928546392,12.984280395112201,15.238301196241,"-"]
["SABCAUN201902Lanarkshire",11,6.6657922829549996,8.4762387928546392,13.008982177841601,15.275353870335101,"-"]
["SABCAUN201801Lanarkshire",13,7.9979099244875904,8.4762387928546392,13.0434191842222,15.327009379905901,"-"]
["SABCAUN201803Lanarkshire",13,7.8240423174335199,8.4762387928546392,12.993503145670401,15.2521353220784,"-"]
["SABHCAI201803Lanarkshire",21,15.1278301648933,19.272816291156001,26.724960650514799,30.451032830194201,"-"]
["SABHCAI202002Lanarkshire",16,15.972208357457999,19.272816291156001,28.045350666086598,32.431617853551899,"-"]
["SABHCAI201801Lanarkshire",30,20.851723394938599,19.272816291156001,26.592847569273601,30.2528632083324,"-"]
["SABHCAI202001Lanarkshire",29,20.604346806681502,19.272816291156001,26.673690338366999,30.374127361972501,"-"]
["SABHCAI201901Lanarkshire",31,21.2509254435274,19.272816291156001,26.542418774765199,30.177220016569802,"-"]
["SABHCAI201804Lanarkshire",24,16.826282653504801,19.272816291156001,26.624571800829202,30.3004495556658,"-"]
["SABHCAI201704Lanarkshire",30,20.934516831351502,19.272816291156001,26.607365557332301,30.274640190420399,"-"]
["SABHCAI201902Lanarkshire",27,18.5967063166812,19.272816291156001,26.5596476856748,30.2030633829342,"-"]
["SABHCAI201802Lanarkshire",25,18.2680433464133,19.272816291156001,26.778298483945999,30.531039580341002,"-"]
["SABHCAI202003Lanarkshire",24,19.591836734693899,19.272816291156001,27.205763097503901,31.172236500677901,"-"]
["SABHCAI201903Lanarkshire",31,21.165466152323098,19.272816291156001,26.5277869197656,30.155272234070299,"-"]
["SABHCAI201904Lanarkshire",30,20.3630044934363,19.272816291156001,26.506556169789398,30.123426109106099,"-"]
["SSICSEC201904Lanarkshire",5,1.4326647564469901,1.5109890109890101,2.81698494031729,3.4699829049814199,"-"]
["SSICSEC201901Lanarkshire",7,1.9073569482288799,1.5109890109890101,2.7845551526749199,3.4213382235178802,"-"]
["SSICSEC201802Lanarkshire",4,1.17302052785924,1.5109890109890101,2.8322157283992002,3.49282908710429,"-"]
["SSICSEC201903Lanarkshire",4,1.0050251256281399,1.5109890109890101,2.7339511177809399,3.3454321711769102,"-"]
["SSICSEC201902Lanarkshire",6,1.59574468085106,1.5109890109890101,2.7692206868263902,3.3983365247450901,"-"]
["SSICSEC201803Lanarkshire",11,2.8947368421052602,1.5109890109890101,2.7625808954876501,3.3883768377369701,"-"]
["SSICSEC201801Lanarkshire",3,1.0869565217391299,1.5109890109890101,2.9795770803607602,3.7138711150466301,"-"]
["SSICSEC201804Lanarkshire",7,1.80878552971576,1.5109890109890101,2.7512099353260902,3.3713203974946402,"-"]
["SSICSEC201704Lanarkshire",7,1.80878552971576,1.5109890109890101,2.7512099353260902,3.3713203974946402,"-"]
["SSIHIP201803Lanarkshire",0,0,0.645756457564576,2.2091306394328298,2.9908177303669601,"-"]
["SSIHIP201902Lanarkshire",1,0.934579439252336,0.645756457564576,2.1944507445499002,2.9687978880425598,"-"]
["SSIHIP201704Lanarkshire",1,0.90090090090090102,0.645756457564576,2.1662903177475501,2.92655724783903,"-"]
["SSIHIP201904Lanarkshire",1,0.8,0.645756457564576,2.0786125631547598,2.7950406159498602,"-"]
["SSIHIP201801Lanarkshire",0,0,0.645756457564576,2.26400247647305,3.0731254859272799,"-"]
["SSIHIP201804Lanarkshire",2,1.5384615384615401,0.645756457564576,2.0507874657520602,2.75330296984581,"-"]
["SSIHIP201802Lanarkshire",1,0.934579439252336,0.645756457564576,2.1944507445499002,2.9687978880425598,"-"]
["SSIHIP201901Lanarkshire",0,0,0.645756457564576,2.1801767599478299,2.9473869111394602,"-"]
["SSIHIP201903Lanarkshire",1,1.0752688172042999,0.645756457564576,2.3069342280386,3.1375231132756101,"-"]
["CDICA202001Lothian",6,2.6589246272359599,5.6561074531234201,8.8225106072193196,10.405712184267299,"-"]
["CDICA202002Lothian",18,7.9767738817078797,5.6561074531234201,8.8225106072193196,10.405712184267299,"-"]
["CDICA201903Lothian",18,7.8685122499681404,5.6561074531234201,8.8009498191442503,10.3733710021547,"-"]
["CDICA201802Lothian",12,5.3612693821210504,5.6561074531234201,8.8354111352954092,10.425062976381399,"-"]
["CDICA202003Lothian",21,9.2050814540723191,5.6561074531234201,8.8052548757333504,10.3798285870383,"-"]
["CDICA201904Lothian",11,4.8085352638694197,5.6561074531234201,8.8009498191442503,10.3733710021547,"-"]
["CDICA201902Lothian",11,4.86137631072513,5.6561074531234201,8.8181819611024608,10.399219215092,"-"]
["CDICA201801Lothian",12,5.42083904192239,5.6561074531234201,8.8530251408970493,10.4514839847839,"-"]
["CDICA201901Lothian",8,3.57483025677565,5.6561074531234201,8.8357005134850599,10.425497043665899,"-"]
["CDICA201804Lothian",15,6.6287433936550997,5.6561074531234201,8.8180851006807295,10.399073924459399,"-"]
["CDICA201803Lothian",16,7.0706596198987697,5.6561074531234201,8.8180851006807295,10.399073924459399,"-"]
["CDICA201704Lothian",15,6.6907492905972701,5.6561074531234201,8.8328393977284403,10.421205370030901,"-"]
["CDIHCAI201902Lothian",30,12.282246013387599,13.281831982447599,17.945603387893399,20.2774890906162,"-"]
["CDIHCAI201802Lothian",27,10.5687969968959,13.281831982447599,17.842094904844501,20.122226366042899,"-"]
["CDIHCAI201803Lothian",36,14.2582727686793,13.281831982447599,17.868963539235398,20.1625293176293,"-"]
["CDIHCAI202003Lothian",38,17.436471592316899,13.281831982447599,18.219211279369301,20.6879009278301,"-"]
["CDIHCAI201801Lothian",42,16.242555495397902,13.281831982447599,17.8145794206593,20.080953139765199,"-"]
["CDIHCAI201804Lothian",36,14.145438685417201,13.281831982447599,17.850777155360099,20.135249741816398,"-"]
["CDIHCAI202002Lothian",31,17.018847000565501,13.281831982447599,18.682446838679599,21.382754266795601,"-"]
["CDIHCAI201903Lothian",25,10.183257909336399,13.281831982447599,17.933753230031002,20.259713853822699,"-"]
["CDIHCAI201901Lothian",34,13.4972052845528,13.281831982447599,17.8742504510573,20.1704596853622,"-"]
["CDIHCAI202001Lothian",25,10.3982098441932,13.281831982447599,17.9825940665154,20.332975108549199,"-"]
["CDIHCAI201704Lothian",34,13.2396176086914,13.281831982447599,17.830217301508199,20.104409961038598,"-"]
["CDIHCAI201904Lothian",42,16.8583298211813,13.281831982447599,17.899701045633101,20.208635577225799,"-"]
["ECBCOM202001Lothian",70,31.020787317752902,31.2749470937413,38.720649525034503,42.443500740681202,"-"]
["ECBCOM202002Lothian",48,21.271397017887701,31.2749470937413,38.720649525034503,42.443500740681202,"-"]
["ECBCOM201903Lothian",62,27.102653305445799,31.2749470937413,38.669949975931502,42.367451417026601,"-"]
["ECBCOM201802Lothian",73,32.614388741236397,31.2749470937413,38.750984731445897,42.4890035502983,"-"]
["ECBCOM202003Lothian",83,36.381988604190603,31.2749470937413,38.680073187901797,42.382636234982101,"-"]
["ECBCOM201904Lothian",63,27.539792874888501,31.2749470937413,38.669949975931502,42.367451417026601,"-"]
["ECBCOM201902Lothian",69,30.494087767275801,31.2749470937413,38.710470842994397,42.428232717621,"-"]
["ECBCOM201801Lothian",65,29.3628781437463,31.2749470937413,38.7924035394594,42.551131762318498,"-"]
["ECBCOM201901Lothian",78,34.854595003562601,31.2749470937413,38.751665195614699,42.4900242465514,"-"]
["ECBCOM201804Lothian",71,31.376052063300801,31.2749470937413,38.710243078606098,42.427891071038502,"-"]
["ECBCOM201803Lothian",77,34.027549420762803,31.2749470937413,38.710243078606098,42.427891071038502,"-"]
["ECBCOM201704Lothian",85,37.914245980051199,31.2749470937413,38.744937367379102,42.479932504198104,"-"]
["ECBHCAI201902Lothian",82,33.571472436592899,32.746000079487203,40.068972417098699,43.730458585904401,"-"]
["ECBHCAI201802Lothian",90,35.229323322986403,32.746000079487203,39.906445206354597,43.486667769788298,"-"]
["ECBHCAI201803Lothian",84,33.269303126918402,32.746000079487203,39.948633866408599,43.549950759869397,"-"]
["ECBHCAI202003Lothian",68,31.202107059935599,32.746000079487203,40.498586745599198,44.374880078655202,"-"]
["ECBHCAI201801Lothian",75,29.004563384639201,32.746000079487203,39.863240874060601,43.421861271347403,"-"]
["ECBHCAI201804Lothian",96,37.721169827779299,32.746000079487203,39.920077924347602,43.507116846777798,"-"]
["ECBHCAI202002Lothian",57,31.292718678459099,32.746000079487203,41.225951123421503,45.465926645388599,"-"]
["ECBHCAI201903Lothian",85,34.6230768917438,32.746000079487203,40.050365506365203,43.7025482198042,"-"]
["ECBHCAI201901Lothian",86,34.139989837398403,32.746000079487203,39.956935282935603,43.562402884659797,"-"]
["ECBHCAI202001Lothian",84,34.937985076489198,32.746000079487203,40.127054534069899,43.817581761361303,"-"]
["ECBHCAI201704Lothian",56,21.806429002550601,32.746000079487203,39.887795201217799,43.458692762083103,"-"]
["ECBHCAI201904Lothian",95,38.131936500290998,32.746000079487203,39.9968973616594,43.622346002745402,"-"]
["SABCAUN202001Lothian",27,11.965160822561799,9.3898777326362595,13.4696634418814,15.509556296504,"-"]
["SABCAUN202002Lothian",20,8.8630820907865306,9.3898777326362595,13.4696634418814,15.509556296504,"-"]
["SABCAUN201903Lothian",15,6.5570935416401204,9.3898777326362595,13.4418832159317,15.4678859575793,"-"]
["SABCAUN201802Lothian",21,9.3822214187118291,9.3898777326362595,13.486285264032601,15.5344890297308,"-"]
["SABCAUN202003Lothian",27,11.835104726664399,9.3898777326362595,13.447430111729499,15.4762063012761,"-"]
["SABCAUN201904Lothian",21,9.1799309582961701,9.3898777326362595,13.4418832159317,15.4678859575793,"-"]
["SABCAUN201902Lothian",31,13.7002423302254,9.3898777326362595,13.4640861519065,15.5011903615415,"-"]
["SABCAUN201801Lothian",24,10.841678083844799,9.3898777326362595,13.5089802162667,15.568531458081999,"-"]
["SABCAUN201901Lothian",23,10.27763698823,9.3898777326362595,13.4866581164286,15.5350483083248,"-"]
["SABCAUN201804Lothian",24,10.605989429848201,9.3898777326362595,13.463961351069299,15.5010031602858,"-"]
["SABCAUN201803Lothian",18,7.9544920723861203,9.3898777326362595,13.463961351069299,15.5010031602858,"-"]
["SABCAUN201704Lothian",17,7.5828491960102404,9.3898777326362595,13.482971681502899,15.5295186559361,"-"]
["SABHCAI201902Lothian",25,10.235205011156401,13.9612095774577,18.742771535295301,21.133552514214099,"-"]
["SABHCAI201802Lothian",35,13.7002924033836,13.9612095774577,18.6366487900248,20.9743683963084,"-"]
["SABHCAI201803Lothian",35,13.862209636216001,13.9612095774577,18.664196032137198,21.015689259477,"-"]
["SABHCAI202003Lothian",27,12.3890719208568,13.9612095774577,19.0232898050625,21.554329918865001,"-"]
["SABHCAI201801Lothian",40,15.4691004718076,13.9612095774577,18.608438360954999,20.932052752703601,"-"]
["SABHCAI201804Lothian",35,13.752509833044501,13.9612095774577,18.645550323818998,20.987720696999698,"-"]
["SABHCAI202002Lothian",30,16.469851936031102,13.9612095774577,19.498225074258901,22.266732822659598,"-"]
["SABHCAI201903Lothian",25,10.183257909336399,13.9612095774577,18.730622083895799,21.1153283371148,"-"]
["SABHCAI201901Lothian",33,13.100228658536601,13.9612095774577,18.669616472858799,21.023819920559301,"-"]
["SABHCAI202001Lothian",43,17.884920932012299,13.9612095774577,18.780696469070399,21.190439914876698,"-"]
["SABHCAI201704Lothian",39,15.186620198204899,13.9612095774577,18.6244711999747,20.956102011233199,"-"]
["SABHCAI201904Lothian",32,12.844441768519101,13.9612095774577,18.695709860430402,21.0629600019167,"-"]
["SSICSEC201801Lothian",12,1.7673048600883701,1.4889047959914099,2.4184513530890999,2.88322463163794,"-"]
["SSICSEC201904Lothian",6,0.87591240875912402,1.4889047959914099,2.41437139239906,2.8771046906028901,"-"]
["SSICSEC201704Lothian",10,1.45772594752187,1.4889047959914099,2.4136966080611502,2.8760925140960101,"-"]
["SSICSEC201903Lothian",12,1.6713091922005601,1.4889047959914099,2.3928535524814998,2.8448279307265398,"-"]
["SSICSEC201901Lothian",10,1.45772594752187,1.4889047959914099,2.4136966080611502,2.8760925140960101,"-"]
["SSICSEC201802Lothian",11,1.5691868758915799,1.4889047959914099,2.4037487553328898,2.86117073500363,"-"]
["SSICSEC201902Lothian",13,1.87590187590188,1.4889047959914099,2.40901408778574,2.8690687336829002,"-"]
["SSICSEC201804Lothian",8,1.1347517730496499,1.4889047959914099,2.4011497615606001,2.8572722443451899,"-"]
["SSICSEC201803Lothian",12,1.79910044977511,1.4889047959914099,2.42677581677192,2.8957113271621799,"-"]
["SSIHIP201803Lothian",2,0.76045627376425895,0.57377049180327899,1.5052465811311599,1.9709846257951,"-"]
["SSIHIP201801Lothian",5,2.42718446601942,0.57377049180327899,1.6262556378190101,2.15249821082688,"aboveUCL"]
["SSIHIP201802Lothian",2,0.673400673400673,0.57377049180327899,1.45030972748591,1.8885793453272299,"-"]
["SSIHIP201901Lothian",2,0.829875518672199,0.57377049180327899,1.5468337270567201,2.0333653446834301,"-"]
["SSIHIP201902Lothian",0,0,0.57377049180327899,1.5676725626633701,2.0646235980934202,"-"]
["SSIHIP201804Lothian",1,0.37878787878787901,0.57377049180327899,1.5034807480941701,1.9683358762396199,"-"]
["SSIHIP201903Lothian",1,0.4149377593361,0.57377049180327899,1.5468337270567201,2.0333653446834301,"-"]
["SSIHIP201704Lothian",0,0,0.57377049180327899,1.6446066991553401,2.18002480283138,"-"]
["SSIHIP201904Lothian",1,0.42372881355932202,0.57377049180327899,1.5570875743344901,2.0487461156000899,"-"]
["CDICA201903Orkney",0,0,7.5047395472247196]
["CDICA202002Orkney",0,0,7.5047395472247196]
["CDICA201904Orkney",0,0,7.5047395472247196]
["CDICA201802Orkney",1,18.0756602568229,7.5047395472247196]
["CDICA202001Orkney",0,0,7.5047395472247196]
["CDICA201704Orkney",0,0,7.5047395472247196]
["CDICA201901Orkney",0,0,7.5047395472247196]
["CDICA202003Orkney",2,35.727533628785103,7.5047395472247196]
["CDICA201801Orkney",1,18.2765009263432,7.5047395472247196]
["CDICA201902Orkney",0,0,7.5047395472247196]
["CDICA201804Orkney",1,17.879185688814001,7.5047395472247196]
["CDICA201803Orkney",1,17.879185688814001,7.5047395472247196]
["CDIHCAI201803Orkney",3,79.872204472843407,17.493002798880401]
["CDIHCAI202001Orkney",0,0,17.493002798880401]
["CDIHCAI202003Orkney",0,0,17.493002798880401]
["CDIHCAI202002Orkney",0,0,17.493002798880401]
["CDIHCAI201801Orkney",0,0,17.493002798880401]
["CDIHCAI201902Orkney",0,0,17.493002798880401]
["CDIHCAI201802Orkney",0,0,17.493002798880401]
["CDIHCAI201903Orkney",1,33.523298692591403,17.493002798880401]
["CDIHCAI201704Orkney",0,0,17.493002798880401]
["CDIHCAI201904Orkney",0,0,17.493002798880401]
["CDIHCAI201804Orkney",1,26.0213374967473,17.493002798880401]
["CDIHCAI201901Orkney",0,0,17.493002798880401]
["ECBCOM201903Orkney",2,35.629917416684599,49.531281011683198]
["ECBCOM202002Orkney",1,18.060071944221001,49.531281011683198]
["ECBCOM201904Orkney",2,35.629917416684599,49.531281011683198]
["ECBCOM201802Orkney",2,36.151320513645899,49.531281011683198]
["ECBCOM202001Orkney",3,54.180215832663102,49.531281011683198]
["ECBCOM201704Orkney",5,90.167984189723299,49.531281011683198]
["ECBCOM201901Orkney",6,109.26508007783301,49.531281011683198]
["ECBCOM202003Orkney",1,17.863766814392498,49.531281011683198]
["ECBCOM201801Orkney",1,18.2765009263432,49.531281011683198]
["ECBCOM201902Orkney",5,90.053637426785201,49.531281011683198]
["ECBCOM201804Orkney",3,53.637557066442,49.531281011683198]
["ECBCOM201803Orkney",1,17.879185688814001,49.531281011683198]
["ECBHCAI201803Orkney",3,79.872204472843407,44.982007197121099]
["ECBHCAI202001Orkney",1,31.4070351758794,44.982007197121099]
["ECBHCAI202003Orkney",1,37.037037037037003,44.982007197121099]
["ECBHCAI202002Orkney",0,0,44.982007197121099]
["ECBHCAI201801Orkney",1,27.151778441487899,44.982007197121099]
["ECBHCAI201902Orkney",2,57.487783845932697,44.982007197121099]
["ECBHCAI201802Orkney",1,28.677946659019199,44.982007197121099]
["ECBHCAI201903Orkney",4,134.09319477036499,44.982007197121099]
["ECBHCAI201704Orkney",2,52.369730295888999,44.982007197121099]
["ECBHCAI201904Orkney",1,34.305317324185197,44.982007197121099]
["ECBHCAI201804Orkney",0,0,44.982007197121099]
["ECBHCAI201901Orkney",1,26.116479498563599,44.982007197121099]
["SABCAUN201903Orkney",0,0,7.5047395472247196]
["SABCAUN202002Orkney",0,0,7.5047395472247196]
["SABCAUN201904Orkney",0,0,7.5047395472247196]
["SABCAUN201802Orkney",0,0,7.5047395472247196]
["SABCAUN202001Orkney",3,54.180215832663102,7.5047395472247196]
["SABCAUN201704Orkney",0,0,7.5047395472247196]
["SABCAUN201901Orkney",0,0,7.5047395472247196]
["SABCAUN202003Orkney",2,35.727533628785103,7.5047395472247196]
["SABCAUN201801Orkney",0,0,7.5047395472247196]
["SABCAUN201902Orkney",1,18.010727485356998,7.5047395472247196]
["SABCAUN201804Orkney",1,17.879185688814001,7.5047395472247196]
["SABCAUN201803Orkney",0,0,7.5047395472247196]
["SABHCAI201803Orkney",0,0,22.491003598560599]
["SABHCAI202001Orkney",2,62.814070351758801,22.491003598560599]
["SABHCAI202003Orkney",0,0,22.491003598560599]
["SABHCAI202002Orkney",0,0,22.491003598560599]
["SABHCAI201801Orkney",0,0,22.491003598560599]
["SABHCAI201902Orkney",2,57.487783845932697,22.491003598560599]
["SABHCAI201802Orkney",1,28.677946659019199,22.491003598560599]
["SABHCAI201903Orkney",1,33.523298692591403,22.491003598560599]
["SABHCAI201704Orkney",0,0,22.491003598560599]
["SABHCAI201904Orkney",1,34.305317324185197,22.491003598560599]
["SABHCAI201804Orkney",1,26.0213374967473,22.491003598560599]
["SABHCAI201901Orkney",0,0,22.491003598560599]
["SSICSEC201903Orkney",0,0,2.98507462686567]
["SSICSEC201901Orkney",0,0,2.98507462686567]
["SSICSEC201801Orkney",1,33.3333333333333,2.98507462686567]
["SSICSEC201904Orkney",0,0,2.98507462686567]
["SSICSEC201902Orkney",1,12.5,2.98507462686567]
["SSICSEC201802Orkney",0,0,2.98507462686567]
["SSICSEC201704Orkney",0,0,2.98507462686567]
["SSICSEC201804Orkney",0,0,2.98507462686567]
["SSICSEC201803Orkney",0,0,2.98507462686567]
["SSIHIP201801Orkney",0,0,"NaN"]
["SSIHIP201803Orkney",0,0,"NaN"]
["SSIHIP201902Orkney",0,0,"NaN"]
["SSIHIP201804Orkney",0,0,"NaN"]
["SSIHIP201903Orkney",0,0,"NaN"]
["SSIHIP201704Orkney",0,0,"NaN"]
["SSIHIP201904Orkney",0,0,"NaN"]
["SSIHIP201802Orkney",0,0,"NaN"]
["SSIHIP201901Orkney",0,0,"NaN"]
["CDICA201704Scotland",74,5.4119406525906797,5.6198269674289998,6.9020161853568798,7.5431107943208202,"-"]
["CDICA201801Scotland",86,6.4135962519589098,5.6198269674289998,6.9145982262963201,7.5619838557299701,"-"]
["CDICA201802Scotland",102,7.5232319950144202,5.6198269674289998,6.9074644460636403,7.5512831853809601,"-"]
["CDICA201803Scotland",92,6.7119030543756102,5.6198269674289998,6.9004472958457796,7.5407574600541798,"-"]
["CDICA201804Scotland",86,6.2741702464815496,5.6198269674289998,6.9004472958457796,7.5407574600541798,"-"]
["CDICA201901Scotland",50,3.71163541774711,5.6198269674289998,6.91160864600847,7.5574994852981998,"-"]
["CDICA201902Scotland",66,4.8455196442676502,5.6198269674289998,6.9044913374178796,7.5468235224123204,"-"]
["CDICA201903Scotland",72,5.2285646754350603,5.6198269674289998,6.8974903895475999,7.5363221006068999,"-"]
["CDICA201904Scotland",63,4.5749940910056797,5.6198269674289998,6.8974903895475999,7.5363221006068999,"-"]
["CDICA202001Scotland",46,3.3864329070523098,5.6198269674289998,6.9062499479195001,7.5494614381647498,"-"]
["CDICA202002Scotland",79,5.8158304273289696,5.6198269674289998,6.9062499479195001,7.5494614381647498,"-"]
["CDICA202003Scotland",90,6.55361188770285,5.6198269674289998,6.8992394162694097,7.5389456406896098,"-"]
["CDIHCAI201704Scotland",235,14.938988535120901,14.794275699993999,16.733837023801701,17.703617685705598,"-"]
["CDIHCAI201801Scotland",228,14.4035235567101,14.794275699993999,16.727774022730099,17.694523184098099,"-"]
["CDIHCAI201802Scotland",244,16.018613103225501,14.794275699993999,16.765310955064798,17.750828582600199,"-"]
["CDIHCAI201803Scotland",255,16.894723347248799,14.794275699993999,16.7743537142001,17.7643927213031,"-"]
["CDIHCAI201804Scotland",220,14.471313580867299,14.794275699993999,16.767241178457201,17.753723917688799,"-"]
["CDIHCAI201901Scotland",186,12.1035911224714,14.794275699993999,16.756630353338299,17.737807680010398,"-"]
["CDIHCAI201902Scotland",184,12.2609448923836,14.794275699993999,16.780050103094101,17.772937304644199,"-"]
["CDIHCAI201903Scotland",207,13.706203878127299,14.794275699993999,16.7737518370724,17.7634899056115,"-"]
["CDIHCAI201904Scotland",231,15.0569328050153,14.794275699993999,16.7582649925724,17.740259638861499,"-"]
["CDIHCAI202001Scotland",201,13.6163640243469,14.794275699993999,16.7964846463403,17.7975891195135,"-"]
["CDIHCAI202002Scotland",167,15.4474440030155,14.794275699993999,17.133904338527799,18.3037186577947,"-"]
["CDIHCAI202003Scotland",227,17.420720373647601,14.794275699993999,16.925342071184399,17.9908752567795,"-"]
["ECBCOM201704Scotland",658,48.122391208171202,43.778390924727098,47.3570518063188,49.146382247114602,"-"]
["ECBCOM201801Scotland",578,43.105332949212197,43.778390924727098,47.392168977084999,49.1990580032639,"-"]
["ECBCOM201802Scotland",598,44.106791500182602,43.778390924727098,47.372258202684797,49.169191841663597,"-"]
["ECBCOM201803Scotland",667,48.661297144223198,43.778390924727098,47.352672949093702,49.1398139612769,"-"]
["ECBCOM201804Scotland",603,43.992147193353198,43.778390924727098,47.352672949093702,49.1398139612769,"-"]
["ECBCOM201901Scotland",598,44.391159596255399,43.778390924727098,47.383824893482597,49.1865418778603,"-"]
["ECBCOM201902Scotland",604,44.343846441479698,43.778390924727098,47.363960092344598,49.156744676153401,"-"]
["ECBCOM201903Scotland",606,44.007086018245097,43.778390924727098,47.344420060399898,49.127434628236401,"-"]
["ECBCOM201904Scotland",568,41.247565772876598,43.778390924727098,47.344420060399898,49.127434628236401,"-"]
["ECBCOM202001Scotland",514,37.8397068309758,43.778390924727098,47.3688684713265,49.164107244626202,"-"]
["ECBCOM202002Scotland",488,35.925636057424498,43.778390924727098,47.3688684713265,49.164107244626202,"-"]
["ECBCOM202003Scotland",614,44.710196656106099,43.778390924727098,47.349301690523397,49.134757073421497,"-"]
["ECBHCAI201704Scotland",529,33.628616745016899,37.8187758256839,40.919837437927498,42.470368244049297,"-"]
["ECBHCAI201801Scotland",524,33.102834840859998,37.8187758256839,40.9101436274522,42.4558275283364,"-"]
["ECBHCAI201802Scotland",580,38.077031147011503,37.8187758256839,40.9701594353958,42.5458512402518,"-"]
["ECBHCAI201803Scotland",606,40.149813131108999,37.8187758256839,40.9846174228175,42.567538221384403,"-"]
["ECBHCAI201804Scotland",582,38.283202291203601,37.8187758256839,40.973245567085399,42.550480437786199,"-"]
["ECBHCAI201901Scotland",573,37.286869425678098,37.8187758256839,40.956280482224898,42.525032810495397,"-"]
["ECBHCAI201902Scotland",584,38.915172919304297,37.8187758256839,40.993725076548799,42.581199701981198,"-"]
["ECBHCAI201903Scotland",608,40.2578355454175,37.8187758256839,40.983655113437003,42.5660947573135,"-"]
["ECBHCAI201904Scotland",626,40.803636086318598,37.8187758256839,40.958894020098903,42.528953117306401,"-"]
["ECBHCAI202001Scotland",538,36.445790274122501,37.8187758256839,41.020001395090397,42.620614179793698,"-"]
["ECBHCAI202002Scotland",429,39.682356151458997,37.8187758256839,41.559483824345797,43.429837823676799,"-"]
["ECBHCAI202003Scotland",547,41.978564072181598,37.8187758256839,41.226024689497997,42.929649121405099,"-"]
["SABCAUN201704Scotland",132,9.65373197489148,9.5029500624425101,11.170273565196601,12.003935316573701,"-"]
["SABCAUN201801Scotland",135,10.067854581563401,9.5029500624425101,11.1866349042858,12.028477325207399,"-"]
["SABCAUN201802Scotland",123,9.0721326998703304,9.5029500624425101,11.1773583331845,12.0145624685555,"-"]
["SABCAUN201803Scotland",132,9.6301217736693498,9.5029500624425101,11.1682334245384,12.000875105586299,"-"]
["SABCAUN201804Scotland",113,8.2439678820048208,9.5029500624425101,11.1682334245384,12.000875105586299,"-"]
["SABCAUN201901Scotland",144,10.6895100031117,9.5029500624425101,11.182747336516799,12.022645973554001,"-"]
["SABCAUN201902Scotland",133,9.7644562528423897,9.5029500624425101,11.173492184684701,12.008763245805801,"-"]
["SABCAUN201903Scotland",102,7.4071332901996696,9.5029500624425101,11.1643883451246,11.995107486465701,"-"]
["SABCAUN201904Scotland",132,9.5857019049642709,9.5029500624425101,11.1643883451246,11.995107486465701,"-"]
["SABCAUN202001Scotland",149,10.9690978945825,9.5029500624425101,11.175779033287499,12.012193518709999,"-"]
["SABCAUN202002Scotland",132,9.7175900811066391,9.5029500624425101,11.175779033287499,12.012193518709999,"-"]
["SABCAUN202003Scotland",149,10.8498685696414,9.5029500624425101,11.166662731244401,11.9985190656454,"-"]
["SABHCAI201704Scotland",262,16.655382962560399,17.164938170439001,19.2541274238943,20.298722050622001,"-"]
["SABHCAI201801Scotland",296,18.6993112841499,17.164938170439001,19.247596691131701,20.288925951477999,"-"]
["SABHCAI201802Scotland",264,17.331614177260398,17.164938170439001,19.288029419232998,20.349575043630001,"-"]
["SABHCAI201803Scotland",253,16.762215713152798,17.164938170439001,19.297769784219199,20.364185591109301,"-"]
["SABHCAI201804Scotland",269,17.6944697875151,17.164938170439001,19.2901085501781,20.352693740047599,"-"]
["SABHCAI201901Scotland",240,15.617536932221199,17.164938170439001,19.278679150376899,20.3355496403458,"-"]
["SABHCAI201902Scotland",251,16.725528086892801,17.164938170439001,19.303905622418799,20.373389348408601,"-"]
["SABHCAI201903Scotland",264,17.480375960510202,17.164938170439001,19.297121475134201,20.363213127481799,"-"]
["SABHCAI201904Scotland",233,15.1872958596042,17.164938170439001,19.280439894251899,20.338190756158301,"-"]
["SABHCAI202001Scotland",241,16.3260882082965,17.164938170439001,19.3216080124973,20.3999429335265,"-"]
["SABHCAI202002Scotland",219,20.257426566828698,17.164938170439001,19.6850580288332,20.945117958030199,"-"]
["SABHCAI202003Scotland",225,17.267233850531799,17.164938170439001,19.460406174693901,20.608140176821401,"-"]
["SSICSEC201704Scotland",66,1.5625,1.3425838226936899,1.6967471706483901,1.8738288446257401,"-"]
["SSICSEC201801Scotland",64,1.61006289308176,1.3425838226936899,1.7076713555056899,1.8902151219116901,"-"]
["SSICSEC201802Scotland",61,1.4554998806967301,1.3425838226936899,1.69813878051984,1.87591625943291,"-"]
["SSICSEC201803Scotland",66,1.53738644304682,1.3425838226936899,1.69388946493833,1.8695422860606501,"-"]
["SSICSEC201804Scotland",59,1.3575701794753801,1.3425838226936899,1.69174078641971,1.8663192682827201,"-"]
["SSICSEC201901Scotland",64,1.5798568254751899,1.3425838226936899,1.70423047361397,1.8850537990741201,"-"]
["SSICSEC201902Scotland",43,1.0441962117532799,1.3425838226936899,1.70127640699458,1.8806226991450301,"-"]
["SSICSEC201903Scotland",51,1.1569872958257701,1.3425838226936899,1.68927658581978,1.8626229673828201,"-"]
["SSICSEC201904Scotland",35,0.85116731517509703,1.3425838226936899,1.7015380036631,1.8810150941478001,"-"]
["SSIHIP201704Scotland",16,0.77257363592467398,0.65502183406113501,1.0095418775456899,1.1868018992879601,"-"]
["SSIHIP201801Scotland",17,0.84661354581673298,0.65502183406113501,1.0150603717367399,1.1950796405745401,"-"]
["SSIHIP201802Scotland",18,0.79295154185021999,0.65502183406113501,0.99364597381336395,1.16295804368948,"-"]
["SSIHIP201803Scotland",13,0.603248259860789,0.65502183406113501,1.0025637621011001,1.1763347261210899,"-"]
["SSIHIP201804Scotland",16,0.70298769771529002,0.65502183406113501,0.99319933813019301,1.1622880901647199,"-"]
["SSIHIP201901Scotland",8,0.372786579683131,0.65502183406113501,1.0032917687995699,1.17742673616879,"-"]
["SSIHIP201902Scotland",10,0.44306601683650898,0.65502183406113501,0.99461978708740295,1.1644187636005401,"-"]
["SSIHIP201903Scotland",17,0.80150872230080195,0.65502183406113501,1.0053382662277599,1.18049648231107,"-"]
["SSIHIP201904Scotland",17,0.79254079254079302,0.65502183406113501,1.0033729411429999,1.1775484946839301,"-"]
["CDICA201903Shetland",0,0,2.9009797122495198]
["CDICA201802Shetland",1,17.446668164371498,2.9009797122495198]
["CDICA202001Shetland",0,0,2.9009797122495198]
["CDICA201902Shetland",0,0,2.9009797122495198]
["CDICA201901Shetland",0,0,2.9009797122495198]
["CDICA202003Shetland",1,17.3571591167767,2.9009797122495198]
["CDICA201704Shetland",0,0,2.9009797122495198]
["CDICA201904Shetland",0,0,2.9009797122495198]
["CDICA201804Shetland",0,0,2.9009797122495198]
["CDICA201801Shetland",0,0,2.9009797122495198]
["CDICA202002Shetland",0,0,2.9009797122495198]
["CDICA201803Shetland",1,17.257030466932701,2.9009797122495198]
["CDIHCAI201804Shetland",0,0,23.738469886055299]
["CDIHCAI202002Shetland",0,0,23.738469886055299]
["CDIHCAI201904Shetland",2,74.822297044519303,23.738469886055299]
["CDIHCAI202001Shetland",0,0,23.738469886055299]
["CDIHCAI201802Shetland",0,0,23.738469886055299]
["CDIHCAI201801Shetland",1,41.493775933610003,23.738469886055299]
["CDIHCAI201803Shetland",0,0,23.738469886055299]
["CDIHCAI202003Shetland",2,95.648015303682499,23.738469886055299]
["CDIHCAI201903Shetland",2,74.239049740163296,23.738469886055299]
["CDIHCAI201901Shetland",0,0,23.738469886055299]
["CDIHCAI201902Shetland",1,39.339103068450001,23.738469886055299]
["CDIHCAI201704Shetland",1,38.624951718810401,23.738469886055299]
["ECBCOM201903Shetland",2,34.619470369527299,30.460286978620001]
["ECBCOM201802Shetland",3,52.340004493114499,30.460286978620001]
["ECBCOM202001Shetland",1,17.547897129049002,30.460286978620001]
["ECBCOM201902Shetland",3,52.499856164777597,30.460286978620001]
["ECBCOM201901Shetland",1,17.694395966647299,30.460286978620001]
["ECBCOM202003Shetland",1,17.3571591167767,30.460286978620001]
["ECBCOM201704Shetland",1,17.189737020571201,30.460286978620001]
["ECBCOM201904Shetland",4,69.238940739054598,30.460286978620001]
["ECBCOM201804Shetland",1,17.257030466932701,30.460286978620001]
["ECBCOM201801Shetland",0,0,30.460286978620001]
["ECBCOM202002Shetland",2,35.095794258097897,30.460286978620001]
["ECBCOM201803Shetland",0,0,30.460286978620001]
["ECBHCAI201804Shetland",2,79.968012794882,91.562669560499202]
["ECBHCAI202002Shetland",0,0,91.562669560499202]
["ECBHCAI201904Shetland",3,112.233445566779,91.562669560499202]
["ECBHCAI202001Shetland",1,39.7772474144789,91.562669560499202]
["ECBHCAI201802Shetland",4,165.494414563508,91.562669560499202]
["ECBHCAI201801Shetland",2,82.987551867219906,91.562669560499202]
["ECBHCAI201803Shetland",2,81.766148814390803,91.562669560499202]
["ECBHCAI202003Shetland",2,95.648015303682499,91.562669560499202]
["ECBHCAI201903Shetland",2,74.239049740163296,91.562669560499202]
["ECBHCAI201901Shetland",1,39.824771007566703,91.562669560499202]
["ECBHCAI201902Shetland",3,118.01730920535,91.562669560499202]
["ECBHCAI201704Shetland",4,154.49980687524101,91.562669560499202]
["SABCAUN201903Shetland",0,0,11.6039188489981]
["SABCAUN201802Shetland",0,0,11.6039188489981]
["SABCAUN202001Shetland",2,35.095794258097897,11.6039188489981]
["SABCAUN201902Shetland",2,34.999904109851798,11.6039188489981]
["SABCAUN201901Shetland",2,35.388791933294499,11.6039188489981]
["SABCAUN202003Shetland",0,0,11.6039188489981]
["SABCAUN201704Shetland",0,0,11.6039188489981]
["SABCAUN201904Shetland",1,17.3097351847636,11.6039188489981]
["SABCAUN201804Shetland",0,0,11.6039188489981]
["SABCAUN201801Shetland",1,17.640520032864501,11.6039188489981]
["SABCAUN202002Shetland",0,0,11.6039188489981]
["SABCAUN201803Shetland",0,0,11.6039188489981]
["SABHCAI201804Shetland",1,39.984006397441,47.476939772110697]
["SABHCAI202002Shetland",2,125.707102451289,47.476939772110697]
["SABHCAI201904Shetland",1,37.411148522259602,47.476939772110697]
["SABHCAI202001Shetland",0,0,47.476939772110697]
["SABHCAI201802Shetland",2,82.7472072817542,47.476939772110697]
["SABHCAI201801Shetland",2,82.987551867219906,47.476939772110697]
["SABHCAI201803Shetland",1,40.883074407195402,47.476939772110697]
["SABHCAI202003Shetland",1,47.8240076518412,47.476939772110697]
["SABHCAI201903Shetland",0,0,47.476939772110697]
["SABHCAI201901Shetland",1,39.824771007566703,47.476939772110697]
["SABHCAI201902Shetland",1,39.339103068450001,47.476939772110697]
["SABHCAI201704Shetland",1,38.624951718810401,47.476939772110697]
["SSICSEC201901Shetland",0,0,0]
["SSICSEC201902Shetland",0,0,0]
["SSICSEC201802Shetland",0,0,0]
["SSICSEC201903Shetland",0,0,0]
["SSICSEC201904Shetland",0,0,0]
["SSICSEC201804Shetland",0,0,0]
["SSICSEC201801Shetland",0,0,0]
["SSICSEC201803Shetland",0,0,0]
["SSICSEC201704Shetland",0,0,0]
["SSIHIP201904Shetland",0,0,"NaN"]
["SSIHIP201801Shetland",0,0,"NaN"]
["SSIHIP201803Shetland",0,0,"NaN"]
["SSIHIP201902Shetland",0,0,"NaN"]
["SSIHIP201804Shetland",0,0,"NaN"]
["SSIHIP201802Shetland",0,0,"NaN"]
["SSIHIP201901Shetland",0,0,"NaN"]
["SSIHIP201903Shetland",0,0,"NaN"]
["SSIHIP201704Shetland",0,0,"NaN"]
["CDICA201901Tayside",2,1.94292071552713,3.03781440071208,6.4735770610453303,8.1914583912119596,"-"]
["CDICA201802Tayside",4,3.8559786685147199,3.03781440071208,6.4603496493329899,8.1716172736434398,"-"]
["CDICA201804Tayside",3,2.86054939267532,3.03781440071208,6.4416980922262796,8.1436399379833908,"-"]
["CDICA202002Tayside",2,1.92683451360722,3.03781440071208,6.4593244863979402,8.1700795292408799,"-"]
["CDICA201902Tayside",3,2.8823549076501398,3.03781440071208,6.4546470951671298,8.16306344239465,"-"]
["CDICA201903Tayside",4,3.8013666173356899,3.03781440071208,6.4360266148812402,8.1351327219658298,"-"]
["CDICA202001Tayside",0,0,3.03781440071208,6.4593244863979402,8.1700795292408799,"-"]
["CDICA201801Tayside",4,3.8988228759426602,3.03781440071208,6.4793112085508202,8.2000596124702003,"-"]
["CDICA202003Tayside",6,5.7176719805953304,3.03781440071208,6.4406785160518201,8.1421105737217001,"-"]
["CDICA201803Tayside",3,2.86054939267532,3.03781440071208,6.4416980922262796,8.1436399379833908,"-"]
["CDICA201904Tayside",4,3.8013666173356899,3.03781440071208,6.4360266148812402,8.1351327219658298,"-"]
["CDICA201704Tayside",2,1.9069870962281401,3.03781440071208,6.44165718876617,8.1435785827932197,"-"]
["CDIHCAI202003Tayside",5,5.0276015324129499,7.6675800249413397,13.2209240325313,15.9975960363263,"-"]
["CDIHCAI201902Tayside",6,5.2865765011674499,7.6675800249413397,12.8659931405421,15.4651996983426,"-"]
["CDIHCAI201802Tayside",5,4.2413857455507902,7.6675800249413397,12.768259557760899,15.318599324170799,"-"]
["CDIHCAI201704Tayside",10,7.92424422520702,7.6675800249413397,12.5974796885838,15.062429520405001,"-"]
["CDIHCAI201801Tayside",12,9.6026887528507991,7.6675800249413397,12.621682179287401,15.098733256460401,"-"]
["CDIHCAI202001Tayside",8,7.1736654740447801,7.6675800249413397,12.9118461363432,15.5339791920442,"-"]
["CDIHCAI201804Tayside",9,7.8182686878339096,7.6675800249413397,12.829285204884201,15.410137794855601,"-"]
["CDIHCAI202002Tayside",7,8.5619579974803397,7.6675800249413397,13.7924472825521,16.854880911357501,"-"]
["CDIHCAI201803Tayside",6,5.2339579189783301,7.6675800249413397,12.8400579089567,15.4262968509644,"-"]
["CDIHCAI201904Tayside",8,6.7812126503521997,7.6675800249413397,12.766378445291,15.3157776554658,"-"]
["CDIHCAI201903Tayside",10,8.6358768869390996,7.6675800249413397,12.8140847462506,15.387337106905299,"-"]
["CDIHCAI201901Tayside",6,5.0314465408805003,7.6675800249413397,12.7390044792353,15.2747167063822,"-"]
["ECBCOM201901Tayside",38,36.915493595015498,42.129689188822802,54.924582378192,61.322028972876602,"-"]
["ECBCOM201802Tayside",35,33.739813349503798,42.129689188822802,54.875323061771397,61.248139998245698,"-"]
["ECBCOM201804Tayside",42,40.047691497454501,42.129689188822802,54.805864049438902,61.143951479746903,"-"]
["ECBCOM202002Tayside",41,39.5001075289479,42.129689188822802,54.871505321271698,61.2424133874962,"-"]
["ECBCOM201902Tayside",47,45.156893553185498,42.129689188822802,54.854086562434297,61.216285249240002,"-"]
["ECBCOM201903Tayside",51,48.467424371029999,42.129689188822802,54.784743281205003,61.112270327395997,"-"]
["ECBCOM202001Tayside",41,39.5001075289479,42.129689188822802,54.871505321271698,61.2424133874962,"-"]
["ECBCOM201801Tayside",38,37.038817321455298,42.129689188822802,54.945936532165398,61.354060203836703,"-"]
["ECBCOM202003Tayside",39,37.164867873869603,42.129689188822802,54.802067114219398,61.138256076917799,"-"]
["ECBCOM201803Tayside",53,50.536372603930701,42.129689188822802,54.805864049438902,61.143951479746903,"-"]
["ECBCOM201904Tayside",54,51.318449334031797,42.129689188822802,54.784743281205003,61.112270327395997,"-"]
["ECBCOM201704Tayside",46,43.860703213247099,42.129689188822802,54.805711723607601,61.143722991000097,"-"]
["ECBHCAI202003Tayside",42,42.231852872268803,41.593004852276103,54.527085567439798,60.994125925021699,"-"]
["ECBHCAI201902Tayside",41,36.124939424644303,41.593004852276103,53.700429628420302,59.754142016492501,"-"]
["ECBHCAI201802Tayside",54,45.8069660519485,41.593004852276103,53.472802086069898,59.412700702966802,"-"]
["ECBHCAI201704Tayside",54,42.790918816117902,41.593004852276103,53.0750452373236,58.816065429847399,"-"]
["ECBHCAI201801Tayside",43,34.409634697715397,41.593004852276103,53.131414330943699,58.9006190702775,"-"]
["ECBHCAI202001Tayside",44,39.4551601072463,41.593004852276103,53.807224083781499,59.914333699534097,"-"]
["ECBHCAI201804Tayside",56,48.6470051687443,41.593004852276103,53.614934582185398,59.6258994471401,"-"]
["ECBHCAI202002Tayside",28,34.247831989921401,41.593004852276103,55.858198467389698,62.9907952749464,"-"]
["ECBHCAI201803Tayside",42,36.6377054328483,41.593004852276103,53.640024874413697,59.663534885482399,"-"]
["ECBHCAI201904Tayside",54,45.773185389877298,41.593004852276103,53.468420859103297,59.406128862516901,"-"]
["ECBHCAI201903Tayside",47,40.588621368613801,41.593004852276103,53.579531776487599,59.572795238593301,"-"]
["ECBHCAI201901Tayside",56,46.960167714884697,41.593004852276103,53.404665203776503,59.310495379526699,"-"]
["SABCAUN201901Tayside",13,12.6289846509263,12.950682445141,20.044644554269802,23.5916256088342,"-"]
["SABCAUN201802Tayside",18,17.3519040083162,12.950682445141,20.017333366982999,23.550658827904101,"-"]
["SABCAUN201804Tayside",11,10.4886811064762,12.950682445141,19.9788227210299,23.492892858974301,"-"]
["SABCAUN202002Tayside",11,10.5975898248397,12.950682445141,20.015216670419299,23.5474837830585,"-"]
["SABCAUN201902Tayside",10,9.6078496921671306,12.950682445141,20.005559066143,23.532997376644001,"-"]
["SABCAUN201903Tayside",8,7.6027332346713798,12.950682445141,19.967112585794698,23.4753276561216,"-"]
["SABCAUN202001Tayside",13,12.524424338446901,12.950682445141,20.015216670419299,23.5474837830585,"-"]
["SABCAUN201801Tayside",13,12.671174346813601,12.950682445141,20.0564840871927,23.609384908218502,"-"]
["SABCAUN202003Tayside",12,11.4353439611907,12.950682445141,19.976717559683198,23.4897351169543,"-"]
["SABCAUN201803Tayside",15,14.302746963376601,12.950682445141,19.9788227210299,23.492892858974301,"-"]
["SABCAUN201904Tayside",14,13.3047831606749,12.950682445141,19.967112585794698,23.4753276561216,"-"]
["SABCAUN201704Tayside",25,23.837338702851699,12.950682445141,19.978738265954,23.492766176360501,"aboveUCL"]
["SABHCAI202003Tayside",24,24.1324873555821,18.1562508137762,26.7017710162783,30.974531117529398,"-"]
["SABHCAI201902Tayside",22,19.384113837613999,18.1562508137762,26.1556011582901,30.155276330547,"-"]
["SABHCAI201802Tayside",12,10.179325789321901,18.1562508137762,26.0052081149313,29.929686765508901,"-"]
["SABHCAI201704Tayside",23,18.225761717976098,18.1562508137762,25.742410993009798,29.535491082626699,"-"]
["SABHCAI201801Tayside",17,13.6038090665386,18.1562508137762,25.779653935816199,29.591355496836201,"-"]
["SABHCAI202001Tayside",19,17.037455500856399,18.1562508137762,26.226160032623799,30.261114642047598,"-"]
["SABHCAI201804Tayside",17,14.7678408547974,18.1562508137762,26.099114759225198,30.070546731949701,"-"]
["SABHCAI202002Tayside",24,29.355284562789699,18.1562508137762,27.5812345381811,32.293726400383498,"-"]
["SABHCAI201803Tayside",19,16.574200076764701,18.1562508137762,26.115691863067699,30.095412387713498,"-"]
["SABHCAI201904Tayside",30,25.429547438820698,18.1562508137762,26.002313447395199,29.925344764204802,"-"]
["SABHCAI201903Tayside",22,18.998929151266001,18.1562508137762,26.075724199201701,30.0354608919145,"-"]
["SABHCAI201901Tayside",20,16.771488469601699,18.1562508137762,25.960190218646598,29.862159921081801,"-"]
["SSICSEC201803Tayside",6,2.1505376344085998,1.58949550794748,3.0870349705109699,3.8358047017927102,"-"]
["SSICSEC201804Tayside",5,1.6722408026755899,1.58949550794748,3.0360832578125501,3.7593771327450902,"-"]
["SSICSEC201801Tayside",7,2.5089605734767,1.58949550794748,3.0870349705109699,3.8358047017927102,"-"]
["SSICSEC201802Tayside",8,2.98507462686567,1.58949550794748,3.1174590088446901,3.8814407592932998,"-"]
["SSICSEC201902Tayside",2,0.70422535211267601,1.58949550794748,3.0737938665172702,3.8159430458021699,"-"]
["SSICSEC201903Tayside",3,0.96463022508038598,1.58949550794748,3.0079002766157399,3.7171026609498701,"-"]
["SSICSEC201704Tayside",7,2.32558139534884,1.58949550794748,3.0312693085230298,3.7521562088108098,"-"]
["SSICSEC201904Tayside",2,0.68965517241379304,1.58949550794748,3.0583588020957202,3.7927904491698499,"-"]
["SSICSEC201901Tayside",2,0.74349442379182196,1.58949550794748,3.1146162835901299,3.8771766714114499,"-"]
["SSIHIP201803Tayside",1,0.70422535211267601,1.1786600496277899,2.9900229747436402,3.8957044373015601,"-"]
["SSIHIP201902Tayside",1,0.62111801242235998,1.1786600496277899,2.8797869355455701,3.7303503785044598,"-"]
["SSIHIP201704Tayside",1,0.58823529411764697,1.1786600496277899,2.8341448050086999,3.6618871826991599,"-"]
["SSIHIP201904Tayside",3,1.76470588235294,1.1786600496277899,2.8341448050086999,3.6618871826991599,"-"]
["SSIHIP201801Tayside",2,1.15606936416185,1.1786600496277899,2.8197281175252198,3.6402621514739399,"-"]
["SSIHIP201804Tayside",5,3.2051282051282,1.1786600496277899,2.90683357375437,3.77092033581765,"-"]
["SSIHIP201802Tayside",1,0.66225165562913901,1.1786600496277899,2.9352127048216601,3.8134890324185902,"-"]
["SSIHIP201901Tayside",2,1.14942528735632,1.1786600496277899,2.8150056096970602,3.6331783897316901,"-"]
["SSIHIP201903Tayside",1,0.68965517241379304,1.1786600496277899,2.9711867998745198,3.86745017499788,"-"]
["CDICA201803Western Isles",1,14.7871461213113,7.46057571045825]
["CDICA202001Western Isles",1,15.052312956504601,7.46057571045825]
["CDICA201804Western Isles",0,0,7.46057571045825]
["CDICA201902Western Isles",1,15.011186418372001,7.46057571045825]
["CDICA201704Western Isles",0,0,7.46057571045825]
["CDICA201801Western Isles",1,15.115749368451601,7.46057571045825]
["CDICA201802Western Isles",0,0,7.46057571045825]
["CDICA201901Western Isles",0,0,7.46057571045825]
["CDICA201903Western Isles",0,0,7.46057571045825]
["CDICA201904Western Isles",1,14.8480213486071,7.46057571045825]
["CDICA202002Western Isles",1,15.052312956504601,7.46057571045825]
["CDICA202003Western Isles",0,0,7.46057571045825]
["CDIHCAI202001Western Isles",1,15.730690577316301,12.2892395418571]
["CDIHCAI201803Western Isles",0,0,12.2892395418571]
["CDIHCAI201902Western Isles",1,14.259232853272501,12.2892395418571]
["CDIHCAI201804Western Isles",1,14.808233377758,12.2892395418571]
["CDIHCAI201903Western Isles",2,29.841838257236599,12.2892395418571]
["CDIHCAI201901Western Isles",0,0,12.2892395418571]
["CDIHCAI201904Western Isles",3,43.579314352120903,12.2892395418571]
["CDIHCAI201704Western Isles",2,26.4131008980454,12.2892395418571]
["CDIHCAI201801Western Isles",0,0,12.2892395418571]
["CDIHCAI202002Western Isles",0,0,12.2892395418571]
["CDIHCAI201802Western Isles",0,0,12.2892395418571]
["CDIHCAI202003Western Isles",0,0,12.2892395418571]
["ECBCOM201803Western Isles",3,44.3614383639339,73.362327819506206]
["ECBCOM202001Western Isles",5,75.261564782522896,73.362327819506206]
["ECBCOM201804Western Isles",5,73.935730606556604,73.362327819506206]
["ECBCOM201902Western Isles",6,90.067118510232305,73.362327819506206]
["ECBCOM201704Western Isles",4,58.885214164717297,73.362327819506206]
["ECBCOM201801Western Isles",6,90.694496210709403,73.362327819506206]
["ECBCOM201802Western Isles",6,89.697853395207105,73.362327819506206]
["ECBCOM201901Western Isles",5,75.889886892880895,73.362327819506206]
["ECBCOM201903Western Isles",5,74.240106743035696,73.362327819506206]
["ECBCOM201904Western Isles",5,74.240106743035696,73.362327819506206]
["ECBCOM202002Western Isles",5,75.261564782522896,73.362327819506206]
["ECBCOM202003Western Isles",6,89.332205154907598,73.362327819506206]
["ECBHCAI202001Western Isles",2,31.461381154632701,43.012338396499999]
["ECBHCAI201803Western Isles",7,98.273199494595005,43.012338396499999]
["ECBHCAI201902Western Isles",2,28.518465706545001,43.012338396499999]
["ECBHCAI201804Western Isles",3,44.424700133274101,43.012338396499999]
["ECBHCAI201903Western Isles",3,44.762757385854997,43.012338396499999]
["ECBHCAI201901Western Isles",1,14.553922282055,43.012338396499999]
["ECBHCAI201904Western Isles",2,29.052876234747199,43.012338396499999]
["ECBHCAI201704Western Isles",4,52.826201796090899,43.012338396499999]
["ECBHCAI201801Western Isles",3,36.630036630036599,43.012338396499999]
["ECBHCAI202002Western Isles",2,62.5,43.012338396499999]
["ECBHCAI201802Western Isles",3,39.8565165404544,43.012338396499999]
["ECBHCAI202003Western Isles",3,72.254335260115596,43.012338396499999]
["SABCAUN201803Western Isles",1,14.7871461213113,12.4342928507638]
["SABCAUN202001Western Isles",0,0,12.4342928507638]
["SABCAUN201804Western Isles",2,29.574292242622601,12.4342928507638]
["SABCAUN201902Western Isles",0,0,12.4342928507638]
["SABCAUN201704Western Isles",1,14.721303541179299,12.4342928507638]
["SABCAUN201801Western Isles",1,15.115749368451601,12.4342928507638]
["SABCAUN201802Western Isles",0,0,12.4342928507638]
["SABCAUN201901Western Isles",2,30.3559547571524,12.4342928507638]
["SABCAUN201903Western Isles",0,0,12.4342928507638]
["SABCAUN201904Western Isles",0,0,12.4342928507638]
["SABCAUN202002Western Isles",3,45.156938869513702,12.4342928507638]
["SABCAUN202003Western Isles",0,0,12.4342928507638]
["SABHCAI202001Western Isles",1,15.730690577316301,20.891707221157201]
["SABHCAI201803Western Isles",1,14.0390284992279,20.891707221157201]
["SABHCAI201902Western Isles",2,28.518465706545001,20.891707221157201]
["SABHCAI201804Western Isles",0,0,20.891707221157201]
["SABHCAI201903Western Isles",5,74.604595643091599,20.891707221157201]
["SABHCAI201901Western Isles",0,0,20.891707221157201]
["SABHCAI201904Western Isles",1,14.526438117373599,20.891707221157201]
["SABHCAI201704Western Isles",2,26.4131008980454,20.891707221157201]
["SABHCAI201801Western Isles",2,24.420024420024401,20.891707221157201]
["SABHCAI202002Western Isles",2,62.5,20.891707221157201]
["SABHCAI201802Western Isles",0,0,20.891707221157201]
["SABHCAI202003Western Isles",2,48.169556840077099,20.891707221157201]
["SSICSEC201803Western Isles",0,0,0]
["SSICSEC201902Western Isles",0,0,0]
["SSICSEC201704Western Isles",0,0,0]
["SSICSEC201801Western Isles",0,0,0]
["SSICSEC201802Western Isles",0,0,0]
["SSICSEC201804Western Isles",0,0,0]
["SSICSEC201901Western Isles",0,0,0]
["SSICSEC201903Western Isles",0,0,0]
["SSICSEC201904Western Isles",0,0,0]
["SSIHIP201803Western Isles",0,0,0.71942446043165498]
["SSIHIP201801Western Isles",0,0,0.71942446043165498]
["SSIHIP201802Western Isles",0,0,0.71942446043165498]
["SSIHIP201901Western Isles",0,0,0.71942446043165498]
["SSIHIP201902Western Isles",0,0,0.71942446043165498]
["SSIHIP201804Western Isles",0,0,0.71942446043165498]
["SSIHIP201903Western Isles",0,0,0.71942446043165498]
["SSIHIP201704Western Isles",0,0,0.71942446043165498]
["SSIHIP201904Western Isles",1,5.8823529411764701,0.71942446043165498]

{"sheet":"trend data","index":10,"n_rows":2759,"n_cols":6,"rows_kept":2759,"cut":false,"hidden":true,"merged":[]}
["ref","cases","OCBD","rate","lower","upper"]
["CDICA201404Ayrshire & Arran",9,93547.616438356199,9.6207689117665698,4.3900861827178401,18.264434852804801]
["CDICA201404Borders",0,28744.328767123301,0,0,12.76111723524]
["CDICA201404Dumfries & Galloway",5,37798.136986301397,13.2281651918773,4.2629346041537399,30.870044135160601]
["CDICA201404Fife",5,92567.123287671202,5.4014857785538801,1.7406934601467501,12.6052329979814]
["CDICA201404Forth Valley",5,75717.260273972599,6.6035141550396599,2.1280614954690198,15.410358916473699]
["CDICA201404Grampian",7,147255.45205479499,4.7536440262974198,1.9044312868870199,9.7948247464013303]
["CDICA201404Greater Glasgow & Clyde",19,287995.287671233,6.5973301694053603,3.97015824441567,10.303139340371001]
["CDICA201404Highland",9,80841.534246575306,11.1328911355752,5.0800878803164702,21.135105388551001]
["CDICA201404Lanarkshire",18,164667.39726027401,10.931125589814901,6.4751050694192296,17.276914467635802]
["CDICA201404Lothian",21,216293.26027397299,9.7090403896080204,6.0077122355970198,14.842097975421201]
["CDICA201404Orkney",0,5439.3424657534197,0,0,67.436413786226595]
["CDICA201404Shetland",0,5852.7123287671202,0,0,62.673462941721297]
["CDICA201404Tayside",20,104300.273972603,19.175405047597,11.7078435648052,29.6165030634407]
["CDICA201404Western Isles",3,6868.4931506849298,43.6777024331871,8.7785072172838099,127.618761905075]
["CDICA201501Ayrshire & Arran",6,91378.3561643836,6.5661062989647103,2.39765829967692,14.292110097914099]
["CDICA201501Borders",1,28116.9863013699,3.5565689341011599,4.6484834080849698E-2,19.788238575070899]
["CDICA201501Dumfries & Galloway",5,36904.931506849302,13.548324833151399,4.3661098815897397,31.617187984142799]
["CDICA201501Fife",4,90759.452054794499,4.4072544615904796,1.1856840970404601,11.2835439061003]
["CDICA201501Forth Valley",4,74626.027397260303,5.3600602088954998,1.4420175200351999,13.7229368609198]
["CDICA201501Grampian",6,144941.917808219,4.1395892166536203,1.51159911074354,9.0104336041406903]
["CDICA201501Greater Glasgow & Clyde",14,283534.52054794499,4.9376703665374704,2.6971815057881199,8.2851237450821902]
["CDICA201501Highland",9,79150.684931506898,11.370716510903399,5.1886107960733403,21.5866021570383]
["CDICA201501Lanarkshire",6,161381.095890411,3.7179075819849499,1.35761919857793,8.0925806065577497]
["CDICA201501Lothian",29,213978.082191781,13.5527899413587,9.0745680802315096,19.464887647821399]
["CDICA201501Orkney",1,5343.2876712328798,18.7150694764908,0.24460847393813101,104.12795776259]
["CDICA201501Shetland",1,5720.5479452054797,17.480842911877399,0.22847696682065899,97.260898479109201]
["CDICA201501Tayside",5,102338.630136986,4.8857405979611102,1.57448840106384,11.4016589379015]
["CDICA201501Western Isles",1,6674.79452054795,14.981734597545501,0.19581328519539301,83.356218866469703]
["CDICA201502Ayrshire & Arran",10,92393.671232876703,10.823252141150601,5.1815023168276202,19.905721494381101]
["CDICA201502Borders",3,28429.397260274,10.5524572770034,2.1208721431251001,30.832471895869102]
["CDICA201502Dumfries & Galloway",3,37314.9863013699,8.0396652856063593,1.61584185528533,23.490524288674798]
["CDICA201502Fife",2,91767.890410958906,2.1794115469403499,0.244762469812009,7.8687447277775]
["CDICA201502Forth Valley",5,75455.205479452095,6.6264480604477303,2.1354522210575202,15.463878861369199]
["CDICA201502Grampian",9,146552.383561644,6.1411488378927404,2.8022887678211799,11.6585913142439]
["CDICA201502Greater Glasgow & Clyde",13,286684.904109589,4.5345952345752298,2.4121101579248601,7.75482423823542]
["CDICA201502Highland",11,80030.136986301397,13.744822156037101,6.8519376643443799,24.594998060272001]
["CDICA201502Lanarkshire",11,163174.21917808201,6.7412610003023898,3.36058914613599,12.0628189542198]
["CDICA201502Lothian",17,216355.616438356,7.8574341077221899,4.5745859225229104,12.5812822267873]
["CDICA201502Orkney",0,5402.6575342465803,0,0,67.894318105560799]
["CDICA201502Shetland",0,5784.1095890410998,0,0,63.416804885668199]
["CDICA201502Tayside",14,103475.726027397,13.5297431943538,7.3905648641879402,22.7021223134042]
["CDICA201502Western Isles",0,6748.9589041095896,0,0,54.350567910879299]
["CDICA201503Ayrshire & Arran",17,93408.986301369907,18.1995337634348,10.595740264479801,29.1409978797893]
["CDICA201503Borders",1,28741.8082191781,3.4792522181424399,4.5474294209526901E-2,19.358059475612801]
["CDICA201503Dumfries & Galloway",2,37725.041095890403,5.3015184129723103,0.59539591883628096,19.141081967679]
["CDICA201503Fife",6,92776.328767123297,6.4671668729860201,2.36152989647083,14.076753674376601]
["CDICA201503Forth Valley",4,76284.383561643801,5.2435371608760297,1.41066931307791,13.424612146552001]
["CDICA201503Grampian",14,148162.84931506799,9.4490623423615308,5.1615102477422701,15.854977139018599]
["CDICA201503Greater Glasgow & Clyde",17,289835.287671233,5.8654003577657896,3.4148269700698202,9.39164824832908]
["CDICA201503Highland",7,80909.589041095896,8.6516321278612995,3.4660649421343699,17.826581038450399]
["CDICA201503Lanarkshire",18,164967.342465753,10.9112505123472,6.4633319712319199,17.245501415921499]
["CDICA201503Lothian",33,218733.150684931,15.0868763590088,10.3833434347635,21.188384089281602]
["CDICA201503Orkney",0,5462.0273972602699,0,0,67.156336387022094]
["CDICA201503Shetland",1,5847.6712328767098,17.1008245877061,0.223510076237601,95.146531120867706]
["CDICA201503Tayside",11,104612.821917808,10.5149634608293,5.2418193090127403,18.815485787085102]
["CDICA201503Western Isles",0,6823.1232876712302,0,0,53.759800868369801]
["CDICA201504Ayrshire & Arran",7,93408.986301369907,7.4939256672966801,3.0022581462671201,15.441141189299699]
["CDICA201504Borders",2,28741.8082191781,6.9585044362848798,0.781486513831677,25.1236142953829]
["CDICA201504Dumfries & Galloway",4,37725.041095890403,10.603036825944599,2.85253602995276,27.146113891587898]
["CDICA201504Fife",7,92776.328767123297,7.5450280184836904,3.0227310541869499,15.546436952137]
["CDICA201504Forth Valley",3,76284.383561643801,3.9326528706570199,0.79039921252596701,11.490537789239299]
["CDICA201504Grampian",15,148162.84931506799,10.123995366815899,5.6621274263441403,16.699074094274401]
["CDICA201504Greater Glasgow & Clyde",25,289835.287671233,8.6255887614202802,5.58045617823631,12.733674681058799]
["CDICA201504Highland",9,80909.589041095896,11.123527021536001,5.0758149092021796,21.117328197102701]
["CDICA201504Lanarkshire",19,164967.342465753,11.5174310963664,6.9309891801049703,17.986927193562199]
["CDICA201504Lothian",18,218733.150684931,8.2292052867320695,4.8746095204558397,13.0064625739876]
["CDICA201504Orkney",0,5462.0273972602699,0,0,67.156336387022094]
["CDICA201504Shetland",0,5847.6712328767098,0,0,62.727491789084901]
["CDICA201504Tayside",7,104612.821917808,6.6913403841641301,2.6807219699911702,13.7874241358486]
["CDICA201504Western Isles",0,6823.1232876712302,0,0,53.759800868369801]
["CDICA201601Ayrshire & Arran",10,92133.770491803298,10.8537835221773,5.1961188497756199,19.961873671160301]
["CDICA201601Borders",0,28476.038251366099,0,0,12.881347679322801]
["CDICA201601Dumfries & Galloway",2,37175.737704918,5.3798528918914101,0.60419340389989595,19.423907861147001]
["CDICA201601Fife",5,92076.584699453597,5.43026222825321,1.7499670155815801,12.6723874566222]
["CDICA201601Forth Valley",1,75704.043715847001,1.3209334018582599,1.7264777136324998E-2,7.3494836686912697]
["CDICA201601Grampian",19,146221.58469945399,12.993977625843,7.8195491318942096,20.292869786262401]
["CDICA201601Greater Glasgow & Clyde",19,288755.92896174901,6.5799514726213397,3.9597000477599602,10.2759987956473]
["CDICA201601Highland",2,80035.245901639297,2.4988990506231898,0.28064304986366101,9.0222513308440497]
["CDICA201601Lanarkshire",12,163225.655737705,7.3517854443687298,3.7943971123168101,12.8429789577908]
["CDICA201601Lothian",16,218797.81420764999,7.3126873126873102,4.1771028533786199,11.8760945256935]
["CDICA201601Orkney",0,5432.6502732240397,0,0,67.519485112715699]
["CDICA201601Shetland",0,5768.3060109289599,0,0,63.590549556587902]
["CDICA201601Tayside",11,103299.918032787,10.6486047709241,5.3084409004567803,19.054623676629099]
["CDICA201601Western Isles",0,6688.2513661202202,0,0,54.843894041369502]
["CDICA201602Ayrshire & Arran",5,92133.770491803298,5.4268917610886502,1.7488808421856801,12.664521931160699]
["CDICA201602Borders",0,28476.038251366099,0,0,12.881347679322801]
["CDICA201602Dumfries & Galloway",5,37175.737704918,13.4496322297285,4.33430500856291,31.3868729722506]
["CDICA201602Fife",4,92076.584699453597,4.3442097826025696,1.1687231809121901,11.1221356167433]
["CDICA201602Forth Valley",5,75704.043715847001,6.6046670092912896,2.1284330165538798,15.4130492866885]
["CDICA201602Grampian",8,146221.58469945399,5.4711484740391398,2.35576202428655,10.781005775845699]
["CDICA201602Greater Glasgow & Clyde",15,288755.92896174901,5.1946985310168401,2.9052803718647602,8.5684211147709206]
["CDICA201602Highland",2,80035.245901639297,2.4988990506231898,0.28064304986366101,9.0222513308440497]
["CDICA201602Lanarkshire",14,163225.655737705,8.5770830184301801,4.6851952385679096,14.3918465398429]
["CDICA201602Lothian",23,218797.81420764999,10.511988011988,6.6615122729230896,15.7739396057778]
["CDICA201602Orkney",0,5432.6502732240397,0,0,67.519485112715699]
["CDICA201602Shetland",0,5768.3060109289599,0,0,63.590549556587902]
["CDICA201602Tayside",10,103299.918032787,9.6805497917491596,4.6344472548507802,17.804105970551799]
["CDICA201602Western Isles",0,6688.2513661202202,0,0,54.843894041369502]
["CDICA201603Ayrshire & Arran",9,93146.229508196702,9.6622268528948005,4.4090039985577398,18.343140190373202]
["CDICA201603Borders",0,28788.961748633901,0,0,12.7413330306345]
["CDICA201603Dumfries & Galloway",2,37584.262295082,5.3213762300230298,0.59762608429228803,19.212778427873701]
["CDICA201603Fife",6,93088.415300546403,6.44548516657881,2.3536126741549701,14.0295602052225]
["CDICA201603Forth Valley",4,76535.956284152999,5.2263017203957096,1.4060324608468699,13.380485615829601]
["CDICA201603Grampian",20,147828.41530054601,13.529198672216401,8.2604639233593993,20.895910825717099]
["CDICA201603Greater Glasgow & Clyde",20,291929.07103825099,6.85097922206569,4.1829725525264703,10.5813695519983]
["CDICA201603Highland",8,80914.754098360703,9.8869484176830493,4.25711305934687,19.482426496431302]
["CDICA201603Lanarkshire",15,165019.344262295,9.0898434162711208,5.0837490381654904,14.9932870585068]
["CDICA201603Lothian",20,221202.18579235001,9.0415019762845805,5.5204304924178,13.9646422234139]
["CDICA201603Orkney",0,5492.3497267759603,0,0,66.785577665838403]
["CDICA201603Shetland",1,5831.6939890710401,17.147676161919001,0.22412243261085499,95.407206548596207]
["CDICA201603Tayside",14,104435.081967213,13.405456994226499,7.3226740542465203,22.4935772969448]
["CDICA201603Western Isles",0,6761.7486338797798,0,0,54.247764758311099]
["CDICA201604Ayrshire & Arran",7,93146.229508196702,7.5150653300292802,3.0107272354289298,15.4846992030085]
["CDICA201604Borders",1,28788.961748633901,3.47355354017744,4.5399811722446802E-2,19.326352850147799]
["CDICA201604Dumfries & Galloway",8,37584.262295082,21.285504920092102,9.1650929227110502,41.943506482084203]
["CDICA201604Fife",4,93088.415300546403,4.2969901110525397,1.1560196680761901,11.001242838300501]
["CDICA201604Forth Valley",4,76535.956284152999,5.2263017203957096,1.4060324608468699,13.380485615829601]
["CDICA201604Grampian",12,147828.41530054601,8.1175192033298096,4.1896069543057299,14.1806543603204]
["CDICA201604Greater Glasgow & Clyde",12,291929.07103825099,4.1105875332394204,2.1215528641408001,7.1808664157886399]
["CDICA201604Highland",9,80914.754098360703,11.1228169698934,5.0754909030927404,21.115980207967301]
["CDICA201604Lanarkshire",13,165019.344262295,7.8778642941016299,4.1905121633940201,13.4723056443099]
["CDICA201604Lothian",16,221202.18579235001,7.2332015810276697,4.1316995614940701,11.7470065417186]
["CDICA201604Orkney",0,5492.3497267759603,0,0,66.785577665838403]
["CDICA201604Shetland",0,5831.6939890710401,0,0,62.899347930972802]
["CDICA201604Tayside",8,104435.081967213,7.6602611395580302,3.2983481209323302,15.094695379212]
["CDICA201604Western Isles",0,6761.7486338797798,0,0,54.247764758311099]
["CDICA201701Ayrshire & Arran",12,91333.972602739697,13.138594170423801,6.7810798012807201,22.952069227612601]
["CDICA201701Borders",0,28361.095890411001,0,0,12.93355343753]
["CDICA201701Dumfries & Galloway",2,36789.041095890403,5.4364015490020803,0.61054419569889795,19.628076251521499]
["CDICA201701Fife",3,91580.547945205501,3.2758048158818198,0.65838344548045202,9.57134033057274]
["CDICA201701Forth Valley",2,75348.493150684895,2.6543331078968202,0.29809933241140002,9.5834445209994499]
["CDICA201701Grampian",9,144586.849315069,6.2246324908762203,2.8403834809160302,11.8170798669963]
["CDICA201701Greater Glasgow & Clyde",16,288273.69863013702,5.5502808879308896,3.1703932005687099,9.0138765204490205]
["CDICA201701Highland",4,79394.794520547905,5.0381136750278603,1.35540421267323,12.8986826949824]
["CDICA201701Lanarkshire",10,162278.630136986,6.16224082712466,2.9500989819129999,11.333363400051701]
["CDICA201701Lothian",10,219316.438356164,4.5596217387774001,2.1828642902539799,8.3858861706403296]
["CDICA201701Orkney",0,5424.6575342465803,0,0,67.618968926577196]
["CDICA201701Shetland",0,5690.9589041095896,0,0,64.454823066928]
["CDICA201701Tayside",6,102597.534246575,5.8480937617662798,2.13547114633197,12.729248675012601]
["CDICA201701Western Isles",0,6645.20547945206,0,0,55.199158307409903]
["CDICA201702Ayrshire & Arran",4,92348.794520547905,4.3314046715682704,1.1652782206435,11.0893517069788]
["CDICA201702Borders",2,28676.2191780822,6.9744201199600298,0.78327395138588496,25.181077720399401]
["CDICA201702Dumfries & Galloway",12,37197.8082191781,32.259965235836503,16.649985212511801,56.3555693835252]
["CDICA201702Fife",2,92598.109589041094,2.1598713071748299,0.242567970405763,7.7981948773601797]
["CDICA201702Forth Valley",7,76185.698630137005,9.1880761427197708,3.6809781245073201,18.931917298954399]
["CDICA201702Grampian",17,146193.369863014,11.628434323614901,6.7700563859022802,18.619387967539801]
["CDICA201702Greater Glasgow & Clyde",22,291476.73972602701,7.5477720866093199,4.7284627458559596,11.4280130579159]
["CDICA201702Highland",8,80276.958904109604,9.9654995769781891,4.2909355444995203,19.637213102219601]
["CDICA201702Lanarkshire",6,164081.726027397,3.6567143369750799,1.33527406965347,7.9593843780611504]
["CDICA201702Lothian",9,221753.287671233,4.0585644048458196,1.8519774956441,7.7049335503275804]
["CDICA201702Orkney",1,5484.9315068493197,18.2317682317682,0.23829166169906901,101.438939073117]
["CDICA201702Shetland",0,5754.1917808219196,0,0,63.746528307950697]
["CDICA201702Tayside",10,103737.506849315,9.6397149919224496,4.6148980835712203,17.729004130362899]
["CDICA201702Western Isles",0,6719.0410958904104,0,0,54.592574150185598]
["CDICA201703Ayrshire & Arran",7,93363.616438356199,7.4975673255135602,3.0037170876194801,15.4486447810334]
["CDICA201703Borders",1,28991.342465753401,3.4493056028063198,4.5082887921338501E-2,19.191440810329802]
["CDICA201703Dumfries & Galloway",4,37606.575342465803,10.6364378132649,2.8615219008246,27.231627789235699]
["CDICA201703Fife",7,93615.671232876703,7.4773805579911103,2.9956297526322202,15.4070501961245]
["CDICA201703Forth Valley",8,77022.904109588999,10.3865208569876,4.4722184958887699,20.466843822912502]
["CDICA201703Grampian",15,147799.89041095899,10.148857322080801,5.6760321698448299,16.740082769017299]
["CDICA201703Greater Glasgow & Clyde",27,294679.78082191799,9.1624881505924396,6.0366621437209798,13.331534794550301]
["CDICA201703Highland",4,81159.123287671202,4.9285894647011697,1.3259389037020699,12.618276549439299]
["CDICA201703Lanarkshire",11,165884.821917808,6.6311069770145803,3.30567621292548,11.865709238405501]
["CDICA201703Lothian",11,224190.13698630099,4.9065494797713303,2.4459662555653998,8.7797843848128494]
["CDICA201703Orkney",1,5545.20547945205,18.0335968379447,0.23570153494147,100.336341909279]
["CDICA201703Shetland",0,5817.4246575342504,0,0,63.053631261125197]
["CDICA201703Tayside",7,104877.47945205501,6.6744548367984802,2.6739571881687501,13.752631674259399]
["CDICA201703Western Isles",0,6792.8767123287698,0,0,53.999176605074901]
["CDICA201704Ayrshire & Arran",6,93363.616438356199,6.4264862790116197,2.3466751013552098,13.988206291581101]
["CDICA201704Borders",1,28991.342465753401,3.4493056028063198,4.5082887921338501E-2,19.191440810329802]
["CDICA201704Dumfries & Galloway",1,37606.575342465803,2.65910945331624,3.4754918020860302E-2,14.7949029624942]
["CDICA201704Fife",4,93615.671232876703,4.2727888902806299,1.1495088112948799,10.9392823729947]
["CDICA201704Forth Valley",5,77022.904109588999,6.4915755356172298,2.09198793520157,15.1491322027249]
["CDICA201704Grampian",7,147799.89041095899,4.7361334169710396,1.8974160892682801,9.7587443523697708]
["CDICA201704Greater Glasgow & Clyde",17,294679.78082191799,5.7689740207433902,3.3586877065576202,9.2372509039107804]
["CDICA201704Highland",7,81159.123287671202,8.6250315632270507,3.4554080761052601,17.771770903886999]
["CDICA201704Lanarkshire",9,165884.821917808,5.42545116301193,2.47570629792579,10.299883535577999]
["CDICA201704Lothian",15,224190.13698630099,6.6907492905972701,3.7419885814307801,11.0360894194124]
["CDICA201704Orkney",0,5545.20547945205,0,0,66.148991341216799]
["CDICA201704Shetland",0,5817.4246575342504,0,0,63.053631261125197]
["CDICA201704Tayside",2,104877.47945205501,1.9069870962281401,0.21416738487400799,6.8851588312685097]
["CDICA201704Western Isles",0,6792.8767123287698,0,0,53.999176605074901]
["CDICA201801Ayrshire & Arran",8,91151.506849315105,8.7765965440648195,3.77901878172363,17.294456270527]
["CDICA201801Borders",0,28422.739726027401,0,0,12.905502874856399]
["CDICA201801Dumfries & Galloway",4,36687.945205479497,10.9027637759407,2.9331716005017299,27.913481019943401]
["CDICA201801Fife",2,91703.835616438402,2.18093385795249,0.24493343550395399,7.8742410172542101]
["CDICA201801Forth Valley",0,75469.315068493204,0,0,4.8603826457499801]
["CDICA201801Grampian",12,144135.616438356,8.3254925441222607,4.2969459741551503,14.543967090240301]
["CDICA201801Greater Glasgow & Clyde",17,289721.095890411,5.8677121690960199,3.4161729030323902,9.3953499084896404]
["CDICA201801Highland",15,79347.945205479497,18.9040812098612,10.5726358823746,31.181429995748399]
["CDICA201801Lanarkshire",10,162542.465753425,6.1522384034520003,2.9453104413932101,11.3149673156493]
["CDICA201801Lothian",12,221367.94520547899,5.42083904192239,2.7977987337429302,9.4697706122948908]
["CDICA201801Orkney",1,5471.5068493150702,18.2765009263432,0.23887632403061199,101.68782535896101]
["CDICA201801Shetland",0,5668.7671232876701,0,0,64.707147298159896]
["CDICA201801Tayside",4,102595.068493151,3.8988228759426602,1.0489006980355999,9.9818468586747304]
["CDICA201801Western Isles",1,6615.61643835616,15.115749368451601,0.197564876266839,84.101857797813395]
["CDICA201802Ayrshire & Arran",9,92164.301369862995,9.7651692317204795,4.4559779898305196,18.538569930854202]
["CDICA201802Borders",1,28738.547945205501,3.4796469254697802,4.5479453087355903E-2,19.360255570474301]
["CDICA201802Dumfries & Galloway",5,37095.589041095896,13.4786914812454,4.3436697002692304,31.454687394269801]
["CDICA201802Fife",8,92722.767123287704,8.6278702072845803,3.7149803338802401,17.001388096000898]
["CDICA201802Forth Valley",2,76307.863013698603,2.6209618786480302,0.29435152052930502,9.4629580141808791]
["CDICA201802Grampian",33,145737.12328767101,22.6435099414314,15.584096713960999,31.8011080857056]
["CDICA201802Greater Glasgow & Clyde",11,292940.21917808201,3.7550323512637802,1.8719229180535399,6.7192585212916898]
["CDICA201802Highland",7,80229.589041095896,8.7249605583974805,3.4954421854783999,17.977673363003401]
["CDICA201802Lanarkshire",8,164348.49315068501,4.86770511042356,2.09593194170722,9.5919087481548608]
["CDICA201802Lothian",12,223827.58904109601,5.3612693821210504,2.76705369271279,9.3657071989729701]
["CDICA201802Orkney",1,5532.3013698630102,18.0756602568229,0.23625130948082601,100.570376728642]
["CDICA201802Shetland",1,5731.7534246575296,17.446668164371498,0.228030298276621,97.070755093891805]
["CDICA201802Tayside",4,103735.01369863001,3.8559786685147199,1.0373743167385101,9.8721562338541293]
["CDICA201802Western Isles",0,6689.1232876712302,0,0,54.836745186265503]
["CDICA201803Ayrshire & Arran",10,93177.095890411001,10.732251208774899,5.1379367105025704,19.738355975036601]
["CDICA201803Borders",2,29054.3561643836,6.8836493525597797,0.77307978808212197,24.8533507252756]
["CDICA201803Dumfries & Galloway",3,37503.232876712304,7.9993103790869498,1.6077311759593,23.372614167036001]
["CDICA201803Fife",5,93741.698630137005,5.33380563086207,1.7188827222685401,12.447290523268199]
["CDICA201803Forth Valley",5,77146.410958904104,6.48118290643942,2.0886387860257298,15.124879336454701]
["CDICA201803Grampian",19,147338.630136986,12.895463994971999,7.76026534682559,20.139019722717499]
["CDICA201803Greater Glasgow & Clyde",14,296159.34246575303,4.7271849955632899,2.58220476418991,7.9319415325009297]
["CDICA201803Highland",6,81111.232876712296,7.3972491690761197,2.7011557622528999,16.1012165707413]
["CDICA201803Lanarkshire",6,166154.52054794499,3.6110964542000801,1.31861639000756,7.8600902494911198]
["CDICA201803Lothian",16,226287.23287671199,7.0706596198987697,4.0388534625712698,11.4830319435693]
["CDICA201803Orkney",1,5593.0958904109602,17.879185688814001,0.23368336046473001,99.477220459852703]
["CDICA201803Shetland",1,5794.7397260274001,17.257030466932701,0.22555170807796199,96.015638190697302]
["CDICA201803Tayside",3,104874.95890411,2.86054939267532,0.57492386481201696,8.3580351420719197]
["CDICA201803Western Isles",1,6762.6301369863004,14.7871461213113,0.19326998765234199,82.273556541339204]
["CDICA201804Ayrshire & Arran",5,93177.095890411001,5.3661256043874603,1.72929822068032,12.5227143628336]
["CDICA201804Borders",1,29054.3561643836,3.4418246762798899,4.4985111205971602E-2,19.149818009925699]
["CDICA201804Dumfries & Galloway",0,37503.232876712304,0,0,9.7807501143004796]
["CDICA201804Fife",7,93741.698630137005,7.4673278832068997,2.9916023941951901,15.3863367840138]
["CDICA201804Forth Valley",2,77146.410958904104,2.5924731625757702,0.29115204748007401,9.3600997748963106]
["CDICA201804Grampian",12,147338.630136986,8.1445035757717807,4.2035341051517703,14.2277938926264]
["CDICA201804Greater Glasgow & Clyde",22,296159.34246575303,7.4284335644565997,4.6537005842976198,11.2473236870891]
["CDICA201804Highland",7,81111.232876712296,8.6301240305888101,3.4574482486797198,17.782263869927199]
["CDICA201804Lanarkshire",11,166154.52054794499,6.62034349936682,3.30031050669395,11.846449061091899]
["CDICA201804Lothian",15,226287.23287671199,6.6287433936550997,3.70731005018391,10.933813486857799]
["CDICA201804Orkney",1,5593.0958904109602,17.879185688814001,0.23368336046473001,99.477220459852703]
["CDICA201804Shetland",0,5794.7397260274001,0,0,63.3004701829826]
["CDICA201804Tayside",3,104874.95890411,2.86054939267532,0.57492386481201696,8.3580351420719197]
["CDICA201804Western Isles",0,6762.6301369863004,0,0,54.240693608153897]
["CDICA201901Ayrshire & Arran",1,91075.068493150698,1.0979953312636901,1.4350946583927E-2,6.1090882735416203]
["CDICA201901Borders",1,28481.917808219201,3.5109995286603399,4.5889235825809803E-2,19.5346969501804]
["CDICA201901Dumfries & Galloway",1,36705.205479452103,2.7244092137280398,3.5608394667736701E-2,15.158221447772]
["CDICA201901Fife",5,92108.219178082203,5.4283972099525597,1.74936599110571,12.668035137429101]
["CDICA201901Forth Valley",3,75609.863013698603,3.9677363248978201,0.79745041575102604,11.5930456306353]
["CDICA201901Grampian",6,144419.178082192,4.1545728757612004,1.5170704956074299,9.0430477739217707]
["CDICA201901Greater Glasgow & Clyde",15,291728.21917808201,5.1417720377758203,2.8756797509535299,8.4811212494352599]
["CDICA201901Highland",4,79323.287671232902,5.04265533796152,1.3566260566946,12.9103103542349]
["CDICA201901Lanarkshire",4,163208.21917808201,2.4508569606016399,0.65935428680866104,6.2747346139256397]
["CDICA201901Lothian",8,223786.849315069,3.57483025677565,1.53924708900568,7.04427339686388]
["CDICA201901Orkney",0,5491.2328767123299,0,0,66.799161041073106]
["CDICA201901Shetland",0,5651.5068493150702,0,0,64.904769475772099]
["CDICA201901Tayside",2,102937.808219178,1.94292071552713,0.21820297026918301,7.0148968230699502]
["CDICA201901Western Isles",0,6588.4931506849298,0,0,55.674300762900401]
["CDICA201902Ayrshire & Arran",8,92087.013698630093,8.6874355880203797,3.7406279401489102,17.118762851374498]
["CDICA201902Borders",0,28798.383561643801,0,0,12.737164516903301]
["CDICA201902Dumfries & Galloway",4,37113.041095890403,10.7778826037593,2.8995748065871099,27.593757663455801]
["CDICA201902Fife",3,93131.6438356164,3.2212466960157999,0.64741815146715298,9.4119308533956794]
["CDICA201902Forth Valley",0,76449.972602739697,0,0,4.7980363727742699]
["CDICA201902Grampian",6,146023.83561643801,4.1089182287748098,1.5003993912600899,8.9436736225599898]
["CDICA201902Greater Glasgow & Clyde",12,294969.64383561601,4.0682152386797696,2.0996837123087801,7.1068454189109804]
["CDICA201902Highland",5,80204.657534246595,6.23405192879859,2.0089978697639399,14.548159581577201]
["CDICA201902Lanarkshire",13,165021.64383561601,7.8777545162195404,4.1904537686904497,13.472117907998999]
["CDICA201902Lothian",11,226273.369863014,4.86137631072513,2.4234469581244,8.6989514724292096]
["CDICA201902Orkney",0,5552.2465753424704,0,0,66.065104326335998]
["CDICA201902Shetland",0,5714.3013698630102,0,0,64.191530250763606]
["CDICA201902Tayside",3,104081.561643836,2.8823549076501398,0.57930641837869801,8.4217471202384697]
["CDICA201902Western Isles",1,6661.6986301369898,15.011186418372001,0.196198224452826,83.520084566189098]
["CDICA201903Ayrshire & Arran",7,93098.958904109604,7.5188810727839499,3.0122559194962499,15.49256149378]
["CDICA201903Borders",0,29114.849315068499,0,0,12.598717076502201]
["CDICA201903Dumfries & Galloway",5,37520.876712328798,13.3259146323654,4.2944355316330398,31.098158125142302]
["CDICA201903Fife",3,94155.068493150698,3.1862331449721499,0.64038099764685796,9.30962725716312]
["CDICA201903Forth Valley",2,77290.082191780806,2.5876541249333598,0.29061083737355298,9.3427006851764691]
["CDICA201903Grampian",5,147628.49315068501,3.38688006176185,1.09146264852125,7.9038275883706497]
["CDICA201903Greater Glasgow & Clyde",15,298211.06849315099,5.0299943847807,2.8131649737588802,8.2967490483605797]
["CDICA201903Highland",5,81086.027397260303,6.1662904947899104,1.98716093639694,14.3900274122123]
["CDICA201903Lanarkshire",8,166835.06849315099,4.7951549229162396,2.06469334940881,9.4489471754126004]
["CDICA201903Lothian",18,228759.89041095899,7.8685122499681404,4.6609512570259204,12.436378304619399]
["CDICA201903Orkney",0,5613.2602739725999,0,0,65.347005366267098]
["CDICA201903Shetland",0,5777.0958904109602,0,0,63.493796226298798]
["CDICA201903Tayside",4,105225.315068493,3.8013666173356899,1.0226820312909399,9.7323373323926496]
["CDICA201903Western Isles",0,6734.9041095890398,0,0,54.463989876750297]
["CDICA201904Ayrshire & Arran",6,93098.958904109604,6.4447552052433803,2.3533461238168201,14.0279713354574]
["CDICA201904Borders",2,29114.849315068499,6.8693469039006603,0.77147352759264298,24.801711869989699]
["CDICA201904Dumfries & Galloway",2,37520.876712328798,5.3303658529461604,0.59863567897505099,19.245235376209301]
["CDICA201904Fife",4,94155.068493150698,4.2483108599628698,1.14292348441448,10.876613214172]
["CDICA201904Forth Valley",0,77290.082191780806,0,0,4.7458838035049897]
["CDICA201904Grampian",8,147628.49315068501,5.4190080988189502,2.3333114699909401,10.678262140013]
["CDICA201904Greater Glasgow & Clyde",10,298211.06849315099,3.3533295898538,1.60536637346295,6.1673186602303902]
["CDICA201904Highland",3,81086.027397260303,3.6997742968739402,0.74359440991912995,10.810106502683499]
["CDICA201904Lanarkshire",12,166835.06849315099,7.1927323843743602,3.7123067852643401,12.565126031024]
["CDICA201904Lothian",11,228759.89041095899,4.8085352638694197,2.3971051433621802,8.6043976520767202]
["CDICA201904Orkney",0,5613.2602739725999,0,0,65.347005366267098]
["CDICA201904Shetland",0,5777.0958904109602,0,0,63.493796226298798]
["CDICA201904Tayside",4,105225.315068493,3.8013666173356899,1.0226820312909399,9.7323373323926496]
["CDICA201904Western Isles",1,6734.9041095890398,14.8480213486071,0.19406563505659999,82.612257560034905]
["CDICA202001Ayrshire & Arran",9,91835.409836065606,9.8001413790887497,4.4719362507917202,18.604962390035801]
["CDICA202001Borders",3,28719.699453551901,10.4457917634266,2.0994341111635499,30.520813543384399]
["CDICA202001Dumfries & Galloway",2,37011.639344262301,5.4037055246245096,0.60687221383254397,19.5100275654891]
["CDICA202001Fife",1,92877.185792349701,1.0766906764765201,1.4072491881858501E-2,5.9905522351575904]
["CDICA202001Forth Valley",1,76241.092896174901,1.3116286270473601,1.71431624786989E-2,7.29771323846568]
["CDICA202001Grampian",10,145624.863387978,6.8669592316510499,3.2874744766482098,12.629455194784301]
["CDICA202001Greater Glasgow & Clyde",7,294163.71584699501,2.3796272697483101,0.95333950093188202,4.9031925697424601]
["CDICA202001Highland",3,79985.519125683102,3.7506789138744399,0.75382540932701902,10.9588410705512]
["CDICA202001Lanarkshire",3,164570.76502732199,1.8229240166088601,0.366378054359423,5.3262716005383401]
["CDICA202001Lothian",6,225655.136612022,2.6589246272359599,0.97092438203640596,5.7875461931682803]
["CDICA202001Orkney",0,5537.0765027322404,0,0,66.246104612161602]
["CDICA202001Shetland",0,5698.6885245901603,0,0,64.367397456930107]
["CDICA202001Tayside",0,103797.18579235001,0,0,3.5339084238695899]
["CDICA202001Western Isles",1,6643.4972677595597,15.052312956504601,0.196735753834889,83.748906715685493]
["CDICA202002Ayrshire & Arran",8,91835.409836065606,8.7112367814122198,3.7508762358753498,17.1656635715152]
["CDICA202002Borders",0,28719.699453551901,0,0,12.772060858045499]
["CDICA202002Dumfries & Galloway",2,37011.639344262301,5.4037055246245096,0.60687221383254397,19.5100275654891]
["CDICA202002Fife",1,92877.185792349701,1.0766906764765201,1.4072491881858501E-2,5.9905522351575904]
["CDICA202002Forth Valley",2,76241.092896174901,2.6232572540947201,0.29460930651941197,9.4712454454692807]
["CDICA202002Grampian",10,145624.863387978,6.8669592316510499,3.2874744766482098,12.629455194784301]
["CDICA202002Greater Glasgow & Clyde",13,294163.71584699501,4.4193077866754198,2.35078472317822,7.55766576011571]
["CDICA202002Highland",9,79985.519125683102,11.2520367416233,5.1344556219845501,21.3612959539435]
["CDICA202002Lanarkshire",13,164570.76502732199,7.8993374053050696,4.2019344639471399,13.509027820075699]
["CDICA202002Lothian",18,225655.136612022,7.9767738817078797,4.7250805577774102,12.6074884923421]
["CDICA202002Orkney",0,5537.0765027322404,0,0,66.246104612161602]
["CDICA202002Shetland",0,5698.6885245901603,0,0,64.367397456930107]
["CDICA202002Tayside",2,103797.18579235001,1.92683451360722,0.21639638237744599,6.9568177435473197]
["CDICA202002Western Isles",1,6643.4972677595597,15.052312956504601,0.196735753834889,83.748906715685493]
["CDICA202003Ayrshire & Arran",7,92844.590163934394,7.5394807469559604,3.0205086754400701,15.5350068677356]
["CDICA202003Borders",4,29035.300546448099,13.776334064808999,3.7062484951835701,35.270455028203699]
["CDICA202003Dumfries & Galloway",6,37418.360655737699,16.034908785027099,5.8552558217104096,34.902371562542399]
["CDICA202003Fife",6,93897.814207650299,6.38992510169758,2.33332453920442,13.908625433810901]
["CDICA202003Forth Valley",1,77078.907103825099,1.2973717941446701,1.69568237561043E-2,7.2183902684823602]
["CDICA202003Grampian",10,147225.136612022,6.7923183704374503,3.2517410584237698,12.4921785078845]
["CDICA202003Greater Glasgow & Clyde",10,297396.28415300499,3.3625167942095602,1.60976463749983,6.1842154236830797]
["CDICA202003Highland",8,80864.480874316898,9.8930951061615602,4.2597596947583298,19.494538667084999]
["CDICA202003Lanarkshire",8,166379.23497267801,4.8082923336639602,2.0703500435167799,9.4748347019205799]
["CDICA202003Lothian",21,228134.863387978,9.2050814540723191,5.6958750053701399,14.071701767695499]
["CDICA202003Orkney",2,5597.9234972677596,35.727533628785103,4.0124405982659601,128.99392144300299]
["CDICA202003Shetland",1,5761.3114754098397,17.3571591167767,0.22686040299179,96.572739612889606]
["CDICA202003Tayside",6,104937.81420764999,5.7176719805953304,2.0878467473586402,12.4453662078714]
["CDICA202003Western Isles",0,6716.5027322404403,0,0,54.613206287371597]
["ECBCOM201603Ayrshire & Arran",47,93146.229508196702,50.458295787339502,37.071448723671502,67.100668347104204]
["ECBCOM201603Borders",19,28788.961748633901,65.997517263371293,39.716154951474202,103.069211184309]
["ECBCOM201603Dumfries & Galloway",30,37584.262295082,79.820643450345401,53.843779630185502,113.953602038455]
["ECBCOM201603Fife",42,93088.415300546403,45.118396166051703,32.5137445726631,60.988816696307197]
["ECBCOM201603Forth Valley",38,76535.956284152999,49.6498663437593,35.1305366747861,68.150590895275599]
["ECBCOM201603Grampian",56,147828.41530054601,37.881756282205799,28.613513291164299,49.193743621581298]
["ECBCOM201603Greater Glasgow & Clyde",189,291929.07103825099,64.741753648520799,55.839757653126199,74.659239321669304]
["ECBCOM201603Highland",41,80914.754098360703,50.670610640625597,36.357876637106799,68.742540030894801]
["ECBCOM201603Lanarkshire",117,165019.344262295,70.900778646914702,58.635625789504402,84.973645574080507]
["ECBCOM201603Lothian",91,221202.18579235001,41.138833992094902,33.121387000661798,50.510082912765299]
["ECBCOM201603Orkney",2,5492.3497267759603,36.414287135608397,4.0895676029008197,131.473438468452]
["ECBCOM201603Shetland",1,5831.6939890710401,17.147676161919001,0.22412243261085499,95.407206548596207]
["ECBCOM201603Tayside",44,104435.081967213,42.1314362675692,30.609614761799399,56.5611308590967]
["ECBCOM201603Western Isles",2,6761.7486338797798,29.5781477291094,3.3218234990105202,106.79162195299899]
["ECBCOM201604Ayrshire & Arran",51,93146.229508196702,54.7526188330705,40.763657344398403,71.991398154018299]
["ECBCOM201604Borders",11,28788.961748633901,38.209088941951798,19.047630640069901,68.371380709302102]
["ECBCOM201604Dumfries & Galloway",23,37584.262295082,61.195826645264802,38.780176478912303,91.828422228717599]
["ECBCOM201604Fife",38,93088.415300546403,40.821406054999102,28.8838220147946,56.032435708134599]
["ECBCOM201604Forth Valley",40,76535.956284152999,52.263017203957098,37.3329337399134,71.169657584306407]
["ECBCOM201604Grampian",41,147828.41530054601,27.734857278043499,19.900697992662199,37.626634306997197]
["ECBCOM201604Greater Glasgow & Clyde",197,291929.07103825099,67.482145337347106,58.386754252430201,77.592541893190599]
["ECBCOM201604Highland",36,80914.754098360703,44.491267879573698,31.156589073760099,61.596823121567802]
["ECBCOM201604Lanarkshire",79,165019.344262295,47.873175325694604,37.900162943379399,59.665231154415899]
["ECBCOM201604Lothian",70,221202.18579235001,31.6452569169961,24.667860083821701,39.982614161327902]
["ECBCOM201604Orkney",1,5492.3497267759603,18.207143567804199,0.23796981403074799,101.30193098066]
["ECBCOM201604Shetland",3,5831.6939890710401,51.443028485757097,10.3392113523359,150.307713965548]
["ECBCOM201604Tayside",40,104435.081967213,38.301305697790099,27.3596930347049,52.157164996918198]
["ECBCOM201604Western Isles",1,6761.7486338797798,14.7890738645547,0.19329518351568201,82.284282227785496]
["ECBCOM201701Ayrshire & Arran",48,91333.972602739697,52.554376681695103,38.746011013734602,69.681342997112296]
["ECBCOM201701Borders",21,28361.095890411001,74.045093606908907,45.817258657640899,113.191879919385]
["ECBCOM201701Dumfries & Galloway",21,36789.041095890403,57.082216264521897,35.321052887411902,87.260925122839893]
["ECBCOM201701Fife",28,91580.547945205501,30.574178281563601,20.311673106271101,44.190117511886697]
["ECBCOM201701Forth Valley",35,75348.493150684895,46.4508293881944,32.3497419071604,64.604176539689206]
["ECBCOM201701Grampian",57,144586.849315069,39.422672442216097,29.856363113080501,51.077799850675902]
["ECBCOM201701Greater Glasgow & Clyde",143,288273.69863013702,49.605635435882398,41.807963017643601,58.4352394566965]
["ECBCOM201701Highland",35,79394.794520547905,44.083494656493798,30.701059449020399,61.311668893438402]
["ECBCOM201701Lanarkshire",90,162278.630136986,55.460167444122,44.595104933234602,68.1709319954183]
["ECBCOM201701Lothian",52,219316.438356164,23.7100330416425,17.706414741417799,31.093323506546302]
["ECBCOM201701Orkney",0,5424.6575342465803,0,0,67.618968926577196]
["ECBCOM201701Shetland",1,5690.9589041095896,17.571731176583899,0.22966488865854801,97.766587725967696]
["ECBCOM201701Tayside",40,102597.534246575,38.9872917451086,27.849712038986599,53.091312979701897]
["ECBCOM201701Western Isles",0,6645.20547945206,0,0,55.199158307409903]
["ECBCOM201702Ayrshire & Arran",53,92348.794520547905,57.391111898279597,42.986655169498398,75.070811279501001]
["ECBCOM201702Borders",19,28676.2191780822,66.256991139620197,39.8723018052087,103.47443502994599]
["ECBCOM201702Dumfries & Galloway",27,37197.8082191781,72.5849217806322,47.8222336898476,105.611968536695]
["ECBCOM201702Fife",28,92598.109589041094,30.2381983004476,20.088467907300998,43.704511824942898]
["ECBCOM201702Forth Valley",36,76185.698630137005,47.252963019701703,33.090564092428203,65.420307035818198]
["ECBCOM201702Grampian",51,146193.369863014,34.885302970844798,25.9723199906581,45.868887907526599]
["ECBCOM201702Greater Glasgow & Clyde",171,291476.73972602701,58.666773945917903,50.202369468797301,68.149455412669894]
["ECBCOM201702Highland",47,80276.958904109604,58.547310014746898,43.014405604740404,77.857636105505193]
["ECBCOM201702Lanarkshire",109,164081.726027397,66.430310455047206,54.544903979507701,80.135662563706205]
["ECBCOM201702Lothian",82,221753.287671233,36.978031244150799,29.408642546271601,45.9002057614547]
["ECBCOM201702Orkney",3,5484.9315068493197,54.695304695304699,10.9928659309343,159.81030774027101]
["ECBCOM201702Shetland",2,5754.1917808219196,34.757270459176901,3.9034735653554802,125.490795467952]
["ECBCOM201702Tayside",28,103737.506849315,26.9912019773829,17.931355873610698,39.011494476921001]
["ECBCOM201702Western Isles",6,6719.0410958904104,89.298456645395405,32.607937790762001,194.371415240571]
["ECBCOM201703Ayrshire & Arran",57,93363.616438356199,61.051619650610398,46.236827997951004,79.101243418853699]
["ECBCOM201703Borders",14,28991.342465753401,48.2902784392884,26.378359883740799,81.028279098051996]
["ECBCOM201703Dumfries & Galloway",19,37606.575342465803,50.523079613008498,30.4039082338264,78.902573585217894]
["ECBCOM201703Fife",48,93615.671232876703,51.273466683367602,37.801652883423401,67.982996739816201]
["ECBCOM201703Forth Valley",52,77022.904109588999,67.512385570419198,50.417572046097199,88.535703073584301]
["ECBCOM201703Grampian",51,147799.89041095899,34.506114895074703,25.690012164672702,45.370313038966501]
["ECBCOM201703Greater Glasgow & Clyde",176,294679.78082191799,59.725848685343301,51.227153530792997,69.231401620255994]
["ECBCOM201703Highland",35,81159.123287671202,43.1251578161353,30.033645113172199,59.9788065261897]
["ECBCOM201703Lanarkshire",90,165884.821917808,54.254511630119303,43.625646130338197,66.688955212909207]
["ECBCOM201703Lothian",85,224190.13698630099,37.914245980051199,30.283499215837001,46.882260028146]
["ECBCOM201703Orkney",2,5545.20547945205,36.0671936758893,4.0505866896466403,130.22026082284199]
["ECBCOM201703Shetland",3,5817.4246575342504,51.569211061713503,10.3645719961432,150.67639782986501]
["ECBCOM201703Tayside",41,104877.47945205501,39.093235472676803,28.0507184478525,53.0360354935817]
["ECBCOM201703Western Isles",4,6792.8767123287698,58.885214164717297,15.841894901782201,150.75914160126001]
["ECBCOM201704Ayrshire & Arran",50,93363.616438356199,53.554052325096897,39.745559425212903,70.606157302914696]
["ECBCOM201704Borders",9,28991.342465753401,31.043750425256899,14.1656806281855,58.934640508346099]
["ECBCOM201704Dumfries & Galloway",21,37606.575342465803,55.841298519641001,34.553203911598601,85.363948489734696]
["ECBCOM201704Fife",43,93615.671232876703,45.932480570516802,33.238003897064601,61.8725879068976]
["ECBCOM201704Forth Valley",46,77022.904109588999,59.722494927678497,43.720201498017303,79.663658843060006]
["ECBCOM201704Grampian",46,147799.89041095899,31.123162454381099,22.783892993901802,41.515094084488403]
["ECBCOM201704Greater Glasgow & Clyde",178,294679.78082191799,60.404551511313102,51.855841777087903,69.959982738386799]
["ECBCOM201704Highland",36,81159.123287671202,44.357305182310597,31.062776941430201,61.411355793674502]
["ECBCOM201704Lanarkshire",88,165884.821917808,53.048855816116699,42.5453314603728,65.358626205065903]
["ECBCOM201704Lothian",85,224190.13698630099,37.914245980051199,30.283499215837001,46.882260028146]
["ECBCOM201704Orkney",5,5545.20547945205,90.167984189723299,29.057712419949802,210.42144629584899]
["ECBCOM201704Shetland",1,5817.4246575342504,17.189737020571201,0.22467217368771,95.641227123229299]
["ECBCOM201704Tayside",46,104877.47945205501,43.860703213247099,32.108484159110098,58.505661922329999]
["ECBCOM201704Western Isles",4,6792.8767123287698,58.885214164717297,15.841894901782201,150.75914160126001]
["ECBCOM201801Ayrshire & Arran",50,91151.506849315105,54.853728400405203,40.710124204944499,72.319662246648903]
["ECBCOM201801Borders",15,28422.739726027401,52.774645036291602,29.515695557804602,87.049398565384195]
["ECBCOM201801Dumfries & Galloway",18,36687.945205479497,49.0624369917333,29.062371653586698,77.544395635682903]
["ECBCOM201801Fife",29,91703.835616438402,31.623540940311099,21.174236186241,45.418594554541201]
["ECBCOM201801Forth Valley",35,75469.315068493204,46.3764643527443,32.297951880256399,64.500749067200999]
["ECBCOM201801Grampian",53,144135.616438356,36.770925403206597,27.541879540033399,48.098444344645699]
["ECBCOM201801Greater Glasgow & Clyde",129,289721.095890411,44.525580577258097,37.173282722566697,52.906089716827097]
["ECBCOM201801Highland",35,79347.945205479497,44.109522823009499,30.719186239869799,61.347869070845903]
["ECBCOM201801Lanarkshire",104,162542.465753425,63.983279395900801,52.277644688671501,77.527403178203201]
["ECBCOM201801Lothian",65,221367.94520547899,29.3628781437463,22.660436840756301,37.426140875312797]
["ECBCOM201801Orkney",1,5471.5068493150702,18.2765009263432,0.23887632403061199,101.68782535896101]
["ECBCOM201801Shetland",0,5668.7671232876701,0,0,64.707147298159896]
["ECBCOM201801Tayside",38,102595.068493151,37.038817321455298,26.207392408532399,50.840364182302103]
["ECBCOM201801Western Isles",6,6615.61643835616,90.694496210709403,33.117711117304097,197.41010365955901]
["ECBCOM201802Ayrshire & Arran",51,92164.301369862995,55.3359589797494,41.197957627403099,72.758402064585894]
["ECBCOM201802Borders",24,28738.547945205501,83.5115262112746,53.491184815843297,124.264611091004]
["ECBCOM201802Dumfries & Galloway",19,37095.589041095896,51.219027628732597,30.822717612978799,79.989444970390096]
["ECBCOM201802Fife",31,92722.767123287704,33.432997053227801,22.711775273264202,47.457362507542598]
["ECBCOM201802Forth Valley",48,76307.863013698603,62.903085087552697,46.375654731133103,83.402596021826298]
["ECBCOM201802Grampian",50,145737.12328767101,34.308348396108201,25.462209501547001,45.232443456452003]
["ECBCOM201802Greater Glasgow & Clyde",138,292940.21917808201,47.108587679491002,39.576325114146798,55.656825630514]
["ECBCOM201802Highland",42,80229.589041095896,52.349763350384798,37.724896686253899,70.763821243140697]
["ECBCOM201802Lanarkshire",76,164348.49315068501,46.243198549023802,36.432866714735397,57.881238436539803]
["ECBCOM201802Lothian",73,223827.58904109601,32.614388741236397,25.563341232401701,41.008420511674103]
["ECBCOM201802Orkney",2,5532.3013698630102,36.151320513645899,4.0600346952863697,130.52399997297599]
["ECBCOM201802Shetland",3,5731.7534246575296,52.340004493114499,10.519488929123799,152.92852415336901]
["ECBCOM201802Tayside",35,103735.01369863001,33.739813349503798,23.497411525866401,46.925596092832897]
["ECBCOM201802Western Isles",6,6689.1232876712302,89.697853395207105,32.753780225905203,195.24076186110301]
["ECBCOM201803Ayrshire & Arran",67,93177.095890411001,71.906083098791996,55.723388682089002,91.319940458460593]
["ECBCOM201803Borders",17,29054.3561643836,58.511019496758102,34.065024591078199,93.687537123892895]
["ECBCOM201803Dumfries & Galloway",19,37503.232876712304,50.662299067550698,30.487688073707201,79.1199944815815]
["ECBCOM201803Fife",39,93741.698630137005,41.603683920724201,29.580533525078401,56.875455635479199]
["ECBCOM201803Forth Valley",40,77146.410958904104,51.849463251515402,37.037520594435499,70.606496581315398]
["ECBCOM201803Grampian",57,147338.630136986,38.6863919849159,29.298748539425301,50.1238415443976]
["ECBCOM201803Greater Glasgow & Clyde",151,296159.34246575303,50.986066737861201,43.177553129510898,59.798321111172598]
["ECBCOM201803Highland",43,81111.232876712296,53.013619045045502,38.362110091388303,71.411118317280398]
["ECBCOM201803Lanarkshire",100,166154.52054794499,60.184940903334699,48.967546195986898,73.201948927239201]
["ECBCOM201803Lothian",77,226287.23287671199,34.027549420762803,26.852916956672299,42.529308761554702]
["ECBCOM201803Orkney",1,5593.0958904109602,17.879185688814001,0.23368336046473001,99.477220459852703]
["ECBCOM201803Shetland",0,5794.7397260274001,0,0,63.3004701829826]
["ECBCOM201803Tayside",53,104874.95890411,50.536372603930701,37.852370354713003,66.104425668288002]
["ECBCOM201803Western Isles",3,6762.6301369863004,44.3614383639339,8.9159270097273193,129.61652112982799]
["ECBCOM201804Ayrshire & Arran",49,93177.095890411001,52.588030922997099,38.9015820864131,69.525989034887601]
["ECBCOM201804Borders",11,29054.3561643836,37.860071439078801,18.873641762927502,67.746848452084606]
["ECBCOM201804Dumfries & Galloway",23,37503.232876712304,61.328046239666598,38.863964859361801,92.026826554751494]
["ECBCOM201804Fife",46,93741.698630137005,49.0710118039311,35.922721017891803,65.455677097314606]
["ECBCOM201804Forth Valley",37,77146.410958904104,47.960753507651702,33.764099745044497,66.109837247204496]
["ECBCOM201804Grampian",51,147338.630136986,34.614140197029997,25.770437658234201,45.512349944041098]
["ECBCOM201804Greater Glasgow & Clyde",150,296159.34246575303,50.648410666749598,42.866883004467198,59.433765285563702]
["ECBCOM201804Highland",26,81111.232876712296,32.0547463993299,20.933743662778099,46.969792255167398]
["ECBCOM201804Lanarkshire",88,166154.52054794499,52.962747994934603,42.476272745775397,65.252537415564305]
["ECBCOM201804Lothian",71,226287.23287671199,31.376052063300801,24.503820943340301,39.577338323503199]
["ECBCOM201804Orkney",3,5593.0958904109602,53.637557066442,10.780275875213301,156.719750424213]
["ECBCOM201804Shetland",1,5794.7397260274001,17.257030466932701,0.22555170807796199,96.015638190697302]
["ECBCOM201804Tayside",42,104874.95890411,40.047691497454501,28.859634267159201,54.134488886958501]
["ECBCOM201804Western Isles",5,6762.6301369863004,73.935730606556604,23.826674365967001,172.54088030222499]
["ECBCOM201901Ayrshire & Arran",43,91075.068493150698,47.213799244338603,34.165201264698297,63.598567024465098]
["ECBCOM201901Borders",16,28481.917808219201,56.175992458565403,32.088463290770399,91.232042064082407]
["ECBCOM201901Dumfries & Galloway",18,36705.205479452103,49.039365847104698,29.0487053495712,77.5079311207393]
["ECBCOM201901Fife",25,92108.219178082203,27.141986049762799,17.559921754960001,40.068826617535898]
["ECBCOM201901Forth Valley",38,75609.863013698603,50.257993448705697,35.560826484940598,68.985320665836994]
["ECBCOM201901Grampian",56,144419.178082192,38.776013507104501,29.288979359837001,50.355037737030798]
["ECBCOM201901Greater Glasgow & Clyde",151,291728.21917808201,51.760505180276603,43.833386362634101,60.706610799382702]
["ECBCOM201901Highland",43,79323.287671232902,54.208544883086397,39.226791231361403,73.020723394953094]
["ECBCOM201901Lanarkshire",80,163208.21917808201,49.017139212032703,38.866054403428201,61.007052741659301]
["ECBCOM201901Lothian",78,223786.849315069,34.854595003562601,27.550012524931901,43.5008290605723]
["ECBCOM201901Orkney",6,5491.2328767123299,109.26508007783301,39.898885912764698,237.831750390031]
["ECBCOM201901Shetland",1,5651.5068493150702,17.694395966647299,0.231268133954594,98.449076994560897]
["ECBCOM201901Tayside",38,102937.808219178,36.915493595015498,26.120132784013599,50.671087093616897]
["ECBCOM201901Western Isles",5,6588.4931506849298,75.889886892880895,24.4564246249078,177.10121727494999]
["ECBCOM201902Ayrshire & Arran",57,92087.013698630093,61.8979785646452,46.877809379881803,80.197824359079704]
["ECBCOM201902Borders",19,28798.383561643801,65.975925208892093,39.703161229634702,103.03549058215199]
["ECBCOM201902Dumfries & Galloway",20,37113.041095890403,53.889413018796297,32.903024257227301,83.232451246614204]
["ECBCOM201902Fife",33,93131.6438356164,35.433713656173801,24.386785528432402,49.7639880377438]
["ECBCOM201902Forth Valley",41,76449.972602739697,53.629842633234198,38.4812256626577,72.757197070561503]
["ECBCOM201902Grampian",49,146023.83561643801,33.5561655349943,24.822909417853701,44.364193830627698]
["ECBCOM201902Greater Glasgow & Clyde",134,294969.64383561601,45.428403498590797,38.0619824303106,53.804212045678803]
["ECBCOM201902Highland",41,80204.657534246595,51.119225816148401,36.679773196137198,69.3511560762107]
["ECBCOM201902Lanarkshire",80,165021.64383561601,48.478489330581802,38.438954904489499,60.336645568674101]
["ECBCOM201902Lothian",69,226273.369863014,30.494087767275801,23.725068483511699,38.592940395607798]
["ECBCOM201902Orkney",5,5552.2465753424704,90.053637426785201,29.0208628066034,210.15459979314801]
["ECBCOM201902Shetland",3,5714.3013698630102,52.499856164777597,10.551616513113199,153.39558334581]
["ECBCOM201902Tayside",47,104081.561643836,45.156893553185498,33.176535944308299,60.050734782407403]
["ECBCOM201902Western Isles",6,6661.6986301369898,90.067118510232305,32.888619890008897,196.04452248253699]
["ECBCOM201903Ayrshire & Arran",55,93098.958904109604,59.076922714730998,44.501684430094002,76.898536758724205]
["ECBCOM201903Borders",24,29114.849315068499,82.432162846807898,52.799826055783299,122.658525382883]
["ECBCOM201903Dumfries & Galloway",29,37520.876712328798,77.2903048677193,51.751420666795298,111.00645011289799]
["ECBCOM201903Fife",40,94155.068493150698,42.4831085996287,30.346871712860001,57.851774618238998]
["ECBCOM201903Forth Valley",40,77290.082191780806,51.753082498667197,36.968673129203196,70.475249180286994]
["ECBCOM201903Grampian",50,147628.49315068501,33.868800617618497,25.1359956747364,44.652939604870497]
["ECBCOM201903Greater Glasgow & Clyde",132,298211.06849315099,44.263950586070102,37.034620888433203,52.491901675631297]
["ECBCOM201903Highland",26,81086.027397260303,32.064710572907501,20.940250888038602,46.984392750117699]
["ECBCOM201903Lanarkshire",88,166835.06849315099,52.746704152078699,42.3030049766055,64.986361481099905]
["ECBCOM201903Lothian",62,228759.89041095899,27.102653305445799,20.778247417752802,34.745100967919797]
["ECBCOM201903Orkney",2,5613.2602739725999,35.629917416684599,4.0014776458116801,128.64147903468901]
["ECBCOM201903Shetland",2,5777.0958904109602,34.619470369527299,3.8879976951233099,124.99326955072]
["ECBCOM201903Tayside",51,105225.315068493,48.467424371029999,36.084291884736103,63.727319711091098]
["ECBCOM201903Western Isles",5,6734.9041095890398,74.240106743035696,23.924763220018502,173.251190812451]
["ECBCOM201904Ayrshire & Arran",41,93098.958904109604,44.039160569163101,31.599586958433399,59.745949773999399]
["ECBCOM201904Borders",12,29114.849315068499,41.216081423403999,21.272408113293,72.001185351352802]
["ECBCOM201904Dumfries & Galloway",21,37520.876712328798,55.968841455934701,34.632124302099399,85.558921904261794]
["ECBCOM201904Fife",34,94155.068493150698,36.110642309684401,25.003631834299899,50.462860350892797]
["ECBCOM201904Forth Valley",53,77290.082191780806,68.572834310733995,51.361904047707299,89.697134855404698]
["ECBCOM201904Grampian",38,147628.49315068501,25.740288469389998,18.2129422430387,35.331733963958101]
["ECBCOM201904Greater Glasgow & Clyde",125,298211.06849315099,41.9166198731725,34.890351058498602,49.942267209831897]
["ECBCOM201904Highland",43,81086.027397260303,53.030098255193202,38.374034900244901,71.433316364627998]
["ECBCOM201904Lanarkshire",73,166835.06849315099,43.755788671610702,34.296033127580799,55.017305272891498]
["ECBCOM201904Lothian",63,228759.89041095899,27.539792874888501,21.161141155883399,35.236079565859498]
["ECBCOM201904Orkney",2,5613.2602739725999,35.629917416684599,4.0014776458116801,128.64147903468901]
["ECBCOM201904Shetland",4,5777.0958904109602,69.238940739054598,18.627358970463799,177.26696623708401]
["ECBCOM201904Tayside",54,105225.315068493,51.318449334031797,38.549194969819403,66.961041720124598]
["ECBCOM201904Western Isles",5,6734.9041095890398,74.240106743035696,23.924763220018502,173.251190812451]
["ECBCOM202001Ayrshire & Arran",52,91835.409836065606,56.623039079179399,42.285517362822198,74.255420434065101]
["ECBCOM202001Borders",13,28719.699453551901,45.265097641515297,24.078092127838399,77.409968956004704]
["ECBCOM202001Dumfries & Galloway",20,37011.639344262301,54.037055246245103,32.993169529164902,83.460485359618701]
["ECBCOM202001Fife",31,92877.185792349701,33.377410970771997,22.674014416496099,47.378459355029001]
["ECBCOM202001Forth Valley",39,76241.092896174901,51.153516454847001,36.3705365924219,69.930815772714595]
["ECBCOM202001Grampian",48,145624.863387978,32.961404311925101,24.300981481202399,43.703209219599202]
["ECBCOM202001Greater Glasgow & Clyde",95,294163.71584699501,32.294941518012699,26.1277717973656,39.479422895767001]
["ECBCOM202001Highland",20,79985.519125683102,25.004526092496199,15.266904619557,38.6196078664372]
["ECBCOM202001Lanarkshire",76,164570.76502732199,46.180741754091201,36.383659909051403,57.803063120971103]
["ECBCOM202001Lothian",70,225655.136612022,31.020787317752902,24.1810784867838,39.193619870413798]
["ECBCOM202001Orkney",3,5537.0765027322404,54.180215832663102,10.889341453996501,158.30530634918401]
["ECBCOM202001Shetland",1,5698.6885245901603,17.547897129049002,0.229353374453239,97.633978509734604]
["ECBCOM202001Tayside",41,103797.18579235001,39.5001075289479,28.342662907213899,53.588020525182003]
["ECBCOM202001Western Isles",5,6643.4972677595597,75.261564782522896,24.253940302407401,175.63492690160601]
["ECBCOM202002Ayrshire & Arran",45,91835.409836065606,49.000706895443699,35.7379117691478,65.568666910943506]
["ECBCOM202002Borders",7,28719.699453551901,24.3735141146621,9.7646526737298007,50.221324501027603]
["ECBCOM202002Dumfries & Galloway",22,37011.639344262301,59.440760770869602,37.237931891058899,89.998715179423598]
["ECBCOM202002Fife",36,92877.185792349701,38.760864353154503,27.143670665079799,53.663251675875102]
["ECBCOM202002Forth Valley",29,76241.092896174901,38.037230184373399,25.4686626432674,54.6301104921369]
["ECBCOM202002Grampian",45,145624.863387978,30.901316542429701,22.537399848134601,41.349569421591497]
["ECBCOM202002Greater Glasgow & Clyde",111,294163.71584699501,37.734089563151699,31.040953233762199,45.442098555334901]
["ECBCOM202002Highland",26,79985.519125683102,32.505883920245097,21.2283645311466,47.630843675507002]
["ECBCOM202002Lanarkshire",70,164570.76502732199,42.534893720873498,33.156463533819597,53.7412683517]
["ECBCOM202002Lothian",48,225655.136612022,21.271397017887701,15.6824575833979,28.203540888868499]
["ECBCOM202002Orkney",1,5537.0765027322404,18.060071944221001,0.23604756813957001,100.483645596907]
["ECBCOM202002Shetland",2,5698.6885245901603,35.095794258097897,3.94149204847785,126.713032434498]
["ECBCOM202002Tayside",41,103797.18579235001,39.5001075289479,28.342662907213899,53.588020525182003]
["ECBCOM202002Western Isles",5,6643.4972677595597,75.261564782522896,24.253940302407401,175.63492690160601]
["ECBCOM202003Ayrshire & Arran",64,92844.590163934394,68.932395400740205,53.083430444697498,88.026903351915493]
["ECBCOM202003Borders",8,29035.300546448099,27.552668129617999,11.8636022318739,54.293074964948801]
["ECBCOM202003Dumfries & Galloway",23,37418.360655737699,61.467150342603802,38.952115995747498,92.235561545330299]
["ECBCOM202003Fife",44,93897.814207650299,46.859450745782198,34.044643675772399,62.9084541240234]
["ECBCOM202003Forth Valley",56,77078.907103825099,72.652820472101496,54.877404012958998,94.347901851852299]
["ECBCOM202003Grampian",39,147225.136612022,26.4900416447061,18.834619704473301,36.2139369969344]
["ECBCOM202003Greater Glasgow & Clyde",106,297396.28415300499,35.642678018621403,29.1805825635182,43.109310852097799]
["ECBCOM202003Highland",32,80864.480874316898,39.572380424646198,27.0626109086489,55.8665613132072]
["ECBCOM202003Lanarkshire",112,166379.23497267801,67.316092671295394,55.426601019129102,80.999672169629093]
["ECBCOM202003Lothian",83,228134.863387978,36.381988604190603,28.9770039026162,45.101646417605799]
["ECBCOM202003Orkney",1,5597.9234972677596,17.863766814392498,0.233481833703271,99.391432057810107]
["ECBCOM202003Shetland",1,5761.3114754098397,17.3571591167767,0.22686040299179,96.572739612889606]
["ECBCOM202003Tayside",39,104937.81420764999,37.164867873869603,26.424501786739199,50.807250578735001]
["ECBCOM202003Western Isles",6,6716.5027322404403,89.332205154907598,32.620261288166603,194.444873907188]
["SABCAUN201404Ayrshire & Arran",7,93547.616438356199,7.4828202647073301,2.9978090381665501,15.4182586445616]
["SABCAUN201404Borders",2,28744.328767123301,6.9578942552575,0.78141798642779903,25.121411242568499]
["SABCAUN201404Dumfries & Galloway",2,37798.136986301397,5.2912660767509001,0.59424451301831305,19.104066004951399]
["SABCAUN201404Fife",9,92567.123287671202,9.7226744013969899,4.4365870275123198,18.4578961232674]
["SABCAUN201404Forth Valley",9,75717.260273972599,11.886325479071401,5.4238900993804897,22.565453899034502]
["SABCAUN201404Grampian",12,147255.45205479499,8.1491040450812893,4.2059084953724097,14.2358305431768]
["SABCAUN201404Greater Glasgow & Clyde",15,287995.287671233,5.2084185547936999,2.9129536787068102,8.5910516756635094]
["SABCAUN201404Highland",1,80841.534246575306,1.2369879039528,1.6167598193846399E-2,6.8824229788424303]
["SABCAUN201404Lanarkshire",17,164667.39726027401,10.3238408348252,6.0105240848210402,16.5304797248908]
["SABCAUN201404Lothian",32,216293.26027397299,14.794728212736,10.117763167745199,20.886552235161499]
["SABCAUN201404Orkney",0,5439.3424657534197,0,0,67.436413786226595]
["SABCAUN201404Shetland",0,5852.7123287671202,0,0,62.673462941721297]
["SABCAUN201404Tayside",13,104300.273972603,12.464013280938101,6.6300455692771996,21.315294375058102]
["SABCAUN201404Western Isles",0,6868.4931506849298,0,0,53.404690257129097]
["SABCAUN201501Ayrshire & Arran",9,91378.3561643836,9.8491594484470699,4.49430385477089,18.698020163548101]
["SABCAUN201501Borders",6,28116.9863013699,21.339413604607,7.7922317747721701,46.448417795194104]
["SABCAUN201501Dumfries & Galloway",1,36904.931506849302,2.7096649666302901,3.5415685376089301E-2,15.0761865752344]
["SABCAUN201501Fife",6,90759.452054794499,6.6108816923857097,2.4140083386146198,14.389570422696099]
["SABCAUN201501Forth Valley",6,74626.027397260303,8.0400903133432493,2.9358935710466598,17.500456240495598]
["SABCAUN201501Grampian",9,144941.917808219,6.2093838249804403,2.8334253096858601,11.788131217735501]
["SABCAUN201501Greater Glasgow & Clyde",26,283534.52054794499,9.1699592521410196,5.9885538943603702,13.436733384058799]
["SABCAUN201501Highland",6,79150.684931506898,7.5804776739356203,2.7680628949447699,16.500040751358199]
["SABCAUN201501Lanarkshire",12,161381.095890411,7.4358151639699104,3.8377664581466302,12.9897721318889]
["SABCAUN201501Lothian",35,213978.082191781,16.356815446467401,11.3913737404818,22.749186756162999]
["SABCAUN201501Orkney",0,5343.2876712328798,0,0,68.648699417844796]
["SABCAUN201501Shetland",1,5720.5479452054797,17.480842911877399,0.22847696682065899,97.260898479109201]
["SABCAUN201501Tayside",9,102338.630136986,8.7943330763299894,4.0129724015505603,16.695497524116501]
["SABCAUN201501Western Isles",0,6674.79452054795,0,0,54.954463109889097]
["SABCAUN201502Ayrshire & Arran",4,92393.671232876703,4.3293008564602502,1.1647122310600899,11.083965476084099]
["SABCAUN201502Borders",2,28429.397260274,7.0349715180023003,0.79007427771993699,25.399697968958499]
["SABCAUN201502Dumfries & Galloway",1,37314.9863013699,2.6798884285354498,3.5026502020308103E-2,14.910514195286799]
["SABCAUN201502Fife",11,91767.890410958906,11.986763508171901,5.9755270328584702,21.449126215353498]
["SABCAUN201502Forth Valley",10,75455.205479452095,13.2528961208955,6.3446652687696901,24.374232045606099]
["SABCAUN201502Grampian",13,146552.383561644,8.8705483214006193,4.7185555943931998,15.1699412121134]
["SABCAUN201502Greater Glasgow & Clyde",23,286684.904109589,8.0227454150177202,5.0840637359679404,12.038664951358401]
["SABCAUN201502Highland",3,80030.136986301397,3.7485878607373899,0.75340514168397299,10.9527313716073]
["SABCAUN201502Lanarkshire",23,163174.21917808201,14.095363909723201,8.9323198969459892,21.151034302919101]
["SABCAUN201502Lothian",28,216355.616438356,12.9416561774248,8.5976698149927202,18.7051080167113]
["SABCAUN201502Orkney",0,5402.6575342465803,0,0,67.894318105560799]
["SABCAUN201502Shetland",2,5784.1095890410998,34.5774914740432,3.8832831848450202,124.841705146566]
["SABCAUN201502Tayside",11,103475.726027397,10.6305125098494,5.2994217190018897,19.0222493671629]
["SABCAUN201502Western Isles",0,6748.9589041095896,0,0,54.350567910879299]
["SABCAUN201503Ayrshire & Arran",5,93408.986301369907,5.3528040480690597,1.72500518966754,12.4916263755328]
["SABCAUN201503Borders",2,28741.8082191781,6.9585044362848798,0.781486513831677,25.1236142953829]
["SABCAUN201503Dumfries & Galloway",0,37725.041095890403,0,0,9.7232431984149699]
["SABCAUN201503Fife",14,92776.328767123297,15.0900560369674,8.2428791399365995,25.320236529716201]
["SABCAUN201503Forth Valley",8,76284.383561643801,10.4870743217521,4.5155147132783497,20.664986404776499]
["SABCAUN201503Grampian",8,148162.84931506799,5.3994641956351597,2.3248962743249502,10.639750494038299]
["SABCAUN201503Greater Glasgow & Clyde",31,289835.287671233,10.695730064161101,7.2658462899386302,15.1823403127633]
["SABCAUN201503Highland",4,80909.589041095896,4.9437897873493197,1.33002824798452,12.6571927294516]
["SABCAUN201503Lanarkshire",14,164967.342465753,8.4865281762699993,4.6357300399209498,14.239900780543501]
["SABCAUN201503Lothian",17,218733.150684931,7.7720272152469496,4.5248621624954897,12.4445291591048]
["SABCAUN201503Orkney",0,5462.0273972602699,0,0,67.156336387022094]
["SABCAUN201503Shetland",1,5847.6712328767098,17.1008245877061,0.223510076237601,95.146531120867706]
["SABCAUN201503Tayside",8,104612.821917808,7.6472461533304301,3.29274414026044,15.069049092631101]
["SABCAUN201503Western Isles",1,6823.1232876712302,14.656044714990101,0.19155647464766701,81.544127151981201]
["SABCAUN201504Ayrshire & Arran",3,93408.986301369907,3.2116824288414398,0.64549588944921299,9.3839857036435994]
["SABCAUN201504Borders",4,28741.8082191781,13.9170088725698,3.7440942524162901,35.630613576725104]
["SABCAUN201504Dumfries & Galloway",4,37725.041095890403,10.603036825944599,2.85253602995276,27.146113891587898]
["SABCAUN201504Fife",7,92776.328767123297,7.5450280184836904,3.0227310541869499,15.546436952137]
["SABCAUN201504Forth Valley",2,76284.383561643801,2.62176858043801,0.29444211852709801,9.4658706033454898]
["SABCAUN201504Grampian",11,148162.84931506799,7.4242632689983497,3.7010729237056399,13.284983874437399]
["SABCAUN201504Greater Glasgow & Clyde",35,289835.287671233,12.0758242659884,8.4099639008864404,16.795150765175599]
["SABCAUN201504Highland",6,80909.589041095896,7.4156846810239703,2.7078876146198798,16.141344213285201]
["SABCAUN201504Lanarkshire",10,164967.342465753,6.0618058401928598,2.9020169349745299,11.148647119576699]
["SABCAUN201504Lothian",16,218733.150684931,7.3148491437618404,4.1783377196273399,11.8796054251881]
["SABCAUN201504Orkney",0,5462.0273972602699,0,0,67.156336387022094]
["SABCAUN201504Shetland",1,5847.6712328767098,17.1008245877061,0.223510076237601,95.146531120867706]
["SABCAUN201504Tayside",4,104612.821917808,3.8236230766652102,1.0286696887119999,9.7893187792838301]
["SABCAUN201504Western Isles",1,6823.1232876712302,14.656044714990101,0.19155647464766701,81.544127151981201]
["SABCAUN201601Ayrshire & Arran",6,92133.770491803298,6.5122701133063803,2.3779996509299499,14.174927606853601]
["SABCAUN201601Borders",2,28476.038251366099,7.0234489164027298,0.78878021261776299,25.358095725126201]
["SABCAUN201601Dumfries & Galloway",5,37175.737704918,13.4496322297285,4.33430500856291,31.3868729722506]
["SABCAUN201601Fife",6,92076.584699453597,6.5163146739038504,2.37947654969514,14.183731196488701]
["SABCAUN201601Forth Valley",5,75704.043715847001,6.6046670092912896,2.1284330165538798,15.4130492866885]
["SABCAUN201601Grampian",9,146221.58469945399,6.1550420332940297,2.8086284196436502,11.6849666865901]
["SABCAUN201601Greater Glasgow & Clyde",37,288755.92896174901,12.8135897098415,9.0206948267846307,17.662448321103401]
["SABCAUN201601Highland",9,80035.245901639297,11.2450457278043,5.1312655284014603,21.348023946516399]
["SABCAUN201601Lanarkshire",22,163225.655737705,13.478273314676001,8.4437516813706708,20.407331020440498]
["SABCAUN201601Lothian",25,218797.81420764999,11.426073926073901,7.3922727592736504,16.867939369786999]
["SABCAUN201601Orkney",0,5432.6502732240397,0,0,67.519485112715699]
["SABCAUN201601Shetland",4,5768.3060109289599,69.344448654793496,18.6557437753108,177.53708978226501]
["SABCAUN201601Tayside",8,103299.918032787,7.7444398333993201,3.3345937046788401,15.26057115261]
["SABCAUN201601Western Isles",1,6688.2513661202202,14.951591159769601,0.19541930641145799,83.188505109409505]
["SABCAUN201602Ayrshire & Arran",6,92133.770491803298,6.5122701133063803,2.3779996509299499,14.174927606853601]
["SABCAUN201602Borders",7,28476.038251366099,24.582071207409498,9.8482059752250795,50.651053812221299]
["SABCAUN201602Dumfries & Galloway",1,37175.737704918,2.68992644594571,3.5157700257278199E-2,14.966364281989801]
["SABCAUN201602Fife",10,92076.584699453597,10.860524456506401,5.1993459913397597,19.9742713460566]
["SABCAUN201602Forth Valley",4,75704.043715847001,5.2837336074330299,1.42148336701002,13.5275239193003]
["SABCAUN201602Grampian",9,146221.58469945399,6.1550420332940297,2.8086284196436502,11.6849666865901]
["SABCAUN201602Greater Glasgow & Clyde",35,288755.92896174901,12.1209632390393,8.4414000269445495,16.857930401668899]
["SABCAUN201602Highland",6,80035.245901639297,7.4966971518695704,2.7374698684330601,16.317679944068601]
["SABCAUN201602Lanarkshire",15,163225.655737705,9.1897318054609105,5.1396144122112704,15.1580484547541]
["SABCAUN201602Lothian",18,218797.81420764999,8.2267732267732292,4.8731688779859299,13.002618643045301]
["SABCAUN201602Orkney",0,5432.6502732240397,0,0,67.519485112715699]
["SABCAUN201602Shetland",0,5768.3060109289599,0,0,63.590549556587902]
["SABCAUN201602Tayside",9,103299.918032787,8.7124948125742403,3.9756285016786501,16.540132641065899]
["SABCAUN201602Western Isles",1,6688.2513661202202,14.951591159769601,0.19541930641145799,83.188505109409505]
["SABCAUN201603Ayrshire & Arran",15,93146.229508196702,16.103711421491301,9.0064507935699094,26.562346235532999]
["SABCAUN201603Borders",4,28788.961748633901,13.8942141607097,3.73796178886453,35.572254084587499]
["SABCAUN201603Dumfries & Galloway",0,37584.262295082,0,0,9.7596634028796707]
["SABCAUN201603Fife",6,93088.415300546403,6.44548516657881,2.3536126741549701,14.0295602052225]
["SABCAUN201603Forth Valley",1,76535.956284152999,1.3065754300989301,1.7077116515278001E-2,7.2695979766402701]
["SABCAUN201603Grampian",9,147828.41530054601,6.0881394024973599,2.7780998498649101,11.557956179127199]
["SABCAUN201603Greater Glasgow & Clyde",31,291929.07103825099,10.619017794201801,7.2137339461590901,15.073449027951501]
["SABCAUN201603Highland",9,80914.754098360703,11.1228169698934,5.0754909030927404,21.115980207967301]
["SABCAUN201603Lanarkshire",13,165019.344262295,7.8778642941016299,4.1905121633940201,13.4723056443099]
["SABCAUN201603Lothian",23,221202.18579235001,10.3977272727273,6.5891045308261003,15.6024837404976]
["SABCAUN201603Orkney",0,5492.3497267759603,0,0,66.785577665838403]
["SABCAUN201603Shetland",1,5831.6939890710401,17.147676161919001,0.22412243261085499,95.407206548596207]
["SABCAUN201603Tayside",13,104435.081967213,12.447924351781801,6.6214873038884603,21.287779941832198]
["SABCAUN201603Western Isles",2,6761.7486338797798,29.5781477291094,3.3218234990105202,106.79162195299899]
["SABCAUN201604Ayrshire & Arran",10,93146.229508196702,10.7358076143276,5.1396392970606701,19.744896783430299]
["SABCAUN201604Borders",2,28788.961748633901,6.9471070803548702,0.78020651465452695,25.0824642498531]
["SABCAUN201604Dumfries & Galloway",5,37584.262295082,13.3034405750576,4.2871929976002701,31.0457113095088]
["SABCAUN201604Fife",7,93088.415300546403,7.5197326943419398,3.0125971008574601,15.4943162494716]
["SABCAUN201604Forth Valley",4,76535.956284152999,5.2263017203957096,1.4060324608468699,13.380485615829601]
["SABCAUN201604Grampian",16,147828.41530054601,10.823358937773101,6.1824445062315601,17.577564626275102]
["SABCAUN201604Greater Glasgow & Clyde",28,291929.07103825099,9.5913709108919694,6.3719387251859603,13.8628029099964]
["SABCAUN201604Highland",11,80914.754098360703,13.5945540743142,6.7770274532687296,24.326108209494802]
["SABCAUN201604Lanarkshire",12,165019.344262295,7.2718747330168902,3.7531536654437998,12.703381360423499]
["SABCAUN201604Lothian",25,221202.18579235001,11.3018774703557,7.3119219684119798,16.684592202724101]
["SABCAUN201604Orkney",0,5492.3497267759603,0,0,66.785577665838403]
["SABCAUN201604Shetland",2,5831.6939890710401,34.295352323838102,3.8515970742837502,123.82304441964099]
["SABCAUN201604Tayside",13,104435.081967213,12.447924351781801,6.6214873038884603,21.287779941832198]
["SABCAUN201604Western Isles",0,6761.7486338797798,0,0,54.247764758311099]
["SABCAUN201701Ayrshire & Arran",6,91333.972602739697,6.5692970852118799,2.3988234369408801,14.2990553202829]
["SABCAUN201701Borders",2,28361.095890411001,7.0519136768484696,0.79197699529017196,25.4608674728483]
["SABCAUN201701Dumfries & Galloway",10,36789.041095890403,27.182007745010399,13.013060609694399,49.992134413378302]
["SABCAUN201701Fife",7,91580.547945205501,7.64354457039091,3.0621993026907099,15.7494290893717]
["SABCAUN201701Forth Valley",7,75348.493150684895,9.2901658776388807,3.7218778814462898,19.142271935609401]
["SABCAUN201701Grampian",17,144586.849315069,11.757639149432899,6.8452792346345301,18.826270056068001]
["SABCAUN201701Greater Glasgow & Clyde",28,288273.69863013702,9.7129915538790694,6.4527362766550098,14.038586228062201]
["SABCAUN201701Highland",10,79394.794520547905,12.5952841875697,6.0298414328594196,23.164776715041]
["SABCAUN201701Lanarkshire",15,162278.630136986,9.2433612406869994,5.16960817307847,15.246507791214301]
["SABCAUN201701Lothian",30,219316.438356164,13.6788652163322,9.2272095596093795,19.528230991638701]
["SABCAUN201701Orkney",0,5424.6575342465803,0,0,67.618968926577196]
["SABCAUN201701Shetland",1,5690.9589041095896,17.571731176583899,0.22966488865854801,97.766587725967696]
["SABCAUN201701Tayside",7,102597.534246575,6.8227760553939998,2.7333784590169401,14.0582457114651]
["SABCAUN201701Western Isles",2,6645.20547945206,30.096887239744401,3.38008140995457,108.66452603810799]
["SABCAUN201702Ayrshire & Arran",8,92348.794520547905,8.6628093431365496,3.7300243945179701,17.070236351026399]
["SABCAUN201702Borders",3,28676.2191780822,10.46163017994,2.1026173750700301,30.567090682367901]
["SABCAUN201702Dumfries & Galloway",5,37197.8082191781,13.441652181598601,4.3317333425137896,31.368250250626001]
["SABCAUN201702Fife",16,92598.109589041094,17.2789704573986,9.8699744313996707,28.061734036228302]
["SABCAUN201702Forth Valley",3,76185.698630137005,3.9377469183084699,0.79142303318461704,11.5054217235616]
["SABCAUN201702Grampian",9,146193.369863014,6.1562299360314299,2.8091704756312401,11.6872218464799]
["SABCAUN201702Greater Glasgow & Clyde",33,291476.73972602701,11.321658129914001,7.79198170757748,15.900418037224201]
["SABCAUN201702Highland",7,80276.958904109604,8.7198121298559208,3.4933795934251002,17.967065089643999]
["SABCAUN201702Lanarkshire",10,164081.726027397,6.0945238949584599,2.9176803117820902,11.208820945106099]
["SABCAUN201702Lothian",20,221753.287671233,9.0190320107684805,5.5067111034131804,13.929937256249399]
["SABCAUN201702Orkney",1,5484.9315068493197,18.2317682317682,0.23829166169906901,101.438939073117]
["SABCAUN201702Shetland",0,5754.1917808219196,0,0,63.746528307950697]
["SABCAUN201702Tayside",10,103737.506849315,9.6397149919224496,4.6148980835712203,17.729004130362899]
["SABCAUN201702Western Isles",1,6719.0410958904104,14.8830761075659,0.19452380546862799,82.807297202544405]
["SABCAUN201703Ayrshire & Arran",15,93363.616438356199,16.066215697529099,8.9854802617467406,26.500498728696201]
["SABCAUN201703Borders",7,28991.342465753401,24.1451392196442,9.6731598541569603,49.750760853265398]
["SABCAUN201703Dumfries & Galloway",3,37606.575342465803,7.9773283599487099,1.60331314792885,23.3083864739496]
["SABCAUN201703Fife",11,93615.671232876703,11.7501694482717,5.8575824183857401,21.025764575729799]
["SABCAUN201703Forth Valley",6,77022.904109588999,7.78989064274068,2.8445314624418501,16.955859324774401]
["SABCAUN201703Grampian",12,147799.89041095899,8.1190858576646399,4.1904155345790599,14.183391179669799]
["SABCAUN201703Greater Glasgow & Clyde",25,294679.78082191799,8.4837853246226302,5.4887142824816699,12.5243349034759]
["SABCAUN201703Highland",9,81159.123287671202,11.0893262955776,5.0602086582002599,21.052400233764899]
["SABCAUN201703Lanarkshire",15,165884.821917808,9.0424186050198898,5.0572253867072003,14.9150619696661]
["SABCAUN201703Lothian",13,224190.13698630099,5.7986493851842997,3.0845048699386202,9.9165425964349208]
["SABCAUN201703Orkney",0,5545.20547945205,0,0,66.148991341216799]
["SABCAUN201703Shetland",0,5817.4246575342504,0,0,63.053631261125197]
["SABCAUN201703Tayside",11,104877.47945205501,10.4884290292547,5.2285916172286004,18.768005049560902]
["SABCAUN201703Western Isles",0,6792.8767123287698,0,0,53.999176605074901]
["SABCAUN201704Ayrshire & Arran",6,93363.616438356199,6.4264862790116197,2.3466751013552098,13.988206291581101]
["SABCAUN201704Borders",2,28991.342465753401,6.8986112056126299,0.77476010408821205,24.9073703538734]
["SABCAUN201704Dumfries & Galloway",6,37606.575342465803,15.9546567198974,5.8259512352076497,34.727690968261001]
["SABCAUN201704Fife",13,93615.671232876703,13.886563893412101,7.3867501051853903,23.748064975092301]
["SABCAUN201704Forth Valley",5,77022.904109588999,6.4915755356172298,2.09198793520157,15.1491322027249]
["SABCAUN201704Grampian",17,147799.89041095899,11.502038298358199,6.6964688164902997,18.417003315718699]
["SABCAUN201704Greater Glasgow & Clyde",28,294679.78082191799,9.5018395635773505,6.3124594010755501,13.7333995709305]
["SABCAUN201704Highland",2,81159.123287671202,2.4642947323505902,0.27675675385020099,8.8973127677956292]
["SABCAUN201704Lanarkshire",10,165884.821917808,6.0282790700132596,2.8859663953496799,11.0869859348332]
["SABCAUN201704Lothian",17,224190.13698630099,7.5828491960102404,4.4147230137878299,12.141618308247899]
["SABCAUN201704Orkney",0,5545.20547945205,0,0,66.148991341216799]
["SABCAUN201704Shetland",0,5817.4246575342504,0,0,63.053631261125197]
["SABCAUN201704Tayside",25,104877.47945205501,23.837338702851699,15.4219297622922,35.190283782361199]
["SABCAUN201704Western Isles",1,6792.8767123287698,14.721303541179299,0.19240941627875099,81.907217885125505]
["SABCAUN201801Ayrshire & Arran",9,91151.506849315105,9.8736711120729304,4.5054888563841899,18.744554041196999]
["SABCAUN201801Borders",3,28422.739726027401,10.5549290072583,2.1213689206722899,30.839693868118498]
["SABCAUN201801Dumfries & Galloway",7,36687.945205479497,19.079836607896301,7.64387017280972,39.3137674446101]
["SABCAUN201801Fife",13,91703.835616438402,14.1760700766912,7.5407485922267696,24.2431630932427]
["SABCAUN201801Forth Valley",6,75469.315068493204,7.95025103189902,2.9030881474083401,17.304907639383099]
["SABCAUN201801Grampian",15,144135.616438356,10.4068656801528,5.8203305567498704,17.165655927862201]
["SABCAUN201801Greater Glasgow & Clyde",18,289721.095890411,6.2128717084546103,3.68022458113089,9.8195974626234097]
["SABCAUN201801Highland",12,79347.945205479497,15.123264967889,7.8054063679067403,26.419129778123001]
["SABCAUN201801Lanarkshire",13,162542.465753425,7.9979099244875904,4.2543686421951703,13.677601313725599]
["SABCAUN201801Lothian",24,221367.94520547899,10.841678083844799,6.9443612445742096,16.132346896097701]
["SABCAUN201801Orkney",0,5471.5068493150702,0,0,67.039987218778606]
["SABCAUN201801Shetland",1,5668.7671232876701,17.640520032864501,0.230563968257472,98.149319039379506]
["SABCAUN201801Tayside",13,102595.068493151,12.671174346813601,6.7402418019012202,21.669570241318802]
["SABCAUN201801Western Isles",1,6615.61643835616,15.115749368451601,0.197564876266839,84.101857797813395]
["SABCAUN201802Ayrshire & Arran",9,92164.301369862995,9.7651692317204795,4.4559779898305196,18.538569930854202]
["SABCAUN201802Borders",3,28738.547945205501,10.4389407764093,2.0980571742912701,30.500796133304]
["SABCAUN201802Dumfries & Galloway",5,37095.589041095896,13.4786914812454,4.3436697002692304,31.454687394269801]
["SABCAUN201802Fife",6,92722.767123287704,6.4709026554634397,2.3628940428088399,14.0848851623602]
["SABCAUN201802Forth Valley",13,76307.863013698603,17.036252211212201,9.0621797284811105,29.134494864914998]
["SABCAUN201802Grampian",9,145737.12328767101,6.1755027112994796,2.8179649020625201,11.723810018542199]
["SABCAUN201802Greater Glasgow & Clyde",16,292940.21917808201,5.4618652382018604,3.1198890224226399,8.8702859949918693]
["SABCAUN201802Highland",10,80229.589041095896,12.4642293691393,5.9671005083690103,22.923745582979102]
["SABCAUN201802Lanarkshire",13,164348.49315068501,7.9100208044382798,4.2076173384347904,13.5272980025858]
["SABCAUN201802Lothian",21,223827.58904109601,9.3822214187118291,5.8054848010114402,14.342493586973101]
["SABCAUN201802Orkney",0,5532.3013698630102,0,0,66.303284062528306]
["SABCAUN201802Shetland",0,5731.7534246575296,0,0,63.996079745432901]
["SABCAUN201802Tayside",18,103735.01369863001,17.3519040083162,10.278484194986399,27.425113629801601]
["SABCAUN201802Western Isles",0,6689.1232876712302,0,0,54.836745186265503]
["SABCAUN201803Ayrshire & Arran",17,93177.095890411001,18.244827054917401,10.622109948368999,29.213521260235201]
["SABCAUN201803Borders",3,29054.3561643836,10.3254740288397,2.0752522050055,30.169265740550699]
["SABCAUN201803Dumfries & Galloway",4,37503.232876712304,10.6657471721159,2.8694070004908201,27.306666215162]
["SABCAUN201803Fife",8,93741.698630137005,8.5340890093793096,3.6746001128598098,16.816590399305198]
["SABCAUN201803Forth Valley",6,77146.410958904104,7.7774194877273004,2.8399775355081598,16.9287139950487]
["SABCAUN201803Grampian",15,147338.630136986,10.180629469714701,5.6938016316031304,16.7924894946478]
["SABCAUN201803Greater Glasgow & Clyde",23,296159.34246575303,7.76608963556827,4.9214193700526296,11.6535358245089]
["SABCAUN201803Highland",9,81111.232876712296,11.0958737536142,5.0631963513172797,21.0648301779676]
["SABCAUN201803Lanarkshire",13,166154.52054794499,7.8240423174335199,4.1618823673648402,13.3802621547316]
["SABCAUN201803Lothian",18,226287.23287671199,7.9544920723861203,4.7118818203455,12.5722715413819]
["SABCAUN201803Orkney",0,5593.0958904109602,0,0,65.582596192283404]
["SABCAUN201803Shetland",0,5794.7397260274001,0,0,63.3004701829826]
["SABCAUN201803Tayside",15,104874.95890411,14.302746963376601,7.9992110742011402,23.591736526861101]
["SABCAUN201803Western Isles",1,6762.6301369863004,14.7871461213113,0.19326998765234199,82.273556541339204]
["SABCAUN201804Ayrshire & Arran",7,93177.095890411001,7.5125758461424503,3.0097298845595599,15.4795696522374]
["SABCAUN201804Borders",3,29054.3561643836,10.3254740288397,2.0752522050055,30.169265740550699]
["SABCAUN201804Dumfries & Galloway",3,37503.232876712304,7.9993103790869498,1.6077311759593,23.372614167036001]
["SABCAUN201804Fife",12,93741.698630137005,12.801133514069001,6.6069099006922896,22.362552552861601]
["SABCAUN201804Forth Valley",4,77146.410958904104,5.1849463251515404,1.3949066148365701,13.2746066787139]
["SABCAUN201804Grampian",13,147338.630136986,8.8232122070860903,4.6933758559009604,15.0889895002977]
["SABCAUN201804Greater Glasgow & Clyde",16,296159.34246575303,5.4024971377866198,3.0859771852223901,8.77386984287239]
["SABCAUN201804Highland",3,81111.232876712296,3.6986245845380599,0.74336333645427,10.8067472402526]
["SABCAUN201804Lanarkshire",14,166154.52054794499,8.42589172646686,4.602607636268,14.138156343837901]
["SABCAUN201804Lothian",24,226287.23287671199,10.605989429848201,6.7933968696921596,15.781643702704301]
["SABCAUN201804Orkney",1,5593.0958904109602,17.879185688814001,0.23368336046473001,99.477220459852703]
["SABCAUN201804Shetland",0,5794.7397260274001,0,0,63.3004701829826]
["SABCAUN201804Tayside",11,104874.95890411,10.4886811064762,5.2287172803611002,18.768456116784701]
["SABCAUN201804Western Isles",2,6762.6301369863004,29.574292242622601,3.3213905021329202,106.777701755591]
["SABCAUN201901Ayrshire & Arran",11,91075.068493150698,12.0779486439006,6.0209837771389401,21.6122929854224]
["SABCAUN201901Borders",3,28481.917808219201,10.532998585981,2.1169612629719898,30.77561693514]
["SABCAUN201901Dumfries & Galloway",6,36705.205479452103,16.346455282368201,5.96901914065075,35.580499000308897]
["SABCAUN201901Fife",11,92108.219178082203,11.9424738618956,5.9534481807630604,21.369874279468899]
["SABCAUN201901Forth Valley",6,75609.863013698603,7.9354726497956296,2.8976917208363902,17.272740285631301]
["SABCAUN201901Grampian",10,144419.178082192,6.9242881262686602,3.3149199982352799,12.7348923586752]
["SABCAUN201901Greater Glasgow & Clyde",31,291728.21917808201,10.62632887807,7.2187005273349998,15.0838269416308]
["SABCAUN201901Highland",10,79323.287671232902,12.6066383449038,6.0352770996779697,23.185658857556898]
["SABCAUN201901Lanarkshire",16,163208.21917808201,9.8034278424065402,5.5998464945110902,15.9211560338754]
["SABCAUN201901Lothian",23,223786.849315069,10.27763698823,6.5130025696057201,15.4222802535129]
["SABCAUN201901Orkney",0,5491.2328767123299,0,0,66.799161041073106]
["SABCAUN201901Shetland",2,5651.5068493150702,35.388791933294499,3.9743976439038202,127.770897762959]
["SABCAUN201901Tayside",13,102937.808219178,12.6289846509263,6.7177996237695101,21.597419661311999]
["SABCAUN201901Western Isles",2,6588.4931506849298,30.3559547571524,3.40917642209115,109.599886853556]
["SABCAUN201902Ayrshire & Arran",15,92087.013698630093,16.288941727538202,9.1100460203611,26.867875277488199]
["SABCAUN201902Borders",3,28798.383561643801,10.4172513487724,2.09369795238988,30.437423342446198]
["SABCAUN201902Dumfries & Galloway",6,37113.041095890403,16.1668239056389,5.9034255237205198,35.189504505800002]
["SABCAUN201902Fife",9,93131.6438356164,9.66374008804741,4.4096945080997099,18.346012973735402]
["SABCAUN201902Forth Valley",9,76449.972602739697,11.772404480466101,5.37190641632092,22.349181927794401]
["SABCAUN201902Grampian",12,146023.83561643801,8.2178364575496197,4.24138260834345,14.355900549807]
["SABCAUN201902Greater Glasgow & Clyde",18,294969.64383561601,6.1023228580196598,3.6147404353319601,9.6448722691593698]
["SABCAUN201902Highland",6,80204.657534246595,7.4808623145583004,2.7316876700685002,16.2832130579216]
["SABCAUN201902Lanarkshire",11,165021.64383561601,6.6657922829549996,3.3229672008680202,11.927775158403501]
["SABCAUN201902Lothian",31,226273.369863014,13.7002423302254,9.3068780073158308,19.447175665153701]
["SABCAUN201902Orkney",1,5552.2465753424704,18.010727485356998,0.23540262942880599,100.209100117134]
["SABCAUN201902Shetland",2,5714.3013698630102,34.999904109851798,3.9307229445202601,126.36682196336599]
["SABCAUN201902Tayside",10,104081.561643836,9.6078496921671306,4.5996429530101501,17.6703986600299]
["SABCAUN201902Western Isles",0,6661.6986301369898,0,0,55.062495260011303]
["SABCAUN201903Ayrshire & Arran",8,93098.958904109604,8.5930069403245106,3.69996894079947,16.932689342120401]
["SABCAUN201903Borders",2,29114.849315068499,6.8693469039006603,0.77147352759264298,24.801711869989699]
["SABCAUN201903Dumfries & Galloway",3,37520.876712328798,7.9955487794192397,1.60697515565621,23.3616234173941]
["SABCAUN201903Fife",11,94155.068493150698,11.6828548648979,5.82402539422473,20.905311795132601]
["SABCAUN201903Forth Valley",10,77290.082191780806,12.938270624666799,6.1940420811749402,23.795584572435999]
["SABCAUN201903Grampian",6,147628.49315068501,4.06425607411422,1.4840907022246601,8.8464597788365094]
["SABCAUN201903Greater Glasgow & Clyde",17,298211.06849315099,5.7006603027514604,3.31891556614171,9.1278673374392501]
["SABCAUN201903Highland",10,81086.027397260303,12.3325809895798,5.9040754235980204,22.681622795436098]
["SABCAUN201903Lanarkshire",12,166835.06849315099,7.1927323843743602,3.7123067852643401,12.565126031024]
["SABCAUN201903Lothian",15,228759.89041095899,6.5570935416401204,3.6672378674647002,10.815630285039701]
["SABCAUN201903Orkney",0,5613.2602739725999,0,0,65.347005366267098]
["SABCAUN201903Shetland",0,5777.0958904109602,0,0,63.493796226298798]
["SABCAUN201903Tayside",8,105225.315068493,7.6027332346713798,3.2735778091208698,14.981335510109901]
["SABCAUN201903Western Isles",0,6734.9041095890398,0,0,54.463989876750297]
["SABCAUN201904Ayrshire & Arran",9,93098.958904109604,9.6671328078650696,4.4112426517595296,18.352453842511299]
["SABCAUN201904Borders",2,29114.849315068499,6.8693469039006603,0.77147352759264298,24.801711869989699]
["SABCAUN201904Dumfries & Galloway",2,37520.876712328798,5.3303658529461604,0.59863567897505099,19.245235376209301]
["SABCAUN201904Fife",8,94155.068493150698,8.4966217199257397,3.6584674821943302,16.742760367837199]
["SABCAUN201904Forth Valley",14,77290.082191780806,18.113578874533498,9.8944656725406404,30.3935320305829]
["SABCAUN201904Grampian",13,147628.49315068501,8.8058881605807997,4.68416058829931,15.059362834896801]
["SABCAUN201904Greater Glasgow & Clyde",22,298211.06849315099,7.3773250976783604,4.6216825956268304,11.169940822449099]
["SABCAUN201904Highland",10,81086.027397260303,12.3325809895798,5.9040754235980204,22.681622795436098]
["SABCAUN201904Lanarkshire",16,166835.06849315099,9.5903098458324791,5.4781107011521497,15.5750439461825]
["SABCAUN201904Lothian",21,228759.89041095899,9.1799309582961701,5.6803125053554702,14.0332544951061]
["SABCAUN201904Orkney",0,5613.2602739725999,0,0,65.347005366267098]
["SABCAUN201904Shetland",1,5777.0958904109602,17.3097351847636,0.22624056582514601,96.308879668592098]
["SABCAUN201904Tayside",14,105225.315068493,13.3047831606749,7.2676813994487297,22.324652458519001]
["SABCAUN201904Western Isles",0,6734.9041095890398,0,0,54.463989876750297]
["SABCAUN202001Ayrshire & Arran",15,91835.409836065606,16.333568965147901,9.1350050505538594,26.941485894686799]
["SABCAUN202001Borders",3,28719.699453551901,10.4457917634266,2.0994341111635499,30.520813543384399]
["SABCAUN202001Dumfries & Galloway",8,37011.639344262301,21.614822098497999,9.30689000727474,42.5924324652349]
["SABCAUN202001Fife",6,92877.185792349701,6.4601440588590897,2.3589654682066699,14.0614674715451]
["SABCAUN202001Forth Valley",6,76241.092896174901,7.8697717622841497,2.8737005956450599,17.129732500638099]
["SABCAUN202001Grampian",16,145624.863387978,10.987134770641701,6.2759954088666303,17.8435430811172]
["SABCAUN202001Greater Glasgow & Clyde",23,294163.71584699501,7.8187753148872901,4.9548066131688397,11.732594202688199]
["SABCAUN202001Highland",8,79985.519125683102,10.0018104369985,4.3065702408545796,19.708764366723301]
["SABCAUN202001Lanarkshire",19,164570.76502732199,11.5451854385228,6.9476912592037898,18.030271523343298]
["SABCAUN202001Lothian",27,225655.136612022,11.965160822561799,7.8831898272547303,17.409458567000598]
["SABCAUN202001Orkney",3,5537.0765027322404,54.180215832663102,10.889341453996501,158.30530634918401]
["SABCAUN202001Shetland",2,5698.6885245901603,35.095794258097897,3.94149204847785,126.713032434498]
["SABCAUN202001Tayside",13,103797.18579235001,12.524424338446901,6.6621803283747596,21.418606161180701]
["SABCAUN202001Western Isles",0,6643.4972677595597,0,0,55.213351411408603]
["SABCAUN202002Ayrshire & Arran",13,91835.409836065606,14.1557597697949,7.5299448280447603,24.208429483723499]
["SABCAUN202002Borders",5,28719.699453551901,17.4096529390443,5.6104690925489296,40.628216144151303]
["SABCAUN202002Dumfries & Galloway",4,37011.639344262301,10.807411049249,2.9075188471531002,27.669356999520001]
["SABCAUN202002Fife",13,92877.185792349701,13.9969787941947,7.4454836613214104,23.936890681590398]
["SABCAUN202002Forth Valley",11,76241.092896174901,14.427914897520999,7.19246654354545,25.817324872583701]
["SABCAUN202002Grampian",13,145624.863387978,8.9270470011463701,4.7486092226167198,15.266562257312801]
["SABCAUN202002Greater Glasgow & Clyde",14,294163.71584699501,4.7592545394966104,2.5997226166132301,7.9857523623482498]
["SABCAUN202002Highland",9,79985.519125683102,11.2520367416233,5.1344556219845501,21.3612959539435]
["SABCAUN202002Lanarkshire",16,164570.76502732199,9.7222614219139398,5.5534831711333803,15.7893385445087]
["SABCAUN202002Lothian",20,225655.136612022,8.8630820907865306,5.4114934398196102,13.689071873149301]
["SABCAUN202002Orkney",0,5537.0765027322404,0,0,66.246104612161602]
["SABCAUN202002Shetland",0,5698.6885245901603,0,0,64.367397456930107]
["SABCAUN202002Tayside",11,103797.18579235001,10.5975898248397,5.2830094160365499,18.963337482762999]
["SABCAUN202002Western Isles",3,6643.4972677595597,45.156938869513702,9.0758096624439304,131.94083729028199]
["SABCAUN202003Ayrshire & Arran",15,92844.590163934394,16.156030172048499,9.0357115173956704,26.648643656701001]
["SABCAUN202003Borders",1,29035.300546448099,3.4440835162022498,4.5014634547414403E-2,19.162385870724901]
["SABCAUN202003Dumfries & Galloway",3,37418.360655737699,8.0174543925135406,1.6113778273155499,23.425627865113]
["SABCAUN202003Fife",6,93897.814207650299,6.38992510169758,2.33332453920442,13.908625433810901]
["SABCAUN202003Forth Valley",9,77078.907103825099,11.676346147302,5.3280737076231199,22.166821122308502]
["SABCAUN202003Grampian",18,147225.136612022,12.2261730667874,7.2422327009136902,19.323769048835398]
["SABCAUN202003Greater Glasgow & Clyde",27,297396.28415300499,9.0787953443658207,5.9815215327050302,13.2097607152908]
["SABCAUN202003Highland",13,80864.480874316898,16.076279547512499,8.5515366184225705,27.4928005360056]
["SABCAUN202003Lanarkshire",16,166379.23497267801,9.6165846673279205,5.4931192236210604,15.6177152994597]
["SABCAUN202003Lothian",27,228134.863387978,11.835104726664399,7.7975029813063097,17.220225321707101]
["SABCAUN202003Orkney",2,5597.9234972677596,35.727533628785103,4.0124405982659601,128.99392144300299]
["SABCAUN202003Shetland",0,5761.3114754098397,0,0,63.667751832398302]
["SABCAUN202003Tayside",12,104937.81420764999,11.4353439611907,5.9019997840017204,19.976627851832301]
["SABCAUN202003Western Isles",0,6716.5027322404403,0,0,54.613206287371597]
["CDIHCAI201404Ayrshire & Arran",22,116457,18.891092849721399,11.834727883064801,28.602831840660599]
["CDIHCAI201404Borders",3,32633,9.1931480403272801,1.8476731129578099,26.860803237333201]
["CDIHCAI201404Dumfries & Galloway",10,43399,23.042005576165302,11.031084162154899,42.377996898662502]
["CDIHCAI201404Fife",17,99647,17.060222585727601,9.9324350679666296,27.3167388055987]
["CDIHCAI201404Forth Valley",7,87095,8.0372007577932205,3.2199080321240201,16.560552796702598]
["CDIHCAI201404Grampian",23,158181,14.540305093532099,9.2142818962644597,21.818698245602601]
["CDIHCAI201404Greater Glasgow & Clyde",92,477840,19.2533065461242,15.520405220281701,23.612799952697902]
["CDIHCAI201404Highland",15,80452,18.644657684084901,10.4275460233698,30.753522581553501]
["CDIHCAI201404Lanarkshire",33,163546,20.1778093013586,13.8871108075375,28.338216830561599]
["CDIHCAI201404Lothian",74,288140,25.681960158256398,20.1649878945789,32.241909964870402]
["CDIHCAI201404Golden Jubilee",0,12222,0,0,30.012252433770399]
["CDIHCAI201404Orkney",1,4331,23.089355806973,0.30178098431602401,128.465858449205]
["CDIHCAI201404Shetland",0,3359,0,0,109.20206884356701]
["CDIHCAI201404Tayside",23,134798,17.062567693882698,10.8126554150136,25.603521618923601]
["CDIHCAI201404Western Isles",1,8425,11.869436201780401,0.15513512677420799,66.039837738101696]
["CDIHCAI201501Ayrshire & Arran",18,118008,15.2532031726663,9.0353086127048101,24.108065030116201]
["CDIHCAI201501Borders",4,34341,11.647884452986199,3.13363148881733,29.8211543680695]
["CDIHCAI201501Dumfries & Galloway",8,44394,18.020453214398302,7.7592299942778604,35.5096578185819]
["CDIHCAI201501Fife",10,99050,10.095911155981799,4.8332965325932404,18.5680230934382]
["CDIHCAI201501Forth Valley",13,87778,14.810089088382099,7.8780055290215403,25.327428776290599]
["CDIHCAI201501Grampian",24,160859,14.9198987933532,9.5565618303978006,22.200712945692398]
["CDIHCAI201501Greater Glasgow & Clyde",71,480533,14.7752599717397,11.5390656545438,18.637318090226898]
["CDIHCAI201501Highland",9,81010,11.109739538328601,5.0695234952748498,21.091153512819702]
["CDIHCAI201501Lanarkshire",20,161714,12.367513016807401,7.5511785710424197,19.101681880525401]
["CDIHCAI201501Lothian",52,287680,18.0756395995551,13.4987062609317,23.704383231756601]
["CDIHCAI201501Golden Jubilee",0,12254,0,0,29.933878671906498]
["CDIHCAI201501Orkney",0,4585,0,0,80.002126334905498]
["CDIHCAI201501Shetland",0,3528,0,0,103.971017359847]
["CDIHCAI201501Tayside",20,137758,14.5182130983319,8.8643221550657998,22.423448247123901]
["CDIHCAI201501Western Isles",2,8813,22.693747872461099,2.5486594243077398,81.935561539827106]
["CDIHCAI201502Ayrshire & Arran",28,118290,23.6706399526587,15.725371145119601,34.2121495942312]
["CDIHCAI201502Borders",5,32123,15.565171372536801,5.0160628251236599,36.323822712510399]
["CDIHCAI201502Dumfries & Galloway",12,43654,27.488889906995901,14.1875419614964,48.020883813876303]
["CDIHCAI201502Fife",14,94851,14.759991987432899,8.0625830520966595,24.766408248118399]
["CDIHCAI201502Forth Valley",5,85671,5.8362806550641402,1.8808113145807499,13.619896546018699]
["CDIHCAI201502Grampian",22,154379,14.250642898321701,8.9276190743435002,21.5767687811672]
["CDIHCAI201502Greater Glasgow & Clyde",91,454759,20.010599020580099,16.110782196769499,24.568927156706099]
["CDIHCAI201502Highland",20,79471,25.1664129053365,15.3657471459722,38.869642808411697]
["CDIHCAI201502Lanarkshire",27,158944,16.987114958727599,11.1918806460619,24.716464611925201]
["CDIHCAI201502Lothian",57,274583,20.758750541730599,15.721430221561199,26.895977356045002]
["CDIHCAI201502Golden Jubilee",0,11881,0,0,30.873642727509601]
["CDIHCAI201502Orkney",0,4168,0,0,88.006177842020605]
["CDIHCAI201502Shetland",0,3263,0,0,112.414878714539]
["CDIHCAI201502Tayside",26,135612,19.1723446302687,12.520733837809299,28.093220052647901]
["CDIHCAI201502Western Isles",1,8554,11.6904372223521,0.152795586050117,65.043913133447205]
["CDIHCAI201503Ayrshire & Arran",30,114903,26.108978877836101,17.612061796293201,37.2737184275665]
["CDIHCAI201503Borders",4,31173,12.8316171045456,3.4520911993544399,32.8517711530451]
["CDIHCAI201503Dumfries & Galloway",7,42757,16.371588277942799,6.5588766765170998,33.733455243090397]
["CDIHCAI201503Fife",14,93360,14.9957155098543,8.1913460269325196,25.161938611206899]
["CDIHCAI201503Forth Valley",6,85803,6.9927624908219999,2.5534547051777698,15.220790961478899]
["CDIHCAI201503Grampian",22,147944,14.8704915373385,9.3159364697322999,22.515275967040299]
["CDIHCAI201503Greater Glasgow & Clyde",83,439656,18.878395836745099,15.0359936557587,23.402974016170301]
["CDIHCAI201503Highland",19,79641,23.857058550244201,14.356761789791801,37.257889507250603]
["CDIHCAI201503Lanarkshire",33,155047,21.283868762375299,14.648341626278,29.891594224790101]
["CDIHCAI201503Lothian",63,267000,23.595505617977501,18.130413227680599,30.189519475647401]
["CDIHCAI201503Golden Jubilee",0,12077,0,0,30.372588328686099]
["CDIHCAI201503Orkney",2,4206,47.551117451260097,5.3403080138906596,171.682858737636]
["CDIHCAI201503Shetland",4,3047,131.27666557269399,35.317374124540898,336.09723076924001]
["CDIHCAI201503Tayside",23,135107,17.0235443019237,10.7879260484876,25.544964414779798]
["CDIHCAI201503Western Isles",3,8267,36.288859320188699,7.2934700248157904,106.029828479968]
["CDIHCAI201504Ayrshire & Arran",31,117416,26.4018532397629,17.9353635758272,37.476817231657698]
["CDIHCAI201504Borders",2,32713,6.1137773973649603,0.68661802666903404,22.073735330006301]
["CDIHCAI201504Dumfries & Galloway",9,44283,20.3238262990312,9.2740351455912204,38.583527450116897]
["CDIHCAI201504Fife",15,93976,15.9615220907466,8.9269274354318497,26.327811342588902]
["CDIHCAI201504Forth Valley",7,84874,8.2475198529585008,3.3041672368197799,16.993912692094401]
["CDIHCAI201504Grampian",38,149344,25.444611099207201,18.003731111931302,34.9258801525338]
["CDIHCAI201504Greater Glasgow & Clyde",112,447333,25.037276480831999,20.615146825068901,30.126691946761301]
["CDIHCAI201504Highland",13,79839,16.282769072758899,8.6613756350461895,27.8459279691033]
["CDIHCAI201504Lanarkshire",44,158949,27.681835054011,20.1115931942531,37.1626517777906]
["CDIHCAI201504Lothian",61,268100,22.752704214845199,17.402982271377599,29.227418232766301]
["CDIHCAI201504Golden Jubilee",0,12688,0,0,28.9099739317104]
["CDIHCAI201504Orkney",0,3935,0,0,93.217217089083107]
["CDIHCAI201504Shetland",1,3187,31.377470975839302,0.41010776375045499,174.57974049058899]
["CDIHCAI201504Tayside",33,135734,24.312257798340902,16.732590390981802,34.144739046746103]
["CDIHCAI201504Western Isles",1,8107,12.3350191192796,0.161220358094573,68.630274200506605]
["CDIHCAI201601Ayrshire & Arran",29,119132,24.342745861733199,16.2992199789031,34.961717497895698]
["CDIHCAI201601Borders",2,32229,6.2055912377051703,0.69692933402910795,22.4052283300908]
["CDIHCAI201601Dumfries & Galloway",8,45223,17.6901134378524,7.6169926003575901,34.858716785664903]
["CDIHCAI201601Fife",5,94690,5.2803886366036501,1.7016684563464699,12.3226334036748]
["CDIHCAI201601Forth Valley",5,85625,5.8394160583941597,1.88182173584172,13.627213512338299]
["CDIHCAI201601Grampian",30,153525,19.540791402051799,13.181428018755801,27.896838094660001]
["CDIHCAI201601Greater Glasgow & Clyde",72,462860,15.5554595342004,12.1706374012614,19.5898772235468]
["CDIHCAI201601Highland",8,82505,9.6963820374522793,4.1750591644866502,19.106911692601901]
["CDIHCAI201601Lanarkshire",29,158839,18.2574808453843,12.224697174665501,26.2218934201255]
["CDIHCAI201601Lothian",45,272449,16.516852695366801,12.046312425462499,22.101477333999998]
["CDIHCAI201601Golden Jubilee",0,12668,0,0,28.955616454494901]
["CDIHCAI201601Orkney",1,3843,26.0213374967473,0.34010237914980501,144.77898333164401]
["CDIHCAI201601Shetland",0,3146,0,0,116.59559734441901]
["CDIHCAI201601Tayside",18,138172,13.027241409258,7.7167494048582199,20.589877385244101]
["CDIHCAI201601Western Isles",0,7965,0,0,46.052699214757297]
["CDIHCAI201602Ayrshire & Arran",21,116346,18.049610644113201,11.1686492550248,27.592231451099099]
["CDIHCAI201602Borders",2,32572,6.1402431536288802,0.68959030782341002,22.169289692082]
["CDIHCAI201602Dumfries & Galloway",6,43631,13.751690311934199,5.0215230929469401,29.932605873525201]
["CDIHCAI201602Fife",13,93313,13.931606528565201,7.4107098617175797,23.825094500500899]
["CDIHCAI201602Forth Valley",8,84437,9.4745194642159305,4.0795297839332498,18.6697271243427]
["CDIHCAI201602Grampian",21,146297,14.3543613334518,8.8821210703234907,21.943346482905099]
["CDIHCAI201602Greater Glasgow & Clyde",71,450499,15.760301354719999,12.3083554817545,19.8798363011927]
["CDIHCAI201602Highland",9,78289,11.4958678741586,5.2457190454880802,21.824194281106202]
["CDIHCAI201602Lanarkshire",21,149629,14.034712522305201,8.6843303519044905,21.454703034903499]
["CDIHCAI201602Lothian",50,263796,18.954040243218198,14.066889434651999,24.9891817488346]
["CDIHCAI201602Golden Jubilee",0,13158,0,0,27.877317924117801]
["CDIHCAI201602Orkney",2,3801,52.6177321757432,5.9093226799326803,189.97582316508701]
["CDIHCAI201602Shetland",0,2995,0,0,122.474039814872]
["CDIHCAI201602Tayside",24,118332,20.281918669506101,12.9910673315414,30.1793638553488]
["CDIHCAI201602Western Isles",2,6544,30.562347188264098,3.4323556702970901,110.34506476932999]
["CDIHCAI201603Ayrshire & Arran",18,118267,15.2197992677585,9.0155216482033893,24.055269331884201]
["CDIHCAI201603Borders",9,31455,28.6123032904149,13.0561786155529,54.318688477937599]
["CDIHCAI201603Dumfries & Galloway",4,43380,9.2208390963577695,2.4806832401446699,23.6073827144738]
["CDIHCAI201603Fife",8,94057,8.5054807191384008,3.6622819818405001,16.7602172001884]
["CDIHCAI201603Forth Valley",9,83611,10.764133905825799,4.9118189993208503,20.4350425909692]
["CDIHCAI201603Grampian",25,143428,17.430348328080999,11.2768296410452,25.731853364033299]
["CDIHCAI201603Greater Glasgow & Clyde",100,448881,22.277619235387601,18.1254701370821,27.0959000875078]
["CDIHCAI201603Highland",13,78191,16.6259543937282,8.8439279370573693,28.432825301188601]
["CDIHCAI201603Lanarkshire",27,147746,18.274606419124702,12.0401383279931,26.589780781055602]
["CDIHCAI201603Lothian",31,263612,11.759707448826299,7.9886296891618098,16.692631488977401]
["CDIHCAI201603Golden Jubilee",0,12380,0,0,29.629220456021098]
["CDIHCAI201603Orkney",1,3947,25.335697998479901,0.331140978736433,140.964183669498]
["CDIHCAI201603Shetland",0,3141,0,0,116.78120001449901]
["CDIHCAI201603Tayside",18,106847,16.8465188540623,9.9791168565151107,26.626339888569198]
["CDIHCAI201603Western Isles",0,7305,0,0,50.213518034981803]
["CDIHCAI201604Ayrshire & Arran",16,120423,13.2864984263803,7.5894220708650399,21.577800947868699]
["CDIHCAI201604Borders",5,32616,15.3298994358597,4.9402436267919896,35.774777930891901]
["CDIHCAI201604Dumfries & Galloway",5,43532,11.485803546816101,3.7014377040211199,26.803963911466699]
["CDIHCAI201604Fife",18,95378,18.8722766256369,11.1790842622834,29.828100170625898]
["CDIHCAI201604Forth Valley",7,85427,8.1941306612663407,3.2827781621482899,16.883904922668702]
["CDIHCAI201604Grampian",32,144162,22.1972503156172,15.180172182902,31.3371101873288]
["CDIHCAI201604Greater Glasgow & Clyde",65,443247,14.6645098556787,11.3171535078563,18.691492333932999]
["CDIHCAI201604Highland",15,77349,19.392623046193201,10.8458665615864,31.987257737412801]
["CDIHCAI201604Lanarkshire",27,147122,18.352115930996,12.091205104659201,26.702558089734001]
["CDIHCAI201604Lothian",25,264048,9.4679755196025006,6.1254511367472197,13.9772627109335]
["CDIHCAI201604Golden Jubilee",0,12049,0,0,30.443169495023799]
["CDIHCAI201604Orkney",1,3715,26.917900403768499,0.35182057687017498,149.76733053660999]
["CDIHCAI201604Shetland",0,2392,0,0,153.34855737689901]
["CDIHCAI201604Tayside",15,109748,13.6676750373583,7.6440293460668398,22.544214006005902]
["CDIHCAI201604Western Isles",2,8800,22.727272727272702,2.5524244893663801,82.056602710283698]
["CDIHCAI201701Ayrshire & Arran",26,119981,21.6700977654795,14.1519220310966,31.753175567628901]
["CDIHCAI201701Borders",5,33461,14.942769193987001,4.8154862715234898,34.8713474490891]
["CDIHCAI201701Dumfries & Galloway",7,43221,16.195830730432,6.4884637111089898,33.371308989352798]
["CDIHCAI201701Fife",10,94451,10.587500397031301,5.0686389932701603,19.472135683106099]
["CDIHCAI201701Forth Valley",4,85603,4.6727334322395198,1.2571059303701499,11.963228650326201]
["CDIHCAI201701Grampian",25,145904,17.134554227437199,11.0854611371575,25.2951822040284]
["CDIHCAI201701Greater Glasgow & Clyde",77,439173,17.532953983965299,13.836169966718201,21.913550231483999]
["CDIHCAI201701Highland",18,78104,23.046194817166899,13.6515248741175,36.425081149159503]
["CDIHCAI201701Lanarkshire",20,147866,13.5257598095573,8.2583642719594401,20.890599486205701]
["CDIHCAI201701Lothian",47,259482,18.113009765609899,13.307534514981599,24.087120702063199]
["CDIHCAI201701Golden Jubilee",1,11569,8.6437894372893105,0.11297548993626901,48.0928025709661]
["CDIHCAI201701Orkney",0,3608,0,0,101.665673294219]
["CDIHCAI201701Shetland",0,2383,0,0,153.92771684663899]
["CDIHCAI201701Tayside",17,106222,16.0042175820452,9.3176305964646708,25.625869139740299]
["CDIHCAI201701Western Isles",0,8557,0,0,42.866629571758999]
["CDIHCAI201702Ayrshire & Arran",25,116808,21.4026436545442,13.846766674849601,31.596023083149799]
["CDIHCAI201702Borders",3,32504,9.2296332759045008,1.8550060514137401,26.967406843585302]
["CDIHCAI201702Dumfries & Galloway",7,43510,16.0882555734314,6.4453663538920196,33.149651708315702]
["CDIHCAI201702Fife",13,90490,14.3662283125207,7.6419004235435199,24.5683616214525]
["CDIHCAI201702Forth Valley",8,84320,9.4876660341556001,4.0851904217975701,18.695632699218699]
["CDIHCAI201702Grampian",33,138958,23.748182904186901,16.3443732935817,33.3525382473196]
["CDIHCAI201702Greater Glasgow & Clyde",79,433299,18.232213783092,14.434051397189,22.7231480348673]
["CDIHCAI201702Highland",5,74844,6.6805622361177903,2.15289116203633,15.590162965554599]
["CDIHCAI201702Lanarkshire",16,144126,11.1013973883963,6.34126371397097,18.029110108829698]
["CDIHCAI201702Lothian",34,256027,13.2798493908846,9.19519686570567,18.557941438592799]
["CDIHCAI201702Golden Jubilee",0,11614,0,0,31.583412196103101]
["CDIHCAI201702Orkney",1,3521,28.4010224368077,0.37120518121917101,158.01920844745999]
["CDIHCAI201702Shetland",0,2201,0,0,166.65595149729299]
["CDIHCAI201702Tayside",14,109040,12.839325018341899,7.0134268623846303,21.5436407624934]
["CDIHCAI201702Western Isles",0,7803,0,0,47.008810617139801]
["CDIHCAI201703Ayrshire & Arran",28,118443,23.640063152740101,15.705057730352999,34.167955687559498]
["CDIHCAI201703Borders",6,32452,18.488845063478401,6.7513273162938496,40.243730027972902]
["CDIHCAI201703Dumfries & Galloway",13,41406,31.396415978360601,16.700854207758599,53.692485222557998]
["CDIHCAI201703Fife",12,87701,13.6828542433952,7.0619828369934696,23.902847880992901]
["CDIHCAI201703Forth Valley",14,80291,17.436574460400301,9.5246548812995293,29.257557992082202]
["CDIHCAI201703Grampian",26,136682,19.022256039566301,12.4227166504221,27.8732953701269]
["CDIHCAI201703Greater Glasgow & Clyde",102,426025,23.942256909805799,19.5215372112994,29.0646300515196]
["CDIHCAI201703Highland",12,73950,16.2271805273834,8.3751583067906008,28.347581636388799]
["CDIHCAI201703Lanarkshire",25,139493,17.922046267554599,11.594941120743201,26.457730956367499]
["CDIHCAI201703Lothian",29,252661,11.477829977717199,7.6852330772326898,16.484773387896499]
["CDIHCAI201703Golden Jubilee",0,11658,0,0,31.464209062064]
["CDIHCAI201703Orkney",2,2936,68.119891008174406,7.6503186329782498,245.946220657526]
["CDIHCAI201703Shetland",0,2600,0,0,141.08067278674699]
["CDIHCAI201703Tayside",19,123857,15.3402714420663,9.2315078332335503,23.957108425417601]
["CDIHCAI201703Western Isles",0,7180,0,0,51.0877088085713]
["CDIHCAI201704Ayrshire & Arran",18,123003,14.6337894197703,8.6683958827676495,23.1290662672777]
["CDIHCAI201704Borders",6,32440,18.495684340320601,6.7538247246722598,40.258616734518398]
["CDIHCAI201704Dumfries & Galloway",11,42845,25.673940949935801,12.798728203969601,45.9409747681499]
["CDIHCAI201704Fife",11,89968,12.2265694469145,6.0950728025417797,21.8782351940844]
["CDIHCAI201704Forth Valley",3,86859,3.4538735191517298,0.69417235629183105,10.0916265677005]
["CDIHCAI201704Grampian",22,137146,16.041299053563399,10.0494138004614,24.287984977088701]
["CDIHCAI201704Greater Glasgow & Clyde",74,433674,17.063508534060102,13.3979431829991,21.422044986044199]
["CDIHCAI201704Highland",15,74412,20.1580390259636,11.273946845564501,33.2497769006496]
["CDIHCAI201704Lanarkshire",28,143304,19.5388823759281,12.980476139927701,28.240350412421201]
["CDIHCAI201704Lothian",34,256805,13.2396176086914,9.16733968550467,18.501719486375301]
["CDIHCAI201704Golden Jubilee",0,12434,0,0,29.500542805657201]
["CDIHCAI201704Orkney",0,3819,0,0,96.048638189458401]
["CDIHCAI201704Shetland",1,2589,38.624951718810401,0.50483331134519205,214.90368209482699]
["CDIHCAI201704Tayside",10,126195,7.92424422520702,3.7936370026812498,14.5739743048857]
["CDIHCAI201704Western Isles",2,7572,26.4131008980454,2.96636760518015,95.364250376452205]
["CDIHCAI201801Ayrshire & Arran",18,122158,14.7350153080437,8.7283575268756,23.289056288363899]
["CDIHCAI201801Borders",4,32986,12.126356636148699,3.2623549068536999,31.046148734429]
["CDIHCAI201801Dumfries & Galloway",14,44662,31.3465585956742,17.122924747535301,52.597702492998003]
["CDIHCAI201801Fife",6,91836,6.5333856004181401,2.3857101144253701,14.2208886152247]
["CDIHCAI201801Forth Valley",1,85107,1.1749914813117599,1.53572966157038E-2,6.5374837903287304]
["CDIHCAI201801Grampian",32,142190,22.5050988114495,15.390702456090599,31.771717271437499]
["CDIHCAI201801Greater Glasgow & Clyde",64,435205,14.705713399432501,11.324569672071,18.7792460222398]
["CDIHCAI201801Highland",13,75230,17.280340289778,9.1920187335697605,29.551921349531298]
["CDIHCAI201801Lanarkshire",19,143873,13.206091483461099,7.9471955523330102,20.6241308532313]
["CDIHCAI201801Lothian",42,258580,16.242555495397902,11.7048996742051,21.955883275252301]
["CDIHCAI201801Golden Jubilee",2,11871,16.847780304944799,1.8921182298394501,60.828751061452003]
["CDIHCAI201801Orkney",0,3683,0,0,99.595370416926897]
["CDIHCAI201801Shetland",1,2410,41.493775933610003,0.54232922949074802,230.865407860376]
["CDIHCAI201801Tayside",12,124965,9.6026887528507991,4.95613137108122,16.775126331460399]
["CDIHCAI201801Western Isles",0,8190,0,0,44.7875151703958]
["CDIHCAI201802Ayrshire & Arran",10,115914,8.6270855979432994,4.1301138909308603,15.8666139327868]
["CDIHCAI201802Borders",3,31525,9.5162569389373495,1.91261274211426,27.804872071178298]
["CDIHCAI201802Dumfries & Galloway",7,42410,16.505541145956101,6.6125416189069002,34.009463471559002]
["CDIHCAI201802Fife",4,87527,4.5700183943240402,1.22947249371595,11.700255488636399]
["CDIHCAI201802Forth Valley",9,83252,10.8105510978715,4.9329997880196998,20.523162759735801]
["CDIHCAI201802Grampian",43,136123,31.5890775254733,22.8587236930179,42.551544175630802]
["CDIHCAI201802Greater Glasgow & Clyde",86,417159,20.615640559115299,16.489288042320599,25.460528144746899]
["CDIHCAI201802Highland",22,73332,30.000545464462999,18.794481332543398,45.423552987342603]
["CDIHCAI201802Lanarkshire",27,136851,19.7294868141263,12.9986794207398,28.7066499424764]
["CDIHCAI201802Lothian",27,255469,10.5687969968959,6.9632021004805598,15.377731745447999]
["CDIHCAI201802Golden Jubilee",1,12349,8.0978216859664798,0.10583961803163799,45.055116442101202]
["CDIHCAI201802Orkney",0,3487,0,0,105.19350422871899]
["CDIHCAI201802Shetland",0,2417,0,0,151.76241176894601]
["CDIHCAI201802Tayside",5,117886,4.2413857455507902,1.3668373354889201,9.8979535907060203]
["CDIHCAI201802Western Isles",0,7527,0,0,48.732529460016202]
["CDIHCAI201803Ayrshire & Arran",17,110109,15.4392465647676,8.9887053484971293,24.721240514049601]
["CDIHCAI201803Borders",4,32651,12.250773330066499,3.2958267421357998,31.364682924072]
["CDIHCAI201803Dumfries & Galloway",13,43012,30.2241235004185,16.0772707459884,51.687692809570301]
["CDIHCAI201803Fife",7,89303,7.83848246979385,3.1402964072633801,16.151096221054299]
["CDIHCAI201803Forth Valley",10,82126,12.176411854954599,5.8293113210598397,22.394402350109001]
["CDIHCAI201803Grampian",26,134241,19.368151309957501,12.648607781624101,28.380135411533601]
["CDIHCAI201803Greater Glasgow & Clyde",100,412912,24.218235362498501,19.704390186295299,29.4562394098031]
["CDIHCAI201803Highland",10,73340,13.635124079629099,6.5276523255162298,25.077211445391999]
["CDIHCAI201803Lanarkshire",23,138817,16.5685758948832,10.4996097353567,24.8622539543979]
["CDIHCAI201803Lothian",36,252485,14.2582727686793,9.9848614509652798,19.740150092567401]
["CDIHCAI201803Golden Jubilee",0,12390,0,0,29.605306638058298]
["CDIHCAI201803Orkney",3,3756,79.872204472843407,16.053012964630501,233.37289458037699]
["CDIHCAI201803Shetland",0,2446,0,0,149.963102716902]
["CDIHCAI201803Tayside",6,114636,5.2339579189783301,1.9112152732856,11.392490377087301]
["CDIHCAI201803Western Isles",0,7123,0,0,51.496525234527802]
["CDIHCAI201804Ayrshire & Arran",21,110740,18.963337547408301,11.7340406919371,28.989035221325398]
["CDIHCAI201804Borders",0,31191,0,0,11.760115073115401]
["CDIHCAI201804Dumfries & Galloway",12,43800,27.397260273972599,14.1402501549581,47.8608142011634]
["CDIHCAI201804Fife",11,91463,12.0267211878027,5.9954463542534002,21.520626525932698]
["CDIHCAI201804Forth Valley",15,84592,17.732173255154201,9.9172135978832898,29.248420639435601]
["CDIHCAI201804Grampian",11,131734,8.3501601712542008,4.1626422176437297,14.941784686879499]
["CDIHCAI201804Greater Glasgow & Clyde",67,417273,16.056634385641999,12.443037365393,20.391750362004299]
["CDIHCAI201804Highland",11,72346,15.2047106958229,7.5797073770364403,27.207324025397199]
["CDIHCAI201804Lanarkshire",25,142634,17.527377764067499,11.3396043142296,25.875094748072499]
["CDIHCAI201804Lothian",36,254499,14.145438685417201,9.9058453803235693,19.583934695703601]
["CDIHCAI201804Golden Jubilee",0,11765,0,0,31.178049234640199]
["CDIHCAI201804Orkney",1,3843,26.0213374967473,0.34010237914980501,144.77898333164401]
["CDIHCAI201804Shetland",0,2501,0,0,146.66523360477501]
["CDIHCAI201804Tayside",9,115115,7.8182686878339096,3.5675811002233901,14.8424996401297]
["CDIHCAI201804Western Isles",1,6753,14.808233377758,0.19354560092887599,82.390883006590698]
["CDIHCAI201901Ayrshire & Arran",17,111660,15.224789539673999,8.8638488018777597,24.377853051777599]
["CDIHCAI201901Borders",6,29390,20.415107179312699,7.4547150074300097,44.436526943442502]
["CDIHCAI201901Dumfries & Galloway",3,46147,6.5009643097059397,1.3065880056157999,18.994703708667899]
["CDIHCAI201901Fife",6,91885,6.5299015073189297,2.3844378741728001,14.2133049667277]
["CDIHCAI201901Forth Valley",5,80825,6.1862047633776696,1.9935785478682,14.4365005504976]
["CDIHCAI201901Grampian",19,132257,14.3659692870699,8.6451897873141501,22.435527633674901]
["CDIHCAI201901Greater Glasgow & Clyde",62,427318,14.5091009505801,11.123401312879199,18.6003994442992]
["CDIHCAI201901Highland",8,75357,10.616133869448101,4.57108505335896,20.919300784242001]
["CDIHCAI201901Lanarkshire",20,145876,13.7102744796951,8.3710225906767004,21.175583259941899]
["CDIHCAI201901Lothian",34,251904,13.4972052845528,9.3456978370173793,18.861685692559899]
["CDIHCAI201901Golden Jubilee",0,11654,0,0,31.475008516006699]
["CDIHCAI201901Orkney",0,3829,0,0,95.797792960444497]
["CDIHCAI201901Shetland",0,2511,0,0,146.08114267046699]
["CDIHCAI201901Tayside",6,119250,5.0314465408805003,1.8372668684978399,10.951694145641699]
["CDIHCAI201901Western Isles",0,6871,0,0,53.385205828197002]
["CDIHCAI201902Ayrshire & Arran",15,109780,13.663691018400399,7.6418011720909398,22.537642546284701]
["CDIHCAI201902Borders",4,29746,13.4471861762926,3.6176978066790801,34.427763805347801]
["CDIHCAI201902Dumfries & Galloway",6,45667,13.1385902292684,4.79764543474211,28.598102062053002]
["CDIHCAI201902Fife",6,87857,6.8292793972022698,2.4937577434736902,14.8649456146667]
["CDIHCAI201902Forth Valley",11,73737,14.9178838303701,7.4367211833825397,26.6940757549315]
["CDIHCAI201902Grampian",10,131370,7.6120879957372303,3.6441959469693201,13.999868215003801]
["CDIHCAI201902Greater Glasgow & Clyde",71,419871,16.909955676862701,13.2062034200383,21.329995102903101]
["CDIHCAI201902Highland",6,74804,8.0209614459119791,2.9289085352169399,17.4588194062854]
["CDIHCAI201902Lanarkshire",17,145187,11.709037310503,6.8169833195649101,18.748449046825801]
["CDIHCAI201902Lothian",30,244255,12.282246013387599,8.2851066982435704,17.5343885221702]
["CDIHCAI201902Golden Jubilee",0,11897,0,0,30.832121479830398]
["CDIHCAI201902Orkney",0,3479,0,0,105.435397886042]
["CDIHCAI201902Shetland",1,2542,39.339103068450001,0.51416736548886799,218.87711760169401]
["CDIHCAI201902Tayside",6,113495,5.2865765011674499,1.9304293058581301,11.5070225725166]
["CDIHCAI201902Western Isles",1,7013,14.259232853272501,0.18637009027131099,79.336322963568705]
["CDIHCAI201903Ayrshire & Arran",21,110670,18.9753320683112,11.741462602558199,29.007371106980901]
["CDIHCAI201903Borders",4,28962,13.8112008839169,3.7156287189239698,35.359721778671201]
["CDIHCAI201903Dumfries & Galloway",7,46074,15.192950470981501,6.0866842483361898,31.304886613465602]
["CDIHCAI201903Fife",8,90276,8.8617129691169296,3.81566813290322,17.462179861736502]
["CDIHCAI201903Forth Valley",14,77669,18.0252095430609,9.8461942998418994,30.2452534311279]
["CDIHCAI201903Grampian",11,131950,8.3364910951117892,4.1558280401597498,14.9173252288093]
["CDIHCAI201903Greater Glasgow & Clyde",62,416741,14.877345881494699,11.4057162655388,19.0724826444699]
["CDIHCAI201903Highland",15,75715,19.811133857227802,11.0799304321752,32.677572458973003]
["CDIHCAI201903Lanarkshire",24,146465,16.386167343734002,10.4957428701462,24.382511069068599]
["CDIHCAI201903Lothian",25,245501,10.183257909336399,6.5882139859138196,15.033210717254001]
["CDIHCAI201903Golden Jubilee",1,12067,8.2870638932626193,0.108313039120966,46.108032894962101]
["CDIHCAI201903Orkney",1,2983,33.523298692591403,0.43815402047358398,186.51881761431699]
["CDIHCAI201903Shetland",2,2694,74.239049740163296,8.3375410194595894,268.03938524517298]
["CDIHCAI201903Tayside",10,115796,8.6358768869390996,4.1343226152316204,15.882782543482101]
["CDIHCAI201903Western Isles",2,6702,29.841838257236599,3.35143770612118,107.74367410481899]
["CDIHCAI201904Ayrshire & Arran",21,111501,18.833911803481602,11.653955266994201,28.791183580502199]
["CDIHCAI201904Borders",3,29415,10.1988781234064,2.0498084887014101,29.7993741983306]
["CDIHCAI201904Dumfries & Galloway",6,46458,12.914890869172201,4.7159600944588203,28.111187026298499]
["CDIHCAI201904Fife",12,91708,13.085008941422799,6.7534234394727299,22.858460134458898]
["CDIHCAI201904Forth Valley",13,79712,16.308711360899199,8.6751752474715609,27.890293094204601]
["CDIHCAI201904Grampian",17,133259,12.7571120899902,7.4271708268685099,20.4266208793514]
["CDIHCAI201904Greater Glasgow & Clyde",70,429650,16.292330967066199,12.700068821974201,20.584758864605799]
["CDIHCAI201904Highland",8,73909,10.8241215548851,4.6606401976210101,21.329144612944599]
["CDIHCAI201904Lanarkshire",25,147326,16.969170411196899,10.978463555352301,25.051031483217901]
["CDIHCAI201904Lothian",42,249135,16.8583298211813,12.1486461466914,22.788256556945999]
["CDIHCAI201904Golden Jubilee",1,11659,8.5770649283815104,0.11210339163502001,47.721556989751001]
["CDIHCAI201904Orkney",0,2915,0,0,125.835248454731]
["CDIHCAI201904Shetland",2,2673,74.822297044519303,8.4030435863913695,270.14519410793002]
["CDIHCAI201904Tayside",8,117973,6.7812126503521997,2.9198482395630498,13.3625130258459]
["CDIHCAI201904Western Isles",3,6884,43.579314352120903,8.7587328145194796,127.331288791966]
["CDIHCAI202001Ayrshire & Arran",17,107446,15.821901234108299,9.2114863021207896,25.333945160931901]
["CDIHCAI202001Borders",3,28855,10.396811644429,2.0895899045278798,30.377702028899499]
["CDIHCAI202001Dumfries & Galloway",12,44334,27.067262146433901,13.969931808254699,47.284333965149898]
["CDIHCAI202001Fife",7,87695,7.9822110724670701,3.1978777587985801,16.4472472299312]
["CDIHCAI202001Forth Valley",9,76312,11.7936890659398,5.3816188587930602,22.389589397126599]
["CDIHCAI202001Grampian",17,131518,12.925987317325401,7.52548972169338,20.697023006443899]
["CDIHCAI202001Greater Glasgow & Clyde",65,413057,15.7363269476126,12.1443150482785,20.0576382981981]
["CDIHCAI202001Highland",16,71286,22.444799820441599,12.8207638812639,36.4512460166819]
["CDIHCAI202001Lanarkshire",20,140747,14.209894349435499,8.6760733190587001,21.9472484928793]
["CDIHCAI202001Lothian",25,240426,10.3982098441932,6.7272804179075001,15.350537230983999]
["CDIHCAI202001Golden Jubilee",1,10915,9.1617040769583102,0.119744703900385,50.974405216995599]
["CDIHCAI202001Orkney",0,3184,0,0,115.20406697410201]
["CDIHCAI202001Shetland",0,2514,0,0,145.90682149782899]
["CDIHCAI202001Tayside",8,111519,7.1736654740447801,3.0888302115870099,14.135849040953801]
["CDIHCAI202001Western Isles",1,6357,15.730690577316301,0.205602240533695,87.523302334986198]
["CDIHCAI202002Ayrshire & Arran",13,81868,15.8792202081399,8.4467138482246096,27.155800106576901]
["CDIHCAI202002Borders",4,21568,18.545994065281899,4.9894305896455897,47.481837080576497]
["CDIHCAI202002Dumfries & Galloway",3,27088,11.075014766686399,2.2258976925262899,32.359295335347603]
["CDIHCAI202002Fife",5,63241,7.9062633418193897,2.54788801776454,18.4505329927416]
["CDIHCAI202002Forth Valley",7,58320,12.002743484225,4.8086057966022304,24.7315045581073]
["CDIHCAI202002Grampian",13,94592,13.7432341001353,7.3105079639552297,23.5029499653801]
["CDIHCAI202002Greater Glasgow & Clyde",49,304920,16.069788797061499,11.887499817507599,21.2456701665335]
["CDIHCAI202002Highland",13,50361,25.813625623001901,13.7311723223616,44.145093288958499]
["CDIHCAI202002Lanarkshire",21,100174,20.9635234691637,12.971705893995599,32.046696352442503]
["CDIHCAI202002Lothian",31,182151,17.018847000565501,11.561279650506,24.1578578875346]
["CDIHCAI202002Golden Jubilee",1,8152,12.266928361138399,0.160330402732176,68.251427004846306]
["CDIHCAI202002Orkney",0,2102,0,0,174.50511381805001]
["CDIHCAI202002Shetland",0,1591,0,0,230.55295364270401]
["CDIHCAI202002Tayside",7,81757,8.5619579974803397,3.4301391936817902,17.641808601450801]
["CDIHCAI202002Western Isles",0,3200,0,0,114.628046639232]
["CDIHCAI202003Ayrshire & Arran",20,97707,20.469362481705499,12.4978895210942,31.615026391428302]
["CDIHCAI202003Borders",2,25295,7.9067009290373598,0.88797531158031695,28.547068742854201]
["CDIHCAI202003Dumfries & Galloway",10,36727,27.227924959838798,13.035042926276599,50.076583641600202]
["CDIHCAI202003Fife",7,75003,9.3329600149327394,3.7390223065456301,19.230448726435199]
["CDIHCAI202003Forth Valley",10,66078,15.133629952480399,7.2450440623711403,27.833207533597399]
["CDIHCAI202003Grampian",14,106471,13.1491204177663,7.1826512860254903,22.063459427846801]
["CDIHCAI202003Greater Glasgow & Clyde",77,377250,20.4108681245858,16.107282366583199,25.510509200295701]
["CDIHCAI202003Highland",14,59671,23.461983207923399,12.816008866525101,39.367843487494298]
["CDIHCAI202003Lanarkshire",27,122500,22.040816326530599,14.521487978838101,32.069663275737497]
["CDIHCAI202003Lothian",38,217934,17.436471592316899,12.337447205026599,23.9337168385842]
["CDIHCAI202003Golden Jubilee",1,10016,9.9840255591054294,0.130492556217322,55.549683800270302]
["CDIHCAI202003Orkney",0,2700,0,0,135.855462683534]
["CDIHCAI202003Shetland",2,2091,95.648015303682499,10.741910811298,345.33625243926201]
["CDIHCAI202003Tayside",5,99451,5.0276015324129499,1.62020478558735,11.732714170736999]
["CDIHCAI202003Western Isles",0,4152,0,0,88.345315328887693]
["ECBHCAI201603Ayrshire & Arran",62,118267,52.423753033390497,40.190666899616197,67.206283153703396]
["ECBHCAI201603Borders",12,31455,38.149737720553198,19.689809467085201,66.644529073627595]
["ECBHCAI201603Dumfries & Galloway",16,43380,36.8833563854311,21.068256662973301,59.900035120912598]
["ECBHCAI201603Fife",30,94057,31.895552696768998,21.515450594633901,45.534750932760701]
["ECBHCAI201603Forth Valley",36,83611,43.056535623303098,30.151866900849999,59.610479435981802]
["ECBHCAI201603Grampian",47,143428,32.769054856792302,24.075254978222201,43.577085743458397]
["ECBHCAI201603Greater Glasgow & Clyde",161,448881,35.866966968973998,30.540225772106101,41.855409121867297]
["ECBHCAI201603Highland",25,78191,31.972989218708001,20.685412921638399,47.200678649672803]
["ECBHCAI201603Lanarkshire",74,147746,50.085958333897402,39.3265442850836,62.879427783342699]
["ECBHCAI201603Lothian",69,263612,26.174832708677901,20.364593402405699,33.126544604329901]
["ECBHCAI201603Golden Jubilee",1,12380,8.0775444264943506,0.10557459152445101,44.942296683643498]
["ECBHCAI201603Orkney",0,3947,0,0,92.933810297831698]
["ECBHCAI201603Shetland",0,3141,0,0,116.78120001449901]
["ECBHCAI201603Tayside",45,106847,42.116297135155897,30.716873417174501,56.356522861390303]
["ECBHCAI201603Western Isles",4,7305,54.757015742641997,14.7312852782308,140.19004273153701]
["ECBHCAI201604Ayrshire & Arran",52,120423,43.181119885736102,32.247227001028399,56.627695441167603]
["ECBHCAI201604Borders",10,32616,30.659798871719399,14.6780114530709,56.388358088209799]
["ECBHCAI201604Dumfries & Galloway",16,43532,36.754571349811599,20.994692962413399,59.690883110015399]
["ECBHCAI201604Fife",25,95378,26.211495313384599,16.9579265842839,38.695173565146803]
["ECBHCAI201604Forth Valley",38,85427,44.482423589731603,31.4742320247728,61.0576357065097]
["ECBHCAI201604Grampian",47,144162,32.602211401062704,23.952675954942698,43.355213260170899]
["ECBHCAI201604Greater Glasgow & Clyde",148,443247,33.389960902160603,28.2269086088397,39.223845817230398]
["ECBHCAI201604Highland",16,77349,20.685464582606102,11.8158085306828,33.594015740929898]
["ECBHCAI201604Lanarkshire",69,147122,46.899851823656597,36.489112410074398,59.355872515576301]
["ECBHCAI201604Lothian",89,264048,33.705992849784899,27.067803551532101,41.478721861957503]
["ECBHCAI201604Golden Jubilee",0,12049,0,0,30.443169495023799]
["ECBHCAI201604Orkney",3,3715,80.753701211305497,16.230179460336998,235.948476997011]
["ECBHCAI201604Shetland",0,2392,0,0,153.34855737689901]
["ECBHCAI201604Tayside",49,109748,44.647738455370501,33.027813211670399,59.028226001197197]
["ECBHCAI201604Western Isles",2,8800,22.727272727272702,2.5524244893663801,82.056602710283698]
["ECBHCAI201701Ayrshire & Arran",47,119981,39.1728690375976,28.780104108287599,52.093033513746001]
["ECBHCAI201701Borders",15,33461,44.828307581961099,25.071484195694801,73.942273056129196]
["ECBHCAI201701Dumfries & Galloway",11,43221,25.450591147821701,12.687385990585099,45.541312416218602]
["ECBHCAI201701Fife",35,94451,37.0562513896094,25.807077813025799,51.538124037928803]
["ECBHCAI201701Forth Valley",24,85603,28.036400593437101,17.958003568519299,41.717982824563798]
["ECBHCAI201701Grampian",43,145904,29.471433271192002,21.326338176230099,39.699006523600403]
["ECBHCAI201701Greater Glasgow & Clyde",137,439173,31.194996049392799,26.189813856752099,36.877927614430803]
["ECBHCAI201701Highland",22,78104,28.167571443203901,17.646175677021301,42.6482636954293]
["ECBHCAI201701Lanarkshire",60,147866,40.577279428671901,30.9628491750987,52.232124461076999]
["ECBHCAI201701Lothian",90,259482,34.684486785210503,27.8895358421026,42.633729736082401]
["ECBHCAI201701Golden Jubilee",0,11569,0,0,31.706262360233499]
["ECBHCAI201701Orkney",1,3608,27.7161862527716,0.36225428023079298,154.208878310285]
["ECBHCAI201701Shetland",1,2383,41.963911036508598,0.54847395848623703,233.48117202832901]
["ECBHCAI201701Tayside",58,106222,54.602624691683502,41.459385590682501,70.588123328165594]
["ECBHCAI201701Western Isles",3,8557,35.059016010283997,7.0462915385242599,102.43643707419599]
["ECBHCAI201702Ayrshire & Arran",49,116808,41.949181562906602,31.031576984062799,55.460497116459401]
["ECBHCAI201702Borders",13,32504,39.995077528919502,21.274783698204899,68.3974601010718]
["ECBHCAI201702Dumfries & Galloway",17,43510,39.071477821190499,22.7473536478435,62.561045087600299]
["ECBHCAI201702Fife",28,90490,30.942645596198499,20.556460965368501,44.722678478302697]
["ECBHCAI201702Forth Valley",37,84320,43.880455407969599,30.8915929149506,60.485491848898299]
["ECBHCAI201702Grampian",44,138958,31.664243872249202,23.004919663735301,42.509005148519996]
["ECBHCAI201702Greater Glasgow & Clyde",157,433299,36.233640049942402,30.787122153751199,42.365871812128702]
["ECBHCAI201702Highland",15,74844,20.041686708353399,11.208873559298601,33.057858996461199]
["ECBHCAI201702Lanarkshire",60,144126,41.630240206486,31.766320137415502,53.587522831145101]
["ECBHCAI201702Lothian",70,256027,27.340866392997601,21.312535667571101,34.544175599362099]
["ECBHCAI201702Golden Jubilee",0,11614,0,0,31.583412196103101]
["ECBHCAI201702Orkney",1,3521,28.4010224368077,0.37120518121917101,158.01920844745999]
["ECBHCAI201702Shetland",2,2201,90.867787369377595,10.205059294150001,328.077284802588]
["ECBHCAI201702Tayside",40,109040,36.683785766691102,26.204253344434999,49.954491944521401]
["ECBHCAI201702Western Isles",1,7803,12.815583749839799,0.167501402418647,71.304066761951503]
["ECBHCAI201703Ayrshire & Arran",60,118443,50.6572781844432,38.654480687969198,65.207359789617101]
["ECBHCAI201703Borders",12,32452,36.977690126956702,19.084893281990801,64.597056021538094]
["ECBHCAI201703Dumfries & Galloway",14,41406,33.811524899772998,18.469402141583799,56.733772611270702]
["ECBHCAI201703Fife",25,87701,28.505946340406599,18.442356663616501,42.0823966009118]
["ECBHCAI201703Forth Valley",25,80291,31.136740107857701,20.14438880766,45.9661514278881]
["ECBHCAI201703Grampian",64,136682,46.824014866624701,36.0582179375021,59.794426223708001]
["ECBHCAI201703Greater Glasgow & Clyde",139,426025,32.627193239833304,27.4283571527167,38.524559201674201]
["ECBHCAI201703Highland",22,73950,29.749830966869499,18.6374158901701,45.043948447164396]
["ECBHCAI201703Lanarkshire",84,139493,60.218075458983598,48.030592467395898,74.555214171448995]
["ECBHCAI201703Lothian",74,252661,29.288255805209399,22.9965828202373,36.769362653032097]
["ECBHCAI201703Golden Jubilee",2,11658,17.155601303825701,1.92668858349838,61.940135859538202]
["ECBHCAI201703Orkney",2,2936,68.119891008174406,7.6503186329782498,245.946220657526]
["ECBHCAI201703Shetland",3,2600,115.384615384615,23.190429498135401,337.13407386303697]
["ECBHCAI201703Tayside",56,123857,45.2134316187216,34.151403037486297,58.7147529996668]
["ECBHCAI201703Western Isles",3,7180,41.782729805013901,8.3976485647844203,122.08197660778499]
["ECBHCAI201704Ayrshire & Arran",57,123003,46.340333162605802,35.095383645333399,60.040634377656701]
["ECBHCAI201704Borders",13,32440,40.073982737361298,21.316756144465302,68.532399603120794]
["ECBHCAI201704Dumfries & Galloway",9,42845,21.0059516863111,9.5852981293550208,39.8785003168054]
["ECBHCAI201704Fife",28,89968,31.1221767739641,20.675730846036299,44.982162274382098]
["ECBHCAI201704Forth Valley",34,86859,39.143899883719598,27.103911718256299,54.701689781123498]
["ECBHCAI201704Grampian",49,137146,35.7283478920275,26.429764224654001,47.236009414633898]
["ECBHCAI201704Greater Glasgow & Clyde",140,433674,32.282313442816502,27.156030342845199,38.094740127121703]
["ECBHCAI201704Highland",14,74412,18.814169757565999,10.277160472429401,31.569082792322099]
["ECBHCAI201704Lanarkshire",64,143304,44.660302573549899,34.391987272746498,57.031358267102497]
["ECBHCAI201704Lothian",56,256805,21.806429002550601,16.471214836213999,28.318113597008399]
["ECBHCAI201704Golden Jubilee",1,12434,8.0424642110342592,0.10511608839252901,44.747115404817997]
["ECBHCAI201704Orkney",2,3819,52.369730295888999,5.8814704127845303,189.080414729117]
["ECBHCAI201704Shetland",4,2589,154.49980687524101,41.565098090952503,395.55359681493798]
["ECBHCAI201704Tayside",54,126195,42.790918816117902,32.143517463734902,55.834198758386798]
["ECBHCAI201704Western Isles",4,7572,52.826201796090899,14.211838214141,135.246732983871]
["ECBHCAI201801Ayrshire & Arran",56,122158,45.842269847247003,34.626388169534103,59.531370538808197]
["ECBHCAI201801Borders",10,32986,30.315891590371699,14.5133699616007,55.7558566484282]
["ECBHCAI201801Dumfries & Galloway",19,44662,42.5417580941292,25.600888130867599,66.438036322756403]
["ECBHCAI201801Fife",35,91836,38.1114160024391,26.541925895271,53.005655227867202]
["ECBHCAI201801Forth Valley",29,85107,34.074752958041103,22.8154990133208,48.9390923068527]
["ECBHCAI201801Grampian",48,142190,33.7576482171742,24.888016797200201,44.758941361701702]
["ECBHCAI201801Greater Glasgow & Clyde",147,435205,33.777185464321398,28.537277006844899,39.700383049621102]
["ECBHCAI201801Highland",15,75230,19.938854180513101,11.151361593408801,32.888241376194898]
["ECBHCAI201801Lanarkshire",39,143873,27.1072404134202,19.2734526910995,37.057695478879403]
["ECBHCAI201801Lothian",75,258580,29.004563384639201,22.812960639250299,36.358095164789098]
["ECBHCAI201801Golden Jubilee",2,11871,16.847780304944799,1.8921182298394501,60.828751061452003]
["ECBHCAI201801Orkney",1,3683,27.151778441487899,0.35487739426356302,151.06859433709101]
["ECBHCAI201801Shetland",2,2410,82.987551867219906,9.3200562267319995,299.62576923257097]
["ECBHCAI201801Tayside",43,124965,34.409634697715397,24.899756293879701,46.350929042687099]
["ECBHCAI201801Western Isles",3,8190,36.630036630036599,7.3620411105191801,107.02669011525001]
["ECBHCAI201802Ayrshire & Arran",64,115914,55.213347826837101,42.5186719821045,70.507632944328194]
["ECBHCAI201802Borders",12,31525,38.065027755749398,19.6460890336928,66.496547565771806]
["ECBHCAI201802Dumfries & Galloway",16,42410,37.7269511907569,21.550129074269801,61.2700665773447]
["ECBHCAI201802Fife",43,87527,49.1276977389834,35.550150756505701,66.176652322362102]
["ECBHCAI201802Forth Valley",38,83252,45.644549079901999,32.296512025900398,62.652796875750802]
["ECBHCAI201802Grampian",39,136123,28.650558685894399,20.370763640432301,39.167530995003197]
["ECBHCAI201802Greater Glasgow & Clyde",150,417159,35.957512603108199,30.433067209767501,42.1946184721808]
["ECBHCAI201802Highland",13,73332,17.7275950471827,9.42992921680103,30.3167927115753]
["ECBHCAI201802Lanarkshire",51,136851,37.266808426682999,27.745365270219601,49.000206758227201]
["ECBHCAI201802Lothian",90,255469,35.229323322986403,28.327634818238099,43.3034358743258]
["ECBHCAI201802Golden Jubilee",2,12349,16.195643371932999,1.8188788975968999,58.474216847558203]
["ECBHCAI201802Orkney",1,3487,28.677946659019199,0.37482461803060002,159.55997503398501]
["ECBHCAI201802Shetland",4,2417,165.494414563508,44.522978468132401,423.702218516291]
["ECBHCAI201802Tayside",54,117886,45.8069660519485,34.4091002013473,59.769580037617899]
["ECBHCAI201802Western Isles",3,7527,39.8565165404544,8.0105110528965202,116.453911524365]
["ECBHCAI201803Ayrshire & Arran",49,110109,44.501357745506702,32.919529233345202,58.834697864655801]
["ECBHCAI201803Borders",10,32651,30.626933325166199,14.6622774663367,56.327913001287897]
["ECBHCAI201803Dumfries & Galloway",18,43012,41.848786385194799,24.789330855762799,66.143042361990894]
["ECBHCAI201803Fife",36,89303,40.312195558939798,28.230045389818599,55.8110231024923]
["ECBHCAI201803Forth Valley",40,82126,48.705647419818298,34.7918050882448,66.325375662160695]
["ECBHCAI201803Grampian",38,134241,28.307298068399401,20.029269889081998,38.855272573207898]
["ECBHCAI201803Greater Glasgow & Clyde",180,412912,43.592823652497401,37.456437293133298,50.4475736591179]
["ECBHCAI201803Highland",25,73340,34.087810199072798,22.053628603160998,50.322719720433099]
["ECBHCAI201803Lanarkshire",70,138817,50.426100549644502,39.307754593178203,63.711516933645697]
["ECBHCAI201803Lothian",84,252485,33.269303126918402,26.535958314571001,41.190290474356601]
["ECBHCAI201803Golden Jubilee",2,12390,16.142050040355102,1.8128600085895199,58.280718632001303]
["ECBHCAI201803Orkney",3,3756,79.872204472843407,16.053012964630501,233.37289458037699]
["ECBHCAI201803Shetland",2,2446,81.766148814390803,9.1828845079411803,295.21590509014601]
["ECBHCAI201803Tayside",42,114636,36.6377054328483,26.4022903604099,49.525038358933898]
["ECBHCAI201803Western Isles",7,7123,98.273199494595005,39.370755307853699,202.490712597054]
["ECBHCAI201804Ayrshire & Arran",40,110740,36.120642947444502,25.801984690962598,49.187626888483003]
["ECBHCAI201804Borders",11,31191,35.266583309287903,17.580760793147999,63.106058284164703]
["ECBHCAI201804Dumfries & Galloway",15,43800,34.246575342465803,19.153354627217901,56.488182619432401]
["ECBHCAI201804Fife",45,91463,49.2002230410111,35.883425800649903,65.83564280825]
["ECBHCAI201804Forth Valley",29,84592,34.282201626631398,22.9544008242705,49.237035759401699]
["ECBHCAI201804Grampian",49,131734,37.196168035586901,27.5155726263106,49.176596377392201]
["ECBHCAI201804Greater Glasgow & Clyde",152,417273,36.426991442053499,30.865812184714802,42.700514721819097]
["ECBHCAI201804Highland",11,72346,15.2047106958229,7.5797073770364403,27.207324025397199]
["ECBHCAI201804Lanarkshire",72,142634,50.478847960514301,39.494799469606299,63.570891734725599]
["ECBHCAI201804Lothian",96,254499,37.721169827779299,30.553389099596899,46.064618189218002]
["ECBHCAI201804Golden Jubilee",1,11765,8.4997875053123693,0.111093365327046,47.291596510285402]
["ECBHCAI201804Orkney",0,3843,0,0,95.448802822155002]
["ECBHCAI201804Shetland",2,2501,79.968012794882,8.9809418258393094,288.72375203938299]
["ECBHCAI201804Tayside",56,115115,48.6470051687443,36.744910098718201,63.173636470310001]
["ECBHCAI201804Western Isles",3,6753,44.424700133274101,8.9286415956096707,129.80136117931201]
["ECBHCAI201901Ayrshire & Arran",52,111660,46.569944474297003,34.7779671963536,61.071798030733703]
["ECBHCAI201901Borders",9,29390,30.622660768968998,13.9735317574759,58.135227835097901]
["ECBHCAI201901Dumfries & Galloway",11,46147,23.836869135588401,11.882928682234599,42.653716686705103]
["ECBHCAI201901Fife",36,91885,39.179409043913601,27.4367714365453,54.242714220186897]
["ECBHCAI201901Forth Valley",28,80825,34.642746674914903,23.014588960794299,50.070586767727903]
["ECBHCAI201901Grampian",56,132257,42.341804214521702,31.982355005889598,54.985620135643003]
["ECBHCAI201901Greater Glasgow & Clyde",156,427318,36.506770133717701,31.002360180257199,42.706547998014599]
["ECBHCAI201901Highland",18,75357,23.886301206258199,14.149165953635,37.752890084185303]
["ECBHCAI201901Lanarkshire",59,145876,40.4453097151005,30.786911652320299,52.172642880611903]
["ECBHCAI201901Lothian",86,251904,34.139989837398403,27.306652178792,42.1632386160382]
["ECBHCAI201901Golden Jubilee",3,11654,25.742234425948201,5.1737700956883597,75.214397807095907]
["ECBHCAI201901Orkney",1,3829,26.116479498563599,0.34134589790355202,145.308339760644]
["ECBHCAI201901Shetland",1,2511,39.824771007566703,0.520515110741817,221.579304238752]
["ECBHCAI201901Tayside",56,119250,46.960167714884697,35.470778415211299,60.983087314714702]
["ECBHCAI201901Western Isles",1,6871,14.553922282055,0.190221720720812,80.975932607117898]
["ECBHCAI201902Ayrshire & Arran",46,109780,41.901985789761298,30.674593620274202,55.892934560831002]
["ECBHCAI201902Borders",15,29746,50.4269481610973,28.202680450216601,83.176978374609703]
["ECBHCAI201902Dumfries & Galloway",15,45667,32.846475573170999,18.3703096912901,54.178781148994602]
["ECBHCAI201902Fife",37,87857,42.113889616080698,29.647940569204899,58.050430502966201]
["ECBHCAI201902Forth Valley",39,73737,52.890679034948498,37.605672308699297,72.305651459007294]
["ECBHCAI201902Grampian",52,131370,39.5828575778336,29.560080818640799,51.908936348570698]
["ECBHCAI201902Greater Glasgow & Clyde",164,419871,39.059615929654598,33.309881996072399,45.516606661135597]
["ECBHCAI201902Highland",19,74804,25.399711245387898,15.285103279247201,39.667070988810003]
["ECBHCAI201902Lanarkshire",64,145187,44.081081639540699,33.945941056249197,56.291691164559197]
["ECBHCAI201902Lothian",82,244255,33.571472436592899,26.699405009452502,41.671701837786998]
["ECBHCAI201902Golden Jubilee",3,11897,25.21644111961,5.0680941998110498,73.678119865839804]
["ECBHCAI201902Orkney",2,3479,57.487783845932697,6.4562620024214201,207.559098548576]
["ECBHCAI201902Shetland",3,2542,118.01730920535,23.719558101948099,344.82635406919599]
["ECBHCAI201902Tayside",41,113495,36.124939424644303,25.9208656560203,49.009081657311498]
["ECBHCAI201902Western Isles",2,7013,28.518465706545001,3.2028141318157899,102.96565005710799]
["ECBHCAI201903Ayrshire & Arran",50,110670,45.179362067407602,33.530217451011701,59.564888304107399]
["ECBHCAI201903Borders",8,28962,27.622401767833701,11.893628076996499,54.430486471864]
["ECBHCAI201903Dumfries & Galloway",12,46074,26.045057950253899,13.4423526671694,45.498625298670703]
["ECBHCAI201903Fife",28,90276,31.0159953919093,20.605190225045401,44.828693955221901]
["ECBHCAI201903Forth Valley",38,77669,48.925568759736798,34.618048631761198,67.156402753994598]
["ECBHCAI201903Grampian",74,131950,56.0818491852975,44.0344040314056,70.406850604605907]
["ECBHCAI201903Greater Glasgow & Clyde",172,416741,41.2726369615661,35.334504010107402,47.922922103813399]
["ECBHCAI201903Highland",17,75715,22.4526183715248,13.0718795115587,35.951014617466697]
["ECBHCAI201903Lanarkshire",65,146465,44.379203222612901,34.2490993814001,56.566059485466198]
["ECBHCAI201903Lothian",85,245501,34.6230768917438,27.654721722612301,42.812617048148198]
["ECBHCAI201903Golden Jubilee",3,12067,24.8611916797879,4.9966948450445097,72.640141878171505]
["ECBHCAI201903Orkney",4,2983,134.09319477036499,36.075105248902403,343.30816699761101]
["ECBHCAI201903Shetland",2,2694,74.239049740163296,8.3375410194595894,268.03938524517298]
["ECBHCAI201903Tayside",47,115796,40.588621368613801,29.820250017413802,53.975735379570601]
["ECBHCAI201903Western Isles",3,6702,44.762757385854997,8.9965856005896896,130.78910654191199]
["ECBHCAI201904Ayrshire & Arran",46,111501,41.255235379054902,30.201136201771298,55.030236106295298]
["ECBHCAI201904Borders",14,29415,47.594764575896697,25.998438384307999,79.861247280036594]
["ECBHCAI201904Dumfries & Galloway",18,46458,38.744672607516499,22.950594058462901,61.236913730120797]
["ECBHCAI201904Fife",55,91708,59.972957648187702,45.176652962892902,78.064876711809504]
["ECBHCAI201904Forth Valley",38,79712,47.671617824167001,33.730796105733901,65.435199787986804]
["ECBHCAI201904Grampian",53,133259,39.772172986439898,29.789851232364501,52.024245456903301]
["ECBHCAI201904Greater Glasgow & Clyde",151,429650,35.144885371814297,29.762447909033099,41.219205075854397]
["ECBHCAI201904Highland",18,73909,24.354273498491398,14.4263716024851,38.492531871273499]
["ECBHCAI201904Lanarkshire",77,147326,52.265044866486598,41.245077398378598,65.323429644540198]
["ECBHCAI201904Lothian",95,249135,38.131936500290998,30.850111139403801,46.614942655643397]
["ECBHCAI201904Golden Jubilee",1,11659,8.5770649283815104,0.11210339163502001,47.721556989751001]
["ECBHCAI201904Orkney",1,2915,34.305317324185197,0.44837510911584999,190.86985692744699]
["ECBHCAI201904Shetland",3,2673,112.233445566779,22.5570956584931,327.92689563931799]
["ECBHCAI201904Tayside",54,117973,45.773185389877298,34.3837249738162,59.725502549859897]
["ECBHCAI201904Western Isles",2,6884,29.052876234747199,3.2628320026763702,104.895134202571]
["ECBHCAI202001Ayrshire & Arran",50,107446,46.535003629730298,34.536317455312101,61.352178662915001]
["ECBHCAI202001Borders",10,28855,34.656038814763498,16.5911634570563,63.7380934813742]
["ECBHCAI202001Dumfries & Galloway",15,44334,33.834077683042402,18.922653779765898,55.807786320456998]
["ECBHCAI202001Fife",42,87695,47.893266434802399,34.513403931306797,64.739749099888797]
["ECBHCAI202001Forth Valley",37,76312,48.485166159974803,34.133283292124901,66.832695679566797]
["ECBHCAI202001Grampian",49,131518,37.257257561702602,27.560763122571799,49.257362088682797]
["ECBHCAI202001Greater Glasgow & Clyde",123,413057,29.777972531636099,24.747916795906399,35.529705189963302]
["ECBHCAI202001Highland",16,71286,22.444799820441599,12.8207638812639,36.4512460166819]
["ECBHCAI202001Lanarkshire",64,140747,45.471661918193597,35.016798540172502,58.067466909482]
["ECBHCAI202001Lothian",84,240426,34.937985076489198,27.866917201361201,43.256263841755597]
["ECBHCAI202001Golden Jubilee",0,10915,0,0,33.606023751309401]
["ECBHCAI202001Orkney",1,3184,31.4070351758794,0.41049417181931602,174.74423145210699]
["ECBHCAI202001Shetland",1,2514,39.7772474144789,0.51989397099152801,221.31488979455301]
["ECBHCAI202001Tayside",44,111519,39.4551601072463,28.665228585562399,52.9682505889403]
["ECBHCAI202001Western Isles",2,6357,31.461381154632701,3.5333231880484699,113.59101838139]
["ECBHCAI202002Ayrshire & Arran",36,81868,43.973225191772102,30.793811299249601,60.879608590925301]
["ECBHCAI202002Borders",14,21568,64.910979228486596,35.457347230824404,108.916848513644]
["ECBHCAI202002Dumfries & Galloway",10,27088,36.916715888954499,17.673435526925601,67.8958464044984]
["ECBHCAI202002Fife",23,63241,36.368811372369201,23.047142275312002,54.573828800740998]
["ECBHCAI202002Forth Valley",33,58320,56.584362139917701,38.943440057090697,79.468484392507406]
["ECBHCAI202002Grampian",36,94592,38.058186738836298,26.651595731636601,52.6904156389745]
["ECBHCAI202002Greater Glasgow & Clyde",125,304920,40.994359176177397,34.122684209812398,48.8434240706232]
["ECBHCAI202002Highland",13,50361,25.813625623001901,13.7311723223616,44.145093288958499]
["ECBHCAI202002Lanarkshire",51,100174,50.9114141393975,37.9038571145689,66.940795965721193]
["ECBHCAI202002Lothian",57,182151,31.292718678459099,23.699224679123098,40.544263552519098]
["ECBHCAI202002Golden Jubilee",1,8152,12.266928361138399,0.160330402732176,68.251427004846306]
["ECBHCAI202002Orkney",0,2102,0,0,174.50511381805001]
["ECBHCAI202002Shetland",0,1591,0,0,230.55295364270401]
["ECBHCAI202002Tayside",28,81757,34.247831989921401,22.752231035338799,49.499800329043502]
["ECBHCAI202002Western Isles",2,3200,62.5,7.0191673457575403,225.65565745328001]
["ECBHCAI202003Ayrshire & Arran",60,97707,61.4080874451165,46.857980043652297,79.046079764618895]
["ECBHCAI202003Borders",13,25295,51.393556038742801,27.338033972186299,87.890533430529302]
["ECBHCAI202003Dumfries & Galloway",11,36727,29.950717455822701,14.930746042396001,53.593842784365201]
["ECBHCAI202003Fife",34,75003,45.331520072530402,31.3883267060788,63.348587025833702]
["ECBHCAI202003Forth Valley",42,66078,63.561245800417701,45.804245857258898,85.918948777425896]
["ECBHCAI202003Grampian",51,106471,47.900367236148803,35.662114402934399,62.981725493985699]
["ECBHCAI202003Greater Glasgow & Clyde",142,377250,37.640821736249201,31.704041756521601,44.366220438087403]
["ECBHCAI202003Highland",19,59671,31.841262925039,19.1615167451661,49.726928964605001]
["ECBHCAI202003Lanarkshire",58,122500,47.346938775510203,35.950194744599798,61.208258254403297]
["ECBHCAI202003Lothian",68,217934,31.202107059935599,24.228452418531901,39.556855240670203]
["ECBHCAI202003Golden Jubilee",1,10016,9.9840255591054294,0.130492556217322,55.549683800270302]
["ECBHCAI202003Orkney",1,2700,37.037037037037003,0.48407905298989001,206.06875294203999]
["ECBHCAI202003Shetland",2,2091,95.648015303682499,10.741910811298,345.33625243926201]
["ECBHCAI202003Tayside",42,99451,42.231852872268803,30.433610096991998,57.086930220055599]
["ECBHCAI202003Western Isles",3,4152,72.254335260115596,14.521945254131101,211.11478613774]
["SABHCAI201404Ayrshire & Arran",22,116457,18.891092849721399,11.834727883064801,28.602831840660599]
["SABHCAI201404Borders",6,32633,18.386296080654599,6.7138808588964496,40.020516865374802]
["SABHCAI201404Dumfries & Galloway",5,43399,11.521002788082701,3.71278108093383,26.886106983893001]
["SABHCAI201404Fife",10,99647,10.035425050428,4.8043395340889399,18.456779304997202]
["SABHCAI201404Forth Valley",13,87095,14.9262299787588,7.9397849397376703,25.526046766464599]
["SABHCAI201404Grampian",27,158181,17.0690538054507,11.2458656691238,24.8356866581817]
["SABHCAI201404Greater Glasgow & Clyde",77,477840,16.1141804788214,12.7165416725128,20.140297161835601]
["SABHCAI201404Highland",14,80452,17.401680505145901,9.5055942061654193,29.199007964280302]
["SABHCAI201404Lanarkshire",31,163546,18.954911767942999,12.876491321214401,26.906056840719501]
["SABHCAI201404Lothian",44,288140,15.270354688693001,11.0943209087018,20.5003343424309]
["SABHCAI201404Golden Jubilee",0,12222,0,0,30.012252433770399]
["SABHCAI201404Orkney",0,4331,0,0,84.694008137968595]
["SABHCAI201404Shetland",1,3359,29.770765108663301,0.38910790207582702,165.64025988196099]
["SABHCAI201404Tayside",23,134798,17.062567693882698,10.8126554150136,25.603521618923601]
["SABHCAI201404Western Isles",2,8425,23.738872403560801,2.6660338880028598,85.708973750800794]
["SABHCAI201501Ayrshire & Arran",21,118008,17.795403701443998,11.0113523339529,27.203628232065402]
["SABHCAI201501Borders",6,34341,17.4718266794793,6.3799561477058901,38.030037764414999]
["SABHCAI201501Dumfries & Galloway",6,44394,13.515339910798801,4.9352181391261896,29.4181539592687]
["SABHCAI201501Fife",11,99050,11.105502271580001,5.5362090853011496,19.872196506222899]
["SABHCAI201501Forth Valley",13,87778,14.810089088382099,7.8780055290215403,25.327428776290599]
["SABHCAI201501Grampian",19,160859,11.811586544737899,7.1080067991272404,18.446313717273799]
["SABHCAI201501Greater Glasgow & Clyde",72,480533,14.9833622248628,11.723026779737999,18.8694024587091]
["SABHCAI201501Highland",9,81010,11.109739538328601,5.0695234952748498,21.091153512819702]
["SABHCAI201501Lanarkshire",33,161714,20.406396477732301,14.044432913226601,28.659250341782599]
["SABHCAI201501Lothian",47,287680,16.3375973303671,12.0031481890171,21.726134086529299]
["SABHCAI201501Golden Jubilee",1,12254,8.1606006202056491,0.106660147141562,45.404409412722998]
["SABHCAI201501Orkney",4,4585,87.241003271537593,23.470455606864999,223.356218572274]
["SABHCAI201501Shetland",0,3528,0,0,103.971017359847]
["SABHCAI201501Tayside",20,137758,14.5182130983319,8.8643221550657998,22.423448247123901]
["SABHCAI201501Western Isles",1,8813,11.346873936230599,0.14830516771504601,63.132376369398301]
["SABHCAI201502Ayrshire & Arran",18,118290,15.216839969566299,9.0137686936179708,24.050592087868399]
["SABHCAI201502Borders",6,32123,18.678205647044201,6.8204736191628399,40.6559015928704]
["SABHCAI201502Dumfries & Galloway",7,43654,16.035185779081001,6.4241052379585302,33.040302053163899]
["SABHCAI201502Fife",21,94851,22.1399879811494,13.699672815522399,33.845144072382702]
["SABHCAI201502Forth Valley",19,85671,22.177866489243701,13.3462532910881,34.635472659907599]
["SABHCAI201502Grampian",25,154379,16.1939123844564,10.4768985532736,23.906543404844999]
["SABHCAI201502Greater Glasgow & Clyde",89,454759,19.5708056355124,15.716455072192,24.0839071908553]
["SABHCAI201502Highland",10,79471,12.5832064526683,6.0240593619478799,23.142563795661999]
["SABHCAI201502Lanarkshire",14,158944,8.8081336823032004,4.8114056842310502,14.7795361180181]
["SABHCAI201502Lothian",51,274583,18.573618905758899,13.8281721104177,24.421494757760499]
["SABHCAI201502Golden Jubilee",4,11881,33.667199730662396,9.0574900225129191,86.195460159403694]
["SABHCAI201502Orkney",2,4168,47.984644913627598,5.3889960428080901,173.24810553034899]
["SABHCAI201502Shetland",1,3263,30.646644192460901,0.40055575944612398,170.51352526616799]
["SABHCAI201502Tayside",17,135612,12.5357637967142,7.29830219462636,20.072199154658101]
["SABHCAI201502Western Isles",0,8554,0,0,42.881663461017297]
["SABHCAI201503Ayrshire & Arran",18,114903,15.665387326701699,9.2794678882889894,24.759532284395998]
["SABHCAI201503Borders",5,31173,16.039521380682,5.1689277942914504,37.4307945014586]
["SABHCAI201503Dumfries & Galloway",10,42757,23.387983254203998,11.1967168312407,43.014306134786203]
["SABHCAI201503Fife",25,93360,26.778063410454202,17.324476454111299,39.531579523313702]
["SABHCAI201503Forth Valley",16,85803,18.647366642192001,10.6516202701512,30.284063768693301]
["SABHCAI201503Grampian",16,147944,10.814902936246099,6.1776143273115496,17.563831744073401]
["SABHCAI201503Greater Glasgow & Clyde",85,439656,19.333296941244999,15.4422135433681,23.9062819521113]
["SABHCAI201503Highland",12,79641,15.067615926469999,7.7766848330277698,26.321915370361399]
["SABHCAI201503Lanarkshire",24,155047,15.4791772817275,9.9147934463482592,23.032915720595302]
["SABHCAI201503Lothian",32,267000,11.9850187265918,8.1962695963727406,16.9199268869876]
["SABHCAI201503Golden Jubilee",3,12077,24.8406061107891,4.9925574807611302,72.579994373097307]
["SABHCAI201503Orkney",0,4206,0,0,87.211067343210104]
["SABHCAI201503Shetland",1,3047,32.819166393173603,0.42895091666317697,182.60112666344199]
["SABHCAI201503Tayside",27,135107,19.984160702258201,13.166470111894,29.077203633252498]
["SABHCAI201503Western Isles",1,8267,12.096286440062901,0.15810008988420199,67.301999872203595]
["SABHCAI201504Ayrshire & Arran",21,117416,17.885126388226499,11.066870496568701,27.340786267711199]
["SABHCAI201504Borders",4,32713,12.227554794729899,3.2895802573128701,31.305238350315602]
["SABHCAI201504Dumfries & Galloway",8,44283,18.065623376916701,7.7786793208674103,35.598666513066497]
["SABHCAI201504Fife",16,93976,17.025623563463,9.7252593645162708,27.650288622043799]
["SABHCAI201504Forth Valley",16,84874,18.8514739496194,10.7682090397505,30.615542139467799]
["SABHCAI201504Grampian",34,149344,22.766230983501199,15.763731170559399,31.814696758481102]
["SABHCAI201504Greater Glasgow & Clyde",91,447333,20.342787140675998,16.378230984570099,24.976786297582599]
["SABHCAI201504Highland",15,79839,18.787810468568001,10.5076082199444,30.9896466480184]
["SABHCAI201504Lanarkshire",34,158949,21.390508905372201,14.811157465199701,29.8921922924876]
["SABHCAI201504Lothian",30,268100,11.1898545318911,7.5482235605351802,15.9748678421584]
["SABHCAI201504Golden Jubilee",2,12688,15.762925598991201,1.7702818022087099,56.911893430839903]
["SABHCAI201504Orkney",1,3935,25.412960609911099,0.33215081145430803,141.39406173913801]
["SABHCAI201504Shetland",0,3187,0,0,115.095622606069]
["SABHCAI201504Tayside",31,135734,22.838787628744502,15.514894202037199,32.419128383988699]
["SABHCAI201504Western Isles",0,8107,0,0,45.246052700819298]
["SABHCAI201601Ayrshire & Arran",26,119132,21.8245307725884,14.252776392682099,31.9794661197637]
["SABHCAI201601Borders",3,32229,9.3083868565577603,1.8708342391992301,27.197511311052001]
["SABHCAI201601Dumfries & Galloway",6,45223,13.267585078389301,4.8447487797883397,28.878878598672699]
["SABHCAI201601Fife",20,94690,21.1215545464146,12.896095590215999,32.622340095335197]
["SABHCAI201601Forth Valley",10,85625,11.6788321167883,5.5911009816450798,21.4792722616648]
["SABHCAI201601Grampian",29,153525,18.889431688650099,12.647833737350201,27.129518508121201]
["SABHCAI201601Greater Glasgow & Clyde",68,462860,14.6912673378559,11.407776756212099,18.6250349782228]
["SABHCAI201601Highland",10,82505,12.1204775468153,5.8025334410443001,22.291530057633501]
["SABHCAI201601Lanarkshire",22,158839,13.8505027102916,8.6769427223671496,20.970920162351899]
["SABHCAI201601Lothian",40,272449,14.681646840326099,10.4875106338331,19.992871332361702]
["SABHCAI201601Golden Jubilee",2,12668,15.7878118092832,1.7730766898029799,57.001744857159501]
["SABHCAI201601Orkney",5,3843,130.10668748373701,41.928437713101097,303.62481316522798]
["SABHCAI201601Shetland",2,3146,63.572790845518099,7.1396489213045502,229.528958630164]
["SABHCAI201601Tayside",36,138172,26.054482818516,18.245576118511501,36.0716483522123]
["SABHCAI201601Western Isles",0,7965,0,0,46.052699214757297]
["SABHCAI201602Ayrshire & Arran",13,116346,11.1735684939749,5.9436127527070397,19.108444150424098]
["SABHCAI201602Borders",3,32572,9.2103647304433292,1.85113338742331,26.911107455602799]
["SABHCAI201602Dumfries & Galloway",4,43631,9.1677935412894502,2.4664123892983398,23.471574388711598]
["SABHCAI201602Fife",17,93313,18.218254691200599,10.6066395595219,29.1709737310074]
["SABHCAI201602Forth Valley",18,84437,21.317668794485801,12.6276241312229,33.693103000745602]
["SABHCAI201602Grampian",24,146297,16.4049843810878,10.5077956449959,24.410510698996799]
["SABHCAI201602Greater Glasgow & Clyde",72,450499,15.9822774301386,12.504580981418,20.127393338699601]
["SABHCAI201602Highland",10,78289,12.773186526842901,6.1150100467927802,23.491968059434299]
["SABHCAI201602Lanarkshire",33,149629,22.054548249336701,15.178751606503599,30.973955648778201]
["SABHCAI201602Lothian",41,263796,15.542312999439,11.1521351636493,21.085557486453801]
["SABHCAI201602Golden Jubilee",3,13158,22.7998176014592,4.5823922096938796,66.617160058055603]
["SABHCAI201602Orkney",1,3801,26.3088660878716,0.34386041648847698,146.37875110326399]
["SABHCAI201602Shetland",0,2995,0,0,122.474039814872]
["SABHCAI201602Tayside",19,118332,16.0565189466924,9.6625330908022207,25.075681795684599]
["SABHCAI201602Western Isles",2,6544,30.562347188264098,3.4323556702970901,110.34506476932999]
["SABHCAI201603Ayrshire & Arran",16,118267,13.528710460229799,7.7277767597028797,21.9711629071946]
["SABHCAI201603Borders",3,31455,9.5374344301382905,1.9168690731251701,27.8667490714957]
["SABHCAI201603Dumfries & Galloway",6,43380,13.8312586445367,5.0505780098747799,30.1057982219404]
["SABHCAI201603Fife",13,94057,13.8214061685999,7.3520904273626897,23.6366356903286]
["SABHCAI201603Forth Valley",12,83611,14.3521785411011,7.4074339116523502,25.072103694620999]
["SABHCAI201603Grampian",27,143428,18.824776194327502,12.4026150919463,27.390284681358199]
["SABHCAI201603Greater Glasgow & Clyde",84,448881,18.713200157725499,14.925852141334699,23.1685691540028]
["SABHCAI201603Highland",11,78191,14.068115256231501,7.0131026575830804,25.173499046455198]
["SABHCAI201603Lanarkshire",31,147746,20.981955518254299,14.2535070297627,29.783398346299201]
["SABHCAI201603Lothian",40,263612,15.1738160630017,10.839080863834701,20.663087422539999]
["SABHCAI201603Golden Jubilee",2,12380,16.155088852988701,1.81432435431536,58.327795141397097]
["SABHCAI201603Orkney",1,3947,25.335697998479901,0.331140978736433,140.964183669498]
["SABHCAI201603Shetland",1,3141,31.836994587710901,0.41611379913170998,177.13646384702599]
["SABHCAI201603Tayside",24,106847,22.462025138749802,14.387479100732399,33.423348186950903]
["SABHCAI201603Western Isles",2,7305,27.378507871320998,3.0747892548150801,98.849843100683998]
["SABHCAI201604Ayrshire & Arran",11,120423,9.1344676681364891,4.5536277114760297,16.3452252803981]
["SABHCAI201604Borders",5,32616,15.3298994358597,4.9402436267919896,35.774777930891901]
["SABHCAI201604Dumfries & Galloway",5,43532,11.485803546816101,3.7014377040211199,26.803963911466699]
["SABHCAI201604Fife",17,95378,17.823816813101601,10.3769984400771,28.539401872145501]
["SABHCAI201604Forth Valley",21,85427,24.582391983798999,15.210971545590001,37.578818879389097]
["SABHCAI201604Grampian",23,144162,15.954273664349801,10.1103225859312,23.940452457566199]
["SABHCAI201604Greater Glasgow & Clyde",76,443247,17.146196138947399,13.508690968526601,21.4613845524974]
["SABHCAI201604Highland",12,77349,15.514098436954599,8.0071229981921501,27.101884471821901]
["SABHCAI201604Lanarkshire",31,147122,21.0709479207732,14.313961539534001,29.909720993952799]
["SABHCAI201604Lothian",34,264048,12.876446706659401,8.9158738863237996,17.9942058743055]
["SABHCAI201604Golden Jubilee",2,12049,16.5988878745124,1.8641659479146899,59.930127301062001]
["SABHCAI201604Orkney",0,3715,0,0,98.737482973227898]
["SABHCAI201604Shetland",2,2392,83.612040133779303,9.3901904291070792,301.880478198368]
["SABHCAI201604Tayside",25,109748,22.779458395597199,14.737517966212,33.628569671397798]
["SABHCAI201604Western Isles",1,8800,11.363636363636401,0.14852425489462501,63.225640107216698]
["SABHCAI201701Ayrshire & Arran",18,119981,15.002375376101201,8.8867295552468306,23.711625491319101]
["SABHCAI201701Borders",4,33461,11.9542153551896,3.2160437212718098,30.605429071273299]
["SABHCAI201701Dumfries & Galloway",6,43221,13.8821406260845,5.06915791093145,30.216550446953502]
["SABHCAI201701Fife",13,94451,13.7637505161406,7.3214213647971196,23.538036051764799]
["SABHCAI201701Forth Valley",21,85603,24.5318505192575,15.179697746867699,37.5015567259275]
["SABHCAI201701Grampian",20,145904,13.707643381949801,8.3694161327828898,21.171519517129699]
["SABHCAI201701Greater Glasgow & Clyde",84,439173,19.126858891598499,15.255790850199,23.680714639602002]
["SABHCAI201701Highland",6,78104,7.6820649390556204,2.8051581745924401,16.7211605918746]
["SABHCAI201701Lanarkshire",35,147866,23.6700796667253,16.484548892362699,32.920531788960297]
["SABHCAI201701Lothian",28,259482,10.790729222065499,7.1687213477474296,15.596284811669401]
["SABHCAI201701Golden Jubilee",4,11569,34.575157749157199,9.3017580566579596,88.520033032576293]
["SABHCAI201701Orkney",0,3608,0,0,101.665673294219]
["SABHCAI201701Shetland",1,2383,41.963911036508598,0.54847395848623703,233.48117202832901]
["SABHCAI201701Tayside",18,106222,16.945642145694901,10.037833017341701,26.783006703639099]
["SABHCAI201701Western Isles",1,8557,11.686338670094701,0.15274201742114099,65.021109377528006]
["SABHCAI201702Ayrshire & Arran",15,116808,12.841586192726499,7.1820160662980603,21.181617686555199]
["SABHCAI201702Borders",6,32504,18.459266551809002,6.74052652191632,40.179347983871999]
["SABHCAI201702Dumfries & Galloway",5,43510,11.491611123879601,3.7033092652596502,26.8175168235801]
["SABHCAI201702Fife",20,90490,22.101889711570301,13.4946545633501,34.136472357468101]
["SABHCAI201702Forth Valley",14,84320,16.603415559772301,9.0695453637858208,27.859565805767001]
["SABHCAI201702Grampian",20,138958,14.3928381237496,8.78777250275302,22.2298060106456]
["SABHCAI201702Greater Glasgow & Clyde",86,433299,19.847726396783699,15.875076818655099,24.5121462554368]
["SABHCAI201702Highland",6,74844,8.0166746833413498,2.9273431947566699,17.449488627916399]
["SABHCAI201702Lanarkshire",26,144126,18.039770756143898,11.7810926357007,26.433660531615999]
["SABHCAI201702Lothian",29,256027,11.3269303628133,7.5841949268112003,16.268047233140699]
["SABHCAI201702Golden Jubilee",0,11614,0,0,31.583412196103101]
["SABHCAI201702Orkney",1,3521,28.4010224368077,0.37120518121917101,158.01920844745999]
["SABHCAI201702Shetland",0,2201,0,0,166.65595149729299]
["SABHCAI201702Tayside",19,109040,17.424798239178301,10.4859397074542,27.212541986857499]
["SABHCAI201702Western Isles",1,7803,12.815583749839799,0.167501402418647,71.304066761951503]
["SABHCAI201703Ayrshire & Arran",17,118443,14.3528954855922,8.3562334390185207,22.981780871486599]
["SABHCAI201703Borders",6,32452,18.488845063478401,6.7513273162938496,40.243730027972902]
["SABHCAI201703Dumfries & Galloway",4,41406,9.6604356856494196,2.59894795337574,24.732846982415001]
["SABHCAI201703Fife",13,87701,14.823092097011401,7.8849222851102398,25.349665831920301]
["SABHCAI201703Forth Valley",18,80291,22.418452877657501,13.2796789025927,35.432919481311103]
["SABHCAI201703Grampian",31,136682,22.680382201021299,15.4072858870906,32.1942755598566]
["SABHCAI201703Greater Glasgow & Clyde",76,426025,17.8393286778945,14.0547778785905,22.328957968994299]
["SABHCAI201703Highland",11,73950,14.874915483434799,7.4153010128340604,26.6171881533656]
["SABHCAI201703Lanarkshire",28,139493,20.072691819661198,13.335107516192201,29.0118871592238]
["SABHCAI201703Lothian",39,252661,15.4357023838266,10.974900989969001,21.101799730202998]
["SABHCAI201703Golden Jubilee",5,11658,42.889003259564198,13.8214947788169,100.088364813345]
["SABHCAI201703Orkney",1,2936,34.059945504087203,0.44516806644165602,189.504643373129]
["SABHCAI201703Shetland",2,2600,76.923076923076906,8.6389751947785101,277.73003994249899]
["SABHCAI201703Tayside",26,123857,20.991950394406501,13.7090496073133,30.7594868096247]
["SABHCAI201703Western Isles",1,7180,13.9275766016713,0.18203529847809199,77.491035228900699]
["SABHCAI201704Ayrshire & Arran",14,123003,11.3818362153769,6.2172797823989701,19.0980593054013]
["SABHCAI201704Borders",4,32440,12.330456226880401,3.3172638396262601,31.568688722375899]
["SABHCAI201704Dumfries & Galloway",3,42845,7.0019838954370401,1.4072847869098399,20.458597083531199]
["SABHCAI201704Fife",11,89968,12.2265694469145,6.0950728025417797,21.8782351940844]
["SABHCAI201704Forth Valley",16,86859,18.420658768809201,10.5221217610125,29.915881181514699]
["SABHCAI201704Grampian",22,137146,16.041299053563399,10.0494138004614,24.287984977088701]
["SABHCAI201704Greater Glasgow & Clyde",88,433674,20.291739878341801,16.274032413144599,25.000355264138399]
["SABHCAI201704Highland",6,74412,8.06321561038542,2.9443379302850099,17.550791900066901]
["SABHCAI201704Lanarkshire",30,143304,20.934516831351502,14.121578857390499,29.886549353002501]
["SABHCAI201704Lothian",39,256805,15.186620198204899,10.797801674525701,20.761285105947401]
["SABHCAI201704Golden Jubilee",3,12434,24.127392633102801,4.8492131812089498,70.496106807455007]
["SABHCAI201704Orkney",0,3819,0,0,96.048638189458401]
["SABHCAI201704Shetland",1,2589,38.624951718810401,0.50483331134519205,214.90368209482699]
["SABHCAI201704Tayside",23,126195,18.225761717976098,11.5497787125719,27.3489718862686]
["SABHCAI201704Western Isles",2,7572,26.4131008980454,2.96636760518015,95.364250376452205]
["SABHCAI201801Ayrshire & Arran",23,122158,18.828075115833599,11.931468464063,28.252783339508301]
["SABHCAI201801Borders",12,32986,36.379069908445999,18.7759339352199,63.551314558023201]
["SABHCAI201801Dumfries & Galloway",2,44662,4.4780797993820203,0.502918263992301,16.168064660124902]
["SABHCAI201801Fife",16,91836,17.422361601115,9.9518813323727109,28.2946069465699]
["SABHCAI201801Forth Valley",19,85107,22.3248381449235,13.434698270422,34.865000273149597]
["SABHCAI201801Grampian",28,142190,19.691961460018302,13.0821728163457,28.4616019094283]
["SABHCAI201801Greater Glasgow & Clyde",96,435205,22.058570099148699,17.866998247856301,26.937648383032801]
["SABHCAI201801Highland",5,75230,6.6462847268376999,2.1418448242914701,15.510170902485299]
["SABHCAI201801Lanarkshire",30,143873,20.851723394938599,14.0657297517914,29.768351730225099]
["SABHCAI201801Lothian",40,258580,15.4691004718076,11.0500107691128,21.065193756789402]
["SABHCAI201801Golden Jubilee",4,11871,33.695560609889597,9.0651199526135997,86.268070268206102]
["SABHCAI201801Orkney",0,3683,0,0,99.595370416926897]
["SABHCAI201801Shetland",2,2410,82.987551867219906,9.3200562267319995,299.62576923257097]
["SABHCAI201801Tayside",17,124965,13.6038090665386,7.9201164903586596,21.782347631428699]
["SABHCAI201801Western Isles",2,8190,24.420024420024401,2.74253180786619,88.168266648412299]
["SABHCAI201802Ayrshire & Arran",16,115914,13.8033369567093,7.8846470145088698,22.417167240757699]
["SABHCAI201802Borders",6,31525,19.032513877874699,6.9498516754438704,41.4271063241166]
["SABHCAI201802Dumfries & Galloway",4,42410,9.4317377976892196,2.53742133830408,24.1473299258164]
["SABHCAI201802Fife",24,87527,27.4201103659442,17.563254532612302,40.800946950439702]
["SABHCAI201802Forth Valley",8,83252,9.6093787536635809,4.1375973714261702,18.9354700091064]
["SABHCAI201802Grampian",27,136123,19.835002167157601,13.068197713888701,28.8601761001289]
["SABHCAI201802Greater Glasgow & Clyde",89,417159,21.334790811177498,17.1330341480705,26.254673997699101]
["SABHCAI201802Highland",14,73332,19.091256204658301,10.428517769519701,32.0340177377172]
["SABHCAI201802Lanarkshire",25,136851,18.2680433464133,11.8187892069172,26.968515131760601]
["SABHCAI201802Lothian",35,255469,13.7002924033836,9.5412919239442093,19.054473746350499]
["SABHCAI201802Golden Jubilee",1,12349,8.0978216859664798,0.10583961803163799,45.055116442101202]
["SABHCAI201802Orkney",1,3487,28.677946659019199,0.37482461803060002,159.55997503398501]
["SABHCAI201802Shetland",2,2417,82.7472072817542,9.2930639248755202,298.75800738539402]
["SABHCAI201802Tayside",12,117886,10.179325789321901,5.25374477704871,17.782464940798398]
["SABHCAI201802Western Isles",0,7527,0,0,48.732529460016202]
["SABHCAI201803Ayrshire & Arran",18,110109,16.3474375391657,9.6834836277513201,25.837529521419299]
["SABHCAI201803Borders",9,32651,27.564239992649501,12.5779332440726,52.329005116949801]
["SABHCAI201803Dumfries & Galloway",3,43012,6.9747977308658102,1.4018208103587899,20.379163769271301]
["SABHCAI201803Fife",23,89303,25.7550138293226,16.321112668477099,38.647117198612101]
["SABHCAI201803Forth Valley",20,82126,24.352823709909199,14.8689975335162,37.613050478865297]
["SABHCAI201803Grampian",25,134241,18.623222413420599,12.0485777203375,27.492854376059199]
["SABHCAI201803Greater Glasgow & Clyde",67,412912,16.226217692873998,12.574455405921,20.6071193106633]
["SABHCAI201803Highland",10,73340,13.635124079629099,6.5276523255162298,25.077211445391999]
["SABHCAI201803Lanarkshire",21,138817,15.1278301648933,9.36072430772251,23.125739357640398]
["SABHCAI201803Lothian",35,252485,13.862209636216001,9.6540559103237999,19.2796694992036]
["SABHCAI201803Golden Jubilee",1,12390,8.0710250201775597,0.10548938200748199,44.906023643543797]
["SABHCAI201803Orkney",0,3756,0,0,97.659677647907799]
["SABHCAI201803Shetland",1,2446,40.883074407195402,0.53434727844345897,227.467552307239]
["SABHCAI201803Tayside",19,114636,16.574200076764701,9.9740645669842607,25.884151385663699]
["SABHCAI201803Western Isles",1,7123,14.0390284992279,0.18349198976171599,78.111137574548295]
["SABHCAI201804Ayrshire & Arran",17,110740,15.3512732526639,8.9374874229516905,24.5803781087366]
["SABHCAI201804Borders",4,31191,12.824212112468301,3.4500990336147002,32.832812739375903]
["SABHCAI201804Dumfries & Galloway",5,43800,11.415525114155299,3.6787896377042801,26.6399579222368]
["SABHCAI201804Fife",16,91463,17.493412636803999,9.9924666153502599,28.4099966494122]
["SABHCAI201804Forth Valley",17,84592,20.096463022508001,11.7001295301881,32.178351046925101]
["SABHCAI201804Grampian",26,131734,19.736742222964502,12.889320579448,28.9202313584927]
["SABHCAI201804Greater Glasgow & Clyde",88,417273,21.0893108348731,16.9136865618865,25.982999304579799]
["SABHCAI201804Highland",14,72346,19.351449976501801,10.5706475143673,32.470607756368999]
["SABHCAI201804Lanarkshire",24,142634,16.826282653504801,10.777647541792,25.0373998046128]
["SABHCAI201804Lothian",35,254499,13.752509833044501,9.5776576981367505,19.127098155617201]
["SABHCAI201804Golden Jubilee",4,11765,33.999150021249498,9.1467946415194206,87.0453261499256]
["SABHCAI201804Orkney",1,3843,26.0213374967473,0.34010237914980501,144.77898333164401]
["SABHCAI201804Shetland",1,2501,39.984006397441,0.522596338693603,222.46526707057501]
["SABHCAI201804Tayside",17,115115,14.7678408547974,8.5978139879048801,23.646189217404199]
["SABHCAI201804Western Isles",0,6753,0,0,54.318043720648902]
["SABHCAI201901Ayrshire & Arran",11,111660,9.8513344080243606,4.9109932822772597,17.627987318120901]
["SABHCAI201901Borders",3,29390,10.2075535896563,2.0515521162011598,29.8247224240863]
["SABHCAI201901Dumfries & Galloway",4,46147,8.6679524129412506,2.3319400818574598,22.191870807503701]
["SABHCAI201901Fife",13,91885,14.1481199325244,7.5258809307988503,24.1953642392691]
["SABHCAI201901Forth Valley",10,80825,12.3724095267553,5.9231428586867896,22.7548739549032]
["SABHCAI201901Grampian",19,132257,14.3659692870699,8.6451897873141501,22.435527633674901]
["SABHCAI201901Greater Glasgow & Clyde",80,427318,18.721420581393701,14.844353679606201,23.300802763444501]
["SABHCAI201901Highland",12,75357,15.9242008041721,8.2187846754404301,27.818300383653199]
["SABHCAI201901Lanarkshire",31,145876,21.2509254435274,14.4362242563501,30.165194905757801]
["SABHCAI201901Lothian",33,251904,13.100228658536601,9.0160593882174496,18.398286687670801]
["SABHCAI201901Golden Jubilee",3,11654,25.742234425948201,5.1737700956883597,75.214397807095907]
["SABHCAI201901Orkney",0,3829,0,0,95.797792960444497]
["SABHCAI201901Shetland",1,2511,39.824771007566703,0.520515110741817,221.579304238752]
["SABHCAI201901Tayside",20,119250,16.771488469601699,10.240094687107399,25.903642629998199]
["SABHCAI201901Western Isles",0,6871,0,0,53.385205828197002]
["SABHCAI201902Ayrshire & Arran",18,109780,16.396429222080499,9.7125040878855007,25.914962088485598]
["SABHCAI201902Borders",2,29746,6.7235930881463002,0.75510440080764196,24.275469100063798]
["SABHCAI201902Dumfries & Galloway",3,45667,6.5692951146342002,1.3203213851392099,19.1943546115115]
["SABHCAI201902Fife",12,87857,13.658558794404501,7.0494434909815302,23.860405682085101]
["SABHCAI201902Forth Valley",14,73737,18.986397602289198,10.3712392024956,31.858071100563802]
["SABHCAI201902Grampian",26,131370,19.7914287889168,12.925034309301999,29.0003635364214]
["SABHCAI201902Greater Glasgow & Clyde",84,419871,20.006144744457199,15.957118817575999,24.7693469909042]
["SABHCAI201902Highland",10,74804,13.368269076520001,6.3998986892861396,24.5864216807263]
["SABHCAI201902Lanarkshire",27,145187,18.5967063166812,12.2523523277405,27.058440158401499]
["SABHCAI201902Lothian",25,244255,10.235205011156401,6.6218219555621403,15.1098985252976]
["SABHCAI201902Golden Jubilee",3,11897,25.21644111961,5.0680941998110498,73.678119865839804]
["SABHCAI201902Orkney",2,3479,57.487783845932697,6.4562620024214201,207.559098548576]
["SABHCAI201902Shetland",1,2542,39.339103068450001,0.51416736548886799,218.87711760169401]
["SABHCAI201902Tayside",22,113495,19.384113837613999,12.1435913923792,29.3493104336562]
["SABHCAI201902Western Isles",2,7013,28.518465706545001,3.2028141318157899,102.96565005710799]
["SABHCAI201903Ayrshire & Arran",22,110670,19.878919309659299,12.4535728298371,30.0984908978748]
["SABHCAI201903Borders",0,28962,0,0,12.6652078325234]
["SABHCAI201903Dumfries & Galloway",4,46074,8.6816859834179798,2.3356348256603701,22.227031778310401]
["SABHCAI201903Fife",14,90276,15.5079976959546,8.4711779994064909,26.021518329813901]
["SABHCAI201903Forth Valley",15,77669,19.312724510422399,10.8011810718838,31.855468703487102]
["SABHCAI201903Grampian",21,131950,15.915119363395201,9.8478792438432396,24.3292592679771]
["SABHCAI201903Greater Glasgow & Clyde",93,416741,22.3160188222421,18.011362709078298,27.3390069874586]
["SABHCAI201903Highland",10,75715,13.2074225714852,6.3228953516919999,24.290598790266799]
["SABHCAI201903Lanarkshire",31,146465,21.165466152323098,14.3781698673357,30.043887427524101]
["SABHCAI201903Lothian",25,245501,10.183257909336399,6.5882139859138196,15.033210717254001]
["SABHCAI201903Golden Jubilee",1,12067,8.2870638932626193,0.108313039120966,46.108032894962101]
["SABHCAI201903Orkney",1,2983,33.523298692591403,0.43815402047358398,186.51881761431699]
["SABHCAI201903Shetland",0,2694,0,0,136.158036097083]
["SABHCAI201903Tayside",22,115796,18.998929151266001,11.902284233290199,28.766105803894899]
["SABHCAI201903Western Isles",5,6702,74.604595643091599,24.0422241318185,174.10178409340099]
["SABHCAI201904Ayrshire & Arran",16,111501,14.349647088366901,8.1967065231682295,23.304396584292402]
["SABHCAI201904Borders",2,29415,6.7992520822709501,0.76360141106320301,24.548635181047]
["SABHCAI201904Dumfries & Galloway",2,46458,4.3049636230573904,0.483476161402215,15.543030346775501]
["SABHCAI201904Fife",10,91708,10.9041741178523,5.2202427438539702,20.0545501745219]
["SABHCAI201904Forth Valley",8,79712,10.036130068245701,4.3213475557754304,19.7763918757292]
["SABHCAI201904Grampian",20,133259,15.008367164694301,9.1635933890960803,23.180493502332201]
["SABHCAI201904Greater Glasgow & Clyde",69,429650,16.059583381822399,12.4947077760851,20.324810139035499]
["SABHCAI201904Highland",10,73909,13.530151943606301,6.4773981727984404,24.884150609601701]
["SABHCAI201904Lanarkshire",30,147326,20.3630044934363,13.7360597354132,29.0706465150936]
["SABHCAI201904Lothian",32,249135,12.844441768519101,8.7840085986775094,18.133222866420599]
["SABHCAI201904Golden Jubilee",1,11659,8.5770649283815104,0.11210339163502001,47.721556989751001]
["SABHCAI201904Orkney",1,2915,34.305317324185197,0.44837510911584999,190.86985692744699]
["SABHCAI201904Shetland",1,2673,37.411148522259602,0.48896874039382798,208.15025549700999]
["SABHCAI201904Tayside",30,117973,25.429547438820698,17.153744810926899,36.303748048135397]
["SABHCAI201904Western Isles",1,6884,14.526438117373599,0.18986249899370999,80.823014663496096]
["SABHCAI202001Ayrshire & Arran",19,107446,17.6833013792975,10.641502389114599,27.616249820811799]
["SABHCAI202001Borders",3,28855,10.396811644429,2.0895899045278798,30.377702028899499]
["SABHCAI202001Dumfries & Galloway",8,44334,18.044841430955898,7.7697310498933403,35.5577152794272]
["SABHCAI202001Fife",11,87695,12.543474542448299,6.2530533086159803,22.445305478549301]
["SABHCAI202001Forth Valley",8,76312,10.4832791697243,4.5138806002459804,20.657507982992499]
["SABHCAI202001Grampian",16,131518,12.165635122188601,6.94917025836601,19.757474441104598]
["SABHCAI202001Greater Glasgow & Clyde",75,413057,18.1573003241683,14.2812623005962,22.760723696030301]
["SABHCAI202001Highland",6,71286,8.4167999326655991,3.0734516464434498,18.320420936337801]
["SABHCAI202001Lanarkshire",29,140747,20.604346806681502,13.796092808562101,29.592526511821301]
["SABHCAI202001Lothian",43,240426,17.884920932012299,12.942019770177399,24.091586799345301]
["SABHCAI202001Golden Jubilee",1,10915,9.1617040769583102,0.119744703900385,50.974405216995599]
["SABHCAI202001Orkney",2,3184,62.814070351758801,7.0544395434749099,226.789605480684]
["SABHCAI202001Shetland",0,2514,0,0,145.90682149782899]
["SABHCAI202001Tayside",19,111519,17.037455500856399,10.252843602442701,26.607623617921099]
["SABHCAI202001Western Isles",1,6357,15.730690577316301,0.205602240533695,87.523302334986198]
["SABHCAI202002Ayrshire & Arran",23,81868,28.0940049836322,17.803345930436901,42.156929535198799]
["SABHCAI202002Borders",5,21568,23.1824925816024,7.4708357813171098,54.100062917005303]
["SABHCAI202002Dumfries & Galloway",4,27088,14.7666863555818,3.9726830684242498,37.805975419147799]
["SABHCAI202002Fife",4,63241,6.3250106734555098,1.7016182374958599,16.193422971709399]
["SABHCAI202002Forth Valley",16,58320,27.434842249657098,15.6711415301746,44.555273037469]
["SABHCAI202002Grampian",18,94592,19.029093369418099,11.2719754183025,30.0759529143474]
["SABHCAI202002Greater Glasgow & Clyde",69,304920,22.6288862652499,17.605769368998299,28.6388386338601]
["SABHCAI202002Highland",3,50361,5.9569905283850604,1.1972581302029801,17.405305534915801]
["SABHCAI202002Lanarkshire",16,100174,15.972208357457999,9.1235347898634398,25.9395005045739]
["SABHCAI202002Lothian",30,182151,16.469851936031102,11.109896385852799,23.512701376784499]
["SABHCAI202002Golden Jubilee",3,8152,36.8007850834151,7.3963587702590896,107.525587836592]
["SABHCAI202002Orkney",0,2102,0,0,174.50511381805001]
["SABHCAI202002Shetland",2,1591,125.707102451289,14.1177470184941,453.86430160307799]
["SABHCAI202002Tayside",24,81757,29.355284562789699,18.802781162175201,43.680473644227902]
["SABHCAI202002Western Isles",2,3200,62.5,7.0191673457575403,225.65565745328001]
["SABHCAI202003Ayrshire & Arran",16,97707,16.3754899853644,9.3538945422516395,26.5944458794681]
["SABHCAI202003Borders",2,25295,7.9067009290373598,0.88797531158031695,28.547068742854201]
["SABHCAI202003Dumfries & Galloway",6,36727,16.3367549759033,5.9654770078788903,35.559384835891201]
["SABHCAI202003Fife",15,75003,19.999200031998701,11.185111697827301,32.987779138583001]
["SABHCAI202003Forth Valley",11,66078,16.6469929477284,8.2987001709960708,29.7881452819604]
["SABHCAI202003Grampian",22,106471,20.662903513632799,12.9447164493437,31.285514249587301]
["SABHCAI202003Greater Glasgow & Clyde",70,377250,18.555334658714401,14.4641075397249,23.443980506767101]
["SABHCAI202003Highland",3,59671,5.0275678302693096,1.0104592967296,14.6896916767592]
["SABHCAI202003Lanarkshire",24,122500,19.591836734693899,12.549052893681299,29.1525263978052]
["SABHCAI202003Lothian",27,217934,12.3890719208568,8.1624816568670706,18.026254514109102]
["SABHCAI202003Golden Jubilee",2,10016,19.968051118210902,2.24254547787781,72.094459250249201]
["SABHCAI202003Orkney",0,2700,0,0,135.855462683534]
["SABHCAI202003Shetland",1,2091,47.8240076518412,0.625066209025682,266.08590767264798]
["SABHCAI202003Tayside",24,99451,24.1324873555821,15.457451201857801,35.908985165871997]
["SABHCAI202003Western Isles",2,4152,48.169556840077099,5.4097628869036898,173.91572828769199]
["SSICSEC201401Ayrshire & Arran",3,245,1.22448979591837,0.41728721193302398,3.5376785172698102]
["SSICSEC201401Borders",1,76,1.31578947368421,0.232642014056747,7.0838446294974897]
["SSICSEC201401Dumfries & Galloway",1,78,1.2820512820512799,0.22666733888537799,6.9110230288493701]
["SSICSEC201401Fife",10,196,5.1020408163265296,2.7945905632825698,9.1356581937329793]
["SSICSEC201401Forth Valley",4,195,2.0512820512820502,0.80051211290779101,5.1547809444806001]
["SSICSEC201401Grampian",4,429,0.93240093240093203,0.36316715369947999,2.3726142499364]
["SSICSEC201401Greater Glasgow & Clyde",15,1219,1.23051681706317,0.74710553167944205,2.02035020420655]
["SSICSEC201401Highland",3,141,2.12765957446809,0.72618123442535398,6.0685517704572201]
["SSICSEC201401Lanarkshire",3,362,0.82872928176795602,0.28222996329250799,2.40789603659378]
["SSICSEC201401Lothian",4,718,0.55710306406685195,0.21684994613967801,1.4236207610071501]
["SSICSEC201401Orkney",0,10,0,0,27.754016876661701]
["SSICSEC201401Shetland",1,6,16.6666666666667,3.00525858717302,56.350943656364599]
["SSICSEC201401Tayside",12,310,3.87096774193548,2.2279693230821498,6.6432574358943501]
["SSICSEC201401Western Isles",0,13,0,0,22.810184305529202]
["SSICSEC201402Ayrshire & Arran",4,270,1.4814814814814801,0.57757844395600499,3.7466732402293101]
["SSICSEC201402Borders",1,74,1.35135135135135,0.238940187493933,7.2655304297595702]
["SSICSEC201402Dumfries & Galloway",2,54,3.7037037037037002,1.0216153585413099,12.5354093434033]
["SSICSEC201402Fife",6,221,2.71493212669683,1.25007267430123,5.7955985893795203]
["SSICSEC201402Forth Valley",3,203,1.47783251231527,0.50383780986007498,4.2541992581185104]
["SSICSEC201402Grampian",7,431,1.6241299303944301,0.78889685019011702,3.3141144532362299]
["SSICSEC201402Greater Glasgow & Clyde",12,1311,0.91533180778031997,0.52437153731209796,1.59311546644562]
["SSICSEC201402Highland",4,156,2.5641025641025599,1.0015304054574601,6.4068038454509404]
["SSICSEC201402Lanarkshire",5,364,1.3736263736263701,0.58811153842226904,3.1748125027954699]
["SSICSEC201402Lothian",3,654,0.45871559633027498,0.15612191580213,1.3399221166822901]
["SSICSEC201402Orkney",0,11,0,0,25.884001724881401]
["SSICSEC201402Shetland",3,13,23.076923076923102,8.1793790924657106,50.256873995126902]
["SSICSEC201402Tayside",8,326,2.4539877300613502,1.2485928555014201,4.7669006419834403]
["SSICSEC201402Western Isles",0,15,0,0,20.388926630434799]
["SSICSEC201403Ayrshire & Arran",1,297,0.336700336700337,5.94590937371186E-2,1.8822936425865799]
["SSICSEC201403Borders",1,50,2,0.35391680889764598,10.495686471837001]
["SSICSEC201403Dumfries & Galloway",1,69,1.4492753623188399,0.25628586443303802,7.7633073350573598]
["SSICSEC201403Fife",12,246,4.8780487804878003,2.8121334959833799,8.3315671527476507]
["SSICSEC201403Forth Valley",3,256,1.171875,0.39932148218063901,3.3882167718941498]
["SSICSEC201403Grampian",4,462,0.86580086580086602,0.33718801505305401,2.20479191975741]
["SSICSEC201403Greater Glasgow & Clyde",17,1386,1.2265512265512299,0.76719062554901896,1.9555369140497401]
["SSICSEC201403Highland",2,206,0.970873786407767,0.26664806235500899,3.47026587653985]
["SSICSEC201403Lanarkshire",7,413,1.6949152542372901,0.82337882258794903,3.4568081836993301]
["SSICSEC201403Lothian",6,785,0.76433121019108297,0.35075221935333301,1.65745830098434]
["SSICSEC201403Orkney",0,9,0,0,29.915275355095901]
["SSICSEC201403Shetland",0,10,0,0,27.754016876661701]
["SSICSEC201403Tayside",4,354,1.1299435028248599,0.44025902383201798,2.8689146440702]
["SSICSEC201403Western Isles",0,20,0,0,16.113012549493298]
["SSICSEC201404Ayrshire & Arran",11,312,3.52564102564103,1.97984531919845,6.20197746792015]
["SSICSEC201404Borders",0,56,0,0,6.4196144488115303]
["SSICSEC201404Dumfries & Galloway",1,67,1.4925373134328399,0.26395037576767799,7.9820519731346602]
["SSICSEC201404Fife",4,249,1.6064257028112401,0.62642498922162304,4.0569815388180697]
["SSICSEC201404Forth Valley",1,257,0.38910505836575898,6.8717882631641802E-2,2.1708021939205602]
["SSICSEC201404Grampian",11,427,2.5761124121779901,1.44441795919298,4.5535172448356001]
["SSICSEC201404Greater Glasgow & Clyde",18,1334,1.3493253373313301,0.85519128864661698,2.12285932661307]
["SSICSEC201404Highland",0,169,0,0,2.2226130746301802]
["SSICSEC201404Lanarkshire",4,386,1.03626943005181,0.40369574891110899,2.6338456525196299]
["SSICSEC201404Lothian",7,684,1.0233918128655,0.49659101092813501,2.09726199243776]
["SSICSEC201404Orkney",0,9,0,0,29.915275355095901]
["SSICSEC201404Shetland",0,11,0,0,25.884001724881401]
["SSICSEC201404Tayside",2,288,0.69444444444444398,0.19064476108571399,2.4962922622858699]
["SSICSEC201404Western Isles",2,12,16.6666666666667,4.69641476148223,44.8036357384673]
["SSICSEC201501Ayrshire & Arran",1,287,0.348432055749129,6.1531732199650899E-2,1.94698424350671]
["SSICSEC201501Borders",1,70,1.4285714285714299,0.25261814032348701,7.6583697039269101]
["SSICSEC201501Dumfries & Galloway",1,56,1.78571428571429,0.31591289644639903,9.4458581791932907]
["SSICSEC201501Fife",4,227,1.7621145374449301,0.68732064944395699,4.4424306605452299]
["SSICSEC201501Forth Valley",3,226,1.3274336283185799,0.452447424360158,3.8294580270463801]
["SSICSEC201501Grampian",8,396,2.0202020202020199,1.02713228654455,3.93523281003369]
["SSICSEC201501Greater Glasgow & Clyde",12,1265,0.94861660079051402,0.54346792533813404,1.65078547871167]
["SSICSEC201501Highland",1,138,0.72463768115941996,0.12802778322552699,3.99036907636996]
["SSICSEC201501Lanarkshire",3,352,0.85227272727272696,0.29025935712663797,2.4754656171315701]
["SSICSEC201501Lothian",6,626,0.95846645367412098,0.43998718910578999,2.0751848795540102]
["SSICSEC201501Orkney",0,13,0,0,22.810184305529202]
["SSICSEC201501Shetland",0,9,0,0,29.915275355095901]
["SSICSEC201501Tayside",7,288,2.4305555555555598,1.1822290962542099,4.9312242291113302]
["SSICSEC201501Western Isles",0,13,0,0,22.810184305529202]
["SSICSEC201502Ayrshire & Arran",2,304,0.65789473684210498,0.18060048117778901,2.3666835765973802]
["SSICSEC201502Borders",1,74,1.35135135135135,0.238940187493933,7.2655304297595702]
["SSICSEC201502Dumfries & Galloway",0,70,0,0,5.2024874867283497]
["SSICSEC201502Fife",11,236,4.6610169491525397,2.6222520430890301,8.1521924235923109]
["SSICSEC201502Forth Valley",2,237,0.84388185654008396,0.231723870571898,3.02419205093004]
["SSICSEC201502Grampian",2,431,0.46403712296983801,0.12734542542699601,1.67597789966426]
["SSICSEC201502Greater Glasgow & Clyde",13,1353,0.96082779009608299,0.56236232912036099,1.63698061555351]
["SSICSEC201502Highland",3,155,1.93548387096774,0.66037571177800503,5.53548230022892]
["SSICSEC201502Lanarkshire",6,371,1.6172506738544501,0.74324385743815802,3.4829679611006599]
["SSICSEC201502Lothian",6,748,0.80213903743315496,0.36812606778199702,1.73891350012699]
["SSICSEC201502Orkney",0,10,0,0,27.754016876661701]
["SSICSEC201502Shetland",0,6,0,0,39.0343033653064]
["SSICSEC201502Tayside",10,355,2.8169014084507,1.5371278342861801,5.1069178950829901]
["SSICSEC201502Western Isles",0,8,0,0,32.441561951087699]
["SSICSEC201503Ayrshire & Arran",1,297,0.336700336700337,5.94590937371186E-2,1.8822936425865799]
["SSICSEC201503Borders",0,79,0,0,4.63728368355995]
["SSICSEC201503Dumfries & Galloway",0,63,0,0,5.7473190348525502]
["SSICSEC201503Fife",6,249,2.4096385542168699,1.1089167193471401,5.1565079576047603]
["SSICSEC201503Forth Valley",8,253,3.1620553359683798,1.6107829176763,6.11444539424825]
["SSICSEC201503Grampian",6,470,1.27659574468085,0.58634510811342999,2.7568818267947801]
["SSICSEC201503Greater Glasgow & Clyde",15,1421,1.05559465165376,0.64073410153731103,1.7343790338456]
["SSICSEC201503Highland",4,182,2.1978021978022002,0.85790927107843096,5.5139687153358103]
["SSICSEC201503Lanarkshire",3,354,0.84745762711864403,0.28861713548616602,2.4616500218258999]
["SSICSEC201503Lothian",6,759,0.79051383399209496,0.36278369298365198,1.7138728501309299]
["SSICSEC201503Orkney",0,11,0,0,25.884001724881401]
["SSICSEC201503Shetland",0,10,0,0,27.754016876661701]
["SSICSEC201503Tayside",7,347,2.0172910662824202,0.98052467864097204,4.1048471814805199]
["SSICSEC201503Western Isles",0,16,0,0,19.361341827272]
["SSICSEC201504Ayrshire & Arran",1,331,0.30211480362537801,5.3349230640992298E-2,1.6912368661880799]
["SSICSEC201504Borders",0,63,0,0,5.7473190348525502]
["SSICSEC201504Dumfries & Galloway",1,63,1.5873015873015901,0.28074219075510898,8.4587254461656105]
["SSICSEC201504Fife",6,228,2.6315789473684199,1.21151850701061,5.6214226045069102]
["SSICSEC201504Forth Valley",4,244,1.63934426229508,0.63929791489078602,4.1385924796192599]
["SSICSEC201504Grampian",3,476,0.630252100840336,0.21456545517630801,1.8364447115120299]
["SSICSEC201504Greater Glasgow & Clyde",21,1341,1.5659955257270699,1.0265071214936701,2.3821917170907398]
["SSICSEC201504Highland",4,178,2.2471910112359601,0.87726322523310696,5.6347780238540102]
["SSICSEC201504Lanarkshire",4,352,1.13636363636364,0.44276539143329402,2.88500741534365]
["SSICSEC201504Lothian",6,716,0.83798882681564202,0.38460221766935998,1.81610415995594]
["SSICSEC201504Orkney",0,8,0,0,32.441561951087699]
["SSICSEC201504Shetland",0,10,0,0,27.754016876661701]
["SSICSEC201504Tayside",10,273,3.6630036630036602,2.0016061932134601,6.6103943153806304]
["SSICSEC201504Western Isles",0,17,0,0,18.432366037156498]
["SSICSEC201601Ayrshire & Arran",3,272,1.1029411764705901,0.37578832635763199,3.19205640772164]
["SSICSEC201601Borders",0,72,0,0,5.0652939811396402]
["SSICSEC201601Dumfries & Galloway",3,59,5.0847457627118704,1.74424011594533,13.9167233222867]
["SSICSEC201601Fife",7,215,3.2558139534883699,1.5858764177717499,6.5668696780345304]
["SSICSEC201601Forth Valley",2,208,0.96153846153846201,0.26408026954240099,3.4375534039192801]
["SSICSEC201601Grampian",5,438,1.1415525114155201,0.488554334078032,2.6441520475754801]
["SSICSEC201601Greater Glasgow & Clyde",12,1265,0.94861660079051402,0.54346792533813404,1.65078547871167]
["SSICSEC201601Highland",2,162,1.2345679012345701,0.33921144271845999,4.3891558668106301]
["SSICSEC201601Lanarkshire",0,340,0,0,1.11725864467825]
["SSICSEC201601Lothian",15,696,2.1551724137931001,1.3103271466052999,3.52528136823577]
["SSICSEC201601Orkney",0,8,0,0,32.441561951087699]
["SSICSEC201601Shetland",1,8,12.5,2.2416908863296201,47.089480576986098]
["SSICSEC201601Tayside",8,267,2.9962546816479398,1.5258945377770801,5.8000110838113299]
["SSICSEC201601Western Isles",0,13,0,0,22.810184305529202]
["SSICSEC201602Ayrshire & Arran",4,300,1.3333333333333299,0.51968776846794695,3.3776060846449898]
["SSICSEC201602Borders",0,78,0,0,4.6939453774119801]
["SSICSEC201602Dumfries & Galloway",0,67,0,0,5.42280242117626]
["SSICSEC201602Fife",8,243,3.2921810699588501,1.6774396733680199,6.3607516201578704]
["SSICSEC201602Forth Valley",5,235,2.12765957446809,0.91213804718214297,4.8831672932610601]
["SSICSEC201602Grampian",2,475,0.42105263157894701,0.115541442940345,1.5220773437314901]
["SSICSEC201602Greater Glasgow & Clyde",22,1425,1.54385964912281,1.02172204891172,2.3265567246066299]
["SSICSEC201602Highland",6,178,3.3707865168539302,1.5538228306884501,7.1579350948907399]
["SSICSEC201602Lanarkshire",3,396,0.75757575757575801,0.25796722207853001,2.2034074823044101]
["SSICSEC201602Lothian",11,717,1.53417015341702,0.8587689681131,2.7261517689808699]
["SSICSEC201602Orkney",0,7,0,0,35.433884297520699]
["SSICSEC201602Shetland",0,10,0,0,27.754016876661701]
["SSICSEC201602Tayside",17,300,5.6666666666666696,3.5677175913187802,8.8866665351471195]
["SSICSEC201602Western Isles",0,17,0,0,18.432366037156498]
["SSICSEC201603Ayrshire & Arran",5,267,1.87265917602996,0.80246300161914796,4.3081256228757603]
["SSICSEC201603Borders",0,51,0,0,7.0049013887268101]
["SSICSEC201603Dumfries & Galloway",0,71,0,0,5.1329741747904896]
["SSICSEC201603Fife",9,239,3.7656903765690402,1.9935502964405301,7.00062533079962]
["SSICSEC201603Forth Valley",1,240,0.41666666666666702,7.3587908975014604E-2,2.3220656628519398]
["SSICSEC201603Grampian",5,490,1.0204081632653099,0.43661646935717602,2.3662255755414301]
["SSICSEC201603Greater Glasgow & Clyde",25,1378,1.8142235123367201,1.23183127633288,2.6645342694720799]
["SSICSEC201603Highland",5,171,2.9239766081871301,1.2552617212789401,6.6613896934873402]
["SSICSEC201603Lanarkshire",7,405,1.7283950617283901,0.83969089321309398,3.52424858848349]
["SSICSEC201603Lothian",9,749,1.2016021361815801,0.63342575163697701,2.2677954348649401]
["SSICSEC201603Orkney",0,12,0,0,24.2500757499242]
["SSICSEC201603Shetland",1,15,6.6666666666666696,1.1866588606194901,29.817077552423999]
["SSICSEC201603Tayside",4,343,1.1661807580174901,0.45440648001455097,2.9597168546719499]
["SSICSEC201603Western Isles",0,15,0,0,20.388926630434799]
["SSICSEC201604Ayrshire & Arran",2,313,0.63897763578274802,0.17540229665585899,2.2995252381123001]
["SSICSEC201604Borders",0,61,0,0,5.9245916201944402]
["SSICSEC201604Dumfries & Galloway",2,88,2.2727272727272698,0.62547971441379202,7.9126990629594198]
["SSICSEC201604Fife",7,243,2.8806584362139902,1.40223940655381,5.8257156869150304]
["SSICSEC201604Forth Valley",1,256,0.390625,6.8986441602360907E-2,2.1791524245376301]
["SSICSEC201604Grampian",3,444,0.67567567567567599,0.2300471942492,1.9675155154231501]
["SSICSEC201604Greater Glasgow & Clyde",14,1269,1.1032308904649299,0.65829200553462297,1.8433232779382001]
["SSICSEC201604Highland",2,165,1.2121212121212099,0.33303221439865399,4.3113208360344197]
["SSICSEC201604Lanarkshire",10,364,2.7472527472527499,1.4989511079679001,4.9825344010120496]
["SSICSEC201604Lothian",6,742,0.80862533692722405,0.371106946233563,1.7528829197111599]
["SSICSEC201604Orkney",0,9,0,0,29.915275355095901]
["SSICSEC201604Shetland",0,5,0,0,43.449149475208102]
["SSICSEC201604Tayside",4,282,1.4184397163120599,0.55294048678998298,3.5897735198486602]
["SSICSEC201604Western Isles",0,17,0,0,18.432366037156498]
["SSICSEC201701Ayrshire & Arran",1,252,0.39682539682539703,7.0082002160106002E-2,2.2132057821564399]
["SSICSEC201701Borders",0,54,0,0,6.6415866781001904]
["SSICSEC201701Dumfries & Galloway",2,55,3.6363636363636398,1.0029330855724901,12.3236929749017]
["SSICSEC201701Fife",4,213,1.8779342723004699,0.73264337100197796,4.7283013923644601]
["SSICSEC201701Forth Valley",3,211,1.4218009478672999,0.48468910696572398,4.0961741895280603]
["SSICSEC201701Grampian",6,406,1.47783251231527,0.67900841627576103,3.1862897867373099]
["SSICSEC201701Greater Glasgow & Clyde",20,1349,1.4825796886582701,0.96176234978499098,2.2789422530303001]
["SSICSEC201701Highland",6,169,3.55029585798817,1.63708166497775,7.5283044457733697]
["SSICSEC201701Lanarkshire",8,380,2.1052631578947398,1.0705329512416899,4.098682683541]
["SSICSEC201701Lothian",5,677,0.73855243722304298,0.31586139645717198,1.71715186242713]
["SSICSEC201701Orkney",0,0,0,0,0]
["SSICSEC201701Shetland",0,7,0,0,35.433884297520699]
["SSICSEC201701Tayside",3,259,1.15830115830116,0.39468710701741,3.3496212520855599]
["SSICSEC201701Western Isles",0,15,0,0,20.388926630434799]
["SSICSEC201702Ayrshire & Arran",4,283,1.4134275618374601,0.550981869272826,3.5772896227283399]
["SSICSEC201702Borders",0,68,0,0,5.3473196588049303]
["SSICSEC201702Dumfries & Galloway",1,74,1.35135135135135,0.238940187493933,7.2655304297595702]
["SSICSEC201702Fife",6,201,2.98507462686567,1.37510131622461,6.3584840492480303]
["SSICSEC201702Forth Valley",1,233,0.42918454935622302,7.5799878717434696E-2,2.3906587163942299]
["SSICSEC201702Grampian",7,416,1.6826923076923099,0.81742400887461897,3.4321786984321401]
["SSICSEC201702Greater Glasgow & Clyde",10,1316,0.75987841945288803,0.413266230785033,1.39313235522711]
["SSICSEC201702Highland",3,176,1.7045454545454499,0.58135373431719795,4.8910175079315401]
["SSICSEC201702Lanarkshire",3,373,0.80428954423592502,0.27389556667679898,2.3377057002746202]
["SSICSEC201702Lothian",5,658,0.75987841945288803,0.32499395023750899,1.7663825966583]
["SSICSEC201702Orkney",1,12,8.3333333333333304,1.4864709450773499,35.388592179859501]
["SSICSEC201702Shetland",0,8,0,0,32.441561951087699]
["SSICSEC201702Tayside",10,284,3.52112676056338,1.9236303199462499,6.3592586022943101]
["SSICSEC201702Western Isles",0,13,0,0,22.810184305529202]
["SSICSEC201703Ayrshire & Arran",5,314,1.5923566878980899,0.68201786238073903,3.6728557602035901]
["SSICSEC201703Borders",0,80,0,0,4.5819736264575104]
["SSICSEC201703Dumfries & Galloway",0,88,0,0,4.1828539572481302]
["SSICSEC201703Fife",11,244,4.5081967213114797,2.5356453605252698,7.8910142478697702]
["SSICSEC201703Forth Valley",5,259,1.93050193050193,0.82733248399599502,4.4388049919591097]
["SSICSEC201703Grampian",8,490,1.6326530612244901,0.82955102980736695,3.1882554895300101]
["SSICSEC201703Greater Glasgow & Clyde",12,1360,0.88235294117647101,0.50545263519847805,1.5359574523072801]
["SSICSEC201703Highland",2,186,1.0752688172042999,0.29536830046733897,3.8352332115300301]
["SSICSEC201703Lanarkshire",1,379,0.26385224274406299,4.6590394921568301E-2,1.47926259493115]
["SSICSEC201703Lothian",10,765,1.3071895424836599,0.71155590112169897,2.3894209450843298]
["SSICSEC201703Orkney",0,9,0,0,29.915275355095901]
["SSICSEC201703Shetland",0,12,0,0,24.2500757499242]
["SSICSEC201703Tayside",4,314,1.2738853503184699,0.49646609086979798,3.2291632792315399]
["SSICSEC201703Western Isles",0,14,0,0,21.531701192718099]
["SSICSEC201704Ayrshire & Arran",2,299,0.668896321070234,0.183623721835913,2.4057167122391898]
["SSICSEC201704Borders",1,70,1.4285714285714299,0.25261814032348701,7.6583697039269101]
["SSICSEC201704Dumfries & Galloway",0,75,0,0,4.8725545904700098]
["SSICSEC201704Fife",9,227,3.9647577092511002,2.09963562834298,7.3620905076741003]
["SSICSEC201704Forth Valley",4,227,1.7621145374449301,0.68732064944395699,4.4424306605452299]
["SSICSEC201704Grampian",6,467,1.2847965738758,0.59012008171116204,2.7744084561240698]
["SSICSEC201704Greater Glasgow & Clyde",17,1311,1.2967200610221199,0.81116307164889101,2.0668718186375101]
["SSICSEC201704Highland",3,149,2.0134228187919501,0.68705867460202097,5.7520259725097604]
["SSICSEC201704Lanarkshire",7,387,1.80878552971576,0.87886644531786295,3.6860519257050801]
["SSICSEC201704Lothian",10,686,1.45772594752187,0.79369267402364296,2.6624050736332099]
["SSICSEC201704Orkney",0,2,0,0,65.7628047110381]
["SSICSEC201704Shetland",0,6,0,0,39.0343033653064]
["SSICSEC201704Tayside",7,301,2.32558139534884,1.13096665746159,4.72177784984975]
["SSICSEC201704Western Isles",0,17,0,0,18.432366037156498]
["SSICSEC201801Ayrshire & Arran",3,319,0.94043887147335403,0.32033371501954899,2.72809622709448]
["SSICSEC201801Borders",0,57,0,0,6.3141008783463901]
["SSICSEC201801Dumfries & Galloway",2,72,2.7777777777777799,0.76508614661404695,9.5743581689067199]
["SSICSEC201801Fife",7,209,3.3492822966507201,1.63166582715798,6.7509060009057098]
["SSICSEC201801Forth Valley",9,231,3.8961038961039001,2.0630411424086699,7.2375257077575696]
["SSICSEC201801Grampian",3,392,0.76530612244898,0.26060292856977801,2.22564409549237]
["SSICSEC201801Greater Glasgow & Clyde",10,1255,0.79681274900398402,0.43337913562098501,1.4605525552287599]
["SSICSEC201801Highland",7,184,3.8043478260869601,1.85481083464146,7.6434046831139302]
["SSICSEC201801Lanarkshire",3,276,1.0869565217391299,0.37033214515708801,3.1465145281037898]
["SSICSEC201801Lothian",12,679,1.7673048600883701,1.0138017809148501,3.0635127822283499]
["SSICSEC201801Orkney",1,3,33.3333333333333,6.1490315276160503,79.234504487351202]
["SSICSEC201801Shetland",0,7,0,0,35.433884297520699]
["SSICSEC201801Tayside",7,279,2.5089605734767,1.2205289798926,5.0874540042229004]
["SSICSEC201801Western Isles",0,12,0,0,24.2500757499242]
["SSICSEC201802Ayrshire & Arran",2,302,0.66225165562913901,0.18179775208326299,2.3821438438278202]
["SSICSEC201802Borders",0,71,0,0,5.1329741747904896]
["SSICSEC201802Dumfries & Galloway",2,78,2.5641025641025599,0.70599454465853695,8.8754408133989795]
["SSICSEC201802Fife",7,223,3.1390134529148002,1.5286775668413,6.3365464485068497]
["SSICSEC201802Forth Valley",4,255,1.5686274509803899,0.61164565265361603,3.9631985764038502]
["SSICSEC201802Grampian",6,498,1.2048192771084301,0.55330979020214199,2.6033834771555302]
["SSICSEC201802Greater Glasgow & Clyde",15,1259,1.1914217633042099,0.72332669879570299,1.95647098921204]
["SSICSEC201802Highland",2,154,1.2987012987013,0.35686878843140901,4.6111497820848601]
["SSICSEC201802Lanarkshire",4,341,1.17302052785924,0.45707700627074399,2.9768474390397999]
["SSICSEC201802Lothian",11,701,1.5691868758915799,0.87841911385432103,2.7878798106132501]
["SSICSEC201802Orkney",0,10,0,0,27.754016876661701]
["SSICSEC201802Shetland",0,10,0,0,27.754016876661701]
["SSICSEC201802Tayside",8,268,2.98507462686567,1.5201721789723099,5.77878427213746]
["SSICSEC201802Western Isles",0,21,0,0,15.4643823264202]
["SSICSEC201803Ayrshire & Arran",0,294,0,0,1.28981310871282]
["SSICSEC201803Borders",0,60,0,0,6.0173930477932904]
["SSICSEC201803Dumfries & Galloway",0,64,0,0,5.6626022971156296]
["SSICSEC201803Fife",5,220,2.2727272727272698,0.97457484920653004,5.209083594979]
["SSICSEC201803Forth Valley",6,228,2.6315789473684199,1.21151850701061,5.6214226045069102]
["SSICSEC201803Grampian",3,493,0.60851926977687598,0.207159080774131,1.7736734421064]
["SSICSEC201803Greater Glasgow & Clyde",18,1394,1.29124820659971,0.81831426116327699,2.03190853947451]
["SSICSEC201803Highland",5,185,2.7027027027027,1.1598213771871,6.1699195273593599]
["SSICSEC201803Lanarkshire",11,380,2.8947368421052602,1.6239022863567201,5.1084581456548204]
["SSICSEC201803Lothian",12,667,1.79910044977511,1.0320927657865799,3.11815671188445]
["SSICSEC201803Orkney",0,2,0,0,65.7628047110381]
["SSICSEC201803Shetland",0,8,0,0,32.441561951087699]
["SSICSEC201803Tayside",6,279,2.1505376344085998,0.98923583992587805,4.6116375818055797]
["SSICSEC201803Western Isles",0,19,0,0,16.818436536845098]
["SSICSEC201804Ayrshire & Arran",4,294,1.3605442176870699,0.53031852542000602,3.4454860633278401]
["SSICSEC201804Borders",0,67,0,0,5.42280242117626]
["SSICSEC201804Dumfries & Galloway",1,83,1.2048192771084301,0.212992258770482,6.5137377876588802]
["SSICSEC201804Fife",4,238,1.6806722689075599,0.65546146613853096,4.24096660909749]
["SSICSEC201804Forth Valley",5,253,1.97628458498024,0.84702028091023496,4.5421378616959496]
["SSICSEC201804Grampian",7,462,1.51515151515152,0.73582597708559205,3.0941454123308998]
["SSICSEC201804Greater Glasgow & Clyde",16,1365,1.17216117216117,0.72277783343117197,1.8956113213110599]
["SSICSEC201804Highland",2,167,1.19760479041916,0.32903629932488299,4.2609464683382603]
["SSICSEC201804Lanarkshire",7,387,1.80878552971576,0.87886644531786295,3.6860519257050801]
["SSICSEC201804Lothian",8,705,1.1347517730496499,0.57608727025294504,2.2230712441457601]
["SSICSEC201804Orkney",0,13,0,0,22.810184305529202]
["SSICSEC201804Shetland",0,5,0,0,43.449149475208102]
["SSICSEC201804Tayside",5,299,1.6722408026755899,0.71633186851657404,3.8542423194417501]
["SSICSEC201804Western Isles",0,8,0,0,32.441561951087699]
["SSICSEC201901Ayrshire & Arran",3,255,1.1764705882352899,0.40089055408692098,3.4012803488900398]
["SSICSEC201901Borders",0,68,0,0,5.3473196588049303]
["SSICSEC201901Dumfries & Galloway",0,72,0,0,5.0652939811396402]
["SSICSEC201901Fife",12,185,6.4864864864864904,3.74909999996015,10.994261632222599]
["SSICSEC201901Forth Valley",7,203,3.4482758620689702,1.68017815534496,6.9455528388070897]
["SSICSEC201901Grampian",9,456,1.9736842105263199,1.0417557220878599,3.7080537775311302]
["SSICSEC201901Greater Glasgow & Clyde",9,1306,0.68912710566615598,0.36296824090774799,1.3045310964167001]
["SSICSEC201901Highland",5,159,3.1446540880503102,1.3505186979646999,7.1495206040318502]
["SSICSEC201901Lanarkshire",7,367,1.9073569482288799,0.92691655049320099,3.8841941771058601]
["SSICSEC201901Lothian",10,686,1.45772594752187,0.79369267402364296,2.6624050736332099]
["SSICSEC201901Orkney",0,4,0,0,48.990002040399901]
["SSICSEC201901Shetland",0,6,0,0,39.0343033653064]
["SSICSEC201901Tayside",2,269,0.74349442379182196,0.20412607015241499,2.6699224620362201]
["SSICSEC201901Western Isles",0,15,0,0,20.388926630434799]
["SSICSEC201902Ayrshire & Arran",2,279,0.71684587813620104,0.19680150212168801,2.5756336700736302]
["SSICSEC201902Borders",0,74,0,0,4.9351503566216497]
["SSICSEC201902Dumfries & Galloway",0,81,0,0,4.5279674122128801]
["SSICSEC201902Fife",4,204,1.9607843137254899,0.76507553668887296,4.9323401875934598]
["SSICSEC201902Forth Valley",2,222,0.90090090090090102,0.247403017178004,3.2247650864840298]
["SSICSEC201902Grampian",8,472,1.6949152542372901,0.86127632324664605,3.3085146323990999]
["SSICSEC201902Greater Glasgow & Clyde",4,1219,0.32813781788351098,0.12767606051480501,0.84069138789388498]
["SSICSEC201902Highland",1,182,0.54945054945054905,9.7054951196549805E-2,3.04626710371473]
["SSICSEC201902Lanarkshire",6,376,1.59574468085106,0.73333318410419202,3.4372473947476201]
["SSICSEC201902Lothian",13,693,1.87590187590188,1.0995003465498501,3.1829075923561998]
["SSICSEC201902Orkney",1,8,12.5,2.2416908863296201,47.089480576986098]
["SSICSEC201902Shetland",0,8,0,0,32.441561951087699]
["SSICSEC201902Tayside",2,284,0.70422535211267601,0.19333286238323999,2.5309432672658501]
["SSICSEC201902Western Isles",0,16,0,0,19.361341827272]
["SSICSEC201903Ayrshire & Arran",5,303,1.6501650165016499,0.70684832168959699,3.8041436689661698]
["SSICSEC201903Borders",1,57,1.7543859649122799,0.31035847066800898,9.29096693826272]
["SSICSEC201903Dumfries & Galloway",1,86,1.16279069767442,0.20555157424055501,6.2965588066965603]
["SSICSEC201903Fife",6,236,2.5423728813559299,1.1702695319334,5.4347564518825902]
["SSICSEC201903Forth Valley",2,219,0.91324200913242004,0.25079695573225103,3.2681151324954398]
["SSICSEC201903Grampian",10,463,2.15982721382289,1.17731134557443,3.9296885447524001]
["SSICSEC201903Greater Glasgow & Clyde",3,1367,0.21945866861741001,7.4661853240225604E-2,0.64326208487195302]
["SSICSEC201903Highland",4,216,1.8518518518518501,0.72243517617336495,4.6639885034214004]
["SSICSEC201903Lanarkshire",4,398,1.0050251256281399,0.391502963055743,2.5553298188165199]
["SSICSEC201903Lothian",12,718,1.6713091922005601,0.95858970028024404,2.89843377966328]
["SSICSEC201903Orkney",0,8,0,0,32.441561951087699]
["SSICSEC201903Shetland",0,10,0,0,27.754016876661701]
["SSICSEC201903Tayside",3,311,0.96463022508038598,0.328587192302288,2.7973021437956098]
["SSICSEC201903Western Isles",0,16,0,0,19.361341827272]
["SSICSEC201904Ayrshire & Arran",2,251,0.79681274900398402,0.218782882292307,2.8582657628268602]
["SSICSEC201904Borders",0,63,0,0,5.7473190348525502]
["SSICSEC201904Dumfries & Galloway",0,72,0,0,5.0652939811396402]
["SSICSEC201904Fife",5,216,2.31481481481481,0.99269514967384498,5.3034744560786597]
["SSICSEC201904Forth Valley",2,205,0.97560975609756095,0.26795077630589498,3.4868566950025]
["SSICSEC201904Grampian",6,469,1.2793176972281499,0.58759805484635996,2.7626993809122502]
["SSICSEC201904Greater Glasgow & Clyde",4,1306,0.30627871362940301,0.119166375128341,0.78488187009459298]
["SSICSEC201904Highland",3,178,1.68539325842697,0.57480306049524699,4.8373798503458403]
["SSICSEC201904Lanarkshire",5,349,1.4326647564469901,0.61345115171149101,3.30944229395931]
["SSICSEC201904Lothian",6,685,0.87591240875912402,0.40203366292051901,1.8977113002176]
["SSICSEC201904Orkney",0,8,0,0,32.441561951087699]
["SSICSEC201904Shetland",0,9,0,0,29.915275355095901]
["SSICSEC201904Tayside",2,290,0.68965517241379304,0.18932854847483299,2.47932013843675]
["SSICSEC201904Western Isles",0,11,0,0,25.884001724881401]
["SSIHIP201401Ayrshire & Arran",0,113,0,0,3.2878700736723898]
["SSIHIP201401Borders",2,52,3.8461538461538498,1.06114883220776,12.981428744365999]
["SSIHIP201401Dumfries & Galloway",1,39,2.5641025641025599,0.45405860652373697,13.181286478627101]
["SSIHIP201401Fife",2,135,1.4814814814814801,0.40721180990761202,5.2406631785684601]
["SSIHIP201401Forth Valley",0,84,0,0,4.3733265332143301]
["SSIHIP201401Grampian",1,171,0.58479532163742698,0.10330277288595401,3.2377785258438698]
["SSIHIP201401Greater Glasgow & Clyde",2,453,0.44150110375275903,0.12115660502036001,1.5953245560647999]
["SSIHIP201401Highland",0,99,0,0,3.7354533573962301]
["SSIHIP201401Lanarkshire",0,111,0,0,3.3451292911279502]
["SSIHIP201401Lothian",2,289,0.69204152249134998,0.18998437512299901,2.48777725437226]
["SSIHIP201401Golden Jubilee",1,349,0.28653295128939799,5.0596719226339897E-2,1.60499037707976]
["SSIHIP201401Orkney",0,0,0,0,0]
["SSIHIP201401Shetland",0,0,0,0,0]
["SSIHIP201401Tayside",5,196,2.5510204081632701,1.0944401954660601,5.8318454227435597]
["SSIHIP201401Western Isles",0,15,0,0,20.388926630434799]
["SSIHIP201402Ayrshire & Arran",0,143,0,0,2.6161523709902399]
["SSIHIP201402Borders",0,72,0,0,5.0652939811396402]
["SSIHIP201402Dumfries & Galloway",0,47,0,0,7.5560171198388701]
["SSIHIP201402Fife",1,135,0.74074074074074103,0.13087545613434901,4.0765090741505201]
["SSIHIP201402Forth Valley",1,70,1.4285714285714299,0.25261814032348701,7.6583697039269101]
["SSIHIP201402Grampian",0,218,0,0,1.73168603183533]
["SSIHIP201402Greater Glasgow & Clyde",4,404,0.99009900990098998,0.38567865538740198,2.51780151926864]
["SSIHIP201402Highland",1,91,1.0989010989011001,0.19424213233478901,5.9650803590613899]
["SSIHIP201402Lanarkshire",2,101,1.98019801980198,0.54472082927216703,6.9347529673887003]
["SSIHIP201402Lothian",1,269,0.37174721189591098,6.5650990890140606E-2,2.0753714924848299]
["SSIHIP201402Golden Jubilee",0,343,0,0,1.10759493670886]
["SSIHIP201402Orkney",0,1,0,0,79.345670852610695]
["SSIHIP201402Shetland",0,0,0,0,0]
["SSIHIP201402Tayside",3,195,1.5384615384615401,0.52456178146258703,4.4249055332240799]
["SSIHIP201402Western Isles",0,9,0,0,29.915275355095901]
["SSIHIP201403Ayrshire & Arran",0,122,0,0,3.0527266023318198]
["SSIHIP201403Borders",2,74,2.7027027027027,0.74431965623096896,9.32947122165438]
["SSIHIP201403Dumfries & Galloway",0,44,0,0,8.0298317782013999]
["SSIHIP201403Fife",1,161,0.62111801242235998,0.109724029448312,3.43404162194066]
["SSIHIP201403Forth Valley",1,72,1.3888888888888899,0.245588864043216,7.4567802842869897]
["SSIHIP201403Grampian",0,233,0,0,1.6220123491819001]
["SSIHIP201403Greater Glasgow & Clyde",6,425,1.4117647058823499,0.64857915345717798,3.0454654541555199]
["SSIHIP201403Highland",0,67,0,0,5.42280242117626]
["SSIHIP201403Lanarkshire",1,110,0.90909090909090895,0.16065339495988401,4.9706869937907996]
["SSIHIP201403Lothian",1,245,0.40816326530612201,7.2085356391811295E-2,2.2754321004964302]
["SSIHIP201403Golden Jubilee",0,354,0,0,1.0735476255415799]
["SSIHIP201403Orkney",0,1,0,0,79.345670852610695]
["SSIHIP201403Shetland",0,0,0,0,0]
["SSIHIP201403Tayside",4,202,1.98019801980198,0.77267650330660997,4.98009650273299]
["SSIHIP201403Western Isles",0,15,0,0,20.388926630434799]
["SSIHIP201404Ayrshire & Arran",0,123,0,0,3.0286593672738298]
["SSIHIP201404Borders",1,69,1.4492753623188399,0.25628586443303802,7.7633073350573598]
["SSIHIP201404Dumfries & Galloway",0,32,0,0,10.7182715057364]
["SSIHIP201404Fife",0,156,0,0,2.4033793455521]
["SSIHIP201404Forth Valley",0,54,0,0,6.6415866781001904]
["SSIHIP201404Grampian",1,215,0.46511627906976699,8.2149568140425705E-2,2.5871783841318998]
["SSIHIP201404Greater Glasgow & Clyde",5,398,1.25628140703518,0.53776180001281704,2.9067795316959999]
["SSIHIP201404Highland",1,47,2.12765957446809,0.37656710104649899,11.1132365243311]
["SSIHIP201404Lanarkshire",2,98,2.0408163265306101,0.56144964757722804,7.1383508268850697]
["SSIHIP201404Lothian",1,255,0.39215686274509798,6.9257107940528403E-2,2.1875671428754102]
["SSIHIP201404Golden Jubilee",1,334,0.29940119760479,5.2869868475524398E-2,1.6762244763298499]
["SSIHIP201404Orkney",0,0,0,0,0]
["SSIHIP201404Shetland",0,0,0,0,0]
["SSIHIP201404Tayside",0,180,0,0,2.0896249815058199]
["SSIHIP201404Western Isles",0,13,0,0,22.810184305529202]
["SSIHIP201501Ayrshire & Arran",0,55,0,0,6.5287143789427899]
["SSIHIP201501Borders",0,80,0,0,4.5819736264575104]
["SSIHIP201501Dumfries & Galloway",0,38,0,0,9.1812932583840006]
["SSIHIP201501Fife",1,134,0.74626865671641796,0.13185304171489001,4.10605481774118]
["SSIHIP201501Forth Valley",2,64,3.125,0.86119577125165903,10.6974938822942]
["SSIHIP201501Grampian",2,221,0.90497737556561098,0.24852407734474999,3.2390867562376502]
["SSIHIP201501Greater Glasgow & Clyde",1,341,0.29325513196480901,5.17841695886418E-2,1.6422109864482199]
["SSIHIP201501Highland",0,94,0,0,3.9263462576245698]
["SSIHIP201501Lanarkshire",2,95,2.1052631578947398,0.57923854515239204,7.3542631383492898]
["SSIHIP201501Lothian",1,212,0.47169811320754701,8.3312740725204906E-2,2.6231164184359601]
["SSIHIP201501Golden Jubilee",0,419,0,0,0.90851988073075096]
["SSIHIP201501Orkney",0,5,0,0,43.449149475208102]
["SSIHIP201501Shetland",0,0,0,0,0]
["SSIHIP201501Tayside",9,187,4.8128342245989302,2.5523878694331001,8.8924962648437091]
["SSIHIP201501Western Isles",0,14,0,0,21.531701192718099]
["SSIHIP201502Ayrshire & Arran",0,151,0,0,2.4809870215755998]
["SSIHIP201502Borders",2,79,2.5316455696202498,0.69702211647619094,8.7687535324731307]
["SSIHIP201502Dumfries & Galloway",0,42,0,0,8.3801612509161991]
["SSIHIP201502Fife",0,129,0,0,2.8918651988533699]
["SSIHIP201502Forth Valley",2,56,3.5714285714285698,0.98492185025776402,12.119005852210099]
["SSIHIP201502Grampian",2,252,0.79365079365079405,0.217913615768799,2.8471078662732099]
["SSIHIP201502Greater Glasgow & Clyde",5,392,1.27551020408163,0.54601098487603295,2.9507412513719999]
["SSIHIP201502Highland",1,88,1.13636363636364,0.20087336004305201,6.1596430072676203]
["SSIHIP201502Lanarkshire",1,116,0.86206896551724099,0.152334856469619,4.7220993967446203]
["SSIHIP201502Lothian",2,248,0.80645161290322598,0.22143279641083399,2.8922704202142202]
["SSIHIP201502Golden Jubilee",1,420,0.238095238095238,4.2040945772280798E-2,1.33620979695802]
["SSIHIP201502Orkney",0,2,0,0,65.7628047110381]
["SSIHIP201502Shetland",0,0,0,0,0]
["SSIHIP201502Tayside",2,164,1.2195121951219501,0.33506679012033402,4.3369573087919697]
["SSIHIP201502Western Isles",0,20,0,0,16.113012549493298]
["SSIHIP201503Ayrshire & Arran",0,130,0,0,2.8702585743147102]
["SSIHIP201503Borders",1,60,1.6666666666666701,0.29480838608736798,8.8553382267794802]
["SSIHIP201503Dumfries & Galloway",0,51,0,0,7.0049013887268101]
["SSIHIP201503Fife",0,135,0,0,2.7668940720936699]
["SSIHIP201503Forth Valley",1,58,1.72413793103448,0.30499598845417702,9.1410726772983306]
["SSIHIP201503Grampian",2,239,0.836820083682008,0.22978221357475501,2.9993185665222302]
["SSIHIP201503Greater Glasgow & Clyde",4,388,1.0309278350515501,0.401611150294229,2.6204263260737699]
["SSIHIP201503Highland",0,106,0,0,3.4973998922084202]
["SSIHIP201503Lanarkshire",0,89,0,0,4.1378002964188498]
["SSIHIP201503Lothian",1,263,0.38022813688212898,6.7149436738730903E-2,2.1220144717373102]
["SSIHIP201503Golden Jubilee",0,412,0,0,0.92381329814044599]
["SSIHIP201503Orkney",0,0,0,0,0]
["SSIHIP201503Tayside",0,182,0,0,2.0671367444102899]
["SSIHIP201503Western Isles",0,21,0,0,15.4643823264202]
["SSIHIP201504Ayrshire & Arran",0,135,0,0,2.7668940720936699]
["SSIHIP201504Borders",2,88,2.2727272727272698,0.62547971441379202,7.9126990629594198]
["SSIHIP201504Dumfries & Galloway",0,55,0,0,6.5287143789427899]
["SSIHIP201504Fife",1,129,0.775193798449612,0.136968533684451,4.2604491427060802]
["SSIHIP201504Forth Valley",1,53,1.88679245283019,0.33383673867494101,9.9431435011494091]
["SSIHIP201504Grampian",0,273,0,0,1.38765272271219]
["SSIHIP201504Greater Glasgow & Clyde",5,407,1.22850122850123,0.525845029001061,2.84323930909907]
["SSIHIP201504Highland",0,56,0,0,6.4196144488115303]
["SSIHIP201504Lanarkshire",2,103,1.94174757281553,0.53411133321984605,6.8053519470005899]
["SSIHIP201504Lothian",1,268,0.37313432835820898,6.5896070366263701E-2,2.0830024058051499]
["SSIHIP201504Golden Jubilee",1,411,0.24330900243309,4.2961827422093798E-2,1.36519010333895]
["SSIHIP201504Orkney",0,2,0,0,65.7628047110381]
["SSIHIP201504Shetland",0,0,0,0,0]
["SSIHIP201504Tayside",2,195,1.02564102564103,0.28171396519349601,3.6619276067914401]
["SSIHIP201504Western Isles",0,16,0,0,19.361341827272]
["SSIHIP201601Ayrshire & Arran",0,96,0,0,3.8476947484815902]
["SSIHIP201601Borders",1,69,1.4492753623188399,0.25628586443303802,7.7633073350573598]
["SSIHIP201601Dumfries & Galloway",0,45,0,0,7.8654261940640797]
["SSIHIP201601Fife",2,133,1.5037593984962401,0.41334978576213199,5.31707137271599]
["SSIHIP201601Forth Valley",0,58,0,0,6.2119996895293799]
["SSIHIP201601Grampian",0,301,0,0,1.2601954588875]
["SSIHIP201601Greater Glasgow & Clyde",2,365,0.54794520547945202,0.15039202796377499,1.9756154505852801]
["SSIHIP201601Highland",0,122,0,0,3.0527266023318198]
["SSIHIP201601Lanarkshire",0,102,0,0,3.6295747607745898]
["SSIHIP201601Lothian",0,196,0,0,1.9223224794036899]
["SSIHIP201601Golden Jubilee",1,448,0.223214285714286,3.9412661395000999E-2,1.25342978604676]
["SSIHIP201601Orkney",0,2,0,0,65.7628047110381]
["SSIHIP201601Shetland",0,0,0,0,0]
["SSIHIP201601Tayside",1,217,0.460829493087558,8.1391997422022605E-2,2.5637618141786902]
["SSIHIP201601Western Isles",0,19,0,0,16.818436536845098]
["SSIHIP201602Ayrshire & Arran",0,106,0,0,3.4973998922084202]
["SSIHIP201602Borders",1,58,1.72413793103448,0.30499598845417702,9.1410726772983306]
["SSIHIP201602Dumfries & Galloway",0,57,0,0,6.3141008783463901]
["SSIHIP201602Fife",1,111,0.90090090090090102,0.15920445055909099,4.9274540425305204]
["SSIHIP201602Forth Valley",0,48,0,0,7.4102651152742203]
["SSIHIP201602Grampian",1,313,0.31948881789137401,5.6418449998160702E-2,1.78727884227659]
["SSIHIP201602Greater Glasgow & Clyde",4,426,0.93896713615023497,0.36572880019501902,2.3891464840957499]
["SSIHIP201602Highland",0,105,0,0,3.5295328256843002]
["SSIHIP201602Lanarkshire",1,132,0.75757575757575801,0.13385269033438901,4.1664500151696702]
["SSIHIP201602Lothian",2,259,0.77220077220077199,0.21201692749995699,2.7713768731769499]
["SSIHIP201602Golden Jubilee",1,474,0.21097046413502099,3.7250221486160397E-2,1.1852469407533801]
["SSIHIP201602Orkney",0,0,0,0,0]
["SSIHIP201602Shetland",0,0,0,0,0]
["SSIHIP201602Tayside",6,220,2.7272727272727302,1.2557816447416199,5.8213657666421401]
["SSIHIP201602Western Isles",0,9,0,0,29.915275355095901]
["SSIHIP201603Ayrshire & Arran",0,93,0,0,3.9668902620361499]
["SSIHIP201603Borders",2,75,2.6666666666666701,0.73435350236005503,9.2116648432848791]
["SSIHIP201603Dumfries & Galloway",0,54,0,0,6.6415866781001904]
["SSIHIP201603Fife",0,113,0,0,3.2878700736723898]
["SSIHIP201603Forth Valley",1,64,1.5625,0.27634707504014,8.33429890029063]
["SSIHIP201603Grampian",1,286,0.34965034965035002,6.1746971182093102E-2,1.95369870673302]
["SSIHIP201603Greater Glasgow & Clyde",5,390,1.2820512820512799,0.54881724311043201,2.9656921434043499]
["SSIHIP201603Highland",0,93,0,0,3.9668902620361499]
["SSIHIP201603Lanarkshire",0,91,0,0,4.0505432215399102]
["SSIHIP201603Lothian",2,245,0.81632653061224503,0.22414768957744999,2.9270939034680898]
["SSIHIP201603Golden Jubilee",1,446,0.224215246636771,3.9589448788706003E-2,1.25900098837851]
["SSIHIP201603Orkney",0,0,0,0,0]
["SSIHIP201603Shetland",0,0,0,0,0]
["SSIHIP201603Tayside",2,188,1.0638297872340401,0.292220835550212,3.7953180506976101]
["SSIHIP201603Western Isles",0,15,0,0,20.388926630434799]
["SSIHIP201604Ayrshire & Arran",0,148,0,0,2.5300049525294801]
["SSIHIP201604Borders",1,71,1.40845070422535,0.24905391347781999,7.5562308479382896]
["SSIHIP201604Dumfries & Galloway",3,50,6,2.06145963646305,16.217343370877]
["SSIHIP201604Fife",2,111,1.8018018018018001,0.49550748667772898,6.3326802083735396]
["SSIHIP201604Forth Valley",0,54,0,0,6.6415866781001904]
["SSIHIP201604Grampian",4,297,1.34680134680135,0.52494933121393506,3.4112084342014901]
["SSIHIP201604Greater Glasgow & Clyde",2,456,0.43859649122806998,0.120358974850641,1.5849238877698799]
["SSIHIP201604Highland",1,94,1.0638297872340401,0.188034733905247,5.7824318161102903]
["SSIHIP201604Lanarkshire",2,101,1.98019801980198,0.54472082927216703,6.9347529673887003]
["SSIHIP201604Lothian",0,232,0,0,1.62888989898305]
["SSIHIP201604Golden Jubilee",0,405,0,0,0.93963040942996001]
["SSIHIP201604Orkney",0,0,0,0,0]
["SSIHIP201604Shetland",0,0,0,0,0]
["SSIHIP201604Tayside",2,188,1.0638297872340401,0.292220835550212,3.7953180506976101]
["SSIHIP201604Western Isles",0,19,0,0,16.818436536845098]
["SSIHIP201701Ayrshire & Arran",0,145,0,0,2.5809988605336098]
["SSIHIP201701Borders",1,64,1.5625,0.27634707504014,8.33429890029063]
["SSIHIP201701Dumfries & Galloway",0,53,0,0,6.7584304453076598]
["SSIHIP201701Fife",0,108,0,0,3.4348578704167299]
["SSIHIP201701Forth Valley",1,52,1.92307692307692,0.340272040906551,10.1207462680244]
["SSIHIP201701Grampian",1,264,0.37878787878787901,6.6894963603423299E-2,2.11409559200855]
["SSIHIP201701Greater Glasgow & Clyde",3,382,0.78534031413612604,0.267434005663087,2.2832500055995699]
["SSIHIP201701Highland",0,86,0,0,4.2759701519118103]
["SSIHIP201701Lanarkshire",1,99,1.0101010101010099,0.17852613200520301,5.5016655414032201]
["SSIHIP201701Lothian",3,258,1.16279069767442,0.39621990008764402,3.3623883577293001]
["SSIHIP201701Golden Jubilee",0,447,0,0,0.85209528135824197]
["SSIHIP201701Orkney",0,0,0,0,0]
["SSIHIP201701Shetland",0,0,0,0,0]
["SSIHIP201701Tayside",2,192,1.0416666666666701,0.28612294459291898,3.71792930988213]
["SSIHIP201701Western Isles",0,14,0,0,21.531701192718099]
["SSIHIP201702Ayrshire & Arran",1,143,0.69930069930069905,0.123547409238715,3.8546168167027099]
["SSIHIP201702Borders",0,62,0,0,5.8346091225000603]
["SSIHIP201702Dumfries & Galloway",1,52,1.92307692307692,0.340272040906551,10.1207462680244]
["SSIHIP201702Fife",0,113,0,0,3.2878700736723898]
["SSIHIP201702Forth Valley",0,51,0,0,7.0049013887268101]
["SSIHIP201702Grampian",0,288,0,0,1.316330502574]
["SSIHIP201702Greater Glasgow & Clyde",7,443,1.58013544018059,0.76746981199132802,3.2253544908488698]
["SSIHIP201702Highland",0,115,0,0,3.2325381011363001]
["SSIHIP201702Lanarkshire",0,113,0,0,3.2878700736723898]
["SSIHIP201702Lothian",4,247,1.6194331983805701,0.63151144344996601,4.0892366302347796]
["SSIHIP201702Golden Jubilee",1,481,0.207900207900208,3.6707979113978599E-2,1.1681391297149699]
["SSIHIP201702Orkney",0,0,0,0,0]
["SSIHIP201702Shetland",0,0,0,0,0]
["SSIHIP201702Tayside",5,175,2.8571428571428599,1.2264270311919501,6.5131592842961696]
["SSIHIP201702Western Isles",0,18,0,0,17.5884550582375]
["SSIHIP201703Ayrshire & Arran",1,122,0.81967213114754101,0.14483536709422801,4.4971907991337901]
["SSIHIP201703Borders",0,70,0,0,5.2024874867283497]
["SSIHIP201703Dumfries & Galloway",0,36,0,0,9.6421830448576404]
["SSIHIP201703Fife",1,99,1.0101010101010099,0.17852613200520301,5.5016655414032201]
["SSIHIP201703Forth Valley",0,51,0,0,7.0049013887268101]
["SSIHIP201703Grampian",2,252,0.79365079365079405,0.217913615768799,2.8471078662732099]
["SSIHIP201703Greater Glasgow & Clyde",2,343,0.58309037900874605,0.16004697401066201,2.1008121616870201]
["SSIHIP201703Highland",0,112,0,0,3.3162525379483698]
["SSIHIP201703Lanarkshire",0,99,0,0,3.7354533573962301]
["SSIHIP201703Lothian",0,262,0,0,1.44507104982817]
["SSIHIP201703Golden Jubilee",1,447,0.223713646532438,3.9500857288371098E-2,1.25620921028303]
["SSIHIP201703Orkney",0,0,0,0,0]
["SSIHIP201703Shetland",0,0,0,0,0]
["SSIHIP201703Tayside",2,170,1.1764705882352899,0.32321904361174703,4.1875539819471497]
["SSIHIP201703Western Isles",0,14,0,0,21.531701192718099]
["SSIHIP201704Ayrshire & Arran",0,143,0,0,2.6161523709902399]
["SSIHIP201704Borders",1,55,1.8181818181818199,0.32166975922527902,9.6060004604832301]
["SSIHIP201704Dumfries & Galloway",2,36,5.5555555555555598,1.5369663767066899,18.144974107611201]
["SSIHIP201704Fife",0,114,0,0,3.2599693147411402]
["SSIHIP201704Forth Valley",0,60,0,0,6.0173930477932904]
["SSIHIP201704Grampian",2,297,0.673400673400673,0.184861550143499,2.4216928625441101]
["SSIHIP201704Greater Glasgow & Clyde",6,397,1.51133501259446,0.69444151989549396,3.2576432936567898]
["SSIHIP201704Highland",0,101,0,0,3.66419436559534]
["SSIHIP201704Lanarkshire",1,111,0.90090090090090102,0.15920445055909099,4.9274540425305204]
["SSIHIP201704Lothian",0,199,0,0,1.8938915883132501]
["SSIHIP201704Golden Jubilee",3,379,0.79155672823219003,0.26955371592015598,2.30111780984925]
["SSIHIP201704Orkney",0,0,0,0,0]
["SSIHIP201704Shetland",0,0,0,0,0]
["SSIHIP201704Tayside",1,170,0.58823529411764697,0.10391087887323,3.2563895325357799]
["SSIHIP201704Western Isles",0,9,0,0,29.915275355095901]
["SSIHIP201801Ayrshire & Arran",0,129,0,0,2.8918651988533699]
["SSIHIP201801Borders",1,44,2.2727272727272698,0.40231483856369998,11.8079791315376]
["SSIHIP201801Dumfries & Galloway",1,37,2.7027027027027,0.47868510549077498,13.8243784375634]
["SSIHIP201801Fife",1,113,0.88495575221238898,0.15638358136017899,4.8432056060525204]
["SSIHIP201801Forth Valley",0,48,0,0,7.4102651152742203]
["SSIHIP201801Grampian",4,302,1.32450331125828,0.516238267608506,3.3555698840621599]
["SSIHIP201801Greater Glasgow & Clyde",2,338,0.59171597633136097,0.16241672734965601,2.1315112205653999]
["SSIHIP201801Highland",0,55,0,0,6.5287143789427899]
["SSIHIP201801Lanarkshire",0,98,0,0,3.7721324095458]
["SSIHIP201801Lothian",5,206,2.42718446601942,1.0410876514298799,5.5551258734384001]
["SSIHIP201801Golden Jubilee",1,449,0.22271714922048999,3.9324858464613997E-2,1.25066263385058]
["SSIHIP201801Orkney",0,0,0,0,0]
["SSIHIP201801Shetland",0,0,0,0,0]
["SSIHIP201801Tayside",2,173,1.15606936416185,0.317603909596543,4.1166468549294501]
["SSIHIP201801Western Isles",0,16,0,0,19.361341827272]
["SSIHIP201802Ayrshire & Arran",0,133,0,0,2.8073334424619398]
["SSIHIP201802Borders",0,74,0,0,4.9351503566216497]
["SSIHIP201802Dumfries & Galloway",0,45,0,0,7.8654261940640797]
["SSIHIP201802Fife",0,143,0,0,2.6161523709902399]
["SSIHIP201802Forth Valley",0,48,0,0,7.4102651152742203]
["SSIHIP201802Grampian",1,296,0.337837837837838,5.9660053007111601E-2,1.8885686117278699]
["SSIHIP201802Greater Glasgow & Clyde",12,381,3.1496062992125999,1.81070286948614,5.4238580511627701]
["SSIHIP201802Highland",0,102,0,0,3.6295747607745898]
["SSIHIP201802Lanarkshire",1,107,0.934579439252336,0.16516291511190101,5.10506053889815]
["SSIHIP201802Lothian",2,297,0.673400673400673,0.184861550143499,2.4216928625441101]
["SSIHIP201802Golden Jubilee",1,478,0.209205020920502,3.6938423516124697E-2,1.1754101989357399]
["SSIHIP201802Orkney",0,0,0,0,0]
["SSIHIP201802Shetland",0,0,0,0,0]
["SSIHIP201802Tayside",1,151,0.66225165562913901,0.11699648169822099,3.6556330958830001]
["SSIHIP201802Western Isles",0,15,0,0,20.388926630434799]
["SSIHIP201803Ayrshire & Arran",2,99,2.0202020202020199,0.55576036255231098,7.0691696268683097]
["SSIHIP201803Borders",0,74,0,0,4.9351503566216497]
["SSIHIP201803Dumfries & Galloway",1,38,2.6315789473684199,0.46604675535300499,13.4951784368003]
["SSIHIP201803Fife",1,135,0.74074074074074103,0.13087545613434901,4.0765090741505201]
["SSIHIP201803Forth Valley",0,58,0,0,6.2119996895293799]
["SSIHIP201803Grampian",1,274,0.36496350364963498,6.4452439151137103E-2,2.0380404920729802]
["SSIHIP201803Greater Glasgow & Clyde",3,346,0.86705202312138696,0.29530009983410399,2.5178587697800299]
["SSIHIP201803Highland",1,121,0.826446280991736,0.146033579652323,4.5331759146188197]
["SSIHIP201803Lanarkshire",0,105,0,0,3.5295328256843002]
["SSIHIP201803Lothian",2,263,0.76045627376425895,0.208788490774269,2.7298837402421801]
["SSIHIP201803Golden Jubilee",1,489,0.20449897750511301,3.6107287726999497E-2,1.1491822657522499]
["SSIHIP201803Orkney",0,0,0,0,0]
["SSIHIP201803Shetland",0,0,0,0,0]
["SSIHIP201803Tayside",1,142,0.70422535211267601,0.124418220451322,3.8810232996636498]
["SSIHIP201803Western Isles",0,11,0,0,25.884001724881401]
["SSIHIP201804Ayrshire & Arran",0,143,0,0,2.6161523709902399]
["SSIHIP201804Borders",1,87,1.14942528735632,0.20318554244781001,6.22734848601492]
["SSIHIP201804Dumfries & Galloway",0,51,0,0,7.0049013887268101]
["SSIHIP201804Fife",1,144,0.69444444444444398,0.12268870304019799,3.82856723574834]
["SSIHIP201804Forth Valley",0,64,0,0,5.6626022971156296]
["SSIHIP201804Grampian",3,288,1.0416666666666701,0.35487456405297801,3.0173657197174002]
["SSIHIP201804Greater Glasgow & Clyde",3,378,0.79365079365079405,0.27026777293406501,2.3071360510599699]
["SSIHIP201804Highland",0,86,0,0,4.2759701519118103]
["SSIHIP201804Lanarkshire",2,130,1.5384615384615401,0.42291172310416097,5.4359542796931803]
["SSIHIP201804Lothian",1,264,0.37878787878787901,6.6894963603423299E-2,2.11409559200855]
["SSIHIP201804Golden Jubilee",0,473,0,0,0.80563440773623796]
["SSIHIP201804Orkney",0,0,0,0,0]
["SSIHIP201804Shetland",0,0,0,0,0]
["SSIHIP201804Tayside",5,156,3.2051282051282,1.37663567902672,7.2829372982207499]
["SSIHIP201804Western Isles",0,12,0,0,24.2500757499242]
["SSIHIP201901Ayrshire & Arran",0,147,0,0,2.54677754677755]
["SSIHIP201901Borders",1,61,1.63934426229508,0.28996561143639799,8.7190656277680603]
["SSIHIP201901Dumfries & Galloway",1,28,3.5714285714285698,0.633235649754187,17.712576118498699]
["SSIHIP201901Fife",0,151,0,0,2.4809870215755998]
["SSIHIP201901Forth Valley",0,65,0,0,5.5803467670710702]
["SSIHIP201901Grampian",0,299,0,0,1.2685179314863]
["SSIHIP201901Greater Glasgow & Clyde",2,391,0.51150895140664998,0.14038352442082899,1.8456280812458501]
["SSIHIP201901Highland",0,69,0,0,5.2739094144005598]
["SSIHIP201901Lanarkshire",0,109,0,0,3.40441822873834]
["SSIHIP201901Lothian",2,241,0.829875518672199,0.22787282525526101,2.9748508948968699]
["SSIHIP201901Golden Jubilee",0,395,0,0,0.963189396492242]
["SSIHIP201901Orkney",0,0,0,0,0]
["SSIHIP201901Shetland",0,0,0,0,0]
["SSIHIP201901Tayside",2,174,1.14942528735632,0.315775303952331,4.0935417512248602]
["SSIHIP201901Western Isles",0,16,0,0,19.361341827272]
["SSIHIP201902Ayrshire & Arran",0,158,0,0,2.3736789552253601]
["SSIHIP201902Borders",2,97,2.0618556701030899,0.56725662042430802,7.2088992517554296]
["SSIHIP201902Dumfries & Galloway",0,45,0,0,7.8654261940640797]
["SSIHIP201902Fife",1,130,0.76923076923076905,0.13591392530527099,4.2286483632507501]
["SSIHIP201902Forth Valley",0,71,0,0,5.1329741747904896]
["SSIHIP201902Grampian",1,308,0.32467532467532501,5.7334701775023499E-2,1.8159240295809]
["SSIHIP201902Greater Glasgow & Clyde",0,397,0,0,0.95838356098768196]
["SSIHIP201902Highland",0,120,0,0,3.10202710559295]
["SSIHIP201902Lanarkshire",1,107,0.934579439252336,0.16516291511190101,5.10506053889815]
["SSIHIP201902Lothian",0,231,0,0,1.6358260206028199]
["SSIHIP201902Golden Jubilee",4,424,0.94339622641509402,0.36745673600339002,2.4002965633485198]
["SSIHIP201902Orkney",0,0,0,0,0]
["SSIHIP201902Shetland",0,0,0,0,0]
["SSIHIP201902Tayside",1,161,0.62111801242235998,0.109724029448312,3.43404162194066]
["SSIHIP201902Western Isles",0,8,0,0,32.441561951087699]
["SSIHIP201903Ayrshire & Arran",0,129,0,0,2.8918651988533699]
["SSIHIP201903Borders",1,74,1.35135135135135,0.238940187493933,7.2655304297595702]
["SSIHIP201903Dumfries & Galloway",0,49,0,0,7.2700296735904999]
["SSIHIP201903Fife",2,142,1.40845070422535,0.38709351215819499,4.9896988433837102]
["SSIHIP201903Forth Valley",0,67,0,0,5.42280242117626]
["SSIHIP201903Grampian",2,268,0.74626865671641796,0.204888625696307,2.6797324183234501]
["SSIHIP201903Greater Glasgow & Clyde",4,348,1.14942528735632,0.44786472460608601,2.9177407069290102]
["SSIHIP201903Highland",2,105,1.9047619047619,0.52390722652503796,6.6806910153236698]
["SSIHIP201903Lanarkshire",1,93,1.0752688172042999,0.19005930979555999,5.8420591186484101]
["SSIHIP201903Lothian",1,241,0.4149377593361,7.3282408169576999E-2,2.3125866598319398]
["SSIHIP201903Golden Jubilee",3,439,0.68337129840546695,0.232670331566945,1.98970444081216]
["SSIHIP201903Orkney",0,0,0,0,0]
["SSIHIP201903Shetland",0,0,0,0,0]
["SSIHIP201903Tayside",1,145,0.68965517241379304,0.121841851192856,3.8028673698851199]
["SSIHIP201903Western Isles",0,21,0,0,15.4643823264202]
["SSIHIP201904Ayrshire & Arran",0,150,0,0,2.4971139145718699]
["SSIHIP201904Borders",2,90,2.2222222222222201,0.61153137948636005,7.7446773808075804]
["SSIHIP201904Dumfries & Galloway",0,46,0,0,7.7076177329780702]
["SSIHIP201904Fife",1,127,0.78740157480314998,0.13912762312385901,4.3255074776392002]
["SSIHIP201904Forth Valley",0,55,0,0,6.5287143789427899]
["SSIHIP201904Grampian",1,275,0.36363636363636398,6.4217961201392004E-2,2.0307348722352301]
["SSIHIP201904Greater Glasgow & Clyde",4,319,1.25391849529781,0.48866767268368,3.1792611196404801]
["SSIHIP201904Highland",2,101,1.98019801980198,0.54472082927216703,6.9347529673887003]
["SSIHIP201904Lanarkshire",1,125,0.8,0.14135587198986699,4.3925834767918897]
["SSIHIP201904Lothian",1,236,0.42372881355932202,7.4835815678341605E-2,2.3607716852722902]
["SSIHIP201904Golden Jubilee",1,434,0.230414746543779,4.0684399817946602E-2,1.2934967286997601]
["SSIHIP201904Orkney",0,0,0,0,0]
["SSIHIP201904Shetland",0,0,0,0,0]
["SSIHIP201904Tayside",3,170,1.76470588235294,0.60193332515890796,5.0593123145498797]
["SSIHIP201904Western Isles",1,17,5.8823529411764701,1.0460130645164201,26.9825452035628]
["CDICA201404Scotland",121,1347888.2191780801,8.9770055319411899,7.4487301317391497,10.7264886844834]
["CDICA201501Scotland",92,1324849.3150684901,6.9441859503277703,5.5978218398942801,8.5165461468452595]
["CDICA201502Scotland",98,1339569.8630137001,7.3157811851279204,5.9391391649141996,8.9157102660484302]
["CDICA201503Scotland",131,1354290.4109589001,9.6729622346838902,8.0873971841936108,11.4784440108307]
["CDICA201504Scotland",116,1354290.4109589001,8.5653711391093896,7.0775790894797197,10.2734594029065]
["CDICA201601Scotland",97,1343791.53005464,7.2183815592330403,5.8534553400033298,8.8059294054404695]
["CDICA201602Scotland",91,1343791.53005464,6.77188373082687,5.4521278317052397,8.3144896324820294]
["CDICA201603Scotland",119,1358558.46994536,8.7592843909608504,7.25619003356283,10.4819016234153]
["CDICA201604Scotland",94,1358558.46994536,6.9190985945405004,5.59116968587022,8.4673396236653193]
["CDICA201701Scotland",74,1337621.91780822,5.5322060004260303,4.3437831980688397,6.9452988274147902]
["CDICA201702Scotland",100,1352484.38356164,7.3938007133700996,6.0157287281777601,8.9929576082430493]
["CDICA201703Scotland",103,1367346.8493150701,7.5328363137410799,6.14838627266231,9.1358679886174397]
["CDICA201704Scotland",74,1367346.8493150701,5.4119406525906797,4.2493531285456099,6.7943140702970801]
["CDICA201801Scotland",86,1340901.36986301,6.4135962519589098,5.1298738781579099,7.9208573419680697]
["CDICA201802Scotland",102,1355800.2739726,7.5232319950144202,6.1341357205035498,9.1328046286770803]
["CDICA201803Scotland",92,1370699.17808219,6.7119030543756102,5.4105747993778204,8.2316678304162298]
["CDICA201804Scotland",86,1370699.17808219,6.2741702464815496,5.0183548808066503,7.7486647910557203]
["CDICA201901Scotland",50,1347115.0684931499,3.71163541774711,2.7546192987465101,4.8934544218180802]
["CDICA201902Scotland",66,1362083.01369863,4.8455196442676502,3.7473289517505601,6.1648094582668396]
["CDICA201903Scotland",72,1377050.9589041099,5.2285646754350603,4.0908444172835399,6.5846296486419602]
["CDICA201904Scotland",63,1377050.9589041099,4.5749940910056797,3.5153530815178802,5.8535246265778502]
["CDICA202001Scotland",46,1358361.47540984,3.3864329070523098,2.4790580037745098,4.5171528103274099]
["CDICA202002Scotland",79,1358361.47540984,5.8158304273289696,4.6042678252956302,7.2483779160398498]
["CDICA202003Scotland",90,1373288.52459016,6.55361188770285,5.2697101954887398,8.0556163262775495]
["ECBCOM201603Scotland",719,1358558.46994536,52.923743505049202,49.125387442299498,56.937816940371498]
["ECBCOM201604Scotland",631,1358558.46994536,46.446289501649503,42.892421919518803,50.216052786060501]
["ECBCOM201701Scotland",571,1337621.91780822,42.687697651935999,39.257594063061902,46.337222824400499]
["ECBCOM201702Scotland",662,1352484.38356164,48.946960722509999,45.288773004525602,52.821946601692602]
["ECBCOM201703Scotland",677,1367346.8493150701,49.511943537890403,45.851964112205401,53.386334128631297]
["ECBCOM201704Scotland",658,1367346.8493150701,48.122391208171202,44.515126953207997,51.944105428929703]
["ECBCOM201801Scotland",578,1340901.36986301,43.105332949212197,39.662271171807802,46.767261441280297]
["ECBCOM201802Scotland",598,1355800.2739726,44.106791500182602,40.641938543820103,47.788056279224101]
["ECBCOM201803Scotland",667,1370699.17808219,48.661297144223198,45.037852575077203,52.498648658132801]
["ECBCOM201804Scotland",603,1370699.17808219,43.992147193353198,40.550365760495097,47.647976222648602]
["ECBCOM201901Scotland",598,1347115.0684931499,44.391159596255399,40.903967820748299,48.096158458433599]
["ECBCOM201902Scotland",604,1362083.01369863,44.343846441479698,40.8773641139828,48.025727989862297]
["ECBCOM201903Scotland",606,1377050.9589041099,44.007086018245097,40.572495456827099,47.654729809711696]
["ECBCOM201904Scotland",568,1377050.9589041099,41.247565772876598,37.924623829062199,44.783654317982297]
["ECBCOM202001Scotland",514,1358361.47540984,37.8397068309758,34.638617130831399,41.257027819991201]
["ECBCOM202002Scotland",488,1358361.47540984,35.925636057424498,32.808370062737403,39.259215324703703]
["ECBCOM202003Scotland",614,1373288.52459016,44.710196656106099,41.243078512923603,48.390933134645898]
["SABCAUN201404Scotland",119,1347888.2191780801,8.8286252752148897,7.3136320129283803,10.5648792155097]
["SABCAUN201501Scotland",126,1324849.3150684901,9.5105155406662902,7.9223621441722498,11.323594404888301]
["SABCAUN201502Scotland",131,1339569.8630137001,9.7792585229771092,8.1762696807232107,11.6045807582025]
["SABCAUN201503Scotland",113,1354290.4109589001,8.3438529199945002,6.8763613337165603,10.0317254013473]
["SABCAUN201504Scotland",104,1354290.4109589001,7.6792982626497999,6.27438339865492,9.3048693057810006]
["SABCAUN201601Scotland",139,1343791.53005464,10.3438663580762,8.6956686321061696,12.213520450769501]
["SABCAUN201602Scotland",121,1343791.53005464,9.0043728728577097,7.4714383651456098,10.759189507895]
["SABCAUN201603Scotland",127,1358558.46994536,9.3481438458153594,7.7929792397554802,11.1226286816047]
["SABCAUN201604Scotland",135,1358558.46994536,9.9370033006698701,8.3313858429196195,11.7617563586473]
["SABCAUN201701Scotland",142,1337621.91780822,10.615854757574301,8.94150252280971,12.512621419730801]
["SABCAUN201702Scotland",126,1352484.38356164,9.3161888988463204,7.7604859531102797,11.0922214509591]
["SABCAUN201703Scotland",127,1367346.8493150701,9.28806030917589,7.742891247807,11.051139958395]
["SABCAUN201704Scotland",132,1367346.8493150701,9.65373197489148,8.0770536546090401,11.4482043043933]
["SABCAUN201801Scotland",135,1340901.36986301,10.067854581563401,8.4410942204030892,11.9166361386493]
["SABCAUN201802Scotland",123,1355800.2739726,9.0721326998703304,7.5396800430011304,10.824450856356201]
["SABCAUN201803Scotland",132,1370699.17808219,9.6301217736693498,8.0572995468128799,11.4202053493817]
["SABCAUN201804Scotland",113,1370699.17808219,8.2439678820048208,6.7940437737553703,9.9116346851729507]
["SABCAUN201901Scotland",144,1347115.0684931499,10.6895100031117,9.0147838810787402,12.585042319213301]
["SABCAUN201902Scotland",133,1362083.01369863,9.7644562528423897,8.1754309570329795,11.572094610822299]
["SABCAUN201903Scotland",102,1377050.9589041099,7.4071332901996696,6.0394735842328204,8.9918669586147608]
["SABCAUN201904Scotland",132,1377050.9589041099,9.5857019049642709,8.0201344728503194,11.3675285469355]
["SABCAUN202001Scotland",149,1358361.47540984,10.9690978945825,9.2784188606197908,12.878657186919501]
["SABCAUN202002Scotland",132,1358361.47540984,9.7175900811066391,8.1304822510858301,11.5239325976942]
["SABCAUN202003Scotland",149,1373288.52459016,10.8498685696414,9.1775664817000102,12.7386717827138]
["CDIHCAI201404Scotland",321,1710525,18.766168281667898,16.769081208116901,20.935624339360601]
["CDIHCAI201501Scotland",251,1722305,14.5734930804939,12.826092041472799,16.492488476415801]
["CDIHCAI201502Scotland",308,1660203,18.551948165374998,16.537611442618399,20.743945544003701]
["CDIHCAI201503Scotland",313,1619988,19.3211307738082,17.239620039258,21.5846855327163]
["CDIHCAI201504Scotland",367,1640478,22.3715282984593,20.1408912676734,24.781683683632899]
["CDIHCAI201601Scotland",252,1672871,15.063923040091,13.261190553826101,17.043313433527899]
["CDIHCAI201602Scotland",250,1603639,15.5895435319296,13.7167006642996,17.6466858701001]
["CDIHCAI201603Scotland",263,1586248,16.5800051442145,14.6364627212903,18.709772638953201]
["CDIHCAI201604Scotland",233,1590008,14.6540143194248,12.8325709452178,16.6614727075888]
["CDIHCAI201701Scotland",257,1579585,16.270096259460601,14.341448416051,18.385797842847499]
["CDIHCAI201702Scotland",238,1549065,15.3641067353533,13.4739020112962,17.445200544195]
["CDIHCAI201703Scotland",288,1537335,18.733717764833301,16.6322733365194,21.0271426880924]
["CDIHCAI201704Scotland",235,1573065,14.938988535120901,13.0897792076125,16.9761995073451]
["CDIHCAI201801Scotland",228,1582946,14.4035235567101,12.5943498389643,16.3995850443529]
["CDIHCAI201802Scotland",244,1523228,16.018613103225501,14.07147283432,18.159830255553899]
["CDIHCAI201803Scotland",255,1509347,16.894723347248799,14.884443614899499,19.100776828311702]
["CDIHCAI201804Scotland",220,1520249,14.471313580867299,12.621996773298299,16.515300201886699]
["CDIHCAI201901Scotland",186,1536734,12.1035911224714,10.426480905762499,13.973647075545101]
["CDIHCAI201902Scotland",184,1500700,12.2609448923836,10.5531708960379,14.166322600032]
["CDIHCAI201903Scotland",207,1510265,13.706203878127299,11.9024200613341,15.7060754225871]
["CDIHCAI201904Scotland",231,1534177,15.0569328050153,13.1775946046711,17.1290729139094]
["CDIHCAI202001Scotland",201,1476165,13.6163640243469,11.798811353400501,15.6346002741072]
["CDIHCAI202002Scotland",167,1081085,15.4474440030155,13.1932180212826,17.976292310493498]
["CDIHCAI202003Scotland",227,1303046,17.420720373647601,15.227916064296,19.840567389674]
["ECBHCAI201603Scotland",582,1586248,36.690353589098301,33.769571146130403,39.796141723350203]
["ECBHCAI201604Scotland",564,1590008,35.471519640152799,32.603998733632501,38.5236484303868]
["ECBHCAI201701Scotland",547,1579585,34.629348847956898,31.787663469183201,37.656899772875001]
["ECBHCAI201702Scotland",534,1549065,34.472407549069899,31.610115707745599,37.524258991249098]
["ECBHCAI201703Scotland",585,1537335,38.052864209817599,35.0312339796332,41.2653797530266]
["ECBHCAI201704Scotland",529,1573065,33.628616745016899,30.823507699802501,36.6204057728362]
["ECBHCAI201801Scotland",524,1582946,33.102834840859998,30.328728281173301,36.062468657024397]
["ECBHCAI201802Scotland",580,1523228,38.077031147011503,35.040747150237898,41.305979521646499]
["ECBHCAI201803Scotland",606,1509347,40.149813131108999,37.016268475013597,43.477736650869403]
["ECBHCAI201804Scotland",582,1520249,38.283202291203601,35.235619093587303,41.523822884528002]
["ECBHCAI201901Scotland",573,1536734,37.286869425678098,34.2958651297321,40.468860639763903]
["ECBHCAI201902Scotland",584,1500700,38.915172919304297,35.822480274256201,42.203413025996099]
["ECBHCAI201903Scotland",608,1510265,40.2578355454175,37.120927378230398,43.589000165122101]
["ECBHCAI201904Scotland",626,1534177,40.803636086318598,37.6693242268082,44.1291398393805]
["ECBHCAI202001Scotland",538,1476165,36.445790274122501,33.430673171119302,39.659817834908402]
["ECBHCAI202002Scotland",429,1081085,39.682356151458997,36.015519497966501,43.621253373974497]
["ECBHCAI202003Scotland",547,1303046,41.978564072181598,38.533801877270399,45.6486371377041]
["SABHCAI201404Scotland",275,1710525,16.076935443796501,14.2326675970838,18.093822552832801]
["SABHCAI201501Scotland",263,1722305,15.2702337855374,13.480225464549701,17.2317559485655]
["SABHCAI201502Scotland",284,1660203,17.106341814826301,15.174386187312299,19.216093627999602]
["SABHCAI201503Scotland",275,1619988,16.975434385933699,15.0280951102736,19.105040174485399]
["SABHCAI201504Scotland",303,1640478,18.470226360853399,16.448762784035701,20.671514011994098]
["SABHCAI201601Scotland",279,1672871,16.6779147943864,14.778051836226,18.754257719996001]
["SABHCAI201602Scotland",260,1603639,16.213125273206799,14.302000398359301,18.308476724630701]
["SABHCAI201603Scotland",273,1586248,17.210423590762598,15.229130452892599,19.377873352439]
["SABHCAI201604Scotland",265,1590008,16.666582809646201,14.720047563694999,18.798888785620399]
["SABHCAI201701Scotland",259,1579585,16.3967117945536,14.4603366634046,18.520126122907001]
["SABHCAI201702Scotland",248,1549065,16.009657438519401,14.078854533386799,18.131268368649501]
["SABHCAI201703Scotland",278,1537335,18.0832414535544,16.019701804526701,20.3388267352985]
["SABHCAI201704Scotland",262,1573065,16.655382962560399,14.6993990069258,18.799159757234701]
["SABHCAI201801Scotland",296,1582946,18.6993112841499,16.629425873930899,20.955597158464499]
["SABHCAI201802Scotland",264,1523228,17.331614177260398,15.3036976975408,19.553453048176902]
["SABHCAI201803Scotland",253,1509347,16.762215713152798,14.7600863232016,18.9601344284515]
["SABHCAI201804Scotland",269,1520249,17.6944697875151,15.642829975957699,19.940375987539898]
["SABHCAI201901Scotland",240,1536734,15.617536932221199,13.703912285044,17.7235656434754]
["SABHCAI201902Scotland",251,1500700,16.725528086892801,14.7200922592715,18.927897224877299]
["SABHCAI201903Scotland",264,1510265,17.480375960510202,15.435053342578801,19.721285456306301]
["SABHCAI201904Scotland",233,1534177,15.1872958596042,13.2995674315701,17.267808666697398]
["SABHCAI202001Scotland",241,1476165,16.3260882082965,14.329662828970999,18.522803609018101]
["SABHCAI202002Scotland",219,1081085,20.257426566828698,17.662991200504901,23.125625038691702]
["SABHCAI202003Scotland",225,1303046,17.267233850531799,15.0844383575332,19.677093506958801]
["SSICSEC201401Scotland",61,3998,1.52576288144072,1.18967693208673,1.9549152976507]
["SSICSEC201402Scotland",58,4103,1.4135998050207199,1.09514363808799,1.82295283780238]
["SSICSEC201403Scotland",58,4563,1.2710935787858899,0.98460159532845903,1.63956649493331]
["SSICSEC201404Scotland",61,4261,1.4315888289134,1.1161441892242401,1.83453046185776]
["SSICSEC201501Scotland",47,3966,1.1850731215330299,0.89238252895644499,1.5722397370805701]
["SSICSEC201502Scotland",56,4358,1.2849931161083099,0.99091176714745399,1.6648838949417]
["SSICSEC201503Scotland",56,4511,1.2414098869430299,0.95726088449706703,1.60853455780594]
["SSICSEC201504Scotland",60,4300,1.3953488372092999,1.0856144775655301,1.79185201655451]
["SSICSEC201601Scotland",58,4023,1.4417101665423799,1.11695255467395,1.85911682933161]
["SSICSEC201602Scotland",78,4448,1.75359712230216,1.4074133929905199,2.1830467887014802]
["SSICSEC201603Scotland",71,4446,1.59694107062528,1.2680390526762499,2.0094169358695]
["SSICSEC201604Scotland",51,4258,1.1977454203851601,0.91218111812317704,1.5712898771385899]
["SSICSEC201701Scotland",58,4047,1.4331603657029901,1.1103192163542499,1.84811786496732]
["SSICSEC201702Scotland",51,4115,1.23936816524909,0.94392116796221404,1.6257722137886199]
["SSICSEC201703Scotland",58,4514,1.28489144882588,0.99530322417147798,1.65732629696977]
["SSICSEC201704Scotland",66,4224,1.5625,1.2300894535240701,1.98293536746261]
["SSICSEC201801Scotland",64,3975,1.61006289308176,1.2629148714924201,2.05065257487187]
["SSICSEC201802Scotland",61,4191,1.4554998806967301,1.1348130681289099,1.86509996791994]
["SSICSEC201803Scotland",66,4293,1.53738644304682,1.21028974525536,1.9511393379112101]
["SSICSEC201804Scotland",59,4346,1.3575701794753801,1.05395623374655,1.7471020852506201]
["SSICSEC201901Scotland",64,4051,1.5798568254751899,1.2391855949695001,2.01227557184896]
["SSICSEC201902Scotland",43,4118,1.0441962117532799,0.77615838092823297,1.40348869721276]
["SSICSEC201903Scotland",51,4408,1.1569872958257701,0.88110307211698902,1.51793138097852]
["SSICSEC201904Scotland",35,4112,0.85116731517509703,0.61265856813335096,1.1814240807227201]
["SSIHIP201401Scotland",16,2106,0.75973409306742601,0.46818248739216201,1.2305990704271501]
["SSIHIP201402Scotland",13,2098,0.61963775023832202,0.36247685390728701,1.05730663501024]
["SSIHIP201403Scotland",16,2125,0.752941176470588,0.46399174659346498,1.21962811502517]
["SSIHIP201404Scotland",12,1974,0.60790273556231,0.34808535644114802,1.05959056664592]
["SSIHIP201501Scotland",18,1959,0.91883614088820798,0.58199146284918302,1.44780044700233]
["SSIHIP201502Scotland",18,2159,0.83371931449745296,0.52801406843203702,1.3140810715911599]
["SSIHIP201503Scotland",10,2135,0.46838407494145201,0.254614773793572,0.86008207893268895]
["SSIHIP201504Scotland",15,2191,0.684618895481515,0.415325625320695,1.1265441843275299]
["SSIHIP201601Scotland",7,2173,0.32213529682466602,0.156127966033444,0.66348150853742005]
["SSIHIP201602Scotland",17,2318,0.733390854184642,0.45839721157295699,1.17141250498996]
["SSIHIP201603Scotland",14,2153,0.65025545750116098,0.38773734408270299,1.0885694927290499]
["SSIHIP201604Scotland",17,2226,0.76370170709793395,0.47736363664666198,1.21968964283292]
["SSIHIP201701Scotland",12,2164,0.55452865064695001,0.31749684784504001,0.966803628721145]
["SSIHIP201702Scotland",19,2301,0.82572794437201202,0.52925880909014,1.2861197401342399]
["SSIHIP201703Scotland",9,2077,0.433317284545017,0.22813566310460101,0.82151655453656802]
["SSIHIP201704Scotland",16,2071,0.77257363592467398,0.47610379083335003,1.25133410129297]
["SSIHIP201801Scotland",17,2008,0.84661354581673298,0.52925264164365005,1.3516906692015001]
["SSIHIP201802Scotland",18,2270,0.79295154185021999,0.50216558454474902,1.2500057188565099]
["SSIHIP201803Scotland",13,2155,0.603248259860789,0.352880399840029,1.0294164764106399]
["SSIHIP201804Scotland",16,2276,0.70298769771529002,0.43317662204866297,1.13893259817085]
["SSIHIP201901Scotland",8,2146,0.372786579683131,0.18901495153524001,0.73391816130432896]
["SSIHIP201902Scotland",10,2257,0.44306601683650898,0.240841980599039,0.81370337100807899]
["SSIHIP201903Scotland",17,2121,0.80150872230080195,0.50102298120602595,1.2798909466839401]
["SSIHIP201904Scotland",17,2145,0.79254079254079302,0.49541068323593801,1.26561255830965]

{"sheet":"year end comp","index":11,"n_rows":125,"n_cols":9,"rows_kept":125,"cut":false,"hidden":true,"merged":[]}
["ref","p","lp","pc","r","rl","ru","s","direction"]
["CDICA Ayrshire & Arran",8.1221572449642601,5.6855100714749804,42.857142857142797,1.4285714285714299,0.81792319432490601,2.4951197626997899,"Non Significant","-"]
["CDIHCAI Ayrshire & Arran",17.815829489965399,16.709946934628,6.6181093193403502,1.0661810931933999,0.76987679279069599,1.4765247298370301,"Non Significant","-"]
["ECBCOM Ayrshire & Arran",54.689192116092698,55.230669265757001,-0.98039215686273995,0.99019607843137303,0.81513544413388295,1.2028531954989199,"Non Significant","-"]
["ECBHCAI Ayrshire & Arran",48.178017775681099,42.452297617703501,13.487421127448901,1.1348742112744901,0.92813221709052796,1.38766810557797,"Non Significant","-"]
["SABCAUN Ayrshire & Arran",14.0784058912714,11.100281568117801,26.829268292682901,1.26829268292683,0.84224277633887301,1.90986064203243,"Non Significant","-"]
["SABHCAI Ayrshire & Arran",18.568611017710399,15.3550863723608,20.9280792528393,1.2092807925283899,0.87003020903462003,1.6808152406578201,"Non Significant","-"]
["SSICSEC Ayrshire & Arran",0.79681274900398402,1.23784261715296,-35.628912919749602,0.643710870802504,0.14722377426247499,2.8145161151118101,"Non Significant","-"]
["SSIHIP Ayrshire & Arran",0,0,0,0,0,0]
["CDICA Borders",7.7915332005886899,1.73145182235304,350,4.5,0.97226674343665298,20.827617664287001,"Non Significant","-"]
["CDIHCAI Borders",11.414113551406301,11.736203673431699,-2.7444148975923,0.97255585102407704,0.44982905264635398,2.1027207509088699,"Non Significant","-"]
["ECBCOM Borders",34.629036447060898,60.600813782356497,-42.857142857142897,0.57142857142857195,0.38747652144266698,0.84271070419737104,"Significant","Decrease"]
["ECBHCAI Borders",48.509982593476799,36.046911282683197,34.5745886882153,1.3457458868821499,0.89687304211318397,2.01927352816084,"Non Significant","-"]
["SABCAUN Borders",9.5229850229417394,9.5229850229417394,0,1,0.43355058141043901,2.3065359450027101,"Non Significant","-"]
["SABHCAI Borders",11.414113551406301,7.54470236149184,51.286465714856398,1.51286465714856,0.63745360305795795,3.5904722475011899,"Non Significant","-"]
["SSICSEC Borders",0,0.37593984962406002,-100,0,0,0]
["SSIHIP Borders",2.2222222222222201,1.5673981191222599,41.7777777777778,1.41777777777778,0.279713167033945,7.1862681634739003,"Non Significant","-"]
["CDICA Dumfries & Galloway",8.0612656187021408,6.7177213489184497,20,1.2,0.51845590153214705,2.7774782691150701,"Non Significant","-"]
["CDIHCAI Dumfries & Galloway",20.050838577813401,15.4110343005592,30.107027125920201,1.3010702712591999,0.780504842039762,2.1688319656423798,"Non Significant","-"]
["ECBCOM Dumfries & Galloway",57.772403600698603,60.459492140266001,-4.44444444444445,0.95555555555555505,0.71104480548051796,1.2841475146366199,"Non Significant","-"]
["ECBHCAI Dumfries & Galloway",34.927267200062097,29.1708863546299,19.7333079819789,1.1973330798197901,0.81964774958172404,1.7490519613606299,"Non Significant","-"]
["SABCAUN Dumfries & Galloway",11.420126293161401,12.0918984280532,-5.55555555555555,0.94444444444444497,0.486737670840586,1.8325586082161101,"Non Significant","-"]
["SABHCAI Dumfries & Galloway",12.9360248889119,8.8063053146052592,46.895030626038903,1.4689503062603899,0.76120245602891601,2.8347451918632798,"Non Significant","-"]
["SSICSEC Dumfries & Galloway",0,0.62111801242235998,-100,0,0,0]
["SSIHIP Dumfries & Galloway",0,0.57803468208092501,-100,0,0,0]
["CDICA Fife",3.2124213626020599,4.8186320439030901,-33.3333333333333,0.66666666666666696,0.321128481911098,1.38400817579141,"Non Significant","-"]
["CDIHCAI Fife",9.7592610665298292,8.5758310948569907,13.7995951480732,1.1379959514807301,0.69172159774184105,1.87219076260484,"Non Significant","-"]
["ECBCOM Fife",38.816758131441603,38.549056351224699,0.69444444444444697,1.00694444444444,0.79957961323710602,1.2680877518782601,"Non Significant","-"]
["ECBHCAI Fife",48.481490459535301,40.389398059649103,20.0351894027621,1.2003518940276201,0.95715775348834198,1.50533667438264,"Non Significant","-"]
["SABCAUN Fife",8.8341587471556693,11.5111765493241,-23.255813953488399,0.76744186046511598,0.48758476977604798,1.2079274122214201,"Non Significant","-"]
["SABHCAI Fife",12.5925949245546,15.2151842005527,-17.236658074128599,0.82763341925871403,0.55074819748303205,1.2437209596041801,"Non Significant","-"]
["SSICSEC Fife",2.31481481481481,3.01274623406721,-23.165954415954399,0.76834045584045596,0.29850995799158497,1.9776461061904,"Non Significant","-"]
["SSIHIP Fife",0.78740157480314998,0.70546737213403898,11.6141732283465,1.1161417322834599,0.12580721132632899,9.9022333728815397,"Non Significant","-"]
["CDICA Forth Valley",1.30446125750065,2.2828072006261402,-42.857142857142797,0.57142857142857195,0.16727588859107001,1.9520482897756399,"Non Significant","-"]
["CDIHCAI Forth Valley",13.9076106724865,14.2035142650628,-2.0833125313515701,0.979166874686484,0.63772026749754196,1.5034299791749901,"Non Significant","-"]
["ECBCOM Forth Valley",57.722410644403901,50.873989042525402,13.461538461538501,1.1346153846153799,0.91489188117284104,1.4071084217684899,"Non Significant","-"]
["ECBHCAI Forth Valley",53.4908102787941,42.294909144853797,26.471037201182,1.26471037201182,1.00186564538652,1.59651379647537,"Significant","Increase"]
["SABCAUN Forth Valley",13.0446125750065,9.4573441168797299,37.931034482758598,1.3793103448275901,0.85518069797266505,2.224672553834,"Non Significant","-"]
["SABHCAI Forth Valley",15.334032279921001,17.675484418744901,-13.2468909103321,0.86753109089667901,0.58302803814929305,1.2908644943756,"Non Significant","-"]
["SSICSEC Forth Valley",0.97560975609756095,1.7837235228539601,-45.304878048780502,0.54695121951219505,0.126749320360141,2.3602149161499799,"Non Significant","-"]
["SSIHIP Forth Valley",0,0,0,0,0,0]
["CDIHCAI Golden Jubilee",9.8178783564871601,2.1104615579427199,365.20053016543102,4.6520053016543104,0.51993668021235395,41.622670894811797,"Non Significant","-"]
["ECBHCAI Golden Jubilee",7.3634087673653701,21.1046155794272,-65.109960237592702,0.34890039762407299,9.6020002983843999E-2,1.26777216912521,"Non Significant","-"]
["SABHCAI Golden Jubilee",17.181287123852499,23.215077137369899,-25.990824746408698,0.74009175253591297,0.28689788835042002,1.9091663773512,"Non Significant","-"]
["SSIHIP Golden Jubilee",0.230414746543779,0.40439052570768302,-43.021724818959797,0.56978275181040205,7.0285849389435495E-2,4.6190291087160302,"Non Significant","-"]
["CDICA Grampian",6.4879631210517301,4.9513402765921102,31.034482758620701,1.31034482758621,0.808161020459219,2.12458102248767,"Non Significant","-"]
["CDIHCAI Grampian",13.094624763867399,9.6717117602325793,35.390974095288101,1.35390974095288,0.93342563422150704,1.9638110626519401,"Non Significant","-"]
["ECBCOM Grampian",29.025098173126199,35.171589550964697,-17.475728155339802,0.82524271844660202,0.67356598550378899,1.01107472616773,"Non Significant","-"]
["ECBHCAI Grampian",40.571870170015501,43.807165031641702,-7.3853098215540296,0.92614690178446002,0.76417195341982103,1.12245428512046,"Non Significant","-"]
["SABCAUN Grampian",10.2441522963975,7.0001707358716097,46.341463414634099,1.4634146341463401,0.98376070159394802,2.1769342767644102,"Non Significant","-"]
["SABHCAI Grampian",16.314614459900401,17.447009449831299,-6.4904818971246003,0.935095181028754,0.690097415243488,1.2670718340173499,"Non Significant","-"]
["SSICSEC Grampian",1.2793176972281499,1.8348623853210999,-30.2771855010661,0.69722814498933905,0.29446012969873803,1.65090970605301,"Non Significant","-"]
["SSIHIP Grampian",0.36363636363636398,0.51590713671539101,-29.515151515151501,0.70484848484848495,8.5201945498653106E-2,5.83098641334497,"Non Significant","-"]
["CDICA Greater Glasgow & Clyde",3.3808912029210898,5.4094259246737399,-37.5,0.625,0.42102870744780901,0.92778709168761897,"Significant","Decrease"]
["CDIHCAI Greater Glasgow & Clyde",17.116134612824499,15.5840787816819,9.8309040438336108,1.09830904043834,0.92529915377005101,1.30366783909148,"Non Significant","-"]
["ECBCOM Greater Glasgow & Clyde",36.9362363919129,47.9241328014065,-22.927689594356298,0.77072310405643696,0.68032101733202399,0.87313795692495499,"Significant","Decrease"]
["ECBHCAI Greater Glasgow & Clyde",35.478271362214798,38.305903570241099,-7.3817138991155398,0.92618286100884495,0.82614017672328399,1.0383403642574001,"Non Significant","-"]
["SABCAUN Greater Glasgow & Clyde",7.2689160862803401,6.9308269659882296,4.8780487804878003,1.0487804878048801,0.77499997841198098,1.4192781190188899,"Non Significant","-"]
["SABHCAI Greater Glasgow & Clyde",18.558873928848001,20.521019769772,-9.5616390556489907,0.90438360944351004,0.772831191758097,1.0583290655873101,"Non Significant","-"]
["SSICSEC Greater Glasgow & Clyde",0.30627871362940301,0.60871219326612103,-49.684150076569701,0.503158499234303,0.17825697915730401,1.42024439406833,"Non Significant","-"]
["SSIHIP Greater Glasgow & Clyde",1.25391849529781,0.59445178335534998,110.93695576454201,2.1093695576454201,0.65362694554128997,6.8073079928436897,"Non Significant","-"]
["CDICA Highland",7.1495181846440801,6.5278209511967704,9.5238095238095095,1.0952380952381,0.60616569693886102,1.9789085580369901,"Non Significant","-"]
["CDIHCAI Highland",19.982211913316402,13.412826686160001,48.978380030325901,1.48978380030326,0.98478479707311795,2.2537469894361402,"Non Significant","-"]
["ECBCOM Highland",37.6126826235623,42.275411874417202,-11.0294117647059,0.88970588235294101,0.69641830924787695,1.13663949752889,"Non Significant","-"]
["ECBHCAI Highland",25.8593330642918,21.795843365010001,18.643415770757301,1.1864341577075701,0.84235842960364504,1.67105351012824,"Non Significant","-"]
["SABCAUN Highland",12.4339446689462,9.0146098849860099,37.931034482758598,1.3793103448275901,0.85518069797266505,2.224672553834,"Non Significant","-"]
["SABHCAI Highland",8.6197776880972601,15.424750689084,-44.117231702179502,0.55882768297820495,0.336223125608405,0.92881290868287103,"Significant","Decrease"]
["SSICSEC Highland",1.68539325842697,1.65745856353591,1.68539325842696,1.01685393258427,0.29002451246647298,3.5651880298622101,"Non Significant","-"]
["SSIHIP Highland",1.98019801980198,0.52631578947368396,276.23762376237602,3.7623762376237599,0.53653224166246005,26.383269921626301,"Non Significant","-"]
["CDICA Lanarkshire",5.4388880495543104,5.4388880495543104,0,1,0.63003718950707199,1.58720789289023,"Non Significant","-"]
["CDIHCAI Lanarkshire",18.2086238392002,14.8234458651204,22.8366467883498,1.2283664678835,0.91618805172090201,1.64691536479481,"Non Significant","-"]
["ECBCOM Lanarkshire",50.007554011179899,50.762955129173598,-1.4880952380952399,0.985119047619048,0.84638574870681804,1.1465924839408199,"Non Significant","-"]
["ECBHCAI Lanarkshire",48.947913546237203,44.815068894550102,9.2219977646617508,1.0922199776466199,0.91814348993393302,1.29930070043433,"Non Significant","-"]
["SABCAUN Lanarkshire",10.122374981115,8.0072518507327395,26.415094339622598,1.2641509433962299,0.88169844432785505,1.81249906696595,"Non Significant","-"]
["SABHCAI Lanarkshire",19.383373764309901,19.4773184041699,-0.482328408410863,0.99517671591589096,0.75983753935501497,1.3034058527061101,"Non Significant","-"]
["SSICSEC Lanarkshire",1.4326647564469901,1.5706806282722501,-8.7870105062081993,0.91212989493791796,0.35047753531317,2.3738495664095498,"Non Significant","-"]
["SSIHIP Lanarkshire",0.8,0.91116173120728905,-12.2,0.878,9.9020564546517698E-2,7.7850899308684003,"Non Significant","-"]
["CDICA Lothian",6.1702549637497501,5.72952246633906,7.6923076923076898,1.07692307692308,0.738338282346649,1.5707749975030501,"Non Significant","-"]
["CDIHCAI Lothian",15.2869793153681,12.548197627085599,21.8260962225425,1.2182609622254199,0.955583345981185,1.55314528902604,"Non Significant","-"]
["ECBCOM Lothian",29.088344829105999,30.851274818748799,-5.71428571428571,0.94285714285714295,0.79693524279066896,1.1154979025946301,"Non Significant","-"]
["ECBHCAI Lothian",34.170894940234703,35.034567774823103,-2.4652019118360702,0.97534798088163899,0.836333373187086,1.13746947605914,"Non Significant","-"]
["SABCAUN Lothian",10.467396813503999,10.247030564798701,2.1505376344085998,1.02150537634409,0.76748667277387395,1.3595978548116301,"Non Significant","-"]
["SABHCAI Lothian",14.8373622766808,11.845498559968799,25.257389560814499,1.25257389560814,0.97715335199067999,1.6056245017864199,"Non Significant","-"]
["SSICSEC Lothian",0.87591240875912402,1.5346181299072099,-42.923103038533398,0.57076896961466606,0.243936956087489,1.3354975888038301,"Non Significant","-"]
["SSIHIP Lothian",0.42372881355932202,0.40941658137154602,3.4957627118643999,1.03495762711864,0.11620842307086,9.2173808199592706,"Non Significant","-"]
["CDICA Orkney",8.9806915132465193,4.4903457566232596,100,2,0.18134522074434101,22.057377545334798,"Non Significant","-"]
["CDIHCAI Orkney",0,14.1502759303806,-100,0,0,0]
["ECBCOM Orkney",31.4324202963628,71.845532105972197,-56.25,0.4375,0.17998549745794301,1.0634537376808699,"Non Significant","-"]
["ECBHCAI Orkney",27.520410971470501,49.525965756332198,-44.432358761319399,0.55567641238680598,0.14368991883891699,2.1489070199087799,"Non Significant","-"]
["SABCAUN Orkney",22.451728783116302,8.9806915132465193,150,2.5,0.48502108239553099,12.886037796813101,"Non Significant","-"]
["SABHCAI Orkney",27.520410971470501,28.300551860761299,-2.7566278323089701,0.97243372167691,0.21763670757050199,4.3449809253711296,"Non Significant","-"]
["SSICSEC Orkney",0,3.0303030303030298,-100,0,0,0]
["SSIHIP Orkney",0,0,0,0,0,0]
["CDICA Scotland",5.08849962476891,5.0152838028297904,1.4598540145985499,1.01459854014599,0.85868111555520898,1.1988271070812599,"Non Significant","-"]
["CDIHCAI Scotland",15.3119683794877,13.1345884968032,16.5774503191662,1.16577450319166,1.05766855551862,1.2849301278748699,"Significant","Increase"]
["ECBCOM Scotland",39.9758387787601,44.130836673805199,-9.4151804230609706,0.90584819576939002,0.85488961769749106,0.95984433170297401,"Significant","Decrease"]
["ECBHCAI Scotland",39.670232847583101,38.678643917185802,2.5636600200366599,1.0256366002003701,0.96727795823955598,1.08751618571468,"Non Significant","-"]
["SABCAUN Scotland",10.2868229824465,9.0055460985118891,14.227642276422699,1.1422764227642299,1.0120843381991,1.28921610260741,"Significant","Increase"]
["SABHCAI Scotland",17.017417642093999,16.8755566132076,0.84063022120048803,1.008406302212,0.92245672506854204,1.10236420062451,"Non Significant","-"]
["SSICSEC Scotland",0.85116731517509703,1.2822785558116201,-33.620716706414001,0.66379283293586,0.46525246967920397,0.94705768109264898,"Significant","Decrease"]
["SSIHIP Scotland",0.79254079254079302,0.57954545454545503,36.7521367521367,1.36752136752137,0.79145906005934097,2.36286977432199,"Non Significant","-"]
["CDICA Shetland",4.3630017452006999,0,"Inf","Inf",0,"Inf"]
["CDIHCAI Shetland",45.100913293494202,29.274004683840801,54.064719810576101,1.5406471981057599,0.34480641327950601,6.8838446665058299,"Non Significant","-"]
["ECBCOM Shetland",34.9040139616056,30.541012216404901,14.285714285714301,1.1428571428571399,0.41442428804435,3.1516551675654099,"Non Significant","-"]
["ECBHCAI Shetland",67.651369940241295,78.064012490242007,-13.338595106550899,0.86661404893449101,0.30068786699859401,2.4976728103703101,"Non Significant","-"]
["SABCAUN Shetland",13.0890052356021,17.4520069808028,-25,0.75,0.167854658923592,3.3511134192352299,"Non Significant","-"]
["SABHCAI Shetland",45.100913293494202,29.274004683840801,54.064719810576101,1.5406471981057599,0.34480641327950601,6.8838446665058299,"Non Significant","-"]
["SSICSEC Shetland",0,0,0,0,0,0]
["SSIHIP Shetland",0,0,0,0,0,0]
["CDICA Tayside",2.8744580448894501,2.8744580448894501,0,1,0.44925408999479399,2.2259118442563,"Non Significant","-"]
["CDIHCAI Tayside",6.8176284392500603,6.6859913384060601,1.9688494073847,1.01968849407385,0.61170547400688102,1.6997798272684601,"Non Significant","-"]
["ECBCOM Tayside",41.919179821304503,42.637794332526902,-1.68539325842697,0.98314606741572996,0.79800081581649096,1.2112471199494199,"Non Significant","-"]
["ECBHCAI Tayside",40.905770635500403,43.135427989716497,-5.1689700511321997,0.94831029948867795,0.77244488997744698,1.1642156428047099,"Non Significant","-"]
["SABCAUN Tayside",11.976908520372699,10.0606031571131,19.047619047619001,1.19047619047619,0.78986848841663104,1.7942652237357699,"Non Significant","-"]
["SABHCAI Tayside",23.618212807401999,17.469848335835199,35.194149104059001,1.35194149104059,1.0065524236355801,1.81584759251326,"Significant","Increase"]
["SSICSEC Tayside",0.68965517241379304,1.03181427343078,-33.160919540229898,0.66839080459770095,0.150420754580709,2.96997757334782,"Non Significant","-"]
["SSIHIP Tayside",1.76470588235294,1.4150943396226401,24.705882352941199,1.24705882352941,0.34134072442371099,4.5560215880134001,"Non Significant","-"]
["CDICA Western Isles",11.227544910179599,3.7425149700598799,200,3,0.31204721685308501,28.8417890432181,"Non Significant","-"]
["CDIHCAI Western Isles",19.4240761423785,14.6311130619262,32.758704414121297,1.3275870441412101,0.33201794870359302,5.30840988161472,"Non Significant","-"]
["ECBCOM Western Isles",78.592814371257504,78.592814371257504,0,1,0.54614589506528999,1.8310125719803401,"Non Significant","-"]
["ECBHCAI Western Isles",43.704171320351598,32.920004389333897,32.758704414121297,1.3275870441412101,0.52698150876356498,3.3444956425641101,"Non Significant","-"]
["SABCAUN Western Isles",11.227544910179599,14.9700598802395,-25,0.75,0.167854658923592,3.3511134192352299,"Non Significant","-"]
["SABHCAI Western Isles",29.136114213567701,25.604447858370801,13.793175212104,1.1379317521210399,0.38242184523110501,3.38602171563377,"Non Significant","-"]
["SSICSEC Western Isles",0,0,0,0,0,0]
["SSIHIP Western Isles",5.8823529411764701,0,"Inf","Inf",0,"Inf"]

{"sheet":"quarter comp","index":12,"n_rows":7,"n_cols":9,"rows_kept":7,"cut":false,"hidden":true,"merged":[]}
["ref","p","lp","pc","r","rl","ru","s","direction"]
["CDICA Scotland",6.5536118877028402,5.8158304273289696,12.6857457347276,1.12685745734728,0.83297929607724597,1.5244169154732601,"Non Significant","-"]
["CDIHCAI Scotland",17.420720373647601,15.4474440030155,12.7741286535617,1.12774128653562,0.92348520712737903,1.37717464182573,"Non Significant","-"]
["ECBCOM Scotland",44.710196656106099,35.925636057424498,24.452066999287201,1.2445206699928699,1.1050446997326999,1.40160094737721,"Significant","Increase"]
["ECBHCAI Scotland",41.978564072181598,39.682356151458997,5.7864707225512504,1.0578647072255101,0.932253108037573,1.20040118841654,"Non Significant","-"]
["SABCAUN Scotland",10.8498685696414,9.7175900811066391,11.6518445322793,1.1165184453227901,0.88332559837739999,1.4112728545804201,"Non Significant","-"]
["SABHCAI Scotland",17.267233850531799,20.257426566828698,-14.7609702862917,0.85239029713708303,0.70768038721466697,1.0266911896670201,"Non Significant","-"]