{"text_format":"1","workbook":"xlsx","n_sheets":13,"sheets":["Notes","CDI Data and Charts","ECOLI Data and Charts","SAB Data and Charts","SSI Data and Charts","ECOLI data","SSI data","SAB data","CDI data","year end comp","quarter comp","data for u-p-charts","trend data"],"not_rendered":{"charts":14,"images":0,"macros":1,"external_links":0,"defined_names":4,"comments":0,"pivot_tables":0},"unopened":[],"bounds":{"document_bytes":16777216,"sheet_cells":100000,"rows_first":2000,"rows_last":500,"rows_between":2000,"halvings":0,"cell_chars":16384,"cell_head_chars":4096},"cells_cut":0,"cells_raw":0,"read":"whole","date_system":"1900"}

{"sheet":"Notes","index":0,"n_rows":16,"n_cols":1,"rows_kept":16,"cut":false,"hidden":false,"merged":[]}
["Scotland"]
["Ayrshire & Arran"]
["Borders"]
["Dumfries & Galloway"]
["Fife"]
["Forth Valley"]
["Golden Jubilee"]
["Grampian"]
["Greater Glasgow & Clyde"]
["Highland"]
["Lanarkshire"]
["Lothian"]
["Orkney"]
["Shetland"]
["Tayside"]
["Western Isles"]

{"sheet":"CDI Data and Charts","index":1,"n_rows":43,"n_cols":15,"rows_kept":43,"cut":false,"hidden":false,"merged":[]}
[null,"Scotland",null,null,null,null,null,null,null,null,{"$f":"CONCATENATE(\"Healthcare and community rates for \",B1)","v":"Healthcare and community rates for Scotland"}]
[null,null,null,null,null,null,null,null,null,null,null,"CDIHCAI ",null,"CDICA "]
[null,null,null,"Healthcare associated CDI",null,null,"Community associated CDI ",null,null,null,null,"Healthcare associated CDI",null,"Community associated CDI "]
[null,"Quarter Ending","Cases","Rate per 100 000 bed days","95% CI","Cases","Rate per 100 000 population","95% CI",null,null,null,"% change",null,"% change"]
[null,{"$f":"'CDI data'!B8","v":"2014-12-19"},{"$f":"'CDI data'!D8","v":321},{"$f":"'CDI data'!E8","v":18.751999999999999},{"$f":"CONCATENATE(\"(\",TEXT('CDI data'!F8,\"0.0\"),\" ,\", TEXT('CDI data'!G8,\"0.0\"),\")\")","v":"(16.8 ,20.9)"},{"$f":"'CDI data'!H8","v":121},{"$f":"'CDI data'!I8","v":9.0030000000000001},{"$f":"IFERROR(CONCATENATE(\"(\",TEXT('CDI data'!J8,\"0.0\"),\" ,\", TEXT('CDI data'!K8,\"0.0\"),\")\"),\"-\")","v":"(7.5 ,10.8)"},null,null,"This quarter compared to last (national only)",{"$f":"IFERROR(VLOOKUP(CONCATENATE(L2,$B$1),'quarter comp'!$A1:$H21,4,FALSE),\"-\")","v":34.180566748646903},{"$f":"IFERROR(VLOOKUP(CONCATENATE(L2,$B$1),'quarter comp'!$A1:$H21,8,FALSE),\"-\")","v":"Significant"},{"$f":"IFERROR(VLOOKUP(CONCATENATE(N2,$B$1),'quarter comp'!$A1:$H21,4,FALSE),\"-\")","v":2.1276595744681002},{"$f":"IFERROR(VLOOKUP(CONCATENATE(N2,$B$1),'quarter comp'!$A1:$H21,8,FALSE),\"-\")","v":"Non Significant"}]
[null,{"$f":"'CDI data'!B9","v":"2015-03-24"},{"$f":"'CDI data'!D9","v":251},{"$f":"'CDI data'!E9","v":14.561999999999999},{"$f":"CONCATENATE(\"(\",TEXT('CDI data'!F9,\"0.0\"),\" ,\", TEXT('CDI data'!G9,\"0.0\"),\")\")","v":"(12.8 ,16.5)"},{"$f":"'CDI data'!H9","v":92},{"$f":"'CDI data'!I9","v":6.9720000000000004},{"$f":"IFERROR(CONCATENATE(\"(\",TEXT('CDI data'!J9,\"0.0\"),\" ,\", TEXT('CDI data'!K9,\"0.0\"),\")\"),\"-\")","v":"(5.6 ,8.6)"},null,null,"Year end compared to previous year end ",{"$f":"IF(IFERROR(VLOOKUP(CONCATENATE(L2,$B$1),'year end comp'!$A$2:$Z$1086,4,FALSE),\"-\")=-100,\"-\",IFERROR(VLOOKUP(CONCATENATE(L2,$B$1),'year end comp'!$A$2:$Z$1086,4,FALSE),\"-\"))","v":6.2758954480272404},{"$f":"IF(IFERROR(VLOOKUP(CONCATENATE(L2,$B$1),'year end comp'!$A$2:$Z$1086,8,FALSE),\"-\")=0,\"-\",IFERROR(VLOOKUP(CONCATENATE(L2,$B$1),'year end comp'!$A$2:$Z$1086,8,FALSE),\"-\"))","v":"Non Significant"},{"$f":"IFERROR(VLOOKUP(CONCATENATE(N2,$B$1),'year end comp'!$A$2:$Z$1086,4,FALSE),\"-\")","v":40.316205533596801},{"$f":"IF(IFERROR(VLOOKUP(CONCATENATE(N2,$B$1),'year end comp'!$A$2:$Z$1086,8,FALSE),\"-\")=0,\"-\",IFERROR(VLOOKUP(CONCATENATE(N2,$B$1),'year end comp'!$A$2:$Z$1086,8,FALSE),\"-\"))","v":"Significant"}]
[null,{"$f":"'CDI data'!B10","v":"2015-06-24"},{"$f":"'CDI data'!D10","v":308},{"$f":"'CDI data'!E10","v":18.538},{"$f":"CONCATENATE(\"(\",TEXT('CDI data'!F10,\"0.0\"),\" ,\", TEXT('CDI data'!G10,\"0.0\"),\")\")","v":"(16.5 ,20.7)"},{"$f":"'CDI data'!H10","v":98},{"$f":"'CDI data'!I10","v":7.3449999999999998},{"$f":"IFERROR(CONCATENATE(\"(\",TEXT('CDI data'!J10,\"0.0\"),\" ,\", TEXT('CDI data'!K10,\"0.0\"),\")\"),\"-\")","v":"(6.0 ,9.0)"}]
[null,{"$f":"'CDI data'!B11","v":"2015-09-24"},{"$f":"'CDI data'!D11","v":313},{"$f":"'CDI data'!E11","v":19.309999999999999},{"$f":"CONCATENATE(\"(\",TEXT('CDI data'!F11,\"0.0\"),\" ,\", TEXT('CDI data'!G11,\"0.0\"),\")\")","v":"(17.2 ,21.6)"},{"$f":"'CDI data'!H11","v":131},{"$f":"'CDI data'!I11","v":9.7110000000000003},{"$f":"IFERROR(CONCATENATE(\"(\",TEXT('CDI data'!J11,\"0.0\"),\" ,\", TEXT('CDI data'!K11,\"0.0\"),\")\"),\"-\")","v":"(8.1 ,11.5)"}]
[null,{"$f":"'CDI data'!B12","v":"2015-12-24"},{"$f":"'CDI data'!D12","v":367},{"$f":"'CDI data'!E12","v":22.349},{"$f":"CONCATENATE(\"(\",TEXT('CDI data'!F12,\"0.0\"),\" ,\", TEXT('CDI data'!G12,\"0.0\"),\")\")","v":"(20.1 ,24.8)"},{"$f":"'CDI data'!H12","v":116},{"$f":"'CDI data'!I12","v":8.5990000000000002},{"$f":"IFERROR(CONCATENATE(\"(\",TEXT('CDI data'!J12,\"0.0\"),\" ,\", TEXT('CDI data'!K12,\"0.0\"),\")\"),\"-\")","v":"(7.1 ,10.3)"}]
[null,{"$f":"'CDI data'!B13","v":"2016-03-24"},{"$f":"'CDI data'!D13","v":252},{"$f":"'CDI data'!E13","v":15.05},{"$f":"CONCATENATE(\"(\",TEXT('CDI data'!F13,\"0.0\"),\" ,\", TEXT('CDI data'!G13,\"0.0\"),\")\")","v":"(13.2 ,17.0)"},{"$f":"'CDI data'!H13","v":97},{"$f":"'CDI data'!I13","v":7.258},{"$f":"IFERROR(CONCATENATE(\"(\",TEXT('CDI data'!J13,\"0.0\"),\" ,\", TEXT('CDI data'!K13,\"0.0\"),\")\"),\"-\")","v":"(5.9 ,8.9)"}]
[null,{"$f":"'CDI data'!B14","v":"2016-06-24"},{"$f":"'CDI data'!D14","v":250},{"$f":"'CDI data'!E14","v":15.574999999999999},{"$f":"CONCATENATE(\"(\",TEXT('CDI data'!F14,\"0.0\"),\" ,\", TEXT('CDI data'!G14,\"0.0\"),\")\")","v":"(13.7 ,17.6)"},{"$f":"'CDI data'!H14","v":91},{"$f":"'CDI data'!I14","v":6.8090000000000002},{"$f":"IFERROR(CONCATENATE(\"(\",TEXT('CDI data'!J14,\"0.0\"),\" ,\", TEXT('CDI data'!K14,\"0.0\"),\")\"),\"-\")","v":"(5.5 ,8.4)"}]
[null,{"$f":"'CDI data'!B15","v":"2016-09-24"},{"$f":"'CDI data'!D15","v":263},{"$f":"'CDI data'!E15","v":16.562999999999999},{"$f":"CONCATENATE(\"(\",TEXT('CDI data'!F15,\"0.0\"),\" ,\", TEXT('CDI data'!G15,\"0.0\"),\")\")","v":"(14.6 ,18.7)"},{"$f":"'CDI data'!H15","v":119},{"$f":"'CDI data'!I15","v":8.8079999999999998},{"$f":"IFERROR(CONCATENATE(\"(\",TEXT('CDI data'!J15,\"0.0\"),\" ,\", TEXT('CDI data'!K15,\"0.0\"),\")\"),\"-\")","v":"(7.3 ,10.5)"}]
[null,{"$f":"'CDI data'!B16","v":"2016-12-24"},{"$f":"'CDI data'!D16","v":233},{"$f":"'CDI data'!E16","v":14.638999999999999},{"$f":"CONCATENATE(\"(\",TEXT('CDI data'!F16,\"0.0\"),\" ,\", TEXT('CDI data'!G16,\"0.0\"),\")\")","v":"(12.8 ,16.6)"},{"$f":"'CDI data'!H16","v":94},{"$f":"'CDI data'!I16","v":6.9569999999999999},{"$f":"IFERROR(CONCATENATE(\"(\",TEXT('CDI data'!J16,\"0.0\"),\" ,\", TEXT('CDI data'!K16,\"0.0\"),\")\"),\"-\")","v":"(5.6 ,8.5)"}]
[null,{"$f":"'CDI data'!B17","v":"2017-03-01"},{"$f":"'CDI data'!D17","v":257},{"$f":"'CDI data'!E17","v":16.251999999999999},{"$f":"CONCATENATE(\"(\",TEXT('CDI data'!F17,\"0.0\"),\" ,\", TEXT('CDI data'!G17,\"0.0\"),\")\")","v":"(14.3 ,18.4)"},{"$f":"'CDI data'!H17","v":74},{"$f":"'CDI data'!I17","v":5.5679999999999996},{"$f":"IFERROR(CONCATENATE(\"(\",TEXT('CDI data'!J17,\"0.0\"),\" ,\", TEXT('CDI data'!K17,\"0.0\"),\")\"),\"-\")","v":"(4.4 ,7.0)"}]
[null,{"$f":"'CDI data'!B18","v":"2017-06-01"},{"$f":"'CDI data'!D18","v":237},{"$f":"'CDI data'!E18","v":15.285},{"$f":"CONCATENATE(\"(\",TEXT('CDI data'!F18,\"0.0\"),\" ,\", TEXT('CDI data'!G18,\"0.0\"),\")\")","v":"(13.4 ,17.4)"},{"$f":"'CDI data'!H18","v":101},{"$f":"'CDI data'!I18","v":7.516},{"$f":"IFERROR(CONCATENATE(\"(\",TEXT('CDI data'!J18,\"0.0\"),\" ,\", TEXT('CDI data'!K18,\"0.0\"),\")\"),\"-\")","v":"(6.1 ,9.1)"}]
[null,{"$f":"'CDI data'!B19","v":"2017-09-01"},{"$f":"'CDI data'!D19","v":284},{"$f":"'CDI data'!E19","v":18.456},{"$f":"CONCATENATE(\"(\",TEXT('CDI data'!F19,\"0.0\"),\" ,\", TEXT('CDI data'!G19,\"0.0\"),\")\")","v":"(16.4 ,20.7)"},{"$f":"'CDI data'!H19","v":107},{"$f":"'CDI data'!I19","v":7.8760000000000003},{"$f":"IFERROR(CONCATENATE(\"(\",TEXT('CDI data'!J19,\"0.0\"),\" ,\", TEXT('CDI data'!K19,\"0.0\"),\")\"),\"-\")","v":"(6.5 ,9.5)"}]
[null,{"$f":"'CDI data'!B20","v":"2017-12-01"},{"$f":"'CDI data'!D20","v":234},{"$f":"'CDI data'!E20","v":14.856999999999999},{"$f":"CONCATENATE(\"(\",TEXT('CDI data'!F20,\"0.0\"),\" ,\", TEXT('CDI data'!G20,\"0.0\"),\")\")","v":"(13.0 ,16.9)"},{"$f":"'CDI data'!H20","v":75},{"$f":"'CDI data'!I20","v":5.5209999999999999},{"$f":"IFERROR(CONCATENATE(\"(\",TEXT('CDI data'!J20,\"0.0\"),\" ,\", TEXT('CDI data'!K20,\"0.0\"),\")\"),\"-\")","v":"(4.3 ,6.9)"}]
[null,{"$f":"'CDI data'!B21","v":"2018-03-01"},{"$f":"'CDI data'!D21","v":228},{"$f":"'CDI data'!E21","v":14.382999999999999},{"$f":"CONCATENATE(\"(\",TEXT('CDI data'!F21,\"0.0\"),\" ,\", TEXT('CDI data'!G21,\"0.0\"),\")\")","v":"(12.6 ,16.4)"},{"$f":"'CDI data'!H21","v":86},{"$f":"'CDI data'!I21","v":6.4660000000000002},{"$f":"IFERROR(CONCATENATE(\"(\",TEXT('CDI data'!J21,\"0.0\"),\" ,\", TEXT('CDI data'!K21,\"0.0\"),\")\"),\"-\")","v":"(5.2 ,8.0)"}]
[null,{"$f":"'CDI data'!B22","v":"2018-06-01"},{"$f":"'CDI data'!D22","v":244},{"$f":"'CDI data'!E22","v":15.996},{"$f":"CONCATENATE(\"(\",TEXT('CDI data'!F22,\"0.0\"),\" ,\", TEXT('CDI data'!G22,\"0.0\"),\")\")","v":"(14.1 ,18.1)"},{"$f":"'CDI data'!H22","v":102},{"$f":"'CDI data'!I22","v":7.5839999999999996},{"$f":"IFERROR(CONCATENATE(\"(\",TEXT('CDI data'!J22,\"0.0\"),\" ,\", TEXT('CDI data'!K22,\"0.0\"),\")\"),\"-\")","v":"(6.2 ,9.2)"}]
[null,{"$f":"'CDI data'!B23","v":"2018-09-01"},{"$f":"'CDI data'!D23","v":255},{"$f":"'CDI data'!E23","v":16.869},{"$f":"CONCATENATE(\"(\",TEXT('CDI data'!F23,\"0.0\"),\" ,\", TEXT('CDI data'!G23,\"0.0\"),\")\")","v":"(14.9 ,19.1)"},{"$f":"'CDI data'!H23","v":92},{"$f":"'CDI data'!I23","v":6.766},{"$f":"IFERROR(CONCATENATE(\"(\",TEXT('CDI data'!J23,\"0.0\"),\" ,\", TEXT('CDI data'!K23,\"0.0\"),\")\"),\"-\")","v":"(5.5 ,8.3)"}]
[null,{"$f":"'CDI data'!B24","v":"2018-12-01"},{"$f":"'CDI data'!D24","v":220},{"$f":"'CDI data'!E24","v":14.452999999999999},{"$f":"CONCATENATE(\"(\",TEXT('CDI data'!F24,\"0.0\"),\" ,\", TEXT('CDI data'!G24,\"0.0\"),\")\")","v":"(12.6 ,16.5)"},{"$f":"'CDI data'!H24","v":86},{"$f":"'CDI data'!I24","v":6.3250000000000002},{"$f":"IFERROR(CONCATENATE(\"(\",TEXT('CDI data'!J24,\"0.0\"),\" ,\", TEXT('CDI data'!K24,\"0.0\"),\")\"),\"-\")","v":"(5.1 ,7.8)"}]
[null,{"$f":"'CDI data'!B25","v":"2019-03-01"},{"$f":"'CDI data'!D25","v":186},{"$f":"'CDI data'!E25","v":12.09},{"$f":"CONCATENATE(\"(\",TEXT('CDI data'!F25,\"0.0\"),\" ,\", TEXT('CDI data'!G25,\"0.0\"),\")\")","v":"(10.4 ,14.0)"},{"$f":"'CDI data'!H25","v":50},{"$f":"'CDI data'!I25","v":3.7450000000000001},{"$f":"IFERROR(CONCATENATE(\"(\",TEXT('CDI data'!J25,\"0.0\"),\" ,\", TEXT('CDI data'!K25,\"0.0\"),\")\"),\"-\")","v":"(2.8 ,4.9)"}]
[null,{"$f":"'CDI data'!B26","v":"2019-06-01"},{"$f":"'CDI data'!D26","v":184},{"$f":"'CDI data'!E26","v":12.215},{"$f":"CONCATENATE(\"(\",TEXT('CDI data'!F26,\"0.0\"),\" ,\", TEXT('CDI data'!G26,\"0.0\"),\")\")","v":"(10.5 ,14.1)"},{"$f":"'CDI data'!H26","v":66},{"$f":"'CDI data'!I26","v":4.8890000000000002},{"$f":"IFERROR(CONCATENATE(\"(\",TEXT('CDI data'!J26,\"0.0\"),\" ,\", TEXT('CDI data'!K26,\"0.0\"),\")\"),\"-\")","v":"(3.8 ,6.2)"}]
[null,{"$f":"'CDI data'!B27","v":"2019-09-01"},{"$f":"'CDI data'!D27","v":207},{"$f":"'CDI data'!E27","v":13.736000000000001},{"$f":"CONCATENATE(\"(\",TEXT('CDI data'!F27,\"0.0\"),\" ,\", TEXT('CDI data'!G27,\"0.0\"),\")\")","v":"(11.9 ,15.7)"},{"$f":"'CDI data'!H27","v":72},{"$f":"'CDI data'!I27","v":5.2759999999999998},{"$f":"IFERROR(CONCATENATE(\"(\",TEXT('CDI data'!J27,\"0.0\"),\" ,\", TEXT('CDI data'!K27,\"0.0\"),\")\"),\"-\")","v":"(4.1 ,6.6)"}]
[null,{"$f":"'CDI data'!B28","v":"2019-12-01"},{"$f":"'CDI data'!D28","v":231},{"$f":"'CDI data'!E28","v":15.084},{"$f":"CONCATENATE(\"(\",TEXT('CDI data'!F28,\"0.0\"),\" ,\", TEXT('CDI data'!G28,\"0.0\"),\")\")","v":"(13.2 ,17.2)"},{"$f":"'CDI data'!H28","v":63},{"$f":"'CDI data'!I28","v":4.6159999999999997},{"$f":"IFERROR(CONCATENATE(\"(\",TEXT('CDI data'!J28,\"0.0\"),\" ,\", TEXT('CDI data'!K28,\"0.0\"),\")\"),\"-\")","v":"(3.5 ,5.9)"}]
[null,{"$f":"'CDI data'!B29","v":"2020-03-01"},{"$f":"'CDI data'!D29","v":201},{"$f":"'CDI data'!E29","v":13.618},{"$f":"CONCATENATE(\"(\",TEXT('CDI data'!F29,\"0.0\"),\" ,\", TEXT('CDI data'!G29,\"0.0\"),\")\")","v":"(11.8 ,15.6)"},{"$f":"'CDI data'!H29","v":46},{"$f":"'CDI data'!I29","v":3.4180000000000001},{"$f":"IFERROR(CONCATENATE(\"(\",TEXT('CDI data'!J29,\"0.0\"),\" ,\", TEXT('CDI data'!K29,\"0.0\"),\")\"),\"-\")","v":"(2.5 ,4.6)"}]
[null,{"$f":"'CDI data'!B30","v":"2020-06-01"},{"$f":"'CDI data'!D30","v":166},{"$f":"'CDI data'!E30","v":15.356999999999999},{"$f":"CONCATENATE(\"(\",TEXT('CDI data'!F30,\"0.0\"),\" ,\", TEXT('CDI data'!G30,\"0.0\"),\")\")","v":"(13.1 ,17.9)"},{"$f":"'CDI data'!H30","v":80},{"$f":"'CDI data'!I30","v":5.944},{"$f":"IFERROR(CONCATENATE(\"(\",TEXT('CDI data'!J30,\"0.0\"),\" ,\", TEXT('CDI data'!K30,\"0.0\"),\")\"),\"-\")","v":"(4.7 ,7.4)"}]
[null,{"$f":"'CDI data'!B31","v":"2020-09-01"},{"$f":"'CDI data'!D31","v":227},{"$f":"'CDI data'!E31","v":17.408200000000001},{"$f":"CONCATENATE(\"(\",TEXT('CDI data'!F31,\"0.0\"),\" ,\", TEXT('CDI data'!G31,\"0.0\"),\")\")","v":"(15.2 ,19.8)"},{"$f":"'CDI data'!H31","v":90},{"$f":"'CDI data'!I31","v":6.6143999999999998},{"$f":"IFERROR(CONCATENATE(\"(\",TEXT('CDI data'!J31,\"0.0\"),\" ,\", TEXT('CDI data'!K31,\"0.0\"),\")\"),\"-\")","v":"(5.3 ,8.1)"}]
[null,{"$f":"'CDI data'!B32","v":"2020-12-31"},{"$f":"'CDI data'!D32","v":222},{"$f":"'CDI data'!E32","v":16.350100000000001},{"$f":"CONCATENATE(\"(\",TEXT('CDI data'!F32,\"0.0\"),\" ,\", TEXT('CDI data'!G32,\"0.0\"),\")\")","v":"(14.3 ,18.6)"},{"$f":"'CDI data'!H32","v":56},{"$f":"'CDI data'!I32","v":4.1155999999999997},{"$f":"IFERROR(CONCATENATE(\"(\",TEXT('CDI data'!J32,\"0.0\"),\" ,\", TEXT('CDI data'!K32,\"0.0\"),\")\"),\"-\")","v":"(3.1 ,5.3)"}]
[null,{"$f":"'CDI data'!B33","v":"2021-03-31"},{"$f":"'CDI data'!D33","v":213},{"$f":"'CDI data'!E33","v":15.7562},{"$f":"CONCATENATE(\"(\",TEXT('CDI data'!F33,\"0.0\"),\" ,\", TEXT('CDI data'!G33,\"0.0\"),\")\")","v":"(13.7 ,18.0)"},{"$f":"'CDI data'!H33","v":49},{"$f":"'CDI data'!I33","v":3.6675},{"$f":"IFERROR(CONCATENATE(\"(\",TEXT('CDI data'!J33,\"0.0\"),\" ,\", TEXT('CDI data'!K33,\"0.0\"),\")\"),\"-\")","v":"(2.7 ,4.8)"}]
[null,{"$f":"'CDI data'!B34","v":"2021-06-30"},{"$f":"'CDI data'!D34","v":203},{"$f":"'CDI data'!E34","v":14.560700000000001},{"$f":"CONCATENATE(\"(\",TEXT('CDI data'!F34,\"0.0\"),\" ,\", TEXT('CDI data'!G34,\"0.0\"),\")\")","v":"(12.6 ,16.7)"},{"$f":"'CDI data'!H34","v":74},{"$f":"'CDI data'!I34","v":5.4779},{"$f":"IFERROR(CONCATENATE(\"(\",TEXT('CDI data'!J34,\"0.0\"),\" ,\", TEXT('CDI data'!K34,\"0.0\"),\")\"),\"-\")","v":"(4.3 ,6.9)"}]
[null,{"$f":"'CDI data'!B35","v":"2021-09-01"},{"$f":"'CDI data'!D35","v":245},{"$f":"'CDI data'!E35","v":16.823},{"$f":"CONCATENATE(\"(\",TEXT('CDI data'!F35,\"0.0\"),\" ,\", TEXT('CDI data'!G35,\"0.0\"),\")\")","v":"(14.8 ,19.1)"},{"$f":"'CDI data'!H35","v":87},{"$f":"'CDI data'!I35","v":6.3701999999999996},{"$f":"IFERROR(CONCATENATE(\"(\",TEXT('CDI data'!J35,\"0.0\"),\" ,\", TEXT('CDI data'!K35,\"0.0\"),\")\"),\"-\")","v":"(5.1 ,7.9)"}]
[null,{"$f":"'CDI data'!B36","v":"2021-12-31"},{"$f":"'CDI data'!D36","v":197},{"$f":"'CDI data'!E36","v":13.187799999999999},{"$f":"CONCATENATE(\"(\",TEXT('CDI data'!F36,\"0.0\"),\" ,\", TEXT('CDI data'!G36,\"0.0\"),\")\")","v":"(11.4 ,15.2)"},{"$f":"'CDI data'!H36","v":67},{"$f":"'CDI data'!I36","v":4.9058000000000002},{"$f":"IFERROR(CONCATENATE(\"(\",TEXT('CDI data'!J36,\"0.0\"),\" ,\", TEXT('CDI data'!K36,\"0.0\"),\")\"),\"-\")","v":"(3.8 ,6.2)"}]
[null,{"$f":"'CDI data'!B37","v":"2022-03-31"},{"$f":"'CDI data'!D37","v":187},{"$f":"'CDI data'!E37","v":12.626099999999999},{"$f":"CONCATENATE(\"(\",TEXT('CDI data'!F37,\"0.0\"),\" ,\", TEXT('CDI data'!G37,\"0.0\"),\")\")","v":"(10.9 ,14.6)"},{"$f":"'CDI data'!H37","v":43},{"$f":"'CDI data'!I37","v":3.2010999999999998},{"$f":"IFERROR(CONCATENATE(\"(\",TEXT('CDI data'!J37,\"0.0\"),\" ,\", TEXT('CDI data'!K37,\"0.0\"),\")\"),\"-\")","v":"(2.3 ,4.3)"}]
[null,{"$f":"'CDI data'!B38","v":"2022-06-30"},{"$f":"'CDI data'!D38","v":217},{"$f":"'CDI data'!E38","v":14.3109},{"$f":"CONCATENATE(\"(\",TEXT('CDI data'!F38,\"0.0\"),\" ,\", TEXT('CDI data'!G38,\"0.0\"),\")\")","v":"(12.5 ,16.3)"},{"$f":"'CDI data'!H38","v":66},{"$f":"'CDI data'!I38","v":4.8593999999999999},{"$f":"IFERROR(CONCATENATE(\"(\",TEXT('CDI data'!J38,\"0.0\"),\" ,\", TEXT('CDI data'!K38,\"0.0\"),\")\"),\"-\")","v":"(3.8 ,6.2)"}]
[null,{"$f":"'CDI data'!B39","v":"2022-09-30"},{"$f":"'CDI data'!D39","v":202},{"$f":"'CDI data'!E39","v":13.068199999999999},{"$f":"CONCATENATE(\"(\",TEXT('CDI data'!F39,\"0.0\"),\" ,\", TEXT('CDI data'!G39,\"0.0\"),\")\")","v":"(11.3 ,15.0)"},{"$f":"'CDI data'!H39","v":82},{"$f":"'CDI data'!I39","v":5.9718},{"$f":"IFERROR(CONCATENATE(\"(\",TEXT('CDI data'!J39,\"0.0\"),\" ,\", TEXT('CDI data'!K39,\"0.0\"),\")\"),\"-\")","v":"(4.7 ,7.4)"}]
[null,{"$f":"'CDI data'!B40","v":"2022-12-31"},{"$f":"'CDI data'!D40","v":212},{"$f":"'CDI data'!E40","v":13.5113},{"$f":"CONCATENATE(\"(\",TEXT('CDI data'!F40,\"0.0\"),\" ,\", TEXT('CDI data'!G40,\"0.0\"),\")\")","v":"(11.8 ,15.5)"},{"$f":"'CDI data'!H40","v":44},{"$f":"'CDI data'!I40","v":3.2044000000000001},{"$f":"IFERROR(CONCATENATE(\"(\",TEXT('CDI data'!J40,\"0.0\"),\" ,\", TEXT('CDI data'!K40,\"0.0\"),\")\"),\"-\")","v":"(2.3 ,4.3)"}]
[null,{"$f":"'CDI data'!B41","v":"2023-03-31"},{"$f":"'CDI data'!D41","v":211},{"$f":"'CDI data'!E41","v":13.4488},{"$f":"CONCATENATE(\"(\",TEXT('CDI data'!F41,\"0.0\"),\" ,\", TEXT('CDI data'!G41,\"0.0\"),\")\")","v":"(11.7 ,15.4)"},{"$f":"'CDI data'!H41","v":57},{"$f":"'CDI data'!I41","v":4.2434000000000003},{"$f":"IFERROR(CONCATENATE(\"(\",TEXT('CDI data'!J41,\"0.0\"),\" ,\", TEXT('CDI data'!K41,\"0.0\"),\")\"),\"-\")","v":"(3.2 ,5.5)"}]
[null,{"$f":"'CDI data'!B42","v":"2023-06-30"},{"$f":"'CDI data'!D42","v":244},{"$f":"'CDI data'!E42","v":15.7963},{"$f":"CONCATENATE(\"(\",TEXT('CDI data'!F42,\"0.0\"),\" ,\", TEXT('CDI data'!G42,\"0.0\"),\")\")","v":"(13.9 ,17.9)"},{"$f":"'CDI data'!H42","v":70},{"$f":"'CDI data'!I42","v":5.1539000000000001},{"$f":"IFERROR(CONCATENATE(\"(\",TEXT('CDI data'!J42,\"0.0\"),\" ,\", TEXT('CDI data'!K42,\"0.0\"),\")\"),\"-\")","v":"(4.0 ,6.5)"}]
[null,{"$f":"'CDI data'!B43","v":"2023-09-30"},{"$f":"'CDI data'!D43","v":239},{"$f":"'CDI data'!E43","v":15.542},{"$f":"CONCATENATE(\"(\",TEXT('CDI data'!F43,\"0.0\"),\" ,\", TEXT('CDI data'!G43,\"0.0\"),\")\")","v":"(13.6 ,17.6)"},{"$f":"'CDI data'!H43","v":86},{"$f":"'CDI data'!I43","v":6.2630999999999997},{"$f":"IFERROR(CONCATENATE(\"(\",TEXT('CDI data'!J43,\"0.0\"),\" ,\", TEXT('CDI data'!K43,\"0.0\"),\")\"),\"-\")","v":"(5.0 ,7.7)"}]
[null,{"$f":"'CDI data'!B44","v":"2023-12-31"},{"$f":"'CDI data'!D44","v":223},{"$f":"'CDI data'!E44","v":14.2386},{"$f":"CONCATENATE(\"(\",TEXT('CDI data'!F44,\"0.0\"),\" ,\", TEXT('CDI data'!G44,\"0.0\"),\")\")","v":"(12.4 ,16.2)"},{"$f":"'CDI data'!H44","v":79},{"$f":"'CDI data'!I44","v":5.7533000000000003},{"$f":"IFERROR(CONCATENATE(\"(\",TEXT('CDI data'!J44,\"0.0\"),\" ,\", TEXT('CDI data'!K44,\"0.0\"),\")\"),\"-\")","v":"(4.6 ,7.2)"}]
[null,{"$f":"'CDI data'!B45","v":"2024-03-31"},{"$f":"'CDI data'!D45","v":201},{"$f":"'CDI data'!E45","v":12.635899999999999},{"$f":"CONCATENATE(\"(\",TEXT('CDI data'!F45,\"0.0\"),\" ,\", TEXT('CDI data'!G45,\"0.0\"),\")\")","v":"(10.9 ,14.5)"},{"$f":"'CDI data'!H45","v":94},{"$f":"'CDI data'!I45","v":6.9398999999999997},{"$f":"IFERROR(CONCATENATE(\"(\",TEXT('CDI data'!J45,\"0.0\"),\" ,\", TEXT('CDI data'!K45,\"0.0\"),\")\"),\"-\")","v":"(5.6 ,8.5)"}]
[null,{"$f":"'CDI data'!B46","v":"2024-06-30"},{"$f":"'CDI data'!D46","v":264},{"$f":"'CDI data'!E46","v":16.954899999999999},{"$f":"CONCATENATE(\"(\",TEXT('CDI data'!F46,\"0.0\"),\" ,\", TEXT('CDI data'!G46,\"0.0\"),\")\")","v":"(15.0 ,19.1)"},{"$f":"'CDI data'!H46","v":96},{"$f":"'CDI data'!I46","v":7.0876000000000001},{"$f":"IFERROR(CONCATENATE(\"(\",TEXT('CDI data'!J46,\"0.0\"),\" ,\", TEXT('CDI data'!K46,\"0.0\"),\")\"),\"-\")","v":"(5.7 ,8.7)"}]

{"sheet":"ECOLI Data and Charts","index":2,"n_rows":36,"n_cols":15,"rows_kept":36,"cut":false,"hidden":false,"merged":[]}
[null,"Scotland",null,null,null,null,null,null,null,null,{"$f":"CONCATENATE(\"Healthcare and community rates for \",B1)","v":"Healthcare and community rates for Scotland"}]
[null,null,null,null,null,null,null,null,null,null,null,"ECBHCAI ",null,"ECBCOM "]
[null,null,null,"Healthcare associated ECB",null,null,"Community associated ECB",null,null,null,null,"Healthcare associated  ECB",null,"Community associated ECB"]
[null,"Quarter Ending","Cases","Rate per 100 000 bed days","95% CI","Cases","Rate per 100 000 Population","95% CI",null,null,null,"% change",null,"% change"]
[null,{"$f":"'ECOLI data'!B8","v":"2016-09-24"},{"$f":"'ECOLI data'!D8","v":581},{"$f":"'ECOLI data'!E8","v":36.588999999999999},{"$f":"CONCATENATE(\"(\",TEXT('ECOLI data'!F8,\"0.0\"),\" ,\", TEXT('ECOLI data'!G8,\"0.0\"),\")\")","v":"(33.7 ,39.7)"},{"$f":"'ECOLI data'!H8","v":720},{"$f":"'ECOLI data'!I8","v":53.290999999999997},{"$f":"IFERROR(CONCATENATE(\"(\",TEXT('ECOLI data'!J8,\"0.0\"),\" ,\", TEXT('ECOLI data'!K8,\"0.0\"),\")\"),\"-\")","v":"(49.5 ,57.3)"},null,null,"This quarter compared to last (national only)",{"$f":"IFERROR(ROUND(VLOOKUP(CONCATENATE(L2,$B$1),'quarter comp'!$A1:$H21,4,FALSE),2),\"-\")","v":11.02},{"$f":"IFERROR(VLOOKUP(CONCATENATE(L2,$B$1),'quarter comp'!$A1:$H21,8,FALSE),\"-\")","v":"Non Significant"},{"$f":"IFERROR(ROUND(VLOOKUP(CONCATENATE(N2,$B$1),'quarter comp'!$A1:$H21,4,FALSE),2),\"-\")","v":-2.78},{"$f":"IFERROR(VLOOKUP(CONCATENATE(N2,$B$1),'quarter comp'!$A1:$H21,8,FALSE),\"-\")","v":"Non Significant"}]
[null,{"$f":"'ECOLI data'!B9","v":"2016-12-24"},{"$f":"'ECOLI data'!D9","v":564},{"$f":"'ECOLI data'!E9","v":35.433999999999997},{"$f":"CONCATENATE(\"(\",TEXT('ECOLI data'!F9,\"0.0\"),\" ,\", TEXT('ECOLI data'!G9,\"0.0\"),\")\")","v":"(32.6 ,38.5)"},{"$f":"'ECOLI data'!H9","v":631},{"$f":"'ECOLI data'!I9","v":46.704000000000001},{"$f":"IFERROR(CONCATENATE(\"(\",TEXT('ECOLI data'!J9,\"0.0\"),\" ,\", TEXT('ECOLI data'!K9,\"0.0\"),\")\"),\"-\")","v":"(43.1 ,50.5)"},null,null,"Year end compared to previous year end ",{"$f":"ROUND(VLOOKUP(CONCATENATE(L2,$B$1),'year end comp'!$A$2:$Z$1086,4,FALSE),2)","v":0.72},{"$f":"VLOOKUP(CONCATENATE(L2,$B$1),'year end comp'!$A$2:$Z$1086,8,FALSE)","v":"Non Significant"},{"$f":"IFERROR(ROUND(VLOOKUP(CONCATENATE(N2,$B$1),'year end comp'!$A$2:$Z$1086,4,FALSE),2),\"-\")","v":-2.9},{"$f":"IFERROR(VLOOKUP(CONCATENATE(N2,$B$1),'year end comp'!$A$2:$Z$1086,8,FALSE),\"-\")","v":"Non Significant"}]
[null,{"$f":"'ECOLI data'!B10","v":"2017-03-01"},{"$f":"'ECOLI data'!D10","v":547},{"$f":"'ECOLI data'!E10","v":34.591000000000001},{"$f":"CONCATENATE(\"(\",TEXT('ECOLI data'!F10,\"0.0\"),\" ,\", TEXT('ECOLI data'!G10,\"0.0\"),\")\")","v":"(31.8 ,37.6)"},{"$f":"'ECOLI data'!H10","v":570},{"$f":"'ECOLI data'!I10","v":42.889000000000003},{"$f":"IFERROR(CONCATENATE(\"(\",TEXT('ECOLI data'!J10,\"0.0\"),\" ,\", TEXT('ECOLI data'!K10,\"0.0\"),\")\"),\"-\")","v":"(39.4 ,46.6)"}]
[null,{"$f":"'ECOLI data'!B11","v":"2017-06-01"},{"$f":"'ECOLI data'!D11","v":539},{"$f":"'ECOLI data'!E11","v":34.761000000000003},{"$f":"CONCATENATE(\"(\",TEXT('ECOLI data'!F11,\"0.0\"),\" ,\", TEXT('ECOLI data'!G11,\"0.0\"),\")\")","v":"(31.9 ,37.8)"},{"$f":"'ECOLI data'!H11","v":657},{"$f":"'ECOLI data'!I11","v":48.892000000000003},{"$f":"IFERROR(CONCATENATE(\"(\",TEXT('ECOLI data'!J11,\"0.0\"),\" ,\", TEXT('ECOLI data'!K11,\"0.0\"),\")\"),\"-\")","v":"(45.2 ,52.8)"}]
[null,{"$f":"'ECOLI data'!B12","v":"2017-09-01"},{"$f":"'ECOLI data'!D12","v":585},{"$f":"'ECOLI data'!E12","v":38.015999999999998},{"$f":"CONCATENATE(\"(\",TEXT('ECOLI data'!F12,\"0.0\"),\" ,\", TEXT('ECOLI data'!G12,\"0.0\"),\")\")","v":"(35.0 ,41.2)"},{"$f":"'ECOLI data'!H12","v":677},{"$f":"'ECOLI data'!I12","v":49.832999999999998},{"$f":"IFERROR(CONCATENATE(\"(\",TEXT('ECOLI data'!J12,\"0.0\"),\" ,\", TEXT('ECOLI data'!K12,\"0.0\"),\")\"),\"-\")","v":"(46.1 ,53.7)"}]
[null,{"$f":"'ECOLI data'!B13","v":"2017-12-01"},{"$f":"'ECOLI data'!D13","v":531},{"$f":"'ECOLI data'!E13","v":33.715000000000003},{"$f":"CONCATENATE(\"(\",TEXT('ECOLI data'!F13,\"0.0\"),\" ,\", TEXT('ECOLI data'!G13,\"0.0\"),\")\")","v":"(30.9 ,36.7)"},{"$f":"'ECOLI data'!H13","v":656},{"$f":"'ECOLI data'!I13","v":48.286999999999999},{"$f":"IFERROR(CONCATENATE(\"(\",TEXT('ECOLI data'!J13,\"0.0\"),\" ,\", TEXT('ECOLI data'!K13,\"0.0\"),\")\"),\"-\")","v":"(44.7 ,52.1)"}]
[null,{"$f":"'ECOLI data'!B14","v":"2018-03-01"},{"$f":"'ECOLI data'!D14","v":524},{"$f":"'ECOLI data'!E14","v":33.055},{"$f":"CONCATENATE(\"(\",TEXT('ECOLI data'!F14,\"0.0\"),\" ,\", TEXT('ECOLI data'!G14,\"0.0\"),\")\")","v":"(30.3 ,36.0)"},{"$f":"'ECOLI data'!H14","v":578},{"$f":"'ECOLI data'!I14","v":43.454999999999998},{"$f":"IFERROR(CONCATENATE(\"(\",TEXT('ECOLI data'!J14,\"0.0\"),\" ,\", TEXT('ECOLI data'!K14,\"0.0\"),\")\"),\"-\")","v":"(40.0 ,47.1)"}]
[null,{"$f":"'ECOLI data'!B15","v":"2018-06-01"},{"$f":"'ECOLI data'!D15","v":580},{"$f":"'ECOLI data'!E15","v":38.024000000000001},{"$f":"CONCATENATE(\"(\",TEXT('ECOLI data'!F15,\"0.0\"),\" ,\", TEXT('ECOLI data'!G15,\"0.0\"),\")\")","v":"(35.0 ,41.2)"},{"$f":"'ECOLI data'!H15","v":598},{"$f":"'ECOLI data'!I15","v":44.465000000000003},{"$f":"IFERROR(CONCATENATE(\"(\",TEXT('ECOLI data'!J15,\"0.0\"),\" ,\", TEXT('ECOLI data'!K15,\"0.0\"),\")\"),\"-\")","v":"(41.0 ,48.2)"}]
[null,{"$f":"'ECOLI data'!B16","v":"2018-09-01"},{"$f":"'ECOLI data'!D16","v":606},{"$f":"'ECOLI data'!E16","v":40.088999999999999},{"$f":"CONCATENATE(\"(\",TEXT('ECOLI data'!F16,\"0.0\"),\" ,\", TEXT('ECOLI data'!G16,\"0.0\"),\")\")","v":"(37.0 ,43.4)"},{"$f":"'ECOLI data'!H16","v":667},{"$f":"'ECOLI data'!I16","v":49.055999999999997},{"$f":"IFERROR(CONCATENATE(\"(\",TEXT('ECOLI data'!J16,\"0.0\"),\" ,\", TEXT('ECOLI data'!K16,\"0.0\"),\")\"),\"-\")","v":"(45.4 ,52.9)"}]
[null,{"$f":"'ECOLI data'!B17","v":"2018-12-01"},{"$f":"'ECOLI data'!D17","v":582},{"$f":"'ECOLI data'!E17","v":38.234000000000002},{"$f":"CONCATENATE(\"(\",TEXT('ECOLI data'!F17,\"0.0\"),\" ,\", TEXT('ECOLI data'!G17,\"0.0\"),\")\")","v":"(35.2 ,41.5)"},{"$f":"'ECOLI data'!H17","v":603},{"$f":"'ECOLI data'!I17","v":44.348999999999997},{"$f":"IFERROR(CONCATENATE(\"(\",TEXT('ECOLI data'!J17,\"0.0\"),\" ,\", TEXT('ECOLI data'!K17,\"0.0\"),\")\"),\"-\")","v":"(40.9 ,48.0)"}]
[null,{"$f":"'ECOLI data'!B18","v":"2019-03-01"},{"$f":"'ECOLI data'!D18","v":573},{"$f":"'ECOLI data'!E18","v":37.244},{"$f":"CONCATENATE(\"(\",TEXT('ECOLI data'!F18,\"0.0\"),\" ,\", TEXT('ECOLI data'!G18,\"0.0\"),\")\")","v":"(34.3 ,40.4)"},{"$f":"'ECOLI data'!H18","v":598},{"$f":"'ECOLI data'!I18","v":44.792000000000002},{"$f":"IFERROR(CONCATENATE(\"(\",TEXT('ECOLI data'!J18,\"0.0\"),\" ,\", TEXT('ECOLI data'!K18,\"0.0\"),\")\"),\"-\")","v":"(41.3 ,48.5)"}]
[null,{"$f":"'ECOLI data'!B19","v":"2019-06-01"},{"$f":"'ECOLI data'!D19","v":584},{"$f":"'ECOLI data'!E19","v":38.771000000000001},{"$f":"CONCATENATE(\"(\",TEXT('ECOLI data'!F19,\"0.0\"),\" ,\", TEXT('ECOLI data'!G19,\"0.0\"),\")\")","v":"(35.7 ,42.0)"},{"$f":"'ECOLI data'!H19","v":604},{"$f":"'ECOLI data'!I19","v":44.744},{"$f":"IFERROR(CONCATENATE(\"(\",TEXT('ECOLI data'!J19,\"0.0\"),\" ,\", TEXT('ECOLI data'!K19,\"0.0\"),\")\"),\"-\")","v":"(41.2 ,48.5)"}]
[null,{"$f":"'ECOLI data'!B20","v":"2019-09-01"},{"$f":"'ECOLI data'!D20","v":608},{"$f":"'ECOLI data'!E20","v":40.345999999999997},{"$f":"CONCATENATE(\"(\",TEXT('ECOLI data'!F20,\"0.0\"),\" ,\", TEXT('ECOLI data'!G20,\"0.0\"),\")\")","v":"(37.2 ,43.7)"},{"$f":"'ECOLI data'!H20","v":606},{"$f":"'ECOLI data'!I20","v":44.405000000000001},{"$f":"IFERROR(CONCATENATE(\"(\",TEXT('ECOLI data'!J20,\"0.0\"),\" ,\", TEXT('ECOLI data'!K20,\"0.0\"),\")\"),\"-\")","v":"(40.9 ,48.1)"}]
[null,{"$f":"'ECOLI data'!B21","v":"2019-12-01"},{"$f":"'ECOLI data'!D21","v":626},{"$f":"'ECOLI data'!E21","v":40.875999999999998},{"$f":"CONCATENATE(\"(\",TEXT('ECOLI data'!F21,\"0.0\"),\" ,\", TEXT('ECOLI data'!G21,\"0.0\"),\")\")","v":"(37.7 ,44.2)"},{"$f":"'ECOLI data'!H21","v":568},{"$f":"'ECOLI data'!I21","v":41.62},{"$f":"IFERROR(CONCATENATE(\"(\",TEXT('ECOLI data'!J21,\"0.0\"),\" ,\", TEXT('ECOLI data'!K21,\"0.0\"),\")\"),\"-\")","v":"(38.3 ,45.2)"}]
[null,{"$f":"'ECOLI data'!B22","v":"2020-03-01"},{"$f":"'ECOLI data'!D22","v":538},{"$f":"'ECOLI data'!E22","v":36.451000000000001},{"$f":"CONCATENATE(\"(\",TEXT('ECOLI data'!F22,\"0.0\"),\" ,\", TEXT('ECOLI data'!G22,\"0.0\"),\")\")","v":"(33.4 ,39.7)"},{"$f":"'ECOLI data'!H22","v":515},{"$f":"'ECOLI data'!I22","v":38.265000000000001},{"$f":"IFERROR(CONCATENATE(\"(\",TEXT('ECOLI data'!J22,\"0.0\"),\" ,\", TEXT('ECOLI data'!K22,\"0.0\"),\")\"),\"-\")","v":"(35.0 ,41.7)"}]
[null,{"$f":"'ECOLI data'!B23","v":"2020-06-01"},{"$f":"'ECOLI data'!D23","v":429},{"$f":"'ECOLI data'!E23","v":39.686999999999998},{"$f":"CONCATENATE(\"(\",TEXT('ECOLI data'!F23,\"0.0\"),\" ,\", TEXT('ECOLI data'!G23,\"0.0\"),\")\")","v":"(36.0 ,43.6)"},{"$f":"'ECOLI data'!H23","v":488},{"$f":"'ECOLI data'!I23","v":36.259},{"$f":"IFERROR(CONCATENATE(\"(\",TEXT('ECOLI data'!J23,\"0.0\"),\" ,\", TEXT('ECOLI data'!K23,\"0.0\"),\")\"),\"-\")","v":"(33.1 ,39.6)"}]
[null,{"$f":"'ECOLI data'!B24","v":"2020-09-01"},{"$f":"'ECOLI data'!D24","v":547},{"$f":"'ECOLI data'!E24","v":41.948399999999999},{"$f":"CONCATENATE(\"(\",TEXT('ECOLI data'!F24,\"0.0\"),\" ,\", TEXT('ECOLI data'!G24,\"0.0\"),\")\")","v":"(38.5 ,45.6)"},{"$f":"'ECOLI data'!H24","v":614},{"$f":"'ECOLI data'!I24","v":45.1248},{"$f":"IFERROR(CONCATENATE(\"(\",TEXT('ECOLI data'!J24,\"0.0\"),\" ,\", TEXT('ECOLI data'!K24,\"0.0\"),\")\"),\"-\")","v":"(41.6 ,48.8)"}]
[null,{"$f":"'ECOLI data'!B25","v":"2020-12-31"},{"$f":"'ECOLI data'!D25","v":555},{"$f":"'ECOLI data'!E25","v":40.8752},{"$f":"CONCATENATE(\"(\",TEXT('ECOLI data'!F25,\"0.0\"),\" ,\", TEXT('ECOLI data'!G25,\"0.0\"),\")\")","v":"(37.5 ,44.4)"},{"$f":"'ECOLI data'!H25","v":521},{"$f":"'ECOLI data'!I25","v":38.29},{"$f":"IFERROR(CONCATENATE(\"(\",TEXT('ECOLI data'!J25,\"0.0\"),\" ,\", TEXT('ECOLI data'!K25,\"0.0\"),\")\"),\"-\")","v":"(35.1 ,41.7)"}]
[null,{"$f":"'ECOLI data'!B26","v":"2021-03-31"},{"$f":"'ECOLI data'!D26","v":468},{"$f":"'ECOLI data'!E26","v":34.619300000000003},{"$f":"CONCATENATE(\"(\",TEXT('ECOLI data'!F26,\"0.0\"),\" ,\", TEXT('ECOLI data'!G26,\"0.0\"),\")\")","v":"(31.6 ,37.9)"},{"$f":"'ECOLI data'!H26","v":493},{"$f":"'ECOLI data'!I26","v":36.9},{"$f":"IFERROR(CONCATENATE(\"(\",TEXT('ECOLI data'!J26,\"0.0\"),\" ,\", TEXT('ECOLI data'!K26,\"0.0\"),\")\"),\"-\")","v":"(33.7 ,40.3)"}]
[null,{"$f":"'ECOLI data'!B27","v":"2021-06-30"},{"$f":"'ECOLI data'!D27","v":532},{"$f":"'ECOLI data'!E27","v":38.158999999999999},{"$f":"CONCATENATE(\"(\",TEXT('ECOLI data'!F27,\"0.0\"),\" ,\", TEXT('ECOLI data'!G27,\"0.0\"),\")\")","v":"(35.0 ,41.5)"},{"$f":"'ECOLI data'!H27","v":570},{"$f":"'ECOLI data'!I27","v":42.194400000000002},{"$f":"IFERROR(CONCATENATE(\"(\",TEXT('ECOLI data'!J27,\"0.0\"),\" ,\", TEXT('ECOLI data'!K27,\"0.0\"),\")\"),\"-\")","v":"(38.8 ,45.8)"}]
[null,{"$f":"'ECOLI data'!B28","v":"2021-09-01"},{"$f":"'ECOLI data'!D28","v":604},{"$f":"'ECOLI data'!E28","v":41.4739},{"$f":"CONCATENATE(\"(\",TEXT('ECOLI data'!F28,\"0.0\"),\" ,\", TEXT('ECOLI data'!G28,\"0.0\"),\")\")","v":"(38.2 ,44.9)"},{"$f":"'ECOLI data'!H28","v":566},{"$f":"'ECOLI data'!I28","v":41.442900000000002},{"$f":"IFERROR(CONCATENATE(\"(\",TEXT('ECOLI data'!J28,\"0.0\"),\" ,\", TEXT('ECOLI data'!K28,\"0.0\"),\")\"),\"-\")","v":"(38.1 ,45.0)"}]
[null,{"$f":"'ECOLI data'!B29","v":"2021-12-01"},{"$f":"'ECOLI data'!D29","v":509},{"$f":"'ECOLI data'!E29","v":34.073999999999998},{"$f":"CONCATENATE(\"(\",TEXT('ECOLI data'!F29,\"0.0\"),\" ,\", TEXT('ECOLI data'!G29,\"0.0\"),\")\")","v":"(31.2 ,37.2)"},{"$f":"'ECOLI data'!H29","v":549},{"$f":"'ECOLI data'!I29","v":40.1982},{"$f":"IFERROR(CONCATENATE(\"(\",TEXT('ECOLI data'!J29,\"0.0\"),\" ,\", TEXT('ECOLI data'!K29,\"0.0\"),\")\"),\"-\")","v":"(36.9 ,43.7)"}]
[null,{"$f":"'ECOLI data'!B30","v":"2022-03-01"},{"$f":"'ECOLI data'!D30","v":452},{"$f":"'ECOLI data'!E30","v":30.518799999999999},{"$f":"CONCATENATE(\"(\",TEXT('ECOLI data'!F30,\"0.0\"),\" ,\", TEXT('ECOLI data'!G30,\"0.0\"),\")\")","v":"(27.8 ,33.5)"},{"$f":"'ECOLI data'!H30","v":528},{"$f":"'ECOLI data'!I30","v":39.307099999999998},{"$f":"IFERROR(CONCATENATE(\"(\",TEXT('ECOLI data'!J30,\"0.0\"),\" ,\", TEXT('ECOLI data'!K30,\"0.0\"),\")\"),\"-\")","v":"(36.0 ,42.8)"}]
[null,{"$f":"'ECOLI data'!B31","v":"2022-06-01"},{"$f":"'ECOLI data'!D31","v":528},{"$f":"'ECOLI data'!E31","v":34.820900000000002},{"$f":"CONCATENATE(\"(\",TEXT('ECOLI data'!F31,\"0.0\"),\" ,\", TEXT('ECOLI data'!G31,\"0.0\"),\")\")","v":"(31.9 ,37.9)"},{"$f":"'ECOLI data'!H31","v":529},{"$f":"'ECOLI data'!I31","v":38.948799999999999},{"$f":"IFERROR(CONCATENATE(\"(\",TEXT('ECOLI data'!J31,\"0.0\"),\" ,\", TEXT('ECOLI data'!K31,\"0.0\"),\")\"),\"-\")","v":"(35.7 ,42.4)"}]
[null,{"$f":"'ECOLI data'!B32","v":"2022-09-30"},{"$f":"'ECOLI data'!D32","v":560},{"$f":"'ECOLI data'!E32","v":36.228700000000003},{"$f":"CONCATENATE(\"(\",TEXT('ECOLI data'!F32,\"0.0\"),\" ,\", TEXT('ECOLI data'!G32,\"0.0\"),\")\")","v":"(33.3 ,39.4)"},{"$f":"'ECOLI data'!H32","v":577},{"$f":"'ECOLI data'!I32","v":42.021099999999997},{"$f":"IFERROR(CONCATENATE(\"(\",TEXT('ECOLI data'!J32,\"0.0\"),\" ,\", TEXT('ECOLI data'!K32,\"0.0\"),\")\"),\"-\")","v":"(38.7 ,45.6)"}]
[null,{"$f":"'ECOLI data'!B33","v":"2022-12-31"},{"$f":"'ECOLI data'!D33","v":549},{"$f":"'ECOLI data'!E33","v":34.9893},{"$f":"CONCATENATE(\"(\",TEXT('ECOLI data'!F33,\"0.0\"),\" ,\", TEXT('ECOLI data'!G33,\"0.0\"),\")\")","v":"(32.1 ,38.0)"},{"$f":"'ECOLI data'!H33","v":495},{"$f":"'ECOLI data'!I33","v":36.049300000000002},{"$f":"IFERROR(CONCATENATE(\"(\",TEXT('ECOLI data'!J33,\"0.0\"),\" ,\", TEXT('ECOLI data'!K33,\"0.0\"),\")\"),\"-\")","v":"(32.9 ,39.4)"}]
[null,{"$f":"'ECOLI data'!B34","v":"2023-03-31"},{"$f":"'ECOLI data'!D34","v":588},{"$f":"'ECOLI data'!E34","v":37.478099999999998},{"$f":"CONCATENATE(\"(\",TEXT('ECOLI data'!F34,\"0.0\"),\" ,\", TEXT('ECOLI data'!G34,\"0.0\"),\")\")","v":"(34.5 ,40.6)"},{"$f":"'ECOLI data'!H34","v":497},{"$f":"'ECOLI data'!I34","v":36.999299999999998},{"$f":"IFERROR(CONCATENATE(\"(\",TEXT('ECOLI data'!J34,\"0.0\"),\" ,\", TEXT('ECOLI data'!K34,\"0.0\"),\")\"),\"-\")","v":"(33.8 ,40.4)"}]
[null,{"$f":"'ECOLI data'!B35","v":"2023-06-30"},{"$f":"'ECOLI data'!D35","v":581},{"$f":"'ECOLI data'!E35","v":37.613399999999999},{"$f":"CONCATENATE(\"(\",TEXT('ECOLI data'!F35,\"0.0\"),\" ,\", TEXT('ECOLI data'!G35,\"0.0\"),\")\")","v":"(34.6 ,40.8)"},{"$f":"'ECOLI data'!H35","v":502},{"$f":"'ECOLI data'!I35","v":36.960900000000002},{"$f":"IFERROR(CONCATENATE(\"(\",TEXT('ECOLI data'!J35,\"0.0\"),\" ,\", TEXT('ECOLI data'!K35,\"0.0\"),\")\"),\"-\")","v":"(33.8 ,40.3)"}]
[null,{"$f":"'ECOLI data'!B36","v":"2023-09-30"},{"$f":"'ECOLI data'!D36","v":580},{"$f":"'ECOLI data'!E36","v":37.717100000000002},{"$f":"CONCATENATE(\"(\",TEXT('ECOLI data'!F36,\"0.0\"),\" ,\", TEXT('ECOLI data'!G36,\"0.0\"),\")\")","v":"(34.7 ,40.9)"},{"$f":"'ECOLI data'!H36","v":575},{"$f":"'ECOLI data'!I36","v":41.875500000000002},{"$f":"IFERROR(CONCATENATE(\"(\",TEXT('ECOLI data'!J36,\"0.0\"),\" ,\", TEXT('ECOLI data'!K36,\"0.0\"),\")\"),\"-\")","v":"(38.5 ,45.4)"}]
[null,{"$f":"'ECOLI data'!B37","v":"2023-12-31"},{"$f":"'ECOLI data'!D37","v":544},{"$f":"'ECOLI data'!E37","v":34.734499999999997},{"$f":"CONCATENATE(\"(\",TEXT('ECOLI data'!F37,\"0.0\"),\" ,\", TEXT('ECOLI data'!G37,\"0.0\"),\")\")","v":"(31.9 ,37.8)"},{"$f":"'ECOLI data'!H37","v":442},{"$f":"'ECOLI data'!I37","v":32.189500000000002},{"$f":"IFERROR(CONCATENATE(\"(\",TEXT('ECOLI data'!J37,\"0.0\"),\" ,\", TEXT('ECOLI data'!K37,\"0.0\"),\")\"),\"-\")","v":"(29.3 ,35.3)"}]
[null,{"$f":"'ECOLI data'!B38","v":"2024-03-31"},{"$f":"'ECOLI data'!D38","v":565},{"$f":"'ECOLI data'!E38","v":35.518700000000003},{"$f":"CONCATENATE(\"(\",TEXT('ECOLI data'!F38,\"0.0\"),\" ,\", TEXT('ECOLI data'!G38,\"0.0\"),\")\")","v":"(32.6 ,38.6)"},{"$f":"'ECOLI data'!H38","v":504},{"$f":"'ECOLI data'!I38","v":37.209800000000001},{"$f":"IFERROR(CONCATENATE(\"(\",TEXT('ECOLI data'!J38,\"0.0\"),\" ,\", TEXT('ECOLI data'!K38,\"0.0\"),\")\"),\"-\")","v":"(34.0 ,40.6)"}]
[null,{"$f":"'ECOLI data'!B39","v":"2024-06-30"},{"$f":"'ECOLI data'!D39","v":614},{"$f":"'ECOLI data'!E39","v":39.432899999999997},{"$f":"CONCATENATE(\"(\",TEXT('ECOLI data'!F39,\"0.0\"),\" ,\", TEXT('ECOLI data'!G39,\"0.0\"),\")\")","v":"(36.4 ,42.7)"},{"$f":"'ECOLI data'!H39","v":490},{"$f":"'ECOLI data'!I39","v":36.176200000000001},{"$f":"IFERROR(CONCATENATE(\"(\",TEXT('ECOLI data'!J39,\"0.0\"),\" ,\", TEXT('ECOLI data'!K39,\"0.0\"),\")\"),\"-\")","v":"(33.0 ,39.5)"}]

{"sheet":"SAB Data and Charts","index":3,"n_rows":43,"n_cols":14,"rows_kept":43,"cut":false,"hidden":false,"merged":[]}
[null,"Scotland",null,null,null,null,null,null,null,{"$f":"CONCATENATE(\"Healthcare and community rates for \",B1)","v":"Healthcare and community rates for Scotland"}]
[null,null,null,null,null,null,null,null,null,null,"SABHCAI ",null,"SABCAUN "]
[null,null,null,"Healthcare associated SAB",null,null,"Community associated SAB",null,null,null,"Healthcare associated SAB infection ",null,"Community associated SAB infection "]
[null,"Quarter Ending","Cases","Rate per 100 000 bed days","95% CI","Cases","Rate per 100 000 population","95% CI",null,null,"% change",null,"% change"]
[null,{"$f":"'SAB data'!B8","v":"2014-12-19"},{"$f":"'SAB data'!D8","v":275},{"$f":"'SAB data'!E8","v":16.065000000000001},{"$f":"CONCATENATE(\"(\",TEXT('SAB data'!F8,\"0.0\"),\" ,\", TEXT('SAB data'!G8,\"0.0\"),\")\")","v":"(14.2 ,18.1)"},{"$f":"'SAB data'!H8","v":119},{"$f":"'SAB data'!I8","v":8.8539999999999992},{"$f":"IFERROR(CONCATENATE(\"(\",TEXT('SAB data'!J8,\"0.0\"),\" ,\", TEXT('SAB data'!K8,\"0.0\"),\")\"),\"-\")","v":"(7.3 ,10.6)"},null,"This quarter compared to last (national only)",{"$f":"IFERROR(ROUND(VLOOKUP(CONCATENATE(K2,$B$1),'quarter comp'!$A1:$H21,4,FALSE),2),\"-\")","v":1.78},{"$f":"IFERROR(VLOOKUP(CONCATENATE(K2,$B$1),'quarter comp'!$A1:$H21,8,FALSE),\"-\")","v":"Non Significant"},{"$f":"IFERROR(ROUND(VLOOKUP(CONCATENATE(M2,$B$1),'quarter comp'!$A1:$H21,4,FALSE),2),\"-\")","v":-8.11},{"$f":"IFERROR(VLOOKUP(CONCATENATE(M2,$B$1),'quarter comp'!$A1:$H21,8,FALSE),\"-\")","v":"Non Significant"}]
[null,{"$f":"'SAB data'!B9","v":"2015-03-24"},{"$f":"'SAB data'!D9","v":263},{"$f":"'SAB data'!E9","v":15.257999999999999},{"$f":"CONCATENATE(\"(\",TEXT('SAB data'!F9,\"0.0\"),\" ,\", TEXT('SAB data'!G9,\"0.0\"),\")\")","v":"(13.5 ,17.2)"},{"$f":"'SAB data'!H9","v":126},{"$f":"'SAB data'!I9","v":9.548},{"$f":"IFERROR(CONCATENATE(\"(\",TEXT('SAB data'!J9,\"0.0\"),\" ,\", TEXT('SAB data'!K9,\"0.0\"),\")\"),\"-\")","v":"(8.0 ,11.4)"},null,"Year end compared to previous year end ",{"$f":"ROUND(VLOOKUP(CONCATENATE(K2,$B$1),'year end comp'!$A$2:$Z$1086,4,FALSE),2)","v":-2.89},{"$f":"VLOOKUP(CONCATENATE(K2,$B$1),'year end comp'!$A$2:$Z$1086,8,FALSE)","v":"Non Significant"},{"$f":"IF(IFERROR(ROUND(VLOOKUP(CONCATENATE(M2,$B$1),'year end comp'!$A$2:$Z$1086,4,FALSE),2),\"-\")=-100,\"-\",IFERROR(ROUND(VLOOKUP(CONCATENATE(M2,$B$1),'year end comp'!$A$2:$Z$1086,4,FALSE),2),\"-\"))","v":6.86},{"$f":"IF(IFERROR(VLOOKUP(CONCATENATE(M2,$B$1),'year end comp'!$A$2:$Z$1086,8,FALSE),\"-\")=0,\"-\",IFERROR(VLOOKUP(CONCATENATE(M2,$B$1),'year end comp'!$A$2:$Z$1086,8,FALSE),\"-\"))","v":"Non Significant"}]
[null,{"$f":"'SAB data'!B10","v":"2015-06-24"},{"$f":"'SAB data'!D10","v":284},{"$f":"'SAB data'!E10","v":17.094000000000001},{"$f":"CONCATENATE(\"(\",TEXT('SAB data'!F10,\"0.0\"),\" ,\", TEXT('SAB data'!G10,\"0.0\"),\")\")","v":"(15.2 ,19.2)"},{"$f":"'SAB data'!H10","v":131},{"$f":"'SAB data'!I10","v":9.8179999999999996},{"$f":"IFERROR(CONCATENATE(\"(\",TEXT('SAB data'!J10,\"0.0\"),\" ,\", TEXT('SAB data'!K10,\"0.0\"),\")\"),\"-\")","v":"(8.2 ,11.7)"}]
[null,{"$f":"'SAB data'!B11","v":"2015-09-24"},{"$f":"'SAB data'!D11","v":275},{"$f":"'SAB data'!E11","v":16.966000000000001},{"$f":"CONCATENATE(\"(\",TEXT('SAB data'!F11,\"0.0\"),\" ,\", TEXT('SAB data'!G11,\"0.0\"),\")\")","v":"(15.0 ,19.1)"},{"$f":"'SAB data'!H11","v":113},{"$f":"'SAB data'!I11","v":8.3770000000000007},{"$f":"IFERROR(CONCATENATE(\"(\",TEXT('SAB data'!J11,\"0.0\"),\" ,\", TEXT('SAB data'!K11,\"0.0\"),\")\"),\"-\")","v":"(6.9 ,10.1)"}]
[null,{"$f":"'SAB data'!B12","v":"2015-12-24"},{"$f":"'SAB data'!D12","v":303},{"$f":"'SAB data'!E12","v":18.451000000000001},{"$f":"CONCATENATE(\"(\",TEXT('SAB data'!F12,\"0.0\"),\" ,\", TEXT('SAB data'!G12,\"0.0\"),\")\")","v":"(16.4 ,20.7)"},{"$f":"'SAB data'!H12","v":104},{"$f":"'SAB data'!I12","v":7.71},{"$f":"IFERROR(CONCATENATE(\"(\",TEXT('SAB data'!J12,\"0.0\"),\" ,\", TEXT('SAB data'!K12,\"0.0\"),\")\"),\"-\")","v":"(6.3 ,9.3)"}]
[null,{"$f":"'SAB data'!B13","v":"2016-03-24"},{"$f":"'SAB data'!D13","v":279},{"$f":"'SAB data'!E13","v":16.661999999999999},{"$f":"CONCATENATE(\"(\",TEXT('SAB data'!F13,\"0.0\"),\" ,\", TEXT('SAB data'!G13,\"0.0\"),\")\")","v":"(14.8 ,18.7)"},{"$f":"'SAB data'!H13","v":139},{"$f":"'SAB data'!I13","v":10.401},{"$f":"IFERROR(CONCATENATE(\"(\",TEXT('SAB data'!J13,\"0.0\"),\" ,\", TEXT('SAB data'!K13,\"0.0\"),\")\"),\"-\")","v":"(8.7 ,12.3)"}]
[null,{"$f":"'SAB data'!B14","v":"2016-06-24"},{"$f":"'SAB data'!D14","v":260},{"$f":"'SAB data'!E14","v":16.198},{"$f":"CONCATENATE(\"(\",TEXT('SAB data'!F14,\"0.0\"),\" ,\", TEXT('SAB data'!G14,\"0.0\"),\")\")","v":"(14.3 ,18.3)"},{"$f":"'SAB data'!H14","v":121},{"$f":"'SAB data'!I14","v":9.0540000000000003},{"$f":"IFERROR(CONCATENATE(\"(\",TEXT('SAB data'!J14,\"0.0\"),\" ,\", TEXT('SAB data'!K14,\"0.0\"),\")\"),\"-\")","v":"(7.5 ,10.8)"}]
[null,{"$f":"'SAB data'!B15","v":"2016-09-24"},{"$f":"'SAB data'!D15","v":273},{"$f":"'SAB data'!E15","v":17.193000000000001},{"$f":"CONCATENATE(\"(\",TEXT('SAB data'!F15,\"0.0\"),\" ,\", TEXT('SAB data'!G15,\"0.0\"),\")\")","v":"(15.2 ,19.4)"},{"$f":"'SAB data'!H15","v":127},{"$f":"'SAB data'!I15","v":9.4},{"$f":"IFERROR(CONCATENATE(\"(\",TEXT('SAB data'!J15,\"0.0\"),\" ,\", TEXT('SAB data'!K15,\"0.0\"),\")\"),\"-\")","v":"(7.8 ,11.2)"}]
[null,{"$f":"'SAB data'!B16","v":"2016-12-24"},{"$f":"'SAB data'!D16","v":265},{"$f":"'SAB data'!E16","v":16.649000000000001},{"$f":"CONCATENATE(\"(\",TEXT('SAB data'!F16,\"0.0\"),\" ,\", TEXT('SAB data'!G16,\"0.0\"),\")\")","v":"(14.7 ,18.8)"},{"$f":"'SAB data'!H16","v":135},{"$f":"'SAB data'!I16","v":9.9920000000000009},{"$f":"IFERROR(CONCATENATE(\"(\",TEXT('SAB data'!J16,\"0.0\"),\" ,\", TEXT('SAB data'!K16,\"0.0\"),\")\"),\"-\")","v":"(8.4 ,11.8)"}]
[null,{"$f":"'SAB data'!B17","v":"2017-03-01"},{"$f":"'SAB data'!D17","v":259},{"$f":"'SAB data'!E17","v":16.379000000000001},{"$f":"CONCATENATE(\"(\",TEXT('SAB data'!F17,\"0.0\"),\" ,\", TEXT('SAB data'!G17,\"0.0\"),\")\")","v":"(14.4 ,18.5)"},{"$f":"'SAB data'!H17","v":142},{"$f":"'SAB data'!I17","v":10.685},{"$f":"IFERROR(CONCATENATE(\"(\",TEXT('SAB data'!J17,\"0.0\"),\" ,\", TEXT('SAB data'!K17,\"0.0\"),\")\"),\"-\")","v":"(9.0 ,12.6)"}]
[null,{"$f":"'SAB data'!B18","v":"2017-06-01"},{"$f":"'SAB data'!D18","v":248},{"$f":"'SAB data'!E18","v":15.994},{"$f":"CONCATENATE(\"(\",TEXT('SAB data'!F18,\"0.0\"),\" ,\", TEXT('SAB data'!G18,\"0.0\"),\")\")","v":"(14.1 ,18.1)"},{"$f":"'SAB data'!H18","v":126},{"$f":"'SAB data'!I18","v":9.3770000000000007},{"$f":"IFERROR(CONCATENATE(\"(\",TEXT('SAB data'!J18,\"0.0\"),\" ,\", TEXT('SAB data'!K18,\"0.0\"),\")\"),\"-\")","v":"(7.8 ,11.2)"}]
[null,{"$f":"'SAB data'!B19","v":"2017-09-01"},{"$f":"'SAB data'!D19","v":278},{"$f":"'SAB data'!E19","v":18.065999999999999},{"$f":"CONCATENATE(\"(\",TEXT('SAB data'!F19,\"0.0\"),\" ,\", TEXT('SAB data'!G19,\"0.0\"),\")\")","v":"(16.0 ,20.3)"},{"$f":"'SAB data'!H19","v":127},{"$f":"'SAB data'!I19","v":9.3480000000000008},{"$f":"IFERROR(CONCATENATE(\"(\",TEXT('SAB data'!J19,\"0.0\"),\" ,\", TEXT('SAB data'!K19,\"0.0\"),\")\"),\"-\")","v":"(7.8 ,11.1)"}]
[null,{"$f":"'SAB data'!B20","v":"2017-12-01"},{"$f":"'SAB data'!D20","v":262},{"$f":"'SAB data'!E20","v":16.635000000000002},{"$f":"CONCATENATE(\"(\",TEXT('SAB data'!F20,\"0.0\"),\" ,\", TEXT('SAB data'!G20,\"0.0\"),\")\")","v":"(14.7 ,18.8)"},{"$f":"'SAB data'!H20","v":132},{"$f":"'SAB data'!I20","v":9.7159999999999993},{"$f":"IFERROR(CONCATENATE(\"(\",TEXT('SAB data'!J20,\"0.0\"),\" ,\", TEXT('SAB data'!K20,\"0.0\"),\")\"),\"-\")","v":"(8.1 ,11.5)"}]
[null,{"$f":"'SAB data'!B21","v":"2018-03-01"},{"$f":"'SAB data'!D21","v":296},{"$f":"'SAB data'!E21","v":18.672000000000001},{"$f":"CONCATENATE(\"(\",TEXT('SAB data'!F21,\"0.0\"),\" ,\", TEXT('SAB data'!G21,\"0.0\"),\")\")","v":"(16.6 ,20.9)"},{"$f":"'SAB data'!H21","v":135},{"$f":"'SAB data'!I21","v":10.1496},{"$f":"IFERROR(CONCATENATE(\"(\",TEXT('SAB data'!J21,\"0.0\"),\" ,\", TEXT('SAB data'!K21,\"0.0\"),\")\"),\"-\")","v":"(8.5 ,12.0)"}]
[null,{"$f":"'SAB data'!B22","v":"2018-06-01"},{"$f":"'SAB data'!D22","v":264},{"$f":"'SAB data'!E22","v":17.308},{"$f":"CONCATENATE(\"(\",TEXT('SAB data'!F22,\"0.0\"),\" ,\", TEXT('SAB data'!G22,\"0.0\"),\")\")","v":"(15.3 ,19.5)"},{"$f":"'SAB data'!H22","v":123},{"$f":"'SAB data'!I22","v":9.1457999999999995},{"$f":"IFERROR(CONCATENATE(\"(\",TEXT('SAB data'!J22,\"0.0\"),\" ,\", TEXT('SAB data'!K22,\"0.0\"),\")\"),\"-\")","v":"(7.6 ,10.9)"}]
[null,{"$f":"'SAB data'!B23","v":"2018-09-01"},{"$f":"'SAB data'!D23","v":253},{"$f":"'SAB data'!E23","v":16.736999999999998},{"$f":"CONCATENATE(\"(\",TEXT('SAB data'!F23,\"0.0\"),\" ,\", TEXT('SAB data'!G23,\"0.0\"),\")\")","v":"(14.7 ,18.9)"},{"$f":"'SAB data'!H23","v":132},{"$f":"'SAB data'!I23","v":9.7080000000000002},{"$f":"IFERROR(CONCATENATE(\"(\",TEXT('SAB data'!J23,\"0.0\"),\" ,\", TEXT('SAB data'!K23,\"0.0\"),\")\"),\"-\")","v":"(8.1 ,11.5)"}]
[null,{"$f":"'SAB data'!B24","v":"2018-12-01"},{"$f":"'SAB data'!D24","v":269},{"$f":"'SAB data'!E24","v":17.672000000000001},{"$f":"CONCATENATE(\"(\",TEXT('SAB data'!F24,\"0.0\"),\" ,\", TEXT('SAB data'!G24,\"0.0\"),\")\")","v":"(15.6 ,19.9)"},{"$f":"'SAB data'!H24","v":113},{"$f":"'SAB data'!I24","v":8.3109999999999999},{"$f":"IFERROR(CONCATENATE(\"(\",TEXT('SAB data'!J24,\"0.0\"),\" ,\", TEXT('SAB data'!K24,\"0.0\"),\")\"),\"-\")","v":"(6.8 ,10.0)"}]
[null,{"$f":"'SAB data'!B25","v":"2019-03-01"},{"$f":"'SAB data'!D25","v":240},{"$f":"'SAB data'!E25","v":15.6},{"$f":"CONCATENATE(\"(\",TEXT('SAB data'!F25,\"0.0\"),\" ,\", TEXT('SAB data'!G25,\"0.0\"),\")\")","v":"(13.7 ,17.7)"},{"$f":"'SAB data'!H25","v":144},{"$f":"'SAB data'!I25","v":10.786},{"$f":"IFERROR(CONCATENATE(\"(\",TEXT('SAB data'!J25,\"0.0\"),\" ,\", TEXT('SAB data'!K25,\"0.0\"),\")\"),\"-\")","v":"(9.1 ,12.7)"}]
[null,{"$f":"'SAB data'!B26","v":"2019-06-01"},{"$f":"'SAB data'!D26","v":251},{"$f":"'SAB data'!E26","v":16.664000000000001},{"$f":"CONCATENATE(\"(\",TEXT('SAB data'!F26,\"0.0\"),\" ,\", TEXT('SAB data'!G26,\"0.0\"),\")\")","v":"(14.7 ,18.9)"},{"$f":"'SAB data'!H26","v":133},{"$f":"'SAB data'!I26","v":9.8529999999999998},{"$f":"IFERROR(CONCATENATE(\"(\",TEXT('SAB data'!J26,\"0.0\"),\" ,\", TEXT('SAB data'!K26,\"0.0\"),\")\"),\"-\")","v":"(8.2 ,11.7)"}]
[null,{"$f":"'SAB data'!B27","v":"2019-09-01"},{"$f":"'SAB data'!D27","v":264},{"$f":"'SAB data'!E27","v":17.518999999999998},{"$f":"CONCATENATE(\"(\",TEXT('SAB data'!F27,\"0.0\"),\" ,\", TEXT('SAB data'!G27,\"0.0\"),\")\")","v":"(15.5 ,19.8)"},{"$f":"'SAB data'!H27","v":102},{"$f":"'SAB data'!I27","v":7.4740000000000002},{"$f":"IFERROR(CONCATENATE(\"(\",TEXT('SAB data'!J27,\"0.0\"),\" ,\", TEXT('SAB data'!K27,\"0.0\"),\")\"),\"-\")","v":"(6.1 ,9.1)"}]
[null,{"$f":"'SAB data'!B28","v":"2019-12-01"},{"$f":"'SAB data'!D28","v":233},{"$f":"'SAB data'!E28","v":15.214},{"$f":"CONCATENATE(\"(\",TEXT('SAB data'!F28,\"0.0\"),\" ,\", TEXT('SAB data'!G28,\"0.0\"),\")\")","v":"(13.3 ,17.3)"},{"$f":"'SAB data'!H28","v":132},{"$f":"'SAB data'!I28","v":9.6720000000000006},{"$f":"IFERROR(CONCATENATE(\"(\",TEXT('SAB data'!J28,\"0.0\"),\" ,\", TEXT('SAB data'!K28,\"0.0\"),\")\"),\"-\")","v":"(8.1 ,11.5)"}]
[null,{"$f":"'SAB data'!B29","v":"2020-03-01"},{"$f":"'SAB data'!D29","v":241},{"$f":"'SAB data'!E29","v":16.327999999999999},{"$f":"CONCATENATE(\"(\",TEXT('SAB data'!F29,\"0.0\"),\" ,\", TEXT('SAB data'!G29,\"0.0\"),\")\")","v":"(14.3 ,18.5)"},{"$f":"'SAB data'!H29","v":149},{"$f":"'SAB data'!I29","v":11.071},{"$f":"IFERROR(CONCATENATE(\"(\",TEXT('SAB data'!J29,\"0.0\"),\" ,\", TEXT('SAB data'!K29,\"0.0\"),\")\"),\"-\")","v":"(9.4 ,13.0)"}]
[null,{"$f":"'SAB data'!B30","v":"2020-06-01"},{"$f":"'SAB data'!D30","v":219},{"$f":"'SAB data'!E30","v":20.260000000000002},{"$f":"CONCATENATE(\"(\",TEXT('SAB data'!F30,\"0.0\"),\" ,\", TEXT('SAB data'!G30,\"0.0\"),\")\")","v":"(17.7 ,23.1)"},{"$f":"'SAB data'!H30","v":132},{"$f":"'SAB data'!I30","v":9.8079999999999998},{"$f":"IFERROR(CONCATENATE(\"(\",TEXT('SAB data'!J30,\"0.0\"),\" ,\", TEXT('SAB data'!K30,\"0.0\"),\")\"),\"-\")","v":"(8.2 ,11.6)"}]
[null,{"$f":"'SAB data'!B31","v":"2020-09-01"},{"$f":"'SAB data'!D31","v":224},{"$f":"'SAB data'!E31","v":17.178100000000001},{"$f":"CONCATENATE(\"(\",TEXT('SAB data'!F31,\"0.0\"),\" ,\", TEXT('SAB data'!G31,\"0.0\"),\")\")","v":"(15.0 ,19.6)"},{"$f":"'SAB data'!H31","v":149},{"$f":"'SAB data'!I31","v":10.9505},{"$f":"IFERROR(CONCATENATE(\"(\",TEXT('SAB data'!J31,\"0.0\"),\" ,\", TEXT('SAB data'!K31,\"0.0\"),\")\"),\"-\")","v":"(9.3 ,12.9)"}]
[null,{"$f":"'SAB data'!B32","v":"2020-12-01"},{"$f":"'SAB data'!D32","v":256},{"$f":"'SAB data'!E32","v":18.854099999999999},{"$f":"CONCATENATE(\"(\",TEXT('SAB data'!F32,\"0.0\"),\" ,\", TEXT('SAB data'!G32,\"0.0\"),\")\")","v":"(16.6 ,21.3)"},{"$f":"'SAB data'!H32","v":131},{"$f":"'SAB data'!I32","v":9.6275999999999993},{"$f":"IFERROR(CONCATENATE(\"(\",TEXT('SAB data'!J32,\"0.0\"),\" ,\", TEXT('SAB data'!K32,\"0.0\"),\")\"),\"-\")","v":"(8.0 ,11.4)"}]
[null,{"$f":"'SAB data'!B33","v":"2021-03-31"},{"$f":"'SAB data'!D33","v":248},{"$f":"'SAB data'!E33","v":18.345300000000002},{"$f":"CONCATENATE(\"(\",TEXT('SAB data'!F33,\"0.0\"),\" ,\", TEXT('SAB data'!G33,\"0.0\"),\")\")","v":"(16.1 ,20.8)"},{"$f":"'SAB data'!H33","v":140},{"$f":"'SAB data'!I33","v":10.4787},{"$f":"IFERROR(CONCATENATE(\"(\",TEXT('SAB data'!J33,\"0.0\"),\" ,\", TEXT('SAB data'!K33,\"0.0\"),\")\"),\"-\")","v":"(8.8 ,12.4)"}]
[null,{"$f":"'SAB data'!B34","v":"2021-06-30"},{"$f":"'SAB data'!D34","v":260},{"$f":"'SAB data'!E34","v":18.649100000000001},{"$f":"CONCATENATE(\"(\",TEXT('SAB data'!F34,\"0.0\"),\" ,\", TEXT('SAB data'!G34,\"0.0\"),\")\")","v":"(16.5 ,21.1)"},{"$f":"'SAB data'!H34","v":148},{"$f":"'SAB data'!I34","v":10.9558},{"$f":"IFERROR(CONCATENATE(\"(\",TEXT('SAB data'!J34,\"0.0\"),\" ,\", TEXT('SAB data'!K34,\"0.0\"),\")\"),\"-\")","v":"(9.3 ,12.9)"}]
[null,{"$f":"'SAB data'!B35","v":"2021-09-30"},{"$f":"'SAB data'!D35","v":268},{"$f":"'SAB data'!E35","v":18.4023},{"$f":"CONCATENATE(\"(\",TEXT('SAB data'!F35,\"0.0\"),\" ,\", TEXT('SAB data'!G35,\"0.0\"),\")\")","v":"(16.3 ,20.7)"},{"$f":"'SAB data'!H35","v":132},{"$f":"'SAB data'!I35","v":9.6651000000000007},{"$f":"IFERROR(CONCATENATE(\"(\",TEXT('SAB data'!J35,\"0.0\"),\" ,\", TEXT('SAB data'!K35,\"0.0\"),\")\"),\"-\")","v":"(8.1 ,11.5)"}]
[null,{"$f":"'SAB data'!B36","v":"2021-12-31"},{"$f":"'SAB data'!D36","v":259},{"$f":"'SAB data'!E36","v":17.3383},{"$f":"CONCATENATE(\"(\",TEXT('SAB data'!F36,\"0.0\"),\" ,\", TEXT('SAB data'!G36,\"0.0\"),\")\")","v":"(15.3 ,19.6)"},{"$f":"'SAB data'!H36","v":136},{"$f":"'SAB data'!I36","v":9.9580000000000002},{"$f":"IFERROR(CONCATENATE(\"(\",TEXT('SAB data'!J36,\"0.0\"),\" ,\", TEXT('SAB data'!K36,\"0.0\"),\")\"),\"-\")","v":"(8.4 ,11.8)"}]
[null,{"$f":"'SAB data'!B37","v":"2022-03-31"},{"$f":"'SAB data'!D37","v":241},{"$f":"'SAB data'!E37","v":16.272200000000002},{"$f":"CONCATENATE(\"(\",TEXT('SAB data'!F37,\"0.0\"),\" ,\", TEXT('SAB data'!G37,\"0.0\"),\")\")","v":"(14.3 ,18.5)"},{"$f":"'SAB data'!H37","v":130},{"$f":"'SAB data'!I37","v":9.6778999999999993},{"$f":"IFERROR(CONCATENATE(\"(\",TEXT('SAB data'!J37,\"0.0\"),\" ,\", TEXT('SAB data'!K37,\"0.0\"),\")\"),\"-\")","v":"(8.1 ,11.5)"}]
[null,{"$f":"'SAB data'!B38","v":"2022-06-30"},{"$f":"'SAB data'!D38","v":262},{"$f":"'SAB data'!E38","v":17.278500000000001},{"$f":"CONCATENATE(\"(\",TEXT('SAB data'!F38,\"0.0\"),\" ,\", TEXT('SAB data'!G38,\"0.0\"),\")\")","v":"(15.2 ,19.5)"},{"$f":"'SAB data'!H38","v":139},{"$f":"'SAB data'!I38","v":10.2342},{"$f":"IFERROR(CONCATENATE(\"(\",TEXT('SAB data'!J38,\"0.0\"),\" ,\", TEXT('SAB data'!K38,\"0.0\"),\")\"),\"-\")","v":"(8.6 ,12.1)"}]
[null,{"$f":"'SAB data'!B39","v":"2022-09-30"},{"$f":"'SAB data'!D39","v":264},{"$f":"'SAB data'!E39","v":17.0792},{"$f":"CONCATENATE(\"(\",TEXT('SAB data'!F39,\"0.0\"),\" ,\", TEXT('SAB data'!G39,\"0.0\"),\")\")","v":"(15.1 ,19.3)"},{"$f":"'SAB data'!H39","v":121},{"$f":"'SAB data'!I39","v":8.8120999999999992},{"$f":"IFERROR(CONCATENATE(\"(\",TEXT('SAB data'!J39,\"0.0\"),\" ,\", TEXT('SAB data'!K39,\"0.0\"),\")\"),\"-\")","v":"(7.3 ,10.5)"}]
[null,{"$f":"'SAB data'!B40","v":"2022-12-31"},{"$f":"'SAB data'!D40","v":302},{"$f":"'SAB data'!E40","v":19.247299999999999},{"$f":"CONCATENATE(\"(\",TEXT('SAB data'!F40,\"0.0\"),\" ,\", TEXT('SAB data'!G40,\"0.0\"),\")\")","v":"(17.1 ,21.5)"},{"$f":"'SAB data'!H40","v":131},{"$f":"'SAB data'!I40","v":9.5403000000000002},{"$f":"IFERROR(CONCATENATE(\"(\",TEXT('SAB data'!J40,\"0.0\"),\" ,\", TEXT('SAB data'!K40,\"0.0\"),\")\"),\"-\")","v":"(8.0 ,11.3)"}]
[null,{"$f":"'SAB data'!B41","v":"2023-03-31"},{"$f":"'SAB data'!D41","v":300},{"$f":"'SAB data'!E41","v":19.121500000000001},{"$f":"CONCATENATE(\"(\",TEXT('SAB data'!F41,\"0.0\"),\" ,\", TEXT('SAB data'!G41,\"0.0\"),\")\")","v":"(17.0 ,21.4)"},{"$f":"'SAB data'!H41","v":133},{"$f":"'SAB data'!I41","v":9.9011999999999993},{"$f":"IFERROR(CONCATENATE(\"(\",TEXT('SAB data'!J41,\"0.0\"),\" ,\", TEXT('SAB data'!K41,\"0.0\"),\")\"),\"-\")","v":"(8.3 ,11.7)"}]
[null,{"$f":"'SAB data'!B42","v":"2023-06-30"},{"$f":"'SAB data'!D42","v":283},{"$f":"'SAB data'!E42","v":18.321200000000001},{"$f":"CONCATENATE(\"(\",TEXT('SAB data'!F42,\"0.0\"),\" ,\", TEXT('SAB data'!G42,\"0.0\"),\")\")","v":"(16.2 ,20.6)"},{"$f":"'SAB data'!H42","v":140},{"$f":"'SAB data'!I42","v":10.3078},{"$f":"IFERROR(CONCATENATE(\"(\",TEXT('SAB data'!J42,\"0.0\"),\" ,\", TEXT('SAB data'!K42,\"0.0\"),\")\"),\"-\")","v":"(8.7 ,12.2)"}]
[null,{"$f":"'SAB data'!B43","v":"2023-09-30"},{"$f":"'SAB data'!D43","v":278},{"$f":"'SAB data'!E43","v":18.078199999999999},{"$f":"CONCATENATE(\"(\",TEXT('SAB data'!F43,\"0.0\"),\" ,\", TEXT('SAB data'!G43,\"0.0\"),\")\")","v":"(16.0 ,20.3)"},{"$f":"'SAB data'!H43","v":140},{"$f":"'SAB data'!I43","v":10.1958},{"$f":"IFERROR(CONCATENATE(\"(\",TEXT('SAB data'!J43,\"0.0\"),\" ,\", TEXT('SAB data'!K43,\"0.0\"),\")\"),\"-\")","v":"(8.6 ,12.0)"}]
[null,{"$f":"'SAB data'!B44","v":"2023-12-31"},{"$f":"'SAB data'!D44","v":301},{"$f":"'SAB data'!E44","v":19.218900000000001},{"$f":"CONCATENATE(\"(\",TEXT('SAB data'!F44,\"0.0\"),\" ,\", TEXT('SAB data'!G44,\"0.0\"),\")\")","v":"(17.1 ,21.5)"},{"$f":"'SAB data'!H44","v":137},{"$f":"'SAB data'!I44","v":9.9772999999999996},{"$f":"IFERROR(CONCATENATE(\"(\",TEXT('SAB data'!J44,\"0.0\"),\" ,\", TEXT('SAB data'!K44,\"0.0\"),\")\"),\"-\")","v":"(8.4 ,11.8)"}]
[null,{"$f":"'SAB data'!B45","v":"2024-03-31"},{"$f":"'SAB data'!D45","v":271},{"$f":"'SAB data'!E45","v":17.0364},{"$f":"CONCATENATE(\"(\",TEXT('SAB data'!F45,\"0.0\"),\" ,\", TEXT('SAB data'!G45,\"0.0\"),\")\")","v":"(15.1 ,19.2)"},{"$f":"'SAB data'!H45","v":148},{"$f":"'SAB data'!I45","v":10.9267},{"$f":"IFERROR(CONCATENATE(\"(\",TEXT('SAB data'!J45,\"0.0\"),\" ,\", TEXT('SAB data'!K45,\"0.0\"),\")\"),\"-\")","v":"(9.2 ,12.8)"}]
[null,{"$f":"'SAB data'!B46","v":"2024-06-30"},{"$f":"'SAB data'!D46","v":270},{"$f":"'SAB data'!E46","v":17.340199999999999},{"$f":"CONCATENATE(\"(\",TEXT('SAB data'!F46,\"0.0\"),\" ,\", TEXT('SAB data'!G46,\"0.0\"),\")\")","v":"(15.3 ,19.5)"},{"$f":"'SAB data'!H46","v":136},{"$f":"'SAB data'!I46","v":10.040699999999999},{"$f":"IFERROR(CONCATENATE(\"(\",TEXT('SAB data'!J46,\"0.0\"),\" ,\", TEXT('SAB data'!K46,\"0.0\"),\")\"),\"-\")","v":"(8.4 ,11.9)"}]

{"sheet":"SSI Data and Charts","index":4,"n_rows":46,"n_cols":17,"rows_kept":46,"cut":false,"hidden":false,"merged":[]}
[null,"Scotland",null,null,null,null,null,null,null,null,null,null,{"$f":"CONCATENATE(\"% SSI for \",B1)","v":"% SSI for Scotland"}]
[]
[null,null,null,"Casesarean Section",null,null,null,"Hip Arthroplasty",null,null,null,null,null,"SSICSEC ",null,"SSIHIP "]
[null,"Quarter Ending","SSI to day 10","Procedures","SSI Incidence (%)","95% CI","SSI inpatient & readmission to day 30","Procedures","SSI Incidence (%)","95% CI",null,null,null,"% change",null,"% change"]
[null,{"$f":"'SSI data'!B8","v":"2014-03-24"},{"$f":"'SSI data'!D8","v":61},{"$f":"'SSI data'!L8","v":3998},{"$f":"'SSI data'!E8","v":1.526},{"$f":"IFERROR(CONCATENATE(\"(\",TEXT('SSI data'!F8,\"0.0\"),\" ,\", TEXT('SSI data'!G8,\"0.0\"),\")\"),\"-\")","v":"(1.2 ,2.0)"},{"$f":"'SSI data'!H8","v":16},{"$f":"'SSI data'!M8","v":2106},{"$f":"'SSI data'!I8","v":0.76},{"$f":"IFERROR(CONCATENATE(\"(\",TEXT('SSI data'!J8,\"0.0\"),\", \", TEXT('SSI data'!K8,\"0.0\"),\")\"),\"-\")","v":"(0.5, 1.2)"},null,null,"Year end compared to previous year end ",{"$f":"IFERROR(ROUND(VLOOKUP(CONCATENATE(N3,$B$1),'year end comp'!$A$2:$Z$1086,4,FALSE),2),\"-\")","v":"-"},{"$f":"IF(IFERROR(VLOOKUP(CONCATENATE(N3,$B$1),'year end comp'!$A$2:$Z$1086,8,FALSE),\"-\")=0,\"-\",IFERROR(VLOOKUP(CONCATENATE(N3,$B$1),'year end comp'!$A$2:$Z$1086,8,FALSE),\"-\"))","v":"-"},{"$f":"IFERROR(ROUND(VLOOKUP(CONCATENATE(P3,$B$1),'year end comp'!$A$2:$Z$1086,4,FALSE),2),\"-\")","v":"-"},{"$f":"IF(IFERROR(VLOOKUP(CONCATENATE(P3,$B$1),'year end comp'!$A$2:$Z$1086,8,FALSE),\"-\")=0,\"-\",IFERROR(VLOOKUP(CONCATENATE(P3,$B$1),'year end comp'!$A$2:$Z$1086,8,FALSE),\"-\"))","v":"-"}]
[null,{"$f":"'SSI data'!B9","v":"2014-06-27"},{"$f":"'SSI data'!D9","v":58},{"$f":"'SSI data'!L9","v":4103},{"$f":"'SSI data'!E9","v":1.4139999999999999},{"$f":"IFERROR(CONCATENATE(\"(\",TEXT('SSI data'!F9,\"0.0\"),\" ,\", TEXT('SSI data'!G9,\"0.0\"),\")\"),\"-\")","v":"(1.1 ,1.8)"},{"$f":"'SSI data'!H9","v":13},{"$f":"'SSI data'!M9","v":2098},{"$f":"'SSI data'!I9","v":0.62},{"$f":"IFERROR(CONCATENATE(\"(\",TEXT('SSI data'!J9,\"0.0\"),\" ,\", TEXT('SSI data'!K9,\"0.0\"),\")\"),\"-\")","v":"(0.4 ,1.1)"}]
[null,{"$f":"'SSI data'!B10","v":"2014-09-30"},{"$f":"'SSI data'!D10","v":58},{"$f":"'SSI data'!L10","v":4563},{"$f":"'SSI data'!E10","v":1.2709999999999999},{"$f":"IFERROR(CONCATENATE(\"(\",TEXT('SSI data'!F10,\"0.0\"),\" ,\", TEXT('SSI data'!G10,\"0.0\"),\")\"),\"-\")","v":"(1.0 ,1.6)"},{"$f":"'SSI data'!H10","v":16},{"$f":"'SSI data'!M10","v":2125},{"$f":"'SSI data'!I10","v":0.753},{"$f":"IFERROR(CONCATENATE(\"(\",TEXT('SSI data'!J10,\"0.0\"),\" ,\", TEXT('SSI data'!K10,\"0.0\"),\")\"),\"-\")","v":"(0.5 ,1.2)"}]
[null,{"$f":"'SSI data'!B11","v":"2014-12-19"},{"$f":"'SSI data'!D11","v":61},{"$f":"'SSI data'!L11","v":4261},{"$f":"'SSI data'!E11","v":1.4319999999999999},{"$f":"IFERROR(CONCATENATE(\"(\",TEXT('SSI data'!F11,\"0.0\"),\" ,\", TEXT('SSI data'!G11,\"0.0\"),\")\"),\"-\")","v":"(1.1 ,1.8)"},{"$f":"'SSI data'!H11","v":12},{"$f":"'SSI data'!M11","v":1974},{"$f":"'SSI data'!I11","v":0.60799999999999998},{"$f":"IFERROR(CONCATENATE(\"(\",TEXT('SSI data'!J11,\"0.0\"),\" ,\", TEXT('SSI data'!K11,\"0.0\"),\")\"),\"-\")","v":"(0.3 ,1.1)"}]
[null,{"$f":"'SSI data'!B12","v":"2015-03-24"},{"$f":"'SSI data'!D12","v":47},{"$f":"'SSI data'!L12","v":3966},{"$f":"'SSI data'!E12","v":1.1850000000000001},{"$f":"IFERROR(CONCATENATE(\"(\",TEXT('SSI data'!F12,\"0.0\"),\" ,\", TEXT('SSI data'!G12,\"0.0\"),\")\"),\"-\")","v":"(0.9 ,1.6)"},{"$f":"'SSI data'!H12","v":18},{"$f":"'SSI data'!M12","v":1959},{"$f":"'SSI data'!I12","v":0.91900000000000004},{"$f":"IFERROR(CONCATENATE(\"(\",TEXT('SSI data'!J12,\"0.0\"),\" ,\", TEXT('SSI data'!K12,\"0.0\"),\")\"),\"-\")","v":"(0.6 ,1.4)"}]
[null,{"$f":"'SSI data'!B13","v":"2015-06-24"},{"$f":"'SSI data'!D13","v":56},{"$f":"'SSI data'!L13","v":4358},{"$f":"'SSI data'!E13","v":1.2849999999999999},{"$f":"IFERROR(CONCATENATE(\"(\",TEXT('SSI data'!F13,\"0.0\"),\" ,\", TEXT('SSI data'!G13,\"0.0\"),\")\"),\"-\")","v":"(1.0 ,1.7)"},{"$f":"'SSI data'!H13","v":18},{"$f":"'SSI data'!M13","v":2159},{"$f":"'SSI data'!I13","v":0.83399999999999996},{"$f":"IFERROR(CONCATENATE(\"(\",TEXT('SSI data'!J13,\"0.0\"),\" ,\", TEXT('SSI data'!K13,\"0.0\"),\")\"),\"-\")","v":"(0.5 ,1.3)"}]
[null,{"$f":"'SSI data'!B14","v":"2015-09-24"},{"$f":"'SSI data'!D14","v":56},{"$f":"'SSI data'!L14","v":4511},{"$f":"'SSI data'!E14","v":1.2410000000000001},{"$f":"IFERROR(CONCATENATE(\"(\",TEXT('SSI data'!F14,\"0.0\"),\" ,\", TEXT('SSI data'!G14,\"0.0\"),\")\"),\"-\")","v":"(1.0 ,1.6)"},{"$f":"'SSI data'!H14","v":10},{"$f":"'SSI data'!M14","v":2135},{"$f":"'SSI data'!I14","v":0.46800000000000003},{"$f":"IFERROR(CONCATENATE(\"(\",TEXT('SSI data'!J14,\"0.0\"),\" ,\", TEXT('SSI data'!K14,\"0.0\"),\")\"),\"-\")","v":"(0.3 ,0.9)"}]
[null,{"$f":"'SSI data'!B15","v":"2015-12-24"},{"$f":"'SSI data'!D15","v":60},{"$f":"'SSI data'!L15","v":4300},{"$f":"'SSI data'!E15","v":1.395},{"$f":"IFERROR(CONCATENATE(\"(\",TEXT('SSI data'!F15,\"0.0\"),\" ,\", TEXT('SSI data'!G15,\"0.0\"),\")\"),\"-\")","v":"(1.1 ,1.8)"},{"$f":"'SSI data'!H15","v":15},{"$f":"'SSI data'!M15","v":2191},{"$f":"'SSI data'!I15","v":0.68500000000000005},{"$f":"IFERROR(CONCATENATE(\"(\",TEXT('SSI data'!J15,\"0.0\"),\" ,\", TEXT('SSI data'!K15,\"0.0\"),\")\"),\"-\")","v":"(0.4 ,1.1)"}]
[null,{"$f":"'SSI data'!B16","v":"2016-03-24"},{"$f":"'SSI data'!D16","v":58},{"$f":"'SSI data'!L16","v":4023},{"$f":"'SSI data'!E16","v":1.4419999999999999},{"$f":"IFERROR(CONCATENATE(\"(\",TEXT('SSI data'!F16,\"0.0\"),\" ,\", TEXT('SSI data'!G16,\"0.0\"),\")\"),\"-\")","v":"(1.1 ,1.9)"},{"$f":"'SSI data'!H16","v":7},{"$f":"'SSI data'!M16","v":2173},{"$f":"'SSI data'!I16","v":0.32200000000000001},{"$f":"IFERROR(CONCATENATE(\"(\",TEXT('SSI data'!J16,\"0.0\"),\" ,\", TEXT('SSI data'!K16,\"0.0\"),\")\"),\"-\")","v":"(0.2 ,0.7)"}]
[null,{"$f":"'SSI data'!B17","v":"2016-06-24"},{"$f":"'SSI data'!D17","v":78},{"$f":"'SSI data'!L17","v":4448},{"$f":"'SSI data'!E17","v":1.754},{"$f":"IFERROR(CONCATENATE(\"(\",TEXT('SSI data'!F17,\"0.0\"),\" ,\", TEXT('SSI data'!G17,\"0.0\"),\")\"),\"-\")","v":"(1.4 ,2.2)"},{"$f":"'SSI data'!H17","v":17},{"$f":"'SSI data'!M17","v":2318},{"$f":"'SSI data'!I17","v":0.73299999999999998},{"$f":"IFERROR(CONCATENATE(\"(\",TEXT('SSI data'!J17,\"0.0\"),\" ,\", TEXT('SSI data'!K17,\"0.0\"),\")\"),\"-\")","v":"(0.5 ,1.2)"}]
[null,{"$f":"'SSI data'!B18","v":"2016-09-24"},{"$f":"'SSI data'!D18","v":71},{"$f":"'SSI data'!L18","v":4446},{"$f":"'SSI data'!E18","v":1.597},{"$f":"IFERROR(CONCATENATE(\"(\",TEXT('SSI data'!F18,\"0.0\"),\" ,\", TEXT('SSI data'!G18,\"0.0\"),\")\"),\"-\")","v":"(1.3 ,2.0)"},{"$f":"'SSI data'!H18","v":14},{"$f":"'SSI data'!M18","v":2153},{"$f":"'SSI data'!I18","v":0.65},{"$f":"IFERROR(CONCATENATE(\"(\",TEXT('SSI data'!J18,\"0.0\"),\" ,\", TEXT('SSI data'!K18,\"0.0\"),\")\"),\"-\")","v":"(0.4 ,1.1)"}]
[null,{"$f":"'SSI data'!B19","v":"2016-12-24"},{"$f":"'SSI data'!D19","v":51},{"$f":"'SSI data'!L19","v":4258},{"$f":"'SSI data'!E19","v":1.198},{"$f":"IFERROR(CONCATENATE(\"(\",TEXT('SSI data'!F19,\"0.0\"),\" ,\", TEXT('SSI data'!G19,\"0.0\"),\")\"),\"-\")","v":"(0.9 ,1.6)"},{"$f":"'SSI data'!H19","v":17},{"$f":"'SSI data'!M19","v":2226},{"$f":"'SSI data'!I19","v":0.76400000000000001},{"$f":"IFERROR(CONCATENATE(\"(\",TEXT('SSI data'!J19,\"0.0\"),\" ,\", TEXT('SSI data'!K19,\"0.0\"),\")\"),\"-\")","v":"(0.5 ,1.2)"}]
[null,{"$f":"'SSI data'!B20","v":"2017-03-01"},{"$f":"'SSI data'!D20","v":58},{"$f":"'SSI data'!L20","v":4047},{"$f":"'SSI data'!E20","v":1.4330000000000001},{"$f":"IFERROR(CONCATENATE(\"(\",TEXT('SSI data'!F20,\"0.0\"),\" ,\", TEXT('SSI data'!G20,\"0.0\"),\")\"),\"-\")","v":"(1.1 ,1.8)"},{"$f":"'SSI data'!H20","v":12},{"$f":"'SSI data'!M20","v":2164},{"$f":"'SSI data'!I20","v":0.55500000000000005},{"$f":"IFERROR(CONCATENATE(\"(\",TEXT('SSI data'!J20,\"0.0\"),\" ,\", TEXT('SSI data'!K20,\"0.0\"),\")\"),\"-\")","v":"(0.3 ,1.0)"}]
[null,{"$f":"'SSI data'!B21","v":"2017-06-01"},{"$f":"'SSI data'!D21","v":51},{"$f":"'SSI data'!L21","v":4115},{"$f":"'SSI data'!E21","v":1.2390000000000001},{"$f":"IFERROR(CONCATENATE(\"(\",TEXT('SSI data'!F21,\"0.0\"),\" ,\", TEXT('SSI data'!G21,\"0.0\"),\")\"),\"-\")","v":"(0.9 ,1.6)"},{"$f":"'SSI data'!H21","v":19},{"$f":"'SSI data'!M21","v":2301},{"$f":"'SSI data'!I21","v":0.82599999999999996},{"$f":"IFERROR(CONCATENATE(\"(\",TEXT('SSI data'!J21,\"0.0\"),\" ,\", TEXT('SSI data'!K21,\"0.0\"),\")\"),\"-\")","v":"(0.5 ,1.3)"}]
[null,{"$f":"'SSI data'!B22","v":"2017-09-01"},{"$f":"'SSI data'!D22","v":58},{"$f":"'SSI data'!L22","v":4514},{"$f":"'SSI data'!E22","v":1.2849999999999999},{"$f":"IFERROR(CONCATENATE(\"(\",TEXT('SSI data'!F22,\"0.0\"),\" ,\", TEXT('SSI data'!G22,\"0.0\"),\")\"),\"-\")","v":"(1.0 ,1.7)"},{"$f":"'SSI data'!H22","v":9},{"$f":"'SSI data'!M22","v":2077},{"$f":"'SSI data'!I22","v":0.433},{"$f":"IFERROR(CONCATENATE(\"(\",TEXT('SSI data'!J22,\"0.0\"),\" ,\", TEXT('SSI data'!K22,\"0.0\"),\")\"),\"-\")","v":"(0.2 ,0.8)"}]
[null,{"$f":"'SSI data'!B23","v":"2017-12-01"},{"$f":"'SSI data'!D23","v":66},{"$f":"'SSI data'!L23","v":4224},{"$f":"'SSI data'!E23","v":1.5629999999999999},{"$f":"IFERROR(CONCATENATE(\"(\",TEXT('SSI data'!F23,\"0.0\"),\" ,\", TEXT('SSI data'!G23,\"0.0\"),\")\"),\"-\")","v":"(1.2 ,2.0)"},{"$f":"'SSI data'!H23","v":16},{"$f":"'SSI data'!M23","v":2071},{"$f":"'SSI data'!I23","v":0.77300000000000002},{"$f":"IFERROR(CONCATENATE(\"(\",TEXT('SSI data'!J23,\"0.0\"),\" ,\", TEXT('SSI data'!K23,\"0.0\"),\")\"),\"-\")","v":"(0.5 ,1.3)"}]
[null,{"$f":"'SSI data'!B24","v":"2018-03-01"},{"$f":"'SSI data'!D24","v":64},{"$f":"'SSI data'!L24","v":3975},{"$f":"'SSI data'!E24","v":1.61},{"$f":"IFERROR(CONCATENATE(\"(\",TEXT('SSI data'!F24,\"0.0\"),\" ,\", TEXT('SSI data'!G24,\"0.0\"),\")\"),\"-\")","v":"(1.3 ,2.1)"},{"$f":"'SSI data'!H24","v":17},{"$f":"'SSI data'!M24","v":2008},{"$f":"'SSI data'!I24","v":0.84699999999999998},{"$f":"IFERROR(CONCATENATE(\"(\",TEXT('SSI data'!J24,\"0.0\"),\" ,\", TEXT('SSI data'!K24,\"0.0\"),\")\"),\"-\")","v":"(0.5 ,1.4)"}]
[null,{"$f":"'SSI data'!B25","v":"2018-06-01"},{"$f":"'SSI data'!D25","v":61},{"$f":"'SSI data'!L25","v":4191},{"$f":"'SSI data'!E25","v":1.4550000000000001},{"$f":"IFERROR(CONCATENATE(\"(\",TEXT('SSI data'!F25,\"0.0\"),\" ,\", TEXT('SSI data'!G25,\"0.0\"),\")\"),\"-\")","v":"(1.1 ,1.9)"},{"$f":"'SSI data'!H25","v":18},{"$f":"'SSI data'!M25","v":2270},{"$f":"'SSI data'!I25","v":0.79300000000000004},{"$f":"IFERROR(CONCATENATE(\"(\",TEXT('SSI data'!J25,\"0.0\"),\" ,\", TEXT('SSI data'!K25,\"0.0\"),\")\"),\"-\")","v":"(0.5 ,1.3)"}]
[null,{"$f":"'SSI data'!B26","v":"2018-09-01"},{"$f":"'SSI data'!D26","v":66},{"$f":"'SSI data'!L26","v":4293},{"$f":"'SSI data'!E26","v":1.5369999999999999},{"$f":"IFERROR(CONCATENATE(\"(\",TEXT('SSI data'!F26,\"0.0\"),\" ,\", TEXT('SSI data'!G26,\"0.0\"),\")\"),\"-\")","v":"(1.2 ,2.0)"},{"$f":"'SSI data'!H26","v":13},{"$f":"'SSI data'!M26","v":2155},{"$f":"'SSI data'!I26","v":0.60299999999999998},{"$f":"IFERROR(CONCATENATE(\"(\",TEXT('SSI data'!J26,\"0.0\"),\" ,\", TEXT('SSI data'!K26,\"0.0\"),\")\"),\"-\")","v":"(0.4 ,1.0)"}]
[null,{"$f":"'SSI data'!B27","v":"2018-12-01"},{"$f":"'SSI data'!D27","v":59},{"$f":"'SSI data'!L27","v":4346},{"$f":"'SSI data'!E27","v":1.3580000000000001},{"$f":"IFERROR(CONCATENATE(\"(\",TEXT('SSI data'!F27,\"0.0\"),\" ,\", TEXT('SSI data'!G27,\"0.0\"),\")\"),\"-\")","v":"(1.1 ,1.7)"},{"$f":"'SSI data'!H27","v":16},{"$f":"'SSI data'!M27","v":2276},{"$f":"'SSI data'!I27","v":0.70299999999999996},{"$f":"IFERROR(CONCATENATE(\"(\",TEXT('SSI data'!J27,\"0.0\"),\" ,\", TEXT('SSI data'!K27,\"0.0\"),\")\"),\"-\")","v":"(0.4 ,1.1)"}]
[null,{"$f":"'SSI data'!B28","v":"2019-03-01"},{"$f":"'SSI data'!D28","v":64},{"$f":"'SSI data'!L28","v":4051},{"$f":"'SSI data'!E28","v":1.58},{"$f":"IFERROR(CONCATENATE(\"(\",TEXT('SSI data'!F28,\"0.0\"),\" ,\", TEXT('SSI data'!G28,\"0.0\"),\")\"),\"-\")","v":"(1.2 ,2.0)"},{"$f":"'SSI data'!H28","v":8},{"$f":"'SSI data'!M28","v":2146},{"$f":"'SSI data'!I28","v":0.373},{"$f":"IFERROR(CONCATENATE(\"(\",TEXT('SSI data'!J28,\"0.0\"),\" ,\", TEXT('SSI data'!K28,\"0.0\"),\")\"),\"-\")","v":"(0.2 ,0.7)"}]
[null,{"$f":"'SSI data'!B29","v":"2019-06-01"},{"$f":"'SSI data'!D29","v":43},{"$f":"'SSI data'!L29","v":4118},{"$f":"'SSI data'!E29","v":1.044},{"$f":"IFERROR(CONCATENATE(\"(\",TEXT('SSI data'!F29,\"0.0\"),\" ,\", TEXT('SSI data'!G29,\"0.0\"),\")\"),\"-\")","v":"(0.8 ,1.4)"},{"$f":"'SSI data'!H29","v":10},{"$f":"'SSI data'!M29","v":2257},{"$f":"'SSI data'!I29","v":0.443},{"$f":"IFERROR(CONCATENATE(\"(\",TEXT('SSI data'!J29,\"0.0\"),\" ,\", TEXT('SSI data'!K29,\"0.0\"),\")\"),\"-\")","v":"(0.2 ,0.8)"}]
[null,{"$f":"'SSI data'!B30","v":"2019-09-01"},{"$f":"'SSI data'!D30","v":51},{"$f":"'SSI data'!L30","v":4408},{"$f":"'SSI data'!E30","v":1.157},{"$f":"IFERROR(CONCATENATE(\"(\",TEXT('SSI data'!F30,\"0.0\"),\" ,\", TEXT('SSI data'!G30,\"0.0\"),\")\"),\"-\")","v":"(0.9 ,1.5)"},{"$f":"'SSI data'!H30","v":17},{"$f":"'SSI data'!M30","v":2121},{"$f":"'SSI data'!I30","v":0.80200000000000005},{"$f":"IFERROR(CONCATENATE(\"(\",TEXT('SSI data'!J30,\"0.0\"),\" ,\", TEXT('SSI data'!K30,\"0.0\"),\")\"),\"-\")","v":"(0.5 ,1.3)"}]
[null,{"$f":"'SSI data'!B31","v":"2019-12-01"},{"$f":"'SSI data'!D31","v":35},{"$f":"'SSI data'!L31","v":4112},{"$f":"'SSI data'!E31","v":0.85099999999999998},{"$f":"IFERROR(CONCATENATE(\"(\",TEXT('SSI data'!F31,\"0.0\"),\" ,\", TEXT('SSI data'!G31,\"0.0\"),\")\"),\"-\")","v":"(0.6 ,1.2)"},{"$f":"'SSI data'!H31","v":17},{"$f":"'SSI data'!M31","v":2145},{"$f":"'SSI data'!I31","v":0.79300000000000004},{"$f":"IFERROR(CONCATENATE(\"(\",TEXT('SSI data'!J31,\"0.0\"),\" ,\", TEXT('SSI data'!K31,\"0.0\"),\")\"),\"-\")","v":"(0.5 ,1.3)"}]
[null,{"$f":"'SSI data'!B32","v":"2020-03-01"},{"$f":"'SSI data'!D32","v":"-"},{"$f":"'SSI data'!L32","v":"-"},{"$f":"'SSI data'!E32","v":"-"},{"$f":"IFERROR(CONCATENATE(\"(\",TEXT('SSI data'!F32,\"0.0\"),\" ,\", TEXT('SSI data'!G32,\"0.0\"),\")\"),\"-\")","v":"(- ,-)"},{"$f":"'SSI data'!H32","v":"-"},{"$f":"'SSI data'!M32","v":"-"},{"$f":"'SSI data'!I32","v":"-"},{"$f":"IFERROR(CONCATENATE(\"(\",TEXT('SSI data'!J32,\"0.0\"),\" ,\", TEXT('SSI data'!K32,\"0.0\"),\")\"),\"-\")","v":"(- ,-)"}]
[null,{"$f":"'SSI data'!B33","v":"2020-06-01"},{"$f":"'SSI data'!D33","v":"-"},{"$f":"'SSI data'!L33","v":"-"},{"$f":"'SSI data'!E33","v":"-"},{"$f":"IFERROR(CONCATENATE(\"(\",TEXT('SSI data'!F33,\"0.0\"),\" ,\", TEXT('SSI data'!G33,\"0.0\"),\")\"),\"-\")","v":"(- ,-)"},{"$f":"'SSI data'!H33","v":"-"},{"$f":"'SSI data'!M33","v":"-"},{"$f":"'SSI data'!I33","v":"-"},{"$f":"IFERROR(CONCATENATE(\"(\",TEXT('SSI data'!J33,\"0.0\"),\" ,\", TEXT('SSI data'!K33,\"0.0\"),\")\"),\"-\")","v":"(- ,-)"}]
[null,{"$f":"'SSI data'!B34","v":"2020-09-01"},{"$f":"'SSI data'!D34","v":"-"},{"$f":"'SSI data'!L34","v":"-"},{"$f":"'SSI data'!E34","v":"-"},{"$f":"IFERROR(CONCATENATE(\"(\",TEXT('SSI data'!F34,\"0.0\"),\" ,\", TEXT('SSI data'!G34,\"0.0\"),\")\"),\"-\")","v":"(- ,-)"},{"$f":"'SSI data'!H34","v":"-"},{"$f":"'SSI data'!M34","v":"-"},{"$f":"'SSI data'!I34","v":"-"},{"$f":"IFERROR(CONCATENATE(\"(\",TEXT('SSI data'!J34,\"0.0\"),\" ,\", TEXT('SSI data'!K34,\"0.0\"),\")\"),\"-\")","v":"(- ,-)"}]
[null,{"$f":"'SSI data'!B35","v":"2020-12-31"},{"$f":"'SSI data'!D35","v":"-"},{"$f":"'SSI data'!L35","v":"-"},{"$f":"'SSI data'!E35","v":"-"},{"$f":"IFERROR(CONCATENATE(\"(\",TEXT('SSI data'!F35,\"0.0\"),\" ,\", TEXT('SSI data'!G35,\"0.0\"),\")\"),\"-\")","v":"(- ,-)"},{"$f":"'SSI data'!H35","v":"-"},{"$f":"'SSI data'!M35","v":"-"},{"$f":"'SSI data'!I35","v":"-"},{"$f":"IFERROR(CONCATENATE(\"(\",TEXT('SSI data'!J35,\"0.0\"),\" ,\", TEXT('SSI data'!K35,\"0.0\"),\")\"),\"-\")","v":"(- ,-)"}]
[null,{"$f":"'SSI data'!B36","v":"2021-03-31"},{"$f":"'SSI data'!D36","v":"-"},{"$f":"'SSI data'!L36","v":"-"},{"$f":"'SSI data'!E36","v":"-"},{"$f":"IFERROR(CONCATENATE(\"(\",TEXT('SSI data'!F36,\"0.0\"),\" ,\", TEXT('SSI data'!G36,\"0.0\"),\")\"),\"-\")","v":"(- ,-)"},{"$f":"'SSI data'!H36","v":"-"},{"$f":"'SSI data'!M36","v":"-"},{"$f":"'SSI data'!I36","v":"-"},{"$f":"IFERROR(CONCATENATE(\"(\",TEXT('SSI data'!J36,\"0.0\"),\" ,\", TEXT('SSI data'!K36,\"0.0\"),\")\"),\"-\")","v":"(- ,-)"}]
[null,{"$f":"'SSI data'!B37","v":"2021-06-30"},{"$f":"'SSI data'!D37","v":"-"},{"$f":"'SSI data'!L37","v":"-"},{"$f":"'SSI data'!E37","v":"-"},{"$f":"IFERROR(CONCATENATE(\"(\",TEXT('SSI data'!F37,\"0.0\"),\" ,\", TEXT('SSI data'!G37,\"0.0\"),\")\"),\"-\")","v":"(- ,-)"},{"$f":"'SSI data'!H37","v":"-"},{"$f":"'SSI data'!M37","v":"-"},{"$f":"'SSI data'!I37","v":"-"},{"$f":"IFERROR(CONCATENATE(\"(\",TEXT('SSI data'!J37,\"0.0\"),\" ,\", TEXT('SSI data'!K37,\"0.0\"),\")\"),\"-\")","v":"(- ,-)"}]
[null,{"$f":"'SSI data'!B38","v":"2021-09-30"},{"$f":"'SSI data'!D38","v":"-"},{"$f":"'SSI data'!L38","v":"-"},{"$f":"'SSI data'!E38","v":"-"},{"$f":"IFERROR(CONCATENATE(\"(\",TEXT('SSI data'!F38,\"0.0\"),\" ,\", TEXT('SSI data'!G38,\"0.0\"),\")\"),\"-\")","v":"(- ,-)"},{"$f":"'SSI data'!H38","v":"-"},{"$f":"'SSI data'!M38","v":"-"},{"$f":"'SSI data'!I38","v":"-"},{"$f":"IFERROR(CONCATENATE(\"(\",TEXT('SSI data'!J38,\"0.0\"),\" ,\", TEXT('SSI data'!K38,\"0.0\"),\")\"),\"-\")","v":"(- ,-)"}]
[null,{"$f":"'SSI data'!B39","v":"2021-12-31"},{"$f":"'SSI data'!D39","v":"-"},{"$f":"'SSI data'!L39","v":"-"},{"$f":"'SSI data'!E39","v":"-"},{"$f":"IFERROR(CONCATENATE(\"(\",TEXT('SSI data'!F39,\"0.0\"),\" ,\", TEXT('SSI data'!G39,\"0.0\"),\")\"),\"-\")","v":"(- ,-)"},{"$f":"'SSI data'!H39","v":"-"},{"$f":"'SSI data'!M39","v":"-"},{"$f":"'SSI data'!I39","v":"-"},{"$f":"IFERROR(CONCATENATE(\"(\",TEXT('SSI data'!J39,\"0.0\"),\" ,\", TEXT('SSI data'!K39,\"0.0\"),\")\"),\"-\")","v":"(- ,-)"}]
[null,{"$f":"'SSI data'!B40","v":"2022-03-31"},{"$f":"'SSI data'!D40","v":"-"},{"$f":"'SSI data'!L40","v":"-"},{"$f":"'SSI data'!E40","v":"-"},{"$f":"IFERROR(CONCATENATE(\"(\",TEXT('SSI data'!F40,\"0.0\"),\" ,\", TEXT('SSI data'!G40,\"0.0\"),\")\"),\"-\")","v":"(- ,-)"},{"$f":"'SSI data'!H40","v":"-"},{"$f":"'SSI data'!M40","v":"-"},{"$f":"'SSI data'!I40","v":"-"},{"$f":"IFERROR(CONCATENATE(\"(\",TEXT('SSI data'!J40,\"0.0\"),\" ,\", TEXT('SSI data'!K40,\"0.0\"),\")\"),\"-\")","v":"(- ,-)"}]
[null,{"$f":"'SSI data'!B41","v":"2022-06-30"},{"$f":"'SSI data'!D41","v":"-"},{"$f":"'SSI data'!L41","v":"-"},{"$f":"'SSI data'!E41","v":"-"},{"$f":"IFERROR(CONCATENATE(\"(\",TEXT('SSI data'!F41,\"0.0\"),\" ,\", TEXT('SSI data'!G41,\"0.0\"),\")\"),\"-\")","v":"(- ,-)"},{"$f":"'SSI data'!H41","v":"-"},{"$f":"'SSI data'!M41","v":"-"},{"$f":"'SSI data'!I41","v":"-"},{"$f":"IFERROR(CONCATENATE(\"(\",TEXT('SSI data'!J41,\"0.0\"),\" ,\", TEXT('SSI data'!K41,\"0.0\"),\")\"),\"-\")","v":"(- ,-)"}]
[null,{"$f":"'SSI data'!B42","v":"2022-09-30"},{"$f":"'SSI data'!D42","v":"-"},{"$f":"'SSI data'!L42","v":"-"},{"$f":"'SSI data'!E42","v":"-"},{"$f":"IFERROR(CONCATENATE(\"(\",TEXT('SSI data'!F42,\"0.0\"),\" ,\", TEXT('SSI data'!G42,\"0.0\"),\")\"),\"-\")","v":"(- ,-)"},{"$f":"'SSI data'!H42","v":"-"},{"$f":"'SSI data'!M42","v":"-"},{"$f":"'SSI data'!I42","v":"-"},{"$f":"IFERROR(CONCATENATE(\"(\",TEXT('SSI data'!J42,\"0.0\"),\" ,\", TEXT('SSI data'!K42,\"0.0\"),\")\"),\"-\")","v":"(- ,-)"}]
[null,{"$f":"'SSI data'!B43","v":"2022-12-31"},{"$f":"'SSI data'!D43","v":"-"},{"$f":"'SSI data'!L43","v":"-"},{"$f":"'SSI data'!E43","v":"-"},{"$f":"IFERROR(CONCATENATE(\"(\",TEXT('SSI data'!F43,\"0.0\"),\" ,\", TEXT('SSI data'!G43,\"0.0\"),\")\"),\"-\")","v":"(- ,-)"},{"$f":"'SSI data'!H43","v":"-"},{"$f":"'SSI data'!M43","v":"-"},{"$f":"'SSI data'!I43","v":"-"},{"$f":"IFERROR(CONCATENATE(\"(\",TEXT('SSI data'!J43,\"0.0\"),\" ,\", TEXT('SSI data'!K43,\"0.0\"),\")\"),\"-\")","v":"(- ,-)"}]
[null,{"$f":"'SSI data'!B44","v":"2023-03-31"},{"$f":"'SSI data'!D44","v":"-"},{"$f":"'SSI data'!L44","v":"-"},{"$f":"'SSI data'!E44","v":"-"},{"$f":"IFERROR(CONCATENATE(\"(\",TEXT('SSI data'!F44,\"0.0\"),\" ,\", TEXT('SSI data'!G44,\"0.0\"),\")\"),\"-\")","v":"(- ,-)"},{"$f":"'SSI data'!H44","v":"-"},{"$f":"'SSI data'!M44","v":"-"},{"$f":"'SSI data'!I44","v":"-"},{"$f":"IFERROR(CONCATENATE(\"(\",TEXT('SSI data'!J44,\"0.0\"),\" ,\", TEXT('SSI data'!K44,\"0.0\"),\")\"),\"-\")","v":"(- ,-)"}]
[null,{"$f":"'SSI data'!B45","v":"2023-06-30"},{"$f":"'SSI data'!D45","v":"-"},{"$f":"'SSI data'!L45","v":"-"},{"$f":"'SSI data'!E45","v":"-"},{"$f":"IFERROR(CONCATENATE(\"(\",TEXT('SSI data'!F45,\"0.0\"),\" ,\", TEXT('SSI data'!G45,\"0.0\"),\")\"),\"-\")","v":"(- ,-)"},{"$f":"'SSI data'!H45","v":"-"},{"$f":"'SSI data'!M45","v":"-"},{"$f":"'SSI data'!I45","v":"-"},{"$f":"IFERROR(CONCATENATE(\"(\",TEXT('SSI data'!J45,\"0.0\"),\" ,\", TEXT('SSI data'!K45,\"0.0\"),\")\"),\"-\")","v":"(- ,-)"}]
[null,{"$f":"'SSI data'!B46","v":"2023-09-30"},{"$f":"'SSI data'!D46","v":"-"},{"$f":"'SSI data'!L46","v":"-"},{"$f":"'SSI data'!E46","v":"-"},{"$f":"IFERROR(CONCATENATE(\"(\",TEXT('SSI data'!F46,\"0.0\"),\" ,\", TEXT('SSI data'!G46,\"0.0\"),\")\"),\"-\")","v":"(- ,-)"},{"$f":"'SSI data'!H46","v":"-"},{"$f":"'SSI data'!M46","v":"-"},{"$f":"'SSI data'!I46","v":"-"},{"$f":"IFERROR(CONCATENATE(\"(\",TEXT('SSI data'!J46,\"0.0\"),\" ,\", TEXT('SSI data'!K46,\"0.0\"),\")\"),\"-\")","v":"(- ,-)"}]
[null,{"$f":"'SSI data'!B47","v":"2023-12-31"},{"$f":"'SSI data'!D47","v":"-"},{"$f":"'SSI data'!L47","v":"-"},{"$f":"'SSI data'!E47","v":"-"},{"$f":"IFERROR(CONCATENATE(\"(\",TEXT('SSI data'!F47,\"0.0\"),\" ,\", TEXT('SSI data'!G47,\"0.0\"),\")\"),\"-\")","v":"(- ,-)"},{"$f":"'SSI data'!H47","v":"-"},{"$f":"'SSI data'!M47","v":"-"},{"$f":"'SSI data'!I47","v":"-"},{"$f":"IFERROR(CONCATENATE(\"(\",TEXT('SSI data'!J47,\"0.0\"),\" ,\", TEXT('SSI data'!K47,\"0.0\"),\")\"),\"-\")","v":"(- ,-)"}]
[null,{"$f":"'SSI data'!B48","v":"2024-03-31"},{"$f":"'SSI data'!D48","v":"-"},{"$f":"'SSI data'!L48","v":"-"},{"$f":"'SSI data'!E48","v":"-"},{"$f":"IFERROR(CONCATENATE(\"(\",TEXT('SSI data'!F48,\"0.0\"),\" ,\", TEXT('SSI data'!G48,\"0.0\"),\")\"),\"-\")","v":"(- ,-)"},{"$f":"'SSI data'!H48","v":"-"},{"$f":"'SSI data'!M48","v":"-"},{"$f":"'SSI data'!I48","v":"-"},{"$f":"IFERROR(CONCATENATE(\"(\",TEXT('SSI data'!J48,\"0.0\"),\" ,\", TEXT('SSI data'!K48,\"0.0\"),\")\"),\"-\")","v":"(- ,-)"}]
[null,{"$f":"'SSI data'!B49","v":"2024-06-30"},{"$f":"'SSI data'!D49","v":"-"},{"$f":"'SSI data'!L49","v":"-"},{"$f":"'SSI data'!E49","v":"-"},{"$f":"IFERROR(CONCATENATE(\"(\",TEXT('SSI data'!F49,\"0.0\"),\" ,\", TEXT('SSI data'!G49,\"0.0\"),\")\"),\"-\")","v":"(- ,-)"},{"$f":"'SSI data'!H49","v":"-"},{"$f":"'SSI data'!M49","v":"-"},{"$f":"'SSI data'!I49","v":"-"},{"$f":"IFERROR(CONCATENATE(\"(\",TEXT('SSI data'!J49,\"0.0\"),\" ,\", TEXT('SSI data'!K49,\"0.0\"),\")\"),\"-\")","v":"(- ,-)"}]

{"sheet":"ECOLI data","index":5,"n_rows":39,"n_cols":30,"rows_kept":39,"cut":false,"hidden":true,"merged":[]}
["Trend data",null,null,null,null,null,null,null,null,null,null,null,null,null,null,null,null,"u-chart data"]
[]
["add a new line for current quarter"]
[null,null,null,null,null,null,null,null,null,null,null,null,null,null,null,null,null,null,null,null,"change this"]
[null,null,null,"ECBHCAI","ECBHCAI","ECBHCAI","ECBHCAI","ECBCOM","ECBCOM","ECBCOM","ECBCOM","ECBHCAI","ECBCOM",null,null,null,null,null,null,"current quarter end","2024-06-30",3,4,5,6,null,3,4,5,6]
[null,null,null,2,4,5,6,2,4,5,6,3,3]
[null,null,"ref","Healthcare associated Cases","Healthcare associated rate","Healthcare associated lower CI","Healthcare associated upper CI","Community associatedCases","Community associatedrate","Community associated lower CI","Community associated upper CI","ALL beds","Pop",null,null,null,null,null,null,null,null,"ECBHCAI",null,null,null,null,"ECBCOM"]
[201603,"2016-09-24",{"$f":"CONCATENATE(A8,'ECOLI Data and Charts'!B$1)","v":"201603Scotland"},{"$f":"VLOOKUP(CONCATENATE(D$5,$C8),'trend data'!$A$2:$O$11161,D$6,FALSE)","v":581},{"$f":"ROUND(VLOOKUP(CONCATENATE(E$5,$C8),'trend data'!$A$2:$O$11161,E$6,FALSE),3)","v":36.588999999999999},{"$f":"ROUND(VLOOKUP(CONCATENATE(F$5,$C8),'trend data'!$A$2:$O$11161,F$6,FALSE),3)","v":33.673999999999999},{"$f":"ROUND(VLOOKUP(CONCATENATE(G$5,$C8),'trend data'!$A$2:$O$11161,G$6,FALSE),3)","v":39.689},{"$f":"IFERROR(VLOOKUP(CONCATENATE(H$5,$C8),'trend data'!$A$2:$O$11161,H$6,FALSE),\"-\")","v":720},{"$f":"IFERROR(ROUND(VLOOKUP(CONCATENATE(I$5,$C8),'trend data'!$A$2:$O$11161,I$6,FALSE),3),\"-\")","v":53.290999999999997},{"$f":"IFERROR(ROUND(VLOOKUP(CONCATENATE(J$5,$C8),'trend data'!$A$2:$O$11161,J$6,FALSE),3),\"-\")","v":49.469000000000001},{"$f":"IFERROR(ROUND(VLOOKUP(CONCATENATE(K$5,$C8),'trend data'!$A$2:$O$11161,K$6,FALSE),3),\"-\")","v":57.33},{"$f":"VLOOKUP(CONCATENATE(L$5,$C8),'trend data'!$A$2:$O$11161,L$6,FALSE)","v":1587890},{"$f":"ROUND(VLOOKUP(CONCATENATE(M$5,$C8),'trend data'!$A$2:$O$11161,M$6,FALSE),2)","v":1351067.76},null,null,null,null,"change to last 12 quarters",null,null,null,"Healthcare associated rate","Healthcare associated av rate","Healthcare associated UWL 2sd","Healthcare associated UCL 3sd",null,"Community associated rate","Community associated av rate","Community associated UWL 2sd","Community associated UCL 3 sd"]
[201604,"2016-12-24",{"$f":"CONCATENATE(A9,'ECOLI Data and Charts'!B$1)","v":"201604Scotland"},{"$f":"VLOOKUP(CONCATENATE(D$5,$C9),'trend data'!$A$2:$O$11161,D$6,FALSE)","v":564},{"$f":"ROUND(VLOOKUP(CONCATENATE(E$5,$C9),'trend data'!$A$2:$O$11161,E$6,FALSE),3)","v":35.433999999999997},{"$f":"ROUND(VLOOKUP(CONCATENATE(F$5,$C9),'trend data'!$A$2:$O$11161,F$6,FALSE),3)","v":32.57},{"$f":"ROUND(VLOOKUP(CONCATENATE(G$5,$C9),'trend data'!$A$2:$O$11161,G$6,FALSE),3)","v":38.482999999999997},{"$f":"IFERROR(VLOOKUP(CONCATENATE(H$5,$C9),'trend data'!$A$2:$O$11161,H$6,FALSE),\"-\")","v":631},{"$f":"IFERROR(ROUND(VLOOKUP(CONCATENATE(I$5,$C9),'trend data'!$A$2:$O$11161,I$6,FALSE),3),\"-\")","v":46.704000000000001},{"$f":"IFERROR(ROUND(VLOOKUP(CONCATENATE(J$5,$C9),'trend data'!$A$2:$O$11161,J$6,FALSE),3),\"-\")","v":43.13},{"$f":"IFERROR(ROUND(VLOOKUP(CONCATENATE(K$5,$C9),'trend data'!$A$2:$O$11161,K$6,FALSE),3),\"-\")","v":50.494},{"$f":"VLOOKUP(CONCATENATE(L$5,$C9),'trend data'!$A$2:$O$11161,L$6,FALSE)","v":1591683},{"$f":"ROUND(VLOOKUP(CONCATENATE(M$5,$C9),'trend data'!$A$2:$O$11161,M$6,FALSE),2)","v":1351067.76},null,null,null,null,{"$f":"YEAR(U9)&\"0\"&IF(MONTH(U9)<4,1,IF(MONTH(U9)<7,2,IF(MONTH(U9)<10,3,4)))","v":"202103"},{"$f":"CONCATENATE(V$7,$R9,'ECOLI Data and Charts'!B$1)","v":"ECBHCAI202103Scotland"},1,{"$f":"U10-92","v":"2021-09-22"},{"$f":"ROUND(VLOOKUP($S9,'data for u-p-charts'!$A$2:$F$5000,V$5,FALSE),2)","v":41.47},{"$f":"ROUND(VLOOKUP($S9,'data for u-p-charts'!$A$2:$F$5000,W$5,FALSE),2)","v":36.090000000000003},{"$f":"ROUND(VLOOKUP($S9,'data for u-p-charts'!$A$2:$F$5000,X$5,FALSE),2)","v":39.24},{"$f":"ROUND(VLOOKUP($S9,'data for u-p-charts'!$A$2:$F$5000,Y$5,FALSE),2)","v":40.81},{"$f":"CONCATENATE(AA$7,$R9,'ECOLI Data and Charts'!$B$1)","v":"ECBCOM202103Scotland"},{"$f":"ROUND(VLOOKUP($Z9,'data for u-p-charts'!$A$2:$F$5000,AA$5,FALSE),2)","v":41.44},{"$f":"ROUND(VLOOKUP($Z9,'data for u-p-charts'!$A$2:$F$5000,AB$5,FALSE),2)","v":38.78},{"$f":"ROUND(VLOOKUP($Z9,'data for u-p-charts'!$A$2:$F$5000,AC$5,FALSE),2)","v":42.15},{"$f":"ROUND(VLOOKUP($Z9,'data for u-p-charts'!$A$2:$F$5000,AD$5,FALSE),2)","v":43.84}]
[201701,"2017-03-01",{"$f":"CONCATENATE(A10,'ECOLI Data and Charts'!B$1)","v":"201701Scotland"},{"$f":"VLOOKUP(CONCATENATE(D$5,$C10),'trend data'!$A$2:$O$11161,D$6,FALSE)","v":547},{"$f":"ROUND(VLOOKUP(CONCATENATE(E$5,$C10),'trend data'!$A$2:$O$11161,E$6,FALSE),3)","v":34.591000000000001},{"$f":"ROUND(VLOOKUP(CONCATENATE(F$5,$C10),'trend data'!$A$2:$O$11161,F$6,FALSE),3)","v":31.751999999999999},{"$f":"ROUND(VLOOKUP(CONCATENATE(G$5,$C10),'trend data'!$A$2:$O$11161,G$6,FALSE),3)","v":37.615000000000002},{"$f":"IFERROR(VLOOKUP(CONCATENATE(H$5,$C10),'trend data'!$A$2:$O$11161,H$6,FALSE),\"-\")","v":570},{"$f":"IFERROR(ROUND(VLOOKUP(CONCATENATE(I$5,$C10),'trend data'!$A$2:$O$11161,I$6,FALSE),3),\"-\")","v":42.889000000000003},{"$f":"IFERROR(ROUND(VLOOKUP(CONCATENATE(J$5,$C10),'trend data'!$A$2:$O$11161,J$6,FALSE),3),\"-\")","v":39.44},{"$f":"IFERROR(ROUND(VLOOKUP(CONCATENATE(K$5,$C10),'trend data'!$A$2:$O$11161,K$6,FALSE),3),\"-\")","v":46.558999999999997},{"$f":"VLOOKUP(CONCATENATE(L$5,$C10),'trend data'!$A$2:$O$11161,L$6,FALSE)","v":1581339},{"$f":"ROUND(VLOOKUP(CONCATENATE(M$5,$C10),'trend data'!$A$2:$O$11161,M$6,FALSE),2)","v":1329016.44},null,null,null,null,{"$f":"YEAR(U10)&\"0\"&IF(MONTH(U10)<4,1,IF(MONTH(U10)<7,2,IF(MONTH(U10)<10,3,4)))","v":"202104"},{"$f":"CONCATENATE(V$7,R10,'ECOLI Data and Charts'!B$1)","v":"ECBHCAI202104Scotland"},2,"2021-12-23",{"$f":"ROUND(VLOOKUP($S10,'data for u-p-charts'!$A$2:$F$5000,V$5,FALSE),2)","v":34.07},{"$f":"ROUND(VLOOKUP($S10,'data for u-p-charts'!$A$2:$F$5000,W$5,FALSE),2)","v":36.090000000000003},{"$f":"ROUND(VLOOKUP($S10,'data for u-p-charts'!$A$2:$F$5000,X$5,FALSE),2)","v":39.200000000000003},{"$f":"ROUND(VLOOKUP($S10,'data for u-p-charts'!$A$2:$F$5000,Y$5,FALSE),2)","v":40.75},{"$f":"CONCATENATE(AA$7,$R10,'ECOLI Data and Charts'!$B$1)","v":"ECBCOM202104Scotland"},{"$f":"ROUND(VLOOKUP($Z10,'data for u-p-charts'!$A$2:$F$5000,AA$5,FALSE),2)","v":40.200000000000003},{"$f":"ROUND(VLOOKUP($Z10,'data for u-p-charts'!$A$2:$F$5000,AB$5,FALSE),2)","v":38.78},{"$f":"ROUND(VLOOKUP($Z10,'data for u-p-charts'!$A$2:$F$5000,AC$5,FALSE),2)","v":42.15},{"$f":"ROUND(VLOOKUP($Z10,'data for u-p-charts'!$A$2:$F$5000,AD$5,FALSE),2)","v":43.84}]
[201702,"2017-06-01",{"$f":"CONCATENATE(A11,'ECOLI Data and Charts'!B$1)","v":"201702Scotland"},{"$f":"VLOOKUP(CONCATENATE(D$5,$C11),'trend data'!$A$2:$O$11161,D$6,FALSE)","v":539},{"$f":"ROUND(VLOOKUP(CONCATENATE(E$5,$C11),'trend data'!$A$2:$O$11161,E$6,FALSE),3)","v":34.761000000000003},{"$f":"ROUND(VLOOKUP(CONCATENATE(F$5,$C11),'trend data'!$A$2:$O$11161,F$6,FALSE),3)","v":31.888000000000002},{"$f":"ROUND(VLOOKUP(CONCATENATE(G$5,$C11),'trend data'!$A$2:$O$11161,G$6,FALSE),3)","v":37.823999999999998},{"$f":"IFERROR(VLOOKUP(CONCATENATE(H$5,$C11),'trend data'!$A$2:$O$11161,H$6,FALSE),\"-\")","v":657},{"$f":"IFERROR(ROUND(VLOOKUP(CONCATENATE(I$5,$C11),'trend data'!$A$2:$O$11161,I$6,FALSE),3),\"-\")","v":48.892000000000003},{"$f":"IFERROR(ROUND(VLOOKUP(CONCATENATE(J$5,$C11),'trend data'!$A$2:$O$11161,J$6,FALSE),3),\"-\")","v":45.223999999999997},{"$f":"IFERROR(ROUND(VLOOKUP(CONCATENATE(K$5,$C11),'trend data'!$A$2:$O$11161,K$6,FALSE),3),\"-\")","v":52.777999999999999},{"$f":"VLOOKUP(CONCATENATE(L$5,$C11),'trend data'!$A$2:$O$11161,L$6,FALSE)","v":1550567},{"$f":"ROUND(VLOOKUP(CONCATENATE(M$5,$C11),'trend data'!$A$2:$O$11161,M$6,FALSE),2)","v":1343783.29},null,null,null,null,{"$f":"YEAR(U11)&\"0\"&IF(MONTH(U11)<4,1,IF(MONTH(U11)<7,2,IF(MONTH(U11)<10,3,4)))","v":"202201"},{"$f":"CONCATENATE(V$7,R11,'ECOLI Data and Charts'!B$1)","v":"ECBHCAI202201Scotland"},3,"2022-03-25",{"$f":"ROUND(VLOOKUP($S11,'data for u-p-charts'!$A$2:$F$5000,V$5,FALSE),2)","v":30.52},{"$f":"ROUND(VLOOKUP($S11,'data for u-p-charts'!$A$2:$F$5000,W$5,FALSE),2)","v":36.090000000000003},{"$f":"ROUND(VLOOKUP($S11,'data for u-p-charts'!$A$2:$F$5000,X$5,FALSE),2)","v":39.21},{"$f":"ROUND(VLOOKUP($S11,'data for u-p-charts'!$A$2:$F$5000,Y$5,FALSE),2)","v":40.770000000000003},{"$f":"CONCATENATE(AA$7,$R11,'ECOLI Data and Charts'!$B$1)","v":"ECBCOM202201Scotland"},{"$f":"ROUND(VLOOKUP($Z11,'data for u-p-charts'!$A$2:$F$5000,AA$5,FALSE),2)","v":39.31},{"$f":"ROUND(VLOOKUP($Z11,'data for u-p-charts'!$A$2:$F$5000,AB$5,FALSE),2)","v":38.78},{"$f":"ROUND(VLOOKUP($Z11,'data for u-p-charts'!$A$2:$F$5000,AC$5,FALSE),2)","v":42.18},{"$f":"ROUND(VLOOKUP($Z11,'data for u-p-charts'!$A$2:$F$5000,AD$5,FALSE),2)","v":43.88}]
[201703,"2017-09-01",{"$f":"CONCATENATE(A12,'ECOLI Data and Charts'!B$1)","v":"201703Scotland"},{"$f":"VLOOKUP(CONCATENATE(D$5,$C12),'trend data'!$A$2:$O$11161,D$6,FALSE)","v":585},{"$f":"ROUND(VLOOKUP(CONCATENATE(E$5,$C12),'trend data'!$A$2:$O$11161,E$6,FALSE),3)","v":38.015999999999998},{"$f":"ROUND(VLOOKUP(CONCATENATE(F$5,$C12),'trend data'!$A$2:$O$11161,F$6,FALSE),3)","v":34.997},{"$f":"ROUND(VLOOKUP(CONCATENATE(G$5,$C12),'trend data'!$A$2:$O$11161,G$6,FALSE),3)","v":41.225000000000001},{"$f":"IFERROR(VLOOKUP(CONCATENATE(H$5,$C12),'trend data'!$A$2:$O$11161,H$6,FALSE),\"-\")","v":677},{"$f":"IFERROR(ROUND(VLOOKUP(CONCATENATE(I$5,$C12),'trend data'!$A$2:$O$11161,I$6,FALSE),3),\"-\")","v":49.832999999999998},{"$f":"IFERROR(ROUND(VLOOKUP(CONCATENATE(J$5,$C12),'trend data'!$A$2:$O$11161,J$6,FALSE),3),\"-\")","v":46.149000000000001},{"$f":"IFERROR(ROUND(VLOOKUP(CONCATENATE(K$5,$C12),'trend data'!$A$2:$O$11161,K$6,FALSE),3),\"-\")","v":53.731999999999999},{"$f":"VLOOKUP(CONCATENATE(L$5,$C12),'trend data'!$A$2:$O$11161,L$6,FALSE)","v":1538826},{"$f":"ROUND(VLOOKUP(CONCATENATE(M$5,$C12),'trend data'!$A$2:$O$11161,M$6,FALSE),2)","v":1358550.14},null,null,null,null,"202202",{"$f":"CONCATENATE(V$7,R12,'ECOLI Data and Charts'!B$1)","v":"ECBHCAI202202Scotland"},4,"2022-06-25",{"$f":"ROUND(VLOOKUP($S12,'data for u-p-charts'!$A$2:$F$5000,V$5,FALSE),2)","v":34.82},{"$f":"ROUND(VLOOKUP($S12,'data for u-p-charts'!$A$2:$F$5000,W$5,FALSE),2)","v":36.090000000000003},{"$f":"ROUND(VLOOKUP($S12,'data for u-p-charts'!$A$2:$F$5000,X$5,FALSE),2)","v":39.18},{"$f":"ROUND(VLOOKUP($S12,'data for u-p-charts'!$A$2:$F$5000,Y$5,FALSE),2)","v":40.72},{"$f":"CONCATENATE(AA$7,$R12,'ECOLI Data and Charts'!$B$1)","v":"ECBCOM202202Scotland"},{"$f":"ROUND(VLOOKUP($Z12,'data for u-p-charts'!$A$2:$F$5000,AA$5,FALSE),2)","v":38.950000000000003},{"$f":"ROUND(VLOOKUP($Z12,'data for u-p-charts'!$A$2:$F$5000,AB$5,FALSE),2)","v":38.78},{"$f":"ROUND(VLOOKUP($Z12,'data for u-p-charts'!$A$2:$F$5000,AC$5,FALSE),2)","v":42.16},{"$f":"ROUND(VLOOKUP($Z12,'data for u-p-charts'!$A$2:$F$5000,AD$5,FALSE),2)","v":43.85}]
[201704,"2017-12-01",{"$f":"CONCATENATE(A13,'ECOLI Data and Charts'!B$1)","v":"201704Scotland"},{"$f":"VLOOKUP(CONCATENATE(D$5,$C13),'trend data'!$A$2:$O$11161,D$6,FALSE)","v":531},{"$f":"ROUND(VLOOKUP(CONCATENATE(E$5,$C13),'trend data'!$A$2:$O$11161,E$6,FALSE),3)","v":33.715000000000003},{"$f":"ROUND(VLOOKUP(CONCATENATE(F$5,$C13),'trend data'!$A$2:$O$11161,F$6,FALSE),3)","v":30.908000000000001},{"$f":"ROUND(VLOOKUP(CONCATENATE(G$5,$C13),'trend data'!$A$2:$O$11161,G$6,FALSE),3)","v":36.709000000000003},{"$f":"IFERROR(VLOOKUP(CONCATENATE(H$5,$C13),'trend data'!$A$2:$O$11161,H$6,FALSE),\"-\")","v":656},{"$f":"IFERROR(ROUND(VLOOKUP(CONCATENATE(I$5,$C13),'trend data'!$A$2:$O$11161,I$6,FALSE),3),\"-\")","v":48.286999999999999},{"$f":"IFERROR(ROUND(VLOOKUP(CONCATENATE(J$5,$C13),'trend data'!$A$2:$O$11161,J$6,FALSE),3),\"-\")","v":44.661999999999999},{"$f":"IFERROR(ROUND(VLOOKUP(CONCATENATE(K$5,$C13),'trend data'!$A$2:$O$11161,K$6,FALSE),3),\"-\")","v":52.128},{"$f":"VLOOKUP(CONCATENATE(L$5,$C13),'trend data'!$A$2:$O$11161,L$6,FALSE)","v":1574967},{"$f":"ROUND(VLOOKUP(CONCATENATE(M$5,$C13),'trend data'!$A$2:$O$11161,M$6,FALSE),2)","v":1358550.14},null,null,null,null,"202203",{"$f":"CONCATENATE(V$7,R13,'ECOLI Data and Charts'!B$1)","v":"ECBHCAI202203Scotland"},5,"2022-09-25",{"$f":"ROUND(VLOOKUP($S13,'data for u-p-charts'!$A$2:$F$5000,V$5,FALSE),2)","v":36.229999999999997},{"$f":"ROUND(VLOOKUP($S13,'data for u-p-charts'!$A$2:$F$5000,W$5,FALSE),2)","v":36.090000000000003},{"$f":"ROUND(VLOOKUP($S13,'data for u-p-charts'!$A$2:$F$5000,X$5,FALSE),2)","v":39.15},{"$f":"ROUND(VLOOKUP($S13,'data for u-p-charts'!$A$2:$F$5000,Y$5,FALSE),2)","v":40.68},{"$f":"CONCATENATE(AA$7,$R13,'ECOLI Data and Charts'!$B$1)","v":"ECBCOM202203Scotland"},{"$f":"ROUND(VLOOKUP($Z13,'data for u-p-charts'!$A$2:$F$5000,AA$5,FALSE),2)","v":42.02},{"$f":"ROUND(VLOOKUP($Z13,'data for u-p-charts'!$A$2:$F$5000,AB$5,FALSE),2)","v":38.78},{"$f":"ROUND(VLOOKUP($Z13,'data for u-p-charts'!$A$2:$F$5000,AC$5,FALSE),2)","v":42.14},{"$f":"ROUND(VLOOKUP($Z13,'data for u-p-charts'!$A$2:$F$5000,AD$5,FALSE),2)","v":43.82}]
[201801,"2018-03-01",{"$f":"CONCATENATE(A14,'ECOLI Data and Charts'!B$1)","v":"201801Scotland"},{"$f":"IFERROR(VLOOKUP(CONCATENATE(D$5,$C14),'trend data'!$A$2:$O$11161,D$6,FALSE),\"-\")","v":524},{"$f":"ROUND(VLOOKUP(CONCATENATE(E$5,$C14),'trend data'!$A$2:$O$11161,E$6,FALSE),3)","v":33.055},{"$f":"ROUND(VLOOKUP(CONCATENATE(F$5,$C14),'trend data'!$A$2:$O$11161,F$6,FALSE),3)","v":30.285},{"$f":"ROUND(VLOOKUP(CONCATENATE(G$5,$C14),'trend data'!$A$2:$O$11161,G$6,FALSE),3)","v":36.01},{"$f":"IFERROR(VLOOKUP(CONCATENATE(H$5,$C14),'trend data'!$A$2:$O$11161,H$6,FALSE),\"-\")","v":578},{"$f":"IFERROR(ROUND(VLOOKUP(CONCATENATE(I$5,$C14),'trend data'!$A$2:$O$11161,I$6,FALSE),3),\"-\")","v":43.454999999999998},{"$f":"IFERROR(ROUND(VLOOKUP(CONCATENATE(J$5,$C14),'trend data'!$A$2:$O$11161,J$6,FALSE),3),\"-\")","v":39.984000000000002},{"$f":"IFERROR(ROUND(VLOOKUP(CONCATENATE(K$5,$C14),'trend data'!$A$2:$O$11161,K$6,FALSE),3),\"-\")","v":47.146999999999998},{"$f":"VLOOKUP(CONCATENATE(L$5,$C14),'trend data'!$A$2:$O$11161,L$6,FALSE)","v":1585233},{"$f":"ROUND(VLOOKUP(CONCATENATE(M$5,$C14),'trend data'!$A$2:$O$11161,M$6,FALSE),2)","v":1330101.3700000001},null,null,null,null,"202204",{"$f":"CONCATENATE(V$7,R14,'ECOLI Data and Charts'!B$1)","v":"ECBHCAI202204Scotland"},6,"2022-12-26",{"$f":"ROUND(VLOOKUP($S14,'data for u-p-charts'!$A$2:$F$5000,V$5,FALSE),2)","v":34.99},{"$f":"ROUND(VLOOKUP($S14,'data for u-p-charts'!$A$2:$F$5000,W$5,FALSE),2)","v":36.090000000000003},{"$f":"ROUND(VLOOKUP($S14,'data for u-p-charts'!$A$2:$F$5000,X$5,FALSE),2)","v":39.119999999999997},{"$f":"ROUND(VLOOKUP($S14,'data for u-p-charts'!$A$2:$F$5000,Y$5,FALSE),2)","v":40.64},{"$f":"CONCATENATE(AA$7,$R14,'ECOLI Data and Charts'!$B$1)","v":"ECBCOM202204Scotland"},{"$f":"ROUND(VLOOKUP($Z14,'data for u-p-charts'!$A$2:$F$5000,AA$5,FALSE),2)","v":36.049999999999997},{"$f":"ROUND(VLOOKUP($Z14,'data for u-p-charts'!$A$2:$F$5000,AB$5,FALSE),2)","v":38.78},{"$f":"ROUND(VLOOKUP($Z14,'data for u-p-charts'!$A$2:$F$5000,AC$5,FALSE),2)","v":42.14},{"$f":"ROUND(VLOOKUP($Z14,'data for u-p-charts'!$A$2:$F$5000,AD$5,FALSE),2)","v":43.82}]
[201802,"2018-06-01",{"$f":"CONCATENATE(A15,'ECOLI Data and Charts'!B$1)","v":"201802Scotland"},{"$f":"IFERROR(VLOOKUP(CONCATENATE(D$5,$C15),'trend data'!$A$2:$O$11161,D$6,FALSE),\"-\")","v":580},{"$f":"ROUND(VLOOKUP(CONCATENATE(E$5,$C15),'trend data'!$A$2:$O$11161,E$6,FALSE),3)","v":38.024000000000001},{"$f":"ROUND(VLOOKUP(CONCATENATE(F$5,$C15),'trend data'!$A$2:$O$11161,F$6,FALSE),3)","v":34.991999999999997},{"$f":"ROUND(VLOOKUP(CONCATENATE(G$5,$C15),'trend data'!$A$2:$O$11161,G$6,FALSE),3)","v":41.249000000000002},{"$f":"IFERROR(VLOOKUP(CONCATENATE(H$5,$C15),'trend data'!$A$2:$O$11161,H$6,FALSE),\"-\")","v":598},{"$f":"IFERROR(ROUND(VLOOKUP(CONCATENATE(I$5,$C15),'trend data'!$A$2:$O$11161,I$6,FALSE),3),\"-\")","v":44.465000000000003},{"$f":"IFERROR(ROUND(VLOOKUP(CONCATENATE(J$5,$C15),'trend data'!$A$2:$O$11161,J$6,FALSE),3),\"-\")","v":40.972000000000001},{"$f":"IFERROR(ROUND(VLOOKUP(CONCATENATE(K$5,$C15),'trend data'!$A$2:$O$11161,K$6,FALSE),3),\"-\")","v":48.176000000000002},{"$f":"VLOOKUP(CONCATENATE(L$5,$C15),'trend data'!$A$2:$O$11161,L$6,FALSE)","v":1525345},{"$f":"ROUND(VLOOKUP(CONCATENATE(M$5,$C15),'trend data'!$A$2:$O$11161,M$6,FALSE),2)","v":1344880.27},null,null,null,null,"202301",{"$f":"CONCATENATE(V$7,R15,'ECOLI Data and Charts'!B$1)","v":"ECBHCAI202301Scotland"},7,"2023-03-28",{"$f":"ROUND(VLOOKUP($S15,'data for u-p-charts'!$A$2:$F$5000,V$5,FALSE),2)","v":37.479999999999997},{"$f":"ROUND(VLOOKUP($S15,'data for u-p-charts'!$A$2:$F$5000,W$5,FALSE),2)","v":36.090000000000003},{"$f":"ROUND(VLOOKUP($S15,'data for u-p-charts'!$A$2:$F$5000,X$5,FALSE),2)","v":39.119999999999997},{"$f":"ROUND(VLOOKUP($S15,'data for u-p-charts'!$A$2:$F$5000,Y$5,FALSE),2)","v":40.64},{"$f":"CONCATENATE(AA$7,$R15,'ECOLI Data and Charts'!$B$1)","v":"ECBCOM202301Scotland"},{"$f":"ROUND(VLOOKUP($Z15,'data for u-p-charts'!$A$2:$F$5000,AA$5,FALSE),2)","v":37},{"$f":"ROUND(VLOOKUP($Z15,'data for u-p-charts'!$A$2:$F$5000,AB$5,FALSE),2)","v":38.78},{"$f":"ROUND(VLOOKUP($Z15,'data for u-p-charts'!$A$2:$F$5000,AC$5,FALSE),2)","v":42.18},{"$f":"ROUND(VLOOKUP($Z15,'data for u-p-charts'!$A$2:$F$5000,AD$5,FALSE),2)","v":43.88}]
[201803,"2018-09-01",{"$f":"CONCATENATE(A16,'ECOLI Data and Charts'!B$1)","v":"201803Scotland"},{"$f":"IFERROR(VLOOKUP(CONCATENATE(D$5,$C16),'trend data'!$A$2:$O$11161,D$6,FALSE),\"-\")","v":606},{"$f":"ROUND(VLOOKUP(CONCATENATE(E$5,$C16),'trend data'!$A$2:$O$11161,E$6,FALSE),3)","v":40.088999999999999},{"$f":"ROUND(VLOOKUP(CONCATENATE(F$5,$C16),'trend data'!$A$2:$O$11161,F$6,FALSE),3)","v":36.960999999999999},{"$f":"ROUND(VLOOKUP(CONCATENATE(G$5,$C16),'trend data'!$A$2:$O$11161,G$6,FALSE),3)","v":43.411999999999999},{"$f":"IFERROR(VLOOKUP(CONCATENATE(H$5,$C16),'trend data'!$A$2:$O$11161,H$6,FALSE),\"-\")","v":667},{"$f":"IFERROR(ROUND(VLOOKUP(CONCATENATE(I$5,$C16),'trend data'!$A$2:$O$11161,I$6,FALSE),3),\"-\")","v":49.055999999999997},{"$f":"IFERROR(ROUND(VLOOKUP(CONCATENATE(J$5,$C16),'trend data'!$A$2:$O$11161,J$6,FALSE),3),\"-\")","v":45.404000000000003},{"$f":"IFERROR(ROUND(VLOOKUP(CONCATENATE(K$5,$C16),'trend data'!$A$2:$O$11161,K$6,FALSE),3),\"-\")","v":52.924999999999997},{"$f":"VLOOKUP(CONCATENATE(L$5,$C16),'trend data'!$A$2:$O$11161,L$6,FALSE)","v":1511620},{"$f":"ROUND(VLOOKUP(CONCATENATE(M$5,$C16),'trend data'!$A$2:$O$11161,M$6,FALSE),2)","v":1359659.18},null,null,null,null,"202302",{"$f":"CONCATENATE(V$7,R16,'ECOLI Data and Charts'!B$1)","v":"ECBHCAI202302Scotland"},8,"2023-06-28",{"$f":"ROUND(VLOOKUP($S16,'data for u-p-charts'!$A$2:$F$5000,V$5,FALSE),2)","v":37.61},{"$f":"ROUND(VLOOKUP($S16,'data for u-p-charts'!$A$2:$F$5000,W$5,FALSE),2)","v":36.090000000000003},{"$f":"ROUND(VLOOKUP($S16,'data for u-p-charts'!$A$2:$F$5000,X$5,FALSE),2)","v":39.15},{"$f":"ROUND(VLOOKUP($S16,'data for u-p-charts'!$A$2:$F$5000,Y$5,FALSE),2)","v":40.68},{"$f":"CONCATENATE(AA$7,$R16,'ECOLI Data and Charts'!$B$1)","v":"ECBCOM202302Scotland"},{"$f":"ROUND(VLOOKUP($Z16,'data for u-p-charts'!$A$2:$F$5000,AA$5,FALSE),2)","v":36.96},{"$f":"ROUND(VLOOKUP($Z16,'data for u-p-charts'!$A$2:$F$5000,AB$5,FALSE),2)","v":38.78},{"$f":"ROUND(VLOOKUP($Z16,'data for u-p-charts'!$A$2:$F$5000,AC$5,FALSE),2)","v":42.16},{"$f":"ROUND(VLOOKUP($Z16,'data for u-p-charts'!$A$2:$F$5000,AD$5,FALSE),2)","v":43.85}]
[201804,"2018-12-01",{"$f":"CONCATENATE(A17,'ECOLI Data and Charts'!B$1)","v":"201804Scotland"},{"$f":"IFERROR(VLOOKUP(CONCATENATE(D$5,$C17),'trend data'!$A$2:$O$11161,D$6,FALSE),\"-\")","v":582},{"$f":"ROUND(VLOOKUP(CONCATENATE(E$5,$C17),'trend data'!$A$2:$O$11161,E$6,FALSE),3)","v":38.234000000000002},{"$f":"ROUND(VLOOKUP(CONCATENATE(F$5,$C17),'trend data'!$A$2:$O$11161,F$6,FALSE),3)","v":35.19},{"$f":"ROUND(VLOOKUP(CONCATENATE(G$5,$C17),'trend data'!$A$2:$O$11161,G$6,FALSE),3)","v":41.47},{"$f":"IFERROR(VLOOKUP(CONCATENATE(H$5,$C17),'trend data'!$A$2:$O$11161,H$6,FALSE),\"-\")","v":603},{"$f":"IFERROR(ROUND(VLOOKUP(CONCATENATE(I$5,$C17),'trend data'!$A$2:$O$11161,I$6,FALSE),3),\"-\")","v":44.348999999999997},{"$f":"IFERROR(ROUND(VLOOKUP(CONCATENATE(J$5,$C17),'trend data'!$A$2:$O$11161,J$6,FALSE),3),\"-\")","v":40.880000000000003},{"$f":"IFERROR(ROUND(VLOOKUP(CONCATENATE(K$5,$C17),'trend data'!$A$2:$O$11161,K$6,FALSE),3),\"-\")","v":48.034999999999997},{"$f":"VLOOKUP(CONCATENATE(L$5,$C17),'trend data'!$A$2:$O$11161,L$6,FALSE)","v":1522217},{"$f":"ROUND(VLOOKUP(CONCATENATE(M$5,$C17),'trend data'!$A$2:$O$11161,M$6,FALSE),2)","v":1359659.18},null,null,null,null,"202303",{"$f":"CONCATENATE(V$7,R17,'ECOLI Data and Charts'!B$1)","v":"ECBHCAI202303Scotland"},9,"2023-09-28",{"$f":"ROUND(VLOOKUP($S17,'data for u-p-charts'!$A$2:$F$5000,V$5,FALSE),2)","v":37.72},{"$f":"ROUND(VLOOKUP($S17,'data for u-p-charts'!$A$2:$F$5000,W$5,FALSE),2)","v":36.090000000000003},{"$f":"ROUND(VLOOKUP($S17,'data for u-p-charts'!$A$2:$F$5000,X$5,FALSE),2)","v":39.159999999999997},{"$f":"ROUND(VLOOKUP($S17,'data for u-p-charts'!$A$2:$F$5000,Y$5,FALSE),2)","v":40.69},{"$f":"CONCATENATE(AA$7,$R17,'ECOLI Data and Charts'!$B$1)","v":"ECBCOM202303Scotland"},{"$f":"ROUND(VLOOKUP($Z17,'data for u-p-charts'!$A$2:$F$5000,AA$5,FALSE),2)","v":41.88},{"$f":"ROUND(VLOOKUP($Z17,'data for u-p-charts'!$A$2:$F$5000,AB$5,FALSE),2)","v":38.78},{"$f":"ROUND(VLOOKUP($Z17,'data for u-p-charts'!$A$2:$F$5000,AC$5,FALSE),2)","v":42.14},{"$f":"ROUND(VLOOKUP($Z17,'data for u-p-charts'!$A$2:$F$5000,AD$5,FALSE),2)","v":43.82}]
[201901,"2019-03-01",{"$f":"CONCATENATE(A18,'ECOLI Data and Charts'!B$1)","v":"201901Scotland"},{"$f":"IFERROR(VLOOKUP(CONCATENATE(D$5,$C18),'trend data'!$A$2:$O$11161,D$6,FALSE),\"-\")","v":573},{"$f":"ROUND(VLOOKUP(CONCATENATE(E$5,$C18),'trend data'!$A$2:$O$11161,E$6,FALSE),3)","v":37.244},{"$f":"ROUND(VLOOKUP(CONCATENATE(F$5,$C18),'trend data'!$A$2:$O$11161,F$6,FALSE),3)","v":34.256},{"$f":"ROUND(VLOOKUP(CONCATENATE(G$5,$C18),'trend data'!$A$2:$O$11161,G$6,FALSE),3)","v":40.421999999999997},{"$f":"IFERROR(VLOOKUP(CONCATENATE(H$5,$C18),'trend data'!$A$2:$O$11161,H$6,FALSE),\"-\")","v":598},{"$f":"IFERROR(ROUND(VLOOKUP(CONCATENATE(I$5,$C18),'trend data'!$A$2:$O$11161,I$6,FALSE),3),\"-\")","v":44.792000000000002},{"$f":"IFERROR(ROUND(VLOOKUP(CONCATENATE(J$5,$C18),'trend data'!$A$2:$O$11161,J$6,FALSE),3),\"-\")","v":41.273000000000003},{"$f":"IFERROR(ROUND(VLOOKUP(CONCATENATE(K$5,$C18),'trend data'!$A$2:$O$11161,K$6,FALSE),3),\"-\")","v":48.530999999999999},{"$f":"VLOOKUP(CONCATENATE(L$5,$C18),'trend data'!$A$2:$O$11161,L$6,FALSE)","v":1538510},{"$f":"ROUND(VLOOKUP(CONCATENATE(M$5,$C18),'trend data'!$A$2:$O$11161,M$6,FALSE),2)","v":1335057.53},null,null,null,null,"202304",{"$f":"CONCATENATE(V$7,R18,'ECOLI Data and Charts'!B$1)","v":"ECBHCAI202304Scotland"},10,"2023-12-29",{"$f":"ROUND(VLOOKUP($S18,'data for u-p-charts'!$A$2:$F$5000,V$5,FALSE),2)","v":34.729999999999997},{"$f":"ROUND(VLOOKUP($S18,'data for u-p-charts'!$A$2:$F$5000,W$5,FALSE),2)","v":36.090000000000003},{"$f":"ROUND(VLOOKUP($S18,'data for u-p-charts'!$A$2:$F$5000,X$5,FALSE),2)","v":39.130000000000003},{"$f":"ROUND(VLOOKUP($S18,'data for u-p-charts'!$A$2:$F$5000,Y$5,FALSE),2)","v":40.65},{"$f":"CONCATENATE(AA$7,$R18,'ECOLI Data and Charts'!$B$1)","v":"ECBCOM202304Scotland"},{"$f":"ROUND(VLOOKUP($Z18,'data for u-p-charts'!$A$2:$F$5000,AA$5,FALSE),2)","v":32.19},{"$f":"ROUND(VLOOKUP($Z18,'data for u-p-charts'!$A$2:$F$5000,AB$5,FALSE),2)","v":38.78},{"$f":"ROUND(VLOOKUP($Z18,'data for u-p-charts'!$A$2:$F$5000,AC$5,FALSE),2)","v":42.14},{"$f":"ROUND(VLOOKUP($Z18,'data for u-p-charts'!$A$2:$F$5000,AD$5,FALSE),2)","v":43.82}]
[201902,"2019-06-01",{"$f":"CONCATENATE(A19,'ECOLI Data and Charts'!B$1)","v":"201902Scotland"},{"$f":"IFERROR(VLOOKUP(CONCATENATE(D$5,$C19),'trend data'!$A$2:$O$11161,D$6,FALSE),\"-\")","v":584},{"$f":"ROUND(VLOOKUP(CONCATENATE(E$5,$C19),'trend data'!$A$2:$O$11161,E$6,FALSE),3)","v":38.771000000000001},{"$f":"ROUND(VLOOKUP(CONCATENATE(F$5,$C19),'trend data'!$A$2:$O$11161,F$6,FALSE),3)","v":35.69},{"$f":"ROUND(VLOOKUP(CONCATENATE(G$5,$C19),'trend data'!$A$2:$O$11161,G$6,FALSE),3)","v":42.046999999999997},{"$f":"IFERROR(VLOOKUP(CONCATENATE(H$5,$C19),'trend data'!$A$2:$O$11161,H$6,FALSE),\"-\")","v":604},{"$f":"IFERROR(ROUND(VLOOKUP(CONCATENATE(I$5,$C19),'trend data'!$A$2:$O$11161,I$6,FALSE),3),\"-\")","v":44.744},{"$f":"IFERROR(ROUND(VLOOKUP(CONCATENATE(J$5,$C19),'trend data'!$A$2:$O$11161,J$6,FALSE),3),\"-\")","v":41.247},{"$f":"IFERROR(ROUND(VLOOKUP(CONCATENATE(K$5,$C19),'trend data'!$A$2:$O$11161,K$6,FALSE),3),\"-\")","v":48.459000000000003},{"$f":"VLOOKUP(CONCATENATE(L$5,$C19),'trend data'!$A$2:$O$11161,L$6,FALSE)","v":1506284},{"$f":"ROUND(VLOOKUP(CONCATENATE(M$5,$C19),'trend data'!$A$2:$O$11161,M$6,FALSE),2)","v":1349891.51},null,null,null,null,"202401",{"$f":"CONCATENATE(V$7,R19,'ECOLI Data and Charts'!B$1)","v":"ECBHCAI202401Scotland"},11,{"$f":"U20-92","v":"2024-03-30"},{"$f":"ROUND(VLOOKUP($S19,'data for u-p-charts'!$A$2:$F$5000,V$5,FALSE),2)","v":35.520000000000003},{"$f":"ROUND(VLOOKUP($S19,'data for u-p-charts'!$A$2:$F$5000,W$5,FALSE),2)","v":36.090000000000003},{"$f":"ROUND(VLOOKUP($S19,'data for u-p-charts'!$A$2:$F$5000,X$5,FALSE),2)","v":39.1},{"$f":"ROUND(VLOOKUP($S19,'data for u-p-charts'!$A$2:$F$5000,Y$5,FALSE),2)","v":40.61},{"$f":"CONCATENATE(AA$7,$R19,'ECOLI Data and Charts'!$B$1)","v":"ECBCOM202401Scotland"},{"$f":"ROUND(VLOOKUP($Z19,'data for u-p-charts'!$A$2:$F$5000,AA$5,FALSE),2)","v":37.21},{"$f":"ROUND(VLOOKUP($Z19,'data for u-p-charts'!$A$2:$F$5000,AB$5,FALSE),2)","v":38.78},{"$f":"ROUND(VLOOKUP($Z19,'data for u-p-charts'!$A$2:$F$5000,AC$5,FALSE),2)","v":42.17},{"$f":"ROUND(VLOOKUP($Z19,'data for u-p-charts'!$A$2:$F$5000,AD$5,FALSE),2)","v":43.86}]
[201903,"2019-09-01",{"$f":"CONCATENATE(A20,'ECOLI Data and Charts'!B$1)","v":"201903Scotland"},{"$f":"IFERROR(VLOOKUP(CONCATENATE(D$5,$C20),'trend data'!$A$2:$O$11161,D$6,FALSE),\"-\")","v":608},{"$f":"ROUND(VLOOKUP(CONCATENATE(E$5,$C20),'trend data'!$A$2:$O$11161,E$6,FALSE),3)","v":40.345999999999997},{"$f":"ROUND(VLOOKUP(CONCATENATE(F$5,$C20),'trend data'!$A$2:$O$11161,F$6,FALSE),3)","v":37.201999999999998},{"$f":"ROUND(VLOOKUP(CONCATENATE(G$5,$C20),'trend data'!$A$2:$O$11161,G$6,FALSE),3)","v":43.683999999999997},{"$f":"IFERROR(VLOOKUP(CONCATENATE(H$5,$C20),'trend data'!$A$2:$O$11161,H$6,FALSE),\"-\")","v":606},{"$f":"IFERROR(ROUND(VLOOKUP(CONCATENATE(I$5,$C20),'trend data'!$A$2:$O$11161,I$6,FALSE),3),\"-\")","v":44.405000000000001},{"$f":"IFERROR(ROUND(VLOOKUP(CONCATENATE(J$5,$C20),'trend data'!$A$2:$O$11161,J$6,FALSE),3),\"-\")","v":40.939},{"$f":"IFERROR(ROUND(VLOOKUP(CONCATENATE(K$5,$C20),'trend data'!$A$2:$O$11161,K$6,FALSE),3),\"-\")","v":48.085000000000001},{"$f":"VLOOKUP(CONCATENATE(L$5,$C20),'trend data'!$A$2:$O$11161,L$6,FALSE)","v":1506970},{"$f":"ROUND(VLOOKUP(CONCATENATE(M$5,$C20),'trend data'!$A$2:$O$11161,M$6,FALSE),2)","v":1364725.48},null,null,null,null,"202402",{"$f":"CONCATENATE(V$7,R20,'ECOLI Data and Charts'!B$1)","v":"ECBHCAI202402Scotland"},12,{"$f":"U5","v":"2024-06-30"},{"$f":"ROUND(VLOOKUP($S20,'data for u-p-charts'!$A$2:$F$5000,V$5,FALSE),2)","v":39.43},{"$f":"ROUND(VLOOKUP($S20,'data for u-p-charts'!$A$2:$F$5000,W$5,FALSE),2)","v":36.090000000000003},{"$f":"ROUND(VLOOKUP($S20,'data for u-p-charts'!$A$2:$F$5000,X$5,FALSE),2)","v":39.14},{"$f":"ROUND(VLOOKUP($S20,'data for u-p-charts'!$A$2:$F$5000,Y$5,FALSE),2)","v":40.659999999999997},{"$f":"CONCATENATE(AA$7,$R20,'ECOLI Data and Charts'!$B$1)","v":"ECBCOM202402Scotland"},{"$f":"ROUND(VLOOKUP($Z20,'data for u-p-charts'!$A$2:$F$5000,AA$5,FALSE),2)","v":36.18},{"$f":"ROUND(VLOOKUP($Z20,'data for u-p-charts'!$A$2:$F$5000,AB$5,FALSE),2)","v":38.78},{"$f":"ROUND(VLOOKUP($Z20,'data for u-p-charts'!$A$2:$F$5000,AC$5,FALSE),2)","v":42.17},{"$f":"ROUND(VLOOKUP($Z20,'data for u-p-charts'!$A$2:$F$5000,AD$5,FALSE),2)","v":43.86}]
[201904,"2019-12-01",{"$f":"CONCATENATE(A21,'ECOLI Data and Charts'!B$1)","v":"201904Scotland"},{"$f":"IFERROR(VLOOKUP(CONCATENATE(D$5,$C21),'trend data'!$A$2:$O$11161,D$6,FALSE),\"-\")","v":626},{"$f":"ROUND(VLOOKUP(CONCATENATE(E$5,$C21),'trend data'!$A$2:$O$11161,E$6,FALSE),3)","v":40.875999999999998},{"$f":"ROUND(VLOOKUP(CONCATENATE(F$5,$C21),'trend data'!$A$2:$O$11161,F$6,FALSE),3)","v":37.735999999999997},{"$f":"ROUND(VLOOKUP(CONCATENATE(G$5,$C21),'trend data'!$A$2:$O$11161,G$6,FALSE),3)","v":44.207000000000001},{"$f":"IFERROR(VLOOKUP(CONCATENATE(H$5,$C21),'trend data'!$A$2:$O$11161,H$6,FALSE),\"-\")","v":568},{"$f":"IFERROR(ROUND(VLOOKUP(CONCATENATE(I$5,$C21),'trend data'!$A$2:$O$11161,I$6,FALSE),3),\"-\")","v":41.62},{"$f":"IFERROR(ROUND(VLOOKUP(CONCATENATE(J$5,$C21),'trend data'!$A$2:$O$11161,J$6,FALSE),3),\"-\")","v":38.267000000000003},{"$f":"IFERROR(ROUND(VLOOKUP(CONCATENATE(K$5,$C21),'trend data'!$A$2:$O$11161,K$6,FALSE),3),\"-\")","v":45.188000000000002},{"$f":"VLOOKUP(CONCATENATE(L$5,$C21),'trend data'!$A$2:$O$11161,L$6,FALSE)","v":1531462},{"$f":"ROUND(VLOOKUP(CONCATENATE(M$5,$C21),'trend data'!$A$2:$O$11161,M$6,FALSE),2)","v":1364725.48}]
[202001,"2020-03-01",{"$f":"CONCATENATE(A22,'ECOLI Data and Charts'!B$1)","v":"202001Scotland"},{"$f":"IFERROR(VLOOKUP(CONCATENATE(D$5,$C22),'trend data'!$A$2:$O$11161,D$6,FALSE),\"-\")","v":538},{"$f":"ROUND(VLOOKUP(CONCATENATE(E$5,$C22),'trend data'!$A$2:$O$11161,E$6,FALSE),3)","v":36.451000000000001},{"$f":"ROUND(VLOOKUP(CONCATENATE(F$5,$C22),'trend data'!$A$2:$O$11161,F$6,FALSE),3)","v":33.436},{"$f":"ROUND(VLOOKUP(CONCATENATE(G$5,$C22),'trend data'!$A$2:$O$11161,G$6,FALSE),3)","v":39.665999999999997},{"$f":"IFERROR(VLOOKUP(CONCATENATE(H$5,$C22),'trend data'!$A$2:$O$11161,H$6,FALSE),\"-\")","v":515},{"$f":"IFERROR(ROUND(VLOOKUP(CONCATENATE(I$5,$C22),'trend data'!$A$2:$O$11161,I$6,FALSE),3),\"-\")","v":38.265000000000001},{"$f":"IFERROR(ROUND(VLOOKUP(CONCATENATE(J$5,$C22),'trend data'!$A$2:$O$11161,J$6,FALSE),3),\"-\")","v":35.030999999999999},{"$f":"IFERROR(ROUND(VLOOKUP(CONCATENATE(K$5,$C22),'trend data'!$A$2:$O$11161,K$6,FALSE),3),\"-\")","v":41.716999999999999},{"$f":"VLOOKUP(CONCATENATE(L$5,$C22),'trend data'!$A$2:$O$11161,L$6,FALSE)","v":1475950},{"$f":"ROUND(VLOOKUP(CONCATENATE(M$5,$C22),'trend data'!$A$2:$O$11161,M$6,FALSE),2)","v":1345880.05}]
[202002,"2020-06-01",{"$f":"CONCATENATE(A23,'ECOLI Data and Charts'!B$1)","v":"202002Scotland"},{"$f":"IFERROR(VLOOKUP(CONCATENATE(D$5,$C23),'trend data'!$A$2:$O$11161,D$6,FALSE),\"-\")","v":429},{"$f":"ROUND(VLOOKUP(CONCATENATE(E$5,$C23),'trend data'!$A$2:$O$11161,E$6,FALSE),3)","v":39.686999999999998},{"$f":"ROUND(VLOOKUP(CONCATENATE(F$5,$C23),'trend data'!$A$2:$O$11161,F$6,FALSE),3)","v":36.020000000000003},{"$f":"ROUND(VLOOKUP(CONCATENATE(G$5,$C23),'trend data'!$A$2:$O$11161,G$6,FALSE),3)","v":43.627000000000002},{"$f":"IFERROR(VLOOKUP(CONCATENATE(H$5,$C23),'trend data'!$A$2:$O$11161,H$6,FALSE),\"-\")","v":488},{"$f":"IFERROR(ROUND(VLOOKUP(CONCATENATE(I$5,$C23),'trend data'!$A$2:$O$11161,I$6,FALSE),3),\"-\")","v":36.259},{"$f":"IFERROR(ROUND(VLOOKUP(CONCATENATE(J$5,$C23),'trend data'!$A$2:$O$11161,J$6,FALSE),3),\"-\")","v":33.113},{"$f":"IFERROR(ROUND(VLOOKUP(CONCATENATE(K$5,$C23),'trend data'!$A$2:$O$11161,K$6,FALSE),3),\"-\")","v":39.622999999999998},{"$f":"VLOOKUP(CONCATENATE(L$5,$C23),'trend data'!$A$2:$O$11161,L$6,FALSE)","v":1080949},{"$f":"ROUND(VLOOKUP(CONCATENATE(M$5,$C23),'trend data'!$A$2:$O$11161,M$6,FALSE),2)","v":1345880.05}]
[202003,"2020-09-01",{"$f":"CONCATENATE(A24,'ECOLI Data and Charts'!B$1)","v":"202003Scotland"},{"$f":"IFERROR(VLOOKUP(CONCATENATE(D$5,$C24),'trend data'!$A$2:$O$11161,D$6,FALSE),\"-\")","v":547},{"$f":"ROUND(VLOOKUP(CONCATENATE(E$5,$C24),'trend data'!$A$2:$O$11161,E$6,FALSE),4)","v":41.948399999999999},{"$f":"ROUND(VLOOKUP(CONCATENATE(F$5,$C24),'trend data'!$A$2:$O$11161,F$6,FALSE),4)","v":38.506100000000004},{"$f":"ROUND(VLOOKUP(CONCATENATE(G$5,$C24),'trend data'!$A$2:$O$11161,G$6,FALSE),4)","v":45.6158},{"$f":"IFERROR(VLOOKUP(CONCATENATE(H$5,$C24),'trend data'!$A$2:$O$11161,H$6,FALSE),\"-\")","v":614},{"$f":"IFERROR(ROUND(VLOOKUP(CONCATENATE(I$5,$C24),'trend data'!$A$2:$O$11161,I$6,FALSE),4),\"-\")","v":45.1248},{"$f":"IFERROR(ROUND(VLOOKUP(CONCATENATE(J$5,$C24),'trend data'!$A$2:$O$11161,J$6,FALSE),4),\"-\")","v":41.625599999999999},{"$f":"IFERROR(ROUND(VLOOKUP(CONCATENATE(K$5,$C24),'trend data'!$A$2:$O$11161,K$6,FALSE),4),\"-\")","v":48.839700000000001},{"$f":"VLOOKUP(CONCATENATE(L$5,$C24),'trend data'!$A$2:$O$11161,L$6,FALSE)","v":1303983},{"$f":"ROUND(VLOOKUP(CONCATENATE(M$5,$C24),'trend data'!$A$2:$O$11161,M$6,FALSE),2)","v":1360669.95}]
[202004,"2020-12-31",{"$f":"CONCATENATE(A25,'ECOLI Data and Charts'!B$1)","v":"202004Scotland"},{"$f":"IFERROR(VLOOKUP(CONCATENATE(D$5,$C25),'trend data'!$A$2:$O$11161,D$6,FALSE),\"-\")","v":555},{"$f":"ROUND(VLOOKUP(CONCATENATE(E$5,$C25),'trend data'!$A$2:$O$11161,E$6,FALSE),4)","v":40.8752},{"$f":"ROUND(VLOOKUP(CONCATENATE(F$5,$C25),'trend data'!$A$2:$O$11161,F$6,FALSE),4)","v":37.544699999999999},{"$f":"ROUND(VLOOKUP(CONCATENATE(G$5,$C25),'trend data'!$A$2:$O$11161,G$6,FALSE),4)","v":44.421799999999998},{"$f":"IFERROR(VLOOKUP(CONCATENATE(H$5,$C25),'trend data'!$A$2:$O$11161,H$6,FALSE),\"-\")","v":521},{"$f":"IFERROR(ROUND(VLOOKUP(CONCATENATE(I$5,$C25),'trend data'!$A$2:$O$11161,I$6,FALSE),4),\"-\")","v":38.29},{"$f":"IFERROR(ROUND(VLOOKUP(CONCATENATE(J$5,$C25),'trend data'!$A$2:$O$11161,J$6,FALSE),4),\"-\")","v":35.072099999999999},{"$f":"IFERROR(ROUND(VLOOKUP(CONCATENATE(K$5,$C25),'trend data'!$A$2:$O$11161,K$6,FALSE),4),\"-\")","v":41.723599999999998},{"$f":"VLOOKUP(CONCATENATE(L$5,$C25),'trend data'!$A$2:$O$11161,L$6,FALSE)","v":1357793},{"$f":"ROUND(VLOOKUP(CONCATENATE(M$5,$C25),'trend data'!$A$2:$O$11161,M$6,FALSE),2)","v":1360669.95}]
[202101,"2021-03-31",{"$f":"CONCATENATE(A26,'ECOLI Data and Charts'!B$1)","v":"202101Scotland"},{"$f":"IFERROR(VLOOKUP(CONCATENATE(D$5,$C26),'trend data'!$A$2:$O$11161,D$6,FALSE),\"-\")","v":468},{"$f":"ROUND(VLOOKUP(CONCATENATE(E$5,$C26),'trend data'!$A$2:$O$11161,E$6,FALSE),4)","v":34.619300000000003},{"$f":"ROUND(VLOOKUP(CONCATENATE(F$5,$C26),'trend data'!$A$2:$O$11161,F$6,FALSE),4)","v":31.5533},{"$f":"ROUND(VLOOKUP(CONCATENATE(G$5,$C26),'trend data'!$A$2:$O$11161,G$6,FALSE),4)","v":37.902700000000003},{"$f":"IFERROR(VLOOKUP(CONCATENATE(H$5,$C26),'trend data'!$A$2:$O$11161,H$6,FALSE),\"-\")","v":493},{"$f":"IFERROR(ROUND(VLOOKUP(CONCATENATE(I$5,$C26),'trend data'!$A$2:$O$11161,I$6,FALSE),4),\"-\")","v":36.9},{"$f":"IFERROR(ROUND(VLOOKUP(CONCATENATE(J$5,$C26),'trend data'!$A$2:$O$11161,J$6,FALSE),4),\"-\")","v":33.714100000000002},{"$f":"IFERROR(ROUND(VLOOKUP(CONCATENATE(K$5,$C26),'trend data'!$A$2:$O$11161,K$6,FALSE),4),\"-\")","v":40.305799999999998},{"$f":"VLOOKUP(CONCATENATE(L$5,$C26),'trend data'!$A$2:$O$11161,L$6,FALSE)","v":1351847},{"$f":"ROUND(VLOOKUP(CONCATENATE(M$5,$C26),'trend data'!$A$2:$O$11161,M$6,FALSE),2)","v":1336043.8400000001}]
[202102,"2021-06-30",{"$f":"CONCATENATE(A27,'ECOLI Data and Charts'!B$1)","v":"202102Scotland"},{"$f":"IFERROR(VLOOKUP(CONCATENATE(D$5,$C27),'trend data'!$A$2:$O$11161,D$6,FALSE),\"-\")","v":532},{"$f":"ROUND(VLOOKUP(CONCATENATE(E$5,$C27),'trend data'!$A$2:$O$11161,E$6,FALSE),4)","v":38.158999999999999},{"$f":"ROUND(VLOOKUP(CONCATENATE(F$5,$C27),'trend data'!$A$2:$O$11161,F$6,FALSE),4)","v":34.984699999999997},{"$f":"ROUND(VLOOKUP(CONCATENATE(G$5,$C27),'trend data'!$A$2:$O$11161,G$6,FALSE),4)","v":41.543799999999997},{"$f":"IFERROR(VLOOKUP(CONCATENATE(H$5,$C27),'trend data'!$A$2:$O$11161,H$6,FALSE),\"-\")","v":570},{"$f":"IFERROR(ROUND(VLOOKUP(CONCATENATE(I$5,$C27),'trend data'!$A$2:$O$11161,I$6,FALSE),4),\"-\")","v":42.194400000000002},{"$f":"IFERROR(ROUND(VLOOKUP(CONCATENATE(J$5,$C27),'trend data'!$A$2:$O$11161,J$6,FALSE),4),\"-\")","v":38.801099999999998},{"$f":"IFERROR(ROUND(VLOOKUP(CONCATENATE(K$5,$C27),'trend data'!$A$2:$O$11161,K$6,FALSE),4),\"-\")","v":45.805100000000003},{"$f":"VLOOKUP(CONCATENATE(L$5,$C27),'trend data'!$A$2:$O$11161,L$6,FALSE)","v":1394168},{"$f":"ROUND(VLOOKUP(CONCATENATE(M$5,$C27),'trend data'!$A$2:$O$11161,M$6,FALSE),2)","v":1350888.77}]
[202103,"2021-09-01",{"$f":"CONCATENATE(A28,'ECOLI Data and Charts'!B$1)","v":"202103Scotland"},{"$f":"IFERROR(VLOOKUP(CONCATENATE(D$5,$C28),'trend data'!$A$2:$O$11161,D$6,FALSE),\"-\")","v":604},{"$f":"ROUND(VLOOKUP(CONCATENATE(E$5,$C28),'trend data'!$A$2:$O$11161,E$6,FALSE),4)","v":41.4739},{"$f":"ROUND(VLOOKUP(CONCATENATE(F$5,$C28),'trend data'!$A$2:$O$11161,F$6,FALSE),4)","v":38.231699999999996},{"$f":"ROUND(VLOOKUP(CONCATENATE(G$5,$C28),'trend data'!$A$2:$O$11161,G$6,FALSE),4)","v":44.917400000000001},{"$f":"IFERROR(VLOOKUP(CONCATENATE(H$5,$C28),'trend data'!$A$2:$O$11161,H$6,FALSE),\"-\")","v":566},{"$f":"IFERROR(ROUND(VLOOKUP(CONCATENATE(I$5,$C28),'trend data'!$A$2:$O$11161,I$6,FALSE),4),\"-\")","v":41.442900000000002},{"$f":"IFERROR(ROUND(VLOOKUP(CONCATENATE(J$5,$C28),'trend data'!$A$2:$O$11161,J$6,FALSE),4),\"-\")","v":38.098500000000001},{"$f":"IFERROR(ROUND(VLOOKUP(CONCATENATE(K$5,$C28),'trend data'!$A$2:$O$11161,K$6,FALSE),4),\"-\")","v":45.002299999999998},{"$f":"VLOOKUP(CONCATENATE(L$5,$C28),'trend data'!$A$2:$O$11161,L$6,FALSE)","v":1456339},{"$f":"ROUND(VLOOKUP(CONCATENATE(M$5,$C28),'trend data'!$A$2:$O$11161,M$6,FALSE),2)","v":1365733.7}]
[202104,"2021-12-01",{"$f":"CONCATENATE(A29,'ECOLI Data and Charts'!B$1)","v":"202104Scotland"},{"$f":"IFERROR(VLOOKUP(CONCATENATE(D$5,$C29),'trend data'!$A$2:$O$11161,D$6,FALSE),\"-\")","v":509},{"$f":"ROUND(VLOOKUP(CONCATENATE(E$5,$C29),'trend data'!$A$2:$O$11161,E$6,FALSE),4)","v":34.073999999999998},{"$f":"ROUND(VLOOKUP(CONCATENATE(F$5,$C29),'trend data'!$A$2:$O$11161,F$6,FALSE),4)","v":31.177700000000002},{"$f":"ROUND(VLOOKUP(CONCATENATE(G$5,$C29),'trend data'!$A$2:$O$11161,G$6,FALSE),4)","v":37.167000000000002},{"$f":"IFERROR(VLOOKUP(CONCATENATE(H$5,$C29),'trend data'!$A$2:$O$11161,H$6,FALSE),\"-\")","v":549},{"$f":"IFERROR(ROUND(VLOOKUP(CONCATENATE(I$5,$C29),'trend data'!$A$2:$O$11161,I$6,FALSE),4),\"-\")","v":40.1982},{"$f":"IFERROR(ROUND(VLOOKUP(CONCATENATE(J$5,$C29),'trend data'!$A$2:$O$11161,J$6,FALSE),4),\"-\")","v":36.9054},{"$f":"IFERROR(ROUND(VLOOKUP(CONCATENATE(K$5,$C29),'trend data'!$A$2:$O$11161,K$6,FALSE),4),\"-\")","v":43.7059},{"$f":"VLOOKUP(CONCATENATE(L$5,$C29),'trend data'!$A$2:$O$11161,L$6,FALSE)","v":1493807},{"$f":"ROUND(VLOOKUP(CONCATENATE(M$5,$C29),'trend data'!$A$2:$O$11161,M$6,FALSE),2)","v":1365733.7}]
[202201,"2022-03-01",{"$f":"CONCATENATE(A30,'ECOLI Data and Charts'!B$1)","v":"202201Scotland"},{"$f":"IFERROR(VLOOKUP(CONCATENATE(D$5,$C30),'trend data'!$A$2:$O$11161,D$6,FALSE),\"-\")","v":452},{"$f":"ROUND(VLOOKUP(CONCATENATE(E$5,$C30),'trend data'!$A$2:$O$11161,E$6,FALSE),4)","v":30.518799999999999},{"$f":"ROUND(VLOOKUP(CONCATENATE(F$5,$C30),'trend data'!$A$2:$O$11161,F$6,FALSE),4)","v":27.7697},{"$f":"ROUND(VLOOKUP(CONCATENATE(G$5,$C30),'trend data'!$A$2:$O$11161,G$6,FALSE),4)","v":33.4664},{"$f":"IFERROR(VLOOKUP(CONCATENATE(H$5,$C30),'trend data'!$A$2:$O$11161,H$6,FALSE),\"-\")","v":528},{"$f":"IFERROR(ROUND(VLOOKUP(CONCATENATE(I$5,$C30),'trend data'!$A$2:$O$11161,I$6,FALSE),4),\"-\")","v":39.307099999999998},{"$f":"IFERROR(ROUND(VLOOKUP(CONCATENATE(J$5,$C30),'trend data'!$A$2:$O$11161,J$6,FALSE),4),\"-\")","v":36.025300000000001},{"$f":"IFERROR(ROUND(VLOOKUP(CONCATENATE(K$5,$C30),'trend data'!$A$2:$O$11161,K$6,FALSE),4),\"-\")","v":42.807499999999997},{"$f":"VLOOKUP(CONCATENATE(L$5,$C30),'trend data'!$A$2:$O$11161,L$6,FALSE)","v":1481054},{"$f":"ROUND(VLOOKUP(CONCATENATE(M$5,$C30),'trend data'!$A$2:$O$11161,M$6,FALSE),2)","v":1343268.49}]
[202202,"2022-06-01",{"$f":"CONCATENATE(A31,'ECOLI Data and Charts'!B$1)","v":"202202Scotland"},{"$f":"IFERROR(VLOOKUP(CONCATENATE(D$5,$C31),'trend data'!$A$2:$O$11161,D$6,FALSE),\"-\")","v":528},{"$f":"ROUND(VLOOKUP(CONCATENATE(E$5,$C31),'trend data'!$A$2:$O$11161,E$6,FALSE),4)","v":34.820900000000002},{"$f":"ROUND(VLOOKUP(CONCATENATE(F$5,$C31),'trend data'!$A$2:$O$11161,F$6,FALSE),4)","v":31.913599999999999},{"$f":"ROUND(VLOOKUP(CONCATENATE(G$5,$C31),'trend data'!$A$2:$O$11161,G$6,FALSE),4)","v":37.921799999999998},{"$f":"IFERROR(VLOOKUP(CONCATENATE(H$5,$C31),'trend data'!$A$2:$O$11161,H$6,FALSE),\"-\")","v":529},{"$f":"IFERROR(ROUND(VLOOKUP(CONCATENATE(I$5,$C31),'trend data'!$A$2:$O$11161,I$6,FALSE),4),\"-\")","v":38.948799999999999},{"$f":"IFERROR(ROUND(VLOOKUP(CONCATENATE(J$5,$C31),'trend data'!$A$2:$O$11161,J$6,FALSE),4),\"-\")","v":35.6999},{"$f":"IFERROR(ROUND(VLOOKUP(CONCATENATE(K$5,$C31),'trend data'!$A$2:$O$11161,K$6,FALSE),4),\"-\")","v":42.413899999999998},{"$f":"VLOOKUP(CONCATENATE(L$5,$C31),'trend data'!$A$2:$O$11161,L$6,FALSE)","v":1516331},{"$f":"ROUND(VLOOKUP(CONCATENATE(M$5,$C31),'trend data'!$A$2:$O$11161,M$6,FALSE),2)","v":1358193.7}]
[202203,"2022-09-30",{"$f":"CONCATENATE(A32,'ECOLI Data and Charts'!B$1)","v":"202203Scotland"},{"$f":"IFERROR(VLOOKUP(CONCATENATE(D$5,$C32),'trend data'!$A$2:$O$11161,D$6,FALSE),\"-\")","v":560},{"$f":"ROUND(VLOOKUP(CONCATENATE(E$5,$C32),'trend data'!$A$2:$O$11161,E$6,FALSE),4)","v":36.228700000000003},{"$f":"ROUND(VLOOKUP(CONCATENATE(F$5,$C32),'trend data'!$A$2:$O$11161,F$6,FALSE),4)","v":33.289700000000003},{"$f":"ROUND(VLOOKUP(CONCATENATE(G$5,$C32),'trend data'!$A$2:$O$11161,G$6,FALSE),4)","v":39.357500000000002},{"$f":"IFERROR(VLOOKUP(CONCATENATE(H$5,$C32),'trend data'!$A$2:$O$11161,H$6,FALSE),\"-\")","v":577},{"$f":"IFERROR(ROUND(VLOOKUP(CONCATENATE(I$5,$C32),'trend data'!$A$2:$O$11161,I$6,FALSE),4),\"-\")","v":42.021099999999997},{"$f":"IFERROR(ROUND(VLOOKUP(CONCATENATE(J$5,$C32),'trend data'!$A$2:$O$11161,J$6,FALSE),4),\"-\")","v":38.661799999999999},{"$f":"IFERROR(ROUND(VLOOKUP(CONCATENATE(K$5,$C32),'trend data'!$A$2:$O$11161,K$6,FALSE),4),\"-\")","v":45.594200000000001},{"$f":"VLOOKUP(CONCATENATE(L$5,$C32),'trend data'!$A$2:$O$11161,L$6,FALSE)","v":1545737},{"$f":"ROUND(VLOOKUP(CONCATENATE(M$5,$C32),'trend data'!$A$2:$O$11161,M$6,FALSE),2)","v":1373118.9}]
[202204,"2022-12-31",{"$f":"CONCATENATE(A33,'ECOLI Data and Charts'!B$1)","v":"202204Scotland"},{"$f":"IFERROR(VLOOKUP(CONCATENATE(D$5,$C33),'trend data'!$A$2:$O$11161,D$6,FALSE),\"-\")","v":549},{"$f":"ROUND(VLOOKUP(CONCATENATE(E$5,$C33),'trend data'!$A$2:$O$11161,E$6,FALSE),4)","v":34.9893},{"$f":"ROUND(VLOOKUP(CONCATENATE(F$5,$C33),'trend data'!$A$2:$O$11161,F$6,FALSE),4)","v":32.123199999999997},{"$f":"ROUND(VLOOKUP(CONCATENATE(G$5,$C33),'trend data'!$A$2:$O$11161,G$6,FALSE),4)","v":38.042499999999997},{"$f":"IFERROR(VLOOKUP(CONCATENATE(H$5,$C33),'trend data'!$A$2:$O$11161,H$6,FALSE),\"-\")","v":495},{"$f":"IFERROR(ROUND(VLOOKUP(CONCATENATE(I$5,$C33),'trend data'!$A$2:$O$11161,I$6,FALSE),4),\"-\")","v":36.049300000000002},{"$f":"IFERROR(ROUND(VLOOKUP(CONCATENATE(J$5,$C33),'trend data'!$A$2:$O$11161,J$6,FALSE),4),\"-\")","v":32.942999999999998},{"$f":"IFERROR(ROUND(VLOOKUP(CONCATENATE(K$5,$C33),'trend data'!$A$2:$O$11161,K$6,FALSE),4),\"-\")","v":39.369599999999998},{"$f":"VLOOKUP(CONCATENATE(L$5,$C33),'trend data'!$A$2:$O$11161,L$6,FALSE)","v":1569052},{"$f":"ROUND(VLOOKUP(CONCATENATE(M$5,$C33),'trend data'!$A$2:$O$11161,M$6,FALSE),2)","v":1373118.9}]
[202301,"2023-03-31",{"$f":"CONCATENATE(A34,'ECOLI Data and Charts'!B$1)","v":"202301Scotland"},{"$f":"IFERROR(VLOOKUP(CONCATENATE(D$5,$C34),'trend data'!$A$2:$O$11161,D$6,FALSE),\"-\")","v":588},{"$f":"ROUND(VLOOKUP(CONCATENATE(E$5,$C34),'trend data'!$A$2:$O$11161,E$6,FALSE),4)","v":37.478099999999998},{"$f":"ROUND(VLOOKUP(CONCATENATE(F$5,$C34),'trend data'!$A$2:$O$11161,F$6,FALSE),4)","v":34.509599999999999},{"$f":"ROUND(VLOOKUP(CONCATENATE(G$5,$C34),'trend data'!$A$2:$O$11161,G$6,FALSE),4)","v":40.633699999999997},{"$f":"IFERROR(VLOOKUP(CONCATENATE(H$5,$C34),'trend data'!$A$2:$O$11161,H$6,FALSE),\"-\")","v":497},{"$f":"IFERROR(ROUND(VLOOKUP(CONCATENATE(I$5,$C34),'trend data'!$A$2:$O$11161,I$6,FALSE),4),\"-\")","v":36.999299999999998},{"$f":"IFERROR(ROUND(VLOOKUP(CONCATENATE(J$5,$C34),'trend data'!$A$2:$O$11161,J$6,FALSE),4),\"-\")","v":33.817399999999999},{"$f":"IFERROR(ROUND(VLOOKUP(CONCATENATE(K$5,$C34),'trend data'!$A$2:$O$11161,K$6,FALSE),4),\"-\")","v":40.399900000000002},{"$f":"VLOOKUP(CONCATENATE(L$5,$C34),'trend data'!$A$2:$O$11161,L$6,FALSE)","v":1568916},{"$f":"ROUND(VLOOKUP(CONCATENATE(M$5,$C34),'trend data'!$A$2:$O$11161,M$6,FALSE),2)","v":1343268.49}]
[202302,"2023-06-30",{"$f":"CONCATENATE(A35,'ECOLI Data and Charts'!B$1)","v":"202302Scotland"},{"$f":"IFERROR(VLOOKUP(CONCATENATE(D$5,$C35),'trend data'!$A$2:$O$11161,D$6,FALSE),\"-\")","v":581},{"$f":"ROUND(VLOOKUP(CONCATENATE(E$5,$C35),'trend data'!$A$2:$O$11161,E$6,FALSE),4)","v":37.613399999999999},{"$f":"ROUND(VLOOKUP(CONCATENATE(F$5,$C35),'trend data'!$A$2:$O$11161,F$6,FALSE),4)","v":34.616599999999998},{"$f":"ROUND(VLOOKUP(CONCATENATE(G$5,$C35),'trend data'!$A$2:$O$11161,G$6,FALSE),4)","v":40.800199999999997},{"$f":"IFERROR(VLOOKUP(CONCATENATE(H$5,$C35),'trend data'!$A$2:$O$11161,H$6,FALSE),\"-\")","v":502},{"$f":"IFERROR(ROUND(VLOOKUP(CONCATENATE(I$5,$C35),'trend data'!$A$2:$O$11161,I$6,FALSE),4),\"-\")","v":36.960900000000002},{"$f":"IFERROR(ROUND(VLOOKUP(CONCATENATE(J$5,$C35),'trend data'!$A$2:$O$11161,J$6,FALSE),4),\"-\")","v":33.797800000000002},{"$f":"IFERROR(ROUND(VLOOKUP(CONCATENATE(K$5,$C35),'trend data'!$A$2:$O$11161,K$6,FALSE),4),\"-\")","v":40.340200000000003},{"$f":"VLOOKUP(CONCATENATE(L$5,$C35),'trend data'!$A$2:$O$11161,L$6,FALSE)","v":1544662},{"$f":"ROUND(VLOOKUP(CONCATENATE(M$5,$C35),'trend data'!$A$2:$O$11161,M$6,FALSE),2)","v":1358193.7}]
[202303,"2023-09-30",{"$f":"CONCATENATE(A36,'ECOLI Data and Charts'!B$1)","v":"202303Scotland"},{"$f":"IFERROR(VLOOKUP(CONCATENATE(D$5,$C36),'trend data'!$A$2:$O$11161,D$6,FALSE),\"-\")","v":580},{"$f":"ROUND(VLOOKUP(CONCATENATE(E$5,$C36),'trend data'!$A$2:$O$11161,E$6,FALSE),4)","v":37.717100000000002},{"$f":"ROUND(VLOOKUP(CONCATENATE(F$5,$C36),'trend data'!$A$2:$O$11161,F$6,FALSE),4)","v":34.709499999999998},{"$f":"ROUND(VLOOKUP(CONCATENATE(G$5,$C36),'trend data'!$A$2:$O$11161,G$6,FALSE),4)","v":40.915500000000002},{"$f":"IFERROR(VLOOKUP(CONCATENATE(H$5,$C36),'trend data'!$A$2:$O$11161,H$6,FALSE),\"-\")","v":575},{"$f":"IFERROR(ROUND(VLOOKUP(CONCATENATE(I$5,$C36),'trend data'!$A$2:$O$11161,I$6,FALSE),4),\"-\")","v":41.875500000000002},{"$f":"IFERROR(ROUND(VLOOKUP(CONCATENATE(J$5,$C36),'trend data'!$A$2:$O$11161,J$6,FALSE),4),\"-\")","v":38.522100000000002},{"$f":"IFERROR(ROUND(VLOOKUP(CONCATENATE(K$5,$C36),'trend data'!$A$2:$O$11161,K$6,FALSE),4),\"-\")","v":45.442599999999999},{"$f":"VLOOKUP(CONCATENATE(L$5,$C36),'trend data'!$A$2:$O$11161,L$6,FALSE)","v":1537764},{"$f":"ROUND(VLOOKUP(CONCATENATE(M$5,$C36),'trend data'!$A$2:$O$11161,M$6,FALSE),2)","v":1373118.9}]
[202304,"2023-12-31",{"$f":"CONCATENATE(A37,'ECOLI Data and Charts'!B$1)","v":"202304Scotland"},{"$f":"IFERROR(VLOOKUP(CONCATENATE(D$5,$C37),'trend data'!$A$2:$O$11161,D$6,FALSE),\"-\")","v":544},{"$f":"ROUND(VLOOKUP(CONCATENATE(E$5,$C37),'trend data'!$A$2:$O$11161,E$6,FALSE),4)","v":34.734499999999997},{"$f":"ROUND(VLOOKUP(CONCATENATE(F$5,$C37),'trend data'!$A$2:$O$11161,F$6,FALSE),4)","v":31.8765},{"$f":"ROUND(VLOOKUP(CONCATENATE(G$5,$C37),'trend data'!$A$2:$O$11161,G$6,FALSE),4)","v":37.779899999999998},{"$f":"IFERROR(VLOOKUP(CONCATENATE(H$5,$C37),'trend data'!$A$2:$O$11161,H$6,FALSE),\"-\")","v":442},{"$f":"IFERROR(ROUND(VLOOKUP(CONCATENATE(I$5,$C37),'trend data'!$A$2:$O$11161,I$6,FALSE),4),\"-\")","v":32.189500000000002},{"$f":"IFERROR(ROUND(VLOOKUP(CONCATENATE(J$5,$C37),'trend data'!$A$2:$O$11161,J$6,FALSE),4),\"-\")","v":29.257999999999999},{"$f":"IFERROR(ROUND(VLOOKUP(CONCATENATE(K$5,$C37),'trend data'!$A$2:$O$11161,K$6,FALSE),4),\"-\")","v":35.335099999999997},{"$f":"VLOOKUP(CONCATENATE(L$5,$C37),'trend data'!$A$2:$O$11161,L$6,FALSE)","v":1566168},{"$f":"ROUND(VLOOKUP(CONCATENATE(M$5,$C37),'trend data'!$A$2:$O$11161,M$6,FALSE),2)","v":1373118.9}]
[202401,"2024-03-31",{"$f":"CONCATENATE(A38,'ECOLI Data and Charts'!B$1)","v":"202401Scotland"},{"$f":"IFERROR(VLOOKUP(CONCATENATE(D$5,$C38),'trend data'!$A$2:$O$11161,D$6,FALSE),\"-\")","v":565},{"$f":"ROUND(VLOOKUP(CONCATENATE(E$5,$C38),'trend data'!$A$2:$O$11161,E$6,FALSE),4)","v":35.518700000000003},{"$f":"ROUND(VLOOKUP(CONCATENATE(F$5,$C38),'trend data'!$A$2:$O$11161,F$6,FALSE),4)","v":32.649900000000002},{"$f":"ROUND(VLOOKUP(CONCATENATE(G$5,$C38),'trend data'!$A$2:$O$11161,G$6,FALSE),4)","v":38.572099999999999},{"$f":"IFERROR(VLOOKUP(CONCATENATE(H$5,$C38),'trend data'!$A$2:$O$11161,H$6,FALSE),\"-\")","v":504},{"$f":"IFERROR(ROUND(VLOOKUP(CONCATENATE(I$5,$C38),'trend data'!$A$2:$O$11161,I$6,FALSE),4),\"-\")","v":37.209800000000001},{"$f":"IFERROR(ROUND(VLOOKUP(CONCATENATE(J$5,$C38),'trend data'!$A$2:$O$11161,J$6,FALSE),4),\"-\")","v":34.031599999999997},{"$f":"IFERROR(ROUND(VLOOKUP(CONCATENATE(K$5,$C38),'trend data'!$A$2:$O$11161,K$6,FALSE),4),\"-\")","v":40.604799999999997},{"$f":"VLOOKUP(CONCATENATE(L$5,$C38),'trend data'!$A$2:$O$11161,L$6,FALSE)","v":1590711},{"$f":"ROUND(VLOOKUP(CONCATENATE(M$5,$C38),'trend data'!$A$2:$O$11161,M$6,FALSE),2)","v":1354482.79}]
[202402,"2024-06-30",{"$f":"CONCATENATE(A39,'ECOLI Data and Charts'!B$1)","v":"202402Scotland"},{"$f":"IFERROR(VLOOKUP(CONCATENATE(D$5,$C39),'trend data'!$A$2:$O$11161,D$6,FALSE),\"-\")","v":614},{"$f":"ROUND(VLOOKUP(CONCATENATE(E$5,$C39),'trend data'!$A$2:$O$11161,E$6,FALSE),4)","v":39.432899999999997},{"$f":"ROUND(VLOOKUP(CONCATENATE(F$5,$C39),'trend data'!$A$2:$O$11161,F$6,FALSE),4)","v":36.375},{"$f":"ROUND(VLOOKUP(CONCATENATE(G$5,$C39),'trend data'!$A$2:$O$11161,G$6,FALSE),4)","v":42.679200000000002},{"$f":"IFERROR(VLOOKUP(CONCATENATE(H$5,$C39),'trend data'!$A$2:$O$11161,H$6,FALSE),\"-\")","v":490},{"$f":"IFERROR(ROUND(VLOOKUP(CONCATENATE(I$5,$C39),'trend data'!$A$2:$O$11161,I$6,FALSE),4),\"-\")","v":36.176200000000001},{"$f":"IFERROR(ROUND(VLOOKUP(CONCATENATE(J$5,$C39),'trend data'!$A$2:$O$11161,J$6,FALSE),4),\"-\")","v":33.043399999999998},{"$f":"IFERROR(ROUND(VLOOKUP(CONCATENATE(K$5,$C39),'trend data'!$A$2:$O$11161,K$6,FALSE),4),\"-\")","v":39.525799999999997},{"$f":"VLOOKUP(CONCATENATE(L$5,$C39),'trend data'!$A$2:$O$11161,L$6,FALSE)","v":1557075},{"$f":"ROUND(VLOOKUP(CONCATENATE(M$5,$C39),'trend data'!$A$2:$O$11161,M$6,FALSE),2)","v":1354482.79}]

{"sheet":"SSI data","index":6,"n_rows":49,"n_cols":29,"rows_kept":49,"cut":false,"hidden":true,"merged":[]}
["Trend data",null,null,null,null,null,null,null,null,null,null,null,null,null,null,null,"data for u-charts"]
[]
["add a new line for current quarter"]
[null,null,null,null,null,null,null,null,null,null,null,null,null,null,null,null,null,null,null,"change this"]
[null,null,null,"SSICSEC","SSICSEC","SSICSEC","SSICSEC","SSIHIP","SSIHIP","SSIHIP","SSIHIP","SSICSEC","SSIHIP",null,null,null,null,null,"current quarter end","2024-06-30",3,4,5,6,null,3,4,5,6]
[null,null,null,2,4,5,6,2,4,5,6,3,3]
[null,null,"ref","C SEC cases","C SEC prop","C SEC_lower_CI","C SEC_upper_CI","HIP cases","HIP prop","HIP_lower_CI","HIP_upper_CI","C SEC OPS","HIP OPS",null,null,null,null,null,null,null,"SSICSEC",null,null,null,null,"SSIHIP"]
["201401","2014-03-24",{"$f":"CONCATENATE(A8,'SSI Data and Charts'!B$1)","v":"201401Scotland"},{"$f":"IFERROR(VLOOKUP(CONCATENATE(D$5,$C8),'trend data'!$A$2:$O$11161,D$6,FALSE),\"-\")","v":61},{"$f":"IFERROR(ROUND(VLOOKUP(CONCATENATE(E$5,$C8),'trend data'!$A$2:$O$11161,E$6,FALSE),3),\"-\")","v":1.526},{"$f":"IFERROR(ROUND(VLOOKUP(CONCATENATE(F$5,$C8),'trend data'!$A$2:$O$11161,F$6,FALSE),3),\"-\")","v":1.19},{"$f":"IFERROR(ROUND(VLOOKUP(CONCATENATE(G$5,$C8),'trend data'!$A$2:$O$11161,G$6,FALSE),3),\"-\")","v":1.9550000000000001},{"$f":"IFERROR(VLOOKUP(CONCATENATE(H$5,$C8),'trend data'!$A$2:$O$11161,H$6,FALSE),\"-\")","v":16},{"$f":"IFERROR(ROUND(VLOOKUP(CONCATENATE(I$5,$C8),'trend data'!$A$2:$O$11161,I$6,FALSE),3),\"-\")","v":0.76},{"$f":"IFERROR(ROUND(VLOOKUP(CONCATENATE(J$5,$C8),'trend data'!$A$2:$O$11161,J$6,FALSE),3),\"-\")","v":0.46800000000000003},{"$f":"IFERROR(ROUND(VLOOKUP(CONCATENATE(K$5,$C8),'trend data'!$A$2:$O$11161,K$6,FALSE),3),\"-\")","v":1.2310000000000001},{"$f":"IFERROR(VLOOKUP(CONCATENATE(L$5,$C8),'trend data'!$A$2:$O$11161,L$6,FALSE),\"-\")","v":3998},{"$f":"IFERROR(VLOOKUP(CONCATENATE(M$5,$C8),'trend data'!$A$2:$O$11161,M$6,FALSE),\"-\")","v":2106},null,null,null,"change to last 12 quarters",null,null,null,"C SEC prop","C SEC av prop","C SEC UWL 2sd","C SEC UCL 3sd",null,"HIP prop","HIP av prop","HIP UWL 2sd","HIP UCL 3 sd"]
["201402","2014-06-27",{"$f":"CONCATENATE(A9,'SSI Data and Charts'!B$1)","v":"201402Scotland"},{"$f":"IFERROR(VLOOKUP(CONCATENATE(D$5,$C9),'trend data'!$A$2:$O$11161,D$6,FALSE),\"-\")","v":58},{"$f":"IFERROR(ROUND(VLOOKUP(CONCATENATE(E$5,$C9),'trend data'!$A$2:$O$11161,E$6,FALSE),3),\"-\")","v":1.4139999999999999},{"$f":"IFERROR(ROUND(VLOOKUP(CONCATENATE(F$5,$C9),'trend data'!$A$2:$O$11161,F$6,FALSE),3),\"-\")","v":1.095},{"$f":"IFERROR(ROUND(VLOOKUP(CONCATENATE(G$5,$C9),'trend data'!$A$2:$O$11161,G$6,FALSE),3),\"-\")","v":1.823},{"$f":"IFERROR(VLOOKUP(CONCATENATE(H$5,$C9),'trend data'!$A$2:$O$11161,H$6,FALSE),\"-\")","v":13},{"$f":"IFERROR(ROUND(VLOOKUP(CONCATENATE(I$5,$C9),'trend data'!$A$2:$O$11161,I$6,FALSE),3),\"-\")","v":0.62},{"$f":"IFERROR(ROUND(VLOOKUP(CONCATENATE(J$5,$C9),'trend data'!$A$2:$O$11161,J$6,FALSE),3),\"-\")","v":0.36199999999999999},{"$f":"IFERROR(ROUND(VLOOKUP(CONCATENATE(K$5,$C9),'trend data'!$A$2:$O$11161,K$6,FALSE),3),\"-\")","v":1.0569999999999999},{"$f":"IFERROR(VLOOKUP(CONCATENATE(L$5,$C9),'trend data'!$A$2:$O$11161,L$6,FALSE),\"-\")","v":4103},{"$f":"IFERROR(VLOOKUP(CONCATENATE(M$5,$C9),'trend data'!$A$2:$O$11161,M$6,FALSE),\"-\")","v":2098},null,null,null,{"$f":"YEAR(T9)&\"0\"&IF(MONTH(T9)<4,1,IF(MONTH(T9)<7,2,IF(MONTH(T9)<10,3,4)))","v":"202103"},{"$f":"CONCATENATE(U$7,$Q9,'SSI Data and Charts'!B$1)","v":"SSICSEC202103Scotland"},1,{"$f":"T10-92","v":"2021-09-22"},{"$f":"ROUND(VLOOKUP($R9,'data for u-p-charts'!$A$2:$F$5000,U$5,FALSE),2)","v":{"$error":"#N/A"}},{"$f":"ROUND(VLOOKUP($R9,'data for u-p-charts'!$A$2:$F$5000,V$5,FALSE),2)","v":{"$error":"#N/A"}},{"$f":"ROUND(VLOOKUP($R9,'data for u-p-charts'!$A$2:$F$5000,W$5,FALSE),2)","v":{"$error":"#N/A"}},{"$f":"ROUND(VLOOKUP($R9,'data for u-p-charts'!$A$2:$F$5000,X$5,FALSE),2)","v":{"$error":"#N/A"}},{"$f":"CONCATENATE(Z$7,$Q9,'SSI Data and Charts'!$B$1)","v":"SSIHIP202103Scotland"},{"$f":"ROUND(VLOOKUP($Y9,'data for u-p-charts'!$A$2:$F$5000,Z$5,FALSE),2)","v":{"$error":"#N/A"}},{"$f":"ROUND(VLOOKUP($Y9,'data for u-p-charts'!$A$2:$F$5000,AA$5,FALSE),2)","v":{"$error":"#N/A"}},{"$f":"ROUND(VLOOKUP($Y9,'data for u-p-charts'!$A$2:$F$5000,AB$5,FALSE),2)","v":{"$error":"#N/A"}},{"$f":"ROUND(VLOOKUP($Y9,'data for u-p-charts'!$A$2:$F$5000,AC$5,FALSE),2)","v":{"$error":"#N/A"}}]
["201403","2014-09-30",{"$f":"CONCATENATE(A10,'SSI Data and Charts'!B$1)","v":"201403Scotland"},{"$f":"IFERROR(VLOOKUP(CONCATENATE(D$5,$C10),'trend data'!$A$2:$O$11161,D$6,FALSE),\"-\")","v":58},{"$f":"IFERROR(ROUND(VLOOKUP(CONCATENATE(E$5,$C10),'trend data'!$A$2:$O$11161,E$6,FALSE),3),\"-\")","v":1.2709999999999999},{"$f":"IFERROR(ROUND(VLOOKUP(CONCATENATE(F$5,$C10),'trend data'!$A$2:$O$11161,F$6,FALSE),3),\"-\")","v":0.98499999999999999},{"$f":"IFERROR(ROUND(VLOOKUP(CONCATENATE(G$5,$C10),'trend data'!$A$2:$O$11161,G$6,FALSE),3),\"-\")","v":1.64},{"$f":"IFERROR(VLOOKUP(CONCATENATE(H$5,$C10),'trend data'!$A$2:$O$11161,H$6,FALSE),\"-\")","v":16},{"$f":"IFERROR(ROUND(VLOOKUP(CONCATENATE(I$5,$C10),'trend data'!$A$2:$O$11161,I$6,FALSE),3),\"-\")","v":0.753},{"$f":"IFERROR(ROUND(VLOOKUP(CONCATENATE(J$5,$C10),'trend data'!$A$2:$O$11161,J$6,FALSE),3),\"-\")","v":0.46400000000000002},{"$f":"IFERROR(ROUND(VLOOKUP(CONCATENATE(K$5,$C10),'trend data'!$A$2:$O$11161,K$6,FALSE),3),\"-\")","v":1.22},{"$f":"IFERROR(VLOOKUP(CONCATENATE(L$5,$C10),'trend data'!$A$2:$O$11161,L$6,FALSE),\"-\")","v":4563},{"$f":"IFERROR(VLOOKUP(CONCATENATE(M$5,$C10),'trend data'!$A$2:$O$11161,M$6,FALSE),\"-\")","v":2125},null,null,null,{"$f":"YEAR(T10)&\"0\"&IF(MONTH(T10)<4,1,IF(MONTH(T10)<7,2,IF(MONTH(T10)<10,3,4)))","v":"202104"},{"$f":"CONCATENATE(U$7,$Q10,'SSI Data and Charts'!B$1)","v":"SSICSEC202104Scotland"},2,"2021-12-23",{"$f":"ROUND(VLOOKUP($R10,'data for u-p-charts'!$A$2:$F$5000,U$5,FALSE),2)","v":{"$error":"#N/A"}},{"$f":"ROUND(VLOOKUP($R10,'data for u-p-charts'!$A$2:$F$5000,V$5,FALSE),2)","v":{"$error":"#N/A"}},{"$f":"ROUND(VLOOKUP($R10,'data for u-p-charts'!$A$2:$F$5000,W$5,FALSE),2)","v":{"$error":"#N/A"}},{"$f":"ROUND(VLOOKUP($R10,'data for u-p-charts'!$A$2:$F$5000,X$5,FALSE),2)","v":{"$error":"#N/A"}},{"$f":"CONCATENATE(Z$7,$Q10,'SSI Data and Charts'!$B$1)","v":"SSIHIP202104Scotland"},{"$f":"ROUND(VLOOKUP($Y10,'data for u-p-charts'!$A$2:$F$5000,Z$5,FALSE),2)","v":{"$error":"#N/A"}},{"$f":"ROUND(VLOOKUP($Y10,'data for u-p-charts'!$A$2:$F$5000,AA$5,FALSE),2)","v":{"$error":"#N/A"}},{"$f":"ROUND(VLOOKUP($Y10,'data for u-p-charts'!$A$2:$F$5000,AB$5,FALSE),2)","v":{"$error":"#N/A"}},{"$f":"ROUND(VLOOKUP($Y10,'data for u-p-charts'!$A$2:$F$5000,AC$5,FALSE),2)","v":{"$error":"#N/A"}}]
[201404,"2014-12-19",{"$f":"CONCATENATE(A11,'SSI Data and Charts'!B$1)","v":"201404Scotland"},{"$f":"IFERROR(VLOOKUP(CONCATENATE(D$5,$C11),'trend data'!$A$2:$O$11161,D$6,FALSE),\"-\")","v":61},{"$f":"IFERROR(ROUND(VLOOKUP(CONCATENATE(E$5,$C11),'trend data'!$A$2:$O$11161,E$6,FALSE),3),\"-\")","v":1.4319999999999999},{"$f":"IFERROR(ROUND(VLOOKUP(CONCATENATE(F$5,$C11),'trend data'!$A$2:$O$11161,F$6,FALSE),3),\"-\")","v":1.1160000000000001},{"$f":"IFERROR(ROUND(VLOOKUP(CONCATENATE(G$5,$C11),'trend data'!$A$2:$O$11161,G$6,FALSE),3),\"-\")","v":1.835},{"$f":"IFERROR(VLOOKUP(CONCATENATE(H$5,$C11),'trend data'!$A$2:$O$11161,H$6,FALSE),\"-\")","v":12},{"$f":"IFERROR(ROUND(VLOOKUP(CONCATENATE(I$5,$C11),'trend data'!$A$2:$O$11161,I$6,FALSE),3),\"-\")","v":0.60799999999999998},{"$f":"IFERROR(ROUND(VLOOKUP(CONCATENATE(J$5,$C11),'trend data'!$A$2:$O$11161,J$6,FALSE),3),\"-\")","v":0.34799999999999998},{"$f":"IFERROR(ROUND(VLOOKUP(CONCATENATE(K$5,$C11),'trend data'!$A$2:$O$11161,K$6,FALSE),3),\"-\")","v":1.06},{"$f":"IFERROR(VLOOKUP(CONCATENATE(L$5,$C11),'trend data'!$A$2:$O$11161,L$6,FALSE),\"-\")","v":4261},{"$f":"IFERROR(VLOOKUP(CONCATENATE(M$5,$C11),'trend data'!$A$2:$O$11161,M$6,FALSE),\"-\")","v":1974},null,null,null,"202201",{"$f":"CONCATENATE(U$7,$Q11,'SSI Data and Charts'!B$1)","v":"SSICSEC202201Scotland"},3,"2022-03-25",{"$f":"ROUND(VLOOKUP($R11,'data for u-p-charts'!$A$2:$F$5000,U$5,FALSE),2)","v":{"$error":"#N/A"}},{"$f":"ROUND(VLOOKUP($R11,'data for u-p-charts'!$A$2:$F$5000,V$5,FALSE),2)","v":{"$error":"#N/A"}},{"$f":"ROUND(VLOOKUP($R11,'data for u-p-charts'!$A$2:$F$5000,W$5,FALSE),2)","v":{"$error":"#N/A"}},{"$f":"ROUND(VLOOKUP($R11,'data for u-p-charts'!$A$2:$F$5000,X$5,FALSE),2)","v":{"$error":"#N/A"}},{"$f":"CONCATENATE(Z$7,$Q11,'SSI Data and Charts'!$B$1)","v":"SSIHIP202201Scotland"},{"$f":"ROUND(VLOOKUP($Y11,'data for u-p-charts'!$A$2:$F$5000,Z$5,FALSE),2)","v":{"$error":"#N/A"}},{"$f":"ROUND(VLOOKUP($Y11,'data for u-p-charts'!$A$2:$F$5000,AA$5,FALSE),2)","v":{"$error":"#N/A"}},{"$f":"ROUND(VLOOKUP($Y11,'data for u-p-charts'!$A$2:$F$5000,AB$5,FALSE),2)","v":{"$error":"#N/A"}},{"$f":"ROUND(VLOOKUP($Y11,'data for u-p-charts'!$A$2:$F$5000,AC$5,FALSE),2)","v":{"$error":"#N/A"}}]
[201501,"2015-03-24",{"$f":"CONCATENATE(A12,'SSI Data and Charts'!B$1)","v":"201501Scotland"},{"$f":"IFERROR(VLOOKUP(CONCATENATE(D$5,$C12),'trend data'!$A$2:$O$11161,D$6,FALSE),\"-\")","v":47},{"$f":"IFERROR(ROUND(VLOOKUP(CONCATENATE(E$5,$C12),'trend data'!$A$2:$O$11161,E$6,FALSE),3),\"-\")","v":1.1850000000000001},{"$f":"IFERROR(ROUND(VLOOKUP(CONCATENATE(F$5,$C12),'trend data'!$A$2:$O$11161,F$6,FALSE),3),\"-\")","v":0.89200000000000002},{"$f":"IFERROR(ROUND(VLOOKUP(CONCATENATE(G$5,$C12),'trend data'!$A$2:$O$11161,G$6,FALSE),3),\"-\")","v":1.5720000000000001},{"$f":"IFERROR(VLOOKUP(CONCATENATE(H$5,$C12),'trend data'!$A$2:$O$11161,H$6,FALSE),\"-\")","v":18},{"$f":"IFERROR(ROUND(VLOOKUP(CONCATENATE(I$5,$C12),'trend data'!$A$2:$O$11161,I$6,FALSE),3),\"-\")","v":0.91900000000000004},{"$f":"IFERROR(ROUND(VLOOKUP(CONCATENATE(J$5,$C12),'trend data'!$A$2:$O$11161,J$6,FALSE),3),\"-\")","v":0.58199999999999996},{"$f":"IFERROR(ROUND(VLOOKUP(CONCATENATE(K$5,$C12),'trend data'!$A$2:$O$11161,K$6,FALSE),3),\"-\")","v":1.448},{"$f":"IFERROR(VLOOKUP(CONCATENATE(L$5,$C12),'trend data'!$A$2:$O$11161,L$6,FALSE),\"-\")","v":3966},{"$f":"IFERROR(VLOOKUP(CONCATENATE(M$5,$C12),'trend data'!$A$2:$O$11161,M$6,FALSE),\"-\")","v":1959},null,null,null,"202202",{"$f":"CONCATENATE(U$7,$Q12,'SSI Data and Charts'!B$1)","v":"SSICSEC202202Scotland"},4,"2022-06-25",{"$f":"ROUND(VLOOKUP($R12,'data for u-p-charts'!$A$2:$F$5000,U$5,FALSE),2)","v":{"$error":"#N/A"}},{"$f":"ROUND(VLOOKUP($R12,'data for u-p-charts'!$A$2:$F$5000,V$5,FALSE),2)","v":{"$error":"#N/A"}},{"$f":"ROUND(VLOOKUP($R12,'data for u-p-charts'!$A$2:$F$5000,W$5,FALSE),2)","v":{"$error":"#N/A"}},{"$f":"ROUND(VLOOKUP($R12,'data for u-p-charts'!$A$2:$F$5000,X$5,FALSE),2)","v":{"$error":"#N/A"}},{"$f":"CONCATENATE(Z$7,$Q12,'SSI Data and Charts'!$B$1)","v":"SSIHIP202202Scotland"},{"$f":"ROUND(VLOOKUP($Y12,'data for u-p-charts'!$A$2:$F$5000,Z$5,FALSE),2)","v":{"$error":"#N/A"}},{"$f":"ROUND(VLOOKUP($Y12,'data for u-p-charts'!$A$2:$F$5000,AA$5,FALSE),2)","v":{"$error":"#N/A"}},{"$f":"ROUND(VLOOKUP($Y12,'data for u-p-charts'!$A$2:$F$5000,AB$5,FALSE),2)","v":{"$error":"#N/A"}},{"$f":"ROUND(VLOOKUP($Y12,'data for u-p-charts'!$A$2:$F$5000,AC$5,FALSE),2)","v":{"$error":"#N/A"}}]
[201502,"2015-06-24",{"$f":"CONCATENATE(A13,'SSI Data and Charts'!B$1)","v":"201502Scotland"},{"$f":"IFERROR(VLOOKUP(CONCATENATE(D$5,$C13),'trend data'!$A$2:$O$11161,D$6,FALSE),\"-\")","v":56},{"$f":"IFERROR(ROUND(VLOOKUP(CONCATENATE(E$5,$C13),'trend data'!$A$2:$O$11161,E$6,FALSE),3),\"-\")","v":1.2849999999999999},{"$f":"IFERROR(ROUND(VLOOKUP(CONCATENATE(F$5,$C13),'trend data'!$A$2:$O$11161,F$6,FALSE),3),\"-\")","v":0.99099999999999999},{"$f":"IFERROR(ROUND(VLOOKUP(CONCATENATE(G$5,$C13),'trend data'!$A$2:$O$11161,G$6,FALSE),3),\"-\")","v":1.665},{"$f":"IFERROR(VLOOKUP(CONCATENATE(H$5,$C13),'trend data'!$A$2:$O$11161,H$6,FALSE),\"-\")","v":18},{"$f":"IFERROR(ROUND(VLOOKUP(CONCATENATE(I$5,$C13),'trend data'!$A$2:$O$11161,I$6,FALSE),3),\"-\")","v":0.83399999999999996},{"$f":"IFERROR(ROUND(VLOOKUP(CONCATENATE(J$5,$C13),'trend data'!$A$2:$O$11161,J$6,FALSE),3),\"-\")","v":0.52800000000000002},{"$f":"IFERROR(ROUND(VLOOKUP(CONCATENATE(K$5,$C13),'trend data'!$A$2:$O$11161,K$6,FALSE),3),\"-\")","v":1.3140000000000001},{"$f":"IFERROR(VLOOKUP(CONCATENATE(L$5,$C13),'trend data'!$A$2:$O$11161,L$6,FALSE),\"-\")","v":4358},{"$f":"IFERROR(VLOOKUP(CONCATENATE(M$5,$C13),'trend data'!$A$2:$O$11161,M$6,FALSE),\"-\")","v":2159},null,null,null,"202203",{"$f":"CONCATENATE(U$7,$Q13,'SSI Data and Charts'!B$1)","v":"SSICSEC202203Scotland"},5,"2022-09-25",{"$f":"ROUND(VLOOKUP($R13,'data for u-p-charts'!$A$2:$F$5000,U$5,FALSE),2)","v":{"$error":"#N/A"}},{"$f":"ROUND(VLOOKUP($R13,'data for u-p-charts'!$A$2:$F$5000,V$5,FALSE),2)","v":{"$error":"#N/A"}},{"$f":"ROUND(VLOOKUP($R13,'data for u-p-charts'!$A$2:$F$5000,W$5,FALSE),2)","v":{"$error":"#N/A"}},{"$f":"ROUND(VLOOKUP($R13,'data for u-p-charts'!$A$2:$F$5000,X$5,FALSE),2)","v":{"$error":"#N/A"}},{"$f":"CONCATENATE(Z$7,$Q13,'SSI Data and Charts'!$B$1)","v":"SSIHIP202203Scotland"},{"$f":"ROUND(VLOOKUP($Y13,'data for u-p-charts'!$A$2:$F$5000,Z$5,FALSE),2)","v":{"$error":"#N/A"}},{"$f":"ROUND(VLOOKUP($Y13,'data for u-p-charts'!$A$2:$F$5000,AA$5,FALSE),2)","v":{"$error":"#N/A"}},{"$f":"ROUND(VLOOKUP($Y13,'data for u-p-charts'!$A$2:$F$5000,AB$5,FALSE),2)","v":{"$error":"#N/A"}},{"$f":"ROUND(VLOOKUP($Y13,'data for u-p-charts'!$A$2:$F$5000,AC$5,FALSE),2)","v":{"$error":"#N/A"}}]
[201503,"2015-09-24",{"$f":"CONCATENATE(A14,'SSI Data and Charts'!B$1)","v":"201503Scotland"},{"$f":"IFERROR(VLOOKUP(CONCATENATE(D$5,$C14),'trend data'!$A$2:$O$11161,D$6,FALSE),\"-\")","v":56},{"$f":"IFERROR(ROUND(VLOOKUP(CONCATENATE(E$5,$C14),'trend data'!$A$2:$O$11161,E$6,FALSE),3),\"-\")","v":1.2410000000000001},{"$f":"IFERROR(ROUND(VLOOKUP(CONCATENATE(F$5,$C14),'trend data'!$A$2:$O$11161,F$6,FALSE),3),\"-\")","v":0.95699999999999996},{"$f":"IFERROR(ROUND(VLOOKUP(CONCATENATE(G$5,$C14),'trend data'!$A$2:$O$11161,G$6,FALSE),3),\"-\")","v":1.609},{"$f":"IFERROR(VLOOKUP(CONCATENATE(H$5,$C14),'trend data'!$A$2:$O$11161,H$6,FALSE),\"-\")","v":10},{"$f":"IFERROR(ROUND(VLOOKUP(CONCATENATE(I$5,$C14),'trend data'!$A$2:$O$11161,I$6,FALSE),3),\"-\")","v":0.46800000000000003},{"$f":"IFERROR(ROUND(VLOOKUP(CONCATENATE(J$5,$C14),'trend data'!$A$2:$O$11161,J$6,FALSE),3),\"-\")","v":0.255},{"$f":"IFERROR(ROUND(VLOOKUP(CONCATENATE(K$5,$C14),'trend data'!$A$2:$O$11161,K$6,FALSE),3),\"-\")","v":0.86},{"$f":"IFERROR(VLOOKUP(CONCATENATE(L$5,$C14),'trend data'!$A$2:$O$11161,L$6,FALSE),\"-\")","v":4511},{"$f":"IFERROR(VLOOKUP(CONCATENATE(M$5,$C14),'trend data'!$A$2:$O$11161,M$6,FALSE),\"-\")","v":2135},null,null,null,"202204",{"$f":"CONCATENATE(U$7,$Q14,'SSI Data and Charts'!B$1)","v":"SSICSEC202204Scotland"},6,"2022-12-26",{"$f":"ROUND(VLOOKUP($R14,'data for u-p-charts'!$A$2:$F$5000,U$5,FALSE),2)","v":{"$error":"#N/A"}},{"$f":"ROUND(VLOOKUP($R14,'data for u-p-charts'!$A$2:$F$5000,V$5,FALSE),2)","v":{"$error":"#N/A"}},{"$f":"ROUND(VLOOKUP($R14,'data for u-p-charts'!$A$2:$F$5000,W$5,FALSE),2)","v":{"$error":"#N/A"}},{"$f":"ROUND(VLOOKUP($R14,'data for u-p-charts'!$A$2:$F$5000,X$5,FALSE),2)","v":{"$error":"#N/A"}},{"$f":"CONCATENATE(Z$7,$Q14,'SSI Data and Charts'!$B$1)","v":"SSIHIP202204Scotland"},{"$f":"ROUND(VLOOKUP($Y14,'data for u-p-charts'!$A$2:$F$5000,Z$5,FALSE),2)","v":{"$error":"#N/A"}},{"$f":"ROUND(VLOOKUP($Y14,'data for u-p-charts'!$A$2:$F$5000,AA$5,FALSE),2)","v":{"$error":"#N/A"}},{"$f":"ROUND(VLOOKUP($Y14,'data for u-p-charts'!$A$2:$F$5000,AB$5,FALSE),2)","v":{"$error":"#N/A"}},{"$f":"ROUND(VLOOKUP($Y14,'data for u-p-charts'!$A$2:$F$5000,AC$5,FALSE),2)","v":{"$error":"#N/A"}}]
[201504,"2015-12-24",{"$f":"CONCATENATE(A15,'SSI Data and Charts'!B$1)","v":"201504Scotland"},{"$f":"IFERROR(VLOOKUP(CONCATENATE(D$5,$C15),'trend data'!$A$2:$O$11161,D$6,FALSE),\"-\")","v":60},{"$f":"IFERROR(ROUND(VLOOKUP(CONCATENATE(E$5,$C15),'trend data'!$A$2:$O$11161,E$6,FALSE),3),\"-\")","v":1.395},{"$f":"IFERROR(ROUND(VLOOKUP(CONCATENATE(F$5,$C15),'trend data'!$A$2:$O$11161,F$6,FALSE),3),\"-\")","v":1.0860000000000001},{"$f":"IFERROR(ROUND(VLOOKUP(CONCATENATE(G$5,$C15),'trend data'!$A$2:$O$11161,G$6,FALSE),3),\"-\")","v":1.792},{"$f":"IFERROR(VLOOKUP(CONCATENATE(H$5,$C15),'trend data'!$A$2:$O$11161,H$6,FALSE),\"-\")","v":15},{"$f":"IFERROR(ROUND(VLOOKUP(CONCATENATE(I$5,$C15),'trend data'!$A$2:$O$11161,I$6,FALSE),3),\"-\")","v":0.68500000000000005},{"$f":"IFERROR(ROUND(VLOOKUP(CONCATENATE(J$5,$C15),'trend data'!$A$2:$O$11161,J$6,FALSE),3),\"-\")","v":0.41499999999999998},{"$f":"IFERROR(ROUND(VLOOKUP(CONCATENATE(K$5,$C15),'trend data'!$A$2:$O$11161,K$6,FALSE),3),\"-\")","v":1.127},{"$f":"IFERROR(VLOOKUP(CONCATENATE(L$5,$C15),'trend data'!$A$2:$O$11161,L$6,FALSE),\"-\")","v":4300},{"$f":"IFERROR(VLOOKUP(CONCATENATE(M$5,$C15),'trend data'!$A$2:$O$11161,M$6,FALSE),\"-\")","v":2191},null,null,null,"202301",{"$f":"CONCATENATE(U$7,$Q15,'SSI Data and Charts'!B$1)","v":"SSICSEC202301Scotland"},7,"2023-03-28",{"$f":"ROUND(VLOOKUP($R15,'data for u-p-charts'!$A$2:$F$5000,U$5,FALSE),2)","v":{"$error":"#N/A"}},{"$f":"ROUND(VLOOKUP($R15,'data for u-p-charts'!$A$2:$F$5000,V$5,FALSE),2)","v":{"$error":"#N/A"}},{"$f":"ROUND(VLOOKUP($R15,'data for u-p-charts'!$A$2:$F$5000,W$5,FALSE),2)","v":{"$error":"#N/A"}},{"$f":"ROUND(VLOOKUP($R15,'data for u-p-charts'!$A$2:$F$5000,X$5,FALSE),2)","v":{"$error":"#N/A"}},{"$f":"CONCATENATE(Z$7,$Q15,'SSI Data and Charts'!$B$1)","v":"SSIHIP202301Scotland"},{"$f":"ROUND(VLOOKUP($Y15,'data for u-p-charts'!$A$2:$F$5000,Z$5,FALSE),2)","v":{"$error":"#N/A"}},{"$f":"ROUND(VLOOKUP($Y15,'data for u-p-charts'!$A$2:$F$5000,AA$5,FALSE),2)","v":{"$error":"#N/A"}},{"$f":"ROUND(VLOOKUP($Y15,'data for u-p-charts'!$A$2:$F$5000,AB$5,FALSE),2)","v":{"$error":"#N/A"}},{"$f":"ROUND(VLOOKUP($Y15,'data for u-p-charts'!$A$2:$F$5000,AC$5,FALSE),2)","v":{"$error":"#N/A"}}]
[201601,"2016-03-24",{"$f":"CONCATENATE(A16,'SSI Data and Charts'!B$1)","v":"201601Scotland"},{"$f":"IFERROR(VLOOKUP(CONCATENATE(D$5,$C16),'trend data'!$A$2:$O$11161,D$6,FALSE),\"-\")","v":58},{"$f":"IFERROR(ROUND(VLOOKUP(CONCATENATE(E$5,$C16),'trend data'!$A$2:$O$11161,E$6,FALSE),3),\"-\")","v":1.4419999999999999},{"$f":"IFERROR(ROUND(VLOOKUP(CONCATENATE(F$5,$C16),'trend data'!$A$2:$O$11161,F$6,FALSE),3),\"-\")","v":1.117},{"$f":"IFERROR(ROUND(VLOOKUP(CONCATENATE(G$5,$C16),'trend data'!$A$2:$O$11161,G$6,FALSE),3),\"-\")","v":1.859},{"$f":"IFERROR(VLOOKUP(CONCATENATE(H$5,$C16),'trend data'!$A$2:$O$11161,H$6,FALSE),\"-\")","v":7},{"$f":"IFERROR(ROUND(VLOOKUP(CONCATENATE(I$5,$C16),'trend data'!$A$2:$O$11161,I$6,FALSE),3),\"-\")","v":0.32200000000000001},{"$f":"IFERROR(ROUND(VLOOKUP(CONCATENATE(J$5,$C16),'trend data'!$A$2:$O$11161,J$6,FALSE),3),\"-\")","v":0.156},{"$f":"IFERROR(ROUND(VLOOKUP(CONCATENATE(K$5,$C16),'trend data'!$A$2:$O$11161,K$6,FALSE),3),\"-\")","v":0.66300000000000003},{"$f":"IFERROR(VLOOKUP(CONCATENATE(L$5,$C16),'trend data'!$A$2:$O$11161,L$6,FALSE),\"-\")","v":4023},{"$f":"IFERROR(VLOOKUP(CONCATENATE(M$5,$C16),'trend data'!$A$2:$O$11161,M$6,FALSE),\"-\")","v":2173},null,null,null,"202302",{"$f":"CONCATENATE(U$7,$Q16,'SSI Data and Charts'!B$1)","v":"SSICSEC202302Scotland"},8,"2023-06-28",{"$f":"ROUND(VLOOKUP($R16,'data for u-p-charts'!$A$2:$F$5000,U$5,FALSE),2)","v":{"$error":"#N/A"}},{"$f":"ROUND(VLOOKUP($R16,'data for u-p-charts'!$A$2:$F$5000,V$5,FALSE),2)","v":{"$error":"#N/A"}},{"$f":"ROUND(VLOOKUP($R16,'data for u-p-charts'!$A$2:$F$5000,W$5,FALSE),2)","v":{"$error":"#N/A"}},{"$f":"ROUND(VLOOKUP($R16,'data for u-p-charts'!$A$2:$F$5000,X$5,FALSE),2)","v":{"$error":"#N/A"}},{"$f":"CONCATENATE(Z$7,$Q16,'SSI Data and Charts'!$B$1)","v":"SSIHIP202302Scotland"},{"$f":"ROUND(VLOOKUP($Y16,'data for u-p-charts'!$A$2:$F$5000,Z$5,FALSE),2)","v":{"$error":"#N/A"}},{"$f":"ROUND(VLOOKUP($Y16,'data for u-p-charts'!$A$2:$F$5000,AA$5,FALSE),2)","v":{"$error":"#N/A"}},{"$f":"ROUND(VLOOKUP($Y16,'data for u-p-charts'!$A$2:$F$5000,AB$5,FALSE),2)","v":{"$error":"#N/A"}},{"$f":"ROUND(VLOOKUP($Y16,'data for u-p-charts'!$A$2:$F$5000,AC$5,FALSE),2)","v":{"$error":"#N/A"}}]
[201602,"2016-06-24",{"$f":"CONCATENATE(A17,'SSI Data and Charts'!B$1)","v":"201602Scotland"},{"$f":"IFERROR(VLOOKUP(CONCATENATE(D$5,$C17),'trend data'!$A$2:$O$11161,D$6,FALSE),\"-\")","v":78},{"$f":"IFERROR(ROUND(VLOOKUP(CONCATENATE(E$5,$C17),'trend data'!$A$2:$O$11161,E$6,FALSE),3),\"-\")","v":1.754},{"$f":"IFERROR(ROUND(VLOOKUP(CONCATENATE(F$5,$C17),'trend data'!$A$2:$O$11161,F$6,FALSE),3),\"-\")","v":1.407},{"$f":"IFERROR(ROUND(VLOOKUP(CONCATENATE(G$5,$C17),'trend data'!$A$2:$O$11161,G$6,FALSE),3),\"-\")","v":2.1829999999999998},{"$f":"IFERROR(VLOOKUP(CONCATENATE(H$5,$C17),'trend data'!$A$2:$O$11161,H$6,FALSE),\"-\")","v":17},{"$f":"IFERROR(ROUND(VLOOKUP(CONCATENATE(I$5,$C17),'trend data'!$A$2:$O$11161,I$6,FALSE),3),\"-\")","v":0.73299999999999998},{"$f":"IFERROR(ROUND(VLOOKUP(CONCATENATE(J$5,$C17),'trend data'!$A$2:$O$11161,J$6,FALSE),3),\"-\")","v":0.45800000000000002},{"$f":"IFERROR(ROUND(VLOOKUP(CONCATENATE(K$5,$C17),'trend data'!$A$2:$O$11161,K$6,FALSE),3),\"-\")","v":1.171},{"$f":"IFERROR(VLOOKUP(CONCATENATE(L$5,$C17),'trend data'!$A$2:$O$11161,L$6,FALSE),\"-\")","v":4448},{"$f":"IFERROR(VLOOKUP(CONCATENATE(M$5,$C17),'trend data'!$A$2:$O$11161,M$6,FALSE),\"-\")","v":2318},null,null,null,"202303",{"$f":"CONCATENATE(U$7,$Q17,'SSI Data and Charts'!B$1)","v":"SSICSEC202303Scotland"},9,"2023-09-28",{"$f":"ROUND(VLOOKUP($R17,'data for u-p-charts'!$A$2:$F$5000,U$5,FALSE),2)","v":{"$error":"#N/A"}},{"$f":"ROUND(VLOOKUP($R17,'data for u-p-charts'!$A$2:$F$5000,V$5,FALSE),2)","v":{"$error":"#N/A"}},{"$f":"ROUND(VLOOKUP($R17,'data for u-p-charts'!$A$2:$F$5000,W$5,FALSE),2)","v":{"$error":"#N/A"}},{"$f":"ROUND(VLOOKUP($R17,'data for u-p-charts'!$A$2:$F$5000,X$5,FALSE),2)","v":{"$error":"#N/A"}},{"$f":"CONCATENATE(Z$7,$Q17,'SSI Data and Charts'!$B$1)","v":"SSIHIP202303Scotland"},{"$f":"ROUND(VLOOKUP($Y17,'data for u-p-charts'!$A$2:$F$5000,Z$5,FALSE),2)","v":{"$error":"#N/A"}},{"$f":"ROUND(VLOOKUP($Y17,'data for u-p-charts'!$A$2:$F$5000,AA$5,FALSE),2)","v":{"$error":"#N/A"}},{"$f":"ROUND(VLOOKUP($Y17,'data for u-p-charts'!$A$2:$F$5000,AB$5,FALSE),2)","v":{"$error":"#N/A"}},{"$f":"ROUND(VLOOKUP($Y17,'data for u-p-charts'!$A$2:$F$5000,AC$5,FALSE),2)","v":{"$error":"#N/A"}}]
[201603,"2016-09-24",{"$f":"CONCATENATE(A18,'SSI Data and Charts'!B$1)","v":"201603Scotland"},{"$f":"IFERROR(VLOOKUP(CONCATENATE(D$5,$C18),'trend data'!$A$2:$O$11161,D$6,FALSE),\"-\")","v":71},{"$f":"IFERROR(ROUND(VLOOKUP(CONCATENATE(E$5,$C18),'trend data'!$A$2:$O$11161,E$6,FALSE),3),\"-\")","v":1.597},{"$f":"IFERROR(ROUND(VLOOKUP(CONCATENATE(F$5,$C18),'trend data'!$A$2:$O$11161,F$6,FALSE),3),\"-\")","v":1.268},{"$f":"IFERROR(ROUND(VLOOKUP(CONCATENATE(G$5,$C18),'trend data'!$A$2:$O$11161,G$6,FALSE),3),\"-\")","v":2.0089999999999999},{"$f":"IFERROR(VLOOKUP(CONCATENATE(H$5,$C18),'trend data'!$A$2:$O$11161,H$6,FALSE),\"-\")","v":14},{"$f":"IFERROR(ROUND(VLOOKUP(CONCATENATE(I$5,$C18),'trend data'!$A$2:$O$11161,I$6,FALSE),3),\"-\")","v":0.65},{"$f":"IFERROR(ROUND(VLOOKUP(CONCATENATE(J$5,$C18),'trend data'!$A$2:$O$11161,J$6,FALSE),3),\"-\")","v":0.38800000000000001},{"$f":"IFERROR(ROUND(VLOOKUP(CONCATENATE(K$5,$C18),'trend data'!$A$2:$O$11161,K$6,FALSE),3),\"-\")","v":1.089},{"$f":"IFERROR(VLOOKUP(CONCATENATE(L$5,$C18),'trend data'!$A$2:$O$11161,L$6,FALSE),\"-\")","v":4446},{"$f":"IFERROR(VLOOKUP(CONCATENATE(M$5,$C18),'trend data'!$A$2:$O$11161,M$6,FALSE),\"-\")","v":2153},null,null,null,"202304",{"$f":"CONCATENATE(U$7,$Q18,'SSI Data and Charts'!B$1)","v":"SSICSEC202304Scotland"},10,"2023-12-29",{"$f":"ROUND(VLOOKUP($R18,'data for u-p-charts'!$A$2:$F$5000,U$5,FALSE),2)","v":{"$error":"#N/A"}},{"$f":"ROUND(VLOOKUP($R18,'data for u-p-charts'!$A$2:$F$5000,V$5,FALSE),2)","v":{"$error":"#N/A"}},{"$f":"ROUND(VLOOKUP($R18,'data for u-p-charts'!$A$2:$F$5000,W$5,FALSE),2)","v":{"$error":"#N/A"}},{"$f":"ROUND(VLOOKUP($R18,'data for u-p-charts'!$A$2:$F$5000,X$5,FALSE),2)","v":{"$error":"#N/A"}},{"$f":"CONCATENATE(Z$7,$Q18,'SSI Data and Charts'!$B$1)","v":"SSIHIP202304Scotland"},{"$f":"ROUND(VLOOKUP($Y18,'data for u-p-charts'!$A$2:$F$5000,Z$5,FALSE),2)","v":{"$error":"#N/A"}},{"$f":"ROUND(VLOOKUP($Y18,'data for u-p-charts'!$A$2:$F$5000,AA$5,FALSE),2)","v":{"$error":"#N/A"}},{"$f":"ROUND(VLOOKUP($Y18,'data for u-p-charts'!$A$2:$F$5000,AB$5,FALSE),2)","v":{"$error":"#N/A"}},{"$f":"ROUND(VLOOKUP($Y18,'data for u-p-charts'!$A$2:$F$5000,AC$5,FALSE),2)","v":{"$error":"#N/A"}}]
[201604,"2016-12-24",{"$f":"CONCATENATE(A19,'SSI Data and Charts'!B$1)","v":"201604Scotland"},{"$f":"IFERROR(VLOOKUP(CONCATENATE(D$5,$C19),'trend data'!$A$2:$O$11161,D$6,FALSE),\"-\")","v":51},{"$f":"IFERROR(ROUND(VLOOKUP(CONCATENATE(E$5,$C19),'trend data'!$A$2:$O$11161,E$6,FALSE),3),\"-\")","v":1.198},{"$f":"IFERROR(ROUND(VLOOKUP(CONCATENATE(F$5,$C19),'trend data'!$A$2:$O$11161,F$6,FALSE),3),\"-\")","v":0.91200000000000003},{"$f":"IFERROR(ROUND(VLOOKUP(CONCATENATE(G$5,$C19),'trend data'!$A$2:$O$11161,G$6,FALSE),3),\"-\")","v":1.571},{"$f":"IFERROR(VLOOKUP(CONCATENATE(H$5,$C19),'trend data'!$A$2:$O$11161,H$6,FALSE),\"-\")","v":17},{"$f":"IFERROR(ROUND(VLOOKUP(CONCATENATE(I$5,$C19),'trend data'!$A$2:$O$11161,I$6,FALSE),3),\"-\")","v":0.76400000000000001},{"$f":"IFERROR(ROUND(VLOOKUP(CONCATENATE(J$5,$C19),'trend data'!$A$2:$O$11161,J$6,FALSE),3),\"-\")","v":0.47699999999999998},{"$f":"IFERROR(ROUND(VLOOKUP(CONCATENATE(K$5,$C19),'trend data'!$A$2:$O$11161,K$6,FALSE),3),\"-\")","v":1.22},{"$f":"IFERROR(VLOOKUP(CONCATENATE(L$5,$C19),'trend data'!$A$2:$O$11161,L$6,FALSE),\"-\")","v":4258},{"$f":"IFERROR(VLOOKUP(CONCATENATE(M$5,$C19),'trend data'!$A$2:$O$11161,M$6,FALSE),\"-\")","v":2226},null,null,null,"202401",{"$f":"CONCATENATE(U$7,$Q19,'SSI Data and Charts'!B$1)","v":"SSICSEC202401Scotland"},11,{"$f":"T20-92","v":"2024-03-30"},{"$f":"ROUND(VLOOKUP($R19,'data for u-p-charts'!$A$2:$F$5000,U$5,FALSE),2)","v":{"$error":"#N/A"}},{"$f":"ROUND(VLOOKUP($R19,'data for u-p-charts'!$A$2:$F$5000,V$5,FALSE),2)","v":{"$error":"#N/A"}},{"$f":"ROUND(VLOOKUP($R19,'data for u-p-charts'!$A$2:$F$5000,W$5,FALSE),2)","v":{"$error":"#N/A"}},{"$f":"ROUND(VLOOKUP($R19,'data for u-p-charts'!$A$2:$F$5000,X$5,FALSE),2)","v":{"$error":"#N/A"}},{"$f":"CONCATENATE(Z$7,$Q19,'SSI Data and Charts'!$B$1)","v":"SSIHIP202401Scotland"},{"$f":"ROUND(VLOOKUP($Y19,'data for u-p-charts'!$A$2:$F$5000,Z$5,FALSE),2)","v":{"$error":"#N/A"}},{"$f":"ROUND(VLOOKUP($Y19,'data for u-p-charts'!$A$2:$F$5000,AA$5,FALSE),2)","v":{"$error":"#N/A"}},{"$f":"ROUND(VLOOKUP($Y19,'data for u-p-charts'!$A$2:$F$5000,AB$5,FALSE),2)","v":{"$error":"#N/A"}},{"$f":"ROUND(VLOOKUP($Y19,'data for u-p-charts'!$A$2:$F$5000,AC$5,FALSE),2)","v":{"$error":"#N/A"}}]
[201701,"2017-03-01",{"$f":"CONCATENATE(A20,'SSI Data and Charts'!B$1)","v":"201701Scotland"},{"$f":"IFERROR(VLOOKUP(CONCATENATE(D$5,$C20),'trend data'!$A$2:$O$11161,D$6,FALSE),\"-\")","v":58},{"$f":"IFERROR(ROUND(VLOOKUP(CONCATENATE(E$5,$C20),'trend data'!$A$2:$O$11161,E$6,FALSE),3),\"-\")","v":1.4330000000000001},{"$f":"IFERROR(ROUND(VLOOKUP(CONCATENATE(F$5,$C20),'trend data'!$A$2:$O$11161,F$6,FALSE),3),\"-\")","v":1.1100000000000001},{"$f":"IFERROR(ROUND(VLOOKUP(CONCATENATE(G$5,$C20),'trend data'!$A$2:$O$11161,G$6,FALSE),3),\"-\")","v":1.8480000000000001},{"$f":"IFERROR(VLOOKUP(CONCATENATE(H$5,$C20),'trend data'!$A$2:$O$11161,H$6,FALSE),\"-\")","v":12},{"$f":"IFERROR(ROUND(VLOOKUP(CONCATENATE(I$5,$C20),'trend data'!$A$2:$O$11161,I$6,FALSE),3),\"-\")","v":0.55500000000000005},{"$f":"IFERROR(ROUND(VLOOKUP(CONCATENATE(J$5,$C20),'trend data'!$A$2:$O$11161,J$6,FALSE),3),\"-\")","v":0.317},{"$f":"IFERROR(ROUND(VLOOKUP(CONCATENATE(K$5,$C20),'trend data'!$A$2:$O$11161,K$6,FALSE),3),\"-\")","v":0.96699999999999997},{"$f":"IFERROR(VLOOKUP(CONCATENATE(L$5,$C20),'trend data'!$A$2:$O$11161,L$6,FALSE),\"-\")","v":4047},{"$f":"IFERROR(VLOOKUP(CONCATENATE(M$5,$C20),'trend data'!$A$2:$O$11161,M$6,FALSE),\"-\")","v":2164},null,null,null,"202402",{"$f":"CONCATENATE(U$7,$Q20,'SSI Data and Charts'!B$1)","v":"SSICSEC202402Scotland"},12,{"$f":"T5","v":"2024-06-30"},{"$f":"ROUND(VLOOKUP($R20,'data for u-p-charts'!$A$2:$F$5000,U$5,FALSE),2)","v":{"$error":"#N/A"}},{"$f":"ROUND(VLOOKUP($R20,'data for u-p-charts'!$A$2:$F$5000,V$5,FALSE),2)","v":{"$error":"#N/A"}},{"$f":"ROUND(VLOOKUP($R20,'data for u-p-charts'!$A$2:$F$5000,W$5,FALSE),2)","v":{"$error":"#N/A"}},{"$f":"ROUND(VLOOKUP($R20,'data for u-p-charts'!$A$2:$F$5000,X$5,FALSE),2)","v":{"$error":"#N/A"}},{"$f":"CONCATENATE(Z$7,$Q20,'SSI Data and Charts'!$B$1)","v":"SSIHIP202402Scotland"},{"$f":"ROUND(VLOOKUP($Y20,'data for u-p-charts'!$A$2:$F$5000,Z$5,FALSE),2)","v":{"$error":"#N/A"}},{"$f":"ROUND(VLOOKUP($Y20,'data for u-p-charts'!$A$2:$F$5000,AA$5,FALSE),2)","v":{"$error":"#N/A"}},{"$f":"ROUND(VLOOKUP($Y20,'data for u-p-charts'!$A$2:$F$5000,AB$5,FALSE),2)","v":{"$error":"#N/A"}},{"$f":"ROUND(VLOOKUP($Y20,'data for u-p-charts'!$A$2:$F$5000,AC$5,FALSE),2)","v":{"$error":"#N/A"}}]
[201702,"2017-06-01",{"$f":"CONCATENATE(A21,'SSI Data and Charts'!B$1)","v":"201702Scotland"},{"$f":"IFERROR(VLOOKUP(CONCATENATE(D$5,$C21),'trend data'!$A$2:$O$11161,D$6,FALSE),\"-\")","v":51},{"$f":"IFERROR(ROUND(VLOOKUP(CONCATENATE(E$5,$C21),'trend data'!$A$2:$O$11161,E$6,FALSE),3),\"-\")","v":1.2390000000000001},{"$f":"IFERROR(ROUND(VLOOKUP(CONCATENATE(F$5,$C21),'trend data'!$A$2:$O$11161,F$6,FALSE),3),\"-\")","v":0.94399999999999995},{"$f":"IFERROR(ROUND(VLOOKUP(CONCATENATE(G$5,$C21),'trend data'!$A$2:$O$11161,G$6,FALSE),3),\"-\")","v":1.6259999999999999},{"$f":"IFERROR(VLOOKUP(CONCATENATE(H$5,$C21),'trend data'!$A$2:$O$11161,H$6,FALSE),\"-\")","v":19},{"$f":"IFERROR(ROUND(VLOOKUP(CONCATENATE(I$5,$C21),'trend data'!$A$2:$O$11161,I$6,FALSE),3),\"-\")","v":0.82599999999999996},{"$f":"IFERROR(ROUND(VLOOKUP(CONCATENATE(J$5,$C21),'trend data'!$A$2:$O$11161,J$6,FALSE),3),\"-\")","v":0.52900000000000003},{"$f":"IFERROR(ROUND(VLOOKUP(CONCATENATE(K$5,$C21),'trend data'!$A$2:$O$11161,K$6,FALSE),3),\"-\")","v":1.286},{"$f":"IFERROR(VLOOKUP(CONCATENATE(L$5,$C21),'trend data'!$A$2:$O$11161,L$6,FALSE),\"-\")","v":4115},{"$f":"IFERROR(VLOOKUP(CONCATENATE(M$5,$C21),'trend data'!$A$2:$O$11161,M$6,FALSE),\"-\")","v":2301}]
[201703,"2017-09-01",{"$f":"CONCATENATE(A22,'SSI Data and Charts'!B$1)","v":"201703Scotland"},{"$f":"IFERROR(VLOOKUP(CONCATENATE(D$5,$C22),'trend data'!$A$2:$O$11161,D$6,FALSE),\"-\")","v":58},{"$f":"IFERROR(ROUND(VLOOKUP(CONCATENATE(E$5,$C22),'trend data'!$A$2:$O$11161,E$6,FALSE),3),\"-\")","v":1.2849999999999999},{"$f":"IFERROR(ROUND(VLOOKUP(CONCATENATE(F$5,$C22),'trend data'!$A$2:$O$11161,F$6,FALSE),3),\"-\")","v":0.995},{"$f":"IFERROR(ROUND(VLOOKUP(CONCATENATE(G$5,$C22),'trend data'!$A$2:$O$11161,G$6,FALSE),3),\"-\")","v":1.657},{"$f":"IFERROR(VLOOKUP(CONCATENATE(H$5,$C22),'trend data'!$A$2:$O$11161,H$6,FALSE),\"-\")","v":9},{"$f":"IFERROR(ROUND(VLOOKUP(CONCATENATE(I$5,$C22),'trend data'!$A$2:$O$11161,I$6,FALSE),3),\"-\")","v":0.433},{"$f":"IFERROR(ROUND(VLOOKUP(CONCATENATE(J$5,$C22),'trend data'!$A$2:$O$11161,J$6,FALSE),3),\"-\")","v":0.22800000000000001},{"$f":"IFERROR(ROUND(VLOOKUP(CONCATENATE(K$5,$C22),'trend data'!$A$2:$O$11161,K$6,FALSE),3),\"-\")","v":0.82199999999999995},{"$f":"IFERROR(VLOOKUP(CONCATENATE(L$5,$C22),'trend data'!$A$2:$O$11161,L$6,FALSE),\"-\")","v":4514},{"$f":"IFERROR(VLOOKUP(CONCATENATE(M$5,$C22),'trend data'!$A$2:$O$11161,M$6,FALSE),\"-\")","v":2077}]
[201704,"2017-12-01",{"$f":"CONCATENATE(A23,'SSI Data and Charts'!B$1)","v":"201704Scotland"},{"$f":"IFERROR(VLOOKUP(CONCATENATE(D$5,$C23),'trend data'!$A$2:$O$11161,D$6,FALSE),\"-\")","v":66},{"$f":"IFERROR(ROUND(VLOOKUP(CONCATENATE(E$5,$C23),'trend data'!$A$2:$O$11161,E$6,FALSE),3),\"-\")","v":1.5629999999999999},{"$f":"IFERROR(ROUND(VLOOKUP(CONCATENATE(F$5,$C23),'trend data'!$A$2:$O$11161,F$6,FALSE),3),\"-\")","v":1.23},{"$f":"IFERROR(ROUND(VLOOKUP(CONCATENATE(G$5,$C23),'trend data'!$A$2:$O$11161,G$6,FALSE),3),\"-\")","v":1.9830000000000001},{"$f":"IFERROR(VLOOKUP(CONCATENATE(H$5,$C23),'trend data'!$A$2:$O$11161,H$6,FALSE),\"-\")","v":16},{"$f":"IFERROR(ROUND(VLOOKUP(CONCATENATE(I$5,$C23),'trend data'!$A$2:$O$11161,I$6,FALSE),3),\"-\")","v":0.77300000000000002},{"$f":"IFERROR(ROUND(VLOOKUP(CONCATENATE(J$5,$C23),'trend data'!$A$2:$O$11161,J$6,FALSE),3),\"-\")","v":0.47599999999999998},{"$f":"IFERROR(ROUND(VLOOKUP(CONCATENATE(K$5,$C23),'trend data'!$A$2:$O$11161,K$6,FALSE),3),\"-\")","v":1.2509999999999999},{"$f":"IFERROR(VLOOKUP(CONCATENATE(L$5,$C23),'trend data'!$A$2:$O$11161,L$6,FALSE),\"-\")","v":4224},{"$f":"IFERROR(VLOOKUP(CONCATENATE(M$5,$C23),'trend data'!$A$2:$O$11161,M$6,FALSE),\"-\")","v":2071}]
[201801,"2018-03-01",{"$f":"CONCATENATE(A24,'SSI Data and Charts'!B$1)","v":"201801Scotland"},{"$f":"IFERROR(VLOOKUP(CONCATENATE(D$5,$C24),'trend data'!$A$2:$O$11161,D$6,FALSE),\"-\")","v":64},{"$f":"IFERROR(ROUND(VLOOKUP(CONCATENATE(E$5,$C24),'trend data'!$A$2:$O$11161,E$6,FALSE),3),\"-\")","v":1.61},{"$f":"IFERROR(ROUND(VLOOKUP(CONCATENATE(F$5,$C24),'trend data'!$A$2:$O$11161,F$6,FALSE),3),\"-\")","v":1.2629999999999999},{"$f":"IFERROR(ROUND(VLOOKUP(CONCATENATE(G$5,$C24),'trend data'!$A$2:$O$11161,G$6,FALSE),3),\"-\")","v":2.0510000000000002},{"$f":"IFERROR(VLOOKUP(CONCATENATE(H$5,$C24),'trend data'!$A$2:$O$11161,H$6,FALSE),\"-\")","v":17},{"$f":"IFERROR(ROUND(VLOOKUP(CONCATENATE(I$5,$C24),'trend data'!$A$2:$O$11161,I$6,FALSE),3),\"-\")","v":0.84699999999999998},{"$f":"IFERROR(ROUND(VLOOKUP(CONCATENATE(J$5,$C24),'trend data'!$A$2:$O$11161,J$6,FALSE),3),\"-\")","v":0.52900000000000003},{"$f":"IFERROR(ROUND(VLOOKUP(CONCATENATE(K$5,$C24),'trend data'!$A$2:$O$11161,K$6,FALSE),3),\"-\")","v":1.3520000000000001},{"$f":"IFERROR(VLOOKUP(CONCATENATE(L$5,$C24),'trend data'!$A$2:$O$11161,L$6,FALSE),\"-\")","v":3975},{"$f":"IFERROR(VLOOKUP(CONCATENATE(M$5,$C24),'trend data'!$A$2:$O$11161,M$6,FALSE),\"-\")","v":2008}]
[201802,"2018-06-01",{"$f":"CONCATENATE(A25,'SSI Data and Charts'!B$1)","v":"201802Scotland"},{"$f":"IFERROR(VLOOKUP(CONCATENATE(D$5,$C25),'trend data'!$A$2:$O$11161,D$6,FALSE),\"-\")","v":61},{"$f":"IFERROR(ROUND(VLOOKUP(CONCATENATE(E$5,$C25),'trend data'!$A$2:$O$11161,E$6,FALSE),3),\"-\")","v":1.4550000000000001},{"$f":"IFERROR(ROUND(VLOOKUP(CONCATENATE(F$5,$C25),'trend data'!$A$2:$O$11161,F$6,FALSE),3),\"-\")","v":1.135},{"$f":"IFERROR(ROUND(VLOOKUP(CONCATENATE(G$5,$C25),'trend data'!$A$2:$O$11161,G$6,FALSE),3),\"-\")","v":1.865},{"$f":"IFERROR(VLOOKUP(CONCATENATE(H$5,$C25),'trend data'!$A$2:$O$11161,H$6,FALSE),\"-\")","v":18},{"$f":"IFERROR(ROUND(VLOOKUP(CONCATENATE(I$5,$C25),'trend data'!$A$2:$O$11161,I$6,FALSE),3),\"-\")","v":0.79300000000000004},{"$f":"IFERROR(ROUND(VLOOKUP(CONCATENATE(J$5,$C25),'trend data'!$A$2:$O$11161,J$6,FALSE),3),\"-\")","v":0.502},{"$f":"IFERROR(ROUND(VLOOKUP(CONCATENATE(K$5,$C25),'trend data'!$A$2:$O$11161,K$6,FALSE),3),\"-\")","v":1.25},{"$f":"IFERROR(VLOOKUP(CONCATENATE(L$5,$C25),'trend data'!$A$2:$O$11161,L$6,FALSE),\"-\")","v":4191},{"$f":"IFERROR(VLOOKUP(CONCATENATE(M$5,$C25),'trend data'!$A$2:$O$11161,M$6,FALSE),\"-\")","v":2270}]
[201803,"2018-09-01",{"$f":"CONCATENATE(A26,'SSI Data and Charts'!B$1)","v":"201803Scotland"},{"$f":"IFERROR(VLOOKUP(CONCATENATE(D$5,$C26),'trend data'!$A$2:$O$11161,D$6,FALSE),\"-\")","v":66},{"$f":"IFERROR(ROUND(VLOOKUP(CONCATENATE(E$5,$C26),'trend data'!$A$2:$O$11161,E$6,FALSE),3),\"-\")","v":1.5369999999999999},{"$f":"IFERROR(ROUND(VLOOKUP(CONCATENATE(F$5,$C26),'trend data'!$A$2:$O$11161,F$6,FALSE),3),\"-\")","v":1.21},{"$f":"IFERROR(ROUND(VLOOKUP(CONCATENATE(G$5,$C26),'trend data'!$A$2:$O$11161,G$6,FALSE),3),\"-\")","v":1.9510000000000001},{"$f":"IFERROR(VLOOKUP(CONCATENATE(H$5,$C26),'trend data'!$A$2:$O$11161,H$6,FALSE),\"-\")","v":13},{"$f":"IFERROR(ROUND(VLOOKUP(CONCATENATE(I$5,$C26),'trend data'!$A$2:$O$11161,I$6,FALSE),3),\"-\")","v":0.60299999999999998},{"$f":"IFERROR(ROUND(VLOOKUP(CONCATENATE(J$5,$C26),'trend data'!$A$2:$O$11161,J$6,FALSE),3),\"-\")","v":0.35299999999999998},{"$f":"IFERROR(ROUND(VLOOKUP(CONCATENATE(K$5,$C26),'trend data'!$A$2:$O$11161,K$6,FALSE),3),\"-\")","v":1.0289999999999999},{"$f":"IFERROR(VLOOKUP(CONCATENATE(L$5,$C26),'trend data'!$A$2:$O$11161,L$6,FALSE),\"-\")","v":4293},{"$f":"IFERROR(VLOOKUP(CONCATENATE(M$5,$C26),'trend data'!$A$2:$O$11161,M$6,FALSE),\"-\")","v":2155}]
[201804,"2018-12-01",{"$f":"CONCATENATE(A27,'SSI Data and Charts'!B$1)","v":"201804Scotland"},{"$f":"IFERROR(VLOOKUP(CONCATENATE(D$5,$C27),'trend data'!$A$2:$O$11161,D$6,FALSE),\"-\")","v":59},{"$f":"IFERROR(ROUND(VLOOKUP(CONCATENATE(E$5,$C27),'trend data'!$A$2:$O$11161,E$6,FALSE),3),\"-\")","v":1.3580000000000001},{"$f":"IFERROR(ROUND(VLOOKUP(CONCATENATE(F$5,$C27),'trend data'!$A$2:$O$11161,F$6,FALSE),3),\"-\")","v":1.054},{"$f":"IFERROR(ROUND(VLOOKUP(CONCATENATE(G$5,$C27),'trend data'!$A$2:$O$11161,G$6,FALSE),3),\"-\")","v":1.7470000000000001},{"$f":"IFERROR(VLOOKUP(CONCATENATE(H$5,$C27),'trend data'!$A$2:$O$11161,H$6,FALSE),\"-\")","v":16},{"$f":"IFERROR(ROUND(VLOOKUP(CONCATENATE(I$5,$C27),'trend data'!$A$2:$O$11161,I$6,FALSE),3),\"-\")","v":0.70299999999999996},{"$f":"IFERROR(ROUND(VLOOKUP(CONCATENATE(J$5,$C27),'trend data'!$A$2:$O$11161,J$6,FALSE),3),\"-\")","v":0.433},{"$f":"IFERROR(ROUND(VLOOKUP(CONCATENATE(K$5,$C27),'trend data'!$A$2:$O$11161,K$6,FALSE),3),\"-\")","v":1.139},{"$f":"IFERROR(VLOOKUP(CONCATENATE(L$5,$C27),'trend data'!$A$2:$O$11161,L$6,FALSE),\"-\")","v":4346},{"$f":"IFERROR(VLOOKUP(CONCATENATE(M$5,$C27),'trend data'!$A$2:$O$11161,M$6,FALSE),\"-\")","v":2276}]
[201901,"2019-03-01",{"$f":"CONCATENATE(A28,'SSI Data and Charts'!B$1)","v":"201901Scotland"},{"$f":"IFERROR(VLOOKUP(CONCATENATE(D$5,$C28),'trend data'!$A$2:$O$11161,D$6,FALSE),\"-\")","v":64},{"$f":"IFERROR(ROUND(VLOOKUP(CONCATENATE(E$5,$C28),'trend data'!$A$2:$O$11161,E$6,FALSE),3),\"-\")","v":1.58},{"$f":"IFERROR(ROUND(VLOOKUP(CONCATENATE(F$5,$C28),'trend data'!$A$2:$O$11161,F$6,FALSE),3),\"-\")","v":1.2390000000000001},{"$f":"IFERROR(ROUND(VLOOKUP(CONCATENATE(G$5,$C28),'trend data'!$A$2:$O$11161,G$6,FALSE),3),\"-\")","v":2.012},{"$f":"IFERROR(VLOOKUP(CONCATENATE(H$5,$C28),'trend data'!$A$2:$O$11161,H$6,FALSE),\"-\")","v":8},{"$f":"IFERROR(ROUND(VLOOKUP(CONCATENATE(I$5,$C28),'trend data'!$A$2:$O$11161,I$6,FALSE),3),\"-\")","v":0.373},{"$f":"IFERROR(ROUND(VLOOKUP(CONCATENATE(J$5,$C28),'trend data'!$A$2:$O$11161,J$6,FALSE),3),\"-\")","v":0.189},{"$f":"IFERROR(ROUND(VLOOKUP(CONCATENATE(K$5,$C28),'trend data'!$A$2:$O$11161,K$6,FALSE),3),\"-\")","v":0.73399999999999999},{"$f":"IFERROR(VLOOKUP(CONCATENATE(L$5,$C28),'trend data'!$A$2:$O$11161,L$6,FALSE),\"-\")","v":4051},{"$f":"IFERROR(VLOOKUP(CONCATENATE(M$5,$C28),'trend data'!$A$2:$O$11161,M$6,FALSE),\"-\")","v":2146}]
[201902,"2019-06-01",{"$f":"CONCATENATE(A29,'SSI Data and Charts'!B$1)","v":"201902Scotland"},{"$f":"IFERROR(VLOOKUP(CONCATENATE(D$5,$C29),'trend data'!$A$2:$O$11161,D$6,FALSE),\"-\")","v":43},{"$f":"IFERROR(ROUND(VLOOKUP(CONCATENATE(E$5,$C29),'trend data'!$A$2:$O$11161,E$6,FALSE),3),\"-\")","v":1.044},{"$f":"IFERROR(ROUND(VLOOKUP(CONCATENATE(F$5,$C29),'trend data'!$A$2:$O$11161,F$6,FALSE),3),\"-\")","v":0.77600000000000002},{"$f":"IFERROR(ROUND(VLOOKUP(CONCATENATE(G$5,$C29),'trend data'!$A$2:$O$11161,G$6,FALSE),3),\"-\")","v":1.403},{"$f":"IFERROR(VLOOKUP(CONCATENATE(H$5,$C29),'trend data'!$A$2:$O$11161,H$6,FALSE),\"-\")","v":10},{"$f":"IFERROR(ROUND(VLOOKUP(CONCATENATE(I$5,$C29),'trend data'!$A$2:$O$11161,I$6,FALSE),3),\"-\")","v":0.443},{"$f":"IFERROR(ROUND(VLOOKUP(CONCATENATE(J$5,$C29),'trend data'!$A$2:$O$11161,J$6,FALSE),3),\"-\")","v":0.24099999999999999},{"$f":"IFERROR(ROUND(VLOOKUP(CONCATENATE(K$5,$C29),'trend data'!$A$2:$O$11161,K$6,FALSE),3),\"-\")","v":0.81399999999999995},{"$f":"IFERROR(VLOOKUP(CONCATENATE(L$5,$C29),'trend data'!$A$2:$O$11161,L$6,FALSE),\"-\")","v":4118},{"$f":"IFERROR(VLOOKUP(CONCATENATE(M$5,$C29),'trend data'!$A$2:$O$11161,M$6,FALSE),\"-\")","v":2257}]
[201903,"2019-09-01",{"$f":"CONCATENATE(A30,'SSI Data and Charts'!B$1)","v":"201903Scotland"},{"$f":"IFERROR(VLOOKUP(CONCATENATE(D$5,$C30),'trend data'!$A$2:$O$11161,D$6,FALSE),\"-\")","v":51},{"$f":"IFERROR(ROUND(VLOOKUP(CONCATENATE(E$5,$C30),'trend data'!$A$2:$O$11161,E$6,FALSE),3),\"-\")","v":1.157},{"$f":"IFERROR(ROUND(VLOOKUP(CONCATENATE(F$5,$C30),'trend data'!$A$2:$O$11161,F$6,FALSE),3),\"-\")","v":0.88100000000000001},{"$f":"IFERROR(ROUND(VLOOKUP(CONCATENATE(G$5,$C30),'trend data'!$A$2:$O$11161,G$6,FALSE),3),\"-\")","v":1.518},{"$f":"IFERROR(VLOOKUP(CONCATENATE(H$5,$C30),'trend data'!$A$2:$O$11161,H$6,FALSE),\"-\")","v":17},{"$f":"IFERROR(ROUND(VLOOKUP(CONCATENATE(I$5,$C30),'trend data'!$A$2:$O$11161,I$6,FALSE),3),\"-\")","v":0.80200000000000005},{"$f":"IFERROR(ROUND(VLOOKUP(CONCATENATE(J$5,$C30),'trend data'!$A$2:$O$11161,J$6,FALSE),3),\"-\")","v":0.501},{"$f":"IFERROR(ROUND(VLOOKUP(CONCATENATE(K$5,$C30),'trend data'!$A$2:$O$11161,K$6,FALSE),3),\"-\")","v":1.28},{"$f":"IFERROR(VLOOKUP(CONCATENATE(L$5,$C30),'trend data'!$A$2:$O$11161,L$6,FALSE),\"-\")","v":4408},{"$f":"IFERROR(VLOOKUP(CONCATENATE(M$5,$C30),'trend data'!$A$2:$O$11161,M$6,FALSE),\"-\")","v":2121}]
[201904,"2019-12-01",{"$f":"CONCATENATE(A31,'SSI Data and Charts'!B$1)","v":"201904Scotland"},{"$f":"IFERROR(VLOOKUP(CONCATENATE(D$5,$C31),'trend data'!$A$2:$O$11161,D$6,FALSE),\"-\")","v":35},{"$f":"IFERROR(ROUND(VLOOKUP(CONCATENATE(E$5,$C31),'trend data'!$A$2:$O$11161,E$6,FALSE),3),\"-\")","v":0.85099999999999998},{"$f":"IFERROR(ROUND(VLOOKUP(CONCATENATE(F$5,$C31),'trend data'!$A$2:$O$11161,F$6,FALSE),3),\"-\")","v":0.61299999999999999},{"$f":"IFERROR(ROUND(VLOOKUP(CONCATENATE(G$5,$C31),'trend data'!$A$2:$O$11161,G$6,FALSE),3),\"-\")","v":1.181},{"$f":"IFERROR(VLOOKUP(CONCATENATE(H$5,$C31),'trend data'!$A$2:$O$11161,H$6,FALSE),\"-\")","v":17},{"$f":"IFERROR(ROUND(VLOOKUP(CONCATENATE(I$5,$C31),'trend data'!$A$2:$O$11161,I$6,FALSE),3),\"-\")","v":0.79300000000000004},{"$f":"IFERROR(ROUND(VLOOKUP(CONCATENATE(J$5,$C31),'trend data'!$A$2:$O$11161,J$6,FALSE),3),\"-\")","v":0.495},{"$f":"IFERROR(ROUND(VLOOKUP(CONCATENATE(K$5,$C31),'trend data'!$A$2:$O$11161,K$6,FALSE),3),\"-\")","v":1.266},{"$f":"IFERROR(VLOOKUP(CONCATENATE(L$5,$C31),'trend data'!$A$2:$O$11161,L$6,FALSE),\"-\")","v":4112},{"$f":"IFERROR(VLOOKUP(CONCATENATE(M$5,$C31),'trend data'!$A$2:$O$11161,M$6,FALSE),\"-\")","v":2145}]
[202001,"2020-03-01",{"$f":"CONCATENATE(A32,'SSI Data and Charts'!B$1)","v":"202001Scotland"},{"$f":"IFERROR(VLOOKUP(CONCATENATE(D$5,$C32),'trend data'!$A$2:$O$11161,D$6,FALSE),\"-\")","v":"-"},{"$f":"IFERROR(ROUND(VLOOKUP(CONCATENATE(E$5,$C32),'trend data'!$A$2:$O$11161,E$6,FALSE),3),\"-\")","v":"-"},{"$f":"IFERROR(ROUND(VLOOKUP(CONCATENATE(F$5,$C32),'trend data'!$A$2:$O$11161,F$6,FALSE),3),\"-\")","v":"-"},{"$f":"IFERROR(ROUND(VLOOKUP(CONCATENATE(G$5,$C32),'trend data'!$A$2:$O$11161,G$6,FALSE),3),\"-\")","v":"-"},{"$f":"IFERROR(VLOOKUP(CONCATENATE(H$5,$C32),'trend data'!$A$2:$O$11161,H$6,FALSE),\"-\")","v":"-"},{"$f":"IFERROR(ROUND(VLOOKUP(CONCATENATE(I$5,$C32),'trend data'!$A$2:$O$11161,I$6,FALSE),3),\"-\")","v":"-"},{"$f":"IFERROR(ROUND(VLOOKUP(CONCATENATE(J$5,$C32),'trend data'!$A$2:$O$11161,J$6,FALSE),3),\"-\")","v":"-"},{"$f":"IFERROR(ROUND(VLOOKUP(CONCATENATE(K$5,$C32),'trend data'!$A$2:$O$11161,K$6,FALSE),3),\"-\")","v":"-"},{"$f":"IFERROR(VLOOKUP(CONCATENATE(L$5,$C32),'trend data'!$A$2:$O$11161,L$6,FALSE),\"-\")","v":"-"},{"$f":"IFERROR(VLOOKUP(CONCATENATE(M$5,$C32),'trend data'!$A$2:$O$11161,M$6,FALSE),\"-\")","v":"-"}]
[202002,"2020-06-01",{"$f":"CONCATENATE(A33,'SSI Data and Charts'!B$1)","v":"202002Scotland"},{"$f":"IFERROR(VLOOKUP(CONCATENATE(D$5,$C33),'trend data'!$A$2:$O$11161,D$6,FALSE),\"-\")","v":"-"},{"$f":"IFERROR(ROUND(VLOOKUP(CONCATENATE(E$5,$C33),'trend data'!$A$2:$O$11161,E$6,FALSE),3),\"-\")","v":"-"},{"$f":"IFERROR(ROUND(VLOOKUP(CONCATENATE(F$5,$C33),'trend data'!$A$2:$O$11161,F$6,FALSE),3),\"-\")","v":"-"},{"$f":"IFERROR(ROUND(VLOOKUP(CONCATENATE(G$5,$C33),'trend data'!$A$2:$O$11161,G$6,FALSE),3),\"-\")","v":"-"},{"$f":"IFERROR(VLOOKUP(CONCATENATE(H$5,$C33),'trend data'!$A$2:$O$11161,H$6,FALSE),\"-\")","v":"-"},{"$f":"IFERROR(ROUND(VLOOKUP(CONCATENATE(I$5,$C33),'trend data'!$A$2:$O$11161,I$6,FALSE),3),\"-\")","v":"-"},{"$f":"IFERROR(ROUND(VLOOKUP(CONCATENATE(J$5,$C33),'trend data'!$A$2:$O$11161,J$6,FALSE),3),\"-\")","v":"-"},{"$f":"IFERROR(ROUND(VLOOKUP(CONCATENATE(K$5,$C33),'trend data'!$A$2:$O$11161,K$6,FALSE),3),\"-\")","v":"-"},{"$f":"IFERROR(VLOOKUP(CONCATENATE(L$5,$C33),'trend data'!$A$2:$O$11161,L$6,FALSE),\"-\")","v":"-"},{"$f":"IFERROR(VLOOKUP(CONCATENATE(M$5,$C33),'trend data'!$A$2:$O$11161,M$6,FALSE),\"-\")","v":"-"}]
[202003,"2020-09-01",{"$f":"CONCATENATE(A34,'SSI Data and Charts'!B$1)","v":"202003Scotland"},{"$f":"IFERROR(VLOOKUP(CONCATENATE(D$5,$C34),'trend data'!$A$2:$O$11161,D$6,FALSE),\"-\")","v":"-"},{"$f":"IFERROR(ROUND(VLOOKUP(CONCATENATE(E$5,$C34),'trend data'!$A$2:$O$11161,E$6,FALSE),4),\"-\")","v":"-"},{"$f":"IFERROR(ROUND(VLOOKUP(CONCATENATE(F$5,$C34),'trend data'!$A$2:$O$11161,F$6,FALSE),4),\"-\")","v":"-"},{"$f":"IFERROR(ROUND(VLOOKUP(CONCATENATE(G$5,$C34),'trend data'!$A$2:$O$11161,G$6,FALSE),4),\"-\")","v":"-"},{"$f":"IFERROR(VLOOKUP(CONCATENATE(H$5,$C34),'trend data'!$A$2:$O$11161,H$6,FALSE),\"-\")","v":"-"},{"$f":"IFERROR(ROUND(VLOOKUP(CONCATENATE(I$5,$C34),'trend data'!$A$2:$O$11161,I$6,FALSE),4),\"-\")","v":"-"},{"$f":"IFERROR(ROUND(VLOOKUP(CONCATENATE(J$5,$C34),'trend data'!$A$2:$O$11161,J$6,FALSE),4),\"-\")","v":"-"},{"$f":"IFERROR(ROUND(VLOOKUP(CONCATENATE(K$5,$C34),'trend data'!$A$2:$O$11161,K$6,FALSE),4),\"-\")","v":"-"},{"$f":"IFERROR(VLOOKUP(CONCATENATE(L$5,$C34),'trend data'!$A$2:$O$11161,L$6,FALSE),\"-\")","v":"-"},{"$f":"IFERROR(VLOOKUP(CONCATENATE(M$5,$C34),'trend data'!$A$2:$O$11161,M$6,FALSE),\"-\")","v":"-"}]
[202004,"2020-12-31",{"$f":"CONCATENATE(A35,'SSI Data and Charts'!B$1)","v":"202004Scotland"},{"$f":"IFERROR(VLOOKUP(CONCATENATE(D$5,$C35),'trend data'!$A$2:$O$11161,D$6,FALSE),\"-\")","v":"-"},{"$f":"IFERROR(ROUND(VLOOKUP(CONCATENATE(E$5,$C35),'trend data'!$A$2:$O$11161,E$6,FALSE),4),\"-\")","v":"-"},{"$f":"IFERROR(ROUND(VLOOKUP(CONCATENATE(F$5,$C35),'trend data'!$A$2:$O$11161,F$6,FALSE),4),\"-\")","v":"-"},{"$f":"IFERROR(ROUND(VLOOKUP(CONCATENATE(G$5,$C35),'trend data'!$A$2:$O$11161,G$6,FALSE),4),\"-\")","v":"-"},{"$f":"IFERROR(VLOOKUP(CONCATENATE(H$5,$C35),'trend data'!$A$2:$O$11161,H$6,FALSE),\"-\")","v":"-"},{"$f":"IFERROR(ROUND(VLOOKUP(CONCATENATE(I$5,$C35),'trend data'!$A$2:$O$11161,I$6,FALSE),4),\"-\")","v":"-"},{"$f":"IFERROR(ROUND(VLOOKUP(CONCATENATE(J$5,$C35),'trend data'!$A$2:$O$11161,J$6,FALSE),4),\"-\")","v":"-"},{"$f":"IFERROR(ROUND(VLOOKUP(CONCATENATE(K$5,$C35),'trend data'!$A$2:$O$11161,K$6,FALSE),4),\"-\")","v":"-"},{"$f":"IFERROR(VLOOKUP(CONCATENATE(L$5,$C35),'trend data'!$A$2:$O$11161,L$6,FALSE),\"-\")","v":"-"},{"$f":"IFERROR(VLOOKUP(CONCATENATE(M$5,$C35),'trend data'!$A$2:$O$11161,M$6,FALSE),\"-\")","v":"-"}]
[202101,"2021-03-31",{"$f":"CONCATENATE(A36,'SSI Data and Charts'!B$1)","v":"202101Scotland"},{"$f":"IFERROR(VLOOKUP(CONCATENATE(D$5,$C36),'trend data'!$A$2:$O$11161,D$6,FALSE),\"-\")","v":"-"},{"$f":"IFERROR(ROUND(VLOOKUP(CONCATENATE(E$5,$C36),'trend data'!$A$2:$O$11161,E$6,FALSE),4),\"-\")","v":"-"},{"$f":"IFERROR(ROUND(VLOOKUP(CONCATENATE(F$5,$C36),'trend data'!$A$2:$O$11161,F$6,FALSE),4),\"-\")","v":"-"},{"$f":"IFERROR(ROUND(VLOOKUP(CONCATENATE(G$5,$C36),'trend data'!$A$2:$O$11161,G$6,FALSE),4),\"-\")","v":"-"},{"$f":"IFERROR(VLOOKUP(CONCATENATE(H$5,$C36),'trend data'!$A$2:$O$11161,H$6,FALSE),\"-\")","v":"-"},{"$f":"IFERROR(ROUND(VLOOKUP(CONCATENATE(I$5,$C36),'trend data'!$A$2:$O$11161,I$6,FALSE),4),\"-\")","v":"-"},{"$f":"IFERROR(ROUND(VLOOKUP(CONCATENATE(J$5,$C36),'trend data'!$A$2:$O$11161,J$6,FALSE),4),\"-\")","v":"-"},{"$f":"IFERROR(ROUND(VLOOKUP(CONCATENATE(K$5,$C36),'trend data'!$A$2:$O$11161,K$6,FALSE),4),\"-\")","v":"-"},{"$f":"IFERROR(VLOOKUP(CONCATENATE(L$5,$C36),'trend data'!$A$2:$O$11161,L$6,FALSE),\"-\")","v":"-"},{"$f":"IFERROR(VLOOKUP(CONCATENATE(M$5,$C36),'trend data'!$A$2:$O$11161,M$6,FALSE),\"-\")","v":"-"}]
[202102,"2021-06-30",{"$f":"CONCATENATE(A37,'SSI Data and Charts'!B$1)","v":"202102Scotland"},{"$f":"IFERROR(VLOOKUP(CONCATENATE(D$5,$C37),'trend data'!$A$2:$O$11161,D$6,FALSE),\"-\")","v":"-"},{"$f":"IFERROR(ROUND(VLOOKUP(CONCATENATE(E$5,$C37),'trend data'!$A$2:$O$11161,E$6,FALSE),4),\"-\")","v":"-"},{"$f":"IFERROR(ROUND(VLOOKUP(CONCATENATE(F$5,$C37),'trend data'!$A$2:$O$11161,F$6,FALSE),4),\"-\")","v":"-"},{"$f":"IFERROR(ROUND(VLOOKUP(CONCATENATE(G$5,$C37),'trend data'!$A$2:$O$11161,G$6,FALSE),4),\"-\")","v":"-"},{"$f":"IFERROR(VLOOKUP(CONCATENATE(H$5,$C37),'trend data'!$A$2:$O$11161,H$6,FALSE),\"-\")","v":"-"},{"$f":"IFERROR(ROUND(VLOOKUP(CONCATENATE(I$5,$C37),'trend data'!$A$2:$O$11161,I$6,FALSE),4),\"-\")","v":"-"},{"$f":"IFERROR(ROUND(VLOOKUP(CONCATENATE(J$5,$C37),'trend data'!$A$2:$O$11161,J$6,FALSE),4),\"-\")","v":"-"},{"$f":"IFERROR(ROUND(VLOOKUP(CONCATENATE(K$5,$C37),'trend data'!$A$2:$O$11161,K$6,FALSE),4),\"-\")","v":"-"},{"$f":"IFERROR(VLOOKUP(CONCATENATE(L$5,$C37),'trend data'!$A$2:$O$11161,L$6,FALSE),\"-\")","v":"-"},{"$f":"IFERROR(VLOOKUP(CONCATENATE(M$5,$C37),'trend data'!$A$2:$O$11161,M$6,FALSE),\"-\")","v":"-"}]
[202103,"2021-09-30",{"$f":"CONCATENATE(A38,'SSI Data and Charts'!B$1)","v":"202103Scotland"},{"$f":"IFERROR(VLOOKUP(CONCATENATE(D$5,$C38),'trend data'!$A$2:$O$11161,D$6,FALSE),\"-\")","v":"-"},{"$f":"IFERROR(ROUND(VLOOKUP(CONCATENATE(E$5,$C38),'trend data'!$A$2:$O$11161,E$6,FALSE),4),\"-\")","v":"-"},{"$f":"IFERROR(ROUND(VLOOKUP(CONCATENATE(F$5,$C38),'trend data'!$A$2:$O$11161,F$6,FALSE),4),\"-\")","v":"-"},{"$f":"IFERROR(ROUND(VLOOKUP(CONCATENATE(G$5,$C38),'trend data'!$A$2:$O$11161,G$6,FALSE),4),\"-\")","v":"-"},{"$f":"IFERROR(VLOOKUP(CONCATENATE(H$5,$C38),'trend data'!$A$2:$O$11161,H$6,FALSE),\"-\")","v":"-"},{"$f":"IFERROR(ROUND(VLOOKUP(CONCATENATE(I$5,$C38),'trend data'!$A$2:$O$11161,I$6,FALSE),4),\"-\")","v":"-"},{"$f":"IFERROR(ROUND(VLOOKUP(CONCATENATE(J$5,$C38),'trend data'!$A$2:$O$11161,J$6,FALSE),4),\"-\")","v":"-"},{"$f":"IFERROR(ROUND(VLOOKUP(CONCATENATE(K$5,$C38),'trend data'!$A$2:$O$11161,K$6,FALSE),4),\"-\")","v":"-"},{"$f":"IFERROR(VLOOKUP(CONCATENATE(L$5,$C38),'trend data'!$A$2:$O$11161,L$6,FALSE),\"-\")","v":"-"},{"$f":"IFERROR(VLOOKUP(CONCATENATE(M$5,$C38),'trend data'!$A$2:$O$11161,M$6,FALSE),\"-\")","v":"-"}]
[202104,"2021-12-31",{"$f":"CONCATENATE(A39,'SSI Data and Charts'!B$1)","v":"202104Scotland"},{"$f":"IFERROR(VLOOKUP(CONCATENATE(D$5,$C39),'trend data'!$A$2:$O$11161,D$6,FALSE),\"-\")","v":"-"},{"$f":"IFERROR(ROUND(VLOOKUP(CONCATENATE(E$5,$C39),'trend data'!$A$2:$O$11161,E$6,FALSE),4),\"-\")","v":"-"},{"$f":"IFERROR(ROUND(VLOOKUP(CONCATENATE(F$5,$C39),'trend data'!$A$2:$O$11161,F$6,FALSE),4),\"-\")","v":"-"},{"$f":"IFERROR(ROUND(VLOOKUP(CONCATENATE(G$5,$C39),'trend data'!$A$2:$O$11161,G$6,FALSE),4),\"-\")","v":"-"},{"$f":"IFERROR(VLOOKUP(CONCATENATE(H$5,$C39),'trend data'!$A$2:$O$11161,H$6,FALSE),\"-\")","v":"-"},{"$f":"IFERROR(ROUND(VLOOKUP(CONCATENATE(I$5,$C39),'trend data'!$A$2:$O$11161,I$6,FALSE),4),\"-\")","v":"-"},{"$f":"IFERROR(ROUND(VLOOKUP(CONCATENATE(J$5,$C39),'trend data'!$A$2:$O$11161,J$6,FALSE),4),\"-\")","v":"-"},{"$f":"IFERROR(ROUND(VLOOKUP(CONCATENATE(K$5,$C39),'trend data'!$A$2:$O$11161,K$6,FALSE),4),\"-\")","v":"-"},{"$f":"IFERROR(VLOOKUP(CONCATENATE(L$5,$C39),'trend data'!$A$2:$O$11161,L$6,FALSE),\"-\")","v":"-"},{"$f":"IFERROR(VLOOKUP(CONCATENATE(M$5,$C39),'trend data'!$A$2:$O$11161,M$6,FALSE),\"-\")","v":"-"}]
[202201,"2022-03-31",{"$f":"CONCATENATE(A40,'SSI Data and Charts'!B$1)","v":"202201Scotland"},{"$f":"IFERROR(VLOOKUP(CONCATENATE(D$5,$C40),'trend data'!$A$2:$O$11161,D$6,FALSE),\"-\")","v":"-"},{"$f":"IFERROR(ROUND(VLOOKUP(CONCATENATE(E$5,$C40),'trend data'!$A$2:$O$11161,E$6,FALSE),4),\"-\")","v":"-"},{"$f":"IFERROR(ROUND(VLOOKUP(CONCATENATE(F$5,$C40),'trend data'!$A$2:$O$11161,F$6,FALSE),4),\"-\")","v":"-"},{"$f":"IFERROR(ROUND(VLOOKUP(CONCATENATE(G$5,$C40),'trend data'!$A$2:$O$11161,G$6,FALSE),4),\"-\")","v":"-"},{"$f":"IFERROR(VLOOKUP(CONCATENATE(H$5,$C40),'trend data'!$A$2:$O$11161,H$6,FALSE),\"-\")","v":"-"},{"$f":"IFERROR(ROUND(VLOOKUP(CONCATENATE(I$5,$C40),'trend data'!$A$2:$O$11161,I$6,FALSE),4),\"-\")","v":"-"},{"$f":"IFERROR(ROUND(VLOOKUP(CONCATENATE(J$5,$C40),'trend data'!$A$2:$O$11161,J$6,FALSE),4),\"-\")","v":"-"},{"$f":"IFERROR(ROUND(VLOOKUP(CONCATENATE(K$5,$C40),'trend data'!$A$2:$O$11161,K$6,FALSE),4),\"-\")","v":"-"},{"$f":"IFERROR(VLOOKUP(CONCATENATE(L$5,$C40),'trend data'!$A$2:$O$11161,L$6,FALSE),\"-\")","v":"-"},{"$f":"IFERROR(VLOOKUP(CONCATENATE(M$5,$C40),'trend data'!$A$2:$O$11161,M$6,FALSE),\"-\")","v":"-"}]
[202202,"2022-06-30",{"$f":"CONCATENATE(A41,'SSI Data and Charts'!B$1)","v":"202202Scotland"},{"$f":"IFERROR(VLOOKUP(CONCATENATE(D$5,$C41),'trend data'!$A$2:$O$11161,D$6,FALSE),\"-\")","v":"-"},{"$f":"IFERROR(ROUND(VLOOKUP(CONCATENATE(E$5,$C41),'trend data'!$A$2:$O$11161,E$6,FALSE),4),\"-\")","v":"-"},{"$f":"IFERROR(ROUND(VLOOKUP(CONCATENATE(F$5,$C41),'trend data'!$A$2:$O$11161,F$6,FALSE),4),\"-\")","v":"-"},{"$f":"IFERROR(ROUND(VLOOKUP(CONCATENATE(G$5,$C41),'trend data'!$A$2:$O$11161,G$6,FALSE),4),\"-\")","v":"-"},{"$f":"IFERROR(VLOOKUP(CONCATENATE(H$5,$C41),'trend data'!$A$2:$O$11161,H$6,FALSE),\"-\")","v":"-"},{"$f":"IFERROR(ROUND(VLOOKUP(CONCATENATE(I$5,$C41),'trend data'!$A$2:$O$11161,I$6,FALSE),4),\"-\")","v":"-"},{"$f":"IFERROR(ROUND(VLOOKUP(CONCATENATE(J$5,$C41),'trend data'!$A$2:$O$11161,J$6,FALSE),4),\"-\")","v":"-"},{"$f":"IFERROR(ROUND(VLOOKUP(CONCATENATE(K$5,$C41),'trend data'!$A$2:$O$11161,K$6,FALSE),4),\"-\")","v":"-"},{"$f":"IFERROR(VLOOKUP(CONCATENATE(L$5,$C41),'trend data'!$A$2:$O$11161,L$6,FALSE),\"-\")","v":"-"},{"$f":"IFERROR(VLOOKUP(CONCATENATE(M$5,$C41),'trend data'!$A$2:$O$11161,M$6,FALSE),\"-\")","v":"-"}]
[202203,"2022-09-30",{"$f":"CONCATENATE(A42,'SSI Data and Charts'!B$1)","v":"202203Scotland"},{"$f":"IFERROR(VLOOKUP(CONCATENATE(D$5,$C42),'trend data'!$A$2:$O$11161,D$6,FALSE),\"-\")","v":"-"},{"$f":"IFERROR(ROUND(VLOOKUP(CONCATENATE(E$5,$C42),'trend data'!$A$2:$O$11161,E$6,FALSE),4),\"-\")","v":"-"},{"$f":"IFERROR(ROUND(VLOOKUP(CONCATENATE(F$5,$C42),'trend data'!$A$2:$O$11161,F$6,FALSE),4),\"-\")","v":"-"},{"$f":"IFERROR(ROUND(VLOOKUP(CONCATENATE(G$5,$C42),'trend data'!$A$2:$O$11161,G$6,FALSE),4),\"-\")","v":"-"},{"$f":"IFERROR(VLOOKUP(CONCATENATE(H$5,$C42),'trend data'!$A$2:$O$11161,H$6,FALSE),\"-\")","v":"-"},{"$f":"IFERROR(ROUND(VLOOKUP(CONCATENATE(I$5,$C42),'trend data'!$A$2:$O$11161,I$6,FALSE),4),\"-\")","v":"-"},{"$f":"IFERROR(ROUND(VLOOKUP(CONCATENATE(J$5,$C42),'trend data'!$A$2:$O$11161,J$6,FALSE),4),\"-\")","v":"-"},{"$f":"IFERROR(ROUND(VLOOKUP(CONCATENATE(K$5,$C42),'trend data'!$A$2:$O$11161,K$6,FALSE),4),\"-\")","v":"-"},{"$f":"IFERROR(VLOOKUP(CONCATENATE(L$5,$C42),'trend data'!$A$2:$O$11161,L$6,FALSE),\"-\")","v":"-"},{"$f":"IFERROR(VLOOKUP(CONCATENATE(M$5,$C42),'trend data'!$A$2:$O$11161,M$6,FALSE),\"-\")","v":"-"}]
[202204,"2022-12-31",{"$f":"CONCATENATE(A43,'SSI Data and Charts'!B$1)","v":"202204Scotland"},{"$f":"IFERROR(VLOOKUP(CONCATENATE(D$5,$C43),'trend data'!$A$2:$O$11161,D$6,FALSE),\"-\")","v":"-"},{"$f":"IFERROR(ROUND(VLOOKUP(CONCATENATE(E$5,$C43),'trend data'!$A$2:$O$11161,E$6,FALSE),4),\"-\")","v":"-"},{"$f":"IFERROR(ROUND(VLOOKUP(CONCATENATE(F$5,$C43),'trend data'!$A$2:$O$11161,F$6,FALSE),4),\"-\")","v":"-"},{"$f":"IFERROR(ROUND(VLOOKUP(CONCATENATE(G$5,$C43),'trend data'!$A$2:$O$11161,G$6,FALSE),4),\"-\")","v":"-"},{"$f":"IFERROR(VLOOKUP(CONCATENATE(H$5,$C43),'trend data'!$A$2:$O$11161,H$6,FALSE),\"-\")","v":"-"},{"$f":"IFERROR(ROUND(VLOOKUP(CONCATENATE(I$5,$C43),'trend data'!$A$2:$O$11161,I$6,FALSE),4),\"-\")","v":"-"},{"$f":"IFERROR(ROUND(VLOOKUP(CONCATENATE(J$5,$C43),'trend data'!$A$2:$O$11161,J$6,FALSE),4),\"-\")","v":"-"},{"$f":"IFERROR(ROUND(VLOOKUP(CONCATENATE(K$5,$C43),'trend data'!$A$2:$O$11161,K$6,FALSE),4),\"-\")","v":"-"},{"$f":"IFERROR(VLOOKUP(CONCATENATE(L$5,$C43),'trend data'!$A$2:$O$11161,L$6,FALSE),\"-\")","v":"-"},{"$f":"IFERROR(VLOOKUP(CONCATENATE(M$5,$C43),'trend data'!$A$2:$O$11161,M$6,FALSE),\"-\")","v":"-"}]
[202301,"2023-03-31",{"$f":"CONCATENATE(A44,'SSI Data and Charts'!B$1)","v":"202301Scotland"},{"$f":"IFERROR(VLOOKUP(CONCATENATE(D$5,$C44),'trend data'!$A$2:$O$11161,D$6,FALSE),\"-\")","v":"-"},{"$f":"IFERROR(ROUND(VLOOKUP(CONCATENATE(E$5,$C44),'trend data'!$A$2:$O$11161,E$6,FALSE),4),\"-\")","v":"-"},{"$f":"IFERROR(ROUND(VLOOKUP(CONCATENATE(F$5,$C44),'trend data'!$A$2:$O$11161,F$6,FALSE),4),\"-\")","v":"-"},{"$f":"IFERROR(ROUND(VLOOKUP(CONCATENATE(G$5,$C44),'trend data'!$A$2:$O$11161,G$6,FALSE),4),\"-\")","v":"-"},{"$f":"IFERROR(VLOOKUP(CONCATENATE(H$5,$C44),'trend data'!$A$2:$O$11161,H$6,FALSE),\"-\")","v":"-"},{"$f":"IFERROR(ROUND(VLOOKUP(CONCATENATE(I$5,$C44),'trend data'!$A$2:$O$11161,I$6,FALSE),4),\"-\")","v":"-"},{"$f":"IFERROR(ROUND(VLOOKUP(CONCATENATE(J$5,$C44),'trend data'!$A$2:$O$11161,J$6,FALSE),4),\"-\")","v":"-"},{"$f":"IFERROR(ROUND(VLOOKUP(CONCATENATE(K$5,$C44),'trend data'!$A$2:$O$11161,K$6,FALSE),4),\"-\")","v":"-"},{"$f":"IFERROR(VLOOKUP(CONCATENATE(L$5,$C44),'trend data'!$A$2:$O$11161,L$6,FALSE),\"-\")","v":"-"},{"$f":"IFERROR(VLOOKUP(CONCATENATE(M$5,$C44),'trend data'!$A$2:$O$11161,M$6,FALSE),\"-\")","v":"-"}]
[202302,"2023-06-30",{"$f":"CONCATENATE(A45,'SSI Data and Charts'!B$1)","v":"202302Scotland"},{"$f":"IFERROR(VLOOKUP(CONCATENATE(D$5,$C45),'trend data'!$A$2:$O$11161,D$6,FALSE),\"-\")","v":"-"},{"$f":"IFERROR(ROUND(VLOOKUP(CONCATENATE(E$5,$C45),'trend data'!$A$2:$O$11161,E$6,FALSE),4),\"-\")","v":"-"},{"$f":"IFERROR(ROUND(VLOOKUP(CONCATENATE(F$5,$C45),'trend data'!$A$2:$O$11161,F$6,FALSE),4),\"-\")","v":"-"},{"$f":"IFERROR(ROUND(VLOOKUP(CONCATENATE(G$5,$C45),'trend data'!$A$2:$O$11161,G$6,FALSE),4),\"-\")","v":"-"},{"$f":"IFERROR(VLOOKUP(CONCATENATE(H$5,$C45),'trend data'!$A$2:$O$11161,H$6,FALSE),\"-\")","v":"-"},{"$f":"IFERROR(ROUND(VLOOKUP(CONCATENATE(I$5,$C45),'trend data'!$A$2:$O$11161,I$6,FALSE),4),\"-\")","v":"-"},{"$f":"IFERROR(ROUND(VLOOKUP(CONCATENATE(J$5,$C45),'trend data'!$A$2:$O$11161,J$6,FALSE),4),\"-\")","v":"-"},{"$f":"IFERROR(ROUND(VLOOKUP(CONCATENATE(K$5,$C45),'trend data'!$A$2:$O$11161,K$6,FALSE),4),\"-\")","v":"-"},{"$f":"IFERROR(VLOOKUP(CONCATENATE(L$5,$C45),'trend data'!$A$2:$O$11161,L$6,FALSE),\"-\")","v":"-"},{"$f":"IFERROR(VLOOKUP(CONCATENATE(M$5,$C45),'trend data'!$A$2:$O$11161,M$6,FALSE),\"-\")","v":"-"}]
[202303,"2023-09-30",{"$f":"CONCATENATE(A46,'SSI Data and Charts'!B$1)","v":"202303Scotland"},{"$f":"IFERROR(VLOOKUP(CONCATENATE(D$5,$C46),'trend data'!$A$2:$O$11161,D$6,FALSE),\"-\")","v":"-"},{"$f":"IFERROR(ROUND(VLOOKUP(CONCATENATE(E$5,$C46),'trend data'!$A$2:$O$11161,E$6,FALSE),4),\"-\")","v":"-"},{"$f":"IFERROR(ROUND(VLOOKUP(CONCATENATE(F$5,$C46),'trend data'!$A$2:$O$11161,F$6,FALSE),4),\"-\")","v":"-"},{"$f":"IFERROR(ROUND(VLOOKUP(CONCATENATE(G$5,$C46),'trend data'!$A$2:$O$11161,G$6,FALSE),4),\"-\")","v":"-"},{"$f":"IFERROR(VLOOKUP(CONCATENATE(H$5,$C46),'trend data'!$A$2:$O$11161,H$6,FALSE),\"-\")","v":"-"},{"$f":"IFERROR(ROUND(VLOOKUP(CONCATENATE(I$5,$C46),'trend data'!$A$2:$O$11161,I$6,FALSE),4),\"-\")","v":"-"},{"$f":"IFERROR(ROUND(VLOOKUP(CONCATENATE(J$5,$C46),'trend data'!$A$2:$O$11161,J$6,FALSE),4),\"-\")","v":"-"},{"$f":"IFERROR(ROUND(VLOOKUP(CONCATENATE(K$5,$C46),'trend data'!$A$2:$O$11161,K$6,FALSE),4),\"-\")","v":"-"},{"$f":"IFERROR(VLOOKUP(CONCATENATE(L$5,$C46),'trend data'!$A$2:$O$11161,L$6,FALSE),\"-\")","v":"-"},{"$f":"IFERROR(VLOOKUP(CONCATENATE(M$5,$C46),'trend data'!$A$2:$O$11161,M$6,FALSE),\"-\")","v":"-"}]
[202304,"2023-12-31",{"$f":"CONCATENATE(A47,'SSI Data and Charts'!B$1)","v":"202304Scotland"},{"$f":"IFERROR(VLOOKUP(CONCATENATE(D$5,$C47),'trend data'!$A$2:$O$11161,D$6,FALSE),\"-\")","v":"-"},{"$f":"IFERROR(ROUND(VLOOKUP(CONCATENATE(E$5,$C47),'trend data'!$A$2:$O$11161,E$6,FALSE),4),\"-\")","v":"-"},{"$f":"IFERROR(ROUND(VLOOKUP(CONCATENATE(F$5,$C47),'trend data'!$A$2:$O$11161,F$6,FALSE),4),\"-\")","v":"-"},{"$f":"IFERROR(ROUND(VLOOKUP(CONCATENATE(G$5,$C47),'trend data'!$A$2:$O$11161,G$6,FALSE),4),\"-\")","v":"-"},{"$f":"IFERROR(VLOOKUP(CONCATENATE(H$5,$C47),'trend data'!$A$2:$O$11161,H$6,FALSE),\"-\")","v":"-"},{"$f":"IFERROR(ROUND(VLOOKUP(CONCATENATE(I$5,$C47),'trend data'!$A$2:$O$11161,I$6,FALSE),4),\"-\")","v":"-"},{"$f":"IFERROR(ROUND(VLOOKUP(CONCATENATE(J$5,$C47),'trend data'!$A$2:$O$11161,J$6,FALSE),4),\"-\")","v":"-"},{"$f":"IFERROR(ROUND(VLOOKUP(CONCATENATE(K$5,$C47),'trend data'!$A$2:$O$11161,K$6,FALSE),4),\"-\")","v":"-"},{"$f":"IFERROR(VLOOKUP(CONCATENATE(L$5,$C47),'trend data'!$A$2:$O$11161,L$6,FALSE),\"-\")","v":"-"},{"$f":"IFERROR(VLOOKUP(CONCATENATE(M$5,$C47),'trend data'!$A$2:$O$11161,M$6,FALSE),\"-\")","v":"-"}]
[202401,"2024-03-31",{"$f":"CONCATENATE(A48,'SSI Data and Charts'!B$1)","v":"202401Scotland"},{"$f":"IFERROR(VLOOKUP(CONCATENATE(D$5,$C48),'trend data'!$A$2:$O$11161,D$6,FALSE),\"-\")","v":"-"},{"$f":"IFERROR(ROUND(VLOOKUP(CONCATENATE(E$5,$C48),'trend data'!$A$2:$O$11161,E$6,FALSE),4),\"-\")","v":"-"},{"$f":"IFERROR(ROUND(VLOOKUP(CONCATENATE(F$5,$C48),'trend data'!$A$2:$O$11161,F$6,FALSE),4),\"-\")","v":"-"},{"$f":"IFERROR(ROUND(VLOOKUP(CONCATENATE(G$5,$C48),'trend data'!$A$2:$O$11161,G$6,FALSE),4),\"-\")","v":"-"},{"$f":"IFERROR(VLOOKUP(CONCATENATE(H$5,$C48),'trend data'!$A$2:$O$11161,H$6,FALSE),\"-\")","v":"-"},{"$f":"IFERROR(ROUND(VLOOKUP(CONCATENATE(I$5,$C48),'trend data'!$A$2:$O$11161,I$6,FALSE),4),\"-\")","v":"-"},{"$f":"IFERROR(ROUND(VLOOKUP(CONCATENATE(J$5,$C48),'trend data'!$A$2:$O$11161,J$6,FALSE),4),\"-\")","v":"-"},{"$f":"IFERROR(ROUND(VLOOKUP(CONCATENATE(K$5,$C48),'trend data'!$A$2:$O$11161,K$6,FALSE),4),\"-\")","v":"-"},{"$f":"IFERROR(VLOOKUP(CONCATENATE(L$5,$C48),'trend data'!$A$2:$O$11161,L$6,FALSE),\"-\")","v":"-"},{"$f":"IFERROR(VLOOKUP(CONCATENATE(M$5,$C48),'trend data'!$A$2:$O$11161,M$6,FALSE),\"-\")","v":"-"}]
[202402,"2024-06-30",{"$f":"CONCATENATE(A49,'SSI Data and Charts'!B$1)","v":"202402Scotland"},{"$f":"IFERROR(VLOOKUP(CONCATENATE(D$5,$C49),'trend data'!$A$2:$O$11161,D$6,FALSE),\"-\")","v":"-"},{"$f":"IFERROR(ROUND(VLOOKUP(CONCATENATE(E$5,$C49),'trend data'!$A$2:$O$11161,E$6,FALSE),4),\"-\")","v":"-"},{"$f":"IFERROR(ROUND(VLOOKUP(CONCATENATE(F$5,$C49),'trend data'!$A$2:$O$11161,F$6,FALSE),4),\"-\")","v":"-"},{"$f":"IFERROR(ROUND(VLOOKUP(CONCATENATE(G$5,$C49),'trend data'!$A$2:$O$11161,G$6,FALSE),4),\"-\")","v":"-"},{"$f":"IFERROR(VLOOKUP(CONCATENATE(H$5,$C49),'trend data'!$A$2:$O$11161,H$6,FALSE),\"-\")","v":"-"},{"$f":"IFERROR(ROUND(VLOOKUP(CONCATENATE(I$5,$C49),'trend data'!$A$2:$O$11161,I$6,FALSE),4),\"-\")","v":"-"},{"$f":"IFERROR(ROUND(VLOOKUP(CONCATENATE(J$5,$C49),'trend data'!$A$2:$O$11161,J$6,FALSE),4),\"-\")","v":"-"},{"$f":"IFERROR(ROUND(VLOOKUP(CONCATENATE(K$5,$C49),'trend data'!$A$2:$O$11161,K$6,FALSE),4),\"-\")","v":"-"},{"$f":"IFERROR(VLOOKUP(CONCATENATE(L$5,$C49),'trend data'!$A$2:$O$11161,L$6,FALSE),\"-\")","v":"-"},{"$f":"IFERROR(VLOOKUP(CONCATENATE(M$5,$C49),'trend data'!$A$2:$O$11161,M$6,FALSE),\"-\")","v":"-"}]

{"sheet":"SAB data","index":7,"n_rows":46,"n_cols":37,"rows_kept":46,"cut":false,"hidden":true,"merged":[]}
["Trend data",null,null,null,null,null,null,null,null,null,null,null,null,null,null,null,null,null,null,"data for u-charts"]
[]
["always last 3 years"]
[null,null,null,null,null,null,null,null,null,null,null,null,null,null,null,null,null,null,null,null,null,null,"change this"]
[null,null,null,"SABHCAI","SABHCAI","SABHCAI","SABHCAI","SABCAUN","SABCAUN","SABCAUN","SABCAUN","SAB    ","SAB    ","SAB    ","SAB    ","SAB    ",null,null,null,null,null,"current quarter end","2024-06-30",3,4,5,6,null,3,4,5,6,null,3,4,5,6]
[null,null,null,2,4,5,6,2,4,5,6,2,4,5,6,3]
[null,null,"ref","HCAI Cases","Healthcare associated rate","Healthcare associated  lower CI","Healthcare associated  upper CI","Community associatedCases","Community associated rate","Community associated lower CI","Community associated upper CI","CASES","RATE","LOWER","UPPER","beds",null,null,null,null,null,null,null,"SABHCAI",null,null,null,null,"SABCAUN",null,null,null,null,"SAB "]
[201404,"2014-12-19",{"$f":"CONCATENATE(A8,'SAB Data and Charts'!B$1)","v":"201404Scotland"},{"$f":"VLOOKUP(CONCATENATE(D$5,$C8),'trend data'!$A$2:$O$11161,D$6,FALSE)","v":275},{"$f":"ROUND(VLOOKUP(CONCATENATE(E$5,$C8),'trend data'!$A$2:$O$11161,E$6,FALSE),3)","v":16.065000000000001},{"$f":"ROUND(VLOOKUP(CONCATENATE(F$5,$C8),'trend data'!$A$2:$O$11161,F$6,FALSE),3)","v":14.222},{"$f":"ROUND(VLOOKUP(CONCATENATE(G$5,$C8),'trend data'!$A$2:$O$11161,G$6,FALSE),3)","v":18.079999999999998},{"$f":"IFERROR(VLOOKUP(CONCATENATE(H$5,$C8),'trend data'!$A$2:$O$11161,H$6,FALSE),\"-\")","v":119},{"$f":"IFERROR(ROUND(VLOOKUP(CONCATENATE(I$5,$C8),'trend data'!$A$2:$O$11161,I$6,FALSE),3),\"-\")","v":8.8539999999999992},{"$f":"IFERROR(ROUND(VLOOKUP(CONCATENATE(J$5,$C8),'trend data'!$A$2:$O$11161,J$6,FALSE),3),\"-\")","v":7.335},{"$f":"IFERROR(ROUND(VLOOKUP(CONCATENATE(K$5,$C8),'trend data'!$A$2:$O$11161,K$6,FALSE),3),\"-\")","v":10.595000000000001},{"$f":"IFERROR(VLOOKUP(CONCATENATE(L$5,$C8),'trend data'!$A$2:$O$11161,L$6,FALSE),\"-\")","v":"-"},{"$f":"IFERROR(VLOOKUP(CONCATENATE(M$5,$C8),'trend data'!$A$2:$O$11161,M$6,FALSE),\"-\")","v":"-"},{"$f":"IFERROR(VLOOKUP(CONCATENATE(N$5,$C8),'trend data'!$A$2:$O$11161,N$6,FALSE),\"-\")","v":"-"},{"$f":"IFERROR(VLOOKUP(CONCATENATE(O$5,$C8),'trend data'!$A$2:$O$11161,O$6,FALSE),\"-\")","v":"-"},{"$f":"IFERROR(VLOOKUP(CONCATENATE(P$5,$C8),'trend data'!$A$2:$O$11161,P$6,FALSE),\"-\")","v":"-"},null,null,null,"change to last 12 quarters",null,null,null,"Healthcare associated rate","Healthcare associated av rate","Healthcare associated UWL 2sd","Healthcare associated UCL 3sd",null,"Community associated rate","Community associated av rate","Community associated UWL 2sd","Community associated UCL 3 sd",null,"sa rate","sa av rate","sa UWL 2 sd","sa UCL 3 sd"]
[201501,"2015-03-24",{"$f":"CONCATENATE(A9,'SAB Data and Charts'!B$1)","v":"201501Scotland"},{"$f":"VLOOKUP(CONCATENATE(D$5,$C9),'trend data'!$A$2:$O$11161,D$6,FALSE)","v":263},{"$f":"ROUND(VLOOKUP(CONCATENATE(E$5,$C9),'trend data'!$A$2:$O$11161,E$6,FALSE),3)","v":15.257999999999999},{"$f":"ROUND(VLOOKUP(CONCATENATE(F$5,$C9),'trend data'!$A$2:$O$11161,F$6,FALSE),3)","v":13.468999999999999},{"$f":"ROUND(VLOOKUP(CONCATENATE(G$5,$C9),'trend data'!$A$2:$O$11161,G$6,FALSE),3)","v":17.218},{"$f":"IFERROR(VLOOKUP(CONCATENATE(H$5,$C9),'trend data'!$A$2:$O$11161,H$6,FALSE),\"-\")","v":126},{"$f":"IFERROR(ROUND(VLOOKUP(CONCATENATE(I$5,$C9),'trend data'!$A$2:$O$11161,I$6,FALSE),3),\"-\")","v":9.548},{"$f":"IFERROR(ROUND(VLOOKUP(CONCATENATE(J$5,$C9),'trend data'!$A$2:$O$11161,J$6,FALSE),3),\"-\")","v":7.9539999999999997},{"$f":"IFERROR(ROUND(VLOOKUP(CONCATENATE(K$5,$C9),'trend data'!$A$2:$O$11161,K$6,FALSE),3),\"-\")","v":11.369},{"$f":"IFERROR(VLOOKUP(CONCATENATE(L$5,$C9),'trend data'!$A$2:$O$11161,L$6,FALSE),\"-\")","v":"-"},{"$f":"IFERROR(VLOOKUP(CONCATENATE(M$5,$C9),'trend data'!$A$2:$O$11161,M$6,FALSE),\"-\")","v":"-"},{"$f":"IFERROR(VLOOKUP(CONCATENATE(N$5,$C9),'trend data'!$A$2:$O$11161,N$6,FALSE),\"-\")","v":"-"},{"$f":"IFERROR(VLOOKUP(CONCATENATE(O$5,$C9),'trend data'!$A$2:$O$11161,O$6,FALSE),\"-\")","v":"-"},{"$f":"IFERROR(VLOOKUP(CONCATENATE(P$5,$C9),'trend data'!$A$2:$O$11161,P$6,FALSE),\"-\")","v":"-"},null,null,null,{"$f":"YEAR(W9)&\"0\"&IF(MONTH(W9)<4,1,IF(MONTH(W9)<7,2,IF(MONTH(W9)<10,3,4)))","v":"202103"},{"$f":"CONCATENATE(X$7,$T9,'SAB Data and Charts'!B$1)","v":"SABHCAI202103Scotland"},1,{"$f":"W10-92","v":"2021-09-22"},{"$f":"ROUND(VLOOKUP($U9,'data for u-p-charts'!$A$2:$F$5000,X$5,FALSE),2)","v":18.399999999999999},{"$f":"ROUND(VLOOKUP($U9,'data for u-p-charts'!$A$2:$F$5000,Y$5,FALSE),2)","v":18.010000000000002},{"$f":"ROUND(VLOOKUP($U9,'data for u-p-charts'!$A$2:$F$5000,Z$5,FALSE),2)","v":20.23},{"$f":"ROUND(VLOOKUP($U9,'data for u-p-charts'!$A$2:$F$5000,AA$5,FALSE),2)","v":21.34},{"$f":"CONCATENATE(AC$7,$T9,'SAB Data and Charts'!$B$1)","v":"SABCAUN202103Scotland"},{"$f":"ROUND(VLOOKUP($AB9,'data for u-p-charts'!$A$2:$F$5000,AC$5,FALSE),2)","v":9.67},{"$f":"ROUND(VLOOKUP($AB9,'data for u-p-charts'!$A$2:$F$5000,AD$5,FALSE),2)","v":10.01},{"$f":"ROUND(VLOOKUP($AB9,'data for u-p-charts'!$A$2:$F$5000,AE$5,FALSE),2)","v":11.72},{"$f":"ROUND(VLOOKUP($AB9,'data for u-p-charts'!$A$2:$F$5000,AF$5,FALSE),2)","v":12.58},{"$f":"CONCATENATE(AH$7,$T9,'SAB Data and Charts'!$B$1)","v":"SAB 202103Scotland"},{"$f":"VLOOKUP($AG9,'data for u-p-charts'!$A$2:$F$5000,AH$5,FALSE)","v":{"$error":"#N/A"}},{"$f":"VLOOKUP($AG9,'data for u-p-charts'!$A$2:$F$5000,AI$5,FALSE)","v":{"$error":"#N/A"}},{"$f":"VLOOKUP($AG9,'data for u-p-charts'!$A$2:$F$5000,AJ$5,FALSE)","v":{"$error":"#N/A"}},{"$f":"VLOOKUP($AG9,'data for u-p-charts'!$A$2:$F$5000,AK$5,FALSE)","v":{"$error":"#N/A"}}]
[201502,"2015-06-24",{"$f":"CONCATENATE(A10,'SAB Data and Charts'!B$1)","v":"201502Scotland"},{"$f":"VLOOKUP(CONCATENATE(D$5,$C10),'trend data'!$A$2:$O$11161,D$6,FALSE)","v":284},{"$f":"ROUND(VLOOKUP(CONCATENATE(E$5,$C10),'trend data'!$A$2:$O$11161,E$6,FALSE),3)","v":17.094000000000001},{"$f":"ROUND(VLOOKUP(CONCATENATE(F$5,$C10),'trend data'!$A$2:$O$11161,F$6,FALSE),3)","v":15.163},{"$f":"ROUND(VLOOKUP(CONCATENATE(G$5,$C10),'trend data'!$A$2:$O$11161,G$6,FALSE),3)","v":19.202000000000002},{"$f":"IFERROR(VLOOKUP(CONCATENATE(H$5,$C10),'trend data'!$A$2:$O$11161,H$6,FALSE),\"-\")","v":131},{"$f":"IFERROR(ROUND(VLOOKUP(CONCATENATE(I$5,$C10),'trend data'!$A$2:$O$11161,I$6,FALSE),3),\"-\")","v":9.8179999999999996},{"$f":"IFERROR(ROUND(VLOOKUP(CONCATENATE(J$5,$C10),'trend data'!$A$2:$O$11161,J$6,FALSE),3),\"-\")","v":8.2089999999999996},{"$f":"IFERROR(ROUND(VLOOKUP(CONCATENATE(K$5,$C10),'trend data'!$A$2:$O$11161,K$6,FALSE),3),\"-\")","v":11.651},{"$f":"IFERROR(VLOOKUP(CONCATENATE(L$5,$C10),'trend data'!$A$2:$O$11161,L$6,FALSE),\"-\")","v":"-"},{"$f":"IFERROR(VLOOKUP(CONCATENATE(M$5,$C10),'trend data'!$A$2:$O$11161,M$6,FALSE),\"-\")","v":"-"},{"$f":"IFERROR(VLOOKUP(CONCATENATE(N$5,$C10),'trend data'!$A$2:$O$11161,N$6,FALSE),\"-\")","v":"-"},{"$f":"IFERROR(VLOOKUP(CONCATENATE(O$5,$C10),'trend data'!$A$2:$O$11161,O$6,FALSE),\"-\")","v":"-"},{"$f":"IFERROR(VLOOKUP(CONCATENATE(P$5,$C10),'trend data'!$A$2:$O$11161,P$6,FALSE),\"-\")","v":"-"},null,null,null,{"$f":"YEAR(W10)&\"0\"&IF(MONTH(W10)<4,1,IF(MONTH(W10)<7,2,IF(MONTH(W10)<10,3,4)))","v":"202104"},{"$f":"CONCATENATE(X$7,T10,'SAB Data and Charts'!B$1)","v":"SABHCAI202104Scotland"},2,"2021-12-23",{"$f":"ROUND(VLOOKUP($U10,'data for u-p-charts'!$A$2:$F$5000,X$5,FALSE),2)","v":17.34},{"$f":"ROUND(VLOOKUP($U10,'data for u-p-charts'!$A$2:$F$5000,Y$5,FALSE),2)","v":18.010000000000002},{"$f":"ROUND(VLOOKUP($U10,'data for u-p-charts'!$A$2:$F$5000,Z$5,FALSE),2)","v":20.2},{"$f":"ROUND(VLOOKUP($U10,'data for u-p-charts'!$A$2:$F$5000,AA$5,FALSE),2)","v":21.3},{"$f":"CONCATENATE(AC$7,$T10,'SAB Data and Charts'!$B$1)","v":"SABCAUN202104Scotland"},{"$f":"ROUND(VLOOKUP($AB10,'data for u-p-charts'!$A$2:$F$5000,AC$5,FALSE),2)","v":9.9600000000000009},{"$f":"ROUND(VLOOKUP($AB10,'data for u-p-charts'!$A$2:$F$5000,AD$5,FALSE),2)","v":10.01},{"$f":"ROUND(VLOOKUP($AB10,'data for u-p-charts'!$A$2:$F$5000,AE$5,FALSE),2)","v":11.72},{"$f":"ROUND(VLOOKUP($AB10,'data for u-p-charts'!$A$2:$F$5000,AF$5,FALSE),2)","v":12.58},{"$f":"CONCATENATE(AH$7,$T10,'SAB Data and Charts'!$B$1)","v":"SAB 202104Scotland"},{"$f":"VLOOKUP($AG10,'data for u-p-charts'!$A$2:$F$5000,AH$5,FALSE)","v":{"$error":"#N/A"}},{"$f":"VLOOKUP($AG10,'data for u-p-charts'!$A$2:$F$5000,AI$5,FALSE)","v":{"$error":"#N/A"}},{"$f":"VLOOKUP($AG10,'data for u-p-charts'!$A$2:$F$5000,AJ$5,FALSE)","v":{"$error":"#N/A"}},{"$f":"VLOOKUP($AG10,'data for u-p-charts'!$A$2:$F$5000,AK$5,FALSE)","v":{"$error":"#N/A"}}]
[201503,"2015-09-24",{"$f":"CONCATENATE(A11,'SAB Data and Charts'!B$1)","v":"201503Scotland"},{"$f":"VLOOKUP(CONCATENATE(D$5,$C11),'trend data'!$A$2:$O$11161,D$6,FALSE)","v":275},{"$f":"ROUND(VLOOKUP(CONCATENATE(E$5,$C11),'trend data'!$A$2:$O$11161,E$6,FALSE),3)","v":16.966000000000001},{"$f":"ROUND(VLOOKUP(CONCATENATE(F$5,$C11),'trend data'!$A$2:$O$11161,F$6,FALSE),3)","v":15.02},{"$f":"ROUND(VLOOKUP(CONCATENATE(G$5,$C11),'trend data'!$A$2:$O$11161,G$6,FALSE),3)","v":19.094000000000001},{"$f":"IFERROR(VLOOKUP(CONCATENATE(H$5,$C11),'trend data'!$A$2:$O$11161,H$6,FALSE),\"-\")","v":113},{"$f":"IFERROR(ROUND(VLOOKUP(CONCATENATE(I$5,$C11),'trend data'!$A$2:$O$11161,I$6,FALSE),3),\"-\")","v":8.3770000000000007},{"$f":"IFERROR(ROUND(VLOOKUP(CONCATENATE(J$5,$C11),'trend data'!$A$2:$O$11161,J$6,FALSE),3),\"-\")","v":6.9039999999999999},{"$f":"IFERROR(ROUND(VLOOKUP(CONCATENATE(K$5,$C11),'trend data'!$A$2:$O$11161,K$6,FALSE),3),\"-\")","v":10.071999999999999},{"$f":"IFERROR(VLOOKUP(CONCATENATE(L$5,$C11),'trend data'!$A$2:$O$11161,L$6,FALSE),\"-\")","v":"-"},{"$f":"IFERROR(VLOOKUP(CONCATENATE(M$5,$C11),'trend data'!$A$2:$O$11161,M$6,FALSE),\"-\")","v":"-"},{"$f":"IFERROR(VLOOKUP(CONCATENATE(N$5,$C11),'trend data'!$A$2:$O$11161,N$6,FALSE),\"-\")","v":"-"},{"$f":"IFERROR(VLOOKUP(CONCATENATE(O$5,$C11),'trend data'!$A$2:$O$11161,O$6,FALSE),\"-\")","v":"-"},{"$f":"IFERROR(VLOOKUP(CONCATENATE(P$5,$C11),'trend data'!$A$2:$O$11161,P$6,FALSE),\"-\")","v":"-"},null,null,null,{"$f":"YEAR(W11)&\"0\"&IF(MONTH(W11)<4,1,IF(MONTH(W11)<7,2,IF(MONTH(W11)<10,3,4)))","v":"202201"},{"$f":"CONCATENATE(X$7,T11,'SAB Data and Charts'!B$1)","v":"SABHCAI202201Scotland"},3,"2022-03-25",{"$f":"ROUND(VLOOKUP($U11,'data for u-p-charts'!$A$2:$F$5000,X$5,FALSE),2)","v":16.27},{"$f":"ROUND(VLOOKUP($U11,'data for u-p-charts'!$A$2:$F$5000,Y$5,FALSE),2)","v":18.010000000000002},{"$f":"ROUND(VLOOKUP($U11,'data for u-p-charts'!$A$2:$F$5000,Z$5,FALSE),2)","v":20.21},{"$f":"ROUND(VLOOKUP($U11,'data for u-p-charts'!$A$2:$F$5000,AA$5,FALSE),2)","v":21.32},{"$f":"CONCATENATE(AC$7,$T11,'SAB Data and Charts'!$B$1)","v":"SABCAUN202201Scotland"},{"$f":"ROUND(VLOOKUP($AB11,'data for u-p-charts'!$A$2:$F$5000,AC$5,FALSE),2)","v":9.68},{"$f":"ROUND(VLOOKUP($AB11,'data for u-p-charts'!$A$2:$F$5000,AD$5,FALSE),2)","v":10.01},{"$f":"ROUND(VLOOKUP($AB11,'data for u-p-charts'!$A$2:$F$5000,AE$5,FALSE),2)","v":11.74},{"$f":"ROUND(VLOOKUP($AB11,'data for u-p-charts'!$A$2:$F$5000,AF$5,FALSE),2)","v":12.6},{"$f":"CONCATENATE(AH$7,$T11,'SAB Data and Charts'!$B$1)","v":"SAB 202201Scotland"},{"$f":"VLOOKUP($AG11,'data for u-p-charts'!$A$2:$F$5000,AH$5,FALSE)","v":{"$error":"#N/A"}},{"$f":"VLOOKUP($AG11,'data for u-p-charts'!$A$2:$F$5000,AI$5,FALSE)","v":{"$error":"#N/A"}},{"$f":"VLOOKUP($AG11,'data for u-p-charts'!$A$2:$F$5000,AJ$5,FALSE)","v":{"$error":"#N/A"}},{"$f":"VLOOKUP($AG11,'data for u-p-charts'!$A$2:$F$5000,AK$5,FALSE)","v":{"$error":"#N/A"}}]
[201504,"2015-12-24",{"$f":"CONCATENATE(A12,'SAB Data and Charts'!B$1)","v":"201504Scotland"},{"$f":"VLOOKUP(CONCATENATE(D$5,$C12),'trend data'!$A$2:$O$11161,D$6,FALSE)","v":303},{"$f":"ROUND(VLOOKUP(CONCATENATE(E$5,$C12),'trend data'!$A$2:$O$11161,E$6,FALSE),3)","v":18.451000000000001},{"$f":"ROUND(VLOOKUP(CONCATENATE(F$5,$C12),'trend data'!$A$2:$O$11161,F$6,FALSE),3)","v":16.431999999999999},{"$f":"ROUND(VLOOKUP(CONCATENATE(G$5,$C12),'trend data'!$A$2:$O$11161,G$6,FALSE),3)","v":20.65},{"$f":"IFERROR(VLOOKUP(CONCATENATE(H$5,$C12),'trend data'!$A$2:$O$11161,H$6,FALSE),\"-\")","v":104},{"$f":"IFERROR(ROUND(VLOOKUP(CONCATENATE(I$5,$C12),'trend data'!$A$2:$O$11161,I$6,FALSE),3),\"-\")","v":7.71},{"$f":"IFERROR(ROUND(VLOOKUP(CONCATENATE(J$5,$C12),'trend data'!$A$2:$O$11161,J$6,FALSE),3),\"-\")","v":6.2990000000000004},{"$f":"IFERROR(ROUND(VLOOKUP(CONCATENATE(K$5,$C12),'trend data'!$A$2:$O$11161,K$6,FALSE),3),\"-\")","v":9.3420000000000005},{"$f":"IFERROR(VLOOKUP(CONCATENATE(L$5,$C12),'trend data'!$A$2:$O$11161,L$6,FALSE),\"-\")","v":"-"},{"$f":"IFERROR(VLOOKUP(CONCATENATE(M$5,$C12),'trend data'!$A$2:$O$11161,M$6,FALSE),\"-\")","v":"-"},{"$f":"IFERROR(VLOOKUP(CONCATENATE(N$5,$C12),'trend data'!$A$2:$O$11161,N$6,FALSE),\"-\")","v":"-"},{"$f":"IFERROR(VLOOKUP(CONCATENATE(O$5,$C12),'trend data'!$A$2:$O$11161,O$6,FALSE),\"-\")","v":"-"},{"$f":"IFERROR(VLOOKUP(CONCATENATE(P$5,$C12),'trend data'!$A$2:$O$11161,P$6,FALSE),\"-\")","v":"-"},null,null,null,"202202",{"$f":"CONCATENATE(X$7,T12,'SAB Data and Charts'!B$1)","v":"SABHCAI202202Scotland"},4,"2022-06-25",{"$f":"ROUND(VLOOKUP($U12,'data for u-p-charts'!$A$2:$F$5000,X$5,FALSE),2)","v":17.28},{"$f":"ROUND(VLOOKUP($U12,'data for u-p-charts'!$A$2:$F$5000,Y$5,FALSE),2)","v":18.010000000000002},{"$f":"ROUND(VLOOKUP($U12,'data for u-p-charts'!$A$2:$F$5000,Z$5,FALSE),2)","v":20.190000000000001},{"$f":"ROUND(VLOOKUP($U12,'data for u-p-charts'!$A$2:$F$5000,AA$5,FALSE),2)","v":21.28},{"$f":"CONCATENATE(AC$7,$T12,'SAB Data and Charts'!$B$1)","v":"SABCAUN202202Scotland"},{"$f":"ROUND(VLOOKUP($AB12,'data for u-p-charts'!$A$2:$F$5000,AC$5,FALSE),2)","v":10.23},{"$f":"ROUND(VLOOKUP($AB12,'data for u-p-charts'!$A$2:$F$5000,AD$5,FALSE),2)","v":10.01},{"$f":"ROUND(VLOOKUP($AB12,'data for u-p-charts'!$A$2:$F$5000,AE$5,FALSE),2)","v":11.73},{"$f":"ROUND(VLOOKUP($AB12,'data for u-p-charts'!$A$2:$F$5000,AF$5,FALSE),2)","v":12.59},{"$f":"CONCATENATE(AH$7,$T12,'SAB Data and Charts'!$B$1)","v":"SAB 202202Scotland"},{"$f":"VLOOKUP($AG12,'data for u-p-charts'!$A$2:$F$5000,AH$5,FALSE)","v":{"$error":"#N/A"}},{"$f":"VLOOKUP($AG12,'data for u-p-charts'!$A$2:$F$5000,AI$5,FALSE)","v":{"$error":"#N/A"}},{"$f":"VLOOKUP($AG12,'data for u-p-charts'!$A$2:$F$5000,AJ$5,FALSE)","v":{"$error":"#N/A"}},{"$f":"VLOOKUP($AG12,'data for u-p-charts'!$A$2:$F$5000,AK$5,FALSE)","v":{"$error":"#N/A"}}]
[201601,"2016-03-24",{"$f":"CONCATENATE(A13,'SAB Data and Charts'!B$1)","v":"201601Scotland"},{"$f":"VLOOKUP(CONCATENATE(D$5,$C13),'trend data'!$A$2:$O$11161,D$6,FALSE)","v":279},{"$f":"ROUND(VLOOKUP(CONCATENATE(E$5,$C13),'trend data'!$A$2:$O$11161,E$6,FALSE),3)","v":16.661999999999999},{"$f":"ROUND(VLOOKUP(CONCATENATE(F$5,$C13),'trend data'!$A$2:$O$11161,F$6,FALSE),3)","v":14.763999999999999},{"$f":"ROUND(VLOOKUP(CONCATENATE(G$5,$C13),'trend data'!$A$2:$O$11161,G$6,FALSE),3)","v":18.736999999999998},{"$f":"IFERROR(VLOOKUP(CONCATENATE(H$5,$C13),'trend data'!$A$2:$O$11161,H$6,FALSE),\"-\")","v":139},{"$f":"IFERROR(ROUND(VLOOKUP(CONCATENATE(I$5,$C13),'trend data'!$A$2:$O$11161,I$6,FALSE),3),\"-\")","v":10.401},{"$f":"IFERROR(ROUND(VLOOKUP(CONCATENATE(J$5,$C13),'trend data'!$A$2:$O$11161,J$6,FALSE),3),\"-\")","v":8.7439999999999998},{"$f":"IFERROR(ROUND(VLOOKUP(CONCATENATE(K$5,$C13),'trend data'!$A$2:$O$11161,K$6,FALSE),3),\"-\")","v":12.281000000000001},{"$f":"IFERROR(VLOOKUP(CONCATENATE(L$5,$C13),'trend data'!$A$2:$O$11161,L$6,FALSE),\"-\")","v":"-"},{"$f":"IFERROR(VLOOKUP(CONCATENATE(M$5,$C13),'trend data'!$A$2:$O$11161,M$6,FALSE),\"-\")","v":"-"},{"$f":"IFERROR(VLOOKUP(CONCATENATE(N$5,$C13),'trend data'!$A$2:$O$11161,N$6,FALSE),\"-\")","v":"-"},{"$f":"IFERROR(VLOOKUP(CONCATENATE(O$5,$C13),'trend data'!$A$2:$O$11161,O$6,FALSE),\"-\")","v":"-"},{"$f":"IFERROR(VLOOKUP(CONCATENATE(P$5,$C13),'trend data'!$A$2:$O$11161,P$6,FALSE),\"-\")","v":"-"},null,null,null,"202203",{"$f":"CONCATENATE(X$7,T13,'SAB Data and Charts'!B$1)","v":"SABHCAI202203Scotland"},5,"2022-09-25",{"$f":"ROUND(VLOOKUP($U13,'data for u-p-charts'!$A$2:$F$5000,X$5,FALSE),2)","v":17.079999999999998},{"$f":"ROUND(VLOOKUP($U13,'data for u-p-charts'!$A$2:$F$5000,Y$5,FALSE),2)","v":18.010000000000002},{"$f":"ROUND(VLOOKUP($U13,'data for u-p-charts'!$A$2:$F$5000,Z$5,FALSE),2)","v":20.170000000000002},{"$f":"ROUND(VLOOKUP($U13,'data for u-p-charts'!$A$2:$F$5000,AA$5,FALSE),2)","v":21.25},{"$f":"CONCATENATE(AC$7,$T13,'SAB Data and Charts'!$B$1)","v":"SABCAUN202203Scotland"},{"$f":"ROUND(VLOOKUP($AB13,'data for u-p-charts'!$A$2:$F$5000,AC$5,FALSE),2)","v":8.81},{"$f":"ROUND(VLOOKUP($AB13,'data for u-p-charts'!$A$2:$F$5000,AD$5,FALSE),2)","v":10.01},{"$f":"ROUND(VLOOKUP($AB13,'data for u-p-charts'!$A$2:$F$5000,AE$5,FALSE),2)","v":11.72},{"$f":"ROUND(VLOOKUP($AB13,'data for u-p-charts'!$A$2:$F$5000,AF$5,FALSE),2)","v":12.57},{"$f":"CONCATENATE(AH$7,$T13,'SAB Data and Charts'!$B$1)","v":"SAB 202203Scotland"},{"$f":"VLOOKUP($AG13,'data for u-p-charts'!$A$2:$F$5000,AH$5,FALSE)","v":{"$error":"#N/A"}},{"$f":"VLOOKUP($AG13,'data for u-p-charts'!$A$2:$F$5000,AI$5,FALSE)","v":{"$error":"#N/A"}},{"$f":"VLOOKUP($AG13,'data for u-p-charts'!$A$2:$F$5000,AJ$5,FALSE)","v":{"$error":"#N/A"}},{"$f":"VLOOKUP($AG13,'data for u-p-charts'!$A$2:$F$5000,AK$5,FALSE)","v":{"$error":"#N/A"}}]
[201602,"2016-06-24",{"$f":"CONCATENATE(A14,'SAB Data and Charts'!B$1)","v":"201602Scotland"},{"$f":"VLOOKUP(CONCATENATE(D$5,$C14),'trend data'!$A$2:$O$11161,D$6,FALSE)","v":260},{"$f":"ROUND(VLOOKUP(CONCATENATE(E$5,$C14),'trend data'!$A$2:$O$11161,E$6,FALSE),3)","v":16.198},{"$f":"ROUND(VLOOKUP(CONCATENATE(F$5,$C14),'trend data'!$A$2:$O$11161,F$6,FALSE),3)","v":14.289},{"$f":"ROUND(VLOOKUP(CONCATENATE(G$5,$C14),'trend data'!$A$2:$O$11161,G$6,FALSE),3)","v":18.292000000000002},{"$f":"IFERROR(VLOOKUP(CONCATENATE(H$5,$C14),'trend data'!$A$2:$O$11161,H$6,FALSE),\"-\")","v":121},{"$f":"IFERROR(ROUND(VLOOKUP(CONCATENATE(I$5,$C14),'trend data'!$A$2:$O$11161,I$6,FALSE),3),\"-\")","v":9.0540000000000003},{"$f":"IFERROR(ROUND(VLOOKUP(CONCATENATE(J$5,$C14),'trend data'!$A$2:$O$11161,J$6,FALSE),3),\"-\")","v":7.5129999999999999},{"$f":"IFERROR(ROUND(VLOOKUP(CONCATENATE(K$5,$C14),'trend data'!$A$2:$O$11161,K$6,FALSE),3),\"-\")","v":10.819000000000001},{"$f":"IFERROR(VLOOKUP(CONCATENATE(L$5,$C14),'trend data'!$A$2:$O$11161,L$6,FALSE),\"-\")","v":"-"},{"$f":"IFERROR(VLOOKUP(CONCATENATE(M$5,$C14),'trend data'!$A$2:$O$11161,M$6,FALSE),\"-\")","v":"-"},{"$f":"IFERROR(VLOOKUP(CONCATENATE(N$5,$C14),'trend data'!$A$2:$O$11161,N$6,FALSE),\"-\")","v":"-"},{"$f":"IFERROR(VLOOKUP(CONCATENATE(O$5,$C14),'trend data'!$A$2:$O$11161,O$6,FALSE),\"-\")","v":"-"},{"$f":"IFERROR(VLOOKUP(CONCATENATE(P$5,$C14),'trend data'!$A$2:$O$11161,P$6,FALSE),\"-\")","v":"-"},null,null,null,"202204",{"$f":"CONCATENATE(X$7,T14,'SAB Data and Charts'!B$1)","v":"SABHCAI202204Scotland"},6,"2022-12-26",{"$f":"ROUND(VLOOKUP($U14,'data for u-p-charts'!$A$2:$F$5000,X$5,FALSE),2)","v":19.25},{"$f":"ROUND(VLOOKUP($U14,'data for u-p-charts'!$A$2:$F$5000,Y$5,FALSE),2)","v":18.010000000000002},{"$f":"ROUND(VLOOKUP($U14,'data for u-p-charts'!$A$2:$F$5000,Z$5,FALSE),2)","v":20.149999999999999},{"$f":"ROUND(VLOOKUP($U14,'data for u-p-charts'!$A$2:$F$5000,AA$5,FALSE),2)","v":21.22},{"$f":"CONCATENATE(AC$7,$T14,'SAB Data and Charts'!$B$1)","v":"SABCAUN202204Scotland"},{"$f":"ROUND(VLOOKUP($AB14,'data for u-p-charts'!$A$2:$F$5000,AC$5,FALSE),2)","v":9.5399999999999991},{"$f":"ROUND(VLOOKUP($AB14,'data for u-p-charts'!$A$2:$F$5000,AD$5,FALSE),2)","v":10.01},{"$f":"ROUND(VLOOKUP($AB14,'data for u-p-charts'!$A$2:$F$5000,AE$5,FALSE),2)","v":11.72},{"$f":"ROUND(VLOOKUP($AB14,'data for u-p-charts'!$A$2:$F$5000,AF$5,FALSE),2)","v":12.57},{"$f":"CONCATENATE(AH$7,$T14,'SAB Data and Charts'!$B$1)","v":"SAB 202204Scotland"},{"$f":"VLOOKUP($AG14,'data for u-p-charts'!$A$2:$F$5000,AH$5,FALSE)","v":{"$error":"#N/A"}},{"$f":"VLOOKUP($AG14,'data for u-p-charts'!$A$2:$F$5000,AI$5,FALSE)","v":{"$error":"#N/A"}},{"$f":"VLOOKUP($AG14,'data for u-p-charts'!$A$2:$F$5000,AJ$5,FALSE)","v":{"$error":"#N/A"}},{"$f":"VLOOKUP($AG14,'data for u-p-charts'!$A$2:$F$5000,AK$5,FALSE)","v":{"$error":"#N/A"}}]
[201603,"2016-09-24",{"$f":"CONCATENATE(A15,'SAB Data and Charts'!B$1)","v":"201603Scotland"},{"$f":"VLOOKUP(CONCATENATE(D$5,$C15),'trend data'!$A$2:$O$11161,D$6,FALSE)","v":273},{"$f":"ROUND(VLOOKUP(CONCATENATE(E$5,$C15),'trend data'!$A$2:$O$11161,E$6,FALSE),3)","v":17.193000000000001},{"$f":"ROUND(VLOOKUP(CONCATENATE(F$5,$C15),'trend data'!$A$2:$O$11161,F$6,FALSE),3)","v":15.212999999999999},{"$f":"ROUND(VLOOKUP(CONCATENATE(G$5,$C15),'trend data'!$A$2:$O$11161,G$6,FALSE),3)","v":19.358000000000001},{"$f":"IFERROR(VLOOKUP(CONCATENATE(H$5,$C15),'trend data'!$A$2:$O$11161,H$6,FALSE),\"-\")","v":127},{"$f":"IFERROR(ROUND(VLOOKUP(CONCATENATE(I$5,$C15),'trend data'!$A$2:$O$11161,I$6,FALSE),3),\"-\")","v":9.4},{"$f":"IFERROR(ROUND(VLOOKUP(CONCATENATE(J$5,$C15),'trend data'!$A$2:$O$11161,J$6,FALSE),3),\"-\")","v":7.8360000000000003},{"$f":"IFERROR(ROUND(VLOOKUP(CONCATENATE(K$5,$C15),'trend data'!$A$2:$O$11161,K$6,FALSE),3),\"-\")","v":11.183999999999999},{"$f":"IFERROR(VLOOKUP(CONCATENATE(L$5,$C15),'trend data'!$A$2:$O$11161,L$6,FALSE),\"-\")","v":"-"},{"$f":"IFERROR(VLOOKUP(CONCATENATE(M$5,$C15),'trend data'!$A$2:$O$11161,M$6,FALSE),\"-\")","v":"-"},{"$f":"IFERROR(VLOOKUP(CONCATENATE(N$5,$C15),'trend data'!$A$2:$O$11161,N$6,FALSE),\"-\")","v":"-"},{"$f":"IFERROR(VLOOKUP(CONCATENATE(O$5,$C15),'trend data'!$A$2:$O$11161,O$6,FALSE),\"-\")","v":"-"},{"$f":"IFERROR(VLOOKUP(CONCATENATE(P$5,$C15),'trend data'!$A$2:$O$11161,P$6,FALSE),\"-\")","v":"-"},null,null,null,"202301",{"$f":"CONCATENATE(X$7,T15,'SAB Data and Charts'!B$1)","v":"SABHCAI202301Scotland"},7,"2023-03-28",{"$f":"ROUND(VLOOKUP($U15,'data for u-p-charts'!$A$2:$F$5000,X$5,FALSE),2)","v":19.12},{"$f":"ROUND(VLOOKUP($U15,'data for u-p-charts'!$A$2:$F$5000,Y$5,FALSE),2)","v":18.010000000000002},{"$f":"ROUND(VLOOKUP($U15,'data for u-p-charts'!$A$2:$F$5000,Z$5,FALSE),2)","v":20.149999999999999},{"$f":"ROUND(VLOOKUP($U15,'data for u-p-charts'!$A$2:$F$5000,AA$5,FALSE),2)","v":21.22},{"$f":"CONCATENATE(AC$7,$T15,'SAB Data and Charts'!$B$1)","v":"SABCAUN202301Scotland"},{"$f":"ROUND(VLOOKUP($AB15,'data for u-p-charts'!$A$2:$F$5000,AC$5,FALSE),2)","v":9.9},{"$f":"ROUND(VLOOKUP($AB15,'data for u-p-charts'!$A$2:$F$5000,AD$5,FALSE),2)","v":10.01},{"$f":"ROUND(VLOOKUP($AB15,'data for u-p-charts'!$A$2:$F$5000,AE$5,FALSE),2)","v":11.74},{"$f":"ROUND(VLOOKUP($AB15,'data for u-p-charts'!$A$2:$F$5000,AF$5,FALSE),2)","v":12.6},{"$f":"CONCATENATE(AH$7,$T15,'SAB Data and Charts'!$B$1)","v":"SAB 202301Scotland"},{"$f":"VLOOKUP($AG15,'data for u-p-charts'!$A$2:$F$5000,AH$5,FALSE)","v":{"$error":"#N/A"}},{"$f":"VLOOKUP($AG15,'data for u-p-charts'!$A$2:$F$5000,AI$5,FALSE)","v":{"$error":"#N/A"}},{"$f":"VLOOKUP($AG15,'data for u-p-charts'!$A$2:$F$5000,AJ$5,FALSE)","v":{"$error":"#N/A"}},{"$f":"VLOOKUP($AG15,'data for u-p-charts'!$A$2:$F$5000,AK$5,FALSE)","v":{"$error":"#N/A"}}]
[201604,"2016-12-24",{"$f":"CONCATENATE(A16,'SAB Data and Charts'!B$1)","v":"201604Scotland"},{"$f":"VLOOKUP(CONCATENATE(D$5,$C16),'trend data'!$A$2:$O$11161,D$6,FALSE)","v":265},{"$f":"ROUND(VLOOKUP(CONCATENATE(E$5,$C16),'trend data'!$A$2:$O$11161,E$6,FALSE),3)","v":16.649000000000001},{"$f":"ROUND(VLOOKUP(CONCATENATE(F$5,$C16),'trend data'!$A$2:$O$11161,F$6,FALSE),3)","v":14.705},{"$f":"ROUND(VLOOKUP(CONCATENATE(G$5,$C16),'trend data'!$A$2:$O$11161,G$6,FALSE),3)","v":18.779},{"$f":"IFERROR(VLOOKUP(CONCATENATE(H$5,$C16),'trend data'!$A$2:$O$11161,H$6,FALSE),\"-\")","v":135},{"$f":"IFERROR(ROUND(VLOOKUP(CONCATENATE(I$5,$C16),'trend data'!$A$2:$O$11161,I$6,FALSE),3),\"-\")","v":9.9920000000000009},{"$f":"IFERROR(ROUND(VLOOKUP(CONCATENATE(J$5,$C16),'trend data'!$A$2:$O$11161,J$6,FALSE),3),\"-\")","v":8.3780000000000001},{"$f":"IFERROR(ROUND(VLOOKUP(CONCATENATE(K$5,$C16),'trend data'!$A$2:$O$11161,K$6,FALSE),3),\"-\")","v":11.827},{"$f":"IFERROR(VLOOKUP(CONCATENATE(L$5,$C16),'trend data'!$A$2:$O$11161,L$6,FALSE),\"-\")","v":"-"},{"$f":"IFERROR(VLOOKUP(CONCATENATE(M$5,$C16),'trend data'!$A$2:$O$11161,M$6,FALSE),\"-\")","v":"-"},{"$f":"IFERROR(VLOOKUP(CONCATENATE(N$5,$C16),'trend data'!$A$2:$O$11161,N$6,FALSE),\"-\")","v":"-"},{"$f":"IFERROR(VLOOKUP(CONCATENATE(O$5,$C16),'trend data'!$A$2:$O$11161,O$6,FALSE),\"-\")","v":"-"},{"$f":"IFERROR(VLOOKUP(CONCATENATE(P$5,$C16),'trend data'!$A$2:$O$11161,P$6,FALSE),\"-\")","v":"-"},null,null,null,"202302",{"$f":"CONCATENATE(X$7,T16,'SAB Data and Charts'!B$1)","v":"SABHCAI202302Scotland"},8,"2023-06-28",{"$f":"ROUND(VLOOKUP($U16,'data for u-p-charts'!$A$2:$F$5000,X$5,FALSE),2)","v":18.32},{"$f":"ROUND(VLOOKUP($U16,'data for u-p-charts'!$A$2:$F$5000,Y$5,FALSE),2)","v":18.010000000000002},{"$f":"ROUND(VLOOKUP($U16,'data for u-p-charts'!$A$2:$F$5000,Z$5,FALSE),2)","v":20.170000000000002},{"$f":"ROUND(VLOOKUP($U16,'data for u-p-charts'!$A$2:$F$5000,AA$5,FALSE),2)","v":21.25},{"$f":"CONCATENATE(AC$7,$T16,'SAB Data and Charts'!$B$1)","v":"SABCAUN202302Scotland"},{"$f":"ROUND(VLOOKUP($AB16,'data for u-p-charts'!$A$2:$F$5000,AC$5,FALSE),2)","v":10.31},{"$f":"ROUND(VLOOKUP($AB16,'data for u-p-charts'!$A$2:$F$5000,AD$5,FALSE),2)","v":10.01},{"$f":"ROUND(VLOOKUP($AB16,'data for u-p-charts'!$A$2:$F$5000,AE$5,FALSE),2)","v":11.73},{"$f":"ROUND(VLOOKUP($AB16,'data for u-p-charts'!$A$2:$F$5000,AF$5,FALSE),2)","v":12.59},{"$f":"CONCATENATE(AH$7,$T16,'SAB Data and Charts'!$B$1)","v":"SAB 202302Scotland"},{"$f":"VLOOKUP($AG16,'data for u-p-charts'!$A$2:$F$5000,AH$5,FALSE)","v":{"$error":"#N/A"}},{"$f":"VLOOKUP($AG16,'data for u-p-charts'!$A$2:$F$5000,AI$5,FALSE)","v":{"$error":"#N/A"}},{"$f":"VLOOKUP($AG16,'data for u-p-charts'!$A$2:$F$5000,AJ$5,FALSE)","v":{"$error":"#N/A"}},{"$f":"VLOOKUP($AG16,'data for u-p-charts'!$A$2:$F$5000,AK$5,FALSE)","v":{"$error":"#N/A"}}]
[201701,"2017-03-01",{"$f":"CONCATENATE(A17,'SAB Data and Charts'!B$1)","v":"201701Scotland"},{"$f":"VLOOKUP(CONCATENATE(D$5,$C17),'trend data'!$A$2:$O$11161,D$6,FALSE)","v":259},{"$f":"ROUND(VLOOKUP(CONCATENATE(E$5,$C17),'trend data'!$A$2:$O$11161,E$6,FALSE),3)","v":16.379000000000001},{"$f":"ROUND(VLOOKUP(CONCATENATE(F$5,$C17),'trend data'!$A$2:$O$11161,F$6,FALSE),3)","v":14.444000000000001},{"$f":"ROUND(VLOOKUP(CONCATENATE(G$5,$C17),'trend data'!$A$2:$O$11161,G$6,FALSE),3)","v":18.5},{"$f":"IFERROR(VLOOKUP(CONCATENATE(H$5,$C17),'trend data'!$A$2:$O$11161,H$6,FALSE),\"-\")","v":142},{"$f":"IFERROR(ROUND(VLOOKUP(CONCATENATE(I$5,$C17),'trend data'!$A$2:$O$11161,I$6,FALSE),3),\"-\")","v":10.685},{"$f":"IFERROR(ROUND(VLOOKUP(CONCATENATE(J$5,$C17),'trend data'!$A$2:$O$11161,J$6,FALSE),3),\"-\")","v":8.9990000000000006},{"$f":"IFERROR(ROUND(VLOOKUP(CONCATENATE(K$5,$C17),'trend data'!$A$2:$O$11161,K$6,FALSE),3),\"-\")","v":12.593999999999999},{"$f":"IFERROR(VLOOKUP(CONCATENATE(L$5,$C17),'trend data'!$A$2:$O$11161,L$6,FALSE),\"-\")","v":"-"},{"$f":"IFERROR(VLOOKUP(CONCATENATE(M$5,$C17),'trend data'!$A$2:$O$11161,M$6,FALSE),\"-\")","v":"-"},{"$f":"IFERROR(VLOOKUP(CONCATENATE(N$5,$C17),'trend data'!$A$2:$O$11161,N$6,FALSE),\"-\")","v":"-"},{"$f":"IFERROR(VLOOKUP(CONCATENATE(O$5,$C17),'trend data'!$A$2:$O$11161,O$6,FALSE),\"-\")","v":"-"},{"$f":"IFERROR(VLOOKUP(CONCATENATE(P$5,$C17),'trend data'!$A$2:$O$11161,P$6,FALSE),\"-\")","v":"-"},null,null,null,"202303",{"$f":"CONCATENATE(X$7,T17,'SAB Data and Charts'!B$1)","v":"SABHCAI202303Scotland"},9,"2023-09-28",{"$f":"ROUND(VLOOKUP($U17,'data for u-p-charts'!$A$2:$F$5000,X$5,FALSE),2)","v":18.079999999999998},{"$f":"ROUND(VLOOKUP($U17,'data for u-p-charts'!$A$2:$F$5000,Y$5,FALSE),2)","v":18.010000000000002},{"$f":"ROUND(VLOOKUP($U17,'data for u-p-charts'!$A$2:$F$5000,Z$5,FALSE),2)","v":20.170000000000002},{"$f":"ROUND(VLOOKUP($U17,'data for u-p-charts'!$A$2:$F$5000,AA$5,FALSE),2)","v":21.25},{"$f":"CONCATENATE(AC$7,$T17,'SAB Data and Charts'!$B$1)","v":"SABCAUN202303Scotland"},{"$f":"ROUND(VLOOKUP($AB17,'data for u-p-charts'!$A$2:$F$5000,AC$5,FALSE),2)","v":10.199999999999999},{"$f":"ROUND(VLOOKUP($AB17,'data for u-p-charts'!$A$2:$F$5000,AD$5,FALSE),2)","v":10.01},{"$f":"ROUND(VLOOKUP($AB17,'data for u-p-charts'!$A$2:$F$5000,AE$5,FALSE),2)","v":11.72},{"$f":"ROUND(VLOOKUP($AB17,'data for u-p-charts'!$A$2:$F$5000,AF$5,FALSE),2)","v":12.57},{"$f":"CONCATENATE(AH$7,$T17,'SAB Data and Charts'!$B$1)","v":"SAB 202303Scotland"},{"$f":"VLOOKUP($AG17,'data for u-p-charts'!$A$2:$F$5000,AH$5,FALSE)","v":{"$error":"#N/A"}},{"$f":"VLOOKUP($AG17,'data for u-p-charts'!$A$2:$F$5000,AI$5,FALSE)","v":{"$error":"#N/A"}},{"$f":"VLOOKUP($AG17,'data for u-p-charts'!$A$2:$F$5000,AJ$5,FALSE)","v":{"$error":"#N/A"}},{"$f":"VLOOKUP($AG17,'data for u-p-charts'!$A$2:$F$5000,AK$5,FALSE)","v":{"$error":"#N/A"}}]
[201702,"2017-06-01",{"$f":"CONCATENATE(A18,'SAB Data and Charts'!B$1)","v":"201702Scotland"},{"$f":"VLOOKUP(CONCATENATE(D$5,$C18),'trend data'!$A$2:$O$11161,D$6,FALSE)","v":248},{"$f":"ROUND(VLOOKUP(CONCATENATE(E$5,$C18),'trend data'!$A$2:$O$11161,E$6,FALSE),3)","v":15.994},{"$f":"ROUND(VLOOKUP(CONCATENATE(F$5,$C18),'trend data'!$A$2:$O$11161,F$6,FALSE),3)","v":14.065},{"$f":"ROUND(VLOOKUP(CONCATENATE(G$5,$C18),'trend data'!$A$2:$O$11161,G$6,FALSE),3)","v":18.114000000000001},{"$f":"IFERROR(VLOOKUP(CONCATENATE(H$5,$C18),'trend data'!$A$2:$O$11161,H$6,FALSE),\"-\")","v":126},{"$f":"IFERROR(ROUND(VLOOKUP(CONCATENATE(I$5,$C18),'trend data'!$A$2:$O$11161,I$6,FALSE),3),\"-\")","v":9.3770000000000007},{"$f":"IFERROR(ROUND(VLOOKUP(CONCATENATE(J$5,$C18),'trend data'!$A$2:$O$11161,J$6,FALSE),3),\"-\")","v":7.8109999999999999},{"$f":"IFERROR(ROUND(VLOOKUP(CONCATENATE(K$5,$C18),'trend data'!$A$2:$O$11161,K$6,FALSE),3),\"-\")","v":11.164},{"$f":"IFERROR(VLOOKUP(CONCATENATE(L$5,$C18),'trend data'!$A$2:$O$11161,L$6,FALSE),\"-\")","v":"-"},{"$f":"IFERROR(VLOOKUP(CONCATENATE(M$5,$C18),'trend data'!$A$2:$O$11161,M$6,FALSE),\"-\")","v":"-"},{"$f":"IFERROR(VLOOKUP(CONCATENATE(N$5,$C18),'trend data'!$A$2:$O$11161,N$6,FALSE),\"-\")","v":"-"},{"$f":"IFERROR(VLOOKUP(CONCATENATE(O$5,$C18),'trend data'!$A$2:$O$11161,O$6,FALSE),\"-\")","v":"-"},{"$f":"IFERROR(VLOOKUP(CONCATENATE(P$5,$C18),'trend data'!$A$2:$O$11161,P$6,FALSE),\"-\")","v":"-"},null,null,null,"202304",{"$f":"CONCATENATE(X$7,T18,'SAB Data and Charts'!B$1)","v":"SABHCAI202304Scotland"},10,"2023-12-29",{"$f":"ROUND(VLOOKUP($U18,'data for u-p-charts'!$A$2:$F$5000,X$5,FALSE),2)","v":19.22},{"$f":"ROUND(VLOOKUP($U18,'data for u-p-charts'!$A$2:$F$5000,Y$5,FALSE),2)","v":18.010000000000002},{"$f":"ROUND(VLOOKUP($U18,'data for u-p-charts'!$A$2:$F$5000,Z$5,FALSE),2)","v":20.149999999999999},{"$f":"ROUND(VLOOKUP($U18,'data for u-p-charts'!$A$2:$F$5000,AA$5,FALSE),2)","v":21.22},{"$f":"CONCATENATE(AC$7,$T18,'SAB Data and Charts'!$B$1)","v":"SABCAUN202304Scotland"},{"$f":"ROUND(VLOOKUP($AB18,'data for u-p-charts'!$A$2:$F$5000,AC$5,FALSE),2)","v":9.98},{"$f":"ROUND(VLOOKUP($AB18,'data for u-p-charts'!$A$2:$F$5000,AD$5,FALSE),2)","v":10.01},{"$f":"ROUND(VLOOKUP($AB18,'data for u-p-charts'!$A$2:$F$5000,AE$5,FALSE),2)","v":11.72},{"$f":"ROUND(VLOOKUP($AB18,'data for u-p-charts'!$A$2:$F$5000,AF$5,FALSE),2)","v":12.57},{"$f":"CONCATENATE(AH$7,$T18,'SAB Data and Charts'!$B$1)","v":"SAB 202304Scotland"},{"$f":"VLOOKUP($AG18,'data for u-p-charts'!$A$2:$F$5000,AH$5,FALSE)","v":{"$error":"#N/A"}},{"$f":"VLOOKUP($AG18,'data for u-p-charts'!$A$2:$F$5000,AI$5,FALSE)","v":{"$error":"#N/A"}},{"$f":"VLOOKUP($AG18,'data for u-p-charts'!$A$2:$F$5000,AJ$5,FALSE)","v":{"$error":"#N/A"}},{"$f":"VLOOKUP($AG18,'data for u-p-charts'!$A$2:$F$5000,AK$5,FALSE)","v":{"$error":"#N/A"}}]
[201703,"2017-09-01",{"$f":"CONCATENATE(A19,'SAB Data and Charts'!B$1)","v":"201703Scotland"},{"$f":"VLOOKUP(CONCATENATE(D$5,$C19),'trend data'!$A$2:$O$11161,D$6,FALSE)","v":278},{"$f":"ROUND(VLOOKUP(CONCATENATE(E$5,$C19),'trend data'!$A$2:$O$11161,E$6,FALSE),3)","v":18.065999999999999},{"$f":"ROUND(VLOOKUP(CONCATENATE(F$5,$C19),'trend data'!$A$2:$O$11161,F$6,FALSE),3)","v":16.004000000000001},{"$f":"ROUND(VLOOKUP(CONCATENATE(G$5,$C19),'trend data'!$A$2:$O$11161,G$6,FALSE),3)","v":20.318999999999999},{"$f":"IFERROR(VLOOKUP(CONCATENATE(H$5,$C19),'trend data'!$A$2:$O$11161,H$6,FALSE),\"-\")","v":127},{"$f":"IFERROR(ROUND(VLOOKUP(CONCATENATE(I$5,$C19),'trend data'!$A$2:$O$11161,I$6,FALSE),3),\"-\")","v":9.3480000000000008},{"$f":"IFERROR(ROUND(VLOOKUP(CONCATENATE(J$5,$C19),'trend data'!$A$2:$O$11161,J$6,FALSE),3),\"-\")","v":7.7930000000000001},{"$f":"IFERROR(ROUND(VLOOKUP(CONCATENATE(K$5,$C19),'trend data'!$A$2:$O$11161,K$6,FALSE),3),\"-\")","v":11.122999999999999},{"$f":"IFERROR(VLOOKUP(CONCATENATE(L$5,$C19),'trend data'!$A$2:$O$11161,L$6,FALSE),\"-\")","v":"-"},{"$f":"IFERROR(VLOOKUP(CONCATENATE(M$5,$C19),'trend data'!$A$2:$O$11161,M$6,FALSE),\"-\")","v":"-"},{"$f":"IFERROR(VLOOKUP(CONCATENATE(N$5,$C19),'trend data'!$A$2:$O$11161,N$6,FALSE),\"-\")","v":"-"},{"$f":"IFERROR(VLOOKUP(CONCATENATE(O$5,$C19),'trend data'!$A$2:$O$11161,O$6,FALSE),\"-\")","v":"-"},{"$f":"IFERROR(VLOOKUP(CONCATENATE(P$5,$C19),'trend data'!$A$2:$O$11161,P$6,FALSE),\"-\")","v":"-"},null,null,null,"202401",{"$f":"CONCATENATE(X$7,T19,'SAB Data and Charts'!B$1)","v":"SABHCAI202401Scotland"},11,{"$f":"W20-92","v":"2024-03-30"},{"$f":"ROUND(VLOOKUP($U19,'data for u-p-charts'!$A$2:$F$5000,X$5,FALSE),2)","v":17.04},{"$f":"ROUND(VLOOKUP($U19,'data for u-p-charts'!$A$2:$F$5000,Y$5,FALSE),2)","v":18.010000000000002},{"$f":"ROUND(VLOOKUP($U19,'data for u-p-charts'!$A$2:$F$5000,Z$5,FALSE),2)","v":20.14},{"$f":"ROUND(VLOOKUP($U19,'data for u-p-charts'!$A$2:$F$5000,AA$5,FALSE),2)","v":21.2},{"$f":"CONCATENATE(AC$7,$T19,'SAB Data and Charts'!$B$1)","v":"SABCAUN202401Scotland"},{"$f":"ROUND(VLOOKUP($AB19,'data for u-p-charts'!$A$2:$F$5000,AC$5,FALSE),2)","v":10.93},{"$f":"ROUND(VLOOKUP($AB19,'data for u-p-charts'!$A$2:$F$5000,AD$5,FALSE),2)","v":10.01},{"$f":"ROUND(VLOOKUP($AB19,'data for u-p-charts'!$A$2:$F$5000,AE$5,FALSE),2)","v":11.73},{"$f":"ROUND(VLOOKUP($AB19,'data for u-p-charts'!$A$2:$F$5000,AF$5,FALSE),2)","v":12.59},{"$f":"CONCATENATE(AH$7,$T19,'SAB Data and Charts'!$B$1)","v":"SAB 202401Scotland"},{"$f":"VLOOKUP($AG19,'data for u-p-charts'!$A$2:$F$5000,AH$5,FALSE)","v":{"$error":"#N/A"}},{"$f":"VLOOKUP($AG19,'data for u-p-charts'!$A$2:$F$5000,AI$5,FALSE)","v":{"$error":"#N/A"}},{"$f":"VLOOKUP($AG19,'data for u-p-charts'!$A$2:$F$5000,AJ$5,FALSE)","v":{"$error":"#N/A"}},{"$f":"VLOOKUP($AG19,'data for u-p-charts'!$A$2:$F$5000,AK$5,FALSE)","v":{"$error":"#N/A"}}]
[201704,"2017-12-01",{"$f":"CONCATENATE(A20,'SAB Data and Charts'!B$1)","v":"201704Scotland"},{"$f":"VLOOKUP(CONCATENATE(D$5,$C20),'trend data'!$A$2:$O$11161,D$6,FALSE)","v":262},{"$f":"ROUND(VLOOKUP(CONCATENATE(E$5,$C20),'trend data'!$A$2:$O$11161,E$6,FALSE),3)","v":16.635000000000002},{"$f":"ROUND(VLOOKUP(CONCATENATE(F$5,$C20),'trend data'!$A$2:$O$11161,F$6,FALSE),3)","v":14.682},{"$f":"ROUND(VLOOKUP(CONCATENATE(G$5,$C20),'trend data'!$A$2:$O$11161,G$6,FALSE),3)","v":18.776},{"$f":"IFERROR(VLOOKUP(CONCATENATE(H$5,$C20),'trend data'!$A$2:$O$11161,H$6,FALSE),\"-\")","v":132},{"$f":"IFERROR(ROUND(VLOOKUP(CONCATENATE(I$5,$C20),'trend data'!$A$2:$O$11161,I$6,FALSE),3),\"-\")","v":9.7159999999999993},{"$f":"IFERROR(ROUND(VLOOKUP(CONCATENATE(J$5,$C20),'trend data'!$A$2:$O$11161,J$6,FALSE),3),\"-\")","v":8.1289999999999996},{"$f":"IFERROR(ROUND(VLOOKUP(CONCATENATE(K$5,$C20),'trend data'!$A$2:$O$11161,K$6,FALSE),3),\"-\")","v":11.522},{"$f":"IFERROR(VLOOKUP(CONCATENATE(L$5,$C20),'trend data'!$A$2:$O$11161,L$6,FALSE),\"-\")","v":"-"},{"$f":"IFERROR(VLOOKUP(CONCATENATE(M$5,$C20),'trend data'!$A$2:$O$11161,M$6,FALSE),\"-\")","v":"-"},{"$f":"IFERROR(VLOOKUP(CONCATENATE(N$5,$C20),'trend data'!$A$2:$O$11161,N$6,FALSE),\"-\")","v":"-"},{"$f":"IFERROR(VLOOKUP(CONCATENATE(O$5,$C20),'trend data'!$A$2:$O$11161,O$6,FALSE),\"-\")","v":"-"},{"$f":"IFERROR(VLOOKUP(CONCATENATE(P$5,$C20),'trend data'!$A$2:$O$11161,P$6,FALSE),\"-\")","v":"-"},null,null,null,"202402",{"$f":"CONCATENATE(X$7,T20,'SAB Data and Charts'!B$1)","v":"SABHCAI202402Scotland"},12,{"$f":"W5","v":"2024-06-30"},{"$f":"ROUND(VLOOKUP($U20,'data for u-p-charts'!$A$2:$F$5000,X$5,FALSE),2)","v":17.34},{"$f":"ROUND(VLOOKUP($U20,'data for u-p-charts'!$A$2:$F$5000,Y$5,FALSE),2)","v":18.010000000000002},{"$f":"ROUND(VLOOKUP($U20,'data for u-p-charts'!$A$2:$F$5000,Z$5,FALSE),2)","v":20.16},{"$f":"ROUND(VLOOKUP($U20,'data for u-p-charts'!$A$2:$F$5000,AA$5,FALSE),2)","v":21.23},{"$f":"CONCATENATE(AC$7,$T20,'SAB Data and Charts'!$B$1)","v":"SABCAUN202402Scotland"},{"$f":"ROUND(VLOOKUP($AB20,'data for u-p-charts'!$A$2:$F$5000,AC$5,FALSE),2)","v":10.039999999999999},{"$f":"ROUND(VLOOKUP($AB20,'data for u-p-charts'!$A$2:$F$5000,AD$5,FALSE),2)","v":10.01},{"$f":"ROUND(VLOOKUP($AB20,'data for u-p-charts'!$A$2:$F$5000,AE$5,FALSE),2)","v":11.73},{"$f":"ROUND(VLOOKUP($AB20,'data for u-p-charts'!$A$2:$F$5000,AF$5,FALSE),2)","v":12.59},{"$f":"CONCATENATE(AH$7,$T20,'SAB Data and Charts'!$B$1)","v":"SAB 202402Scotland"},{"$f":"VLOOKUP($AG20,'data for u-p-charts'!$A$2:$F$5000,AH$5,FALSE)","v":{"$error":"#N/A"}},{"$f":"VLOOKUP($AG20,'data for u-p-charts'!$A$2:$F$5000,AI$5,FALSE)","v":{"$error":"#N/A"}},{"$f":"VLOOKUP($AG20,'data for u-p-charts'!$A$2:$F$5000,AJ$5,FALSE)","v":{"$error":"#N/A"}},{"$f":"VLOOKUP($AG20,'data for u-p-charts'!$A$2:$F$5000,AK$5,FALSE)","v":{"$error":"#N/A"}}]
[201801,"2018-03-01",{"$f":"CONCATENATE(A21,'SAB Data and Charts'!B$1)","v":"201801Scotland"},{"$f":"IFERROR(VLOOKUP(CONCATENATE(D$5,$C21),'trend data'!$A$2:$O$11161,D$6,FALSE),\"-\")","v":296},{"$f":"ROUND(VLOOKUP(CONCATENATE(E$5,$C21),'trend data'!$A$2:$O$11161,E$6,FALSE),3)","v":18.672000000000001},{"$f":"ROUND(VLOOKUP(CONCATENATE(F$5,$C21),'trend data'!$A$2:$O$11161,F$6,FALSE),3)","v":16.605},{"$f":"ROUND(VLOOKUP(CONCATENATE(G$5,$C21),'trend data'!$A$2:$O$11161,G$6,FALSE),3)","v":20.925000000000001},{"$f":"IFERROR(VLOOKUP(CONCATENATE(H$5,$C21),'trend data'!$A$2:$O$11161,H$6,FALSE),\"-\")","v":135},{"$f":"IFERROR(ROUND(VLOOKUP(CONCATENATE(I$5,$C21),'trend data'!$A$2:$O$11161,I$6,FALSE), 4),\"-\")","v":10.1496},{"$f":"IFERROR(ROUND(VLOOKUP(CONCATENATE(J$5,$C21),'trend data'!$A$2:$O$11161,J$6,FALSE),3),\"-\")","v":8.51},{"$f":"IFERROR(ROUND(VLOOKUP(CONCATENATE(K$5,$C21),'trend data'!$A$2:$O$11161,K$6,FALSE),3),\"-\")","v":12.013},{"$f":"IFERROR(VLOOKUP(CONCATENATE(L$5,$C21),'trend data'!$A$2:$O$11161,L$6,FALSE),\"-\")","v":"-"},{"$f":"IFERROR(VLOOKUP(CONCATENATE(M$5,$C21),'trend data'!$A$2:$O$11161,M$6,FALSE),\"-\")","v":"-"},{"$f":"IFERROR(VLOOKUP(CONCATENATE(N$5,$C21),'trend data'!$A$2:$O$11161,N$6,FALSE),\"-\")","v":"-"},{"$f":"IFERROR(VLOOKUP(CONCATENATE(O$5,$C21),'trend data'!$A$2:$O$11161,O$6,FALSE),\"-\")","v":"-"},{"$f":"IFERROR(VLOOKUP(CONCATENATE(P$5,$C21),'trend data'!$A$2:$O$11161,P$6,FALSE),\"-\")","v":"-"}]
[201802,"2018-06-01",{"$f":"CONCATENATE(A22,'SAB Data and Charts'!B$1)","v":"201802Scotland"},{"$f":"IFERROR(VLOOKUP(CONCATENATE(D$5,$C22),'trend data'!$A$2:$O$11161,D$6,FALSE),\"-\")","v":264},{"$f":"ROUND(VLOOKUP(CONCATENATE(E$5,$C22),'trend data'!$A$2:$O$11161,E$6,FALSE),3)","v":17.308},{"$f":"ROUND(VLOOKUP(CONCATENATE(F$5,$C22),'trend data'!$A$2:$O$11161,F$6,FALSE),3)","v":15.282},{"$f":"ROUND(VLOOKUP(CONCATENATE(G$5,$C22),'trend data'!$A$2:$O$11161,G$6,FALSE),3)","v":19.526},{"$f":"IFERROR(VLOOKUP(CONCATENATE(H$5,$C22),'trend data'!$A$2:$O$11161,H$6,FALSE),\"-\")","v":123},{"$f":"IFERROR(ROUND(VLOOKUP(CONCATENATE(I$5,$C22),'trend data'!$A$2:$O$11161,I$6,FALSE),4),\"-\")","v":9.1457999999999995},{"$f":"IFERROR(ROUND(VLOOKUP(CONCATENATE(J$5,$C22),'trend data'!$A$2:$O$11161,J$6,FALSE),3),\"-\")","v":7.601},{"$f":"IFERROR(ROUND(VLOOKUP(CONCATENATE(K$5,$C22),'trend data'!$A$2:$O$11161,K$6,FALSE),3),\"-\")","v":10.912000000000001},{"$f":"IFERROR(VLOOKUP(CONCATENATE(L$5,$C22),'trend data'!$A$2:$O$11161,L$6,FALSE),\"-\")","v":"-"},{"$f":"IFERROR(VLOOKUP(CONCATENATE(M$5,$C22),'trend data'!$A$2:$O$11161,M$6,FALSE),\"-\")","v":"-"},{"$f":"IFERROR(VLOOKUP(CONCATENATE(N$5,$C22),'trend data'!$A$2:$O$11161,N$6,FALSE),\"-\")","v":"-"},{"$f":"IFERROR(VLOOKUP(CONCATENATE(O$5,$C22),'trend data'!$A$2:$O$11161,O$6,FALSE),\"-\")","v":"-"},{"$f":"IFERROR(VLOOKUP(CONCATENATE(P$5,$C22),'trend data'!$A$2:$O$11161,P$6,FALSE),\"-\")","v":"-"}]
[201803,"2018-09-01",{"$f":"CONCATENATE(A23,'SAB Data and Charts'!B$1)","v":"201803Scotland"},{"$f":"IFERROR(VLOOKUP(CONCATENATE(D$5,$C23),'trend data'!$A$2:$O$11161,D$6,FALSE),\"-\")","v":253},{"$f":"ROUND(VLOOKUP(CONCATENATE(E$5,$C23),'trend data'!$A$2:$O$11161,E$6,FALSE),3)","v":16.736999999999998},{"$f":"ROUND(VLOOKUP(CONCATENATE(F$5,$C23),'trend data'!$A$2:$O$11161,F$6,FALSE),3)","v":14.738},{"$f":"ROUND(VLOOKUP(CONCATENATE(G$5,$C23),'trend data'!$A$2:$O$11161,G$6,FALSE),3)","v":18.931999999999999},{"$f":"IFERROR(VLOOKUP(CONCATENATE(H$5,$C23),'trend data'!$A$2:$O$11161,H$6,FALSE),\"-\")","v":132},{"$f":"IFERROR(ROUND(VLOOKUP(CONCATENATE(I$5,$C23),'trend data'!$A$2:$O$11161,I$6,FALSE),3),\"-\")","v":9.7080000000000002},{"$f":"IFERROR(ROUND(VLOOKUP(CONCATENATE(J$5,$C23),'trend data'!$A$2:$O$11161,J$6,FALSE),3),\"-\")","v":8.1229999999999993},{"$f":"IFERROR(ROUND(VLOOKUP(CONCATENATE(K$5,$C23),'trend data'!$A$2:$O$11161,K$6,FALSE),3),\"-\")","v":11.513},{"$f":"IFERROR(VLOOKUP(CONCATENATE(L$5,$C23),'trend data'!$A$2:$O$11161,L$6,FALSE),\"-\")","v":"-"},{"$f":"IFERROR(VLOOKUP(CONCATENATE(M$5,$C23),'trend data'!$A$2:$O$11161,M$6,FALSE),\"-\")","v":"-"},{"$f":"IFERROR(VLOOKUP(CONCATENATE(N$5,$C23),'trend data'!$A$2:$O$11161,N$6,FALSE),\"-\")","v":"-"},{"$f":"IFERROR(VLOOKUP(CONCATENATE(O$5,$C23),'trend data'!$A$2:$O$11161,O$6,FALSE),\"-\")","v":"-"},{"$f":"IFERROR(VLOOKUP(CONCATENATE(P$5,$C23),'trend data'!$A$2:$O$11161,P$6,FALSE),\"-\")","v":"-"}]
[201804,"2018-12-01",{"$f":"CONCATENATE(A24,'SAB Data and Charts'!B$1)","v":"201804Scotland"},{"$f":"IFERROR(VLOOKUP(CONCATENATE(D$5,$C24),'trend data'!$A$2:$O$11161,D$6,FALSE),\"-\")","v":269},{"$f":"ROUND(VLOOKUP(CONCATENATE(E$5,$C24),'trend data'!$A$2:$O$11161,E$6,FALSE),3)","v":17.672000000000001},{"$f":"ROUND(VLOOKUP(CONCATENATE(F$5,$C24),'trend data'!$A$2:$O$11161,F$6,FALSE),3)","v":15.622999999999999},{"$f":"ROUND(VLOOKUP(CONCATENATE(G$5,$C24),'trend data'!$A$2:$O$11161,G$6,FALSE),3)","v":19.914999999999999},{"$f":"IFERROR(VLOOKUP(CONCATENATE(H$5,$C24),'trend data'!$A$2:$O$11161,H$6,FALSE),\"-\")","v":113},{"$f":"IFERROR(ROUND(VLOOKUP(CONCATENATE(I$5,$C24),'trend data'!$A$2:$O$11161,I$6,FALSE),3),\"-\")","v":8.3109999999999999},{"$f":"IFERROR(ROUND(VLOOKUP(CONCATENATE(J$5,$C24),'trend data'!$A$2:$O$11161,J$6,FALSE),3),\"-\")","v":6.8490000000000002},{"$f":"IFERROR(ROUND(VLOOKUP(CONCATENATE(K$5,$C24),'trend data'!$A$2:$O$11161,K$6,FALSE),3),\"-\")","v":9.9920000000000009},{"$f":"IFERROR(VLOOKUP(CONCATENATE(L$5,$C24),'trend data'!$A$2:$O$11161,L$6,FALSE),\"-\")","v":"-"},{"$f":"IFERROR(VLOOKUP(CONCATENATE(M$5,$C24),'trend data'!$A$2:$O$11161,M$6,FALSE),\"-\")","v":"-"},{"$f":"IFERROR(VLOOKUP(CONCATENATE(N$5,$C24),'trend data'!$A$2:$O$11161,N$6,FALSE),\"-\")","v":"-"},{"$f":"IFERROR(VLOOKUP(CONCATENATE(O$5,$C24),'trend data'!$A$2:$O$11161,O$6,FALSE),\"-\")","v":"-"},{"$f":"IFERROR(VLOOKUP(CONCATENATE(P$5,$C24),'trend data'!$A$2:$O$11161,P$6,FALSE),\"-\")","v":"-"}]
[201901,"2019-03-01",{"$f":"CONCATENATE(A25,'SAB Data and Charts'!B$1)","v":"201901Scotland"},{"$f":"IFERROR(VLOOKUP(CONCATENATE(D$5,$C25),'trend data'!$A$2:$O$11161,D$6,FALSE),\"-\")","v":240},{"$f":"ROUND(VLOOKUP(CONCATENATE(E$5,$C25),'trend data'!$A$2:$O$11161,E$6,FALSE),3)","v":15.6},{"$f":"ROUND(VLOOKUP(CONCATENATE(F$5,$C25),'trend data'!$A$2:$O$11161,F$6,FALSE),3)","v":13.688000000000001},{"$f":"ROUND(VLOOKUP(CONCATENATE(G$5,$C25),'trend data'!$A$2:$O$11161,G$6,FALSE),3)","v":17.702999999999999},{"$f":"IFERROR(VLOOKUP(CONCATENATE(H$5,$C25),'trend data'!$A$2:$O$11161,H$6,FALSE),\"-\")","v":144},{"$f":"IFERROR(ROUND(VLOOKUP(CONCATENATE(I$5,$C25),'trend data'!$A$2:$O$11161,I$6,FALSE),3),\"-\")","v":10.786},{"$f":"IFERROR(ROUND(VLOOKUP(CONCATENATE(J$5,$C25),'trend data'!$A$2:$O$11161,J$6,FALSE),3),\"-\")","v":9.0960000000000001},{"$f":"IFERROR(ROUND(VLOOKUP(CONCATENATE(K$5,$C25),'trend data'!$A$2:$O$11161,K$6,FALSE),3),\"-\")","v":12.699},{"$f":"IFERROR(VLOOKUP(CONCATENATE(L$5,$C25),'trend data'!$A$2:$O$11161,L$6,FALSE),\"-\")","v":"-"},{"$f":"IFERROR(VLOOKUP(CONCATENATE(M$5,$C25),'trend data'!$A$2:$O$11161,M$6,FALSE),\"-\")","v":"-"},{"$f":"IFERROR(VLOOKUP(CONCATENATE(N$5,$C25),'trend data'!$A$2:$O$11161,N$6,FALSE),\"-\")","v":"-"},{"$f":"IFERROR(VLOOKUP(CONCATENATE(O$5,$C25),'trend data'!$A$2:$O$11161,O$6,FALSE),\"-\")","v":"-"},{"$f":"IFERROR(VLOOKUP(CONCATENATE(P$5,$C25),'trend data'!$A$2:$O$11161,P$6,FALSE),\"-\")","v":"-"}]
[201902,"2019-06-01",{"$f":"CONCATENATE(A26,'SAB Data and Charts'!B$1)","v":"201902Scotland"},{"$f":"IFERROR(VLOOKUP(CONCATENATE(D$5,$C26),'trend data'!$A$2:$O$11161,D$6,FALSE),\"-\")","v":251},{"$f":"ROUND(VLOOKUP(CONCATENATE(E$5,$C26),'trend data'!$A$2:$O$11161,E$6,FALSE),3)","v":16.664000000000001},{"$f":"ROUND(VLOOKUP(CONCATENATE(F$5,$C26),'trend data'!$A$2:$O$11161,F$6,FALSE),3)","v":14.666},{"$f":"ROUND(VLOOKUP(CONCATENATE(G$5,$C26),'trend data'!$A$2:$O$11161,G$6,FALSE),3)","v":18.858000000000001},{"$f":"IFERROR(VLOOKUP(CONCATENATE(H$5,$C26),'trend data'!$A$2:$O$11161,H$6,FALSE),\"-\")","v":133},{"$f":"IFERROR(ROUND(VLOOKUP(CONCATENATE(I$5,$C26),'trend data'!$A$2:$O$11161,I$6,FALSE),3),\"-\")","v":9.8529999999999998},{"$f":"IFERROR(ROUND(VLOOKUP(CONCATENATE(J$5,$C26),'trend data'!$A$2:$O$11161,J$6,FALSE),3),\"-\")","v":8.2490000000000006},{"$f":"IFERROR(ROUND(VLOOKUP(CONCATENATE(K$5,$C26),'trend data'!$A$2:$O$11161,K$6,FALSE),3),\"-\")","v":11.677},{"$f":"IFERROR(VLOOKUP(CONCATENATE(L$5,$C26),'trend data'!$A$2:$O$11161,L$6,FALSE),\"-\")","v":"-"},{"$f":"IFERROR(VLOOKUP(CONCATENATE(M$5,$C26),'trend data'!$A$2:$O$11161,M$6,FALSE),\"-\")","v":"-"},{"$f":"IFERROR(VLOOKUP(CONCATENATE(N$5,$C26),'trend data'!$A$2:$O$11161,N$6,FALSE),\"-\")","v":"-"},{"$f":"IFERROR(VLOOKUP(CONCATENATE(O$5,$C26),'trend data'!$A$2:$O$11161,O$6,FALSE),\"-\")","v":"-"},{"$f":"IFERROR(VLOOKUP(CONCATENATE(P$5,$C26),'trend data'!$A$2:$O$11161,P$6,FALSE),\"-\")","v":"-"}]
[201903,"2019-09-01",{"$f":"CONCATENATE(A27,'SAB Data and Charts'!B$1)","v":"201903Scotland"},{"$f":"IFERROR(VLOOKUP(CONCATENATE(D$5,$C27),'trend data'!$A$2:$O$11161,D$6,FALSE),\"-\")","v":264},{"$f":"ROUND(VLOOKUP(CONCATENATE(E$5,$C27),'trend data'!$A$2:$O$11161,E$6,FALSE),3)","v":17.518999999999998},{"$f":"ROUND(VLOOKUP(CONCATENATE(F$5,$C27),'trend data'!$A$2:$O$11161,F$6,FALSE),3)","v":15.468999999999999},{"$f":"ROUND(VLOOKUP(CONCATENATE(G$5,$C27),'trend data'!$A$2:$O$11161,G$6,FALSE),3)","v":19.763999999999999},{"$f":"IFERROR(VLOOKUP(CONCATENATE(H$5,$C27),'trend data'!$A$2:$O$11161,H$6,FALSE),\"-\")","v":102},{"$f":"IFERROR(ROUND(VLOOKUP(CONCATENATE(I$5,$C27),'trend data'!$A$2:$O$11161,I$6,FALSE),3),\"-\")","v":7.4740000000000002},{"$f":"IFERROR(ROUND(VLOOKUP(CONCATENATE(J$5,$C27),'trend data'!$A$2:$O$11161,J$6,FALSE),3),\"-\")","v":6.0940000000000003},{"$f":"IFERROR(ROUND(VLOOKUP(CONCATENATE(K$5,$C27),'trend data'!$A$2:$O$11161,K$6,FALSE),3),\"-\")","v":9.0730000000000004},{"$f":"IFERROR(VLOOKUP(CONCATENATE(L$5,$C27),'trend data'!$A$2:$O$11161,L$6,FALSE),\"-\")","v":"-"},{"$f":"IFERROR(VLOOKUP(CONCATENATE(M$5,$C27),'trend data'!$A$2:$O$11161,M$6,FALSE),\"-\")","v":"-"},{"$f":"IFERROR(VLOOKUP(CONCATENATE(N$5,$C27),'trend data'!$A$2:$O$11161,N$6,FALSE),\"-\")","v":"-"},{"$f":"IFERROR(VLOOKUP(CONCATENATE(O$5,$C27),'trend data'!$A$2:$O$11161,O$6,FALSE),\"-\")","v":"-"},{"$f":"IFERROR(VLOOKUP(CONCATENATE(P$5,$C27),'trend data'!$A$2:$O$11161,P$6,FALSE),\"-\")","v":"-"}]
[201904,"2019-12-01",{"$f":"CONCATENATE(A28,'SAB Data and Charts'!B$1)","v":"201904Scotland"},{"$f":"IFERROR(VLOOKUP(CONCATENATE(D$5,$C28),'trend data'!$A$2:$O$11161,D$6,FALSE),\"-\")","v":233},{"$f":"ROUND(VLOOKUP(CONCATENATE(E$5,$C28),'trend data'!$A$2:$O$11161,E$6,FALSE),3)","v":15.214},{"$f":"ROUND(VLOOKUP(CONCATENATE(F$5,$C28),'trend data'!$A$2:$O$11161,F$6,FALSE),3)","v":13.323},{"$f":"ROUND(VLOOKUP(CONCATENATE(G$5,$C28),'trend data'!$A$2:$O$11161,G$6,FALSE),3)","v":17.297999999999998},{"$f":"IFERROR(VLOOKUP(CONCATENATE(H$5,$C28),'trend data'!$A$2:$O$11161,H$6,FALSE),\"-\")","v":132},{"$f":"IFERROR(ROUND(VLOOKUP(CONCATENATE(I$5,$C28),'trend data'!$A$2:$O$11161,I$6,FALSE),3),\"-\")","v":9.6720000000000006},{"$f":"IFERROR(ROUND(VLOOKUP(CONCATENATE(J$5,$C28),'trend data'!$A$2:$O$11161,J$6,FALSE),3),\"-\")","v":8.093},{"$f":"IFERROR(ROUND(VLOOKUP(CONCATENATE(K$5,$C28),'trend data'!$A$2:$O$11161,K$6,FALSE),3),\"-\")","v":11.47},{"$f":"IFERROR(VLOOKUP(CONCATENATE(L$5,$C28),'trend data'!$A$2:$O$11161,L$6,FALSE),\"-\")","v":"-"},{"$f":"IFERROR(VLOOKUP(CONCATENATE(M$5,$C28),'trend data'!$A$2:$O$11161,M$6,FALSE),\"-\")","v":"-"},{"$f":"IFERROR(VLOOKUP(CONCATENATE(N$5,$C28),'trend data'!$A$2:$O$11161,N$6,FALSE),\"-\")","v":"-"},{"$f":"IFERROR(VLOOKUP(CONCATENATE(O$5,$C28),'trend data'!$A$2:$O$11161,O$6,FALSE),\"-\")","v":"-"},{"$f":"IFERROR(VLOOKUP(CONCATENATE(P$5,$C28),'trend data'!$A$2:$O$11161,P$6,FALSE),\"-\")","v":"-"}]
[202001,"2020-03-01",{"$f":"CONCATENATE(A29,'SAB Data and Charts'!B$1)","v":"202001Scotland"},{"$f":"IFERROR(VLOOKUP(CONCATENATE(D$5,$C29),'trend data'!$A$2:$O$11161,D$6,FALSE),\"-\")","v":241},{"$f":"ROUND(VLOOKUP(CONCATENATE(E$5,$C29),'trend data'!$A$2:$O$11161,E$6,FALSE),3)","v":16.327999999999999},{"$f":"ROUND(VLOOKUP(CONCATENATE(F$5,$C29),'trend data'!$A$2:$O$11161,F$6,FALSE),3)","v":14.332000000000001},{"$f":"ROUND(VLOOKUP(CONCATENATE(G$5,$C29),'trend data'!$A$2:$O$11161,G$6,FALSE),3)","v":18.526},{"$f":"IFERROR(VLOOKUP(CONCATENATE(H$5,$C29),'trend data'!$A$2:$O$11161,H$6,FALSE),\"-\")","v":149},{"$f":"IFERROR(ROUND(VLOOKUP(CONCATENATE(I$5,$C29),'trend data'!$A$2:$O$11161,I$6,FALSE),3),\"-\")","v":11.071},{"$f":"IFERROR(ROUND(VLOOKUP(CONCATENATE(J$5,$C29),'trend data'!$A$2:$O$11161,J$6,FALSE),3),\"-\")","v":9.3640000000000008},{"$f":"IFERROR(ROUND(VLOOKUP(CONCATENATE(K$5,$C29),'trend data'!$A$2:$O$11161,K$6,FALSE),3),\"-\")","v":12.997999999999999},{"$f":"IFERROR(VLOOKUP(CONCATENATE(L$5,$C29),'trend data'!$A$2:$O$11161,L$6,FALSE),\"-\")","v":"-"},{"$f":"IFERROR(VLOOKUP(CONCATENATE(M$5,$C29),'trend data'!$A$2:$O$11161,M$6,FALSE),\"-\")","v":"-"},{"$f":"IFERROR(VLOOKUP(CONCATENATE(N$5,$C29),'trend data'!$A$2:$O$11161,N$6,FALSE),\"-\")","v":"-"},{"$f":"IFERROR(VLOOKUP(CONCATENATE(O$5,$C29),'trend data'!$A$2:$O$11161,O$6,FALSE),\"-\")","v":"-"},{"$f":"IFERROR(VLOOKUP(CONCATENATE(P$5,$C29),'trend data'!$A$2:$O$11161,P$6,FALSE),\"-\")","v":"-"}]
[202002,"2020-06-01",{"$f":"CONCATENATE(A30,'SAB Data and Charts'!B$1)","v":"202002Scotland"},{"$f":"IFERROR(VLOOKUP(CONCATENATE(D$5,$C30),'trend data'!$A$2:$O$11161,D$6,FALSE),\"-\")","v":219},{"$f":"ROUND(VLOOKUP(CONCATENATE(E$5,$C30),'trend data'!$A$2:$O$11161,E$6,FALSE),3)","v":20.260000000000002},{"$f":"ROUND(VLOOKUP(CONCATENATE(F$5,$C30),'trend data'!$A$2:$O$11161,F$6,FALSE),3)","v":17.664999999999999},{"$f":"ROUND(VLOOKUP(CONCATENATE(G$5,$C30),'trend data'!$A$2:$O$11161,G$6,FALSE),3)","v":23.129000000000001},{"$f":"IFERROR(VLOOKUP(CONCATENATE(H$5,$C30),'trend data'!$A$2:$O$11161,H$6,FALSE),\"-\")","v":132},{"$f":"IFERROR(ROUND(VLOOKUP(CONCATENATE(I$5,$C30),'trend data'!$A$2:$O$11161,I$6,FALSE),3),\"-\")","v":9.8079999999999998},{"$f":"IFERROR(ROUND(VLOOKUP(CONCATENATE(J$5,$C30),'trend data'!$A$2:$O$11161,J$6,FALSE),3),\"-\")","v":8.2059999999999995},{"$f":"IFERROR(ROUND(VLOOKUP(CONCATENATE(K$5,$C30),'trend data'!$A$2:$O$11161,K$6,FALSE),3),\"-\")","v":11.631},{"$f":"IFERROR(VLOOKUP(CONCATENATE(L$5,$C30),'trend data'!$A$2:$O$11161,L$6,FALSE),\"-\")","v":"-"},{"$f":"IFERROR(VLOOKUP(CONCATENATE(M$5,$C30),'trend data'!$A$2:$O$11161,M$6,FALSE),\"-\")","v":"-"},{"$f":"IFERROR(VLOOKUP(CONCATENATE(N$5,$C30),'trend data'!$A$2:$O$11161,N$6,FALSE),\"-\")","v":"-"},{"$f":"IFERROR(VLOOKUP(CONCATENATE(O$5,$C30),'trend data'!$A$2:$O$11161,O$6,FALSE),\"-\")","v":"-"},{"$f":"IFERROR(VLOOKUP(CONCATENATE(P$5,$C30),'trend data'!$A$2:$O$11161,P$6,FALSE),\"-\")","v":"-"}]
[202003,"2020-09-01",{"$f":"CONCATENATE(A31,'SAB Data and Charts'!B$1)","v":"202003Scotland"},{"$f":"IFERROR(VLOOKUP(CONCATENATE(D$5,$C31),'trend data'!$A$2:$O$11161,D$6,FALSE),\"-\")","v":224},{"$f":"ROUND(VLOOKUP(CONCATENATE(E$5,$C31),'trend data'!$A$2:$O$11161,E$6,FALSE),4)","v":17.178100000000001},{"$f":"ROUND(VLOOKUP(CONCATENATE(F$5,$C31),'trend data'!$A$2:$O$11161,F$6,FALSE),4)","v":15.001899999999999},{"$f":"ROUND(VLOOKUP(CONCATENATE(G$5,$C31),'trend data'!$A$2:$O$11161,G$6,FALSE),4)","v":19.581299999999999},{"$f":"IFERROR(VLOOKUP(CONCATENATE(H$5,$C31),'trend data'!$A$2:$O$11161,H$6,FALSE),\"-\")","v":149},{"$f":"IFERROR(ROUND(VLOOKUP(CONCATENATE(I$5,$C31),'trend data'!$A$2:$O$11161,I$6,FALSE),4),\"-\")","v":10.9505},{"$f":"IFERROR(ROUND(VLOOKUP(CONCATENATE(J$5,$C31),'trend data'!$A$2:$O$11161,J$6,FALSE),4),\"-\")","v":9.2627000000000006},{"$f":"IFERROR(ROUND(VLOOKUP(CONCATENATE(K$5,$C31),'trend data'!$A$2:$O$11161,K$6,FALSE),4),\"-\")","v":12.8568},{"$f":"IFERROR(VLOOKUP(CONCATENATE(L$5,$C31),'trend data'!$A$2:$O$11161,L$6,FALSE),\"-\")","v":"-"},{"$f":"IFERROR(VLOOKUP(CONCATENATE(M$5,$C31),'trend data'!$A$2:$O$11161,M$6,FALSE),\"-\")","v":"-"},{"$f":"IFERROR(VLOOKUP(CONCATENATE(N$5,$C31),'trend data'!$A$2:$O$11161,N$6,FALSE),\"-\")","v":"-"},{"$f":"IFERROR(VLOOKUP(CONCATENATE(O$5,$C31),'trend data'!$A$2:$O$11161,O$6,FALSE),\"-\")","v":"-"}]
[202004,"2020-12-01",{"$f":"CONCATENATE(A32,'SAB Data and Charts'!B$1)","v":"202004Scotland"},{"$f":"IFERROR(VLOOKUP(CONCATENATE(D$5,$C32),'trend data'!$A$2:$O$11161,D$6,FALSE),\"-\")","v":256},{"$f":"ROUND(VLOOKUP(CONCATENATE(E$5,$C32),'trend data'!$A$2:$O$11161,E$6,FALSE),4)","v":18.854099999999999},{"$f":"ROUND(VLOOKUP(CONCATENATE(F$5,$C32),'trend data'!$A$2:$O$11161,F$6,FALSE),4)","v":16.614899999999999},{"$f":"ROUND(VLOOKUP(CONCATENATE(G$5,$C32),'trend data'!$A$2:$O$11161,G$6,FALSE),4)","v":21.3109},{"$f":"IFERROR(VLOOKUP(CONCATENATE(H$5,$C32),'trend data'!$A$2:$O$11161,H$6,FALSE),\"-\")","v":131},{"$f":"IFERROR(ROUND(VLOOKUP(CONCATENATE(I$5,$C32),'trend data'!$A$2:$O$11161,I$6,FALSE),4),\"-\")","v":9.6275999999999993},{"$f":"IFERROR(ROUND(VLOOKUP(CONCATENATE(J$5,$C32),'trend data'!$A$2:$O$11161,J$6,FALSE),4),\"-\")","v":8.0495000000000001},{"$f":"IFERROR(ROUND(VLOOKUP(CONCATENATE(K$5,$C32),'trend data'!$A$2:$O$11161,K$6,FALSE),4),\"-\")","v":11.4246},{"$f":"IFERROR(VLOOKUP(CONCATENATE(L$5,$C32),'trend data'!$A$2:$O$11161,L$6,FALSE),\"-\")","v":"-"},{"$f":"IFERROR(VLOOKUP(CONCATENATE(M$5,$C32),'trend data'!$A$2:$O$11161,M$6,FALSE),\"-\")","v":"-"},{"$f":"IFERROR(VLOOKUP(CONCATENATE(N$5,$C32),'trend data'!$A$2:$O$11161,N$6,FALSE),\"-\")","v":"-"},{"$f":"IFERROR(VLOOKUP(CONCATENATE(O$5,$C32),'trend data'!$A$2:$O$11161,O$6,FALSE),\"-\")","v":"-"}]
[202101,"2021-03-31",{"$f":"CONCATENATE(A33,'SAB Data and Charts'!B$1)","v":"202101Scotland"},{"$f":"IFERROR(VLOOKUP(CONCATENATE(D$5,$C33),'trend data'!$A$2:$O$11161,D$6,FALSE),\"-\")","v":248},{"$f":"ROUND(VLOOKUP(CONCATENATE(E$5,$C33),'trend data'!$A$2:$O$11161,E$6,FALSE),4)","v":18.345300000000002},{"$f":"ROUND(VLOOKUP(CONCATENATE(F$5,$C33),'trend data'!$A$2:$O$11161,F$6,FALSE),4)","v":16.1328},{"$f":"ROUND(VLOOKUP(CONCATENATE(G$5,$C33),'trend data'!$A$2:$O$11161,G$6,FALSE),4)","v":20.776399999999999},{"$f":"IFERROR(VLOOKUP(CONCATENATE(H$5,$C33),'trend data'!$A$2:$O$11161,H$6,FALSE),\"-\")","v":140},{"$f":"IFERROR(ROUND(VLOOKUP(CONCATENATE(I$5,$C33),'trend data'!$A$2:$O$11161,I$6,FALSE),4),\"-\")","v":10.4787},{"$f":"IFERROR(ROUND(VLOOKUP(CONCATENATE(J$5,$C33),'trend data'!$A$2:$O$11161,J$6,FALSE),4),\"-\")","v":8.8147000000000002},{"$f":"IFERROR(ROUND(VLOOKUP(CONCATENATE(K$5,$C33),'trend data'!$A$2:$O$11161,K$6,FALSE),4),\"-\")","v":12.365399999999999},{"$f":"IFERROR(VLOOKUP(CONCATENATE(L$5,$C33),'trend data'!$A$2:$O$11161,L$6,FALSE),\"-\")","v":"-"},{"$f":"IFERROR(VLOOKUP(CONCATENATE(M$5,$C33),'trend data'!$A$2:$O$11161,M$6,FALSE),\"-\")","v":"-"},{"$f":"IFERROR(VLOOKUP(CONCATENATE(N$5,$C33),'trend data'!$A$2:$O$11161,N$6,FALSE),\"-\")","v":"-"},{"$f":"IFERROR(VLOOKUP(CONCATENATE(O$5,$C33),'trend data'!$A$2:$O$11161,O$6,FALSE),\"-\")","v":"-"}]
[202102,"2021-06-30",{"$f":"CONCATENATE(A34,'SAB Data and Charts'!B$1)","v":"202102Scotland"},{"$f":"IFERROR(VLOOKUP(CONCATENATE(D$5,$C34),'trend data'!$A$2:$O$11161,D$6,FALSE),\"-\")","v":260},{"$f":"ROUND(VLOOKUP(CONCATENATE(E$5,$C34),'trend data'!$A$2:$O$11161,E$6,FALSE),4)","v":18.649100000000001},{"$f":"ROUND(VLOOKUP(CONCATENATE(F$5,$C34),'trend data'!$A$2:$O$11161,F$6,FALSE),4)","v":16.450800000000001},{"$f":"ROUND(VLOOKUP(CONCATENATE(G$5,$C34),'trend data'!$A$2:$O$11161,G$6,FALSE),4)","v":21.0593},{"$f":"IFERROR(VLOOKUP(CONCATENATE(H$5,$C34),'trend data'!$A$2:$O$11161,H$6,FALSE),\"-\")","v":148},{"$f":"IFERROR(ROUND(VLOOKUP(CONCATENATE(I$5,$C34),'trend data'!$A$2:$O$11161,I$6,FALSE),4),\"-\")","v":10.9558},{"$f":"IFERROR(ROUND(VLOOKUP(CONCATENATE(J$5,$C34),'trend data'!$A$2:$O$11161,J$6,FALSE),4),\"-\")","v":9.2616999999999994},{"$f":"IFERROR(ROUND(VLOOKUP(CONCATENATE(K$5,$C34),'trend data'!$A$2:$O$11161,K$6,FALSE),4),\"-\")","v":12.869899999999999},{"$f":"IFERROR(VLOOKUP(CONCATENATE(L$5,$C34),'trend data'!$A$2:$O$11161,L$6,FALSE),\"-\")","v":"-"},{"$f":"IFERROR(VLOOKUP(CONCATENATE(M$5,$C34),'trend data'!$A$2:$O$11161,M$6,FALSE),\"-\")","v":"-"},{"$f":"IFERROR(VLOOKUP(CONCATENATE(N$5,$C34),'trend data'!$A$2:$O$11161,N$6,FALSE),\"-\")","v":"-"},{"$f":"IFERROR(VLOOKUP(CONCATENATE(O$5,$C34),'trend data'!$A$2:$O$11161,O$6,FALSE),\"-\")","v":"-"}]
[202103,"2021-09-30",{"$f":"CONCATENATE(A35,'SAB Data and Charts'!B$1)","v":"202103Scotland"},{"$f":"IFERROR(VLOOKUP(CONCATENATE(D$5,$C35),'trend data'!$A$2:$O$11161,D$6,FALSE),\"-\")","v":268},{"$f":"ROUND(VLOOKUP(CONCATENATE(E$5,$C35),'trend data'!$A$2:$O$11161,E$6,FALSE),4)","v":18.4023},{"$f":"ROUND(VLOOKUP(CONCATENATE(F$5,$C35),'trend data'!$A$2:$O$11161,F$6,FALSE),4)","v":16.264700000000001},{"$f":"ROUND(VLOOKUP(CONCATENATE(G$5,$C35),'trend data'!$A$2:$O$11161,G$6,FALSE),4)","v":20.742699999999999},{"$f":"IFERROR(VLOOKUP(CONCATENATE(H$5,$C35),'trend data'!$A$2:$O$11161,H$6,FALSE),\"-\")","v":132},{"$f":"IFERROR(ROUND(VLOOKUP(CONCATENATE(I$5,$C35),'trend data'!$A$2:$O$11161,I$6,FALSE),4),\"-\")","v":9.6651000000000007},{"$f":"IFERROR(ROUND(VLOOKUP(CONCATENATE(J$5,$C35),'trend data'!$A$2:$O$11161,J$6,FALSE),4),\"-\")","v":8.0866000000000007},{"$f":"IFERROR(ROUND(VLOOKUP(CONCATENATE(K$5,$C35),'trend data'!$A$2:$O$11161,K$6,FALSE),4),\"-\")","v":11.4617},{"$f":"IFERROR(VLOOKUP(CONCATENATE(L$5,$C35),'trend data'!$A$2:$O$11161,L$6,FALSE),\"-\")","v":"-"},{"$f":"IFERROR(VLOOKUP(CONCATENATE(M$5,$C35),'trend data'!$A$2:$O$11161,M$6,FALSE),\"-\")","v":"-"},{"$f":"IFERROR(VLOOKUP(CONCATENATE(N$5,$C35),'trend data'!$A$2:$O$11161,N$6,FALSE),\"-\")","v":"-"},{"$f":"IFERROR(VLOOKUP(CONCATENATE(O$5,$C35),'trend data'!$A$2:$O$11161,O$6,FALSE),\"-\")","v":"-"}]
[202104,"2021-12-31",{"$f":"CONCATENATE(A36,'SAB Data and Charts'!B$1)","v":"202104Scotland"},{"$f":"IFERROR(VLOOKUP(CONCATENATE(D$5,$C36),'trend data'!$A$2:$O$11161,D$6,FALSE),\"-\")","v":259},{"$f":"ROUND(VLOOKUP(CONCATENATE(E$5,$C36),'trend data'!$A$2:$O$11161,E$6,FALSE),4)","v":17.3383},{"$f":"ROUND(VLOOKUP(CONCATENATE(F$5,$C36),'trend data'!$A$2:$O$11161,F$6,FALSE),4)","v":15.290699999999999},{"$f":"ROUND(VLOOKUP(CONCATENATE(G$5,$C36),'trend data'!$A$2:$O$11161,G$6,FALSE),4)","v":19.583600000000001},{"$f":"IFERROR(VLOOKUP(CONCATENATE(H$5,$C36),'trend data'!$A$2:$O$11161,H$6,FALSE),\"-\")","v":136},{"$f":"IFERROR(ROUND(VLOOKUP(CONCATENATE(I$5,$C36),'trend data'!$A$2:$O$11161,I$6,FALSE),4),\"-\")","v":9.9580000000000002},{"$f":"IFERROR(ROUND(VLOOKUP(CONCATENATE(J$5,$C36),'trend data'!$A$2:$O$11161,J$6,FALSE),4),\"-\")","v":8.3546999999999993},{"$f":"IFERROR(ROUND(VLOOKUP(CONCATENATE(K$5,$C36),'trend data'!$A$2:$O$11161,K$6,FALSE),4),\"-\")","v":11.779299999999999},{"$f":"IFERROR(VLOOKUP(CONCATENATE(L$5,$C36),'trend data'!$A$2:$O$11161,L$6,FALSE),\"-\")","v":"-"},{"$f":"IFERROR(VLOOKUP(CONCATENATE(M$5,$C36),'trend data'!$A$2:$O$11161,M$6,FALSE),\"-\")","v":"-"},{"$f":"IFERROR(VLOOKUP(CONCATENATE(N$5,$C36),'trend data'!$A$2:$O$11161,N$6,FALSE),\"-\")","v":"-"},{"$f":"IFERROR(VLOOKUP(CONCATENATE(O$5,$C36),'trend data'!$A$2:$O$11161,O$6,FALSE),\"-\")","v":"-"}]
[202201,"2022-03-31",{"$f":"CONCATENATE(A37,'SAB Data and Charts'!B$1)","v":"202201Scotland"},{"$f":"IFERROR(VLOOKUP(CONCATENATE(D$5,$C37),'trend data'!$A$2:$O$11161,D$6,FALSE),\"-\")","v":241},{"$f":"ROUND(VLOOKUP(CONCATENATE(E$5,$C37),'trend data'!$A$2:$O$11161,E$6,FALSE),4)","v":16.272200000000002},{"$f":"ROUND(VLOOKUP(CONCATENATE(F$5,$C37),'trend data'!$A$2:$O$11161,F$6,FALSE),4)","v":14.282400000000001},{"$f":"ROUND(VLOOKUP(CONCATENATE(G$5,$C37),'trend data'!$A$2:$O$11161,G$6,FALSE),4)","v":18.4617},{"$f":"IFERROR(VLOOKUP(CONCATENATE(H$5,$C37),'trend data'!$A$2:$O$11161,H$6,FALSE),\"-\")","v":130},{"$f":"IFERROR(ROUND(VLOOKUP(CONCATENATE(I$5,$C37),'trend data'!$A$2:$O$11161,I$6,FALSE),4),\"-\")","v":9.6778999999999993},{"$f":"IFERROR(ROUND(VLOOKUP(CONCATENATE(J$5,$C37),'trend data'!$A$2:$O$11161,J$6,FALSE),4),\"-\")","v":8.0856999999999992},{"$f":"IFERROR(ROUND(VLOOKUP(CONCATENATE(K$5,$C37),'trend data'!$A$2:$O$11161,K$6,FALSE),4),\"-\")","v":11.4918},{"$f":"IFERROR(VLOOKUP(CONCATENATE(L$5,$C37),'trend data'!$A$2:$O$11161,L$6,FALSE),\"-\")","v":"-"},{"$f":"IFERROR(VLOOKUP(CONCATENATE(M$5,$C37),'trend data'!$A$2:$O$11161,M$6,FALSE),\"-\")","v":"-"},{"$f":"IFERROR(VLOOKUP(CONCATENATE(N$5,$C37),'trend data'!$A$2:$O$11161,N$6,FALSE),\"-\")","v":"-"},{"$f":"IFERROR(VLOOKUP(CONCATENATE(O$5,$C37),'trend data'!$A$2:$O$11161,O$6,FALSE),\"-\")","v":"-"}]
[202202,"2022-06-30",{"$f":"CONCATENATE(A38,'SAB Data and Charts'!B$1)","v":"202202Scotland"},{"$f":"IFERROR(VLOOKUP(CONCATENATE(D$5,$C38),'trend data'!$A$2:$O$11161,D$6,FALSE),\"-\")","v":262},{"$f":"ROUND(VLOOKUP(CONCATENATE(E$5,$C38),'trend data'!$A$2:$O$11161,E$6,FALSE),4)","v":17.278500000000001},{"$f":"ROUND(VLOOKUP(CONCATENATE(F$5,$C38),'trend data'!$A$2:$O$11161,F$6,FALSE),4)","v":15.2494},{"$f":"ROUND(VLOOKUP(CONCATENATE(G$5,$C38),'trend data'!$A$2:$O$11161,G$6,FALSE),4)","v":19.502500000000001},{"$f":"IFERROR(VLOOKUP(CONCATENATE(H$5,$C38),'trend data'!$A$2:$O$11161,H$6,FALSE),\"-\")","v":139},{"$f":"IFERROR(ROUND(VLOOKUP(CONCATENATE(I$5,$C38),'trend data'!$A$2:$O$11161,I$6,FALSE),4),\"-\")","v":10.2342},{"$f":"IFERROR(ROUND(VLOOKUP(CONCATENATE(J$5,$C38),'trend data'!$A$2:$O$11161,J$6,FALSE),4),\"-\")","v":8.6035000000000004},{"$f":"IFERROR(ROUND(VLOOKUP(CONCATENATE(K$5,$C38),'trend data'!$A$2:$O$11161,K$6,FALSE),4),\"-\")","v":12.084},{"$f":"IFERROR(VLOOKUP(CONCATENATE(L$5,$C38),'trend data'!$A$2:$O$11161,L$6,FALSE),\"-\")","v":"-"},{"$f":"IFERROR(VLOOKUP(CONCATENATE(M$5,$C38),'trend data'!$A$2:$O$11161,M$6,FALSE),\"-\")","v":"-"},{"$f":"IFERROR(VLOOKUP(CONCATENATE(N$5,$C38),'trend data'!$A$2:$O$11161,N$6,FALSE),\"-\")","v":"-"},{"$f":"IFERROR(VLOOKUP(CONCATENATE(O$5,$C38),'trend data'!$A$2:$O$11161,O$6,FALSE),\"-\")","v":"-"}]
[202203,"2022-09-30",{"$f":"CONCATENATE(A39,'SAB Data and Charts'!B$1)","v":"202203Scotland"},{"$f":"IFERROR(VLOOKUP(CONCATENATE(D$5,$C39),'trend data'!$A$2:$O$11161,D$6,FALSE),\"-\")","v":264},{"$f":"ROUND(VLOOKUP(CONCATENATE(E$5,$C39),'trend data'!$A$2:$O$11161,E$6,FALSE),4)","v":17.0792},{"$f":"ROUND(VLOOKUP(CONCATENATE(F$5,$C39),'trend data'!$A$2:$O$11161,F$6,FALSE),4)","v":15.0808},{"$f":"ROUND(VLOOKUP(CONCATENATE(G$5,$C39),'trend data'!$A$2:$O$11161,G$6,FALSE),4)","v":19.268699999999999},{"$f":"IFERROR(VLOOKUP(CONCATENATE(H$5,$C39),'trend data'!$A$2:$O$11161,H$6,FALSE),\"-\")","v":121},{"$f":"IFERROR(ROUND(VLOOKUP(CONCATENATE(I$5,$C39),'trend data'!$A$2:$O$11161,I$6,FALSE),4),\"-\")","v":8.8120999999999992},{"$f":"IFERROR(ROUND(VLOOKUP(CONCATENATE(J$5,$C39),'trend data'!$A$2:$O$11161,J$6,FALSE),4),\"-\")","v":7.3118999999999996},{"$f":"IFERROR(ROUND(VLOOKUP(CONCATENATE(K$5,$C39),'trend data'!$A$2:$O$11161,K$6,FALSE),4),\"-\")","v":10.529400000000001},{"$f":"IFERROR(VLOOKUP(CONCATENATE(L$5,$C39),'trend data'!$A$2:$O$11161,L$6,FALSE),\"-\")","v":"-"},{"$f":"IFERROR(VLOOKUP(CONCATENATE(M$5,$C39),'trend data'!$A$2:$O$11161,M$6,FALSE),\"-\")","v":"-"},{"$f":"IFERROR(VLOOKUP(CONCATENATE(N$5,$C39),'trend data'!$A$2:$O$11161,N$6,FALSE),\"-\")","v":"-"},{"$f":"IFERROR(VLOOKUP(CONCATENATE(O$5,$C39),'trend data'!$A$2:$O$11161,O$6,FALSE),\"-\")","v":"-"}]
[202204,"2022-12-31",{"$f":"CONCATENATE(A40,'SAB Data and Charts'!B$1)","v":"202204Scotland"},{"$f":"IFERROR(VLOOKUP(CONCATENATE(D$5,$C40),'trend data'!$A$2:$O$11161,D$6,FALSE),\"-\")","v":302},{"$f":"ROUND(VLOOKUP(CONCATENATE(E$5,$C40),'trend data'!$A$2:$O$11161,E$6,FALSE),4)","v":19.247299999999999},{"$f":"ROUND(VLOOKUP(CONCATENATE(F$5,$C40),'trend data'!$A$2:$O$11161,F$6,FALSE),4)","v":17.1374},{"$f":"ROUND(VLOOKUP(CONCATENATE(G$5,$C40),'trend data'!$A$2:$O$11161,G$6,FALSE),4)","v":21.545200000000001},{"$f":"IFERROR(VLOOKUP(CONCATENATE(H$5,$C40),'trend data'!$A$2:$O$11161,H$6,FALSE),\"-\")","v":131},{"$f":"IFERROR(ROUND(VLOOKUP(CONCATENATE(I$5,$C40),'trend data'!$A$2:$O$11161,I$6,FALSE),4),\"-\")","v":9.5403000000000002},{"$f":"IFERROR(ROUND(VLOOKUP(CONCATENATE(J$5,$C40),'trend data'!$A$2:$O$11161,J$6,FALSE),4),\"-\")","v":7.9764999999999997},{"$f":"IFERROR(ROUND(VLOOKUP(CONCATENATE(K$5,$C40),'trend data'!$A$2:$O$11161,K$6,FALSE),4),\"-\")","v":11.321},{"$f":"IFERROR(VLOOKUP(CONCATENATE(L$5,$C40),'trend data'!$A$2:$O$11161,L$6,FALSE),\"-\")","v":"-"},{"$f":"IFERROR(VLOOKUP(CONCATENATE(M$5,$C40),'trend data'!$A$2:$O$11161,M$6,FALSE),\"-\")","v":"-"},{"$f":"IFERROR(VLOOKUP(CONCATENATE(N$5,$C40),'trend data'!$A$2:$O$11161,N$6,FALSE),\"-\")","v":"-"},{"$f":"IFERROR(VLOOKUP(CONCATENATE(O$5,$C40),'trend data'!$A$2:$O$11161,O$6,FALSE),\"-\")","v":"-"}]
[202301,"2023-03-31",{"$f":"CONCATENATE(A41,'SAB Data and Charts'!B$1)","v":"202301Scotland"},{"$f":"IFERROR(VLOOKUP(CONCATENATE(D$5,$C41),'trend data'!$A$2:$O$11161,D$6,FALSE),\"-\")","v":300},{"$f":"ROUND(VLOOKUP(CONCATENATE(E$5,$C41),'trend data'!$A$2:$O$11161,E$6,FALSE),4)","v":19.121500000000001},{"$f":"ROUND(VLOOKUP(CONCATENATE(F$5,$C41),'trend data'!$A$2:$O$11161,F$6,FALSE),4)","v":17.018599999999999},{"$f":"ROUND(VLOOKUP(CONCATENATE(G$5,$C41),'trend data'!$A$2:$O$11161,G$6,FALSE),4)","v":21.412400000000002},{"$f":"IFERROR(VLOOKUP(CONCATENATE(H$5,$C41),'trend data'!$A$2:$O$11161,H$6,FALSE),\"-\")","v":133},{"$f":"IFERROR(ROUND(VLOOKUP(CONCATENATE(I$5,$C41),'trend data'!$A$2:$O$11161,I$6,FALSE),4),\"-\")","v":9.9011999999999993},{"$f":"IFERROR(ROUND(VLOOKUP(CONCATENATE(J$5,$C41),'trend data'!$A$2:$O$11161,J$6,FALSE),4),\"-\")","v":8.2898999999999994},{"$f":"IFERROR(ROUND(VLOOKUP(CONCATENATE(K$5,$C41),'trend data'!$A$2:$O$11161,K$6,FALSE),4),\"-\")","v":11.7342},{"$f":"IFERROR(VLOOKUP(CONCATENATE(L$5,$C41),'trend data'!$A$2:$O$11161,L$6,FALSE),\"-\")","v":"-"},{"$f":"IFERROR(VLOOKUP(CONCATENATE(M$5,$C41),'trend data'!$A$2:$O$11161,M$6,FALSE),\"-\")","v":"-"},{"$f":"IFERROR(VLOOKUP(CONCATENATE(N$5,$C41),'trend data'!$A$2:$O$11161,N$6,FALSE),\"-\")","v":"-"},{"$f":"IFERROR(VLOOKUP(CONCATENATE(O$5,$C41),'trend data'!$A$2:$O$11161,O$6,FALSE),\"-\")","v":"-"}]
[202302,"2023-06-30",{"$f":"CONCATENATE(A42,'SAB Data and Charts'!B$1)","v":"202302Scotland"},{"$f":"IFERROR(VLOOKUP(CONCATENATE(D$5,$C42),'trend data'!$A$2:$O$11161,D$6,FALSE),\"-\")","v":283},{"$f":"ROUND(VLOOKUP(CONCATENATE(E$5,$C42),'trend data'!$A$2:$O$11161,E$6,FALSE),4)","v":18.321200000000001},{"$f":"ROUND(VLOOKUP(CONCATENATE(F$5,$C42),'trend data'!$A$2:$O$11161,F$6,FALSE),4)","v":16.2485},{"$f":"ROUND(VLOOKUP(CONCATENATE(G$5,$C42),'trend data'!$A$2:$O$11161,G$6,FALSE),4)","v":20.585000000000001},{"$f":"IFERROR(VLOOKUP(CONCATENATE(H$5,$C42),'trend data'!$A$2:$O$11161,H$6,FALSE),\"-\")","v":140},{"$f":"IFERROR(ROUND(VLOOKUP(CONCATENATE(I$5,$C42),'trend data'!$A$2:$O$11161,I$6,FALSE),4),\"-\")","v":10.3078},{"$f":"IFERROR(ROUND(VLOOKUP(CONCATENATE(J$5,$C42),'trend data'!$A$2:$O$11161,J$6,FALSE),4),\"-\")","v":8.6709999999999994},{"$f":"IFERROR(ROUND(VLOOKUP(CONCATENATE(K$5,$C42),'trend data'!$A$2:$O$11161,K$6,FALSE),4),\"-\")","v":12.1637},{"$f":"IFERROR(VLOOKUP(CONCATENATE(L$5,$C42),'trend data'!$A$2:$O$11161,L$6,FALSE),\"-\")","v":"-"},{"$f":"IFERROR(VLOOKUP(CONCATENATE(M$5,$C42),'trend data'!$A$2:$O$11161,M$6,FALSE),\"-\")","v":"-"},{"$f":"IFERROR(VLOOKUP(CONCATENATE(N$5,$C42),'trend data'!$A$2:$O$11161,N$6,FALSE),\"-\")","v":"-"},{"$f":"IFERROR(VLOOKUP(CONCATENATE(O$5,$C42),'trend data'!$A$2:$O$11161,O$6,FALSE),\"-\")","v":"-"}]
[202303,"2023-09-30",{"$f":"CONCATENATE(A43,'SAB Data and Charts'!B$1)","v":"202303Scotland"},{"$f":"IFERROR(VLOOKUP(CONCATENATE(D$5,$C43),'trend data'!$A$2:$O$11161,D$6,FALSE),\"-\")","v":278},{"$f":"ROUND(VLOOKUP(CONCATENATE(E$5,$C43),'trend data'!$A$2:$O$11161,E$6,FALSE),4)","v":18.078199999999999},{"$f":"ROUND(VLOOKUP(CONCATENATE(F$5,$C43),'trend data'!$A$2:$O$11161,F$6,FALSE),4)","v":16.0152},{"$f":"ROUND(VLOOKUP(CONCATENATE(G$5,$C43),'trend data'!$A$2:$O$11161,G$6,FALSE),4)","v":20.333200000000001},{"$f":"IFERROR(VLOOKUP(CONCATENATE(H$5,$C43),'trend data'!$A$2:$O$11161,H$6,FALSE),\"-\")","v":140},{"$f":"IFERROR(ROUND(VLOOKUP(CONCATENATE(I$5,$C43),'trend data'!$A$2:$O$11161,I$6,FALSE),4),\"-\")","v":10.1958},{"$f":"IFERROR(ROUND(VLOOKUP(CONCATENATE(J$5,$C43),'trend data'!$A$2:$O$11161,J$6,FALSE),4),\"-\")","v":8.5767000000000007},{"$f":"IFERROR(ROUND(VLOOKUP(CONCATENATE(K$5,$C43),'trend data'!$A$2:$O$11161,K$6,FALSE),4),\"-\")","v":12.031499999999999},{"$f":"IFERROR(VLOOKUP(CONCATENATE(L$5,$C43),'trend data'!$A$2:$O$11161,L$6,FALSE),\"-\")","v":"-"},{"$f":"IFERROR(VLOOKUP(CONCATENATE(M$5,$C43),'trend data'!$A$2:$O$11161,M$6,FALSE),\"-\")","v":"-"},{"$f":"IFERROR(VLOOKUP(CONCATENATE(N$5,$C43),'trend data'!$A$2:$O$11161,N$6,FALSE),\"-\")","v":"-"},{"$f":"IFERROR(VLOOKUP(CONCATENATE(O$5,$C43),'trend data'!$A$2:$O$11161,O$6,FALSE),\"-\")","v":"-"}]
[202304,"2023-12-31",{"$f":"CONCATENATE(A44,'SAB Data and Charts'!B$1)","v":"202304Scotland"},{"$f":"IFERROR(VLOOKUP(CONCATENATE(D$5,$C44),'trend data'!$A$2:$O$11161,D$6,FALSE),\"-\")","v":301},{"$f":"ROUND(VLOOKUP(CONCATENATE(E$5,$C44),'trend data'!$A$2:$O$11161,E$6,FALSE),4)","v":19.218900000000001},{"$f":"ROUND(VLOOKUP(CONCATENATE(F$5,$C44),'trend data'!$A$2:$O$11161,F$6,FALSE),4)","v":17.108699999999999},{"$f":"ROUND(VLOOKUP(CONCATENATE(G$5,$C44),'trend data'!$A$2:$O$11161,G$6,FALSE),4)","v":21.517399999999999},{"$f":"IFERROR(VLOOKUP(CONCATENATE(H$5,$C44),'trend data'!$A$2:$O$11161,H$6,FALSE),\"-\")","v":137},{"$f":"IFERROR(ROUND(VLOOKUP(CONCATENATE(I$5,$C44),'trend data'!$A$2:$O$11161,I$6,FALSE),4),\"-\")","v":9.9772999999999996},{"$f":"IFERROR(ROUND(VLOOKUP(CONCATENATE(J$5,$C44),'trend data'!$A$2:$O$11161,J$6,FALSE),4),\"-\")","v":8.3764000000000003},{"$f":"IFERROR(ROUND(VLOOKUP(CONCATENATE(K$5,$C44),'trend data'!$A$2:$O$11161,K$6,FALSE),4),\"-\")","v":11.7949},{"$f":"IFERROR(VLOOKUP(CONCATENATE(L$5,$C44),'trend data'!$A$2:$O$11161,L$6,FALSE),\"-\")","v":"-"},{"$f":"IFERROR(VLOOKUP(CONCATENATE(M$5,$C44),'trend data'!$A$2:$O$11161,M$6,FALSE),\"-\")","v":"-"},{"$f":"IFERROR(VLOOKUP(CONCATENATE(N$5,$C44),'trend data'!$A$2:$O$11161,N$6,FALSE),\"-\")","v":"-"},{"$f":"IFERROR(VLOOKUP(CONCATENATE(O$5,$C44),'trend data'!$A$2:$O$11161,O$6,FALSE),\"-\")","v":"-"}]
[202401,"2024-03-31",{"$f":"CONCATENATE(A45,'SAB Data and Charts'!B$1)","v":"202401Scotland"},{"$f":"IFERROR(VLOOKUP(CONCATENATE(D$5,$C45),'trend data'!$A$2:$O$11161,D$6,FALSE),\"-\")","v":271},{"$f":"ROUND(VLOOKUP(CONCATENATE(E$5,$C45),'trend data'!$A$2:$O$11161,E$6,FALSE),4)","v":17.0364},{"$f":"ROUND(VLOOKUP(CONCATENATE(F$5,$C45),'trend data'!$A$2:$O$11161,F$6,FALSE),4)","v":15.068099999999999},{"$f":"ROUND(VLOOKUP(CONCATENATE(G$5,$C45),'trend data'!$A$2:$O$11161,G$6,FALSE),4)","v":19.190300000000001},{"$f":"IFERROR(VLOOKUP(CONCATENATE(H$5,$C45),'trend data'!$A$2:$O$11161,H$6,FALSE),\"-\")","v":148},{"$f":"IFERROR(ROUND(VLOOKUP(CONCATENATE(I$5,$C45),'trend data'!$A$2:$O$11161,I$6,FALSE),4),\"-\")","v":10.9267},{"$f":"IFERROR(ROUND(VLOOKUP(CONCATENATE(J$5,$C45),'trend data'!$A$2:$O$11161,J$6,FALSE),4),\"-\")","v":9.2370999999999999},{"$f":"IFERROR(ROUND(VLOOKUP(CONCATENATE(K$5,$C45),'trend data'!$A$2:$O$11161,K$6,FALSE),4),\"-\")","v":12.835800000000001},{"$f":"IFERROR(VLOOKUP(CONCATENATE(L$5,$C45),'trend data'!$A$2:$O$11161,L$6,FALSE),\"-\")","v":"-"},{"$f":"IFERROR(VLOOKUP(CONCATENATE(M$5,$C45),'trend data'!$A$2:$O$11161,M$6,FALSE),\"-\")","v":"-"},{"$f":"IFERROR(VLOOKUP(CONCATENATE(N$5,$C45),'trend data'!$A$2:$O$11161,N$6,FALSE),\"-\")","v":"-"},{"$f":"IFERROR(VLOOKUP(CONCATENATE(O$5,$C45),'trend data'!$A$2:$O$11161,O$6,FALSE),\"-\")","v":"-"}]
[202402,"2024-06-30",{"$f":"CONCATENATE(A46,'SAB Data and Charts'!B$1)","v":"202402Scotland"},{"$f":"IFERROR(VLOOKUP(CONCATENATE(D$5,$C46),'trend data'!$A$2:$O$11161,D$6,FALSE),\"-\")","v":270},{"$f":"ROUND(VLOOKUP(CONCATENATE(E$5,$C46),'trend data'!$A$2:$O$11161,E$6,FALSE),4)","v":17.340199999999999},{"$f":"ROUND(VLOOKUP(CONCATENATE(F$5,$C46),'trend data'!$A$2:$O$11161,F$6,FALSE),4)","v":15.333299999999999},{"$f":"ROUND(VLOOKUP(CONCATENATE(G$5,$C46),'trend data'!$A$2:$O$11161,G$6,FALSE),4)","v":19.536799999999999},{"$f":"IFERROR(VLOOKUP(CONCATENATE(H$5,$C46),'trend data'!$A$2:$O$11161,H$6,FALSE),\"-\")","v":136},{"$f":"IFERROR(ROUND(VLOOKUP(CONCATENATE(I$5,$C46),'trend data'!$A$2:$O$11161,I$6,FALSE),4),\"-\")","v":10.040699999999999},{"$f":"IFERROR(ROUND(VLOOKUP(CONCATENATE(J$5,$C46),'trend data'!$A$2:$O$11161,J$6,FALSE),4),\"-\")","v":8.4240999999999993},{"$f":"IFERROR(ROUND(VLOOKUP(CONCATENATE(K$5,$C46),'trend data'!$A$2:$O$11161,K$6,FALSE),4),\"-\")","v":11.8772},{"$f":"IFERROR(VLOOKUP(CONCATENATE(L$5,$C46),'trend data'!$A$2:$O$11161,L$6,FALSE),\"-\")","v":"-"},{"$f":"IFERROR(VLOOKUP(CONCATENATE(M$5,$C46),'trend data'!$A$2:$O$11161,M$6,FALSE),\"-\")","v":"-"},{"$f":"IFERROR(VLOOKUP(CONCATENATE(N$5,$C46),'trend data'!$A$2:$O$11161,N$6,FALSE),\"-\")","v":"-"},{"$f":"IFERROR(VLOOKUP(CONCATENATE(O$5,$C46),'trend data'!$A$2:$O$11161,O$6,FALSE),\"-\")","v":"-"}]

{"sheet":"CDI data","index":8,"n_rows":46,"n_cols":27,"rows_kept":46,"cut":false,"hidden":true,"merged":[]}
["Trend data",null,null,null,null,null,null,null,null,null,null,null,null,null,"u-chart data"]
[]
["always last 3 years"]
[null,null,null,null,null,null,null,null,null,null,null,null,null,null,null,null,"change this"]
[null,null,null,"CDIHCAI","CDIHCAI","CDIHCAI","CDIHCAI","CDICA","CDICA","CDICA","CDICA",null,null,null,null,"current quarter end","2024-06-30",null,3,4,5,6,null,3,4,5,6]
[null,null,null,2,4,5,6,2,4,5,6]
[null,null,"ref","Healthcare associated Cases","Healthcare associated rate","Healthcare associated lower CI","Healthcare associated upper CI","Community associated Cases","Community associated rate","Community associated lower CI","Community associated upper CI",null,null,null,null,null,null,null,"CDIHCAI",null,null,null,null,"CDICA"]
[201404,"2014-12-19",{"$f":"CONCATENATE(A8,'CDI Data and Charts'!B$1)","v":"201404Scotland"},{"$f":"VLOOKUP(CONCATENATE(D$5,$C8),'trend data'!$A$2:$O$11161,D$6,FALSE)","v":321},{"$f":"ROUND(VLOOKUP(CONCATENATE(E$5,$C8),'trend data'!$A$2:$O$11161,E$6,FALSE),3)","v":18.751999999999999},{"$f":"ROUND(VLOOKUP(CONCATENATE(F$5,$C8),'trend data'!$A$2:$O$11161,F$6,FALSE),3)","v":16.756},{"$f":"ROUND(VLOOKUP(CONCATENATE(G$5,$C8),'trend data'!$A$2:$O$11161,G$6,FALSE),3)","v":20.92},{"$f":"IFERROR(VLOOKUP(CONCATENATE(H$5,$C8),'trend data'!$A$2:$O$11161,H$6,FALSE),\"-\")","v":121},{"$f":"IFERROR(ROUND(VLOOKUP(CONCATENATE(I$5,$C8),'trend data'!$A$2:$O$11161,I$6,FALSE),3),\"-\")","v":9.0030000000000001},{"$f":"IFERROR(ROUND(VLOOKUP(CONCATENATE(J$5,$C8),'trend data'!$A$2:$O$11161,J$6,FALSE),3),\"-\")","v":7.47},{"$f":"IFERROR(ROUND(VLOOKUP(CONCATENATE(K$5,$C8),'trend data'!$A$2:$O$11161,K$6,FALSE),3),\"-\")","v":10.757},null,null,null,null,null,null,null,"Healthcare associated rate","Healthcare associated av rate","Healthcare associated UWL 2sd","Healthcare associated UCL 3sd",null,"Community associatedrate","Community associatedav rate","Community associatedUWL 2sd","Community associatedUCL 3 sd"]
[201501,"2015-03-24",{"$f":"CONCATENATE(A9,'CDI Data and Charts'!B$1)","v":"201501Scotland"},{"$f":"VLOOKUP(CONCATENATE(D$5,$C9),'trend data'!$A$2:$O$11161,D$6,FALSE)","v":251},{"$f":"ROUND(VLOOKUP(CONCATENATE(E$5,$C9),'trend data'!$A$2:$O$11161,E$6,FALSE),3)","v":14.561999999999999},{"$f":"ROUND(VLOOKUP(CONCATENATE(F$5,$C9),'trend data'!$A$2:$O$11161,F$6,FALSE),3)","v":12.816000000000001},{"$f":"ROUND(VLOOKUP(CONCATENATE(G$5,$C9),'trend data'!$A$2:$O$11161,G$6,FALSE),3)","v":16.478999999999999},{"$f":"IFERROR(VLOOKUP(CONCATENATE(H$5,$C9),'trend data'!$A$2:$O$11161,H$6,FALSE),\"-\")","v":92},{"$f":"IFERROR(ROUND(VLOOKUP(CONCATENATE(I$5,$C9),'trend data'!$A$2:$O$11161,I$6,FALSE),3),\"-\")","v":6.9720000000000004},{"$f":"IFERROR(ROUND(VLOOKUP(CONCATENATE(J$5,$C9),'trend data'!$A$2:$O$11161,J$6,FALSE),3),\"-\")","v":5.62},{"$f":"IFERROR(ROUND(VLOOKUP(CONCATENATE(K$5,$C9),'trend data'!$A$2:$O$11161,K$6,FALSE),3),\"-\")","v":8.5500000000000007},null,null,null,{"$f":"YEAR(Q9)&\"0\"&IF(MONTH(Q9)<4,1,IF(MONTH(Q9)<7,2,IF(MONTH(Q9)<10,3,4)))","v":"202103"},1,{"$f":"Q10-92","v":"2021-09-22"},{"$f":"CONCATENATE(S$7,$O9,'CDI Data and Charts'!B$1)","v":"CDIHCAI202103Scotland"},{"$f":"ROUND(VLOOKUP($R9,'data for u-p-charts'!$A$2:$F$5000,S$5,FALSE),2)","v":16.82},{"$f":"ROUND(VLOOKUP($R9,'data for u-p-charts'!$A$2:$F$5000,T$5,FALSE),2)","v":14.13},{"$f":"ROUND(VLOOKUP($R9,'data for u-p-charts'!$A$2:$F$5000,U$5,FALSE),2)","v":16.100000000000001},{"$f":"ROUND(VLOOKUP($R9,'data for u-p-charts'!$A$2:$F$5000,V$5,FALSE),2)","v":17.09},{"$f":"CONCATENATE(X$7,$O9,'CDI Data and Charts'!B$1)","v":"CDICA202103Scotland"},{"$f":"ROUND(VLOOKUP($W9,'data for u-p-charts'!$A$2:$F$5000,X$5,FALSE),2)","v":6.37},{"$f":"ROUND(VLOOKUP($W9,'data for u-p-charts'!$A$2:$F$5000,Y$5,FALSE),2)","v":5.2},{"$f":"ROUND(VLOOKUP($W9,'data for u-p-charts'!$A$2:$F$5000,Z$5,FALSE),2)","v":6.43},{"$f":"ROUND(VLOOKUP($W9,'data for u-p-charts'!$A$2:$F$5000,AA$5,FALSE),2)","v":7.05}]
[201502,"2015-06-24",{"$f":"CONCATENATE(A10,'CDI Data and Charts'!B$1)","v":"201502Scotland"},{"$f":"VLOOKUP(CONCATENATE(D$5,$C10),'trend data'!$A$2:$O$11161,D$6,FALSE)","v":308},{"$f":"ROUND(VLOOKUP(CONCATENATE(E$5,$C10),'trend data'!$A$2:$O$11161,E$6,FALSE),3)","v":18.538},{"$f":"ROUND(VLOOKUP(CONCATENATE(F$5,$C10),'trend data'!$A$2:$O$11161,F$6,FALSE),3)","v":16.526},{"$f":"ROUND(VLOOKUP(CONCATENATE(G$5,$C10),'trend data'!$A$2:$O$11161,G$6,FALSE),3)","v":20.728999999999999},{"$f":"IFERROR(VLOOKUP(CONCATENATE(H$5,$C10),'trend data'!$A$2:$O$11161,H$6,FALSE),\"-\")","v":98},{"$f":"IFERROR(ROUND(VLOOKUP(CONCATENATE(I$5,$C10),'trend data'!$A$2:$O$11161,I$6,FALSE),3),\"-\")","v":7.3449999999999998},{"$f":"IFERROR(ROUND(VLOOKUP(CONCATENATE(J$5,$C10),'trend data'!$A$2:$O$11161,J$6,FALSE),3),\"-\")","v":5.9630000000000001},{"$f":"IFERROR(ROUND(VLOOKUP(CONCATENATE(K$5,$C10),'trend data'!$A$2:$O$11161,K$6,FALSE),3),\"-\")","v":8.9510000000000005},null,null,null,{"$f":"YEAR(Q10)&\"0\"&IF(MONTH(Q10)<4,1,IF(MONTH(Q10)<7,2,IF(MONTH(Q10)<10,3,4)))","v":"202104"},2,"2021-12-23",{"$f":"CONCATENATE(S$7,$O10,'CDI Data and Charts'!B$1)","v":"CDIHCAI202104Scotland"},{"$f":"ROUND(VLOOKUP($R10,'data for u-p-charts'!$A$2:$F$5000,S$5,FALSE),2)","v":13.19},{"$f":"ROUND(VLOOKUP($R10,'data for u-p-charts'!$A$2:$F$5000,T$5,FALSE),2)","v":14.13},{"$f":"ROUND(VLOOKUP($R10,'data for u-p-charts'!$A$2:$F$5000,U$5,FALSE),2)","v":16.079999999999998},{"$f":"ROUND(VLOOKUP($R10,'data for u-p-charts'!$A$2:$F$5000,V$5,FALSE),2)","v":17.05},{"$f":"CONCATENATE(X$7,$O10,'CDI Data and Charts'!B$1)","v":"CDICA202104Scotland"},{"$f":"ROUND(VLOOKUP($W10,'data for u-p-charts'!$A$2:$F$5000,X$5,FALSE),2)","v":4.91},{"$f":"ROUND(VLOOKUP($W10,'data for u-p-charts'!$A$2:$F$5000,Y$5,FALSE),2)","v":5.2},{"$f":"ROUND(VLOOKUP($W10,'data for u-p-charts'!$A$2:$F$5000,Z$5,FALSE),2)","v":6.43},{"$f":"ROUND(VLOOKUP($W10,'data for u-p-charts'!$A$2:$F$5000,AA$5,FALSE),2)","v":7.05}]
[201503,"2015-09-24",{"$f":"CONCATENATE(A11,'CDI Data and Charts'!B$1)","v":"201503Scotland"},{"$f":"VLOOKUP(CONCATENATE(D$5,$C11),'trend data'!$A$2:$O$11161,D$6,FALSE)","v":313},{"$f":"ROUND(VLOOKUP(CONCATENATE(E$5,$C11),'trend data'!$A$2:$O$11161,E$6,FALSE),3)","v":19.309999999999999},{"$f":"ROUND(VLOOKUP(CONCATENATE(F$5,$C11),'trend data'!$A$2:$O$11161,F$6,FALSE),3)","v":17.23},{"$f":"ROUND(VLOOKUP(CONCATENATE(G$5,$C11),'trend data'!$A$2:$O$11161,G$6,FALSE),3)","v":21.573},{"$f":"IFERROR(VLOOKUP(CONCATENATE(H$5,$C11),'trend data'!$A$2:$O$11161,H$6,FALSE),\"-\")","v":131},{"$f":"IFERROR(ROUND(VLOOKUP(CONCATENATE(I$5,$C11),'trend data'!$A$2:$O$11161,I$6,FALSE),3),\"-\")","v":9.7110000000000003},{"$f":"IFERROR(ROUND(VLOOKUP(CONCATENATE(J$5,$C11),'trend data'!$A$2:$O$11161,J$6,FALSE),3),\"-\")","v":8.1199999999999992},{"$f":"IFERROR(ROUND(VLOOKUP(CONCATENATE(K$5,$C11),'trend data'!$A$2:$O$11161,K$6,FALSE),3),\"-\")","v":11.523999999999999},null,null,null,"202201",3,"2022-03-25",{"$f":"CONCATENATE(S$7,$O11,'CDI Data and Charts'!B$1)","v":"CDIHCAI202201Scotland"},{"$f":"ROUND(VLOOKUP($R11,'data for u-p-charts'!$A$2:$F$5000,S$5,FALSE),2)","v":12.63},{"$f":"ROUND(VLOOKUP($R11,'data for u-p-charts'!$A$2:$F$5000,T$5,FALSE),2)","v":14.13},{"$f":"ROUND(VLOOKUP($R11,'data for u-p-charts'!$A$2:$F$5000,U$5,FALSE),2)","v":16.079999999999998},{"$f":"ROUND(VLOOKUP($R11,'data for u-p-charts'!$A$2:$F$5000,V$5,FALSE),2)","v":17.059999999999999},{"$f":"CONCATENATE(X$7,$O11,'CDI Data and Charts'!B$1)","v":"CDICA202201Scotland"},{"$f":"ROUND(VLOOKUP($W11,'data for u-p-charts'!$A$2:$F$5000,X$5,FALSE),2)","v":3.2},{"$f":"ROUND(VLOOKUP($W11,'data for u-p-charts'!$A$2:$F$5000,Y$5,FALSE),2)","v":5.2},{"$f":"ROUND(VLOOKUP($W11,'data for u-p-charts'!$A$2:$F$5000,Z$5,FALSE),2)","v":6.44},{"$f":"ROUND(VLOOKUP($W11,'data for u-p-charts'!$A$2:$F$5000,AA$5,FALSE),2)","v":7.06}]
[201504,"2015-12-24",{"$f":"CONCATENATE(A12,'CDI Data and Charts'!B$1)","v":"201504Scotland"},{"$f":"VLOOKUP(CONCATENATE(D$5,$C12),'trend data'!$A$2:$O$11161,D$6,FALSE)","v":367},{"$f":"ROUND(VLOOKUP(CONCATENATE(E$5,$C12),'trend data'!$A$2:$O$11161,E$6,FALSE),3)","v":22.349},{"$f":"ROUND(VLOOKUP(CONCATENATE(F$5,$C12),'trend data'!$A$2:$O$11161,F$6,FALSE),3)","v":20.12},{"$f":"ROUND(VLOOKUP(CONCATENATE(G$5,$C12),'trend data'!$A$2:$O$11161,G$6,FALSE),3)","v":24.756},{"$f":"IFERROR(VLOOKUP(CONCATENATE(H$5,$C12),'trend data'!$A$2:$O$11161,H$6,FALSE),\"-\")","v":116},{"$f":"IFERROR(ROUND(VLOOKUP(CONCATENATE(I$5,$C12),'trend data'!$A$2:$O$11161,I$6,FALSE),3),\"-\")","v":8.5990000000000002},{"$f":"IFERROR(ROUND(VLOOKUP(CONCATENATE(J$5,$C12),'trend data'!$A$2:$O$11161,J$6,FALSE),3),\"-\")","v":7.1059999999999999},{"$f":"IFERROR(ROUND(VLOOKUP(CONCATENATE(K$5,$C12),'trend data'!$A$2:$O$11161,K$6,FALSE),3),\"-\")","v":10.314},null,null,null,"202202",4,"2022-06-25",{"$f":"CONCATENATE(S$7,$O12,'CDI Data and Charts'!B$1)","v":"CDIHCAI202202Scotland"},{"$f":"ROUND(VLOOKUP($R12,'data for u-p-charts'!$A$2:$F$5000,S$5,FALSE),2)","v":14.31},{"$f":"ROUND(VLOOKUP($R12,'data for u-p-charts'!$A$2:$F$5000,T$5,FALSE),2)","v":14.13},{"$f":"ROUND(VLOOKUP($R12,'data for u-p-charts'!$A$2:$F$5000,U$5,FALSE),2)","v":16.059999999999999},{"$f":"ROUND(VLOOKUP($R12,'data for u-p-charts'!$A$2:$F$5000,V$5,FALSE),2)","v":17.03},{"$f":"CONCATENATE(X$7,$O12,'CDI Data and Charts'!B$1)","v":"CDICA202202Scotland"},{"$f":"ROUND(VLOOKUP($W12,'data for u-p-charts'!$A$2:$F$5000,X$5,FALSE),2)","v":4.8600000000000003},{"$f":"ROUND(VLOOKUP($W12,'data for u-p-charts'!$A$2:$F$5000,Y$5,FALSE),2)","v":5.2},{"$f":"ROUND(VLOOKUP($W12,'data for u-p-charts'!$A$2:$F$5000,Z$5,FALSE),2)","v":6.44},{"$f":"ROUND(VLOOKUP($W12,'data for u-p-charts'!$A$2:$F$5000,AA$5,FALSE),2)","v":7.05}]
[201601,"2016-03-24",{"$f":"CONCATENATE(A13,'CDI Data and Charts'!B$1)","v":"201601Scotland"},{"$f":"VLOOKUP(CONCATENATE(D$5,$C13),'trend data'!$A$2:$O$11161,D$6,FALSE)","v":252},{"$f":"ROUND(VLOOKUP(CONCATENATE(E$5,$C13),'trend data'!$A$2:$O$11161,E$6,FALSE),3)","v":15.05},{"$f":"ROUND(VLOOKUP(CONCATENATE(F$5,$C13),'trend data'!$A$2:$O$11161,F$6,FALSE),3)","v":13.249000000000001},{"$f":"ROUND(VLOOKUP(CONCATENATE(G$5,$C13),'trend data'!$A$2:$O$11161,G$6,FALSE),3)","v":17.027000000000001},{"$f":"IFERROR(VLOOKUP(CONCATENATE(H$5,$C13),'trend data'!$A$2:$O$11161,H$6,FALSE),\"-\")","v":97},{"$f":"IFERROR(ROUND(VLOOKUP(CONCATENATE(I$5,$C13),'trend data'!$A$2:$O$11161,I$6,FALSE),3),\"-\")","v":7.258},{"$f":"IFERROR(ROUND(VLOOKUP(CONCATENATE(J$5,$C13),'trend data'!$A$2:$O$11161,J$6,FALSE),3),\"-\")","v":5.8860000000000001},{"$f":"IFERROR(ROUND(VLOOKUP(CONCATENATE(K$5,$C13),'trend data'!$A$2:$O$11161,K$6,FALSE),3),\"-\")","v":8.8550000000000004},null,null,null,"202203",5,"2022-09-25",{"$f":"CONCATENATE(S$7,$O13,'CDI Data and Charts'!B$1)","v":"CDIHCAI202203Scotland"},{"$f":"ROUND(VLOOKUP($R13,'data for u-p-charts'!$A$2:$F$5000,S$5,FALSE),2)","v":13.07},{"$f":"ROUND(VLOOKUP($R13,'data for u-p-charts'!$A$2:$F$5000,T$5,FALSE),2)","v":14.13},{"$f":"ROUND(VLOOKUP($R13,'data for u-p-charts'!$A$2:$F$5000,U$5,FALSE),2)","v":16.04},{"$f":"ROUND(VLOOKUP($R13,'data for u-p-charts'!$A$2:$F$5000,V$5,FALSE),2)","v":17},{"$f":"CONCATENATE(X$7,$O13,'CDI Data and Charts'!B$1)","v":"CDICA202203Scotland"},{"$f":"ROUND(VLOOKUP($W13,'data for u-p-charts'!$A$2:$F$5000,X$5,FALSE),2)","v":5.97},{"$f":"ROUND(VLOOKUP($W13,'data for u-p-charts'!$A$2:$F$5000,Y$5,FALSE),2)","v":5.2},{"$f":"ROUND(VLOOKUP($W13,'data for u-p-charts'!$A$2:$F$5000,Z$5,FALSE),2)","v":6.43},{"$f":"ROUND(VLOOKUP($W13,'data for u-p-charts'!$A$2:$F$5000,AA$5,FALSE),2)","v":7.04}]
[201602,"2016-06-24",{"$f":"CONCATENATE(A14,'CDI Data and Charts'!B$1)","v":"201602Scotland"},{"$f":"VLOOKUP(CONCATENATE(D$5,$C14),'trend data'!$A$2:$O$11161,D$6,FALSE)","v":250},{"$f":"ROUND(VLOOKUP(CONCATENATE(E$5,$C14),'trend data'!$A$2:$O$11161,E$6,FALSE),3)","v":15.574999999999999},{"$f":"ROUND(VLOOKUP(CONCATENATE(F$5,$C14),'trend data'!$A$2:$O$11161,F$6,FALSE),3)","v":13.704000000000001},{"$f":"ROUND(VLOOKUP(CONCATENATE(G$5,$C14),'trend data'!$A$2:$O$11161,G$6,FALSE),3)","v":17.631},{"$f":"IFERROR(VLOOKUP(CONCATENATE(H$5,$C14),'trend data'!$A$2:$O$11161,H$6,FALSE),\"-\")","v":91},{"$f":"IFERROR(ROUND(VLOOKUP(CONCATENATE(I$5,$C14),'trend data'!$A$2:$O$11161,I$6,FALSE),3),\"-\")","v":6.8090000000000002},{"$f":"IFERROR(ROUND(VLOOKUP(CONCATENATE(J$5,$C14),'trend data'!$A$2:$O$11161,J$6,FALSE),3),\"-\")","v":5.4820000000000002},{"$f":"IFERROR(ROUND(VLOOKUP(CONCATENATE(K$5,$C14),'trend data'!$A$2:$O$11161,K$6,FALSE),3),\"-\")","v":8.3610000000000007},null,null,null,"202204",6,"2022-12-26",{"$f":"CONCATENATE(S$7,$O14,'CDI Data and Charts'!B$1)","v":"CDIHCAI202204Scotland"},{"$f":"ROUND(VLOOKUP($R14,'data for u-p-charts'!$A$2:$F$5000,S$5,FALSE),2)","v":13.51},{"$f":"ROUND(VLOOKUP($R14,'data for u-p-charts'!$A$2:$F$5000,T$5,FALSE),2)","v":14.13},{"$f":"ROUND(VLOOKUP($R14,'data for u-p-charts'!$A$2:$F$5000,U$5,FALSE),2)","v":16.03},{"$f":"ROUND(VLOOKUP($R14,'data for u-p-charts'!$A$2:$F$5000,V$5,FALSE),2)","v":16.98},{"$f":"CONCATENATE(X$7,$O14,'CDI Data and Charts'!B$1)","v":"CDICA202204Scotland"},{"$f":"ROUND(VLOOKUP($W14,'data for u-p-charts'!$A$2:$F$5000,X$5,FALSE),2)","v":3.2},{"$f":"ROUND(VLOOKUP($W14,'data for u-p-charts'!$A$2:$F$5000,Y$5,FALSE),2)","v":5.2},{"$f":"ROUND(VLOOKUP($W14,'data for u-p-charts'!$A$2:$F$5000,Z$5,FALSE),2)","v":6.43},{"$f":"ROUND(VLOOKUP($W14,'data for u-p-charts'!$A$2:$F$5000,AA$5,FALSE),2)","v":7.04}]
[201603,"2016-09-24",{"$f":"CONCATENATE(A15,'CDI Data and Charts'!B$1)","v":"201603Scotland"},{"$f":"VLOOKUP(CONCATENATE(D$5,$C15),'trend data'!$A$2:$O$11161,D$6,FALSE)","v":263},{"$f":"ROUND(VLOOKUP(CONCATENATE(E$5,$C15),'trend data'!$A$2:$O$11161,E$6,FALSE),3)","v":16.562999999999999},{"$f":"ROUND(VLOOKUP(CONCATENATE(F$5,$C15),'trend data'!$A$2:$O$11161,F$6,FALSE),3)","v":14.621},{"$f":"ROUND(VLOOKUP(CONCATENATE(G$5,$C15),'trend data'!$A$2:$O$11161,G$6,FALSE),3)","v":18.690000000000001},{"$f":"IFERROR(VLOOKUP(CONCATENATE(H$5,$C15),'trend data'!$A$2:$O$11161,H$6,FALSE),\"-\")","v":119},{"$f":"IFERROR(ROUND(VLOOKUP(CONCATENATE(I$5,$C15),'trend data'!$A$2:$O$11161,I$6,FALSE),3),\"-\")","v":8.8079999999999998},{"$f":"IFERROR(ROUND(VLOOKUP(CONCATENATE(J$5,$C15),'trend data'!$A$2:$O$11161,J$6,FALSE),3),\"-\")","v":7.2960000000000003},{"$f":"IFERROR(ROUND(VLOOKUP(CONCATENATE(K$5,$C15),'trend data'!$A$2:$O$11161,K$6,FALSE),3),\"-\")","v":10.54},null,null,null,"202301",7,"2023-03-28",{"$f":"CONCATENATE(S$7,$O15,'CDI Data and Charts'!B$1)","v":"CDIHCAI202301Scotland"},{"$f":"ROUND(VLOOKUP($R15,'data for u-p-charts'!$A$2:$F$5000,S$5,FALSE),2)","v":13.45},{"$f":"ROUND(VLOOKUP($R15,'data for u-p-charts'!$A$2:$F$5000,T$5,FALSE),2)","v":14.13},{"$f":"ROUND(VLOOKUP($R15,'data for u-p-charts'!$A$2:$F$5000,U$5,FALSE),2)","v":16.03},{"$f":"ROUND(VLOOKUP($R15,'data for u-p-charts'!$A$2:$F$5000,V$5,FALSE),2)","v":16.98},{"$f":"CONCATENATE(X$7,$O15,'CDI Data and Charts'!B$1)","v":"CDICA202301Scotland"},{"$f":"ROUND(VLOOKUP($W15,'data for u-p-charts'!$A$2:$F$5000,X$5,FALSE),2)","v":4.24},{"$f":"ROUND(VLOOKUP($W15,'data for u-p-charts'!$A$2:$F$5000,Y$5,FALSE),2)","v":5.2},{"$f":"ROUND(VLOOKUP($W15,'data for u-p-charts'!$A$2:$F$5000,Z$5,FALSE),2)","v":6.44},{"$f":"ROUND(VLOOKUP($W15,'data for u-p-charts'!$A$2:$F$5000,AA$5,FALSE),2)","v":7.06}]
[201604,"2016-12-24",{"$f":"CONCATENATE(A16,'CDI Data and Charts'!B$1)","v":"201604Scotland"},{"$f":"VLOOKUP(CONCATENATE(D$5,$C16),'trend data'!$A$2:$O$11161,D$6,FALSE)","v":233},{"$f":"ROUND(VLOOKUP(CONCATENATE(E$5,$C16),'trend data'!$A$2:$O$11161,E$6,FALSE),3)","v":14.638999999999999},{"$f":"ROUND(VLOOKUP(CONCATENATE(F$5,$C16),'trend data'!$A$2:$O$11161,F$6,FALSE),3)","v":12.819000000000001},{"$f":"ROUND(VLOOKUP(CONCATENATE(G$5,$C16),'trend data'!$A$2:$O$11161,G$6,FALSE),3)","v":16.643999999999998},{"$f":"IFERROR(VLOOKUP(CONCATENATE(H$5,$C16),'trend data'!$A$2:$O$11161,H$6,FALSE),\"-\")","v":94},{"$f":"IFERROR(ROUND(VLOOKUP(CONCATENATE(I$5,$C16),'trend data'!$A$2:$O$11161,I$6,FALSE),3),\"-\")","v":6.9569999999999999},{"$f":"IFERROR(ROUND(VLOOKUP(CONCATENATE(J$5,$C16),'trend data'!$A$2:$O$11161,J$6,FALSE),3),\"-\")","v":5.6219999999999999},{"$f":"IFERROR(ROUND(VLOOKUP(CONCATENATE(K$5,$C16),'trend data'!$A$2:$O$11161,K$6,FALSE),3),\"-\")","v":8.5139999999999993},null,null,null,"202302",8,"2023-06-28",{"$f":"CONCATENATE(S$7,$O16,'CDI Data and Charts'!B$1)","v":"CDIHCAI202302Scotland"},{"$f":"ROUND(VLOOKUP($R16,'data for u-p-charts'!$A$2:$F$5000,S$5,FALSE),2)","v":15.8},{"$f":"ROUND(VLOOKUP($R16,'data for u-p-charts'!$A$2:$F$5000,T$5,FALSE),2)","v":14.13},{"$f":"ROUND(VLOOKUP($R16,'data for u-p-charts'!$A$2:$F$5000,U$5,FALSE),2)","v":16.04},{"$f":"ROUND(VLOOKUP($R16,'data for u-p-charts'!$A$2:$F$5000,V$5,FALSE),2)","v":17},{"$f":"CONCATENATE(X$7,$O16,'CDI Data and Charts'!B$1)","v":"CDICA202302Scotland"},{"$f":"ROUND(VLOOKUP($W16,'data for u-p-charts'!$A$2:$F$5000,X$5,FALSE),2)","v":5.15},{"$f":"ROUND(VLOOKUP($W16,'data for u-p-charts'!$A$2:$F$5000,Y$5,FALSE),2)","v":5.2},{"$f":"ROUND(VLOOKUP($W16,'data for u-p-charts'!$A$2:$F$5000,Z$5,FALSE),2)","v":6.44},{"$f":"ROUND(VLOOKUP($W16,'data for u-p-charts'!$A$2:$F$5000,AA$5,FALSE),2)","v":7.05}]
[201701,"2017-03-01",{"$f":"CONCATENATE(A17,'CDI Data and Charts'!B$1)","v":"201701Scotland"},{"$f":"VLOOKUP(CONCATENATE(D$5,$C17),'trend data'!$A$2:$O$11161,D$6,FALSE)","v":257},{"$f":"ROUND(VLOOKUP(CONCATENATE(E$5,$C17),'trend data'!$A$2:$O$11161,E$6,FALSE),3)","v":16.251999999999999},{"$f":"ROUND(VLOOKUP(CONCATENATE(F$5,$C17),'trend data'!$A$2:$O$11161,F$6,FALSE),3)","v":14.326000000000001},{"$f":"ROUND(VLOOKUP(CONCATENATE(G$5,$C17),'trend data'!$A$2:$O$11161,G$6,FALSE),3)","v":18.364999999999998},{"$f":"IFERROR(VLOOKUP(CONCATENATE(H$5,$C17),'trend data'!$A$2:$O$11161,H$6,FALSE),\"-\")","v":74},{"$f":"IFERROR(ROUND(VLOOKUP(CONCATENATE(I$5,$C17),'trend data'!$A$2:$O$11161,I$6,FALSE),3),\"-\")","v":5.5679999999999996},{"$f":"IFERROR(ROUND(VLOOKUP(CONCATENATE(J$5,$C17),'trend data'!$A$2:$O$11161,J$6,FALSE),3),\"-\")","v":4.3719999999999999},{"$f":"IFERROR(ROUND(VLOOKUP(CONCATENATE(K$5,$C17),'trend data'!$A$2:$O$11161,K$6,FALSE),3),\"-\")","v":6.99},null,null,null,"202303",9,"2023-09-28",{"$f":"CONCATENATE(S$7,$O17,'CDI Data and Charts'!B$1)","v":"CDIHCAI202303Scotland"},{"$f":"ROUND(VLOOKUP($R17,'data for u-p-charts'!$A$2:$F$5000,S$5,FALSE),2)","v":15.54},{"$f":"ROUND(VLOOKUP($R17,'data for u-p-charts'!$A$2:$F$5000,T$5,FALSE),2)","v":14.13},{"$f":"ROUND(VLOOKUP($R17,'data for u-p-charts'!$A$2:$F$5000,U$5,FALSE),2)","v":16.05},{"$f":"ROUND(VLOOKUP($R17,'data for u-p-charts'!$A$2:$F$5000,V$5,FALSE),2)","v":17.010000000000002},{"$f":"CONCATENATE(X$7,$O17,'CDI Data and Charts'!B$1)","v":"CDICA202303Scotland"},{"$f":"ROUND(VLOOKUP($W17,'data for u-p-charts'!$A$2:$F$5000,X$5,FALSE),2)","v":6.26},{"$f":"ROUND(VLOOKUP($W17,'data for u-p-charts'!$A$2:$F$5000,Y$5,FALSE),2)","v":5.2},{"$f":"ROUND(VLOOKUP($W17,'data for u-p-charts'!$A$2:$F$5000,Z$5,FALSE),2)","v":6.43},{"$f":"ROUND(VLOOKUP($W17,'data for u-p-charts'!$A$2:$F$5000,AA$5,FALSE),2)","v":7.04}]
[201702,"2017-06-01",{"$f":"CONCATENATE(A18,'CDI Data and Charts'!B$1)","v":"201702Scotland"},{"$f":"VLOOKUP(CONCATENATE(D$5,$C18),'trend data'!$A$2:$O$11161,D$6,FALSE)","v":237},{"$f":"ROUND(VLOOKUP(CONCATENATE(E$5,$C18),'trend data'!$A$2:$O$11161,E$6,FALSE),3)","v":15.285},{"$f":"ROUND(VLOOKUP(CONCATENATE(F$5,$C18),'trend data'!$A$2:$O$11161,F$6,FALSE),3)","v":13.4},{"$f":"ROUND(VLOOKUP(CONCATENATE(G$5,$C18),'trend data'!$A$2:$O$11161,G$6,FALSE),3)","v":17.36},{"$f":"IFERROR(VLOOKUP(CONCATENATE(H$5,$C18),'trend data'!$A$2:$O$11161,H$6,FALSE),\"-\")","v":101},{"$f":"IFERROR(ROUND(VLOOKUP(CONCATENATE(I$5,$C18),'trend data'!$A$2:$O$11161,I$6,FALSE),3),\"-\")","v":7.516},{"$f":"IFERROR(ROUND(VLOOKUP(CONCATENATE(J$5,$C18),'trend data'!$A$2:$O$11161,J$6,FALSE),3),\"-\")","v":6.1219999999999999},{"$f":"IFERROR(ROUND(VLOOKUP(CONCATENATE(K$5,$C18),'trend data'!$A$2:$O$11161,K$6,FALSE),3),\"-\")","v":9.1329999999999991},null,null,null,"202304",10,"2023-12-29",{"$f":"CONCATENATE(S$7,$O18,'CDI Data and Charts'!B$1)","v":"CDIHCAI202304Scotland"},{"$f":"ROUND(VLOOKUP($R18,'data for u-p-charts'!$A$2:$F$5000,S$5,FALSE),2)","v":14.24},{"$f":"ROUND(VLOOKUP($R18,'data for u-p-charts'!$A$2:$F$5000,T$5,FALSE),2)","v":14.13},{"$f":"ROUND(VLOOKUP($R18,'data for u-p-charts'!$A$2:$F$5000,U$5,FALSE),2)","v":16.03},{"$f":"ROUND(VLOOKUP($R18,'data for u-p-charts'!$A$2:$F$5000,V$5,FALSE),2)","v":16.98},{"$f":"CONCATENATE(X$7,$O18,'CDI Data and Charts'!B$1)","v":"CDICA202304Scotland"},{"$f":"ROUND(VLOOKUP($W18,'data for u-p-charts'!$A$2:$F$5000,X$5,FALSE),2)","v":5.75},{"$f":"ROUND(VLOOKUP($W18,'data for u-p-charts'!$A$2:$F$5000,Y$5,FALSE),2)","v":5.2},{"$f":"ROUND(VLOOKUP($W18,'data for u-p-charts'!$A$2:$F$5000,Z$5,FALSE),2)","v":6.43},{"$f":"ROUND(VLOOKUP($W18,'data for u-p-charts'!$A$2:$F$5000,AA$5,FALSE),2)","v":7.04}]
[201703,"2017-09-01",{"$f":"CONCATENATE(A19,'CDI Data and Charts'!B$1)","v":"201703Scotland"},{"$f":"VLOOKUP(CONCATENATE(D$5,$C19),'trend data'!$A$2:$O$11161,D$6,FALSE)","v":284},{"$f":"ROUND(VLOOKUP(CONCATENATE(E$5,$C19),'trend data'!$A$2:$O$11161,E$6,FALSE),3)","v":18.456},{"$f":"ROUND(VLOOKUP(CONCATENATE(F$5,$C19),'trend data'!$A$2:$O$11161,F$6,FALSE),3)","v":16.370999999999999},{"$f":"ROUND(VLOOKUP(CONCATENATE(G$5,$C19),'trend data'!$A$2:$O$11161,G$6,FALSE),3)","v":20.731999999999999},{"$f":"IFERROR(VLOOKUP(CONCATENATE(H$5,$C19),'trend data'!$A$2:$O$11161,H$6,FALSE),\"-\")","v":107},{"$f":"IFERROR(ROUND(VLOOKUP(CONCATENATE(I$5,$C19),'trend data'!$A$2:$O$11161,I$6,FALSE),3),\"-\")","v":7.8760000000000003},{"$f":"IFERROR(ROUND(VLOOKUP(CONCATENATE(J$5,$C19),'trend data'!$A$2:$O$11161,J$6,FALSE),3),\"-\")","v":6.4539999999999997},{"$f":"IFERROR(ROUND(VLOOKUP(CONCATENATE(K$5,$C19),'trend data'!$A$2:$O$11161,K$6,FALSE),3),\"-\")","v":9.5180000000000007},null,null,null,"202401",11,{"$f":"Q20-92","v":"2024-03-30"},{"$f":"CONCATENATE(S$7,$O19,'CDI Data and Charts'!B$1)","v":"CDIHCAI202401Scotland"},{"$f":"ROUND(VLOOKUP($R19,'data for u-p-charts'!$A$2:$F$5000,S$5,FALSE),2)","v":12.64},{"$f":"ROUND(VLOOKUP($R19,'data for u-p-charts'!$A$2:$F$5000,T$5,FALSE),2)","v":14.13},{"$f":"ROUND(VLOOKUP($R19,'data for u-p-charts'!$A$2:$F$5000,U$5,FALSE),2)","v":16.02},{"$f":"ROUND(VLOOKUP($R19,'data for u-p-charts'!$A$2:$F$5000,V$5,FALSE),2)","v":16.96},{"$f":"CONCATENATE(X$7,$O19,'CDI Data and Charts'!B$1)","v":"CDICA202401Scotland"},{"$f":"ROUND(VLOOKUP($W19,'data for u-p-charts'!$A$2:$F$5000,X$5,FALSE),2)","v":6.94},{"$f":"ROUND(VLOOKUP($W19,'data for u-p-charts'!$A$2:$F$5000,Y$5,FALSE),2)","v":5.2},{"$f":"ROUND(VLOOKUP($W19,'data for u-p-charts'!$A$2:$F$5000,Z$5,FALSE),2)","v":6.44},{"$f":"ROUND(VLOOKUP($W19,'data for u-p-charts'!$A$2:$F$5000,AA$5,FALSE),2)","v":7.06}]
[201704,"2017-12-01",{"$f":"CONCATENATE(A20,'CDI Data and Charts'!B$1)","v":"201704Scotland"},{"$f":"VLOOKUP(CONCATENATE(D$5,$C20),'trend data'!$A$2:$O$11161,D$6,FALSE)","v":234},{"$f":"ROUND(VLOOKUP(CONCATENATE(E$5,$C20),'trend data'!$A$2:$O$11161,E$6,FALSE),3)","v":14.856999999999999},{"$f":"ROUND(VLOOKUP(CONCATENATE(F$5,$C20),'trend data'!$A$2:$O$11161,F$6,FALSE),3)","v":13.015000000000001},{"$f":"ROUND(VLOOKUP(CONCATENATE(G$5,$C20),'trend data'!$A$2:$O$11161,G$6,FALSE),3)","v":16.888000000000002},{"$f":"IFERROR(VLOOKUP(CONCATENATE(H$5,$C20),'trend data'!$A$2:$O$11161,H$6,FALSE),\"-\")","v":75},{"$f":"IFERROR(ROUND(VLOOKUP(CONCATENATE(I$5,$C20),'trend data'!$A$2:$O$11161,I$6,FALSE),3),\"-\")","v":5.5209999999999999},{"$f":"IFERROR(ROUND(VLOOKUP(CONCATENATE(J$5,$C20),'trend data'!$A$2:$O$11161,J$6,FALSE),3),\"-\")","v":4.3419999999999996},{"$f":"IFERROR(ROUND(VLOOKUP(CONCATENATE(K$5,$C20),'trend data'!$A$2:$O$11161,K$6,FALSE),3),\"-\")","v":6.92},null,null,null,"202402",12,{"$f":"Q5","v":"2024-06-30"},{"$f":"CONCATENATE(S$7,$O20,'CDI Data and Charts'!B$1)","v":"CDIHCAI202402Scotland"},{"$f":"ROUND(VLOOKUP($R20,'data for u-p-charts'!$A$2:$F$5000,S$5,FALSE),2)","v":16.95},{"$f":"ROUND(VLOOKUP($R20,'data for u-p-charts'!$A$2:$F$5000,T$5,FALSE),2)","v":14.13},{"$f":"ROUND(VLOOKUP($R20,'data for u-p-charts'!$A$2:$F$5000,U$5,FALSE),2)","v":16.04},{"$f":"ROUND(VLOOKUP($R20,'data for u-p-charts'!$A$2:$F$5000,V$5,FALSE),2)","v":16.989999999999998},{"$f":"CONCATENATE(X$7,$O20,'CDI Data and Charts'!B$1)","v":"CDICA202402Scotland"},{"$f":"ROUND(VLOOKUP($W20,'data for u-p-charts'!$A$2:$F$5000,X$5,FALSE),2)","v":7.09},{"$f":"ROUND(VLOOKUP($W20,'data for u-p-charts'!$A$2:$F$5000,Y$5,FALSE),2)","v":5.2},{"$f":"ROUND(VLOOKUP($W20,'data for u-p-charts'!$A$2:$F$5000,Z$5,FALSE),2)","v":6.44},{"$f":"ROUND(VLOOKUP($W20,'data for u-p-charts'!$A$2:$F$5000,AA$5,FALSE),2)","v":7.06}]
[201801,"2018-03-01",{"$f":"CONCATENATE(A21,'CDI Data and Charts'!B$1)","v":"201801Scotland"},{"$f":"IFERROR(VLOOKUP(CONCATENATE(D$5,$C21),'trend data'!$A$2:$O$11161,D$6,FALSE),\"-\")","v":228},{"$f":"ROUND(VLOOKUP(CONCATENATE(E$5,$C21),'trend data'!$A$2:$O$11161,E$6,FALSE),3)","v":14.382999999999999},{"$f":"ROUND(VLOOKUP(CONCATENATE(F$5,$C21),'trend data'!$A$2:$O$11161,F$6,FALSE),3)","v":12.576000000000001},{"$f":"ROUND(VLOOKUP(CONCATENATE(G$5,$C21),'trend data'!$A$2:$O$11161,G$6,FALSE),3)","v":16.376000000000001},{"$f":"IFERROR(VLOOKUP(CONCATENATE(H$5,$C21),'trend data'!$A$2:$O$11161,H$6,FALSE),\"-\")","v":86},{"$f":"IFERROR(ROUND(VLOOKUP(CONCATENATE(I$5,$C21),'trend data'!$A$2:$O$11161,I$6,FALSE),3),\"-\")","v":6.4660000000000002},{"$f":"IFERROR(ROUND(VLOOKUP(CONCATENATE(J$5,$C21),'trend data'!$A$2:$O$11161,J$6,FALSE),3),\"-\")","v":5.1719999999999997},{"$f":"IFERROR(ROUND(VLOOKUP(CONCATENATE(K$5,$C21),'trend data'!$A$2:$O$11161,K$6,FALSE),3),\"-\")","v":7.9850000000000003}]
[201802,"2018-06-01",{"$f":"CONCATENATE(A22,'CDI Data and Charts'!B$1)","v":"201802Scotland"},{"$f":"IFERROR(VLOOKUP(CONCATENATE(D$5,$C22),'trend data'!$A$2:$O$11161,D$6,FALSE),\"-\")","v":244},{"$f":"ROUND(VLOOKUP(CONCATENATE(E$5,$C22),'trend data'!$A$2:$O$11161,E$6,FALSE),3)","v":15.996},{"$f":"ROUND(VLOOKUP(CONCATENATE(F$5,$C22),'trend data'!$A$2:$O$11161,F$6,FALSE),3)","v":14.052},{"$f":"ROUND(VLOOKUP(CONCATENATE(G$5,$C22),'trend data'!$A$2:$O$11161,G$6,FALSE),3)","v":18.135000000000002},{"$f":"IFERROR(VLOOKUP(CONCATENATE(H$5,$C22),'trend data'!$A$2:$O$11161,H$6,FALSE),\"-\")","v":102},{"$f":"IFERROR(ROUND(VLOOKUP(CONCATENATE(I$5,$C22),'trend data'!$A$2:$O$11161,I$6,FALSE),3),\"-\")","v":7.5839999999999996},{"$f":"IFERROR(ROUND(VLOOKUP(CONCATENATE(J$5,$C22),'trend data'!$A$2:$O$11161,J$6,FALSE),3),\"-\")","v":6.1840000000000002},{"$f":"IFERROR(ROUND(VLOOKUP(CONCATENATE(K$5,$C22),'trend data'!$A$2:$O$11161,K$6,FALSE),3),\"-\")","v":9.2070000000000007}]
[201803,"2018-09-01",{"$f":"CONCATENATE(A23,'CDI Data and Charts'!B$1)","v":"201803Scotland"},{"$f":"IFERROR(VLOOKUP(CONCATENATE(D$5,$C23),'trend data'!$A$2:$O$11161,D$6,FALSE),\"-\")","v":255},{"$f":"ROUND(VLOOKUP(CONCATENATE(E$5,$C23),'trend data'!$A$2:$O$11161,E$6,FALSE),3)","v":16.869},{"$f":"ROUND(VLOOKUP(CONCATENATE(F$5,$C23),'trend data'!$A$2:$O$11161,F$6,FALSE),3)","v":14.862},{"$f":"ROUND(VLOOKUP(CONCATENATE(G$5,$C23),'trend data'!$A$2:$O$11161,G$6,FALSE),3)","v":19.071999999999999},{"$f":"IFERROR(VLOOKUP(CONCATENATE(H$5,$C23),'trend data'!$A$2:$O$11161,H$6,FALSE),\"-\")","v":92},{"$f":"IFERROR(ROUND(VLOOKUP(CONCATENATE(I$5,$C23),'trend data'!$A$2:$O$11161,I$6,FALSE),3),\"-\")","v":6.766},{"$f":"IFERROR(ROUND(VLOOKUP(CONCATENATE(J$5,$C23),'trend data'!$A$2:$O$11161,J$6,FALSE),3),\"-\")","v":5.4550000000000001},{"$f":"IFERROR(ROUND(VLOOKUP(CONCATENATE(K$5,$C23),'trend data'!$A$2:$O$11161,K$6,FALSE),3),\"-\")","v":8.2989999999999995}]
[201804,"2018-12-01",{"$f":"CONCATENATE(A24,'CDI Data and Charts'!B$1)","v":"201804Scotland"},{"$f":"IFERROR(VLOOKUP(CONCATENATE(D$5,$C24),'trend data'!$A$2:$O$11161,D$6,FALSE),\"-\")","v":220},{"$f":"ROUND(VLOOKUP(CONCATENATE(E$5,$C24),'trend data'!$A$2:$O$11161,E$6,FALSE),3)","v":14.452999999999999},{"$f":"ROUND(VLOOKUP(CONCATENATE(F$5,$C24),'trend data'!$A$2:$O$11161,F$6,FALSE),3)","v":12.606},{"$f":"ROUND(VLOOKUP(CONCATENATE(G$5,$C24),'trend data'!$A$2:$O$11161,G$6,FALSE),3)","v":16.494},{"$f":"IFERROR(VLOOKUP(CONCATENATE(H$5,$C24),'trend data'!$A$2:$O$11161,H$6,FALSE),\"-\")","v":86},{"$f":"IFERROR(ROUND(VLOOKUP(CONCATENATE(I$5,$C24),'trend data'!$A$2:$O$11161,I$6,FALSE),3),\"-\")","v":6.3250000000000002},{"$f":"IFERROR(ROUND(VLOOKUP(CONCATENATE(J$5,$C24),'trend data'!$A$2:$O$11161,J$6,FALSE),3),\"-\")","v":5.0590000000000002},{"$f":"IFERROR(ROUND(VLOOKUP(CONCATENATE(K$5,$C24),'trend data'!$A$2:$O$11161,K$6,FALSE),3),\"-\")","v":7.8120000000000003}]
[201901,"2019-03-01",{"$f":"CONCATENATE(A25,'CDI Data and Charts'!B$1)","v":"201901Scotland"},{"$f":"IFERROR(VLOOKUP(CONCATENATE(D$5,$C25),'trend data'!$A$2:$O$11161,D$6,FALSE),\"-\")","v":186},{"$f":"ROUND(VLOOKUP(CONCATENATE(E$5,$C25),'trend data'!$A$2:$O$11161,E$6,FALSE),3)","v":12.09},{"$f":"ROUND(VLOOKUP(CONCATENATE(F$5,$C25),'trend data'!$A$2:$O$11161,F$6,FALSE),3)","v":10.414},{"$f":"ROUND(VLOOKUP(CONCATENATE(G$5,$C25),'trend data'!$A$2:$O$11161,G$6,FALSE),3)","v":13.958},{"$f":"IFERROR(VLOOKUP(CONCATENATE(H$5,$C25),'trend data'!$A$2:$O$11161,H$6,FALSE),\"-\")","v":50},{"$f":"IFERROR(ROUND(VLOOKUP(CONCATENATE(I$5,$C25),'trend data'!$A$2:$O$11161,I$6,FALSE),3),\"-\")","v":3.7450000000000001},{"$f":"IFERROR(ROUND(VLOOKUP(CONCATENATE(J$5,$C25),'trend data'!$A$2:$O$11161,J$6,FALSE),3),\"-\")","v":2.7789999999999999},{"$f":"IFERROR(ROUND(VLOOKUP(CONCATENATE(K$5,$C25),'trend data'!$A$2:$O$11161,K$6,FALSE),3),\"-\")","v":4.9379999999999997}]
[201902,"2019-06-01",{"$f":"CONCATENATE(A26,'CDI Data and Charts'!B$1)","v":"201902Scotland"},{"$f":"IFERROR(VLOOKUP(CONCATENATE(D$5,$C26),'trend data'!$A$2:$O$11161,D$6,FALSE),\"-\")","v":184},{"$f":"ROUND(VLOOKUP(CONCATENATE(E$5,$C26),'trend data'!$A$2:$O$11161,E$6,FALSE),3)","v":12.215},{"$f":"ROUND(VLOOKUP(CONCATENATE(F$5,$C26),'trend data'!$A$2:$O$11161,F$6,FALSE),3)","v":10.513999999999999},{"$f":"ROUND(VLOOKUP(CONCATENATE(G$5,$C26),'trend data'!$A$2:$O$11161,G$6,FALSE),3)","v":14.114000000000001},{"$f":"IFERROR(VLOOKUP(CONCATENATE(H$5,$C26),'trend data'!$A$2:$O$11161,H$6,FALSE),\"-\")","v":66},{"$f":"IFERROR(ROUND(VLOOKUP(CONCATENATE(I$5,$C26),'trend data'!$A$2:$O$11161,I$6,FALSE),3),\"-\")","v":4.8890000000000002},{"$f":"IFERROR(ROUND(VLOOKUP(CONCATENATE(J$5,$C26),'trend data'!$A$2:$O$11161,J$6,FALSE),3),\"-\")","v":3.7810000000000001},{"$f":"IFERROR(ROUND(VLOOKUP(CONCATENATE(K$5,$C26),'trend data'!$A$2:$O$11161,K$6,FALSE),3),\"-\")","v":6.22}]
[201903,"2019-09-01",{"$f":"CONCATENATE(A27,'CDI Data and Charts'!B$1)","v":"201903Scotland"},{"$f":"IFERROR(VLOOKUP(CONCATENATE(D$5,$C27),'trend data'!$A$2:$O$11161,D$6,FALSE),\"-\")","v":207},{"$f":"ROUND(VLOOKUP(CONCATENATE(E$5,$C27),'trend data'!$A$2:$O$11161,E$6,FALSE),3)","v":13.736000000000001},{"$f":"ROUND(VLOOKUP(CONCATENATE(F$5,$C27),'trend data'!$A$2:$O$11161,F$6,FALSE),3)","v":11.928000000000001},{"$f":"ROUND(VLOOKUP(CONCATENATE(G$5,$C27),'trend data'!$A$2:$O$11161,G$6,FALSE),3)","v":15.74},{"$f":"IFERROR(VLOOKUP(CONCATENATE(H$5,$C27),'trend data'!$A$2:$O$11161,H$6,FALSE),\"-\")","v":72},{"$f":"IFERROR(ROUND(VLOOKUP(CONCATENATE(I$5,$C27),'trend data'!$A$2:$O$11161,I$6,FALSE),3),\"-\")","v":5.2759999999999998},{"$f":"IFERROR(ROUND(VLOOKUP(CONCATENATE(J$5,$C27),'trend data'!$A$2:$O$11161,J$6,FALSE),3),\"-\")","v":4.1280000000000001},{"$f":"IFERROR(ROUND(VLOOKUP(CONCATENATE(K$5,$C27),'trend data'!$A$2:$O$11161,K$6,FALSE),3),\"-\")","v":6.6440000000000001}]
[201904,"2019-12-01",{"$f":"CONCATENATE(A28,'CDI Data and Charts'!B$1)","v":"201904Scotland"},{"$f":"IFERROR(VLOOKUP(CONCATENATE(D$5,$C28),'trend data'!$A$2:$O$11161,D$6,FALSE),\"-\")","v":231},{"$f":"ROUND(VLOOKUP(CONCATENATE(E$5,$C28),'trend data'!$A$2:$O$11161,E$6,FALSE),3)","v":15.084},{"$f":"ROUND(VLOOKUP(CONCATENATE(F$5,$C28),'trend data'!$A$2:$O$11161,F$6,FALSE),3)","v":13.201000000000001},{"$f":"ROUND(VLOOKUP(CONCATENATE(G$5,$C28),'trend data'!$A$2:$O$11161,G$6,FALSE),3)","v":17.158999999999999},{"$f":"IFERROR(VLOOKUP(CONCATENATE(H$5,$C28),'trend data'!$A$2:$O$11161,H$6,FALSE),\"-\")","v":63},{"$f":"IFERROR(ROUND(VLOOKUP(CONCATENATE(I$5,$C28),'trend data'!$A$2:$O$11161,I$6,FALSE),3),\"-\")","v":4.6159999999999997},{"$f":"IFERROR(ROUND(VLOOKUP(CONCATENATE(J$5,$C28),'trend data'!$A$2:$O$11161,J$6,FALSE),3),\"-\")","v":3.5470000000000002},{"$f":"IFERROR(ROUND(VLOOKUP(CONCATENATE(K$5,$C28),'trend data'!$A$2:$O$11161,K$6,FALSE),3),\"-\")","v":5.9059999999999997}]
[202001,"2020-03-01",{"$f":"CONCATENATE(A29,'CDI Data and Charts'!B$1)","v":"202001Scotland"},{"$f":"IFERROR(VLOOKUP(CONCATENATE(D$5,$C29),'trend data'!$A$2:$O$11161,D$6,FALSE),\"-\")","v":201},{"$f":"ROUND(VLOOKUP(CONCATENATE(E$5,$C29),'trend data'!$A$2:$O$11161,E$6,FALSE),3)","v":13.618},{"$f":"ROUND(VLOOKUP(CONCATENATE(F$5,$C29),'trend data'!$A$2:$O$11161,F$6,FALSE),3)","v":11.801},{"$f":"ROUND(VLOOKUP(CONCATENATE(G$5,$C29),'trend data'!$A$2:$O$11161,G$6,FALSE),3)","v":15.637},{"$f":"IFERROR(VLOOKUP(CONCATENATE(H$5,$C29),'trend data'!$A$2:$O$11161,H$6,FALSE),\"-\")","v":46},{"$f":"IFERROR(ROUND(VLOOKUP(CONCATENATE(I$5,$C29),'trend data'!$A$2:$O$11161,I$6,FALSE),3),\"-\")","v":3.4180000000000001},{"$f":"IFERROR(ROUND(VLOOKUP(CONCATENATE(J$5,$C29),'trend data'!$A$2:$O$11161,J$6,FALSE),3),\"-\")","v":2.5019999999999998},{"$f":"IFERROR(ROUND(VLOOKUP(CONCATENATE(K$5,$C29),'trend data'!$A$2:$O$11161,K$6,FALSE),3),\"-\")","v":4.5590000000000002}]
[202002,"2020-06-01",{"$f":"CONCATENATE(A30,'CDI Data and Charts'!B$1)","v":"202002Scotland"},{"$f":"IFERROR(VLOOKUP(CONCATENATE(D$5,$C30),'trend data'!$A$2:$O$11161,D$6,FALSE),\"-\")","v":166},{"$f":"ROUND(VLOOKUP(CONCATENATE(E$5,$C30),'trend data'!$A$2:$O$11161,E$6,FALSE),3)","v":15.356999999999999},{"$f":"ROUND(VLOOKUP(CONCATENATE(F$5,$C30),'trend data'!$A$2:$O$11161,F$6,FALSE),3)","v":13.109},{"$f":"ROUND(VLOOKUP(CONCATENATE(G$5,$C30),'trend data'!$A$2:$O$11161,G$6,FALSE),3)","v":17.879000000000001},{"$f":"IFERROR(VLOOKUP(CONCATENATE(H$5,$C30),'trend data'!$A$2:$O$11161,H$6,FALSE),\"-\")","v":80},{"$f":"IFERROR(ROUND(VLOOKUP(CONCATENATE(I$5,$C30),'trend data'!$A$2:$O$11161,I$6,FALSE),3),\"-\")","v":5.944},{"$f":"IFERROR(ROUND(VLOOKUP(CONCATENATE(J$5,$C30),'trend data'!$A$2:$O$11161,J$6,FALSE),3),\"-\")","v":4.7130000000000001},{"$f":"IFERROR(ROUND(VLOOKUP(CONCATENATE(K$5,$C30),'trend data'!$A$2:$O$11161,K$6,FALSE),3),\"-\")","v":7.3979999999999997}]
[202003,"2020-09-01",{"$f":"CONCATENATE(A31,'CDI Data and Charts'!B$1)","v":"202003Scotland"},{"$f":"IFERROR(VLOOKUP(CONCATENATE(D$5,$C31),'trend data'!$A$2:$O$11161,D$6,FALSE),\"-\")","v":227},{"$f":"ROUND(VLOOKUP(CONCATENATE(E$5,$C31),'trend data'!$A$2:$O$11161,E$6,FALSE),4)","v":17.408200000000001},{"$f":"ROUND(VLOOKUP(CONCATENATE(F$5,$C31),'trend data'!$A$2:$O$11161,F$6,FALSE),4)","v":15.217000000000001},{"$f":"ROUND(VLOOKUP(CONCATENATE(G$5,$C31),'trend data'!$A$2:$O$11161,G$6,FALSE),4)","v":19.8263},{"$f":"IFERROR(VLOOKUP(CONCATENATE(H$5,$C31),'trend data'!$A$2:$O$11161,H$6,FALSE),\"-\")","v":90},{"$f":"IFERROR(ROUND(VLOOKUP(CONCATENATE(I$5,$C31),'trend data'!$A$2:$O$11161,I$6,FALSE),4),\"-\")","v":6.6143999999999998},{"$f":"IFERROR(ROUND(VLOOKUP(CONCATENATE(J$5,$C31),'trend data'!$A$2:$O$11161,J$6,FALSE),4),\"-\")","v":5.3186},{"$f":"IFERROR(ROUND(VLOOKUP(CONCATENATE(K$5,$C31),'trend data'!$A$2:$O$11161,K$6,FALSE),4),\"-\")","v":8.1303000000000001}]
[202004,"2020-12-31",{"$f":"CONCATENATE(A32,'CDI Data and Charts'!B$1)","v":"202004Scotland"},{"$f":"IFERROR(VLOOKUP(CONCATENATE(D$5,$C32),'trend data'!$A$2:$O$11161,D$6,FALSE),\"-\")","v":222},{"$f":"ROUND(VLOOKUP(CONCATENATE(E$5,$C32),'trend data'!$A$2:$O$11161,E$6,FALSE),4)","v":16.350100000000001},{"$f":"ROUND(VLOOKUP(CONCATENATE(F$5,$C32),'trend data'!$A$2:$O$11161,F$6,FALSE),4)","v":14.2698},{"$f":"ROUND(VLOOKUP(CONCATENATE(G$5,$C32),'trend data'!$A$2:$O$11161,G$6,FALSE),4)","v":18.648299999999999},{"$f":"IFERROR(VLOOKUP(CONCATENATE(H$5,$C32),'trend data'!$A$2:$O$11161,H$6,FALSE),\"-\")","v":56},{"$f":"IFERROR(ROUND(VLOOKUP(CONCATENATE(I$5,$C32),'trend data'!$A$2:$O$11161,I$6,FALSE),4),\"-\")","v":4.1155999999999997},{"$f":"IFERROR(ROUND(VLOOKUP(CONCATENATE(J$5,$C32),'trend data'!$A$2:$O$11161,J$6,FALSE),4),\"-\")","v":3.1086999999999998},{"$f":"IFERROR(ROUND(VLOOKUP(CONCATENATE(K$5,$C32),'trend data'!$A$2:$O$11161,K$6,FALSE),4),\"-\")","v":5.3445999999999998}]
[202101,"2021-03-31",{"$f":"CONCATENATE(A33,'CDI Data and Charts'!B$1)","v":"202101Scotland"},{"$f":"IFERROR(VLOOKUP(CONCATENATE(D$5,$C33),'trend data'!$A$2:$O$11161,D$6,FALSE),\"-\")","v":213},{"$f":"ROUND(VLOOKUP(CONCATENATE(E$5,$C33),'trend data'!$A$2:$O$11161,E$6,FALSE),4)","v":15.7562},{"$f":"ROUND(VLOOKUP(CONCATENATE(F$5,$C33),'trend data'!$A$2:$O$11161,F$6,FALSE),4)","v":13.711},{"$f":"ROUND(VLOOKUP(CONCATENATE(G$5,$C33),'trend data'!$A$2:$O$11161,G$6,FALSE),4)","v":18.020399999999999},{"$f":"IFERROR(VLOOKUP(CONCATENATE(H$5,$C33),'trend data'!$A$2:$O$11161,H$6,FALSE),\"-\")","v":49},{"$f":"IFERROR(ROUND(VLOOKUP(CONCATENATE(I$5,$C33),'trend data'!$A$2:$O$11161,I$6,FALSE),4),\"-\")","v":3.6675},{"$f":"IFERROR(ROUND(VLOOKUP(CONCATENATE(J$5,$C33),'trend data'!$A$2:$O$11161,J$6,FALSE),4),\"-\")","v":2.7130000000000001},{"$f":"IFERROR(ROUND(VLOOKUP(CONCATENATE(K$5,$C33),'trend data'!$A$2:$O$11161,K$6,FALSE),4),\"-\")","v":4.8487999999999998}]
[202102,"2021-06-30",{"$f":"CONCATENATE(A34,'CDI Data and Charts'!B$1)","v":"202102Scotland"},{"$f":"IFERROR(VLOOKUP(CONCATENATE(D$5,$C34),'trend data'!$A$2:$O$11161,D$6,FALSE),\"-\")","v":203},{"$f":"ROUND(VLOOKUP(CONCATENATE(E$5,$C34),'trend data'!$A$2:$O$11161,E$6,FALSE),4)","v":14.560700000000001},{"$f":"ROUND(VLOOKUP(CONCATENATE(F$5,$C34),'trend data'!$A$2:$O$11161,F$6,FALSE),4)","v":12.626300000000001},{"$f":"ROUND(VLOOKUP(CONCATENATE(G$5,$C34),'trend data'!$A$2:$O$11161,G$6,FALSE),4)","v":16.7075},{"$f":"IFERROR(VLOOKUP(CONCATENATE(H$5,$C34),'trend data'!$A$2:$O$11161,H$6,FALSE),\"-\")","v":74},{"$f":"IFERROR(ROUND(VLOOKUP(CONCATENATE(I$5,$C34),'trend data'!$A$2:$O$11161,I$6,FALSE),4),\"-\")","v":5.4779},{"$f":"IFERROR(ROUND(VLOOKUP(CONCATENATE(J$5,$C34),'trend data'!$A$2:$O$11161,J$6,FALSE),4),\"-\")","v":4.3010999999999999},{"$f":"IFERROR(ROUND(VLOOKUP(CONCATENATE(K$5,$C34),'trend data'!$A$2:$O$11161,K$6,FALSE),4),\"-\")","v":6.8771000000000004}]
[202103,"2021-09-01",{"$f":"CONCATENATE(A35,'CDI Data and Charts'!B$1)","v":"202103Scotland"},{"$f":"IFERROR(VLOOKUP(CONCATENATE(D$5,$C35),'trend data'!$A$2:$O$11161,D$6,FALSE),\"-\")","v":245},{"$f":"ROUND(VLOOKUP(CONCATENATE(E$5,$C35),'trend data'!$A$2:$O$11161,E$6,FALSE),4)","v":16.823},{"$f":"ROUND(VLOOKUP(CONCATENATE(F$5,$C35),'trend data'!$A$2:$O$11161,F$6,FALSE),4)","v":14.7821},{"$f":"ROUND(VLOOKUP(CONCATENATE(G$5,$C35),'trend data'!$A$2:$O$11161,G$6,FALSE),4)","v":19.0669},{"$f":"IFERROR(VLOOKUP(CONCATENATE(H$5,$C35),'trend data'!$A$2:$O$11161,H$6,FALSE),\"-\")","v":87},{"$f":"IFERROR(ROUND(VLOOKUP(CONCATENATE(I$5,$C35),'trend data'!$A$2:$O$11161,I$6,FALSE),4),\"-\")","v":6.3701999999999996},{"$f":"IFERROR(ROUND(VLOOKUP(CONCATENATE(J$5,$C35),'trend data'!$A$2:$O$11161,J$6,FALSE),4),\"-\")","v":5.1021000000000001},{"$f":"IFERROR(ROUND(VLOOKUP(CONCATENATE(K$5,$C35),'trend data'!$A$2:$O$11161,K$6,FALSE),4),\"-\")","v":7.8577000000000004}]
[202104,"2021-12-31",{"$f":"CONCATENATE(A36,'CDI Data and Charts'!B$1)","v":"202104Scotland"},{"$f":"IFERROR(VLOOKUP(CONCATENATE(D$5,$C36),'trend data'!$A$2:$O$11161,D$6,FALSE),\"-\")","v":197},{"$f":"ROUND(VLOOKUP(CONCATENATE(E$5,$C36),'trend data'!$A$2:$O$11161,E$6,FALSE),4)","v":13.187799999999999},{"$f":"ROUND(VLOOKUP(CONCATENATE(F$5,$C36),'trend data'!$A$2:$O$11161,F$6,FALSE),4)","v":11.410299999999999},{"$f":"ROUND(VLOOKUP(CONCATENATE(G$5,$C36),'trend data'!$A$2:$O$11161,G$6,FALSE),4)","v":15.163600000000001},{"$f":"IFERROR(VLOOKUP(CONCATENATE(H$5,$C36),'trend data'!$A$2:$O$11161,H$6,FALSE),\"-\")","v":67},{"$f":"IFERROR(ROUND(VLOOKUP(CONCATENATE(I$5,$C36),'trend data'!$A$2:$O$11161,I$6,FALSE),4),\"-\")","v":4.9058000000000002},{"$f":"IFERROR(ROUND(VLOOKUP(CONCATENATE(J$5,$C36),'trend data'!$A$2:$O$11161,J$6,FALSE),4),\"-\")","v":3.8016999999999999},{"$f":"IFERROR(ROUND(VLOOKUP(CONCATENATE(K$5,$C36),'trend data'!$A$2:$O$11161,K$6,FALSE),4),\"-\")","v":6.2302999999999997}]
[202201,"2022-03-31",{"$f":"CONCATENATE(A37,'CDI Data and Charts'!B$1)","v":"202201Scotland"},{"$f":"IFERROR(VLOOKUP(CONCATENATE(D$5,$C37),'trend data'!$A$2:$O$11161,D$6,FALSE),\"-\")","v":187},{"$f":"ROUND(VLOOKUP(CONCATENATE(E$5,$C37),'trend data'!$A$2:$O$11161,E$6,FALSE),4)","v":12.626099999999999},{"$f":"ROUND(VLOOKUP(CONCATENATE(F$5,$C37),'trend data'!$A$2:$O$11161,F$6,FALSE),4)","v":10.8811},{"$f":"ROUND(VLOOKUP(CONCATENATE(G$5,$C37),'trend data'!$A$2:$O$11161,G$6,FALSE),4)","v":14.571300000000001},{"$f":"IFERROR(VLOOKUP(CONCATENATE(H$5,$C37),'trend data'!$A$2:$O$11161,H$6,FALSE),\"-\")","v":43},{"$f":"IFERROR(ROUND(VLOOKUP(CONCATENATE(I$5,$C37),'trend data'!$A$2:$O$11161,I$6,FALSE),4),\"-\")","v":3.2010999999999998},{"$f":"IFERROR(ROUND(VLOOKUP(CONCATENATE(J$5,$C37),'trend data'!$A$2:$O$11161,J$6,FALSE),4),\"-\")","v":2.3163999999999998},{"$f":"IFERROR(ROUND(VLOOKUP(CONCATENATE(K$5,$C37),'trend data'!$A$2:$O$11161,K$6,FALSE),4),\"-\")","v":4.3121}]
[202202,"2022-06-30",{"$f":"CONCATENATE(A38,'CDI Data and Charts'!B$1)","v":"202202Scotland"},{"$f":"IFERROR(VLOOKUP(CONCATENATE(D$5,$C38),'trend data'!$A$2:$O$11161,D$6,FALSE),\"-\")","v":217},{"$f":"ROUND(VLOOKUP(CONCATENATE(E$5,$C38),'trend data'!$A$2:$O$11161,E$6,FALSE),4)","v":14.3109},{"$f":"ROUND(VLOOKUP(CONCATENATE(F$5,$C38),'trend data'!$A$2:$O$11161,F$6,FALSE),4)","v":12.469900000000001},{"$f":"ROUND(VLOOKUP(CONCATENATE(G$5,$C38),'trend data'!$A$2:$O$11161,G$6,FALSE),4)","v":16.347000000000001},{"$f":"IFERROR(VLOOKUP(CONCATENATE(H$5,$C38),'trend data'!$A$2:$O$11161,H$6,FALSE),\"-\")","v":66},{"$f":"IFERROR(ROUND(VLOOKUP(CONCATENATE(I$5,$C38),'trend data'!$A$2:$O$11161,I$6,FALSE),4),\"-\")","v":4.8593999999999999},{"$f":"IFERROR(ROUND(VLOOKUP(CONCATENATE(J$5,$C38),'trend data'!$A$2:$O$11161,J$6,FALSE),4),\"-\")","v":3.7581000000000002},{"$f":"IFERROR(ROUND(VLOOKUP(CONCATENATE(K$5,$C38),'trend data'!$A$2:$O$11161,K$6,FALSE),4),\"-\")","v":6.1825000000000001}]
[202203,"2022-09-30",{"$f":"CONCATENATE(A39,'CDI Data and Charts'!B$1)","v":"202203Scotland"},{"$f":"IFERROR(VLOOKUP(CONCATENATE(D$5,$C39),'trend data'!$A$2:$O$11161,D$6,FALSE),\"-\")","v":202},{"$f":"ROUND(VLOOKUP(CONCATENATE(E$5,$C39),'trend data'!$A$2:$O$11161,E$6,FALSE),4)","v":13.068199999999999},{"$f":"ROUND(VLOOKUP(CONCATENATE(F$5,$C39),'trend data'!$A$2:$O$11161,F$6,FALSE),4)","v":11.327999999999999},{"$f":"ROUND(VLOOKUP(CONCATENATE(G$5,$C39),'trend data'!$A$2:$O$11161,G$6,FALSE),4)","v":15.0001},{"$f":"IFERROR(VLOOKUP(CONCATENATE(H$5,$C39),'trend data'!$A$2:$O$11161,H$6,FALSE),\"-\")","v":82},{"$f":"IFERROR(ROUND(VLOOKUP(CONCATENATE(I$5,$C39),'trend data'!$A$2:$O$11161,I$6,FALSE),4),\"-\")","v":5.9718},{"$f":"IFERROR(ROUND(VLOOKUP(CONCATENATE(J$5,$C39),'trend data'!$A$2:$O$11161,J$6,FALSE),4),\"-\")","v":4.7493999999999996},{"$f":"IFERROR(ROUND(VLOOKUP(CONCATENATE(K$5,$C39),'trend data'!$A$2:$O$11161,K$6,FALSE),4),\"-\")","v":7.4127000000000001}]
[202204,"2022-12-31",{"$f":"CONCATENATE(A40,'CDI Data and Charts'!B$1)","v":"202204Scotland"},{"$f":"IFERROR(VLOOKUP(CONCATENATE(D$5,$C40),'trend data'!$A$2:$O$11161,D$6,FALSE),\"-\")","v":212},{"$f":"ROUND(VLOOKUP(CONCATENATE(E$5,$C40),'trend data'!$A$2:$O$11161,E$6,FALSE),4)","v":13.5113},{"$f":"ROUND(VLOOKUP(CONCATENATE(F$5,$C40),'trend data'!$A$2:$O$11161,F$6,FALSE),4)","v":11.7536},{"$f":"ROUND(VLOOKUP(CONCATENATE(G$5,$C40),'trend data'!$A$2:$O$11161,G$6,FALSE),4)","v":15.457800000000001},{"$f":"IFERROR(VLOOKUP(CONCATENATE(H$5,$C40),'trend data'!$A$2:$O$11161,H$6,FALSE),\"-\")","v":44},{"$f":"IFERROR(ROUND(VLOOKUP(CONCATENATE(I$5,$C40),'trend data'!$A$2:$O$11161,I$6,FALSE),4),\"-\")","v":3.2044000000000001},{"$f":"IFERROR(ROUND(VLOOKUP(CONCATENATE(J$5,$C40),'trend data'!$A$2:$O$11161,J$6,FALSE),4),\"-\")","v":2.3281000000000001},{"$f":"IFERROR(ROUND(VLOOKUP(CONCATENATE(K$5,$C40),'trend data'!$A$2:$O$11161,K$6,FALSE),4),\"-\")","v":4.3018999999999998}]
[202301,"2023-03-31",{"$f":"CONCATENATE(A41,'CDI Data and Charts'!B$1)","v":"202301Scotland"},{"$f":"IFERROR(VLOOKUP(CONCATENATE(D$5,$C41),'trend data'!$A$2:$O$11161,D$6,FALSE),\"-\")","v":211},{"$f":"ROUND(VLOOKUP(CONCATENATE(E$5,$C41),'trend data'!$A$2:$O$11161,E$6,FALSE),4)","v":13.4488},{"$f":"ROUND(VLOOKUP(CONCATENATE(F$5,$C41),'trend data'!$A$2:$O$11161,F$6,FALSE),4)","v":11.6951},{"$f":"ROUND(VLOOKUP(CONCATENATE(G$5,$C41),'trend data'!$A$2:$O$11161,G$6,FALSE),4)","v":15.3911},{"$f":"IFERROR(VLOOKUP(CONCATENATE(H$5,$C41),'trend data'!$A$2:$O$11161,H$6,FALSE),\"-\")","v":57},{"$f":"IFERROR(ROUND(VLOOKUP(CONCATENATE(I$5,$C41),'trend data'!$A$2:$O$11161,I$6,FALSE),4),\"-\")","v":4.2434000000000003},{"$f":"IFERROR(ROUND(VLOOKUP(CONCATENATE(J$5,$C41),'trend data'!$A$2:$O$11161,J$6,FALSE),4),\"-\")","v":3.2136999999999998},{"$f":"IFERROR(ROUND(VLOOKUP(CONCATENATE(K$5,$C41),'trend data'!$A$2:$O$11161,K$6,FALSE),4),\"-\")","v":5.4978999999999996}]
[202302,"2023-06-30",{"$f":"CONCATENATE(A42,'CDI Data and Charts'!B$1)","v":"202302Scotland"},{"$f":"IFERROR(VLOOKUP(CONCATENATE(D$5,$C42),'trend data'!$A$2:$O$11161,D$6,FALSE),\"-\")","v":244},{"$f":"ROUND(VLOOKUP(CONCATENATE(E$5,$C42),'trend data'!$A$2:$O$11161,E$6,FALSE),4)","v":15.7963},{"$f":"ROUND(VLOOKUP(CONCATENATE(F$5,$C42),'trend data'!$A$2:$O$11161,F$6,FALSE),4)","v":13.876200000000001},{"$f":"ROUND(VLOOKUP(CONCATENATE(G$5,$C42),'trend data'!$A$2:$O$11161,G$6,FALSE),4)","v":17.907800000000002},{"$f":"IFERROR(VLOOKUP(CONCATENATE(H$5,$C42),'trend data'!$A$2:$O$11161,H$6,FALSE),\"-\")","v":70},{"$f":"IFERROR(ROUND(VLOOKUP(CONCATENATE(I$5,$C42),'trend data'!$A$2:$O$11161,I$6,FALSE),4),\"-\")","v":5.1539000000000001},{"$f":"IFERROR(ROUND(VLOOKUP(CONCATENATE(J$5,$C42),'trend data'!$A$2:$O$11161,J$6,FALSE),4),\"-\")","v":4.0175000000000001},{"$f":"IFERROR(ROUND(VLOOKUP(CONCATENATE(K$5,$C42),'trend data'!$A$2:$O$11161,K$6,FALSE),4),\"-\")","v":6.5118}]
[202303,"2023-09-30",{"$f":"CONCATENATE(A43,'CDI Data and Charts'!B$1)","v":"202303Scotland"},{"$f":"IFERROR(VLOOKUP(CONCATENATE(D$5,$C43),'trend data'!$A$2:$O$11161,D$6,FALSE),\"-\")","v":239},{"$f":"ROUND(VLOOKUP(CONCATENATE(E$5,$C43),'trend data'!$A$2:$O$11161,E$6,FALSE),4)","v":15.542},{"$f":"ROUND(VLOOKUP(CONCATENATE(F$5,$C43),'trend data'!$A$2:$O$11161,F$6,FALSE),4)","v":13.633800000000001},{"$f":"ROUND(VLOOKUP(CONCATENATE(G$5,$C43),'trend data'!$A$2:$O$11161,G$6,FALSE),4)","v":17.642600000000002},{"$f":"IFERROR(VLOOKUP(CONCATENATE(H$5,$C43),'trend data'!$A$2:$O$11161,H$6,FALSE),\"-\")","v":86},{"$f":"IFERROR(ROUND(VLOOKUP(CONCATENATE(I$5,$C43),'trend data'!$A$2:$O$11161,I$6,FALSE),4),\"-\")","v":6.2630999999999997},{"$f":"IFERROR(ROUND(VLOOKUP(CONCATENATE(J$5,$C43),'trend data'!$A$2:$O$11161,J$6,FALSE),4),\"-\")","v":5.0095000000000001},{"$f":"IFERROR(ROUND(VLOOKUP(CONCATENATE(K$5,$C43),'trend data'!$A$2:$O$11161,K$6,FALSE),4),\"-\")","v":7.7350000000000003}]
[202304,"2023-12-31",{"$f":"CONCATENATE(A44,'CDI Data and Charts'!B$1)","v":"202304Scotland"},{"$f":"IFERROR(VLOOKUP(CONCATENATE(D$5,$C44),'trend data'!$A$2:$O$11161,D$6,FALSE),\"-\")","v":223},{"$f":"ROUND(VLOOKUP(CONCATENATE(E$5,$C44),'trend data'!$A$2:$O$11161,E$6,FALSE),4)","v":14.2386},{"$f":"ROUND(VLOOKUP(CONCATENATE(F$5,$C44),'trend data'!$A$2:$O$11161,F$6,FALSE),4)","v":12.430899999999999},{"$f":"ROUND(VLOOKUP(CONCATENATE(G$5,$C44),'trend data'!$A$2:$O$11161,G$6,FALSE),4)","v":16.235199999999999},{"$f":"IFERROR(VLOOKUP(CONCATENATE(H$5,$C44),'trend data'!$A$2:$O$11161,H$6,FALSE),\"-\")","v":79},{"$f":"IFERROR(ROUND(VLOOKUP(CONCATENATE(I$5,$C44),'trend data'!$A$2:$O$11161,I$6,FALSE),4),\"-\")","v":5.7533000000000003},{"$f":"IFERROR(ROUND(VLOOKUP(CONCATENATE(J$5,$C44),'trend data'!$A$2:$O$11161,J$6,FALSE),4),\"-\")","v":4.5548000000000002},{"$f":"IFERROR(ROUND(VLOOKUP(CONCATENATE(K$5,$C44),'trend data'!$A$2:$O$11161,K$6,FALSE),4),\"-\")","v":7.1704999999999997}]
[202401,"2024-03-31",{"$f":"CONCATENATE(A45,'CDI Data and Charts'!B$1)","v":"202401Scotland"},{"$f":"IFERROR(VLOOKUP(CONCATENATE(D$5,$C45),'trend data'!$A$2:$O$11161,D$6,FALSE),\"-\")","v":201},{"$f":"ROUND(VLOOKUP(CONCATENATE(E$5,$C45),'trend data'!$A$2:$O$11161,E$6,FALSE),4)","v":12.635899999999999},{"$f":"ROUND(VLOOKUP(CONCATENATE(F$5,$C45),'trend data'!$A$2:$O$11161,F$6,FALSE),4)","v":10.949199999999999},{"$f":"ROUND(VLOOKUP(CONCATENATE(G$5,$C45),'trend data'!$A$2:$O$11161,G$6,FALSE),4)","v":14.508800000000001},{"$f":"IFERROR(VLOOKUP(CONCATENATE(H$5,$C45),'trend data'!$A$2:$O$11161,H$6,FALSE),\"-\")","v":94},{"$f":"IFERROR(ROUND(VLOOKUP(CONCATENATE(I$5,$C45),'trend data'!$A$2:$O$11161,I$6,FALSE),4),\"-\")","v":6.9398999999999997},{"$f":"IFERROR(ROUND(VLOOKUP(CONCATENATE(J$5,$C45),'trend data'!$A$2:$O$11161,J$6,FALSE),4),\"-\")","v":5.6079999999999997},{"$f":"IFERROR(ROUND(VLOOKUP(CONCATENATE(K$5,$C45),'trend data'!$A$2:$O$11161,K$6,FALSE),4),\"-\")","v":8.4928000000000008}]
[202402,"2024-06-30",{"$f":"CONCATENATE(A46,'CDI Data and Charts'!B$1)","v":"202402Scotland"},{"$f":"IFERROR(VLOOKUP(CONCATENATE(D$5,$C46),'trend data'!$A$2:$O$11161,D$6,FALSE),\"-\")","v":264},{"$f":"ROUND(VLOOKUP(CONCATENATE(E$5,$C46),'trend data'!$A$2:$O$11161,E$6,FALSE),4)","v":16.954899999999999},{"$f":"ROUND(VLOOKUP(CONCATENATE(F$5,$C46),'trend data'!$A$2:$O$11161,F$6,FALSE),4)","v":14.971},{"$f":"ROUND(VLOOKUP(CONCATENATE(G$5,$C46),'trend data'!$A$2:$O$11161,G$6,FALSE),4)","v":19.128399999999999},{"$f":"IFERROR(VLOOKUP(CONCATENATE(H$5,$C46),'trend data'!$A$2:$O$11161,H$6,FALSE),\"-\")","v":96},{"$f":"IFERROR(ROUND(VLOOKUP(CONCATENATE(I$5,$C46),'trend data'!$A$2:$O$11161,I$6,FALSE),4),\"-\")","v":7.0876000000000001},{"$f":"IFERROR(ROUND(VLOOKUP(CONCATENATE(J$5,$C46),'trend data'!$A$2:$O$11161,J$6,FALSE),4),\"-\")","v":5.7408000000000001},{"$f":"IFERROR(ROUND(VLOOKUP(CONCATENATE(K$5,$C46),'trend data'!$A$2:$O$11161,K$6,FALSE),4),\"-\")","v":8.6553000000000004}]

{"sheet":"year end comp","index":9,"n_rows":94,"n_cols":9,"rows_kept":94,"cut":false,"hidden":true,"merged":[]}
["ref","p","lp","pc","r","rl","ru","s","direction"]
["CDICA Ayrshire & Arran",8.2092819614711008,7.1147110332749604,15.384615384615399,1.15384615384615,0.68244548404391503,1.95086783907839,"Non Significant","-"]
["CDIHCAI Ayrshire & Arran",16.937264805449502,14.907573047107901,13.615172314955,1.1361517231495499,0.82279605203170902,1.56884653837151,"Non Significant","-"]
["ECBCOM Ayrshire & Arran",54.7285464098074,48.4347635726795,12.9943502824859,1.1299435028248599,0.92302458914446694,1.38324843627354,"Non Significant","-"]
["ECBHCAI Ayrshire & Arran",46.251761584112003,36.417071300792202,27.005714441144001,1.2700571444114399,1.03853685331649,1.55319009134765,"Significant","Increase"]
["SABCAUN Ayrshire & Arran",14.503064798599,16.6922066549912,-13.114754098360599,0.86885245901639396,0.60131824857596905,1.25541607514255,"Non Significant","-"]
["SABHCAI Ayrshire & Arran",17.588698067197502,19.805775619729101,-11.194096081362799,0.88805903918637297,0.65928409740398797,1.19622005169854,"Non Significant","-"]
["CDICA Borders",2.5680534155110402,4.2800890258517397,-40,0.6,0.143387110368216,2.5106859262002299,"Non Significant","-"]
["CDIHCAI Borders",11.555884256263299,7.8434448409741604,47.331746325228799,1.4733174632522901,0.66189389622684602,3.2794747918029201,"Non Significant","-"]
["ECBCOM Borders",39.376819037836,47.936997089539503,-17.8571428571429,0.82142857142857095,0.55614456124026501,1.21325451147886,"Non Significant","-"]
["ECBHCAI Borders",46.993929308803999,40.785913173065602,15.2209811004995,1.1522098110049901,0.795920381151344,1.6679902663828401,"Non Significant","-"]
["SABCAUN Borders",15.4083204930663,11.984249272384901,28.571428571428601,1.28571428571429,0.63946187033940705,2.5850817713531602,"Non Significant","-"]
["SABHCAI Borders",13.0966688237651,14.9025451978509,-12.1179057007407,0.87882094299259295,0.45679616726555999,1.6907459063538799,"Non Significant","-"]
["CDICA Dumfries & Galloway",11.6622075872951,8.9181587432256304,30.769230769230798,1.3076923076923099,0.63516236677506299,2.6923181552461801,"Non Significant","-"]
["CDIHCAI Dumfries & Galloway",19.3528618044393,12.994818316196399,48.927528908337301,1.48927528908337,0.88850435250186299,2.4962633896266899,"Non Significant","-"]
["ECBCOM Dumfries & Galloway",51.450915826301703,63.799135624614102,-19.354838709677399,0.80645161290322598,0.59493867359730201,1.09316175400362,"Non Significant","-"]
["ECBHCAI Dumfries & Galloway",38.168144114310898,42.233159527638399,-9.6251747650260704,0.90374825234973899,0.65527627790598897,1.2464374664000699,"Non Significant","-"]
["SABCAUN Dumfries & Galloway",10.2901831652603,13.7202442203471,-25,0.75,0.38398587055753097,1.4648976515288801,"Non Significant","-"]
["SABHCAI Dumfries & Galloway",19.890441299007101,16.243522895245501,22.451523769077301,1.22451523769077,0.75654404024977395,1.98195675012105,"Non Significant","-"]
["CDICA Fife",6.4630796574567801,2.6929498572736601,140,2.4,1.14769035705881,5.0187752860110697,"Significant","Increase"]
["CDIHCAI Fife",5.0554981350829102,12.2327559843198,-58.6724517225461,0.41327548277453902,0.238823468492458,0.71515846302986796,"Significant","Decrease"]
["ECBCOM Fife",37.1627080303765,39.317067916195398,-5.4794520547945398,0.94520547945205502,0.74897139774946397,1.1928538273567599,"Non Significant","-"]
["ECBHCAI Fife",40.724846088167901,31.137924323723201,30.788570441545598,1.3078857044154599,1.0220883064926101,1.6735980687268399,"Significant","Increase"]
["SABCAUN Fife",11.041094414822,14.003339257823001,-21.153846153846199,0.78846153846153799,0.52359841236155502,1.18730611658895,"Non Significant","-"]
["SABHCAI Fife",13.4813283602211,14.734910617476199,-8.5075660775863202,0.91492433922413696,0.619125471459679,1.3520466934289901,"Non Significant","-"]
["CDICA Forth Valley",2.3122914808575299,0.66065470881643695,250,3.5,0.72706955359867897,16.848456848960101,"Non Significant","-"]
["CDIHCAI Forth Valley",14.7740849702591,17.718044701016101,-16.615601667311001,0.83384398332689003,0.56365020650124897,1.23355900611901,"Non Significant","-"]
["ECBCOM Forth Valley",38.648300465761601,32.702408086413598,18.181818181818102,1.1818181818181801,0.90429549029905998,1.5445108704613,"Non Significant","-"]
["ECBHCAI Forth Valley",44.643430671000402,53.476280370339303,-16.517322517887902,0.834826774821121,0.66639394289443199,1.0458314505848401,"Non Significant","-"]
["SABCAUN Forth Valley",10.240147986654801,9.2491659234301196,10.714285714285699,1.1071428571428601,0.66416886152768195,1.8455627433406301,"Non Significant","-"]
["SABHCAI Forth Valley",16.3799637713742,15.140874562686401,8.1837360421798007,1.0818373604217999,0.72785807579725303,1.60796742293811,"Non Significant","-"]
["CDIHCAI Golden Jubilee",5.4735536134576401,7.6744498378772503,-28.678228028243499,0.71321771971756498,0.15962255610860501,3.1867646285091702,"Non Significant","-"]
["ECBHCAI Golden Jubilee",20.069696582677999,19.186124594693101,4.6052655585761402,1.0460526555857601,0.44425261073877398,2.46307198158806,"Non Significant","-"]
["SABHCAI Golden Jubilee",16.4206608403729,23.0233495136317,-28.678228028243499,0.71321771971756498,0.30051809529059298,1.6926751622967799,"Non Significant","-"]
["CDICA Grampian",5.6679605647349796,4.2939095187386203,32,1.32,0.78501162830587401,2.2195849553977398,"Non Significant","-"]
["CDIHCAI Grampian",10.469261696644899,9.0186065125612291,16.085136678966499,1.16085136678967,0.79071929871299196,1.7042405541015699,"Non Significant","-"]
["ECBCOM Grampian",29.198584727422599,30.916148534918101,-5.5555555555555598,0.94444444444444398,0.76584398609293203,1.16469584515839,"Non Significant","-"]
["ECBHCAI Grampian",34.346525215308603,36.638088957279997,-6.2545940773366304,0.93745405922663405,0.76705546153899595,1.14570608935794,"Non Significant","-"]
["SABCAUN Grampian",12.5382157947168,10.3053828449727,21.6666666666667,1.2166666666666699,0.86465241359871503,1.71199172580437,"Non Significant","-"]
["SABHCAI Grampian",19.101810814931,18.225100660800798,4.8104543862182902,1.0481045438621801,0.79478791767402102,1.3821588255637101,"Non Significant","-"]
["CDICA Greater Glasgow & Clyde",5.4241425193447004,3.8986024357789999,39.130434782608702,1.39130434782609,0.95254068190111796,2.0321733497160199,"Non Significant","-"]
["CDIHCAI Greater Glasgow & Clyde",14.708053494973401,13.4034215894205,9.7335736017032009,1.0973357360170299,0.92098814547728902,1.3074497467239501,"Non Significant","-"]
["ECBCOM Greater Glasgow & Clyde",33.053368477256697,36.7824664593062,-10.138248847926301,0.89861751152073699,0.78375988630861104,1.03030717202814,"Non Significant","-"]
["ECBHCAI Greater Glasgow & Clyde",34.4302161359604,34.5222581273731,-0.266616369859417,0.99733383630140604,0.89190347544371995,1.11522693701449,"Non Significant","-"]
["SABCAUN Greater Glasgow & Clyde",7.03443482977515,6.3564170148570698,10.6666666666667,1.10666666666667,0.80984979572553495,1.5122694573429001,"Non Significant","-"]
["SABHCAI Greater Glasgow & Clyde",17.0479710964464,19.091428230309099,-10.7035320208184,0.89296467979181604,0.76509098819140997,1.04221057581744,"Non Significant","-"]
["CDICA Highland",8.6518555140129205,8.9608503537990902,-3.44827586206896,0.96551724137931005,0.57442374328129997,1.6228847680904399,"Non Significant","-"]
["CDIHCAI Highland",25.6166172782502,22.389189972276899,14.4151142134648,1.14415114213465,0.828858992099477,1.5793782157471099,"Non Significant","-"]
["ECBCOM Highland",41.714303371133703,37.079380774341097,12.5,1.125,0.87974542990286897,1.43862639916156,"Non Significant","-"]
["ECBHCAI Highland",25.300362743950799,21.0721787974371,20.065243310425998,1.2006524331042601,0.86429866796815003,1.66790291197383,"Non Significant","-"]
["SABCAUN Highland",8.6518555140129205,9.2698451935852706,-6.6666666666666599,0.93333333333333302,0.55765188190387305,1.56210557048075,"Non Significant","-"]
["SABHCAI Highland",13.5989449748736,15.8041340980778,-13.9532422941947,0.86046757705805299,0.57016545170808397,1.2985782441747,"Non Significant","-"]
["CDICA Lanarkshire",5.9847986115267204,3.7404991322041998,60,1.6,0.97073643608070803,2.6371730830830402,"Non Significant","-"]
["CDIHCAI Lanarkshire",19.680428870701199,20.2696865176679,-2.9070881113678202,0.97092911888632205,0.755049432773651,1.2485319675539299,"Non Significant","-"]
["ECBCOM Lanarkshire",40.547010593093503,48.776108683942802,-16.8711656441718,0.83128834355828196,0.70758417167788801,0.97661923174060605,"Significant","Decrease"]
["ECBHCAI Lanarkshire",35.782597946729503,41.370097892617203,-13.506131796910401,0.86493868203089597,0.721478662778544,1.03692453050823,"Non Significant","-"]
["SABCAUN Lanarkshire",11.2214973966126,7.6306182296965703,47.058823529411796,1.47058823529412,1.0303806296498199,2.09886491996695,"Significant","Increase"]
["SABHCAI Lanarkshire",23.096040492888999,17.1129320599983,34.962497437106897,1.34962497437107,1.04723414369179,1.73933172673769,"Significant","Increase"]
["CDICA Lothian",8.7178185590218398,5.2969024156082103,64.5833333333333,1.6458333333333299,1.1497598864748999,2.3559417866073198,"Significant","Increase"]
["CDIHCAI Lothian",14.8801316943683,12.241362953351199,21.556167814587301,1.21556167814587,0.95366678122901705,1.5493778565639,"Non Significant","-"]
["ECBCOM Lothian",30.015780355113201,31.229653825356699,-3.8869257950530001,0.96113074204947002,0.81377427398899504,1.1351701974853201,"Non Significant","-"]
["ECBHCAI Lothian",30.384604578710199,30.1953619515997,0.62672746699913395,1.0062672746699901,0.85606061018832702,1.1828295987699,"Non Significant","-"]
["SABCAUN Lothian",9.7109877619483793,9.2695792273143596,4.7619047619047699,1.0476190476190499,0.77688880906302904,1.4126933688977901,"Non Significant","-"]
["SABHCAI Lothian",16.232870939310899,16.423828629079601,-1.1626868136613699,0.98837313186338605,0.79303215001798999,1.2318308252285599,"Non Significant","-"]
["CDICA Orkney",4.5413260672116298,0,"Inf","Inf",0,"Inf"]
["CDIHCAI Orkney",7.7603600807077404,22.536057692307701,-65.564695535206198,0.34435304464793798,3.5818136399091698E-2,3.3105859567085698,"Non Significant","-"]
["ECBCOM Orkney",45.413260672116301,63.578564940962799,-28.571428571428601,0.71428571428571397,0.31727406051143597,1.60808633649476,"Non Significant","-"]
["ECBHCAI Orkney",54.322520564954203,60.096153846153797,-9.6073257799161809,0.90392674220083802,0.32778304700822702,2.4927572146381101,"Non Significant","-"]
["SABCAUN Orkney",4.5413260672116298,13.6239782016349,-66.6666666666667,0.33333333333333298,3.4671912983676098E-2,3.20464322702423,"Non Significant","-"]
["SABHCAI Orkney",0,15.024038461538501,-100,0,0,0]
["CDICA Scotland",6.5165115553352804,4.6441617563375397,40.316205533596801,1.40316205533597,1.1941872010924699,1.64870612558358,"Significant","Increase"]
["CDIHCAI Scotland",14.827924100223299,13.952292791995101,6.2758954480272404,1.06275895448027,0.96881841786495204,1.16580834395888,"Non Significant","-"]
["ECBCOM Scotland",36.914661233181,38.016043467885503,-2.8971511347175198,0.97102848865282498,0.91323590712290503,1.03247837543525,"Non Significant","-"]
["ECBHCAI Scotland",36.837874005193498,36.574594913883502,0.71984144166142605,1.00719841441661,0.95052081840366898,1.0672555785858899,"Non Significant","-"]
["SABCAUN Scotland",10.297923894487599,9.6370945536648502,6.8571428571428701,1.0685714285714301,0.94866968776757399,1.20362747190352,"Non Significant","-"]
["SABHCAI Scotland",17.9150755040455,18.4478531852731,-2.8880199548258898,0.97111980045174096,0.89439632565249505,1.05442480003641,"Non Significant","-"]
["CDICA Shetland",4.3440486533449203,8.6880973066898406,-50,0.5,4.5336305186085203E-2,5.5143443863336996,"Non Significant","-"]
["CDIHCAI Shetland",93.535647474537498,9.8386462022825594,850.69632093120003,9.5069632093119996,1.2044259879179799,75.041845966351801,"Significant","Increase"]
["ECBCOM Shetland",13.0321459600348,26.0642919200695,-50,0.5,0.12504564208005201,1.99926999327137,"Non Significant","-"]
["ECBHCAI Shetland",93.535647474537498,78.709169618260503,18.837040116399901,1.1883704011639999,0.45849501871399101,3.0801298873949801,"Non Significant","-"]
["SABCAUN Shetland",39.096437880104297,17.376194613379699,125,2.25,0.69289056963527995,7.3063485373523998,"Non Significant","-"]
["SABHCAI Shetland",72.749948035751402,59.031877213695402,23.238411972562901,1.23238411972563,0.41416421346932902,3.6670735161534802,"Non Significant","-"]
["CDICA Tayside",5.3123415352667003,4.8294013956970003,9.9999999999999893,1.1000000000000001,0.60034792715680896,2.0154979225637502,"Non Significant","-"]
["CDIHCAI Tayside",11.2068983745768,12.638505589948901,-11.327345667438401,0.88672654332561596,0.613688603243421,1.2812425690856699,"Non Significant","-"]
["ECBCOM Tayside",43.464612561273,32.115519281385097,35.338345864661697,1.35338345864662,1.0816581392233799,1.6933693925267199,"Significant","Increase"]
["ECBHCAI Tayside",48.210808101953198,49.725267894880801,-3.0456543665670801,0.96954345633432903,0.80880968073027404,1.16221966195061,"Non Significant","-"]
["SABCAUN Tayside",10.8661531403183,10.383213000748601,4.6511627906976596,1.0465116279069799,0.68899656486914895,1.58953853064928,"Non Significant","-"]
["SABHCAI Tayside",24.105404050976599,26.727331493498401,-9.8099110386670496,0.90190088961332904,0.70103376191713196,1.1603224536017001,"Non Significant","-"]
["CDICA Western Isles",22.970903522205202,7.6569678407350699,200,3,0.60548771213115204,14.864050615201499,"Non Significant","-"]
["CDIHCAI Western Isles",7.6034063260340599,4.0846336083653298,86.146593673965995,1.86146593673966,0.16878397560306199,20.529528477223501,"Non Significant","-"]
["ECBCOM Western Isles",15.313935681470101,15.313935681470101,0,1,0.25009128416010401,3.99853998654274,"Non Significant","-"]
["ECBHCAI Western Isles",83.637469586374706,65.354137733845306,27.975783150851601,1.2797578315085201,0.67212207215665898,2.4367301345307402,"Non Significant","-"]
["SABCAUN Western Isles",3.82848392036753,0,"Inf","Inf",0,"Inf"]
["SABHCAI Western Isles",19.0085158150852,40.846336083653298,-53.463351581508498,0.465366484184915,0.15906119787942599,1.36152605091528,"Non Significant","-"]

{"sheet":"quarter comp","index":10,"n_rows":7,"n_cols":9,"rows_kept":7,"cut":false,"hidden":true,"merged":[]}
["ref","p","lp","pc","r","rl","ru","s","direction"]
["CDICA Scotland",7.0875762268460099,6.9399183887867197,2.1276595744681002,1.0212765957446801,0.76847362426726495,1.3572435696935501,"Non Significant","-"]
["CDIHCAI Scotland",16.954867299263,12.635859059250899,34.180566748646903,1.34180566748647,1.1168797155952499,1.61202896261685,"Significant","Increase"]
["ECBCOM Scotland",36.176170324526502,37.209775190941599,-2.7777777777777901,0.97222222222222199,0.85854338750816706,1.10095315290484,"Non Significant","-"]
["ECBHCAI Scotland",39.432911067225398,35.518708300879297,11.0201157462959,1.11020115746296,0.990325601215572,1.2445872433462399,"Non Significant","-"]
["SABCAUN Scotland",10.040732988031801,10.9266800163876,-8.1081081081080892,0.91891891891891897,0.72805803389011703,1.1598141085475,"Non Significant","-"]
["SABHCAI Scotland",17.340205192428101,17.036406990333301,1.78322930572885,1.0178322930572901,0.859968869654686,1.2046745101439,"Non Significant","-"]

{"sheet":"data for u-p-charts","index":11,"n_rows":1117,"n_cols":7,"rows_kept":1117,"cut":false,"hidden":true,"merged":[]}
["ref","cases","rate","av","uwl2","uwl3","aboveUCL"]
["CDICA202402Ayrshire & Arran",9,9.9052654875772195,7.1981663697993099,12.8274449466928,15.6420842351395,"-"]
["CDICA202301Ayrshire & Arran",9,9.9879597197898402,7.1981663697993099,12.850894158040701,15.677258052161401,"-"]
["CDICA202302Ayrshire & Arran",5,5.4878899559284804,7.1981663697993099,12.819749415306999,15.6305409380608,"-"]
["CDICA202304Ayrshire & Arran",6,6.5138867737759796,7.1981663697993099,12.7891138572815,15.5845876010226,"-"]
["CDICA202203Ayrshire & Arran",8,8.6851823650346507,7.1981663697993099,12.7891138572815,15.5845876010226,"-"]
["CDICA202103Ayrshire & Arran",9,9.7556137097703406,7.1981663697993099,12.784758673298899,15.578054825048699,"-"]
["CDICA202401Ayrshire & Arran",7,7.7040953792267297,7.1981663697993099,12.8274449466928,15.6420842351395,"-"]
["CDICA202104Ayrshire & Arran",6,6.50374247318023,7.1981663697993099,12.784758673298899,15.578054825048699,"-"]
["CDICA202204Ayrshire & Arran",4,4.34259118251732,7.1981663697993099,12.7891138572815,15.5845876010226,"-"]
["CDICA202303Ayrshire & Arran",8,8.6851823650346507,7.1981663697993099,12.7891138572815,15.5845876010226,"-"]
["CDICA202201Ayrshire & Arran",2,2.2195466043977401,7.1981663697993099,12.850894158040701,15.677258052161401,"-"]
["CDICA202202Ayrshire & Arran",8,8.7806239294855803,7.1981663697993099,12.819749415306999,15.6305409380608,"-"]
["CDIHCAI202103Ayrshire & Arran",29,26.785137019830199,17.858306051843201,25.980962102419099,30.042290127706998,"-"]
["CDIHCAI202304Ayrshire & Arran",14,12.108317549276499,17.858306051843201,25.7184049346797,29.648454376097899,"-"]
["CDIHCAI202301Ayrshire & Arran",15,12.676306293363499,17.858306051843201,25.6279453809892,29.512765045562201,"-"]
["CDIHCAI202302Ayrshire & Arran",17,14.692918013517501,17.858306051843201,25.715721083743901,29.644428599694201,"-"]
["CDIHCAI202303Ayrshire & Arran",21,18.141764934560101,17.858306051843201,25.713922065662,29.641730072571399,"-"]
["CDIHCAI202104Ayrshire & Arran",26,23.173112059822301,17.858306051843201,25.8374377506799,29.827003600098202,"-"]
["CDIHCAI202401Ayrshire & Arran",18,15.550218566961,17.858306051843201,25.7139559979626,29.6417809710223,"-"]
["CDIHCAI202204Ayrshire & Arran",20,16.725204883759801,17.858306051843201,25.58726235388,29.4517405048983,"-"]
["CDIHCAI202201Ayrshire & Arran",18,15.987778231751699,17.858306051843201,25.823712322455901,29.806415457762199,"-"]
["CDIHCAI202402Ayrshire & Arran",25,22.0476051891244,17.858306051843201,25.7953874416499,29.763928136553201,"-"]
["CDIHCAI202203Ayrshire & Arran",18,15.5243343941628,17.858306051843201,25.7074151996258,29.631969773517099,"-"]
["CDIHCAI202202Ayrshire & Arran",27,23.604080883317199,17.858306051843201,25.760756684275901,29.711982000492299,"-"]
["ECBCOM202201Ayrshire & Arran",49,54.378891807744701,53.576225638506301,68.997958984171007,76.708825657003402,"-"]
["ECBCOM202401Ayrshire & Arran",44,48.425742383710897,53.576225638506301,68.933985005921897,76.612864689629703,"-"]
["ECBCOM202103Ayrshire & Arran",59,63.953467652938897,53.576225638506301,68.817528606381401,76.438180090318994,"-"]
["ECBCOM202301Ayrshire & Arran",43,47.720251994551496,53.576225638506301,68.997958984171007,76.708825657003402,"-"]
["ECBCOM202202Ayrshire & Arran",54,59.269211524027597,53.576225638506301,68.912990109752897,76.581372345376195,"-"]
["ECBCOM202303Ayrshire & Arran",53,57.539333168354503,53.576225638506301,68.8294103895783,76.456002765114306,"-"]
["ECBCOM202302Ayrshire & Arran",48,52.6837435769135,53.576225638506301,68.912990109752897,76.581372345376195,"-"]
["ECBCOM202304Ayrshire & Arran",42,45.5972074164319,53.576225638506301,68.8294103895783,76.456002765114306,"-"]
["ECBCOM202402Ayrshire & Arran",61,67.135688304690007,53.576225638506301,68.933985005921897,76.612864689629703,"-"]
["ECBCOM202104Ayrshire & Arran",59,63.953467652938897,53.576225638506301,68.817528606381401,76.438180090318994,"-"]
["ECBCOM202204Ayrshire & Arran",43,46.682855212061199,53.576225638506301,68.8294103895783,76.456002765114306,"-"]
["ECBCOM202203Ayrshire & Arran",43,46.682855212061199,53.576225638506301,68.8294103895783,76.456002765114306,"-"]
["ECBHCAI202301Ayrshire & Arran",34,28.732960931624,42.450071762578197,54.429054600172897,60.418546018970197,"-"]
["ECBHCAI202202Ayrshire & Arran",44,38.465909587627998,42.450071762578197,54.633818844086001,60.725692384839903,"-"]
["ECBHCAI202103Ayrshire & Arran",54,49.875772381752903,42.450071762578197,54.973324555089498,61.234950951345198,"-"]
["ECBHCAI202204Ayrshire & Arran",43,35.959190500083601,42.450071762578197,54.366330802725201,60.3244603227987,"-"]
["ECBHCAI202302Ayrshire & Arran",51,44.078754040552496,42.450071762578197,54.564384387350003,60.621540699735903,"-"]
["ECBHCAI202203Ayrshire & Arran",43,37.085909941611199,42.450071762578197,54.551578639349799,60.602332077735603,"-"]
["ECBHCAI202104Ayrshire & Arran",55,49.020044741931699,42.450071762578197,54.7520432737549,60.903029029343301,"-"]
["ECBHCAI202402Ayrshire & Arran",55,48.504731416073597,42.450071762578197,54.687211444522298,60.805781285494398,"-"]
["ECBHCAI202303Ayrshire & Arran",48,41.466891278994403,42.450071762578197,54.561610718481496,60.617380196433103,"-"]
["ECBHCAI202304Ayrshire & Arran",61,52.7576693218477,42.450071762578197,54.568522263374497,60.627747513772597,"-"]
["ECBHCAI202401Ayrshire & Arran",49,42.331150543393697,42.450071762578197,54.5616630342235,60.617458670046098,"-"]
["ECBHCAI202201Ayrshire & Arran",48,42.634075284671297,42.450071762578197,54.730881844997597,60.8712868862074,"-"]
["SABCAUN202103Ayrshire & Arran",17,18.4272703406773,14.487448769596099,22.4130459454495,26.375844533376299,"-"]
["SABCAUN202303Ayrshire & Arran",11,11.9421257519226,14.487448769596099,22.419224565974801,26.385112464164202,"-"]
["SABCAUN202304Ayrshire & Arran",14,15.1990691388106,14.487448769596099,22.419224565974801,26.385112464164202,"-"]
["SABCAUN202104Ayrshire & Arran",12,13.007484946360499,14.487448769596099,22.4130459454495,26.375844533376299,"-"]
["SABCAUN202401Ayrshire & Arran",15,16.508775812628699,14.487448769596099,22.473604187304201,26.4666818961582,"-"]
["SABCAUN202402Ayrshire & Arran",13,14.307605704278201,14.487448769596099,22.473604187304201,26.4666818961582,"-"]
["SABCAUN202201Ayrshire & Arran",15,16.6465995329831,14.487448769596099,22.506871158140399,26.516582352412598,"-"]
["SABCAUN202202Ayrshire & Arran",6,6.5854679471141804,14.487448769596099,22.4626866765024,26.450305629955601,"-"]
["SABCAUN202301Ayrshire & Arran",17,18.866146137380799,14.487448769596099,22.506871158140399,26.516582352412598,"-"]
["SABCAUN202203Ayrshire & Arran",13,14.113421343181299,14.487448769596099,22.419224565974801,26.385112464164202,"-"]
["SABCAUN202302Ayrshire & Arran",22,24.1467158060853,14.487448769596099,22.4626866765024,26.450305629955601,"-"]
["SABCAUN202204Ayrshire & Arran",9,9.77083016066398,14.487448769596099,22.419224565974801,26.385112464164202,"-"]
["SABHCAI202103Ayrshire & Arran",17,15.701632046107401,17.7851162729423,25.891110447407499,29.944107534640199,"-"]
["SABHCAI202401Ayrshire & Arran",20,17.2780206299566,17.7851162729423,25.6246520483575,29.544419936065001,"-"]
["SABHCAI202202Ayrshire & Arran",20,17.4845043580127,17.7851162729423,25.671356733161801,29.614476963271599,"-"]
["SABHCAI202204Ayrshire & Arran",29,24.251547081451701,17.7851162729423,25.4982182889466,29.3547692969487,"-"]
["SABHCAI202402Ayrshire & Arran",20,17.638084151299498,17.7851162729423,25.705916453009898,29.666316543043799,"-"]
["SABHCAI202304Ayrshire & Arran",18,15.567836849069799,17.7851162729423,25.629091859040901,29.551079652090198,"-"]
["SABHCAI202303Ayrshire & Arran",23,19.869552071184799,17.7851162729423,25.6246181856616,29.544369142021299,"-"]
["SABHCAI202302Ayrshire & Arran",26,22.471521667732599,17.7851162729423,25.626413513446099,29.547062133697999,"-"]
["SABHCAI202203Ayrshire & Arran",15,12.936945328468999,17.7851162729423,25.618124667057,29.5346288641143,"-"]
["SABHCAI202301Ayrshire & Arran",23,19.437002983157399,17.7851162729423,25.538817863604599,29.4156686589358,"-"]
["SABHCAI202201Ayrshire & Arran",19,16.875988133515701,17.7851162729423,25.7341832314352,29.708716710681699,"-"]
["SABHCAI202104Ayrshire & Arran",15,13.3691031114359,17.7851162729423,25.747880504905002,29.729262620886299,"-"]
["CDICA202401Borders",0,0,3.41988653395549,10.2826193311535,13.713985729752499,"-"]
["CDICA202204Borders",1,3.3961575965997501,3.41988653395549,10.235889360187899,13.643890773304101,"-"]
["CDICA202103Borders",1,3.38890518864596,3.41988653395549,10.228607770576099,13.6329683888865,"-"]
["CDICA202201Borders",0,0,3.41988653395549,10.311206594972001,13.756866625480299,"-"]
["CDICA202402Borders",1,3.4428847988169999,3.41988653395549,10.2826193311535,13.713985729752499,"-"]
["CDICA202303Borders",1,3.3961575965997501,3.41988653395549,10.235889360187899,13.643890773304101,"-"]
["CDICA202301Borders",1,3.4716277654130798,3.41988653395549,10.311206594972001,13.756866625480299,"-"]
["CDICA202202Borders",2,6.8669560194983896,3.41988653395549,10.2732376004553,13.6999131337052,"-"]
["CDICA202304Borders",1,3.3961575965997501,3.41988653395549,10.235889360187899,13.643890773304101,"-"]
["CDICA202302Borders",2,6.8669560194983896,3.41988653395549,10.2732376004553,13.6999131337052,"-"]
["CDICA202203Borders",1,3.3961575965997501,3.41988653395549,10.235889360187899,13.643890773304101,"-"]
["CDICA202104Borders",1,3.38890518864596,3.41988653395549,10.228607770576099,13.6329683888865,"-"]
["CDIHCAI202303Borders",4,12.2062862374123,9.2529437579641396,19.8804589919399,25.1942166089278,"-"]
["CDIHCAI202302Borders",2,6.4224013358594796,9.2529437579641396,20.1548810492699,25.605849694922799,"-"]
["CDIHCAI202204Borders",1,3.0497102775236402,9.2529437579641396,19.877217413327401,25.189354241008999,"-"]
["CDIHCAI202301Borders",2,6.2264562124466902,9.2529437579641396,19.9872857634338,25.354456766168699,"-"]
["CDIHCAI202401Borders",4,12.279355333845,9.2529437579641396,19.9122206700311,25.2418591260646,"-"]
["CDIHCAI202203Borders",5,15.901790541615,9.2529437579641396,20.102399911430599,25.527127988163901,"-"]
["CDIHCAI202201Borders",1,3.1527839081909299,9.2529437579641396,20.055264283389199,25.4564245461018,"-"]
["CDIHCAI202304Borders",4,12.444389136048301,9.2529437579641396,19.983611620593901,25.348945551908798,"-"]
["CDIHCAI202202Borders",5,15.6931671950033,9.2529437579641396,20.030995286499099,25.4200210507666,"-"]
["CDIHCAI202402Borders",3,9.2833271444485703,9.2529437579641396,19.954850376529201,25.3058036858117,"-"]
["CDIHCAI202104Borders",2,6.5638332786347204,9.2529437579641396,20.274266742421201,25.784928234649701,"-"]
["CDIHCAI202103Borders",3,10.1214574898785,9.2529437579641396,20.427514705878,26.014800179834999,"-"]
["ECBCOM202401Borders",12,41.314617585804001,44.173534396925099,68.838034398765302,81.1702843996854,"-"]
["ECBCOM202302Borders",14,48.0686921364887,44.173534396925099,68.804316679649503,81.119707821011701,"-"]
["ECBCOM202303Borders",11,37.357733562597197,44.173534396925099,68.670087983973005,80.918364777497004,"-"]
["ECBCOM202103Borders",18,61.000293395627303,44.173534396925099,68.643918122446905,80.879109985207805,"-"]
["ECBCOM202402Borders",13,44.757502384620999,44.173534396925099,68.838034398765302,81.1702843996854,"-"]
["ECBCOM202202Borders",11,37.768258107241202,44.173534396925099,68.804316679649503,81.119707821011701,"-"]
["ECBCOM202201Borders",15,52.074416481196103,44.173534396925099,68.940776351474298,81.324397328748802,"-"]
["ECBCOM202204Borders",9,30.565418369397701,44.173534396925099,68.670087983973005,80.918364777497004,"-"]
["ECBCOM202104Borders",12,40.666862263751497,44.173534396925099,68.643918122446905,80.879109985207805,"-"]
["ECBCOM202304Borders",10,33.961575965997497,44.173534396925099,68.670087983973005,80.918364777497004,"-"]
["ECBCOM202301Borders",16,55.546044246609199,44.173534396925099,68.940776351474298,81.324397328748802,"-"]
["ECBCOM202203Borders",17,57.734679142195702,44.173534396925099,68.670087983973005,80.918364777497004,"-"]
["ECBHCAI202103Borders",14,47.2334682860999,40.448582713386102,63.812332710889301,75.494207709640904,"-"]
["ECBHCAI202301Borders",14,43.585193487126801,40.448582713386102,62.891903729689702,74.113564237841402,"-"]
["ECBHCAI202401Borders",11,33.7682271680737,40.448582713386102,62.734957920855102,73.878145524589499,"-"]
["ECBHCAI202202Borders",7,21.970434073004601,40.448582713386102,62.983291432552399,74.2506457921356,"-"]
["ECBHCAI202304Borders",11,34.222070124132799,40.448582713386102,62.8842218459585,74.102041412244603,"-"]
["ECBHCAI202204Borders",12,36.596523330283603,40.448582713386102,62.661773246245502,73.768368512675195,"-"]
["ECBHCAI202302Borders",13,41.745608683086601,40.448582713386102,63.242311309299197,74.639175607255794,"-"]
["ECBHCAI202104Borders",12,39.3829996718083,40.448582713386102,63.491922457777903,75.013592329973804,"-"]
["ECBHCAI202402Borders",18,55.699962866691401,40.448582713386102,62.824087947388499,74.011840564389701,"-"]
["ECBHCAI202201Borders",6,18.916703449145601,40.448582713386102,63.034032957992103,74.326758080295093,"-"]
["ECBHCAI202303Borders",21,64.083002746414394,40.448582713386102,62.668550726352201,73.778534732835197,"-"]
["ECBHCAI202203Borders",13,41.344655408199003,40.448582713386102,63.132583947973501,74.474584565267193,"-"]
["SABCAUN202202Borders",2,6.8669560194983896,13.3945555913257,26.957728092356501,33.739314342871999,"-"]
["SABCAUN202301Borders",5,17.3581388270654,13.3945555913257,27.0328708972885,33.852028550269999,"-"]
["SABCAUN202203Borders",4,13.584630386399001,13.3945555913257,26.883813795475898,33.628442897550997,"-"]
["SABCAUN202302Borders",4,13.733912038996801,13.3945555913257,26.957728092356501,33.739314342871999,"-"]
["SABCAUN202304Borders",3,10.188472789799199,13.3945555913257,26.883813795475898,33.628442897550997,"-"]
["SABCAUN202104Borders",3,10.166715565937899,13.3945555913257,26.869403114477901,33.606826876054001,"-"]
["SABCAUN202204Borders",1,3.3961575965997501,13.3945555913257,26.883813795475898,33.628442897550997,"-"]
["SABCAUN202402Borders",4,13.771539195268,13.3945555913257,26.976295072303,33.767164812791698,"-"]
["SABCAUN202401Borders",7,24.100193591719002,13.3945555913257,26.976295072303,33.767164812791698,"-"]
["SABCAUN202201Borders",5,17.3581388270654,13.3945555913257,27.0328708972885,33.852028550269999,"-"]
["SABCAUN202103Borders",6,20.333431131875798,13.3945555913257,26.869403114477901,33.606826876054001,"-"]
["SABCAUN202303Borders",4,13.584630386399001,13.3945555913257,26.883813795475898,33.628442897550997,"-"]
["SABHCAI202202Borders",6,18.831800634004001,15.0690798343987,28.823543526337399,35.700775372306701,"-"]
["SABHCAI202201Borders",4,12.6111356327637,15.0690798343987,28.854514526585501,35.747231872678903,"-"]
["SABHCAI202204Borders",7,21.347971942665399,15.0690798343987,28.627299133966101,35.406408783749697,"-"]
["SABHCAI202304Borders",4,12.444389136048301,15.0690798343987,28.763074627060099,35.610072023390799,"-"]
["SABHCAI202104Borders",4,13.1276665572694,15.0690798343987,29.133995596352701,36.166453477329597,"-"]
["SABHCAI202402Borders",6,18.566654288897102,15.0690798343987,28.726370823392401,35.555016317889297,"-"]
["SABHCAI202103Borders",7,23.6167341430499,15.0690798343987,29.329563741824099,36.459805695536801,"-"]
["SABHCAI202401Borders",2,6.1396776669224904,15.0690798343987,28.671968712892902,35.473413152139997,"-"]
["SABHCAI202303Borders",5,15.2578577967653,15.0690798343987,28.631435890522901,35.412613918585002,"-"]
["SABHCAI202301Borders",4,12.4529124248934,15.0690798343987,28.767763402592202,35.617105186689002,"-"]
["SABHCAI202302Borders",4,12.844802671719,15.0690798343987,28.981640954380602,35.937921514371602,"-"]
["SABHCAI202203Borders",4,12.721432433292,15.0690798343987,28.9146668911178,35.837460419477303,"-"]
["CDICA202401Dumfries & Galloway",6,16.554756213122101,10.501516091724699,21.267203521910201,26.650047237003001,"-"]
["CDICA202402Dumfries & Galloway",2,5.5182520710407097,10.501516091724699,21.267203521910201,26.650047237003001,"-"]
["CDICA202103Dumfries & Galloway",2,5.42252621382878,10.501516091724699,21.173418105173099,26.5093691118973,"-"]
["CDICA202203Dumfries & Galloway",7,19.051752164666802,10.501516091724699,21.193897409621801,26.540088068570299,"-"]
["CDICA202304Dumfries & Galloway",4,10.8867155226667,10.501516091724699,21.193897409621801,26.540088068570299,"-"]
["CDICA202303Dumfries & Galloway",5,13.608394403333399,10.501516091724699,21.193897409621801,26.540088068570299,"-"]
["CDICA202301Dumfries & Galloway",4,11.1286425342816,10.501516091724699,21.312048856246999,26.7173152385081,"-"]
["CDICA202302Dumfries & Galloway",1,2.7515874397948901,10.501516091724699,21.252486238980001,26.627971312607599,"-"]
["CDICA202204Dumfries & Galloway",1,2.7216788806666798,10.501516091724699,21.193897409621801,26.540088068570299,"-"]
["CDICA202202Dumfries & Galloway",1,2.7515874397948901,10.501516091724699,21.252486238980001,26.627971312607599,"-"]
["CDICA202201Dumfries & Galloway",1,2.7821606335703901,10.501516091724699,21.312048856246999,26.7173152385081,"-"]
["CDICA202104Dumfries & Galloway",5,13.556315534571899,10.501516091724699,21.173418105173099,26.5093691118973,"-"]
["CDIHCAI202204Dumfries & Galloway",5,10.665984043687899,15.9722454376952,27.646480829542501,33.4835985254661,"-"]
["CDIHCAI202301Dumfries & Galloway",7,15.3350713080816,15.9722454376952,27.802847951931401,33.7181492090494,"-"]
["CDIHCAI202203Dumfries & Galloway",6,12.9313131748529,15.9722454376952,27.706585579928898,33.573755651045701,"-"]
["CDIHCAI202303Dumfries & Galloway",15,32.781869440741303,15.9722454376952,27.7886189887077,33.696805764213899,"-"]
["CDIHCAI202304Dumfries & Galloway",5,10.7077845593747,15.9722454376952,27.6693344114971,33.517878898398003,"-"]
["CDIHCAI202401Dumfries & Galloway",8,17.0845256908555,15.9722454376952,27.652961116131898,33.493318955350297,"-"]
["CDIHCAI202103Dumfries & Galloway",10,23.709042628858601,15.9722454376952,28.279749619468401,34.433501710355003,"-"]
["CDIHCAI202201Dumfries & Galloway",3,7.0778087104232501,15.9722454376952,28.249514291634899,34.388148718604697,"-"]
["CDIHCAI202202Dumfries & Galloway",12,26.7713724790291,15.9722454376952,27.910963011748301,33.880321798774901,"-"]
["CDIHCAI202104Dumfries & Galloway",3,6.6844919786096302,15.9722454376952,27.903512289048901,33.869145714725697,"-"]
["CDIHCAI202402Dumfries & Galloway",8,17.115594445989601,15.9722454376952,27.6635771690122,33.509243034670703,"-"]
["CDIHCAI202302Dumfries & Galloway",6,13.1104555883317,15.9722454376952,27.787586156631701,33.695256516099903,"-"]
["ECBCOM202302Dumfries & Galloway",24,66.038098555077397,58.671513816809799,84.083306393649806,96.789202682069899,"-"]
["ECBCOM202401Dumfries & Galloway",20,55.182520710407097,58.671513816809799,84.118093258090497,96.841382978730806,"-"]
["ECBCOM202303Dumfries & Galloway",15,40.825183210000297,58.671513816809799,83.944821479397604,96.581475310691502,"-"]
["ECBCOM202103Dumfries & Galloway",22,59.647788352116599,58.671513816809799,83.896415072381402,96.508865700167107,"-"]
["ECBCOM202402Dumfries & Galloway",20,55.182520710407097,58.671513816809799,84.118093258090497,96.841382978730806,"-"]
["ECBCOM202204Dumfries & Galloway",23,62.5986142553337,58.671513816809799,83.944821479397604,96.581475310691502,"-"]
["ECBCOM202203Dumfries & Galloway",22,59.876935374667099,58.671513816809799,83.944821479397604,96.581475310691502,"-"]
["ECBCOM202201Dumfries & Galloway",12,33.385927602844703,58.671513816809799,84.224093025422704,97.000382629729202,"-"]
["ECBCOM202301Dumfries & Galloway",24,66.771855205689306,58.671513816809799,84.224093025422704,97.000382629729202,"-"]
["ECBCOM202104Dumfries & Galloway",28,75.915366993602902,58.671513816809799,83.896415072381402,96.508865700167107,"-"]
["ECBCOM202304Dumfries & Galloway",20,54.433577613333703,58.671513816809799,83.944821479397604,96.581475310691502,"-"]
["ECBCOM202202Dumfries & Galloway",22,60.534923675487597,58.671513816809799,84.083306393649806,96.789202682069899,"-"]
["ECBHCAI202402Dumfries & Galloway",23,49.207334032220103,38.259099536804897,56.3536737448472,65.400960848868394,"-"]
["ECBHCAI202304Dumfries & Galloway",19,40.689581325623699,38.259099536804897,56.362584179840397,65.414326501358104,"-"]
["ECBHCAI202301Dumfries & Galloway",12,26.288693670996999,38.259099536804897,56.569221945382097,65.724283149670697,"-"]
["ECBHCAI202203Dumfries & Galloway",21,45.259596111985203,38.259099536804897,56.420237494878897,65.500806473915901,"-"]
["ECBHCAI202202Dumfries & Galloway",18,40.157058718543603,38.259099536804897,56.7365506995244,65.975276280884103,"-"]
["ECBHCAI202204Dumfries & Galloway",20,42.663936174751498,38.259099536804897,56.327213886352901,65.3612710611268,"-"]
["ECBHCAI202103Dumfries & Galloway",22,52.159893783488997,38.259099536804897,57.307318580693,66.831428102637005,"-"]
["ECBHCAI202104Dumfries & Galloway",11,24.509803921568601,38.259099536804897,56.725019279675301,65.957979151110493,"-"]
["ECBHCAI202303Dumfries & Galloway",16,34.967327403457404,38.259099536804897,56.547199900599701,65.691250082497007,"-"]
["ECBHCAI202201Dumfries & Galloway",14,33.029773981975197,38.259099536804897,57.260523622191997,66.761235664885604,"-"]
["ECBHCAI202302Dumfries & Galloway",25,54.626898284715402,38.259099536804897,56.5456013952221,65.688852324430599,"-"]
["ECBHCAI202401Dumfries & Galloway",13,27.7623542476402,38.259099536804897,56.337243370527702,65.376315287389104,"-"]
["SABCAUN202202Dumfries & Galloway",6,16.5095246387693,16.208861793749001,29.565523131830599,36.243853800871399,"-"]
["SABCAUN202402Dumfries & Galloway",2,5.5182520710407097,16.208861793749001,29.5838074132697,36.271280223030097,"-"]
["SABCAUN202104Dumfries & Galloway",8,21.690104855315099,16.208861793749001,29.4672914121413,36.096506221337499,"-"]
["SABCAUN202204Dumfries & Galloway",4,10.8867155226667,16.208861793749001,29.492734244761401,36.1346704702677,"-"]
["SABCAUN202301Dumfries & Galloway",5,13.910803167851901,16.208861793749001,29.639521821841701,36.354851835887999,"-"]
["SABCAUN202203Dumfries & Galloway",7,19.051752164666802,16.208861793749001,29.492734244761401,36.1346704702677,"-"]
["SABCAUN202201Dumfries & Galloway",8,22.2572850685631,16.208861793749001,29.639521821841701,36.354851835887999,"-"]
["SABCAUN202304Dumfries & Galloway",5,13.608394403333399,16.208861793749001,29.492734244761401,36.1346704702677,"-"]
["SABCAUN202103Dumfries & Galloway",5,13.556315534571899,16.208861793749001,29.4672914121413,36.096506221337499,"-"]
["SABCAUN202401Dumfries & Galloway",4,11.0365041420814,16.208861793749001,29.5838074132697,36.271280223030097,"-"]
["SABCAUN202303Dumfries & Galloway",4,10.8867155226667,16.208861793749001,29.492734244761401,36.1346704702677,"-"]
["SABCAUN202302Dumfries & Galloway",4,11.006349759179599,16.208861793749001,29.565523131830599,36.243853800871399,"-"]
["SABHCAI202202Dumfries & Galloway",7,15.616633946100301,18.943825984243201,31.945777396782301,38.446753103051897,"-"]
["SABHCAI202104Dumfries & Galloway",7,15.5971479500891,18.943825984243201,31.937663130411099,38.434581703495098,"-"]
["SABHCAI202103Dumfries & Galloway",6,14.2254255773152,18.943825984243201,32.347407264096802,39.049197904023501,"-"]
["SABHCAI202401Dumfries & Galloway",10,21.3556571135694,18.943825984243201,31.6647984649716,38.0252847053358,"-"]
["SABHCAI202203Dumfries & Galloway",11,23.707407487230299,18.943825984243201,31.723198596182201,38.112884902151698,"-"]
["SABHCAI202204Dumfries & Galloway",8,17.0655744699006,18.943825984243201,31.657741059446,38.014698597047499,"-"]
["SABHCAI202201Dumfries & Galloway",10,23.592695701410801,18.943825984243201,32.314479249760602,38.999805882519297,"-"]
["SABHCAI202304Dumfries & Galloway",9,19.274012206874399,18.943825984243201,31.682629927143299,38.052031898593398,"-"]
["SABHCAI202301Dumfries & Galloway",6,13.144346835498499,18.943825984243201,31.828033866458799,38.270137807566698,"-"]
["SABHCAI202303Dumfries & Galloway",13,28.4109535153091,18.943825984243201,31.8125377055574,38.246893566214503,"-"]
["SABHCAI202302Dumfries & Galloway",5,10.9253796569431,18.943825984243201,31.8114128919091,38.245206345742098,"-"]
["SABHCAI202402Dumfries & Galloway",5,10.6972465287435,18.943825984243201,31.676359958313402,38.042626945348601,"-"]
["CDICA202303Fife",8,8.5471886774337804,3.3198351099733299,7.0864819651291997,8.9698053927071406,"-"]
["CDICA202301Fife",3,3.2764223263496199,3.3198351099733299,7.12810363589006,9.03223789884842,"-"]
["CDICA202401Fife",4,4.3323940560974004,3.3198351099733299,7.1123057951167201,9.0085411376884093,"-"]
["CDICA202402Fife",12,12.9971821682922,3.3198351099733299,7.1123057951167201,9.0085411376884093,"aboveUCL"]
["CDICA202104Fife",1,1.0694353615687699,3.3198351099733299,7.0883091041428701,8.9725461012276408,"-"]
["CDICA202304Fife",0,0,3.3198351099733299,7.0864819651291997,8.9698053927071406,"-"]
["CDICA202103Fife",4,4.2777414462750798,3.3198351099733299,7.0883091041428701,8.9725461012276408,"-"]
["CDICA202204Fife",2,2.13679716935845,3.3198351099733299,7.0864819651291997,8.9698053927071406,"-"]
["CDICA202202Fife",4,4.3205569138676303,3.3198351099733299,7.1071212804779798,9.0007643657303102,"-"]
["CDICA202203Fife",2,2.13679716935845,3.3198351099733299,7.0864819651291997,8.9698053927071406,"-"]
["CDICA202302Fife",3,3.2404176854007201,3.3198351099733299,7.1071212804779798,9.0007643657303102,"-"]
["CDICA202201Fife",2,2.18428155089974,3.3198351099733299,7.12810363589006,9.03223789884842,"-"]
["CDIHCAI202204Fife",8,8.6992453404667103,8.3701270166774808,14.403939594515199,17.420845883434101,"-"]
["CDIHCAI202402Fife",8,9.1385750676825701,8.3701270166774808,14.5544230181616,17.6465710189037,"-"]
["CDIHCAI202301Fife",11,12.2929751234885,8.3701270166774808,14.486981918473001,17.545409369370802,"-"]
["CDIHCAI202401Fife",4,4.3880338317408398,8.3701270166774808,14.430523086667399,17.460721121662299,"-"]
["CDIHCAI202302Fife",16,18.0066624651121,8.3701270166774808,14.508491049125899,17.577673065350101,"aboveUCL"]
["CDIHCAI202304Fife",2,2.21209573950361,8.3701270166774808,14.455440864409001,17.498097788274698,"-"]
["CDIHCAI202202Fife",8,9.18927611477406,8.3701270166774808,14.5715546052243,17.6722683994977,"-"]
["CDIHCAI202203Fife",9,10.0682402953351,8.3701270166774808,14.490128836081199,17.550129745783,"-"]
["CDIHCAI202201Fife",6,7.01131158268673,8.3701270166774808,14.625022086438999,17.752469621319701,"-"]
["CDIHCAI202103Fife",8,9.4682399725421007,8.3701270166774808,14.6649809146866,17.812407863691099,"-"]
["CDIHCAI202104Fife",4,4.6346719810905403,8.3701270166774808,14.598513096743799,17.712706136777001,"-"]
["CDIHCAI202303Fife",4,4.6009800087418604,8.3701270166774808,14.5758330260179,17.678686030687999,"-"]
["ECBCOM202302Fife",27,29.1637591686065,40.107197139407603,53.270989446205803,59.852885599604903,"-"]
["ECBCOM202402Fife",32,34.659152448779203,40.107197139407603,53.289009704206698,59.8799159866062,"-"]
["ECBCOM202204Fife",38,40.5991462178105,40.107197139407603,53.199251624352797,59.745278866825402,"-"]
["ECBCOM202303Fife",42,44.872740556527397,40.107197139407603,53.199251624352797,59.745278866825402,"-"]
["ECBCOM202103Fife",40,42.777414462750798,40.107197139407603,53.205602366654503,59.754804980277903,"-"]
["ECBCOM202301Fife",29,31.6720824880463,40.107197139407603,53.3439196015511,59.962280832622803,"-"]
["ECBCOM202104Fife",37,39.569108378044497,40.107197139407603,53.205602366654503,59.754804980277903,"-"]
["ECBCOM202401Fife",29,31.409856906706199,40.107197139407603,53.289009704206698,59.8799159866062,"-"]
["ECBCOM202201Fife",47,51.330616446143999,40.107197139407603,53.3439196015511,59.962280832622803,"-"]
["ECBCOM202202Fife",41,44.285708367143201,40.107197139407603,53.270989446205803,59.852885599604903,"-"]
["ECBCOM202203Fife",52,55.556726403319601,40.107197139407603,53.199251624352797,59.745278866825402,"-"]
["ECBCOM202304Fife",35,37.393950463772804,40.107197139407603,53.199251624352797,59.745278866825402,"-"]
["ECBHCAI202202Fife",35,40.203083002136502,36.524190618228999,49.4785503565477,55.9557302257071,"-"]
["ECBHCAI202103Fife",51,60.360029824955902,36.524190618228999,49.673711552017103,56.248472018911201,"aboveUCL"]
["ECBHCAI202301Fife",25,27.938579826110299,36.524190618228999,49.301883775737302,55.6907303544914,"-"]
["ECBHCAI202304Fife",34,37.6056275715613,36.524190618228999,49.235996662643103,55.591899684850198,"-"]
["ECBHCAI202104Fife",29,33.601371862906397,36.524190618228999,49.534864808689498,56.040201903919801,"-"]
["ECBHCAI202402Fife",45,51.404484755714499,36.524190618228999,49.442763638323598,55.902050148370897,"-"]
["ECBHCAI202204Fife",28,30.4473586916335,36.524190618228999,49.128414018541001,55.430525718696998,"-"]
["ECBHCAI202201Fife",27,31.550902122090299,36.524190618228999,49.590240282144201,56.123265114101798,"-"]
["ECBHCAI202302Fife",26,29.260826505807099,36.524190618228999,49.346814884285699,55.758127017314003,"-"]
["ECBHCAI202303Fife",28,32.206860061192998,36.524190618228999,49.487487686102902,55.9691362200399,"-"]
["ECBHCAI202203Fife",33,36.916881082895202,36.524190618228999,49.308457472225797,55.700590899224203,"-"]
["ECBHCAI202401Fife",38,41.686321401538002,36.524190618228999,49.183945122552501,55.513822374714302,"-"]
["SABCAUN202402Fife",8,8.6647881121948007,11.7540107947704,18.890046564199299,22.458064448913699,"-"]
["SABCAUN202202Fife",9,9.7212530562021602,11.7540107947704,18.8802912134054,22.443431422722899,"-"]
["SABCAUN202301Fife",10,10.9214077544987,11.7540107947704,18.919772293466,22.502653042813701,"-"]
["SABCAUN202401Fife",13,14.0802806823166,11.7540107947704,18.890046564199299,22.458064448913699,"-"]
["SABCAUN202203Fife",12,12.820783016150701,11.7540107947704,18.841455608647198,22.385178015585598,"-"]
["SABCAUN202201Fife",12,13.105689305398499,11.7540107947704,18.919772293466,22.502653042813701,"-"]
["SABCAUN202304Fife",11,11.7523844314715,11.7540107947704,18.841455608647198,22.385178015585598,"-"]
["SABCAUN202204Fife",15,16.025978770188299,11.7540107947704,18.841455608647198,22.385178015585598,"-"]
["SABCAUN202104Fife",8,8.5554828925501702,11.7540107947704,18.844893612639801,22.390335021574401,"-"]
["SABCAUN202303Fife",9,9.6155872621130101,11.7540107947704,18.841455608647198,22.385178015585598,"-"]
["SABCAUN202103Fife",9,9.6249182541189402,11.7540107947704,18.844893612639801,22.390335021574401,"-"]
["SABCAUN202302Fife",15,16.202088427003599,11.7540107947704,18.8802912134054,22.443431422722899,"-"]
["SABHCAI202104Fife",11,12.745347947999001,13.220996083160999,21.048829762330101,24.962746601914699,"-"]
["SABHCAI202401Fife",12,13.1641014952225,13.220996083160999,20.8376999701599,24.646051913659299,"-"]
["SABHCAI202304Fife",10,11.060478697518001,13.220996083160999,20.869016625439201,24.693026896578299,"-"]
["SABHCAI202204Fife",10,10.8740566755834,13.220996083160999,20.80428984553,24.595936726714399,"-"]
["SABHCAI202203Fife",14,15.661707126076699,13.220996083160999,20.912612457397401,24.758420644515599,"-"]
["SABHCAI202303Fife",8,9.2019600174837208,13.220996083160999,21.020325456528901,24.9199901432128,"-"]
["SABHCAI202301Fife",16,17.880691088710599,13.220996083160999,20.9086574123309,24.7524880769158,"-"]
["SABHCAI202201Fife",13,15.191175095821301,13.220996083160999,21.082146252295399,25.012721336862601,"-"]
["SABHCAI202302Fife",13,14.630413252903599,13.220996083160999,20.935690081014201,24.793037079940799,"-"]
["SABHCAI202103Fife",14,16.569419951948699,13.220996083160999,21.132366495150599,25.0880517011454,"-"]
["SABHCAI202402Fife",18,20.5617939022858,13.220996083160999,20.993417365345401,24.8796280064375,"-"]
["SABHCAI202202Fife",13,14.9325736865078,13.220996083160999,21.014948338612399,24.911924466338199,"-"]
["CDICA202302Forth Valley",0,0,0.880750828807632,3.04125212674243,4.1215027757098204,"-"]
["CDICA202401Forth Valley",0,0,0.880750828807632,3.04420969321664,4.1259391254211497,"-"]
["CDICA202303Forth Valley",1,1.31053787346739,0.880750828807632,3.0294781900521399,4.1038418706743904,"-"]
["CDICA202201Forth Valley",0,0,0.880750828807632,3.05322175461332,4.1394572175161599,"-"]
["CDICA202402Forth Valley",3,3.985708078464,0.880750828807632,3.04420969321664,4.1259391254211497,"-"]
["CDICA202304Forth Valley",3,3.9316136204021701,0.880750828807632,3.0294781900521399,4.1038418706743904,"-"]
["CDICA202301Forth Valley",0,0,0.880750828807632,3.05322175461332,4.1394572175161599,"-"]
["CDICA202204Forth Valley",2,2.6210757469347801,0.880750828807632,3.0294781900521399,4.1038418706743904,"-"]
["CDICA202104Forth Valley",0,0,0.880750828807632,3.0318243122432502,4.1073610539610597,"-"]
["CDICA202103Forth Valley",0,0,0.880750828807632,3.0318243122432502,4.1073610539610597,"-"]
["CDICA202202Forth Valley",0,0,0.880750828807632,3.04125212674243,4.1215027757098204,"-"]
["CDICA202203Forth Valley",0,0,0.880750828807632,3.0294781900521399,4.1038418706743904,"-"]
["CDIHCAI202301Forth Valley",15,19.1568434630464,13.889149157336499,22.312485887192,26.5241542521198,"-"]
["CDIHCAI202304Forth Valley",9,11.527377521613801,13.889149157336499,22.324668394220001,26.542428012661802,"-"]
["CDIHCAI202203Forth Valley",10,12.951019245214599,13.889149157336499,22.371569520330102,26.612779701826899,"-"]
["CDIHCAI202201Forth Valley",9,12.2712770308963,13.889149157336499,22.592599227614901,26.944324262754201,"-"]
["CDIHCAI202103Forth Valley",8,11.4511465460479,13.889149157336499,22.806735220856702,27.2655282526168,"-"]
["CDIHCAI202303Forth Valley",10,13.3707714935152,13.889149157336499,22.5079342137605,26.817326741972501,"-"]
["CDIHCAI202104Forth Valley",7,9.2399482562897592,13.889149157336499,22.452693801855698,26.7344661241154,"-"]
["CDIHCAI202202Forth Valley",11,14.457134595923099,13.889149157336499,22.434159371500598,26.706664478582699,"-"]
["CDIHCAI202402Forth Valley",17,21.8178084653097,13.889149157336499,22.333162644952001,26.555169388759701,"-"]
["CDIHCAI202401Forth Valley",10,12.411105457163099,13.889149157336499,22.192875908668601,26.3447392843347,"-"]
["CDIHCAI202204Forth Valley",19,23.968714519995,13.889149157336499,22.2608439625191,26.4466913651104,"-"]
["CDIHCAI202302Forth Valley",11,14.543916015495901,13.889149157336499,22.459767441408701,26.7450765834447,"-"]
["ECBCOM202303Forth Valley",30,39.316136204021703,33.578625348290899,46.846038096510902,53.479744470620901,"-"]
["ECBCOM202103Forth Valley",24,31.521631179643101,33.578625348290899,46.860524332423701,53.501473824490098,"-"]
["ECBCOM202301Forth Valley",19,25.453557809122199,33.578625348290899,46.9926437929008,53.699653015205698,"-"]
["ECBCOM202302Forth Valley",17,22.523969605527402,33.578625348290899,46.918736792752703,53.588792514983503,"-"]
["ECBCOM202304Forth Valley",27,35.3845225836195,33.578625348290899,46.846038096510902,53.479744470620901,"-"]
["ECBCOM202201Forth Valley",27,36.170845307699899,33.578625348290899,46.9926437929008,53.699653015205698,"-"]
["ECBCOM202402Forth Valley",35,46.499927582079998,33.578625348290899,46.936998418611502,53.6161849537718,"-"]
["ECBCOM202204Forth Valley",31,40.626674077489099,33.578625348290899,46.846038096510902,53.479744470620901,"-"]
["ECBCOM202401Forth Valley",25,33.214233987199997,33.578625348290899,46.936998418611502,53.6161849537718,"-"]
["ECBCOM202202Forth Valley",28,37.098302879692199,33.578625348290899,46.918736792752703,53.588792514983503,"-"]
["ECBCOM202104Forth Valley",21,27.5814272821877,33.578625348290899,46.860524332423701,53.501473824490098,"-"]
["ECBCOM202203Forth Valley",32,41.937211950956403,33.578625348290899,46.846038096510902,53.479744470620901,"-"]
["ECBHCAI202304Forth Valley",30,38.424591738712799,51.918962326234102,68.228325407536602,76.383006948187898,"-"]
["ECBHCAI202402Forth Valley",32,41.068815934700602,51.918962326234102,68.244748322996799,76.407641321378193,"-"]
["ECBHCAI202104Forth Valley",37,48.839726497531601,51.918962326234102,68.475851706526299,76.754296396672501,"-"]
["ECBHCAI202103Forth Valley",47,67.275485958031595,51.918962326234102,69.160360850084302,77.781060112009399,"-"]
["ECBHCAI202202Forth Valley",44,57.828538383692297,51.918962326234102,68.440016952828501,76.700544266125803,"-"]
["ECBHCAI202303Forth Valley",36,48.134777376654597,51.918962326234102,68.582654371450204,76.914500394058294,"-"]
["ECBHCAI202204Forth Valley",40,50.460451621041997,51.918962326234102,68.104926266258303,76.197908236270393,"-"]
["ECBHCAI202401Forth Valley",41,50.885532374368601,51.918962326234102,67.973515781965801,76.000792509831598,"-"]
["ECBHCAI202301Forth Valley",47,60.0247761842122,51.918962326234102,68.204771560431197,76.347676177529706,"-"]
["ECBHCAI202201Forth Valley",38,51.812058574895701,51.918962326234102,68.746347015905002,77.160039360740498,"-"]
["ECBHCAI202302Forth Valley",35,46.276096412941399,51.918962326234102,68.489527990408206,76.774810822495297,"-"]
["ECBHCAI202203Forth Valley",44,56.984484678944199,51.918962326234102,68.319004768601502,76.519025989785106,"-"]
["SABCAUN202401Forth Valley",9,11.957124235392,10.789197652893501,18.361303678325001,22.147356691040802,"-"]
["SABCAUN202204Forth Valley",6,7.8632272408043304,10.789197652893501,18.309743417249301,22.070016299427099,"-"]
["SABCAUN202203Forth Valley",6,7.8632272408043304,10.789197652893501,18.309743417249301,22.070016299427099,"-"]
["SABCAUN202201Forth Valley",9,12.056948435900001,10.789197652893501,18.392845893213401,22.194670013373301,"-"]
["SABCAUN202304Forth Valley",11,14.4159166081413,10.789197652893501,18.309743417249301,22.070016299427099,"-"]
["SABCAUN202303Forth Valley",9,11.794840861206501,10.789197652893501,18.309743417249301,22.070016299427099,"-"]
["SABCAUN202302Forth Valley",8,10.5995151084835,10.789197652893501,18.3509521956653,22.131829467051201,"-"]
["SABCAUN202402Forth Valley",2,2.6571387189759998,10.789197652893501,18.361303678325001,22.147356691040802,"-"]
["SABCAUN202104Forth Valley",9,11.820611692366199,10.789197652893501,18.317954844918201,22.082333440930501,"-"]
["SABCAUN202103Forth Valley",7,9.1938090940625603,10.789197652893501,18.317954844918201,22.082333440930501,"-"]
["SABCAUN202202Forth Valley",11,14.5743332741648,10.789197652893501,18.3509521956653,22.131829467051201,"-"]
["SABCAUN202301Forth Valley",8,10.7172874985778,10.789197652893501,18.392845893213401,22.194670013373301,"-"]
["SABHCAI202304Forth Valley",15,19.212295869356399,17.526783460448399,27.002784719492599,31.7407853490148,"-"]
["SABHCAI202204Forth Valley",14,17.661158067364699,17.526783460448399,26.931087841307399,31.6332400317369,"-"]
["SABHCAI202302Forth Valley",14,18.510438565176599,17.526783460448399,27.154547605131899,31.968429677473601,"-"]
["SABHCAI202301Forth Valley",13,16.602597667973601,17.526783460448399,26.989099556944399,31.720257605192302,"-"]
["SABHCAI202402Forth Valley",8,10.267203983675101,17.526783460448399,27.012326696503202,31.755098314530599,"-"]
["SABHCAI202203Forth Valley",6,7.7706115471287598,17.526783460448399,27.055470881137101,31.819814591481499,"-"]
["SABHCAI202202Forth Valley",16,21.028559412251798,17.526783460448399,27.1257808990317,31.925279618323302,"-"]
["SABHCAI202401Forth Valley",16,19.857768731460901,17.526783460448399,26.854736244473202,31.518712636485599,"-"]
["SABHCAI202201Forth Valley",10,13.634752256551501,17.526783460448399,27.303763573703002,32.192253630330299,"-"]
["SABHCAI202303Forth Valley",12,16.044925792218201,17.526783460448399,27.2086555245893,32.049591556659699,"-"]
["SABHCAI202103Forth Valley",16,22.9022930920958,17.526783460448399,27.5443122446957,32.553076636819299,"-"]
["SABHCAI202104Forth Valley",16,21.1198817286623,17.526783460448399,27.146601465075001,31.956510467388199,"-"]
["CDIHCAI202304Golden Jubilee",0,0,3.2599411906609199]
["CDIHCAI202104Golden Jubilee",0,0,3.2599411906609199]
["CDIHCAI202402Golden Jubilee",2,13.250298131708,3.2599411906609199]
["CDIHCAI202303Golden Jubilee",1,7.5306875517734797,3.2599411906609199]
["CDIHCAI202201Golden Jubilee",0,0,3.2599411906609199]
["CDIHCAI202202Golden Jubilee",0,0,3.2599411906609199]
["CDIHCAI202103Golden Jubilee",0,0,3.2599411906609199]
["CDIHCAI202301Golden Jubilee",0,0,3.2599411906609199]
["CDIHCAI202401Golden Jubilee",0,0,3.2599411906609199]
["CDIHCAI202302Golden Jubilee",2,15.173355587588199,3.2599411906609199]
["CDIHCAI202204Golden Jubilee",0,0,3.2599411906609199]
["CDIHCAI202203Golden Jubilee",2,15.806528096103699,3.2599411906609199]
["ECBHCAI202103Golden Jubilee",2,16.5796236425433,13.039764762643699]
["ECBHCAI202104Golden Jubilee",0,0,13.039764762643699]
["ECBHCAI202201Golden Jubilee",0,0,13.039764762643699]
["ECBHCAI202203Golden Jubilee",2,15.806528096103699,13.039764762643699]
["ECBHCAI202402Golden Jubilee",6,39.7508943951239,13.039764762643699]
["ECBHCAI202303Golden Jubilee",2,15.061375103547,13.039764762643699]
["ECBHCAI202304Golden Jubilee",1,7.7000077000077001,13.039764762643699]
["ECBHCAI202202Golden Jubilee",2,16.113438607798901,13.039764762643699]
["ECBHCAI202301Golden Jubilee",5,38.580246913580197,13.039764762643699]
["ECBHCAI202401Golden Jubilee",2,14.870994125957299,13.039764762643699]
["ECBHCAI202302Golden Jubilee",1,7.5866777937940997,13.039764762643699]
["ECBHCAI202204Golden Jubilee",2,15.0071283859833,13.039764762643699]
["SABHCAI202301Golden Jubilee",3,23.148148148148099,20.863623620229902]
["SABHCAI202302Golden Jubilee",4,30.346711175176399,20.863623620229902]
["SABHCAI202202Golden Jubilee",5,40.283596519497301,20.863623620229902]
["SABHCAI202103Golden Jubilee",3,24.869435463815002,20.863623620229902]
["SABHCAI202201Golden Jubilee",1,8.2637798529047206,20.863623620229902]
["SABHCAI202104Golden Jubilee",2,15.854141894570001,20.863623620229902]
["SABHCAI202401Golden Jubilee",1,7.4354970629786603,20.863623620229902]
["SABHCAI202303Golden Jubilee",1,7.5306875517734797,20.863623620229902]
["SABHCAI202304Golden Jubilee",2,15.4000154000154,20.863623620229902]
["SABHCAI202402Golden Jubilee",5,33.125745329269897,20.863623620229902]
["SABHCAI202203Golden Jubilee",4,31.613056192207399,20.863623620229902]
["SABHCAI202204Golden Jubilee",1,7.5035641929916697,20.863623620229902]
["CDICA202303Grampian",9,6.1328229430679899,4.4696553704020801,7.9600615870166598,9.7052646953239492,"-"]
["CDICA202103Grampian",8,5.4858839938437898,4.4696553704020801,7.9710844254085202,9.7217989529117492,"-"]
["CDICA202302Grampian",9,6.20021660178302,4.4696553704020801,7.9791872437002498,9.7339531803493404,"-"]
["CDICA202402Grampian",8,5.5264031080732696,4.4696553704020801,7.9839915332503599,9.7411596146744994,"-"]
["CDICA202301Grampian",3,2.0897026324527999,4.4696553704020801,7.9986307823662903,9.7631184883484003,"-"]
["CDICA202204Grampian",5,3.40712385725999,4.4696553704020801,7.9600615870166598,9.7052646953239492,"-"]
["CDICA202104Grampian",5,3.4286774961523698,4.4696553704020801,7.9710844254085202,9.7217989529117492,"-"]
["CDICA202203Grampian",8,5.4513981716159901,4.4696553704020801,7.9600615870166598,9.7052646953239492,"-"]
["CDICA202304Grampian",6,4.0885486287119903,4.4696553704020801,7.9600615870166598,9.7052646953239492,"-"]
["CDICA202401Grampian",10,6.9080038850915804,4.4696553704020801,7.9839915332503599,9.7411596146744994,"-"]
["CDICA202201Grampian",7,4.8759728090565204,4.4696553704020801,7.9986307823662903,9.7631184883484003,"-"]
["CDICA202202Grampian",5,3.4445647787683402,4.4696553704020801,7.9791872437002498,9.7339531803493404,"-"]
["CDIHCAI202103Grampian",14,11.5449635096689,9.9534180037424793,15.6833356708071,18.548294504339498,"-"]
["CDIHCAI202304Grampian",16,11.7296893098544,9.9534180037424793,15.355975286062799,18.057253927223002,"-"]
["CDIHCAI202402Grampian",15,10.7943178710727,9.9534180037424793,15.306058668836201,17.982379001382998,"-"]
["CDIHCAI202303Grampian",12,9.1897687241537795,9.9534180037424793,15.475181293043599,18.2360629376942,"-"]
["CDIHCAI202301Grampian",14,10.3976352806619,9.9534180037424793,15.3911699078947,18.1100458599708,"-"]
["CDIHCAI202203Grampian",11,8.3058986982391492,9.9534180037424793,15.436352905958,18.177820357065698,"-"]
["CDIHCAI202204Grampian",4,3.0292473834875699,9.9534180037424793,15.4444439046644,18.189956855125299,"-"]
["CDIHCAI202202Grampian",20,15.319448806232,9.9534180037424793,15.475752248522699,18.236919370912801,"-"]
["CDIHCAI202401Grampian",14,10.1080843014231,9.9534180037424793,15.314920678743,17.995672016243201,"-"]
["CDIHCAI202201Grampian",8,6.3389935263028603,9.9534180037424793,15.570118649598101,18.378468972525901,"-"]
["CDIHCAI202104Grampian",12,9.5343275518230399,9.9534180037424793,15.577744556255,18.389907832511302,"-"]
["CDIHCAI202302Grampian",19,14.274444987040299,9.9534180037424793,15.422556639423901,18.157125957264601,"-"]
["ECBCOM202201Grampian",34,23.6832965011317,30.7718581269989,40.031378124166103,44.661138122749598,"-"]
["ECBCOM202304Grampian",36,24.531291772271899,30.7718581269989,39.930178145723701,44.509338155085999,"-"]
["ECBCOM202103Grampian",42,28.800890967679901,30.7718581269989,39.959100476031999,44.552721650548598,"-"]
["ECBCOM202402Grampian",39,26.9412151518572,30.7718581269989,39.9929668562743,44.603521220912,"-"]
["ECBCOM202301Grampian",40,27.862701766037301,30.7718581269989,40.031378124166103,44.661138122749598,"-"]
["ECBCOM202302Grampian",43,29.623257097407802,30.7718581269989,39.980361096820502,44.584612581731299,"-"]
["ECBCOM202203Grampian",56,38.1597872013119,30.7718581269989,39.930178145723701,44.509338155085999,"-"]
["ECBCOM202401Grampian",48,33.1584186484396,30.7718581269989,39.9929668562743,44.603521220912,"-"]
["ECBCOM202202Grampian",45,31.001083008915099,30.7718581269989,39.980361096820502,44.584612581731299,"-"]
["ECBCOM202204Grampian",41,27.938415629531899,30.7718581269989,39.930178145723701,44.509338155085999,"-"]
["ECBCOM202104Grampian",44,30.172361966140802,30.7718581269989,39.959100476031999,44.552721650548598,"-"]
["ECBCOM202303Grampian",47,32.0269642582439,30.7718581269989,39.930178145723701,44.509338155085999,"-"]
["ECBHCAI202202Grampian",49,37.532649575268302,34.869070813110802,45.205172063024399,50.373222687981198,"-"]
["ECBHCAI202301Grampian",63,46.789358762978502,34.869070813110802,45.046860088787703,50.135754726626203,"-"]
["ECBHCAI202402Grampian",59,42.457650292885802,34.869070813110802,44.887558180315601,49.896801863918,"-"]
["ECBHCAI202401Grampian",44,31.768264947329701,34.869070813110802,44.904145121202298,49.921682275248003,"-"]
["ECBHCAI202304Grampian",41,30.057328856501901,34.869070813110802,44.980986644953703,50.036944560875099,"-"]
["ECBHCAI202103Grampian",43,35.459530779697403,34.869070813110802,45.593704009015099,50.956020606967201,"-"]
["ECBHCAI202203Grampian",42,31.713431393276799,34.869070813110802,45.131428682801797,50.262607617647298,"-"]
["ECBHCAI202302Grampian",41,30.802749708876501,34.869070813110802,45.105606340030398,50.223874103490203,"-"]
["ECBHCAI202201Grampian",41,32.487341822302199,34.869070813110802,45.381796771502898,50.638159750699003,"-"]
["ECBHCAI202204Grampian",49,37.108280447722798,34.869070813110802,45.146572529250697,50.285323387320602,"-"]
["ECBHCAI202104Grampian",45,35.753728319336403,34.869070813110802,45.396070109521702,50.659569757727198,"-"]
["ECBHCAI202303Grampian",43,32.930004594884402,34.869070813110802,45.204103411005299,50.371619709952597,"-"]
["SABCAUN202103Grampian",11,7.5430904915352102,11.4606547959028,17.067428498479501,19.870815349767899,"-"]
["SABCAUN202402Grampian",15,10.3620058276374,11.4606547959028,17.088096411976299,19.901817220013001,"-"]
["SABCAUN202201Grampian",16,11.1450807064149,11.4606547959028,17.111537971316501,19.936979559023399,"-"]
["SABCAUN202302Grampian",12,8.2669554690440297,11.4606547959028,17.080403391816201,19.890277689773001,"-"]
["SABCAUN202202Grampian",21,14.467172070827001,11.4606547959028,17.080403391816201,19.890277689773001,"-"]
["SABCAUN202401Grampian",21,14.5068081586923,11.4606547959028,17.088096411976299,19.901817220013001,"-"]
["SABCAUN202303Grampian",19,12.947070657588,11.4606547959028,17.0497778308657,19.844339348347098,"-"]
["SABCAUN202304Grampian",18,12.265645886135999,11.4606547959028,17.0497778308657,19.844339348347098,"-"]
["SABCAUN202204Grampian",17,11.584221114684,11.4606547959028,17.0497778308657,19.844339348347098,"-"]
["SABCAUN202203Grampian",15,10.221371571780001,11.4606547959028,17.0497778308657,19.844339348347098,"-"]
["SABCAUN202301Grampian",16,11.1450807064149,11.4606547959028,17.111537971316501,19.936979559023399,"-"]
["SABCAUN202104Grampian",15,10.286032488457099,11.4606547959028,17.067428498479501,19.870815349767899,"-"]
["SABHCAI202304Grampian",26,19.0607451285134,18.943602007122799,26.396832279177399,30.123447415204701,"-"]
["SABHCAI202302Grampian",19,14.274444987040299,18.943602007122799,26.488686216580099,30.261228321308799,"-"]
["SABHCAI202203Grampian",19,14.3465522969585,18.943602007122799,26.507719194112799,30.289777787607701,"-"]
["SABHCAI202201Grampian",23,18.224606388120701,18.943602007122799,26.692259003274099,30.566587501349801,"-"]
["SABHCAI202202Grampian",20,15.319448806232,18.943602007122799,26.5620735225089,30.371309280201999,"-"]
["SABHCAI202103Grampian",23,18.9667257658846,18.943602007122799,26.848450318921699,30.8008744748211,"-"]
["SABHCAI202402Grampian",21,15.1120450195017,18.943602007122799,26.327968586827499,30.020151876679801,"-"]
["SABHCAI202301Grampian",27,20.052582326990802,18.943602007122799,26.445385882062698,30.1962778195326,"-"]
["SABHCAI202104Grampian",27,21.452236991601801,18.943602007122799,26.702779509652299,30.5823682609171,"-"]
["SABHCAI202204Grampian",32,24.233979067900599,18.943602007122799,26.5188813296235,30.3065209908738,"-"]
["SABHCAI202401Grampian",32,23.104192688967,18.943602007122799,26.340194389731,30.038490581035202,"-"]
["SABHCAI202303Grampian",25,19.1453515086537,18.943602007122799,26.5612858468883,30.370127766771098,"-"]
["CDICA202301Greater Glasgow & Clyde",8,2.7497389160566899,4.5290030883825398,7.0243563742988204,8.2720330172569607,"-"]
["CDICA202104Greater Glasgow & Clyde",11,3.7381092745703199,4.5290030883825398,7.01019843441604,8.2507961074327891,"-"]
["CDICA202401Greater Glasgow & Clyde",19,6.4765602815115102,4.5290030883825398,7.0140048999697804,8.2565058057633998,"-"]
["CDICA202204Greater Glasgow & Clyde",6,2.0174714873242001,4.5290030883825398,6.9970839348183604,8.2311243580362703,"-"]
["CDICA202302Greater Glasgow & Clyde",15,5.09910375917105,4.5290030883825398,7.0106077667183797,8.2514101058863005,"-"]
["CDICA202402Greater Glasgow & Clyde",15,5.1130739064564503,4.5290030883825398,7.0140048999697804,8.2565058057633998,"-"]
["CDICA202303Greater Glasgow & Clyde",16,5.3799239661978602,4.5290030883825398,6.9970839348183604,8.2311243580362703,"-"]
["CDICA202202Greater Glasgow & Clyde",11,3.7393427567254398,4.5290030883825398,7.0106077667183797,8.2514101058863005,"-"]
["CDICA202203Greater Glasgow & Clyde",17,5.7161692140852303,4.5290030883825398,6.9970839348183604,8.2311243580362703,"-"]
["CDICA202103Greater Glasgow & Clyde",19,6.4567342015305504,4.5290030883825398,7.01019843441604,8.2507961074327891,"-"]
["CDICA202304Greater Glasgow & Clyde",14,4.7074334704231298,4.5290030883825398,6.9970839348183604,8.2311243580362703,"-"]
["CDICA202201Greater Glasgow & Clyde",7,2.4060215515496002,4.5290030883825398,7.0243563742988204,8.2720330172569607,"-"]
["CDIHCAI202402Greater Glasgow & Clyde",82,18.379674769413501,13.995620737544201,17.5379429561041,19.309104065384101,"-"]
["CDIHCAI202301Greater Glasgow & Clyde",52,11.6206310896576,13.995620737544201,17.5326549739301,19.3011720921231,"-"]
["CDIHCAI202203Greater Glasgow & Clyde",54,12.297153892049201,13.995620737544201,17.566141002822899,19.351401135462201,"-"]
["CDIHCAI202303Greater Glasgow & Clyde",71,16.008622108583602,13.995620737544201,17.548446263063699,19.3248590258235,"-"]
["CDIHCAI202304Greater Glasgow & Clyde",54,12.0617831336066,13.995620737544201,17.531805563412501,19.2998979763466,"-"]
["CDIHCAI202202Greater Glasgow & Clyde",59,13.7194625691205,13.995620737544201,17.603638126734701,19.407646821330001,"-"]
["CDIHCAI202103Greater Glasgow & Clyde",76,18.395745741747898,13.995620737544201,17.676723837272799,19.517275387137101,"-"]
["CDIHCAI202204Greater Glasgow & Clyde",63,14.2007352825157,13.995620737544201,17.5479336903703,19.3240901667833,"-"]
["CDIHCAI202201Greater Glasgow & Clyde",49,11.84453205638,13.995620737544201,17.674258223495102,19.513576966470499,"-"]
["CDIHCAI202401Greater Glasgow & Clyde",57,12.4567292562677,13.995620737544201,17.4933860221273,19.242268664418798,"-"]
["CDIHCAI202104Greater Glasgow & Clyde",57,13.691753000775901,13.995620737544201,17.662682109259901,19.4962127951177,"-"]
["CDIHCAI202302Greater Glasgow & Clyde",69,15.4909624826849,13.995620737544201,17.540820682987299,19.313420655708899,"-"]
["ECBCOM202304Greater Glasgow & Clyde",85,28.580846070426102,36.9679877089225,44.019316715878197,47.544981219356004,"-"]
["ECBCOM202203Greater Glasgow & Clyde",119,40.013184498596601,36.9679877089225,44.019316715878197,47.544981219356004,"-"]
["ECBCOM202204Greater Glasgow & Clyde",104,34.969505780286099,36.9679877089225,44.019316715878197,47.544981219356004,"-"]
["ECBCOM202402Greater Glasgow & Clyde",93,31.701058220029999,36.9679877089225,44.067660064342697,47.617496242052802,"-"]
["ECBCOM202104Greater Glasgow & Clyde",111,37.720920861573198,36.9679877089225,44.056784958281398,47.6011835829608,"-"]
["ECBCOM202202Greater Glasgow & Clyde",109,37.053487316643,36.9679877089225,44.057954424322602,47.6029377820227,"-"]
["ECBCOM202302Greater Glasgow & Clyde",102,34.673905562363203,36.9679877089225,44.057954424322602,47.6029377820227,"-"]
["ECBCOM202401Greater Glasgow & Clyde",92,31.360186626266199,36.9679877089225,44.067660064342697,47.617496242052802,"-"]
["ECBCOM202201Greater Glasgow & Clyde",105,36.090323273244003,36.9679877089225,44.097234318892198,47.661857623877097,"-"]
["ECBCOM202301Greater Glasgow & Clyde",109,37.465192731272303,36.9679877089225,44.097234318892198,47.661857623877097,"-"]
["ECBCOM202303Greater Glasgow & Clyde",120,40.349429746483999,36.9679877089225,44.019316715878197,47.544981219356004,"-"]
["ECBCOM202103Greater Glasgow & Clyde",126,42.818342599623598,36.9679877089225,44.056784958281398,47.6011835829608,"-"]
["ECBHCAI202402Greater Glasgow & Clyde",157,35.1903529121698,33.593340009648699,39.081396504218901,41.825424751503903,"-"]
["ECBHCAI202304Greater Glasgow & Clyde",140,31.2712896056467,33.593340009648699,39.071887951426902,41.811161922316003,"-"]
["ECBHCAI202204Greater Glasgow & Clyde",139,31.331781020153802,33.593340009648699,39.096874970233998,41.848642450526697,"-"]
["ECBHCAI202104Greater Glasgow & Clyde",136,32.668042247465202,33.593340009648699,39.274652644503497,42.1153089619309,"-"]
["ECBHCAI202302Greater Glasgow & Clyde",156,35.023045613026802,33.593340009648699,39.085854915039903,41.832112367735498,"-"]
["ECBHCAI202401Greater Glasgow & Clyde",144,31.469631805307898,33.593340009648699,39.012365242859097,41.7218778594643,"-"]
["ECBHCAI202103Greater Glasgow & Clyde",140,33.886900050588302,33.593340009648699,39.296407242719503,42.147940859254902,"-"]
["ECBHCAI202202Greater Glasgow & Clyde",136,31.6245238881422,33.593340009648699,39.183176857782399,41.978095281849299,"-"]
["ECBHCAI202201Greater Glasgow & Clyde",109,26.348040696845199,33.593340009648699,39.292587311366297,42.1422109622251,"-"]
["ECBHCAI202301Greater Glasgow & Clyde",162,36.202735317779599,33.593340009648699,39.073203927958801,41.813135887113901,"-"]
["ECBHCAI202303Greater Glasgow & Clyde",177,39.908818496046301,33.593340009648699,39.097669089945803,41.849833630094302,"-"]
["ECBHCAI202203Greater Glasgow & Clyde",156,35.525111243697701,33.593340009648699,39.125083233962997,41.890954846120103,"-"]
["SABCAUN202202Greater Glasgow & Clyde",21,7.1387452628394703,6.6236670167594598,9.6247674986785192,11.125317739638,"-"]
["SABCAUN202302Greater Glasgow & Clyde",20,6.7988050122280699,6.6236670167594598,9.6247674986785192,11.125317739638,"-"]
["SABCAUN202303Greater Glasgow & Clyde",21,7.0611502056347,6.6236670167594598,9.6084126059001207,11.1007854004705,"-"]
["SABCAUN202103Greater Glasgow & Clyde",18,6.1169060856605197,6.6236670167594598,9.6242724772996002,11.1245752075697,"-"]
["SABCAUN202401Greater Glasgow & Clyde",24,8.1809182503303202,6.6236670167594598,9.6288757832602307,11.131480166510601,"-"]
["SABCAUN202301Greater Glasgow & Clyde",21,7.2180646546488001,6.6236670167594598,9.6413942213775794,11.1502578236866,"-"]
["SABCAUN202201Greater Glasgow & Clyde",17,5.8431951966204601,6.6236670167594598,9.6413942213775794,11.1502578236866,"-"]
["SABCAUN202402Greater Glasgow & Clyde",20,6.8174318752752701,6.6236670167594598,9.6288757832602307,11.131480166510601,"-"]
["SABCAUN202203Greater Glasgow & Clyde",15,5.0436787183104999,6.6236670167594598,9.6084126059001207,11.1007854004705,"-"]
["SABCAUN202204Greater Glasgow & Clyde",19,6.3886597098599598,6.6236670167594598,9.6084126059001207,11.1007854004705,"-"]
["SABCAUN202304Greater Glasgow & Clyde",18,6.0524144619726004,6.6236670167594598,9.6084126059001207,11.1007854004705,"-"]
["SABCAUN202104Greater Glasgow & Clyde",20,6.7965623174005803,6.6236670167594598,9.6242724772996002,11.1245752075697,"-"]
["SABHCAI202402Greater Glasgow & Clyde",83,18.6038171446503,18.346391420742201,22.402105291354101,24.429962226659999,"-"]
["SABHCAI202203Greater Glasgow & Clyde",85,19.356631126373799,18.346391420742201,22.434390104012301,24.478389445647299,"-"]
["SABHCAI202201Greater Glasgow & Clyde",72,17.404210368558299,18.346391420742201,22.558176841772902,24.664069552288201,"-"]
["SABHCAI202303Greater Glasgow & Clyde",65,14.655780803632799,18.346391420742201,22.414130851169102,24.4480005663825,"-"]
["SABHCAI202103Greater Glasgow & Clyde",81,19.605992172126101,18.346391420742201,22.560999798969,24.6683039880823,"-"]
["SABHCAI202104Greater Glasgow & Clyde",80,19.216495439685399,18.346391420742201,22.544922991847599,24.644188777400402,"-"]
["SABHCAI202301Greater Glasgow & Clyde",77,17.207472959685301,18.346391420742201,22.396050917605098,24.420880666036499,"-"]
["SABHCAI202204Greater Glasgow & Clyde",86,19.385130703116701,18.346391420742201,22.413543990896599,24.447120275973699,"-"]
["SABHCAI202202Greater Glasgow & Clyde",72,16.742394999604699,18.346391420742201,22.477321716715601,24.542786864702201,"-"]
["SABHCAI202401Greater Glasgow & Clyde",67,14.6421203538585,18.346391420742201,22.351090684547501,24.3534403164502,"-"]
["SABHCAI202304Greater Glasgow & Clyde",91,20.326338243670399,18.346391420742201,22.3950784013274,24.419421891619901,"-"]
["SABHCAI202302Greater Glasgow & Clyde",91,20.430109940932301,18.346391420742201,22.405400089544599,24.434904423945799,"-"]
["CDICA202104Highland",4,4.9002826053392896,8.1298975865786396,14.4416957239323,17.597594792609101,"-"]
["CDICA202303Highland",3,3.6777103213680702,8.1298975865786396,14.4438407038206,17.6008122624416,"-"]
["CDICA202302Highland",7,8.6756243478426196,8.1298975865786396,14.478437911390699,17.652708073796699,"-"]
["CDICA202402Highland",4,4.9710818180984697,8.1298975865786396,14.487128593522099,17.665744096993901,"-"]
["CDICA202103Highland",6,7.3504239080089402,8.1298975865786396,14.4416957239323,17.597594792609101,"-"]
["CDICA202204Highland",6,7.3554206427361404,8.1298975865786396,14.4438407038206,17.6008122624416,"-"]
["CDICA202301Highland",6,7.5188744347969401,8.1298975865786396,14.513610149094999,17.705466430353201,"-"]
["CDICA202203Highland",10,12.2590344045602,8.1298975865786396,14.4438407038206,17.6008122624416,"-"]
["CDICA202201Highland",4,5.0125829565312898,8.1298975865786396,14.513610149094999,17.705466430353201,"-"]
["CDICA202401Highland",14,17.398786363344701,8.1298975865786396,14.487128593522099,17.665744096993901,"-"]
["CDICA202304Highland",7,8.5813240831921593,8.1298975865786396,14.4438407038206,17.6008122624416,"-"]
["CDICA202202Highland",6,7.43624944100796,8.1298975865786396,14.478437911390699,17.652708073796699,"-"]
["CDIHCAI202301Highland",18,23.581815799816599,22.2503410595208,33.048524490581102,38.447616206111299,"-"]
["CDIHCAI202303Highland",24,31.246745130715599,22.2503410595208,33.014871829278299,38.397137214157098,"-"]
["CDIHCAI202304Highland",17,21.8250911518513,22.2503410595208,32.939705997283198,38.284388466164302,"-"]
["CDIHCAI202202Highland",7,9.6186877361731398,22.2503410595208,33.309121221517003,38.838511302515101,"-"]
["CDIHCAI202204Highland",22,29.126342128606002,22.2503410595208,33.105344482138797,38.532846193447902,"-"]
["CDIHCAI202201Highland",19,27.017034951511501,22.2503410595208,33.500026361206899,39.124869012049999,"-"]
["CDIHCAI202302Highland",14,18.472337674332699,22.2503410595208,33.086995965382002,38.5053234183125,"-"]
["CDIHCAI202103Highland",13,18.482448782291002,22.2503410595208,33.499146657943498,39.123549457154901,"-"]
["CDIHCAI202401Highland",20,24.4863978060188,22.2503410595208,32.6890258665549,37.908368270071897,"-"]
["CDIHCAI202203Highland",14,18.405069281939401,22.2503410595208,33.067246726739199,38.475699560348502,"-"]
["CDIHCAI202402Highland",20,25.05543515027,22.2503410595208,32.809621124830301,38.089261157484998,"-"]
["CDIHCAI202104Highland",14,19.643608811561698,22.2503410595208,33.425274689199803,39.012741504039198,"-"]
["ECBCOM202301Highland",24,30.075497739187799,37.356364859848703,51.040365656927101,57.882366055466299,"-"]
["ECBCOM202103Highland",24,29.4016956320358,37.356364859848703,50.886211308401798,57.651134532678299,"-"]
["ECBCOM202204Highland",33,40.4548135350487,37.356364859848703,50.890809245137497,57.658031437781901,"-"]
["ECBCOM202203Highland",28,34.325296332768602,37.356364859848703,50.890809245137497,57.658031437781901,"-"]
["ECBCOM202304Highland",25,30.647586011400598,37.356364859848703,50.890809245137497,57.658031437781901,"-"]
["ECBCOM202302Highland",35,43.3781217392131,37.356364859848703,50.964971139384701,57.769274279152697,"-"]
["ECBCOM202401Highland",31,38.525884090263197,37.356364859848703,50.983600314813401,57.797218042295697,"-"]
["ECBCOM202303Highland",49,60.069268582345103,37.356364859848703,50.890809245137497,57.658031437781901,"aboveUCL"]
["ECBCOM202104Highland",29,35.527048888709899,37.356364859848703,50.886211308401798,57.651134532678299,"-"]
["ECBCOM202201Highland",28,35.0880806957191,37.356364859848703,51.040365656927101,57.882366055466299,"-"]
["ECBCOM202402Highland",30,37.283113635738502,37.356364859848703,50.983600314813401,57.797218042295697,"-"]
["ECBCOM202202Highland",25,30.984372670866499,37.356364859848703,50.964971139384701,57.769274279152697,"-"]
["ECBHCAI202103Highland",17,24.169356099919,23.486471118383101,35.043520242981899,40.822044805281301,"-"]
["ECBHCAI202204Highland",14,18.534944990931098,23.486471118383101,34.6389269684935,40.215154893548799,"-"]
["ECBHCAI202201Highland",14,19.907288911640102,23.486471118383101,35.044424052167798,40.823400519060201,"-"]
["ECBHCAI202104Highland",23,32.271643047565597,23.486471118383101,34.967624009890002,40.7082004556435,"-"]
["ECBHCAI202304Highland",21,26.9604067169928,23.486471118383101,34.468749602580999,39.959888844680101,"-"]
["ECBHCAI202202Highland",14,19.237375472346301,23.486471118383101,34.8482876661106,40.529195939974301,"-"]
["ECBHCAI202302Highland",18,23.750148438427701,23.486471118383101,34.620075659555198,40.1868779301413,"-"]
["ECBHCAI202401Highland",13,15.916158573912201,23.486471118383101,34.211200251226401,39.573564817648098,"-"]
["ECBHCAI202301Highland",18,23.581815799816599,23.486471118383101,34.580549976558999,40.127589405647001,"-"]
["ECBHCAI202303Highland",23,29.9447974169357,23.486471118383101,34.545975153797002,40.075727171503999,"-"]
["ECBHCAI202402Highland",23,28.8137504228105,23.486471118383101,34.335100101027201,39.759414592349302,"-"]
["ECBHCAI202203Highland",14,18.405069281939401,23.486471118383101,34.599785245682398,40.156442309332,"-"]
["SABCAUN202401Highland",5,6.2138522726230896,9.5706389310356208,16.468205833767101,19.9169892851328,"-"]
["SABCAUN202201Highland",3,3.75943721739847,9.5706389310356208,16.496938201845701,19.9600878372507,"-"]
["SABCAUN202302Highland",3,3.71812472050398,9.5706389310356208,16.458776482943399,19.902845258897301,"-"]
["SABCAUN202304Highland",5,6.1295172022801099,9.5706389310356208,16.4212386691371,19.846538538187801,"-"]
["SABCAUN202303Highland",11,13.4849378450162,9.5706389310356208,16.4212386691371,19.846538538187801,"-"]
["SABCAUN202402Highland",7,8.6993931816723293,9.5706389310356208,16.468205833767101,19.9169892851328,"-"]
["SABCAUN202104Highland",10,12.2507065133482,9.5706389310356208,16.418911375655298,19.8430475979651,"-"]
["SABCAUN202301Highland",8,10.025165913062599,9.5706389310356208,16.496938201845701,19.9600878372507,"-"]
["SABCAUN202103Highland",10,12.2507065133482,9.5706389310356208,16.418911375655298,19.8430475979651,"-"]
["SABCAUN202202Highland",10,12.393749068346599,9.5706389310356208,16.458776482943399,19.902845258897301,"-"]
["SABCAUN202203Highland",8,9.8072275236481801,9.5706389310356208,16.4212386691371,19.846538538187801,"-"]
["SABCAUN202204Highland",11,13.4849378450162,9.5706389310356208,16.4212386691371,19.846538538187801,"-"]
["SABHCAI202104Highland",14,19.643608811561698,16.069690765209501,25.566558205349001,30.314991925418799,"-"]
["SABHCAI202201Highland",18,25.595085743537201,16.069690765209501,25.630084911055398,30.4102819839784,"-"]
["SABHCAI202402Highland",7,8.7694023025944894,16.069690765209501,25.043353282293499,29.530184540835599,"-"]
["SABHCAI202401Highland",13,15.916158573912201,16.069690765209501,24.940867019761299,29.376455147037301,"-"]
["SABHCAI202303Highland",13,16.925320279137601,16.069690765209501,25.217782840153401,29.791828877625399,"-"]
["SABHCAI202204Highland",14,18.534944990931098,16.069690765209501,25.294669810550399,29.9071593332209,"-"]
["SABHCAI202304Highland",10,12.838288912853701,16.069690765209501,25.1539041661369,29.696010866600702,"-"]
["SABHCAI202301Highland",12,15.721210533211099,16.069690765209501,25.2463821029313,29.834727771792199,"-"]
["SABHCAI202103Highland",8,11.373814635256,16.069690765209501,25.629337307037702,30.409160577951798,"-"]
["SABHCAI202302Highland",17,22.430695747403998,16.069690765209501,25.279076569718999,29.8837694719737,"-"]
["SABHCAI202203Highland",5,6.5732390292640597,16.069690765209501,25.2622929441827,29.858594033669299,"-"]
["SABHCAI202202Highland",9,12.366884232222599,16.069690765209501,25.467846738967999,30.166924725847299,"-"]
["CDICA202302Lanarkshire",8,4.8009922927631896,4.78716231887734,8.1770833649443695,9.87204388797789,"-"]
["CDICA202303Lanarkshire",12,7.1232113908932204,4.78716231887734,8.1586095432347499,9.8443331554134499,"-"]
["CDICA202402Lanarkshire",9,5.41591390834314,4.78716231887734,8.1817239161190791,9.8790047147399491,"-"]
["CDICA202401Lanarkshire",7,4.2123774842668897,4.78716231887734,8.1817239161190791,9.8790047147399491,"-"]
["CDICA202203Lanarkshire",6,3.5616056954466102,4.78716231887734,8.1586095432347499,9.8443331554134499,"-"]
["CDICA202201Lanarkshire",7,4.2475445701252204,4.78716231887734,8.1958642346767494,9.9002151925764501,"-"]
["CDICA202301Lanarkshire",5,3.0339604072322999,4.78716231887734,8.1958642346767494,9.9002151925764501,"-"]
["CDICA202104Lanarkshire",9,5.3540240420942,4.78716231887734,8.1622726643114394,9.8498278370284904,"-"]
["CDICA202304Lanarkshire",12,7.1232113908932204,4.78716231887734,8.1586095432347499,9.8443331554134499,"-"]
["CDICA202103Lanarkshire",9,5.3540240420942,4.78716231887734,8.1622726643114394,9.8498278370284904,"-"]
["CDICA202204Lanarkshire",6,3.5616056954466102,4.78716231887734,8.1586095432347499,9.8443331554134499,"-"]
["CDICA202202Lanarkshire",8,4.8009922927631896,4.78716231887734,8.1770833649443695,9.87204388797789,"-"]
["CDIHCAI202304Lanarkshire",30,19.4605534581403,18.931388128493801,25.940099761990702,29.444455578739099,"-"]
["CDIHCAI202103Lanarkshire",29,20.7133979972287,18.931388128493801,26.285799208744301,29.963004748869501,"-"]
["CDIHCAI202301Lanarkshire",25,16.338053941718901,18.931388128493801,25.9661821176304,29.483579112198701,"-"]
["CDIHCAI202202Lanarkshire",22,15.412206467522299,18.931388128493801,26.214924514233299,29.856692707103001,"-"]
["CDIHCAI202402Lanarkshire",36,23.410979749502498,18.931388128493801,25.948845281956402,29.457573858687599,"-"]
["CDIHCAI202204Lanarkshire",29,19.396047219342499,18.931388128493801,26.048091143407301,29.606442650864,"-"]
["CDIHCAI202201Lanarkshire",22,15.3066904152288,18.931388128493801,26.189949183155601,29.8192297104865,"-"]
["CDIHCAI202401Lanarkshire",28,18.017902072702199,18.931388128493801,25.912013329715499,29.402325930326398,"-"]
["CDIHCAI202302Lanarkshire",39,25.695931477516101,18.931388128493801,25.9949069154546,29.526666308934999,"-"]
["CDIHCAI202303Lanarkshire",27,17.822840960849199,18.931388128493801,26.001524800463699,29.536593136448701,"-"]
["CDIHCAI202203Lanarkshire",29,19.650758587042699,18.931388128493801,26.0946674567946,29.676307120944902,"-"]
["CDIHCAI202104Lanarkshire",31,21.424671545962799,18.931388128493801,26.165703955984799,29.782861869730301,"-"]
["ECBCOM202301Lanarkshire",82,49.756950678609698,45.827105948419501,56.373674111591598,61.646958193177703,"-"]
["ECBCOM202304Lanarkshire",51,30.2736484112962,45.827105948419501,56.258407610619599,61.474058441719599,"-"]
["ECBCOM202204Lanarkshire",73,43.3328692946004,45.827105948419501,56.258407610619599,61.474058441719599,"-"]
["ECBCOM202201Lanarkshire",83,50.363742760056098,45.827105948419501,56.373674111591598,61.646958193177703,"-"]
["ECBCOM202402Lanarkshire",69,41.522006630630699,45.827105948419501,56.329923781641597,61.581332698252702,"-"]
["ECBCOM202302Lanarkshire",77,46.209550817845702,45.827105948419501,56.315565855813098,61.5597958095099,"-"]
["ECBCOM202203Lanarkshire",94,55.798489228663499,45.827105948419501,56.258407610619599,61.474058441719599,"-"]
["ECBCOM202202Lanarkshire",72,43.2089306348688,45.827105948419501,56.315565855813098,61.5597958095099,"-"]
["ECBCOM202103Lanarkshire",83,49.375999499313203,45.827105948419501,56.269741354983097,61.491059058264902,"-"]
["ECBCOM202303Lanarkshire",71,42.145667396118199,45.827105948419501,56.258407610619599,61.474058441719599,"-"]
["ECBCOM202401Lanarkshire",80,48.141456963050103,45.827105948419501,56.329923781641597,61.581332698252702,"-"]
["ECBCOM202104Lanarkshire",76,45.2117585776844,45.827105948419501,56.269741354983097,61.491059058264902,"-"]
["ECBHCAI202304Lanarkshire",43,27.893459956667801,38.2583575014636,48.221816147120599,53.203545469949098,"-"]
["ECBHCAI202202Lanarkshire",63,44.134954884268303,38.2583575014636,48.612502081563299,53.789574371613099,"-"]
["ECBHCAI202103Lanarkshire",63,44.9980715112209,38.2583575014636,48.713256275017201,53.940705661793999,"-"]
["ECBHCAI202402Lanarkshire",57,37.067384603378997,38.2583575014636,48.234248621314102,53.222194181239303,"-"]
["ECBHCAI202401Lanarkshire",62,39.896783160983503,38.2583575014636,48.181888979174403,53.143654718029701,"-"]
["ECBHCAI202301Lanarkshire",60,39.211329460125299,38.2583575014636,48.258894355696903,53.259162782813497,"-"]
["ECBHCAI202104Lanarkshire",53,36.629277159226802,38.2583575014636,48.542531019509497,53.684617778532399,"-"]
["ECBHCAI202201Lanarkshire",41,28.5261048647445,38.2583575014636,48.576997599232399,53.736317648116803,"-"]
["ECBHCAI202203Lanarkshire",60,40.656741904226301,38.2583575014636,48.441546807428097,53.533141460410299,"-"]
["ECBHCAI202302Lanarkshire",70,46.120902651951901,38.2583575014636,48.299729012648399,53.320414768240802,"-"]
["ECBHCAI202303Lanarkshire",58,38.286102804787099,38.2583575014636,48.309136879180599,53.334526568039102,"-"]
["ECBHCAI202204Lanarkshire",59,39.460923653145201,38.2583575014636,48.375334756402403,53.433823383871797,"-"]
["SABCAUN202401Lanarkshire",15,9.0265231805718997,9.2252607186698707,13.9375716796569,16.2937271601504,"-"]
["SABCAUN202103Lanarkshire",18,10.7080480841884,9.2252607186698707,13.9105695633386,16.253223985672999,"-"]
["SABCAUN202302Lanarkshire",14,8.4017365123355905,9.2252607186698707,13.931129693102999,16.2840641803196,"-"]
["SABCAUN202201Lanarkshire",14,8.49508914025043,9.2252607186698707,13.957201188865101,16.323171423962801,"-"]
["SABCAUN202303Lanarkshire",18,10.6848170863398,9.2252607186698707,13.9054844396469,16.245596300135499,"-"]
["SABCAUN202301Lanarkshire",13,7.8882970588039703,9.2252607186698707,13.957201188865101,16.323171423962801,"-"]
["SABCAUN202402Lanarkshire",24,14.442437088915,9.2252607186698707,13.9375716796569,16.2937271601504,"-"]
["SABCAUN202203Lanarkshire",9,5.3424085431699098,9.2252607186698707,13.9054844396469,16.245596300135499,"-"]
["SABCAUN202304Lanarkshire",18,10.6848170863398,9.2252607186698707,13.9054844396469,16.245596300135499,"-"]
["SABCAUN202204Lanarkshire",15,8.9040142386165204,9.2252607186698707,13.9054844396469,16.245596300135499,"-"]
["SABCAUN202202Lanarkshire",14,8.4017365123355905,9.2252607186698707,13.931129693102999,16.2840641803196,"-"]
["SABCAUN202104Lanarkshire",17,10.1131565239557,9.2252607186698707,13.9105695633386,16.253223985672999,"-"]
["SABHCAI202104Lanarkshire",24,16.586842487197,18.5923184903716,25.761556691087101,29.3461757914449,"-"]
["SABHCAI202401Lanarkshire",32,20.5918880830883,18.5923184903716,25.510148185793199,28.969063033504099,"-"]
["SABHCAI202204Lanarkshire",24,16.051901147042098,18.5923184903716,25.64500188633,29.171343584309199,"-"]
["SABHCAI202303Lanarkshire",43,28.3845244932042,18.5923184903716,25.5988544395418,29.102122414126899,"-"]
["SABHCAI202301Lanarkshire",27,17.6450982570564,18.5923184903716,25.5638296883522,29.049585287342499,"-"]
["SABHCAI202201Lanarkshire",21,14.6109317599911,18.5923184903716,25.785583815830201,29.382216478559499,"-"]
["SABHCAI202304Lanarkshire",35,22.703979034497099,18.5923184903716,25.537981961369301,29.010813696868201,"-"]
["SABHCAI202203Lanarkshire",27,18.295533856901798,18.5923184903716,25.691159213871,29.2405795756207,"-"]
["SABHCAI202103Lanarkshire",21,14.999357170407,18.5923184903716,25.880571604776101,29.524698161978399,"-"]
["SABHCAI202302Lanarkshire",25,16.471750947125699,18.5923184903716,25.5922960869419,29.092284885226999,"-"]
["SABHCAI202202Lanarkshire",24,16.813316146387901,18.5923184903716,25.810334476695299,29.419342469857199,"-"]
["SABHCAI202402Lanarkshire",32,20.8097597773356,18.5923184903716,25.546648809391701,29.023813968901798,"-"]
["CDICA202401Lothian",23,10.2081786938164,6.9683178026902004,10.485575462836,12.244204292908901,"-"]
["CDICA202104Lothian",24,10.634537091711501,6.9683178026902004,10.482689110609099,12.239874764568601,"-"]
["CDICA202303Lothian",15,6.5671514323946898,6.9683178026902004,10.4616256234362,12.208279533809099,"-"]
["CDICA202302Lothian",15,6.6393179316517701,6.9683178026902004,10.4807671794395,12.236991867814099,"-"]
["CDICA202204Lothian",8,3.5024807639438298,6.9683178026902004,10.4616256234362,12.208279533809099,"-"]
["CDICA202202Lothian",19,8.4098027134255702,6.9683178026902004,10.4807671794395,12.236991867814099,"-"]
["CDICA202203Lothian",15,6.5671514323946898,6.9683178026902004,10.4616256234362,12.208279533809099,"-"]
["CDICA202301Lothian",10,4.47539208726156,6.9683178026902004,10.500226881683201,12.2661814211798,"-"]
["CDICA202402Lothian",23,10.2081786938164,6.9683178026902004,10.485575462836,12.244204292908901,"-"]
["CDICA202103Lothian",22,9.7483256674021792,6.9683178026902004,10.482689110609099,12.239874764568601,"-"]
["CDICA202304Lothian",18,7.8805817188736196,6.9683178026902004,10.4616256234362,12.208279533809099,"-"]
["CDICA202201Lothian",7,3.1327744610830899,6.9683178026902004,10.500226881683201,12.2661814211798,"-"]
["CDIHCAI202301Lothian",29,11.7414135852204,13.384186360172199,18.039909831585501,20.367771567292198,"-"]
["CDIHCAI202202Lothian",28,11.487226614262999,13.384186360172199,18.070750465094601,20.4140325175558,"-"]
["CDIHCAI202103Lothian",43,17.780056565389302,13.384186360172199,18.0891722417275,20.441665182505201,"-"]
["CDIHCAI202304Lothian",45,18.680648093951199,13.384186360172199,18.0984698609882,20.455611611396201,"-"]
["CDIHCAI202401Lothian",29,11.8949471085024,13.384186360172199,18.070250642843,20.413282784178399,"-"]
["CDIHCAI202402Lothian",39,16.354601304174601,13.384186360172199,18.1223893269085,20.491490810276701,"-"]
["CDIHCAI202303Lothian",30,12.6126732140455,13.384186360172199,18.128451231877701,20.5005836677304,"-"]
["CDIHCAI202104Lothian",28,11.4197153228109,13.384186360172199,18.0569585269855,20.393344610392202,"-"]
["CDIHCAI202203Lothian",30,12.273804020079901,13.384186360172199,18.064284369872201,20.404333374722199,"-"]
["CDIHCAI202204Lothian",29,11.6535129313809,13.384186360172199,18.022449840581,20.341581580785402,"-"]
["CDIHCAI202201Lothian",36,14.979652638499401,13.384186360172199,18.1040081850146,20.463919097435699,"-"]
["CDIHCAI202302Lothian",32,13.332277861335999,13.384186360172199,18.107025700835301,20.468445371166901,"-"]
["ECBCOM202103Lothian",83,36.777774108835501,33.034988101642398,40.686913853712603,44.512876729747603,"-"]
["ECBCOM202203Lothian",81,35.4626177349313,33.034988101642398,40.641051813021498,44.444083668711102,"-"]
["ECBCOM202201Lothian",83,37.145754324271003,33.034988101642398,40.725099267363497,44.5701548502241,"-"]
["ECBCOM202401Lothian",72,31.956037650207701,33.034988101642398,40.6931983783116,44.522303516646097,"-"]
["ECBCOM202402Lothian",55,24.410862093908701,33.034988101642398,40.6931983783116,44.522303516646097,"-"]
["ECBCOM202202Lothian",75,33.196589658258802,33.034988101642398,40.6827291864358,44.506599728832498,"-"]
["ECBCOM202204Lothian",57,24.955175443099801,33.034988101642398,40.641051813021498,44.444083668711102,"-"]
["ECBCOM202303Lothian",82,35.900427830424299,33.034988101642398,40.641051813021498,44.444083668711102,"-"]
["ECBCOM202301Lothian",71,31.775283819557099,33.034988101642398,40.725099267363497,44.5701548502241,"-"]
["ECBCOM202302Lothian",74,32.753968462815401,33.034988101642398,40.6827291864358,44.506599728832498,"-"]
["ECBCOM202104Lothian",79,35.005351260216898,33.034988101642398,40.686913853712603,44.512876729747603,"-"]
["ECBCOM202304Lothian",63,27.5820360160577,33.034988101642398,40.641051813021498,44.444083668711102,"-"]
["ECBHCAI202304Lothian",79,32.7949155427143,29.658531214571902,36.676226845240201,40.185074660574301,"-"]
["ECBHCAI202401Lothian",79,32.403476605920403,29.658531214571902,36.634219638027403,40.1220638497552,"-"]
["ECBHCAI202302Lothian",79,32.914060970173203,29.658531214571902,36.688963092413601,40.204179031334398,"-"]
["ECBHCAI202303Lothian",69,29.009148392304599,29.658531214571902,36.720857197966403,40.252020189663597,"-"]
["ECBHCAI202202Lothian",58,23.7949694152591,29.658531214571902,36.634963674831901,40.123179904961802,"-"]
["ECBHCAI202103Lothian",82,33.906154380509797,29.658531214571902,36.662386383152999,40.164313967443597,"-"]
["ECBHCAI202203Lothian",60,24.547608040159901,29.658531214571902,36.625338227363102,40.108741733758798,"-"]
["ECBHCAI202301Lothian",87,35.224240755661199,29.658531214571902,36.589054221362197,40.054315724757302,"-"]
["ECBHCAI202104Lothian",58,23.655124597251099,29.658531214571902,36.614432957112101,40.092383828382097,"-"]
["ECBHCAI202201Lothian",61,25.382189193012799,29.658531214571902,36.684471209906498,40.197441207573803,"-"]
["ECBHCAI202402Lothian",65,27.257668840291,29.658531214571902,36.711833429241302,40.238484536576003,"-"]
["ECBHCAI202204Lothian",70,28.129169144712499,29.658531214571902,36.563063229822802,40.015329237448199,"-"]
["SABCAUN202103Lothian",19,8.4190085309382496,9.6597844672213409,13.797564391581,15.866454353760799,"-"]
["SABCAUN202302Lothian",18,7.9671815179821204,9.6597844672213409,13.7953015321638,15.863060064635,"-"]
["SABCAUN202301Lothian",18,8.0557057570708093,9.6597844672213409,13.818213159372,15.8974275054473,"-"]
["SABCAUN202402Lothian",25,11.095846406322099,9.6597844672213409,13.800962749139901,15.8715518900992,"-"]
["SABCAUN202401Lothian",21,9.3205109813105906,9.6597844672213409,13.800962749139901,15.8715518900992,"-"]
["SABCAUN202204Lothian",20,8.7562019098595805,9.6597844672213409,13.7727644866407,15.8292544963504,"-"]
["SABCAUN202304Lothian",27,11.8208725783104,9.6597844672213409,13.7727644866407,15.8292544963504,"-"]
["SABCAUN202203Lothian",28,12.258682673803399,9.6597844672213409,13.7727644866407,15.8292544963504,"-"]
["SABCAUN202303Lothian",15,6.5671514323946898,9.6597844672213409,13.7727644866407,15.8292544963504,"-"]
["SABCAUN202104Lothian",21,9.3052199552475408,9.6597844672213409,13.797564391581,15.866454353760799,"-"]
["SABCAUN202201Lothian",19,8.50324496579697,9.6597844672213409,13.818213159372,15.8974275054473,"-"]
["SABCAUN202202Lothian",29,12.8360146678601,9.6597844672213409,13.7953015321638,15.863060064635,"-"]
["SABHCAI202304Lothian",48,19.926024633548,15.6206185283244,20.713561600087601,23.260033135969199,"-"]
["SABHCAI202401Lothian",34,13.945800058244201,15.6206185283244,20.6830757645373,23.2143043826438,"-"]
["SABHCAI202301Lothian",48,19.4340638651924,15.6206185283244,20.650297925771699,23.165137624495301,"-"]
["SABHCAI202201Lothian",25,10.4025365545135,15.6206185283244,20.719544772074201,23.269007893949201,"-"]
["SABHCAI202302Lothian",31,12.915644178169201,15.6206185283244,20.722804660091299,23.273897725974699,"-"]
["SABHCAI202203Lothian",40,16.365072026773301,15.6206185283244,20.676630269991701,23.2046361408254,"-"]
["SABHCAI202103Lothian",44,18.193546252956502,15.6206185283244,20.703517179638698,23.2449665052958,"-"]
["SABHCAI202204Lothian",42,16.877501486827502,15.6206185283244,20.631435517474799,23.136844012049998,"-"]
["SABHCAI202104Lothian",26,10.604021371181499,15.6206185283244,20.6687160024752,23.192764739550501,"-"]
["SABHCAI202202Lothian",40,16.4103237346615,15.6206185283244,20.683615733394301,23.215114335929201,"-"]
["SABHCAI202402Lothian",34,14.2578575472292,15.6206185283244,20.739402319725698,23.298794215426401,"-"]
["SABHCAI202303Lothian",40,16.8168976187273,15.6206185283244,20.745951127600499,23.308617427238602,"-"]
["CDICA202202Orkney",0,0,6.0516391135660097]
["CDICA202401Orkney",1,18.265113632961,6.0516391135660097]
["CDICA202303Orkney",0,0,6.0516391135660097]
["CDICA202302Orkney",0,0,6.0516391135660097]
["CDICA202204Orkney",0,0,6.0516391135660097]
["CDICA202203Orkney",0,0,6.0516391135660097]
["CDICA202402Orkney",0,0,6.0516391135660097]
["CDICA202104Orkney",0,0,6.0516391135660097]
["CDICA202301Orkney",0,0,6.0516391135660097]
["CDICA202201Orkney",1,18.417600161469402,6.0516391135660097]
["CDICA202103Orkney",1,18.025403472729799,6.0516391135660097]
["CDICA202304Orkney",0,0,6.0516391135660097]
["CDIHCAI202402Orkney",0,0,15.5231294628997]
["CDIHCAI202301Orkney",1,30.266343825665899,15.5231294628997]
["CDIHCAI202303Orkney",0,0,15.5231294628997]
["CDIHCAI202104Orkney",0,0,15.5231294628997]
["CDIHCAI202204Orkney",1,31.735956839098701,15.5231294628997]
["CDIHCAI202103Orkney",0,0,15.5231294628997]
["CDIHCAI202202Orkney",2,61.690314620604603,15.5231294628997]
["CDIHCAI202304Orkney",1,30.3766707168894,15.5231294628997]
["CDIHCAI202201Orkney",0,0,15.5231294628997]
["CDIHCAI202302Orkney",0,0,15.5231294628997]
["CDIHCAI202203Orkney",1,29.515938606847701,15.5231294628997]
["CDIHCAI202401Orkney",0,0,15.5231294628997]
["ECBCOM202402Orkney",1,18.265113632961,49.926022686919602]
["ECBCOM202202Orkney",2,36.430417901807502,49.926022686919602]
["ECBCOM202203Orkney",4,72.068870197054096,49.926022686919602]
["ECBCOM202301Orkney",5,92.088000807346802,49.926022686919602]
["ECBCOM202201Orkney",1,18.417600161469402,49.926022686919602]
["ECBCOM202103Orkney",2,36.050806945459598,49.926022686919602]
["ECBCOM202104Orkney",1,18.025403472729799,49.926022686919602]
["ECBCOM202303Orkney",4,72.068870197054096,49.926022686919602]
["ECBCOM202304Orkney",5,90.086087746317602,49.926022686919602]
["ECBCOM202204Orkney",4,72.068870197054096,49.926022686919602]
["ECBCOM202401Orkney",0,0,49.926022686919602]
["ECBCOM202302Orkney",1,18.215208950903801,49.926022686919602]
["ECBHCAI202203Orkney",1,29.515938606847701,49.156576632515801]
["ECBHCAI202103Orkney",2,74.183976261127597,49.156576632515801]
["ECBHCAI202301Orkney",2,60.532687651331699,49.156576632515801]
["ECBHCAI202304Orkney",1,30.3766707168894,49.156576632515801]
["ECBHCAI202104Orkney",0,0,49.156576632515801]
["ECBHCAI202303Orkney",1,28.851702250432801,49.156576632515801]
["ECBHCAI202204Orkney",4,126.943827356395,49.156576632515801]
["ECBHCAI202401Orkney",2,66.800267201068806,49.156576632515801]
["ECBHCAI202202Orkney",2,61.690314620604603,49.156576632515801]
["ECBHCAI202201Orkney",1,29.222676797194602,49.156576632515801]
["ECBHCAI202302Orkney",1,28.826751225136899,49.156576632515801]
["ECBHCAI202402Orkney",3,95.724313975749794,49.156576632515801]
["SABCAUN202303Orkney",0,0,7.5645488919575197]
["SABCAUN202204Orkney",1,18.017217549263499,7.5645488919575197]
["SABCAUN202203Orkney",1,18.017217549263499,7.5645488919575197]
["SABCAUN202401Orkney",0,0,7.5645488919575197]
["SABCAUN202104Orkney",0,0,7.5645488919575197]
["SABCAUN202103Orkney",0,0,7.5645488919575197]
["SABCAUN202302Orkney",1,18.215208950903801,7.5645488919575197]
["SABCAUN202304Orkney",0,0,7.5645488919575197]
["SABCAUN202201Orkney",2,36.835200322938697,7.5645488919575197]
["SABCAUN202301Orkney",0,0,7.5645488919575197]
["SABCAUN202402Orkney",1,18.265113632961,7.5645488919575197]
["SABCAUN202202Orkney",0,0,7.5645488919575197]
["SABHCAI202104Orkney",0,0,12.9359412190831]
["SABHCAI202304Orkney",0,0,12.9359412190831]
["SABHCAI202202Orkney",1,30.845157310302302,12.9359412190831]
["SABHCAI202302Orkney",0,0,12.9359412190831]
["SABHCAI202402Orkney",0,0,12.9359412190831]
["SABHCAI202401Orkney",0,0,12.9359412190831]
["SABHCAI202201Orkney",2,58.445353594389204,12.9359412190831]
["SABHCAI202103Orkney",0,0,12.9359412190831]
["SABHCAI202303Orkney",0,0,12.9359412190831]
["SABHCAI202301Orkney",0,0,12.9359412190831]
["SABHCAI202204Orkney",0,0,12.9359412190831]
["SABHCAI202203Orkney",2,59.031877213695402,12.9359412190831]
["CDICA202103Scotland",87,6.3702023379274504,5.1983074857843903,6.4322018067721896,7.0491489672660901,"-"]
["CDICA202104Scotland",67,4.9057880073694102,5.1983074857843903,6.4322018067721896,7.0491489672660901,"-"]
["CDICA202201Scotland",43,3.2011470692014798,5.1983074857843903,6.4424770238064504,7.0645617928174804,"-"]
["CDICA202202Scotland",66,4.8593952443283399,5.1983074857843903,6.4356220430554796,7.0542793216910296,"-"]
["CDICA202203Scotland",82,5.9718062109977001,5.1983074857843903,6.4288791342327896,7.0441649584570003,"-"]
["CDICA202204Scotland",44,3.2043838205353499,5.1983074857843903,6.4288791342327896,7.0441649584570003,"-"]
["CDICA202301Scotland",57,4.2433809987089397,5.1983074857843903,6.4424770238064504,7.0645617928174804,"-"]
["CDICA202302Scotland",70,5.1539040470149002,5.1983074857843903,6.4356220430554796,7.0542793216910296,"-"]
["CDICA202303Scotland",86,6.2631138310463701,5.1983074857843903,6.4288791342327896,7.0441649584570003,"-"]
["CDICA202304Scotland",79,5.7533254959612004,5.1983074857843903,6.4288791342327896,7.0441649584570003,"-"]
["CDICA202401Scotland",94,6.9399183887867197,5.1983074857843903,6.43731583516574,7.0568200098564198,"-"]
["CDICA202402Scotland",96,7.0875762268460099,5.1983074857843903,6.43731583516574,7.0568200098564198,"aboveUCL"]
["CDIHCAI202103Scotland",245,16.8230061819398,14.1310764929241,16.101167911907002,17.0862136213984,"-"]
["CDIHCAI202104Scotland",197,13.187781286337501,14.1310764929241,16.076303874510899,17.048917565304301,"-"]
["CDIHCAI202201Scotland",187,12.626143273641601,14.1310764929241,16.0846608657701,17.061453052192999,"-"]
["CDIHCAI202202Scotland",217,14.310859568260501,14.1310764929241,16.061802347875702,17.0271652753515,"-"]
["CDIHCAI202203Scotland",202,13.0681998295958,14.1310764929241,16.043349161956801,16.999485496473199,"-"]
["CDIHCAI202204Scotland",212,13.5113431549751,14.1310764929241,16.0290884799089,16.9780944734012,"-"]
["CDIHCAI202301Scotland",211,13.4487760976368,14.1310764929241,16.029170741813399,16.978217866258099,"-"]
["CDIHCAI202302Scotland",244,15.7963360269107,14.1310764929241,16.044014464651301,17.000483450514899,"-"]
["CDIHCAI202303Scotland",239,15.5420467640028,14.1310764929241,16.048300129230199,17.006911947383198,"-"]
["CDIHCAI202304Scotland",223,14.238574661211301,14.1310764929241,16.030835211084099,16.9807145701641,"-"]
["CDIHCAI202401Scotland",201,12.635859059250899,14.1310764929241,16.0161225995964,16.9586456529325,"-"]
["CDIHCAI202402Scotland",264,16.954867299263,14.1310764929241,16.036374237623999,16.989023109973999,"-"]
["ECBCOM202103Scotland",566,41.442925554792403,38.782190359197102,42.152448371054298,43.8375773769829,"-"]
["ECBCOM202104Scotland",549,40.198173373818001,38.782190359197102,42.152448371054298,43.8375773769829,"-"]
["ECBCOM202201Scotland",528,39.307108198567001,38.782190359197102,42.180514091063003,43.879675956996003,"-"]
["ECBCOM202202Scotland",529,38.9487891552983,38.782190359197102,42.161790401842602,43.851590423165398,"-"]
["ECBCOM202203Scotland",577,42.021124192020402,38.782190359197102,42.143372825801997,43.823964059104398,"-"]
["ECBCOM202204Scotland",495,36.049317981022703,38.782190359197102,42.143372825801997,43.823964059104398,"-"]
["ECBCOM202301Scotland",497,36.9993044975147,38.782190359197102,42.180514091063003,43.879675956996003,"-"]
["ECBCOM202302Scotland",502,36.960854737163999,38.782190359197102,42.161790401842602,43.851590423165398,"-"]
["ECBCOM202303Scotland",575,41.875470381996102,38.782190359197102,42.143372825801997,43.823964059104398,"-"]
["ECBCOM202304Scotland",442,32.189492015377901,38.782190359197102,42.143372825801997,43.823964059104398,"-"]
["ECBCOM202401Scotland",504,37.209775190941599,38.782190359197102,42.166416824327001,43.858530056892,"-"]
["ECBCOM202402Scotland",490,36.176170324526502,38.782190359197102,42.166416824327001,43.858530056892,"-"]
["ECBHCAI202103Scotland",604,41.473860138333201,36.091459217882999,39.239939490189698,40.814179626343098,"aboveUCL"]
["ECBHCAI202104Scotland",509,34.074013577389799,36.091459217882999,39.200203298012497,40.754575338077203,"-"]
["ECBHCAI202201Scotland",452,30.5188062015295,36.091459217882999,39.213558933117397,40.774608790734597,"-"]
["ECBHCAI202202Scotland",528,34.820893327380404,36.091459217882999,39.177027840219402,40.7198121513876,"-"]
["ECBHCAI202203Scotland",560,36.228672794919198,36.091459217882999,39.147537080924202,40.675576012444701,"-"]
["ECBHCAI202204Scotland",549,34.989280151327002,36.091459217882999,39.124746526300598,40.641390180509497,"-"]
["ECBHCAI202301Scotland",588,37.478105902419301,36.091459217882999,39.1248779922728,40.641587379467801,"-"]
["ECBHCAI202302Scotland",581,37.613406687029297,36.091459217882999,39.148600327222503,40.677170881892202,"-"]
["ECBHCAI202303Scotland",580,37.717100933563302,36.091459217882999,39.155449415671001,40.687444514565001,"-"]
["ECBHCAI202304Scotland",544,34.734460160085,36.091459217882999,39.127538045817602,40.645577459784903,"-"]
["ECBHCAI202401Scotland",565,35.518708300879297,36.091459217882999,39.104025245052703,40.610308258637502,"-"]
["ECBHCAI202402Scotland",614,39.432911067225398,36.091459217882999,39.136390181114798,40.658855662730701,"-"]
["SABCAUN202103Scotland",132,9.6651345816830201,10.0108748401148,11.7231872285117,12.5793434227101,"-"]
["SABCAUN202104Scotland",136,9.9580174477946297,10.0108748401148,11.7231872285117,12.5793434227101,"-"]
["SABCAUN202201Scotland",130,9.6778864882835407,10.0108748401148,11.7374464572981,12.6007322658897,"-"]
["SABCAUN202202Scotland",139,10.2341808933582,10.0108748401148,11.7279335936254,12.586462970380699,"-"]
["SABCAUN202203Scotland",121,8.8120555064722197,10.0108748401148,11.7185762555499,12.5724269632674,"-"]
["SABCAUN202204Scotland",131,9.5403245565938892,10.0108748401148,11.7185762555499,12.5724269632674,"-"]
["SABCAUN202301Scotland",133,9.9012223303208504,10.0108748401148,11.7374464572981,12.6007322658897,"-"]
["SABCAUN202302Scotland",140,10.3078080940298,10.0108748401148,11.7279335936254,12.586462970380699,"-"]
["SABCAUN202303Scotland",140,10.1957667017034,10.0108748401148,11.7185762555499,12.5724269632674,"-"]
["SABCAUN202304Scotland",137,9.9772859866668906,10.0108748401148,11.7185762555499,12.5724269632674,"-"]
["SABCAUN202401Scotland",148,10.9266800163876,10.0108748401148,11.7302841200557,12.5899887600262,"-"]
["SABCAUN202402Scotland",136,10.040732988031801,10.0108748401148,11.7302841200557,12.5899887600262,"-"]
["SABHCAI202103Scotland",268,18.402308803101501,18.007404333679801,20.231350722793501,21.3433239173504,"-"]
["SABHCAI202104Scotland",259,17.338250523662001,18.007404333679801,20.203282844494598,21.301222099901999,"-"]
["SABHCAI202201Scotland",241,16.272195341965901,18.007404333679801,20.212716670943198,21.315372839574898,"-"]
["SABHCAI202202Scotland",262,17.278549340480399,18.007404333679801,20.1869127321809,21.2766669314314,"-"]
["SABHCAI202203Scotland",264,17.079231460461902,18.007404333679801,20.1660817718526,21.245420490939001,"-"]
["SABHCAI202204Scotland",302,19.247290720766401,18.007404333679801,20.1499835380137,21.2212731401806,"-"]
["SABHCAI202301Scotland",300,19.121482603275101,18.007404333679801,20.150076399727499,21.2214124327514,"-"]
["SABHCAI202302Scotland",283,18.321160227933401,18.007404333679801,20.166832801734099,21.246547035761299,"-"]
["SABHCAI202303Scotland",278,18.078196654363101,18.007404333679801,20.1716706930996,21.253803872809598,"-"]
["SABHCAI202304Scotland",301,19.2188832871059,18.007404333679801,20.1519553432063,21.224230847969601,"-"]
["SABHCAI202401Scotland",271,17.036406990333301,18.007404333679801,20.135346946825699,21.199318253398602,"-"]
["SABHCAI202402Scotland",270,17.340205192428101,18.007404333679801,20.158208097750599,21.233609979785999,"-"]
["CDICA202303Shetland",0,0,2.8965729296796998]
["CDICA202202Shetland",0,0,2.8965729296796998]
["CDICA202402Shetland",1,17.471668210156501,2.8965729296796998]
["CDICA202302Shetland",0,0,2.8965729296796998]
["CDICA202104Shetland",0,0,2.8965729296796998]
["CDICA202401Shetland",0,0,2.8965729296796998]
["CDICA202201Shetland",0,0,2.8965729296796998]
["CDICA202103Shetland",0,0,2.8965729296796998]
["CDICA202203Shetland",0,0,2.8965729296796998]
["CDICA202204Shetland",2,34.469081705889003,2.8965729296796998]
["CDICA202304Shetland",0,0,2.8965729296796998]
["CDICA202301Shetland",0,0,2.8965729296796998]
["CDIHCAI202303Shetland",2,91.743119266055004,51.975051975051997]
["CDIHCAI202301Shetland",1,40.783034257748803,51.975051975051997]
["CDIHCAI202204Shetland",0,0,51.975051975051997]
["CDIHCAI202304Shetland",3,113.59333585763,51.975051975051997]
["CDIHCAI202103Shetland",1,40.716612377850197,51.975051975051997]
["CDIHCAI202402Shetland",1,41.000410004099997,51.975051975051997]
["CDIHCAI202203Shetland",0,0,51.975051975051997]
["CDIHCAI202201Shetland",2,87.527352297592998,51.975051975051997]
["CDIHCAI202104Shetland",0,0,51.975051975051997]
["CDIHCAI202202Shetland",1,41.614648356221402,51.975051975051997]
["CDIHCAI202401Shetland",3,127.01100762066,51.975051975051997]
["CDIHCAI202302Shetland",0,0,51.975051975051997]
["ECBCOM202201Shetland",1,17.617530649676599,28.965729296797001]
["ECBCOM202203Shetland",1,17.234540852944502,28.965729296797001]
["ECBCOM202303Shetland",2,34.469081705889003,28.965729296797001]
["ECBCOM202304Shetland",0,0,28.965729296797001]
["ECBCOM202402Shetland",0,0,28.965729296797001]
["ECBCOM202202Shetland",2,34.847862823536197,28.965729296797001]
["ECBCOM202301Shetland",1,17.617530649676599,28.965729296797001]
["ECBCOM202401Shetland",1,17.471668210156501,28.965729296797001]
["ECBCOM202204Shetland",3,51.703622558833501,28.965729296797001]
["ECBCOM202302Shetland",1,17.423931411768098,28.965729296797001]
["ECBCOM202103Shetland",1,17.294643872483999,28.965729296797001]
["ECBCOM202104Shetland",4,69.178575489935994,28.965729296797001]
["ECBHCAI202104Shetland",4,170.64846416382301,86.625086625086595]
["ECBHCAI202301Shetland",1,40.783034257748803,86.625086625086595]
["ECBHCAI202304Shetland",1,37.864445285876599,86.625086625086595]
["ECBHCAI202103Shetland",1,40.716612377850197,86.625086625086595]
["ECBHCAI202202Shetland",4,166.458593424886,86.625086625086595]
["ECBHCAI202401Shetland",3,127.01100762066,86.625086625086595]
["ECBHCAI202303Shetland",1,45.871559633027502,86.625086625086595]
["ECBHCAI202201Shetland",1,43.763676148796499,86.625086625086595]
["ECBHCAI202203Shetland",3,107.604017216643,86.625086625086595]
["ECBHCAI202302Shetland",1,48.875855327468201,86.625086625086595]
["ECBHCAI202204Shetland",3,104.239054899236,86.625086625086595]
["ECBHCAI202402Shetland",4,164.00164001639999,86.625086625086595]
["SABCAUN202103Shetland",1,17.294643872483999,23.172583437437599]
["SABCAUN202302Shetland",3,52.271794235304199,23.172583437437599]
["SABCAUN202204Shetland",0,0,23.172583437437599]
["SABCAUN202402Shetland",1,17.471668210156501,23.172583437437599]
["SABCAUN202401Shetland",2,34.943336420313003,23.172583437437599]
["SABCAUN202303Shetland",4,68.938163411778007,23.172583437437599]
["SABCAUN202301Shetland",0,0,23.172583437437599]
["SABCAUN202203Shetland",1,17.234540852944502,23.172583437437599]
["SABCAUN202104Shetland",1,17.294643872483999,23.172583437437599]
["SABCAUN202304Shetland",2,34.469081705889003,23.172583437437599]
["SABCAUN202201Shetland",0,0,23.172583437437599]
["SABCAUN202202Shetland",1,17.423931411768098,23.172583437437599]
["SABHCAI202103Shetland",2,81.433224755700294,62.370062370062399]
["SABHCAI202401Shetland",3,127.01100762066,62.370062370062399]
["SABHCAI202304Shetland",2,75.728890571753098,62.370062370062399]
["SABHCAI202303Shetland",2,91.743119266055004,62.370062370062399]
["SABHCAI202302Shetland",1,48.875855327468201,62.370062370062399]
["SABHCAI202402Shetland",0,0,62.370062370062399]
["SABHCAI202201Shetland",1,43.763676148796499,62.370062370062399]
["SABHCAI202202Shetland",1,41.614648356221402,62.370062370062399]
["SABHCAI202301Shetland",2,81.566068515497605,62.370062370062399]
["SABHCAI202204Shetland",3,104.239054899236,62.370062370062399]
["SABHCAI202104Shetland",1,42.662116040955603,62.370062370062399]
["SABHCAI202203Shetland",0,0,62.370062370062399]
["CDICA202303Tayside",6,5.7480375307480598,3.9447969873661699,7.8327991422492103,9.7768002196907293,"-"]
["CDICA202202Tayside",2,1.93706759277957,3.9447969873661699,7.8541034231221296,9.8087566410001195,"-"]
["CDICA202401Tayside",3,2.9135619409204998,3.9447969873661699,7.8594549744786999,9.8167839680349704,"-"]
["CDICA202301Tayside",8,7.8343622641306903,3.9447969873661699,7.8757617962571196,9.8412442007025902,"-"]
["CDICA202302Tayside",4,3.8741351855591302,3.9447969873661699,7.8541034231221296,9.8087566410001195,"-"]
["CDICA202402Tayside",7,6.7983111954811699,3.9447969873661699,7.8594549744786999,9.8167839680349704,"-"]
["CDICA202201Tayside",2,1.9585905660326699,3.9447969873661699,7.8757617962571196,9.8412442007025902,"-"]
["CDICA202304Tayside",6,5.7480375307480598,3.9447969873661699,7.8327991422492103,9.7768002196907293,"-"]
["CDICA202204Tayside",1,0.95800625512467696,3.9447969873661699,7.8327991422492103,9.7768002196907293,"-"]
["CDICA202203Tayside",7,6.7060437858727404,3.9447969873661699,7.8327991422492103,9.7768002196907293,"-"]
["CDICA202103Tayside",5,4.8069780991443798,3.9447969873661699,7.8396708208904302,9.7871077376525601,"-"]
["CDICA202104Tayside",1,0.961395619828877,3.9447969873661699,7.8396708208904302,9.7871077376525601,"-"]
["CDIHCAI202203Tayside",13,10.7958178662481,11.702924454430899,17.937879044667099,21.055356339785199,"-"]
["CDIHCAI202103Tayside",11,9.8112669021370706,11.702924454430899,18.164573986526101,21.395398752573598,"-"]
["CDIHCAI202204Tayside",10,8.1010361225200693,11.702924454430899,17.8610350005147,20.9400902735565,"-"]
["CDIHCAI202202Tayside",14,11.874167748064099,11.702924454430899,18.004001190419,21.154539558412999,"-"]
["CDIHCAI202304Tayside",22,18.2521114374367,11.702924454430899,17.934852235640701,21.0508161262456,"-"]
["CDIHCAI202201Tayside",12,10.2450268931956,11.702924454430899,18.024758992091702,21.185676260922101,"-"]
["CDIHCAI202402Tayside",8,6.9708878297012102,11.702924454430899,18.089620535007601,21.2829685752959,"-"]
["CDIHCAI202301Tayside",21,17.2244094488189,11.702924454430899,17.899328366251201,20.997530322161399,"-"]
["CDIHCAI202401Tayside",6,4.9641341309042204,11.702924454430899,17.9262615397164,21.0379300823591,"-"]
["CDIHCAI202303Tayside",17,14.5599054462611,11.702924454430899,18.034794794251098,21.200729964161201,"-"]
["CDIHCAI202104Tayside",12,10.295391954151199,11.702924454430899,18.0402791672478,21.208956523656301,"-"]
["CDIHCAI202302Tayside",17,14.5455789996064,11.702924454430899,18.031678856148499,21.196056057007201,"-"]
["ECBCOM202202Tayside",41,39.709885651981097,38.723415324961799,50.971670131890598,57.095797535354997,"-"]
["ECBCOM202201Tayside",41,40.151106603669803,38.723415324961799,51.0395280185056,57.1975843652775,"-"]
["ECBCOM202304Tayside",43,41.194268970361101,38.723415324961799,50.904921652359,56.995674816057601,"-"]
["ECBCOM202301Tayside",34,33.296039622555497,38.723415324961799,51.0395280185056,57.1975843652775,"-"]
["ECBCOM202303Tayside",47,45.026293990859799,38.723415324961799,50.904921652359,56.995674816057601,"-"]
["ECBCOM202104Tayside",44,42.301407272470598,38.723415324961799,50.926451320685601,57.027969318547498,"-"]
["ECBCOM202103Tayside",39,37.494429173326203,38.723415324961799,50.926451320685601,57.027969318547498,"-"]
["ECBCOM202204Tayside",35,33.530218929363699,38.723415324961799,50.904921652359,56.995674816057601,"-"]
["ECBCOM202402Tayside",42,40.789867172887,38.723415324961799,50.9884370867725,57.1209479676778,"-"]
["ECBCOM202203Tayside",28,26.824175143491001,38.723415324961799,50.904921652359,56.995674816057601,"-"]
["ECBCOM202401Tayside",48,46.616991054727997,38.723415324961799,50.9884370867725,57.1209479676778,"-"]
["ECBCOM202302Tayside",36,34.867216670032199,38.723415324961799,50.971670131890598,57.095797535354997,"-"]
["ECBHCAI202103Tayside",61,54.407934639123802,46.3152101135964,59.169793845805799,65.597085711910495,"-"]
["ECBHCAI202304Tayside",56,46.459920022566301,46.3152101135964,58.712793281600298,64.911584865602293,"-"]
["ECBHCAI202202Tayside",49,41.5595871182243,46.3152101135964,58.850355838154499,65.117928700433595,"-"]
["ECBHCAI202303Tayside",51,43.679716338783301,46.3152101135964,58.911615576385501,65.209818307780097,"-"]
["ECBHCAI202401Tayside",59,48.8139856205581,46.3152101135964,58.695703246071702,64.885949812309406,"-"]
["ECBHCAI202203Tayside",59,48.996404162203,46.3152101135964,58.718814711558402,64.920617010539402,"-"]
["ECBHCAI202301Tayside",53,43.471128608923898,46.3152101135964,58.6421233154731,64.805579916411403,"-"]
["ECBHCAI202302Tayside",64,54.7598268220477,46.3152101135964,58.9054168361032,65.200520197356596,"-"]
["ECBHCAI202204Tayside",64,51.846631184128498,46.3152101135964,58.565943808397698,64.691310655798404,"-"]
["ECBHCAI202201Tayside",50,42.687612054981599,46.3152101135964,58.8916506961274,65.179870987392903,"-"]
["ECBHCAI202104Tayside",44,37.749770498554398,46.3152101135964,58.922525999730901,65.226183942798201,"-"]
["ECBHCAI202402Tayside",62,54.0243806801844,46.3152101135964,59.020684022721603,65.373420977284198,"-"]
["SABCAUN202402Tayside",14,13.596622390962301,10.465787925665399,16.842069117913599,20.030209714037699,"-"]
["SABCAUN202302Tayside",16,15.496540742236499,10.465787925665399,16.833352393138,20.017134626874299,"-"]
["SABCAUN202204Tayside",13,12.454081316620799,10.465787925665399,16.798651510994102,19.965083303658499,"-"]
["SABCAUN202303Tayside",14,13.4120875717455,10.465787925665399,16.798651510994102,19.965083303658499,"-"]
["SABCAUN202301Tayside",12,11.751543396196,10.465787925665399,16.868630028561,20.070051080008898,"-"]
["SABCAUN202401Tayside",12,11.654247763681999,10.465787925665399,16.842069117913599,20.030209714037699,"-"]
["SABCAUN202103Tayside",10,9.6139561982887702,10.465787925665399,16.809844252588299,19.981872416049701,"-"]
["SABCAUN202104Tayside",12,11.5367474379465,10.465787925665399,16.809844252588299,19.981872416049701,"-"]
["SABCAUN202304Tayside",5,4.7900312756233898,10.465787925665399,16.798651510994102,19.965083303658499,"-"]
["SABCAUN202203Tayside",2,1.9160125102493499,10.465787925665399,16.798651510994102,19.965083303658499,"-"]
["SABCAUN202202Tayside",8,7.7482703711182701,10.465787925665399,16.833352393138,20.017134626874299,"-"]
["SABCAUN202201Tayside",9,8.8136575471470309,10.465787925665399,16.868630028561,20.070051080008898,"-"]
["SABHCAI202402Tayside",29,25.269468382666901,23.902336612989298,33.0297816935391,37.593504233814102,"-"]
["SABHCAI202103Tayside",26,23.1902672232331,23.902336612989298,33.136900226142203,37.754182032718603,"-"]
["SABHCAI202301Tayside",39,31.988188976378002,23.902336612989298,32.7578286684274,37.185574696146503,"-"]
["SABHCAI202303Tayside",27,23.124555708767598,23.902336612989298,32.951428358506199,37.475974231264701,"-"]
["SABHCAI202401Tayside",28,23.165959277553,23.902336612989298,32.796319784733399,37.243311370605397,"-"]
["SABHCAI202304Tayside",30,24.8892428692319,23.902336612989298,32.808597041121203,37.261727255187203,"-"]
["SABHCAI202203Tayside",31,25.743873373360898,23.902336612989298,32.812922757079697,37.268215829124998,"-"]
["SABHCAI202302Tayside",29,24.813046528740401,23.902336612989298,32.946975265146598,37.469294591225299,"-"]
["SABHCAI202201Tayside",21,17.928797063092301,23.902336612989298,32.937085851536501,37.454460470810098,"-"]
["SABHCAI202202Tayside",25,21.203870978685899,23.902336612989298,32.907420169567203,37.409961947856203,"-"]
["SABHCAI202204Tayside",30,24.303108367560199,23.902336612989298,32.703102314096398,37.103485164650003,"-"]
["SABHCAI202104Tayside",27,23.164631896840199,23.902336612989298,32.959266262908898,37.487731087868802,"-"]
["CDICA202401Western Isles",0,0,12.746738582482701]
["CDICA202303Western Isles",2,30.3781876290033,12.746738582482701]
["CDICA202302Western Isles",1,15.3560069333423,12.746738582482701]
["CDICA202201Western Isles",3,46.579887697804999,12.746738582482701]
["CDICA202103Western Isles",1,15.160073765180799,12.746738582482701]
["CDICA202301Western Isles",0,0,12.746738582482701]
["CDICA202202Western Isles",0,0,12.746738582482701]
["CDICA202402Western Isles",2,30.796156370428999,12.746738582482701]
["CDICA202204Western Isles",0,0,12.746738582482701]
["CDICA202104Western Isles",0,0,12.746738582482701]
["CDICA202304Western Isles",2,30.3781876290033,12.746738582482701]
["CDICA202203Western Isles",1,15.1890938145016,12.746738582482701]
["CDIHCAI202301Western Isles",0,0,9.3584138825385406]
["CDIHCAI202304Western Isles",1,14.8720999405116,9.3584138825385406]
["CDIHCAI202202Western Isles",1,15.9058374423413,9.3584138825385406]
["CDIHCAI202104Western Isles",1,16.485328058028401,9.3584138825385406]
["CDIHCAI202402Western Isles",0,0,9.3584138825385406]
["CDIHCAI202201Western Isles",2,32.092426187419797,9.3584138825385406]
["CDIHCAI202303Western Isles",1,17.1703296703297,9.3584138825385406]
["CDIHCAI202103Western Isles",0,0,9.3584138825385406]
["CDIHCAI202203Western Isles",0,0,9.3584138825385406]
["CDIHCAI202401Western Isles",0,0,9.3584138825385406]
["CDIHCAI202302Western Isles",0,0,9.3584138825385406]
["CDIHCAI202204Western Isles",1,16.155088852988701,9.3584138825385406]
["ECBCOM202202Western Isles",2,30.7120138666846,34.4161941727033]
["ECBCOM202204Western Isles",1,15.1890938145016,34.4161941727033]
["ECBCOM202301Western Isles",0,0,34.4161941727033]
["ECBCOM202302Western Isles",3,46.0680208000269,34.4161941727033]
["ECBCOM202103Western Isles",3,45.480221295542499,34.4161941727033]
["ECBCOM202303Western Isles",2,30.3781876290033,34.4161941727033]
["ECBCOM202304Western Isles",0,0,34.4161941727033]
["ECBCOM202104Western Isles",4,60.640295060723403,34.4161941727033]
["ECBCOM202401Western Isles",2,30.796156370428999,34.4161941727033]
["ECBCOM202201Western Isles",2,31.053258465203299,34.4161941727033]
["ECBCOM202402Western Isles",0,0,34.4161941727033]
["ECBCOM202203Western Isles",0,0,34.4161941727033]
["ECBHCAI202202Western Isles",3,47.717512327023996,60.161232102033502]
["ECBHCAI202103Western Isles",5,83.682008368200798,60.161232102033502]
["ECBHCAI202203Western Isles",9,139.103554868624,60.161232102033502]
["ECBHCAI202304Western Isles",6,89.232599643069605,60.161232102033502]
["ECBHCAI202301Western Isles",5,84.231805929919105,60.161232102033502]
["ECBHCAI202401Western Isles",5,69.570057047446795,60.161232102033502]
["ECBHCAI202204Western Isles",2,32.310177705977402,60.161232102033502]
["ECBHCAI202104Western Isles",2,32.970656116056702,60.161232102033502]
["ECBHCAI202303Western Isles",6,103.021978021978,60.161232102033502]
["ECBHCAI202302Western Isles",0,0,60.161232102033502]
["ECBHCAI202402Western Isles",5,76.115086010047193,60.161232102033502]
["ECBHCAI202201Western Isles",1,16.046213093709898,60.161232102033502]
["SABCAUN202402Western Isles",0,0,5.0986954329930798]
["SABCAUN202401Western Isles",0,0,5.0986954329930798]
["SABCAUN202204Western Isles",0,0,5.0986954329930798]
["SABCAUN202203Western Isles",0,0,5.0986954329930798]
["SABCAUN202103Western Isles",1,15.160073765180799,5.0986954329930798]
["SABCAUN202302Western Isles",0,0,5.0986954329930798]
["SABCAUN202301Western Isles",0,0,5.0986954329930798]
["SABCAUN202202Western Isles",1,15.3560069333423,5.0986954329930798]
["SABCAUN202303Western Isles",1,15.1890938145016,5.0986954329930798]
["SABCAUN202304Western Isles",0,0,5.0986954329930798]
["SABCAUN202104Western Isles",0,0,5.0986954329930798]
["SABCAUN202201Western Isles",1,15.526629232601699,5.0986954329930798]
["SABHCAI202303Western Isles",1,17.1703296703297,30.749074185483799]
["SABHCAI202304Western Isles",1,14.8720999405116,30.749074185483799]
["SABHCAI202103Western Isles",0,0,30.749074185483799]
["SABHCAI202202Western Isles",3,47.717512327023996,30.749074185483799]
["SABHCAI202301Western Isles",3,50.5390835579515,30.749074185483799]
["SABHCAI202302Western Isles",4,67.957866123003697,30.749074185483799]
["SABHCAI202401Western Isles",1,13.914011409489399,30.749074185483799]
["SABHCAI202104Western Isles",5,82.426640290141805,30.749074185483799]
["SABHCAI202203Western Isles",1,15.4559505409583,30.749074185483799]
["SABHCAI202204Western Isles",2,32.310177705977402,30.749074185483799]
["SABHCAI202201Western Isles",1,16.046213093709898,30.749074185483799]
["SABHCAI202402Western Isles",2,30.446034404018899,30.749074185483799]

{"sheet":"trend data","index":12,"n_rows":4154,"n_cols":6,"rows_kept":4154,"cut":false,"hidden":true,"merged":[]}
["ref","cases","OCBD","rate","lower","upper"]
["CDICA201404Ayrshire & Arran",9,93507.287671232902,9.6249182541189402,4.3919795834112403,18.272312122675]
["CDICA201404Borders",0,28928.328767123301,0,0,12.6799495469789]
["CDICA201404Dumfries & Galloway",5,37677.150684931497,13.270642575420901,4.27662344955107,30.9691719193784]
["CDICA201404Fife",5,92342.794520547905,5.4146076323122401,1.7449221346186701,12.635854947343301]
["CDICA201404Forth Valley",5,75321.534246575306,6.6382078511993896,2.1392419544185501,15.4913222183472]
["CDICA201404Grampian",7,146637.917808219,4.7736629820091796,1.91245139217411,9.8360735571490192]
["CDICA201404Greater Glasgow & Clyde",19,286850.95890411001,6.6236487661006702,3.9859963169341399,10.3442414471372]
["CDICA201404Highland",9,81068.383561643801,11.101738562674599,5.06587254252993,21.0759641553026]
["CDICA201404Lanarkshire",18,165146.30136986301,10.8994266602962,6.4563280553290303,17.226813525192998]
["CDICA201404Lothian",21,214594.41095890399,9.7859025806695392,6.0552726439551297,14.9595963197026]
["CDICA201404Orkney",0,5421.6986301369898,0,0,67.655872129556897]
["CDICA201404Shetland",0,5880.4383561643799,0,0,62.377960116021001]
["CDICA201404Tayside",20,103776,19.272278754239899,11.7669913220548,29.766124957863902]
["CDICA201404Western Isles",3,6853.3698630136996,43.774085741241201,8.7978786933057709,127.900377414979]
["CDICA201501Ayrshire & Arran",6,91257.534246575306,6.5747996037107104,2.40083271893345,14.311032372834299]
["CDICA201501Borders",1,28326.5753424658,3.5302537913958498,4.6140891628127498E-2,19.641824901770001]
["CDICA201501Dumfries & Galloway",5,36695.342465753398,13.6257074168645,4.3910473456359096,31.797772648747902]
["CDICA201501Fife",4,90495.616438356199,4.4201035999624603,1.1891409019881001,11.3164405355641]
["CDICA201501Forth Valley",4,74063.835616438402,5.40074648674043,1.4529633533264099,13.8271027098491]
["CDICA201501Grampian",6,144202.191780822,4.1608244132097596,1.51935328695542,9.0566551779795095]
["CDICA201501Greater Glasgow & Clyde",14,281685.20547945198,4.9700870786489499,2.7148889973570398,8.3395171029443205]
["CDICA201501Highland",9,79377.534246575306,11.338220675944299,5.1737825097525496,21.524910823835999]
["CDICA201501Lanarkshire",6,161958.082191781,3.7046622921202301,1.3527825910468001,8.0637502568183308]
["CDICA201501Lothian",29,212064.657534247,13.6750745443364,9.1564464211256507,19.640516139690501]
["CDICA201501Orkney",1,5308.7671232876701,18.836765237136799,0.24619905388942401,104.80505549072601]
["CDICA201501Shetland",1,5762.4657534246599,17.353682308752902,0.22681496064352999,96.553395152560299]
["CDICA201501Tayside",5,101756.712328767,4.9136807642187099,1.5834924541473701,11.4668617950631]
["CDICA201501Western Isles",1,6642.7397260274001,15.0540295306442,0.196758189689654,83.758457487577402]
["CDICA201502Ayrshire & Arran",10,92271.506849315105,10.837581764358299,5.1883624522916696,19.932076002709199]
["CDICA201502Borders",3,28641.315068493099,10.474379381064599,2.1051797569686199,30.604341663352699]
["CDICA201502Dumfries & Galloway",3,37103.068493150698,8.0855846209965296,1.62507089423838,23.6246927179543]
["CDICA201502Fife",2,91501.123287671202,2.1857655164649499,0.24547606301845901,7.8916856745057196]
["CDICA201502Forth Valley",5,74886.767123287704,6.6767470303109704,2.1516616662884398,15.581259571173501]
["CDICA201502Grampian",9,145804.438356164,6.1726516020144802,2.8166639025694198,11.7183973638707]
["CDICA201502Greater Glasgow & Clyde",13,284815.04109588999,4.5643656844735299,2.4279461037791101,7.8057360825151898]
["CDICA201502Highland",11,80259.506849315105,13.705541476416199,6.8323558345382196,24.524709174165299]
["CDICA201502Lanarkshire",11,163757.616438356,6.7172448153828404,3.3486168266591698,12.0198443696958]
["CDICA201502Lothian",17,214420.93150684901,7.9283304482132397,4.6158616617429198,12.694801074840701]
["CDICA201502Orkney",0,5367.7534246575296,0,0,68.335804614375405]
["CDICA201502Shetland",0,5826.4931506849298,0,0,62.955493082905598]
["CDICA201502Tayside",14,102887.342465753,13.6071159624518,7.4328294107603101,22.831949318976601]
["CDICA201502Western Isles",0,6716.5479452054797,0,0,54.612838654324499]
["CDICA201503Ayrshire & Arran",17,93285.479452054802,18.223629336372099,10.609768669585501,29.179579584628801]
["CDICA201503Borders",1,28956.0547945205,3.45350914375681,4.5137828766646501E-2,19.214828708253201]
["CDICA201503Dumfries & Galloway",2,37510.794520547897,5.3317985544252497,0.59879658091806298,19.250408131316401]
["CDICA201503Fife",6,92506.630136986307,6.4860215869014404,2.36841482328269,14.1177937725526]
["CDICA201503Forth Valley",4,75709.698630137005,5.28333895441998,1.4213771934714801,13.526513520504601]
["CDICA201503Grampian",14,147406.68493150701,9.4975339866744601,5.1879876779656398,15.9363097395061]
["CDICA201503Greater Glasgow & Clyde",17,287944.87671232899,5.9039077875255401,3.43724593581315,9.45330614262304]
["CDICA201503Highland",7,81141.479452054802,8.6269070360445994,3.45615943844785,17.775635292440899]
["CDICA201503Lanarkshire",18,165557.150684931,10.872378466004999,6.4403059267262197,17.184063184852199]
["CDICA201503Lothian",33,216777.20547945201,15.223002772368501,10.4770306412351,21.3795634071422]
["CDICA201503Orkney",0,5426.7397260274001,0,0,67.5930241294366]
["CDICA201503Shetland",1,5890.5205479452097,16.976428345519199,0.22188420062954001,94.4544083014177]
["CDICA201503Tayside",11,104017.97260274,10.5750955577751,5.2717957885350604,18.923086219520702]
["CDICA201503Western Isles",0,6790.3561643835601,0,0,54.019220842864499]
["CDICA201504Ayrshire & Arran",7,93285.479452054802,7.5038473738002596,3.0062330354637501,15.4615847428873]
["CDICA201504Borders",2,28956.0547945205,6.9070182875136199,0.77570427552425303,24.9377240433715]
["CDICA201504Dumfries & Galloway",4,37510.794520547897,10.663597108850499,2.8688285687611201,27.301161578779499]
["CDICA201504Fife",7,92506.630136986307,7.5670251847183403,3.0315436811670899,15.5917618412103]
["CDICA201504Forth Valley",3,75709.698630137005,3.9625042158149899,0.79639884699199004,11.5777583044688]
["CDICA201504Grampian",15,147406.68493150701,10.1759292714369,5.6911729143216903,16.784736729414799]
["CDICA201504Greater Glasgow & Clyde",25,287944.87671232899,8.6822173345963893,5.6170928971648504,12.817273592208201]
["CDICA201504Highland",9,81141.479452054802,11.091737617771599,5.0613089769318496,21.056977979839601]
["CDICA201504Lanarkshire",19,165557.150684931,11.476399491894201,6.9062970760880296,17.922847584480799]
["CDICA201504Lothian",18,216777.20547945201,8.3034560576555592,4.9185923234402802,13.123817754646799]
["CDICA201504Orkney",0,5426.7397260274001,0,0,67.5930241294366]
["CDICA201504Shetland",0,5890.5205479452097,0,0,62.271194245047901]
["CDICA201504Tayside",7,104017.97260274,6.7296062640386696,2.69605225943863,13.866270508245099]
["CDICA201504Western Isles",0,6790.3561643835601,0,0,54.019220842864499]
["CDICA201601Ayrshire & Arran",10,91919.945355191303,10.879031706729799,5.2082061156961199,20.008309190114002]
["CDICA201601Borders",0,28702.295081967201,0,0,12.779805524193]
["CDICA201601Dumfries & Galloway",2,36897.267759562797,5.4204555552264404,0.60875335411800802,19.570503392174501]
["CDICA201601Fife",5,91701.147540983598,5.4524944715281496,1.75713162214719,12.7242699604439]
["CDICA201601Forth Valley",1,75047.650273224004,1.3324867552272801,1.74157810179838E-2,7.4137648669597001]
["CDICA201601Grampian",19,145214.617486339,13.084082256242199,7.8737725271243599,20.433587400566601]
["CDICA201601Greater Glasgow & Clyde",19,286190.02732240403,6.6389455208359696,3.9952016371721299,10.368130594935799]
["CDICA201601Highland",2,80259.016393442595,2.4919318599615998,0.27986058782872503,8.9970963550145608]
["CDICA201601Lanarkshire",12,163780.10928961699,7.3268970524253501,3.7815517371035599,12.799500935147099]
["CDICA201601Lothian",16,216239.37158469899,7.3992075923754301,4.2265243713113403,12.016606894953901]
["CDICA201601Orkney",0,5377.9508196721299,0,0,68.206229760186702]
["CDICA201601Shetland",0,5775.7650273223999,0,0,63.508426591168302]
["CDICA201601Tayside",11,102638.551912568,10.717220571633,5.3426465950746804,19.1774048567842]
["CDICA201601Western Isles",0,6638.52459016393,0,0,55.254709727072601]
["CDICA201602Ayrshire & Arran",5,91919.945355191303,5.4395158533649202,1.75294910706066,12.693982274306]
["CDICA201602Borders",0,28702.295081967201,0,0,12.779805524193]
["CDICA201602Dumfries & Galloway",5,36897.267759562797,13.551138888066101,4.3670167444765999,31.6237550324186]
["CDICA201602Fife",4,91701.147540983598,4.3619955772225198,1.1735080949710199,11.167671175501701]
["CDICA201602Forth Valley",5,75047.650273224004,6.6624337761363996,2.1470490487686398,15.547857297942301]
["CDICA201602Grampian",8,145214.617486339,5.5090872657861798,2.37209767397127,10.855764911865201]
["CDICA201602Greater Glasgow & Clyde",15,286190.02732240403,5.2412727796073399,2.93132832237746,8.6452432388354108]
["CDICA201602Highland",2,80259.016393442595,2.4919318599615998,0.27986058782872503,8.9970963550145608]
["CDICA201602Lanarkshire",14,163780.10928961699,8.5480465611629093,4.6693341968779603,14.343125053044499]
["CDICA201602Lothian",23,216239.37158469899,10.636360914039701,6.7403281555602703,15.960569446234301]
["CDICA201602Orkney",0,5377.9508196721299,0,0,68.206229760186702]
["CDICA201602Shetland",0,5775.7650273223999,0,0,63.508426591168302]
["CDICA201602Tayside",10,102638.551912568,9.7429277923936493,4.6643099754677797,17.9188292618521]
["CDICA201602Western Isles",0,6638.52459016393,0,0,55.254709727072601]
["CDICA201603Ayrshire & Arran",9,92930.054644808697,9.6847032258823305,4.4192602696931402,18.3858101946029]
["CDICA201603Borders",0,29017.704918032799,0,0,12.6408945945822]
["CDICA201603Dumfries & Galloway",2,37302.732240437203,5.3615375600609401,0.60213646983411695,19.3577805292161]
["CDICA201603Fife",6,92708.852459016402,6.4718738727268903,2.36324868938727,14.0869991616508]
["CDICA201603Forth Valley",4,75872.349726775996,5.2720128141601101,1.41833012085428,13.4975161022655]
["CDICA201603Grampian",20,146810.382513661,13.623014706156001,8.3177447707005605,21.040810130304301]
["CDICA201603Greater Glasgow & Clyde",20,289334.97267759597,6.9124032310763504,4.2204759422507001,10.676239222105201]
["CDICA201603Highland",8,81140.983606557405,9.8593825763698106,4.2452437850178297,19.428107463448701]
["CDICA201603Lanarkshire",15,165579.89071038301,9.0590710838411308,5.06653875100994,14.942529482995999]
["CDICA201603Lothian",20,218615.62841530101,9.1484767786163594,5.5857456316791403,14.129865307521101]
["CDICA201603Orkney",0,5437.0491803278701,0,0,67.464857697575994]
["CDICA201603Shetland",1,5839.2349726776001,17.125531078627699,0.223832993395258,95.283994486759795]
["CDICA201603Tayside",14,103766.448087432,13.4918369646842,7.36985874692426,22.638517864299899]
["CDICA201603Western Isles",0,6711.47540983607,0,0,54.654115056126201]
["CDICA201604Ayrshire & Arran",7,92930.054644808697,7.5325469534640304,3.0177308205586799,15.5207198719687]
["CDICA201604Borders",1,29017.704918032799,3.44617192443279,4.5041930323733798E-2,19.1740054740768]
["CDICA201604Dumfries & Galloway",8,37302.732240437203,21.446150240243799,9.2342634353352793,42.260061247986698]
["CDICA201604Fife",4,92708.852459016402,4.3145825818179198,1.1607525721995899,11.0462834453332]
["CDICA201604Forth Valley",4,75872.349726775996,5.2720128141601101,1.41833012085428,13.4975161022655]
["CDICA201604Grampian",12,146810.382513661,8.1738088236936193,4.2186591042328496,14.278987808071999]
["CDICA201604Greater Glasgow & Clyde",12,289334.97267759597,4.1474419386458097,2.1405741278199901,7.2452481033008604]
["CDICA201604Highland",9,81140.983606557405,11.091805398416,5.0613399061510398,21.057106657201601]
["CDICA201604Lanarkshire",13,165579.89071038301,7.8511949393289804,4.1763257987408,13.426697128420299]
["CDICA201604Lothian",16,218615.62841530101,7.3187814228930899,4.1805838890144704,11.8859916026174]
["CDICA201604Orkney",0,5437.0491803278701,0,0,67.464857697575994]
["CDICA201604Shetland",0,5839.2349726776001,0,0,62.8181176064816]
["CDICA201604Tayside",8,103766.448087432,7.70962112267671,3.3196014965813698,15.1919601976726]
["CDICA201604Western Isles",0,6711.47540983607,0,0,54.654115056126201]
["CDICA201701Ayrshire & Arran",12,91065.205479452095,13.1773710242247,6.8010932773540302,23.019809278132701]
["CDICA201701Borders",0,28587.9452054795,0,0,12.830923894986199]
["CDICA201701Dumfries & Galloway",2,36448.767123287696,5.4871540462123596,0.61624404003704203,19.8113176615276]
["CDICA201701Fife",3,91080,3.2938076416337299,0.66200172041229799,9.62394150245823]
["CDICA201701Forth Valley",2,74640.821917808207,2.6794988970008,0.30092561857314098,9.6743053639688608]
["CDICA201701Grampian",9,143408.21917808201,6.2757909215955996,2.8637277605563001,11.914200984197601]
["CDICA201701Greater Glasgow & Clyde",16,285270.41095890402,5.6087134821371096,3.20377066435903,9.1087733733433804]
["CDICA201701Highland",4,79616.712328767098,5.0240708049869101,1.35162625797842,12.8627298490426]
["CDICA201701Lanarkshire",10,162919.726027397,6.1379921534598898,2.9384902198574401,11.288766144228401]
["CDICA201701Lothian",10,216396.98630136999,4.62113644506735,2.21231371903967,8.4990217231754901]
["CDICA201701Orkney",0,5355.61643835616,0,0,68.490668341836894]
["CDICA201701Shetland",0,5698.3561643835601,0,0,64.371151725863101]
["CDICA201701Tayside",6,101946.57534246601,5.8854355625428303,2.1491067584406101,12.8105286762268]
["CDICA201701Western Isles",0,6581.0958904109602,0,0,55.736879594780703]
["CDICA201702Ayrshire & Arran",4,92077.041095890396,4.34418824974441,1.1687173879252599,11.122080487875101]
["CDICA201702Borders",2,28905.5890410959,6.9190771278057799,0.77705856381235505,24.981262371919499]
["CDICA201702Dumfries & Galloway",12,36853.753424657501,32.561133900600801,16.805424121950701,56.881686862548797]
["CDICA201702Fife",2,92092,2.1717413021760801,0.24390105010667701,7.8410513817757899]
["CDICA201702Forth Valley",7,75470.164383561598,9.2751884896181398,3.7158775570247,19.111411212759698]
["CDICA201702Grampian",17,145001.64383561601,11.7240050183654,6.8256974958139303,18.772415262046]
["CDICA201702Greater Glasgow & Clyde",22,288440.08219178102,7.6272339935655804,4.7782433516355001,11.548325608412]
["CDICA201702Highland",8,80501.342465753405,9.9377224714026706,4.2789753042008201,19.582477768849099]
["CDICA201702Lanarkshire",6,164729.94520547899,3.6423250141410399,1.3300197107154801,7.92806386986119]
["CDICA201702Lothian",10,218801.39726027401,4.5703547258907804,2.18800257927,8.4056258800636705]
["CDICA201702Orkney",1,5415.1232876712302,18.466800234756001,0.241363561573643,102.74662337056]
["CDICA201702Shetland",0,5761.6712328767098,0,0,63.663776432172298]
["CDICA201702Tayside",10,103079.315068493,9.7012674107848902,4.6443655667992498,17.842209042454201]
["CDICA201702Western Isles",0,6654.2191780821904,0,0,55.124386412420499]
["CDICA201703Ayrshire & Arran",7,93088.876712328798,7.5196954214325702,3.0125821683773801,15.494239449102601]
["CDICA201703Borders",1,29223.2328767123,3.42193488386047,4.4725148945250599E-2,19.0391540624817]
["CDICA201703Dumfries & Galloway",4,37258.739726027401,10.735736177372001,2.88823614939135,27.485853512068498]
["CDICA201703Fife",7,93104,7.51847396459873,3.0120928215526899,15.491722652397501]
["CDICA201703Forth Valley",8,76299.506849315105,10.4849956839162,4.5146196953311497,20.660890407999698]
["CDICA201703Grampian",15,146595.06849315099,10.2322678069493,5.7226818152572401,16.877664604704901]
["CDICA201703Greater Glasgow & Clyde",27,291609.75342465797,9.2589495662997194,6.1002152929266602,13.4718873602177]
["CDICA201703Highland",4,81385.972602739697,4.91485187444371,1.3222430784571499,12.5831052871069]
["CDICA201703Lanarkshire",11,166540.16438356199,6.6050132955709699,3.2926682396934401,11.819017179592]
["CDICA201703Lothian",15,221205.808219178,6.7810154356966503,3.7924724464780599,11.184979357683201]
["CDICA201703Orkney",1,5474.6301369863004,18.266074145247799,0.23874004460001599,101.62981224696701]
["CDICA201703Shetland",0,5824.9863013698596,0,0,62.971778862257402]
["CDICA201703Tayside",7,104212.054794521,6.7170731963804098,2.69103119222429,13.840446277282799]
["CDICA201703Western Isles",0,6727.3424657534197,0,0,54.525208299242003]
["CDICA201704Ayrshire & Arran",6,93088.876712328798,6.4454532183707798,2.3536010080498801,14.029490665180701]
["CDICA201704Borders",1,29223.2328767123,3.42193488386047,4.4725148945250599E-2,19.0391540624817]
["CDICA201704Dumfries & Galloway",1,37258.739726027401,2.6839340443430002,3.5079378762767899E-2,14.933023420404099]
["CDICA201704Fife",4,93104,4.2962708369135596,1.15582616168452,10.9994013377929]
["CDICA201704Forth Valley",5,76299.506849315105,6.5531223024476004,2.1118221176667298,15.2927614499312]
["CDICA201704Grampian",7,146595.06849315099,4.7750583099096904,1.9130103961917699,9.8389486130374593]
["CDICA201704Greater Glasgow & Clyde",17,291609.75342465797,5.8297089861887104,3.3940475090226601,9.3344994116075597]
["CDICA201704Highland",7,81385.972602739697,8.6009907802765007,3.4457767240395598,17.7222351678361]
["CDICA201704Lanarkshire",9,166540.16438356199,5.4041017872853399,2.4659642907903399,10.259353065957299]
["CDICA201704Lothian",16,221205.808219178,7.2330831314097601,4.1316319015195901,11.7468141748364]
["CDICA201704Orkney",0,5474.6301369863004,0,0,67.001740769188302]
["CDICA201704Shetland",0,5824.9863013698596,0,0,62.971778862257402]
["CDICA201704Tayside",2,104212.054794521,1.9191637703944,0.21553490669301301,6.9291225979018298]
["CDICA201704Western Isles",0,6727.3424657534197,0,0,54.525208299242003]
["CDICA201801Ayrshire & Arran",8,90715.068493150698,8.8188215396695995,3.7971999810811998,17.377661455628498]
["CDICA201801Borders",0,28642.1917808219,0,0,12.8066229027608]
["CDICA201801Dumfries & Galloway",4,36249.041095890403,11.034774656296999,2.9686865005010001,28.251458002566999]
["CDICA201801Fife",2,91047.945205479497,2.1966448506732901,0.24669788489715799,7.9309654075206897]
["CDICA201801Forth Valley",0,74630.958904109604,0,0,4.9149810565457299]
["CDICA201801Grampian",12,142698.082191781,8.4093631923324992,4.3402332201969704,14.690482379389]
["CDICA201801Greater Glasgow & Clyde",17,286397.26027397299,5.9358109724015904,3.4558199204519999,9.5043893546940605]
["CDICA201801Highland",15,79426.849315068495,18.885301543938098,10.5621328292193,31.150453783161101]
["CDICA201801Lanarkshire",10,163129.31506849299,6.1301060424371299,2.9347148386686501,11.2742623030866]
["CDICA201801Lothian",12,217807.39726027401,5.5094547526594404,2.843534997331,9.6245751447363794]
["CDICA201801Orkney",1,5377.8082191780804,18.594936063986999,0.24303831408708301,103.459552715054]
["CDICA201801Shetland",0,5671.2328767123299,0,0,64.679013755856403]
["CDICA201801Tayside",4,101773.97260274,3.93027794602598,1.05736305860364,10.0623787788186]
["CDICA201801Western Isles",1,6534.2465753424704,15.3039832285115,0.200025118122237,85.149163951522098]
["CDICA201802Ayrshire & Arran",9,91723.013698630093,9.8121503394675393,4.4774161008443798,18.6277606587085]
["CDICA201802Borders",1,28960.438356164399,3.4529864075318599,4.51309965339146E-2,19.211920278999401]
["CDICA201802Dumfries & Galloway",5,36651.8082191781,13.6418917454221,4.3962629392766397,31.835541374011299]
["CDICA201802Fife",8,92059.589041095896,8.6900235850811303,3.7417422775176798,17.1238625505313]
["CDICA201802Forth Valley",2,75460.1917808219,2.65040407770113,0.29765807608419897,9.5692587947280607]
["CDICA201802Grampian",33,144283.616438356,22.8716196714538,15.7410902235034,32.1214710594056]
["CDICA201802Greater Glasgow & Clyde",11,289579.45205479499,3.7986120637864098,1.8936478607443401,6.7972401010308197]
["CDICA201802Highland",7,80309.369863013693,8.7162930202791102,3.4919697481899501,17.959814007868101]
["CDICA201802Lanarkshire",8,164941.86301369901,4.8501937918183904,2.0883919344197301,9.5574023501068393]
["CDICA201802Lothian",12,220227.47945205501,5.4489112938390099,2.8122873599976899,9.5188105827063101]
["CDICA201802Orkney",1,5437.5616438356201,18.390596107239801,0.24036756338283,102.32263455335]
["CDICA201802Shetland",1,5734.2465753424704,17.439082656474,0.227931154668675,97.028550417763995]
["CDICA201802Tayside",4,102904.79452054801,3.8870880784872299,1.0457436843332699,9.9518031878425806]
["CDICA201802Western Isles",0,6606.8493150684899,0,0,55.519617862169902]
["CDICA201803Ayrshire & Arran",10,92730.958904109604,10.7838850349221,5.1626557862774796,19.833318981494401]
["CDICA201803Borders",2,29278.684931506901,6.8309078931608598,0.76715657000883397,24.6629281861442]
["CDICA201803Dumfries & Galloway",3,37054.575342465803,8.0961661880439895,1.6271976169715301,23.6556102436112]
["CDICA201803Fife",5,93071.232876712296,5.3722292543640204,1.7312651949597699,12.536958208554299]
["CDICA201803Forth Valley",5,76289.424657534197,6.5539883443153002,2.11210121002707,15.2947824974682]
["CDICA201803Grampian",19,145869.150684931,13.0253723359498,7.8384419209408698,20.341899327679201]
["CDICA201803Greater Glasgow & Clyde",14,292761.64383561601,4.7820472028299204,2.6121730123356599,8.0239971260076999]
["CDICA201803Highland",6,81191.890410958906,7.3899006041496804,2.6984723838724101,16.085221322688898]
["CDICA201803Lanarkshire",6,166754.41095890399,3.5981057205609202,1.3138727354106601,7.83181397935933]
["CDICA201803Lothian",16,222647.561643836,7.1862453295558,4.1048775351144098,11.6707477250611]
["CDICA201803Orkney",1,5497.3150684931497,18.190698323465501,0.23775487247649499,101.21043200385699]
["CDICA201803Shetland",1,5797.2602739725999,17.2495274102079,0.22545364211792801,95.973892261049201]
["CDICA201803Tayside",3,104035.616438356,2.8836278408342801,0.57956225722830801,8.4254664128728791]
["CDICA201803Western Isles",1,6679.4520547945203,14.9712879409352,0.195676745989145,83.298095169967198]
["CDICA201804Ayrshire & Arran",5,92730.958904109604,5.3919425174610298,1.73761803000515,12.582962268303]
["CDICA201804Borders",1,29278.684931506901,3.4154539465804299,4.4640442223763302E-2,19.0030950585755]
["CDICA201804Dumfries & Galloway",0,37054.575342465803,0,0,9.8991756309555097]
["CDICA201804Fife",7,93071.232876712296,7.5211209561096197,3.01315327400172,15.497176745680701]
["CDICA201804Forth Valley",2,76289.424657534197,2.6215953377261201,0.29442266221371799,9.4652451121766692]
["CDICA201804Grampian",12,145869.150684931,8.2265509490209308,4.2458803241057304,14.3711240667936]
["CDICA201804Greater Glasgow & Clyde",22,292761.64383561601,7.5146456044470202,4.7077099548325601,11.377856552609501]
["CDICA201804Highland",7,81191.890410958906,8.6215507048412992,3.4540135552748499,17.7645986382174]
["CDICA201804Lanarkshire",11,166754.41095890399,6.5965271543616897,3.2884378095055,11.8038320703041]
["CDICA201804Lothian",15,222647.561643836,6.7371049964585596,3.76791430581279,11.1125510670943]
["CDICA201804Orkney",1,5497.3150684931497,18.190698323465501,0.23775487247649499,101.21043200385699]
["CDICA201804Shetland",0,5797.2602739725999,0,0,63.2729482394247]
["CDICA201804Tayside",3,104035.616438356,2.8836278408342801,0.57956225722830801,8.4254664128728791]
["CDICA201804Western Isles",0,6679.4520547945203,0,0,54.916143754972403]
["CDICA201901Ayrshire & Arran",1,90609.041095890396,1.1036426253995,1.4424757477452E-2,6.1405090067633701]
["CDICA201901Borders",1,28711.2328767123,3.4829573647849199,4.5522720974229602E-2,19.378674379210999]
["CDICA201901Dumfries & Galloway",1,36209.589041095896,2.7616993909128702,3.6095782296488202E-2,15.3656986361276]
["CDICA201901Fife",5,91393.150684931505,5.4708694935323798,1.7630531929786499,12.7671510200638]
["CDICA201901Forth Valley",3,74818.3561643836,4.0097111909391501,0.80588668057177804,11.7156889964012]
["CDICA201901Grampian",6,142801.64383561601,4.2016323053723301,1.53425456586882,9.1454796442759605]
["CDICA201901Greater Glasgow & Clyde",15,288004.93150684901,5.2082441510704696,2.9128561385491101,8.5907640045819793]
["CDICA201901Highland",4,79367.671232876703,5.0398354114024597,1.35586741157777,12.903090720011701]
["CDICA201901Lanarkshire",4,163903.561643836,2.4404594750003299,0.65655705024469302,6.2481147565251201]
["CDICA201901Lothian",8,219715.89041095899,3.6410657349528601,1.5677666996305299,7.1747917105566597]
["CDICA201901Orkney",0,5390.1369863013697,0,0,68.052027282008098]
["CDICA201901Shetland",0,5651.5068493150702,0,0,64.904769475772099]
["CDICA201901Tayside",2,101986.02739726,1.9610529511160499,0.22023934140440399,7.0803630877566102]
["CDICA201901Western Isles",0,6494.79452054795,0,0,56.4774987237926]
["CDICA201902Ayrshire & Arran",8,91615.8082191781,8.7321174756883799,3.7598670258072802,17.2068093906542]
["CDICA201902Borders",0,29030.246575342499,0,0,12.6354334708648]
["CDICA201902Dumfries & Galloway",4,36611.917808219201,10.925404183831199,2.9392625516415198,27.9714454598708]
["CDICA201902Fife",3,92408.630136986307,3.2464500291291101,0.65248361117106501,9.4855706739132799]
["CDICA201902Forth Valley",0,75649.671232876703,0,0,4.8487950214135198]
["CDICA201902Grampian",6,144388.32876712299,4.1554605217968099,1.5173946255845501,9.0449798679652407]
["CDICA201902Greater Glasgow & Clyde",12,291204.98630137002,4.1208085590887302,2.12682813111656,7.1987217273864896]
["CDICA201902Highland",5,80249.534246575306,6.2305657558546796,2.0078744087953799,14.5400240381303]
["CDICA201902Lanarkshire",13,165724.712328767,7.8443340267867896,4.17267623886179,13.4149639597192]
["CDICA201902Lothian",11,222157.178082192,4.9514492824221596,2.4683492769979298,8.8601281351041994]
["CDICA201902Orkney",0,5450.0273972602699,0,0,67.304202806381696]
["CDICA201902Shetland",0,5714.3013698630102,0,0,64.191530250763606]
["CDICA201902Tayside",3,103119.20547945199,2.9092543780293099,0.58471277406386502,8.5003427631971107]
["CDICA201902Western Isles",1,6566.9589041095896,15.227748712942301,0.199028722755487,84.725006059551006]
["CDICA201903Ayrshire & Arran",7,92622.575342465701,7.5575527608878996,3.02774878609174,15.572244029016201]
["CDICA201903Borders",0,29349.260273972599,0,0,12.4980918027033]
["CDICA201903Dumfries & Galloway",5,37014.246575342499,13.5083122381608,4.3532153438126997,31.523812179153499]
["CDICA201903Fife",3,93424.109589041094,3.2111625288124901,0.64539139800616196,9.3824666448489999]
["CDICA201903Forth Valley",2,76480.986301369907,2.61502903756901,0.29368522285939502,9.4415375477128602]
["CDICA201903Grampian",5,145975.01369863001,3.4252437272057099,1.1038257990104201,7.9933553519160903]
["CDICA201903Greater Glasgow & Clyde",15,294405.04109588999,5.0950214521341604,2.8495331790154399,8.4040082653519299]
["CDICA201903Highland",5,81131.397260273996,6.1628422150301798,1.9860496869606501,14.3819802985855]
["CDICA201903Lanarkshire",8,167545.86301369901,4.7748120163049999,2.05593411958974,9.4088610774545707]
["CDICA201903Lothian",18,224598.465753425,8.0143022970429794,4.7473106959628097,12.6668030813589]
["CDICA201903Orkney",0,5509.9178082191802,0,0,66.572635384573104]
["CDICA201903Shetland",0,5777.0958904109602,0,0,63.493796226298798]
["CDICA201903Tayside",4,104252.383561644,3.8368427304444501,1.0322261734557401,9.8231640099464705]
["CDICA201903Western Isles",0,6639.1232876712302,0,0,55.249727012405799]
["CDICA201904Ayrshire & Arran",6,92622.575342465701,6.4779023664753499,2.36545003481368,14.100121077814601]
["CDICA201904Borders",2,29349.260273972599,6.8144818006661403,0.76531181013591698,24.603621934923702]
["CDICA201904Dumfries & Galloway",2,37014.246575342499,5.40332489526432,0.60682946661372905,19.508653306792699]
["CDICA201904Fife",4,93424.109589041094,4.2815500384166496,1.1518658238311901,10.9617128454174]
["CDICA201904Forth Valley",0,76480.986301369907,0,0,4.7960907277024996]
["CDICA201904Grampian",8,145975.01369863001,5.48038996352913,2.3597412162407898,10.799216312818301]
["CDICA201904Greater Glasgow & Clyde",10,294405.04109588999,3.3966809680894401,1.62612032651109,6.2470488975289697]
["CDICA201904Highland",3,81131.397260273996,3.6977053290181101,0.74317858105810797,10.8040613331468]
["CDICA201904Lanarkshire",12,167545.86301369901,7.1622180244575002,3.6965577403515302,12.5118198939926]
["CDICA201904Lothian",11,224598.465753425,4.89762918152626,2.4415193935523001,8.7638223945052491]
["CDICA201904Orkney",0,5509.9178082191802,0,0,66.572635384573104]
["CDICA201904Shetland",0,5777.0958904109602,0,0,63.493796226298798]
["CDICA201904Tayside",4,104252.383561644,3.8368427304444501,1.0322261734557401,9.8231640099464705]
["CDICA201904Western Isles",1,6639.1232876712302,15.062229705192999,0.196865367073362,83.8040820806428]
["CDICA202001Ayrshire & Arran",9,90972.650273224004,9.8930832211326294,4.51434686269761,18.7814067298468]
["CDICA202001Borders",3,28931.038251366099,10.369486134353799,2.0840979217987399,30.297861570955]
["CDICA202001Dumfries & Galloway",2,36335.3551912568,5.5042808566826604,0.61816749521768499,19.873153848355699]
["CDICA202001Fife",1,92198.415300546403,1.08461734048272,1.4176094446006799E-2,6.0346550548598197]
["CDICA202001Forth Valley",1,75258.989071038202,1.3287449278066701,1.7366874830579901E-2,7.3929458767819103]
["CDICA202001Grampian",10,143837.18579235001,6.95230509754027,3.3283327876317701,12.786420126852001]
["CDICA202001Greater Glasgow & Clyde",7,290511.28415300499,2.4095449580930102,0.96532529149587798,4.9648375967013001]
["CDICA202001Highland",3,79833.852459016402,3.7578043744539098,0.75525751091750604,10.9796604453466]
["CDICA202001Lanarkshire",3,165363.90710382501,1.8141806471205499,0.36462077941406701,5.3007249731560098]
["CDICA202001Lothian",6,222415.43715847001,2.69765447787917,0.98506684997887295,5.8718474920302599]
["CDICA202001Orkney",0,5460,0,0,67.181272755593696]
["CDICA202001Shetland",0,5688.7431693989101,0,0,64.479927872064593]
["CDICA202001Tayside",0,102588.82513661199,0,0,3.5755331904530601]
["CDICA202001Western Isles",1,6484.3715846994501,15.421694869547601,0.20156362509464101,85.804094610549001]
["CDICA202002Ayrshire & Arran",8,90972.650273224004,8.7938517521179005,3.7864485131676702,17.328457997690201]
["CDICA202002Borders",0,28931.038251366099,0,0,12.678762029158101]
["CDICA202002Dumfries & Galloway",2,36335.3551912568,5.5042808566826604,0.61816749521768499,19.873153848355699]
["CDICA202002Fife",1,92198.415300546403,1.08461734048272,1.4176094446006799E-2,6.0346550548598197]
["CDICA202002Forth Valley",2,75258.989071038202,2.6574898556133499,0.29845385625925003,9.5948419287016407]
["CDICA202002Grampian",10,143837.18579235001,6.95230509754027,3.3283327876317701,12.786420126852001]
["CDICA202002Greater Glasgow & Clyde",13,290511.28415300499,4.4748692078870196,2.3803397907333901,7.6526839554856503]
["CDICA202002Highland",9,79833.852459016402,11.273413123361699,5.1442099523262304,21.401877692807702]
["CDICA202002Lanarkshire",13,165363.90710382501,7.8614494708557201,4.1817805435153304,13.4442338842985]
["CDICA202002Lothian",19,222415.43715847001,8.5425725132840409,5.14077116367669,13.3410504961164]
["CDICA202002Orkney",0,5460,0,0,67.181272755593696]
["CDICA202002Shetland",0,5688.7431693989101,0,0,64.479927872064593]
["CDICA202002Tayside",2,102588.82513661199,1.9495300753631899,0.218945245512984,7.0387598540963596]
["CDICA202002Western Isles",1,6484.3715846994501,15.421694869547601,0.20156362509464101,85.804094610549001]
["CDICA202003Ayrshire & Arran",7,91972.349726775996,7.6109831061129096,3.0491543479202599,15.6823365947875]
["CDICA202003Borders",4,29248.961748633901,13.675699104727499,3.6791746620716301,35.012807324749097]
["CDICA202003Dumfries & Galloway",6,36734.6448087432,16.333355150808298,5.9642355386602697,35.551984609279202]
["CDICA202003Fife",6,93211.584699453597,6.4369681293865799,2.35050262019258,14.0110216029342]
["CDICA202003Forth Valley",1,76086.010928961798,1.3143020481565999,1.7178104451986601E-2,7.3125877694255896]
["CDICA202003Grampian",10,145417.81420764999,6.8767365638713596,3.2921552573314199,12.647437299386199]
["CDICA202003Greater Glasgow & Clyde",10,293703.71584699501,3.4047917886096899,1.63000328468013,6.2619660159940498]
["CDICA202003Highland",8,80711.147540983598,9.9118897992842303,4.26785229625263,19.5315739798849]
["CDICA202003Lanarkshire",8,167181.09289617499,4.78523011269478,2.06041993384919,9.4293901414864596]
["CDICA202003Lothian",21,224859.56284152999,9.3391625130925693,5.7788410232785496,14.2766699349673]
["CDICA202003Orkney",2,5520,36.231884057971001,4.0690825192797302,130.81487388596]
["CDICA202003Shetland",1,5751.2568306010899,17.3875038005473,0.22725701208793,96.741573073751397]
["CDICA202003Tayside",6,103716.17486338801,5.7850185931972797,2.1124388202414202,12.591956159085001]
["CDICA202003Western Isles",0,6555.6284153005499,0,0,55.953407668656801]
["CDICA202004Ayrshire & Arran",8,91972.349726775996,8.6982664069861801,3.7452914641114998,17.1401051933675]
["CDICA202004Borders",0,29248.961748633901,0,0,12.540949398406401]
["CDICA202004Dumfries & Galloway",3,36734.6448087432,8.1666775754041705,1.6413692580689201,23.861632434656599]
["CDICA202004Fife",2,93211.584699453597,2.1456560431288598,0.24097150133051901,7.7468708012935403]
["CDICA202004Forth Valley",1,76086.010928961798,1.3143020481565999,1.7178104451986601E-2,7.3125877694255896]
["CDICA202004Grampian",11,145417.81420764999,7.5644102202584902,3.7709376453427002,13.535762964575101]
["CDICA202004Greater Glasgow & Clyde",9,293703.71584699501,3.0643126097487201,1.3982870361986199,5.8174079995760799]
["CDICA202004Highland",3,80711.147540983598,3.7169586747315901,0.74704819014666302,10.8603163100711]
["CDICA202004Lanarkshire",4,167181.09289617499,2.39261505634739,0.64368546163474805,6.1256224876449901]
["CDICA202004Lothian",8,224859.56284152999,3.5577761954638398,1.53190396713851,7.01066803331421]
["CDICA202004Orkney",1,5520,18.115942028985501,0.236777797658098,100.79449872165]
["CDICA202004Shetland",1,5751.2568306010899,17.3875038005473,0.22725701208793,96.741573073751397]
["CDICA202004Tayside",5,103716.17486338801,4.8208488276643999,1.55357625118439,11.2502235888557]
["CDICA202004Western Isles",0,6555.6284153005499,0,0,55.953407668656801]
["ECBCOM201603Ayrshire & Arran",47,92930.054644808697,50.575672401829898,37.157684714751703,67.256758622404405]
["ECBCOM201603Borders",19,29017.704918032799,65.4772665642231,39.403077153433301,102.256728663712]
["ECBCOM201603Dumfries & Galloway",30,37302.732240437203,80.423063400914103,54.250147778337798,114.81362922365101]
["ECBCOM201603Fife",42,92708.852459016402,45.303117109088198,32.646860331853802,61.238513332095501]
["ECBCOM201603Forth Valley",38,75872.349726775996,50.084121734520998,35.437800843953298,68.746660203397497]
["ECBCOM201603Grampian",56,146810.382513661,38.144441177236899,28.811929058357599,49.534869658166201]
["ECBCOM201603Greater Glasgow & Clyde",189,289334.97267759597,65.322210533671495,56.340401672916997,75.328613675346006]
["ECBCOM201603Highland",41,81140.983606557405,50.529335703895299,36.256507092579497,68.550878673931294]
["ECBCOM201603Lanarkshire",117,165579.89071038301,70.660754453960806,58.437123473633299,84.6859797530485]
["ECBCOM201603Lothian",92,218615.62841530101,42.082999000000001,33.924835999999999,51.611061999999997]
["ECBCOM201603Orkney",2,5437.0491803278701,36.784658988120398,4.13116283510786,132.81066253054399]
["ECBCOM201603Shetland",1,5839.2349726776001,17.125531078627699,0.223832993395258,95.283994486759795]
["ECBCOM201603Tayside",44,103766.448087432,42.402916174721902,30.806852171906701,56.925590557469398]
["ECBCOM201603Western Isles",2,6711.47540983607,29.799706888128998,3.34670607203681,107.591559196093]
["ECBCOM201604Ayrshire & Arran",51,92930.054644808697,54.879984946666497,40.858482189722203,72.158865296059005]
["ECBCOM201604Borders",11,29017.704918032799,37.907891168760699,18.897480398537802,67.832417122629707]
["ECBCOM201604Dumfries & Galloway",23,37302.732240437203,61.657681940700797,39.072857056111701,92.521466924783397]
["ECBCOM201604Fife",38,92708.852459016402,40.988534527270303,29.002076369879301,56.261840235869798]
["ECBCOM201604Forth Valley",40,75872.349726775996,52.720128141601101,37.6594608571721,71.7921327235277]
["ECBCOM201604Grampian",41,146810.382513661,27.9271801476199,20.038696155268699,37.887550100068502]
["ECBCOM201604Greater Glasgow & Clyde",197,289334.97267759597,68.087171826102093,58.910233948260199,78.2882154367705]
["ECBCOM201604Highland",36,81140.983606557405,44.367221593664098,31.069721260357401,61.425084767139602]
["ECBCOM201604Lanarkshire",79,165579.89071038301,47.711107708229903,37.771857497417898,59.463243260509003]
["ECBCOM201604Lothian",70,218615.62841530101,32.019668725157302,24.959718611678699,40.455669662265102]
["ECBCOM201604Orkney",1,5437.0491803278701,18.392329494060199,0.24039021898159199,102.33227886858199]
["ECBCOM201604Shetland",3,5839.2349726776001,51.376593235883099,10.3258589485231,150.113601549751]
["ECBCOM201604Tayside",40,103766.448087432,38.548105613383598,27.535989111525499,52.4932471143374]
["ECBCOM201604Western Isles",1,6711.47540983607,14.899853444064499,0.19474308751205399,82.9006438924131]
["ECBCOM201701Ayrshire & Arran",48,91065.205479452095,52.709484096898798,38.860364831575502,69.886998428355795]
["ECBCOM201701Borders",21,28587.9452054795,73.457535506871395,45.453692347782102,112.293686633843]
["ECBCOM201701Dumfries & Galloway",21,36448.767123287696,57.615117485229803,35.650798882437201,88.075565067837303]
["ECBCOM201701Fife",28,91080,30.742204655248099,20.423299876550299,44.432972941387902]
["ECBCOM201701Forth Valley",35,74640.821917808207,46.891230697513897,32.656450503749802,65.216690122553601]
["ECBCOM201701Grampian",56,143408.21917808201,39.0493657343726,29.495452563714899,50.710016510624001]
["ECBCOM201701Greater Glasgow & Clyde",143,285270.41095890402,50.1278767466004,42.248111505067101,59.0504376247642]
["ECBCOM201701Highland",35,79616.712328767098,43.960619543635403,30.615485558518699,61.140773226170602]
["ECBCOM201701Lanarkshire",90,162919.726027397,55.241929381139002,44.419621342620601,67.902676545857801]
["ECBCOM201701Lothian",52,216396.98630136999,24.029909514350202,17.945295281223,31.512809326349501]
["ECBCOM201701Orkney",0,5355.61643835616,0,0,68.490668341836894]
["ECBCOM201701Shetland",1,5698.3561643835601,17.548920621183701,0.229366751633029,97.639673072926598]
["ECBCOM201701Tayside",40,101946.57534246601,39.236237083618903,28.0275406513531,53.430316647053203]
["ECBCOM201701Western Isles",0,6581.0958904109602,0,0,55.736879594780703]
["ECBCOM201702Ayrshire & Arran",53,92077.041095890396,57.560494309113402,43.113524697644102,75.292373026210299]
["ECBCOM201702Borders",19,28905.5890410959,65.731232714154899,39.555909553520003,102.653351019013]
["ECBCOM201702Dumfries & Galloway",27,36853.753424657501,73.2625512763518,48.268686690064001,106.597927923656]
["ECBCOM201702Fife",28,92092,30.404378230465198,20.198868009775001,43.944698513460501]
["ECBCOM201702Forth Valley",36,75470.164383561598,47.700969375179,33.404296440038998,66.040558369414001]
["ECBCOM201702Grampian",51,145001.64383561601,35.172015055096203,26.185778879164499,46.245870858348397]
["ECBCOM201702Greater Glasgow & Clyde",171,288440.08219178102,59.284409677259703,50.7308931133825,68.866923510935393]
["ECBCOM201702Highland",47,80501.342465753405,58.384119519490703,42.8945103926117,77.640621417856295]
["ECBCOM201702Lanarkshire",109,164729.94520547899,66.168904423562196,54.330267516282603,79.820325402285306]
["ECBCOM201702Lothian",77,218801.39726027401,35.191731389358999,27.771633768706199,43.984360777932103]
["ECBCOM201702Orkney",3,5415.1232876712302,55.400400704268101,11.134578751406799,161.87047745331299]
["ECBCOM201702Shetland",2,5761.6712328767098,34.712150679264496,3.8984063127825399,125.327890930348]
["ECBCOM201702Tayside",28,103079.315068493,27.163548750197702,18.045852861169902,39.260594357000997]
["ECBCOM201702Western Isles",6,6654.2191780821904,90.168355436246003,32.925587240953,196.264879757714]
["ECBCOM201703Ayrshire & Arran",57,93088.876712328798,61.231805574522397,46.373289988955499,79.334700462411007]
["ECBCOM201703Borders",14,29223.2328767123,47.907088374046502,26.1690439350342,80.385308451422603]
["ECBCOM201703Dumfries & Galloway",19,37258.739726027401,50.994746842517003,30.687749347090399,79.639182647236595]
["ECBCOM201703Fife",48,93104,51.555250042962697,38.009399256679501,68.356610588378203]
["ECBCOM201703Forth Valley",52,76299.506849315105,68.152471945455005,50.895582127601998,89.375111972600493]
["ECBCOM201703Grampian",51,146595.06849315099,34.789710543627798,25.9011508478693,45.743198349018598]
["ECBCOM201703Greater Glasgow & Clyde",176,291609.75342465797,60.354634209953701,51.766465961108601,69.960260299462803]
["ECBCOM201703Highland",35,81385.972602739697,43.0049539013825,29.949931524637801,59.811625982123402]
["ECBCOM201703Lanarkshire",90,166540.16438356199,54.041017872853402,43.453977400389697,66.426531403556595]
["ECBCOM201703Lothian",85,221205.808219178,38.425754135614397,30.692059545271999,47.5147573318837]
["ECBCOM201703Orkney",2,5474.6301369863004,36.532148290495599,4.1028041976163099,131.89897505075999]
["ECBCOM201703Shetland",3,5824.9863013698596,51.502267040430503,10.351117337558801,150.480798871194]
["ECBCOM201703Tayside",41,104212.054794521,39.342857293085203,28.2298305453306,53.374686197906399]
["ECBCOM201703Western Isles",4,6727.3424657534197,59.458843077524598,15.9962183440626,152.227758192355]
["ECBCOM201704Ayrshire & Arran",50,93088.876712328798,53.712110153089803,39.862863280334402,70.814542203435096]
["ECBCOM201704Borders",9,29223.2328767123,30.797413954744201,14.0532739852846,58.466985951957597]
["ECBCOM201704Dumfries & Galloway",21,37258.739726027401,56.362614931203098,34.875781515427697,86.160878870710405]
["ECBCOM201704Fife",43,93104,46.184911496820803,33.420669845169698,62.212620809196103]
["ECBCOM201704Forth Valley",46,76299.506849315105,60.288725182517901,44.134713665766398,80.418951700513006]
["ECBCOM201704Grampian",46,146595.06849315099,31.378954607977999,22.971147135082798,41.8562944794744]
["ECBCOM201704Greater Glasgow & Clyde",178,291609.75342465797,61.040482325975901,52.401772950836502,70.696511819449299]
["ECBCOM201704Highland",36,81385.972602739697,44.233666869993399,30.9761948260123,61.240182266422799]
["ECBCOM201704Lanarkshire",88,166540.16438356199,52.840106364567802,42.377913813532302,65.101437295627605]
["ECBCOM201704Lothian",83,221205.808219178,37.521618744188103,29.884680153453299,46.514411293660302]
["ECBCOM201704Orkney",5,5474.6301369863004,91.330370726239096,29.432305397739199,213.13406162563001]
["ECBCOM201704Shetland",1,5824.9863013698596,17.167422346810199,0.22438051790187599,95.517071484384701]
["ECBCOM201704Tayside",46,104212.054794521,44.140766719071202,32.313506285558397,58.879237802061397]
["ECBCOM201704Western Isles",4,6727.3424657534197,59.458843077524598,15.9962183440626,152.227758192355]
["ECBCOM201801Ayrshire & Arran",50,90715.068493150698,55.117634622935,40.905984275188501,72.667598648324798]
["ECBCOM201801Borders",15,28642.1917808219,52.3702938475666,29.289550851826199,86.382439502684605]
["ECBCOM201801Dumfries & Galloway",18,36249.041095890403,49.6564859533365,29.4142594268225,78.483304718272606]
["ECBCOM201801Fife",29,91047.945205479497,31.851350334762699,21.326770968246201,45.745780638535997]
["ECBCOM201801Forth Valley",35,74630.958904109604,46.897427708211701,32.660766286682197,65.225308973463598]
["ECBCOM201801Grampian",53,142698.082191781,37.1413540994686,27.819335231418499,48.582985971908101]
["ECBCOM201801Greater Glasgow & Clyde",129,286397.26027397299,45.042330319988501,37.604704032166602,53.520100986205399]
["ECBCOM201801Highland",35,79426.849315068495,44.065703602522198,30.688669228828001,61.286924956532403]
["ECBCOM201801Lanarkshire",104,163129.31506849299,63.753102841346099,52.089578552514098,77.248502335426707]
["ECBCOM201801Lothian",65,217807.39726027401,29.8428799102387,23.030872247660302,38.037954664315301]
["ECBCOM201801Orkney",1,5377.8082191780804,18.594936063986999,0.24303831408708301,103.459552715054]
["ECBCOM201801Shetland",0,5671.2328767123299,0,0,64.679013755856403]
["ECBCOM201801Tayside",38,101773.97260274,37.337640487246802,26.418829396346901,51.2505359878189]
["ECBCOM201801Western Isles",6,6534.2465753424704,91.823899371069203,33.530120350085703,199.868418157962]
["ECBCOM201802Ayrshire & Arran",51,91723.013698630093,55.6021852569828,41.396164708132901,73.108449282999302]
["ECBCOM201802Borders",24,28960.438356164399,82.871673780764695,53.081343609867901,123.31251481112299]
["ECBCOM201802Dumfries & Galloway",19,36651.8082191781,51.839188632603999,31.195919690055799,80.957958758889504]
["ECBCOM201802Fife",31,92059.589041095896,33.673841392189402,22.875386166228001,47.7992354507249]
["ECBCOM201802Forth Valley",48,75460.1917808219,63.609697864827197,46.896608991832402,84.339487112698194]
["ECBCOM201802Grampian",50,144283.616438356,34.653969199172401,25.718714687809801,45.688113115961201]
["ECBCOM201802Greater Glasgow & Clyde",138,289579.45205479499,47.655314982047699,40.035635370314402,56.302761067017897]
["ECBCOM201802Highland",42,80309.369863013693,52.297758121674697,37.687420072136199,70.693523146785907]
["ECBCOM201802Lanarkshire",76,164941.86301369901,46.076841022274699,36.301801351844901,57.6730136602784]
["ECBCOM201802Lothian",73,220227.47945205501,33.147543704187299,25.981231089415399,41.678794655186302]
["ECBCOM201802Orkney",2,5437.5616438356201,36.781192214479702,4.1307734932785198,132.79814577718199]
["ECBCOM201802Shetland",3,5734.2465753424704,52.317247969421899,10.514915238285001,152.86203349069399]
["ECBCOM201802Tayside",35,102904.79452054801,34.0120206867633,23.686984827819501,47.304184184872]
["ECBCOM201802Western Isles",6,6606.8493150684899,90.814845531826705,33.161657489095703,197.67206191446701]
["ECBCOM201803Ayrshire & Arran",67,92730.958904109604,72.252029733977807,55.991478918477398,91.759288908070403]
["ECBCOM201803Borders",17,29278.684931506901,58.062717091867299,33.8040236278718,92.969717667623399]
["ECBCOM201803Dumfries & Galloway",19,37054.575342465803,51.275719190945303,30.8568336064683,80.077980946292897]
["ECBCOM201803Fife",39,93071.232876712296,41.903388184039301,29.793625520140601,57.285174557592597]
["ECBCOM201803Forth Valley",40,76289.424657534197,52.431906754522402,37.453576265698203,71.399644525863806]
["ECBCOM201803Grampian",57,145869.150684931,39.076117007849398,29.593902852365598,50.628786934575601]
["ECBCOM201803Greater Glasgow & Clyde",151,292761.64383561601,51.577794830522699,43.678658093941202,60.4923214285024]
["ECBCOM201803Highland",43,81191.890410958906,52.960954329739401,38.324000457620699,71.340177183971306]
["ECBCOM201803Lanarkshire",100,166754.41095890399,59.9684286760154,48.791387968793799,72.938608683509301]
["ECBCOM201803Lothian",77,222647.561643836,34.583805648487299,27.2918878065861,43.224545217371698]
["ECBCOM201803Orkney",1,5497.3150684931497,18.190698323465501,0.23775487247649499,101.21043200385699]
["ECBCOM201803Shetland",0,5797.2602739725999,0,0,63.2729482394247]
["ECBCOM201803Tayside",53,104035.616438356,50.9440918547389,38.1577571343161,66.637745444121805]
["ECBCOM201803Western Isles",3,6679.4520547945203,44.913863822805602,9.0269555347541104,131.23061365710501]
["ECBCOM201804Ayrshire & Arran",49,92730.958904109604,52.841036671118097,39.0887410978101,69.8604848233947]
["ECBCOM201804Borders",11,29278.684931506901,37.569993412384697,18.729034831376101,67.227782550549193]
["ECBCOM201804Dumfries & Galloway",23,37054.575342465803,62.070607441670603,39.334530517818102,93.141089198567997]
["ECBCOM201804Fife",46,93071.232876712296,49.424509140148999,36.181500809110702,65.927206145598603]
["ECBCOM201804Forth Valley",37,76289.424657534197,48.4995137479332,34.143383913059701,66.852472614569905]
["ECBCOM201804Grampian",51,145869.150684931,34.962841533338903,26.030047921483199,45.970839369279098]
["ECBCOM201804Greater Glasgow & Clyde",150,292761.64383561601,51.236220030320602,43.364382430123896,60.123534683798198]
["ECBCOM201804Highland",26,81191.890410958906,32.022902617981998,20.912947692418999,46.923131589820201]
["ECBCOM201804Lanarkshire",88,166754.41095890399,52.772217234893503,42.323466540728496,65.017794770609797]
["ECBCOM201804Lothian",71,222647.561643836,31.888963649903801,24.904390576910799,40.224318235191298]
["ECBCOM201804Orkney",3,5497.3150684931497,54.572094970396499,10.968102781796601,159.450310037289]
["ECBCOM201804Shetland",1,5797.2602739725999,17.2495274102079,0.22545364211792801,95.973892261049201]
["ECBCOM201804Tayside",42,104035.616438356,40.370789771679902,29.092469111761599,54.571237155870797]
["ECBCOM201804Western Isles",5,6679.4520547945203,74.856439704676006,24.123383895807301,174.68950258523299]
["ECBCOM201901Ayrshire & Arran",43,90609.041095890396,47.456632892178703,34.3409223586387,63.925672071615097]
["ECBCOM201901Borders",16,28711.2328767123,55.727317836558598,31.832174465105499,90.503376664566801]
["ECBCOM201901Dumfries & Galloway",18,36209.589041095896,49.710589036431699,29.446307649555099,78.568815979797407]
["ECBCOM201901Fife",25,91393.150684931505,27.354347467661899,17.697312212505899,40.382328835776399]
["ECBCOM201901Forth Valley",38,74818.3561643836,50.789675085229199,35.9370261125867,69.715119562904903]
["ECBCOM201901Grampian",56,142801.64383561601,39.215234850141798,29.6207397366035,50.925416311390897]
["ECBCOM201901Greater Glasgow & Clyde",151,288004.93150684901,52.4296577874427,44.400058280987999,61.491417414912199]
["ECBCOM201901Highland",43,79367.671232876703,54.178230672576397,39.2048550364389,72.979889139295395]
["ECBCOM201901Lanarkshire",80,163903.561643836,48.809189500006703,38.701169529469801,60.748237167084397]
["ECBCOM201901Lothian",78,219715.89041095899,35.500390915790398,28.0604670422948,44.306824872113502]
["ECBCOM201901Orkney",6,5390.1369863013697,111.314425129613,40.647218173708602,242.292455680969]
["ECBCOM201901Shetland",1,5651.5068493150702,17.694395966647299,0.231268133954594,98.449076994560897]
["ECBCOM201901Tayside",38,101986.02739726,37.260006071204998,26.3638979554222,51.143973136462499]
["ECBCOM201901Western Isles",5,6494.79452054795,76.984729604319597,24.8092507964137,179.65620826069301]
["ECBCOM201902Ayrshire & Arran",57,91615.8082191781,62.216337014279702,47.118914938779,80.610303984732596]
["ECBCOM201902Borders",19,29030.246575342499,65.448979052551707,39.386054222218398,102.212551675922]
["ECBCOM201902Dumfries & Galloway",20,36611.917808219201,54.627020919155697,33.353382301197499,84.371690109438205]
["ECBCOM201902Fife",33,92408.630136986307,35.710950320420203,24.5775900017426,50.153346098743299]
["ECBCOM201902Forth Valley",41,75649.671232876703,54.197195218188497,38.888320328238301,73.5268988225192]
["ECBCOM201902Grampian",49,144388.32876712299,33.9362609280073,25.104081994054798,44.866713275889502]
["ECBCOM201902Greater Glasgow & Clyde",134,291204.98630137002,46.015695576490799,38.554042441866599,54.499785410766499]
["ECBCOM201902Highland",41,80249.534246575306,51.090639198008397,36.659261330922597,69.312373896225296]
["ECBCOM201902Lanarkshire",80,165724.712328767,48.272824780226401,38.275881952222903,60.080674121292198]
["ECBCOM201902Lothian",69,222157.178082192,31.0590909533753,24.164653342908501,39.308001441240002]
["ECBCOM201902Orkney",5,5450.0273972602699,91.742658073856603,29.5651699315214,214.096200246725]
["ECBCOM201902Shetland",3,5714.3013698630102,52.499856164777597,10.551616513113199,153.39558334581]
["ECBCOM201902Tayside",47,103119.20547945199,45.5783185891259,33.486154736757797,60.611156039775601]
["ECBCOM201902Western Isles",6,6566.9589041095896,91.366492277654004,33.363095044078797,198.87280336876901]
["ECBCOM201903Ayrshire & Arran",55,92622.575342465701,59.380771692690701,44.730568920182698,77.294047234338606]
["ECBCOM201903Borders",24,29349.260273972599,81.773781607993698,52.378116692747597,121.678858356036]
["ECBCOM201903Dumfries & Galloway",29,37014.246575342499,78.348210981332599,52.459764933327598,112.525843812094]
["ECBCOM201903Fife",40,93424.109589041094,42.815500384166498,30.584308453632399,58.304412272071197]
["ECBCOM201903Forth Valley",40,76480.986301369907,52.300580751380203,37.359766431594998,71.220810100000605]
["ECBCOM201903Grampian",50,145975.01369863001,34.252437272057101,25.420714622877199,45.1587297140115]
["ECBCOM201903Greater Glasgow & Clyde",132,294405.04109588999,44.836188778780603,37.513399312959699,53.170509674896699]
["ECBCOM201903Highland",26,81131.397260273996,32.046779518156903,20.928540793718199,46.958118391055301]
["ECBCOM201903Lanarkshire",88,167545.86301369901,52.522932179355003,42.123539225561402,64.710664135786502]
["ECBCOM201903Lothian",62,224598.465753425,27.604819023148,21.163232733010901,35.388868143316103]
["ECBCOM201903Orkney",2,5509.9178082191802,36.298182107482397,4.0765282329472203,131.05424236516501]
["ECBCOM201903Shetland",2,5777.0958904109602,34.619470369527299,3.8879976951233099,124.99326955072]
["ECBCOM201903Tayside",51,104252.383561644,48.919744813166801,36.421047201762001,64.322052561082202]
["ECBCOM201903Western Isles",5,6639.1232876712302,75.311148525964796,24.269919257361199,175.75063851589499]
["ECBCOM201904Ayrshire & Arran",41,92622.575342465701,44.265666170914898,31.762112387315799,60.053239743446902]
["ECBCOM201904Borders",12,29349.260273972599,40.886890803996799,21.1025065369844,71.426115767217198]
["ECBCOM201904Dumfries & Galloway",21,37014.246575342499,56.734911400275401,35.106149292546903,86.730004185688898]
["ECBCOM201904Fife",34,93424.109589041094,36.393175326541503,25.199262570356701,50.857686453732597]
["ECBCOM201904Forth Valley",53,76480.986301369907,69.298269495578793,51.905264005500399,90.646044992457206]
["ECBCOM201904Grampian",38,145975.01369863001,26.031852326763399,18.419242794052899,35.731941469576]
["ECBCOM201904Greater Glasgow & Clyde",125,294405.04109588999,42.458512101117996,35.341408661093901,50.5879138895707]
["ECBCOM201904Highland",43,81131.397260273996,53.000443049259502,38.352575579125102,71.393369810180303]
["ECBCOM201904Lanarkshire",73,167545.86301369901,43.570159648783097,34.150536056002103,54.783900529737203]
["ECBCOM201904Lothian",63,224598.465753425,28.050058039650398,21.553220835912601,35.888943733245199]
["ECBCOM201904Orkney",2,5509.9178082191802,36.298182107482397,4.0765282329472203,131.05424236516501]
["ECBCOM201904Shetland",4,5777.0958904109602,69.238940739054598,18.627358970463799,177.26696623708401]
["ECBCOM201904Tayside",54,104252.383561644,51.797376861000103,38.908953903557801,67.5859531609497]
["ECBCOM201904Western Isles",5,6639.1232876712302,75.311148525964796,24.269919257361199,175.75063851589499]
["ECBCOM202001Ayrshire & Arran",52,90972.650273224004,57.160036388766301,42.686541564765399,74.959638392758194]
["ECBCOM202001Borders",13,28931.038251366099,44.934439915533098,23.902203692734702,76.844495652355604]
["ECBCOM202001Dumfries & Galloway",20,36335.3551912568,55.042808566826601,33.607247954779602,85.013876082064002]
["ECBCOM202001Fife",31,92198.415300546403,33.623137554964302,22.8409419267626,47.727262531878203]
["ECBCOM202001Forth Valley",39,75258.989071038202,51.821052184460299,36.845159538472501,70.843388775794395]
["ECBCOM202001Grampian",48,143837.18579235001,33.371064468193303,24.603005745000502,44.246373683980003]
["ECBCOM202001Greater Glasgow & Clyde",95,290511.28415300499,32.700967288405103,26.456261281291301,39.975775028405501]
["ECBCOM202001Highland",20,79833.852459016402,25.052029163026099,15.295908362488699,38.692976581746002]
["ECBCOM202001Lanarkshire",76,165363.90710382501,45.959243060387301,36.209151383724198,57.525819783444]
["ECBCOM202001Lothian",71,222415.43715847001,31.922244654903501,24.9303821129295,40.266298456028501]
["ECBCOM202001Orkney",3,5460,54.945054945054899,11.043061665778801,160.54003517287501]
["ECBCOM202001Shetland",1,5688.7431693989101,17.578575270883,0.229754341891094,97.804667283352998]
["ECBCOM202001Tayside",41,102588.82513661199,39.965366544945297,28.6765019846213,54.219216520800998]
["ECBCOM202001Western Isles",5,6484.3715846994501,77.108474347738195,24.849129021484899,179.94498645747399]
["ECBCOM202002Ayrshire & Arran",45,90972.650273224004,49.465416105663202,36.076840282741898,66.190502091410295]
["ECBCOM202002Borders",7,28931.038251366099,24.195467646825499,9.6933227083407392,49.854461955257001]
["ECBCOM202002Dumfries & Galloway",22,36335.3551912568,60.547089423509298,37.931015062973998,91.673797328650593]
["ECBCOM202002Fife",36,92198.415300546403,39.046224257377901,27.343504063806002,54.058323886314497]
["ECBCOM202002Forth Valley",29,75258.989071038202,38.533602906393597,25.801019898019501,55.343014573685501]
["ECBCOM202002Grampian",45,143837.18579235001,31.2853729389312,22.817505472770499,41.863481720672297]
["ECBCOM202002Greater Glasgow & Clyde",111,290511.28415300499,38.2084986211892,31.431213328936,46.013415987939197]
["ECBCOM202002Highland",26,79833.852459016402,32.5676379119339,21.2686937297015,47.721331746272398]
["ECBCOM202002Lanarkshire",70,165363.90710382501,42.330881766146199,32.997433750372501,53.483506776511803]
["ECBCOM202002Lothian",48,222415.43715847001,21.581235823033399,15.910887992331601,28.614353183074499]
["ECBCOM202002Orkney",1,5460,18.3150183150183,0.23937975147851701,101.90213057573401]
["ECBCOM202002Shetland",2,5688.7431693989101,35.157150541765901,3.9483827688423299,126.934558714978]
["ECBCOM202002Tayside",41,102588.82513661199,39.965366544945297,28.6765019846213,54.219216520800998]
["ECBCOM202002Western Isles",5,6484.3715846994501,77.108474347738195,24.849129021484899,179.94498645747399]
["ECBCOM202003Ayrshire & Arran",64,91972.349726775996,69.586131255889399,53.586859080744098,88.861726262164893]
["ECBCOM202003Borders",8,29248.961748633901,27.351398209454899,11.776939616739099,53.896468624967603]
["ECBCOM202003Dumfries & Galloway",23,36734.6448087432,62.611194744765299,39.677104058621701,93.952276526877398]
["ECBCOM202003Fife",44,93211.584699453597,47.204432948834899,34.295282468811799,63.3715900923061]
["ECBCOM202003Forth Valley",56,76086.010928961798,73.600914696769706,55.5935351895792,95.579109398566104]
["ECBCOM202003Grampian",39,145417.81420764999,26.819272599098301,19.068705399923999,36.664021190825501]
["ECBCOM202003Greater Glasgow & Clyde",106,293703.71584699501,36.0907929592627,29.547453285647901,43.651299483352901]
["ECBCOM202003Highland",32,80711.147540983598,39.6475591971369,27.114023885241998,55.972695426387503]
["ECBCOM202003Lanarkshire",112,167181.09289617499,66.993221577726999,55.160756009805503,80.611169930501902]
["ECBCOM202003Lothian",83,224859.56284152999,36.9119280279373,29.399082445851501,45.758596227925402]
["ECBCOM202003Orkney",1,5520,18.115942028985501,0.236777797658098,100.79449872165]
["ECBCOM202003Shetland",1,5751.2568306010899,17.3875038005473,0.22725701208793,96.741573073751397]
["ECBCOM202003Tayside",39,103716.17486338801,37.602620855782298,26.7357474634886,51.405692782783902]
["ECBCOM202003Western Isles",6,6555.6284153005499,91.524406508402194,33.420758497692198,199.21652725460399]
["ECBCOM202004Ayrshire & Arran",51,91972.349726775996,55.4514483445369,41.283940161087401,72.910253081398807]
["ECBCOM202004Borders",8,29248.961748633901,27.351398209454899,11.776939616739099,53.896468624967603]
["ECBCOM202004Dumfries & Galloway",23,36734.6448087432,62.611194744765299,39.677104058621701,93.952276526877398]
["ECBCOM202004Fife",26,93211.584699453597,27.8935285606752,18.216209526828798,40.872363344789498]
["ECBCOM202004Forth Valley",46,76086.010928961798,60.457894215203702,44.258554844960301,80.644605771445697]
["ECBCOM202004Grampian",36,145417.81420764999,24.756251629936902,17.336443661895899,34.2742862920825]
["ECBCOM202004Greater Glasgow & Clyde",83,293703.71584699501,28.259771845460399,22.507937319254399,35.032780958799997]
["ECBCOM202004Highland",21,80711.147540983598,26.018710723121099,16.0997297872056,39.774502757248897]
["ECBCOM202004Lanarkshire",81,167181.09289617499,48.450454891034703,38.475210017225599,60.220446705060503]
["ECBCOM202004Lothian",90,224859.56284152999,40.024982198968097,32.183788173957403,49.198198731599298]
["ECBCOM202004Orkney",2,5520,36.231884057971001,4.0690825192797302,130.81487388596]
["ECBCOM202004Shetland",2,5751.2568306010899,34.7750076010946,3.90546556483317,125.554835250685]
["ECBCOM202004Tayside",47,103716.17486338801,45.315978980045401,33.2934151839357,60.262290450311198]
["ECBCOM202004Western Isles",5,6555.6284153005499,76.270338757001895,24.5790297929905,177.989062691632]
["SABCAUN201404Ayrshire & Arran",7,93507.287671232902,7.4860475309814003,2.9991019635159102,15.424908386820301]
["SABCAUN201404Borders",2,28928.328767123301,6.9136382405643104,0.77644774045679299,24.961625321098801]
["SABCAUN201404Dumfries & Galloway",2,37677.150684931497,5.3082570301683498,0.59615271054472896,19.165411681178199]
["SABCAUN201404Fife",9,92342.794520547905,9.7462937381620396,4.4473648483838302,18.5027359735505]
["SABCAUN201404Forth Valley",9,75321.534246575306,11.948774132158899,5.4523862592574401,22.6840088052403]
["SABCAUN201404Grampian",12,146637.917808219,8.1834222548728697,4.2236207799757102,14.295781700559999]
["SABCAUN201404Greater Glasgow & Clyde",15,286850.95890411001,5.2291963942899997,2.9245742662919998,8.6253237855071099]
["SABCAUN201404Highland",1,81068.383561643801,1.2335265069638499,1.6122357269882599E-2,6.8631642632967402]
["SABCAUN201404Lanarkshire",17,165146.30136986301,10.2939029569464,5.9930942988607798,16.482543352062201]
["SABCAUN201404Lothian",32,214594.41095890399,14.911851551496399,10.1978610367938,21.0519018582029]
["SABCAUN201404Orkney",0,5421.6986301369898,0,0,67.655872129556897]
["SABCAUN201404Shetland",0,5880.4383561643799,0,0,62.377960116021001]
["SABCAUN201404Tayside",13,103776,12.526981190255899,6.6635404074781501,21.422978753519502]
["SABCAUN201404Western Isles",0,6853.3698630136996,0,0,53.522538047325099]
["SABCAUN201501Ayrshire & Arran",9,91257.534246575306,9.8621994055660593,4.5002541624953896,18.722775715777601]
["SABCAUN201501Borders",6,28326.5753424658,21.181522748375102,7.7345768565222004,46.104744787482403]
["SABCAUN201501Dumfries & Galloway",1,36695.342465753398,2.7251414833729002,3.5617965530434698E-2,15.162295690870399]
["SABCAUN201501Fife",6,90495.616438356199,6.63015539994369,2.4210462638000898,14.4315225230538]
["SABCAUN201501Forth Valley",6,74063.835616438402,8.1011197301106392,2.95817887697596,17.6332958723773]
["SABCAUN201501Grampian",9,144202.191780822,6.2412366198146403,2.84796016815352,11.848601779024801]
["SABCAUN201501Greater Glasgow & Clyde",26,281685.20547945198,9.2301617174909101,6.0278698496888499,13.5249480046178]
["SABCAUN201501Highland",6,79377.534246575306,7.5588137839628899,2.76015217842094,16.452886062332201]
["SABCAUN201501Lanarkshire",12,161958.082191781,7.40932458424047,3.8240941631660998,12.9434952158092]
["SABCAUN201501Lothian",35,212064.657534247,16.504400312130201,11.494156239233201,22.9544489407449]
["SABCAUN201501Orkney",0,5308.7671232876701,0,0,69.095091332312904]
["SABCAUN201501Shetland",1,5762.4657534246599,17.353682308752902,0.22681496064352999,96.553395152560299]
["SABCAUN201501Tayside",9,101756.712328767,8.8446253755936795,4.0359214537645203,16.790974344308701]
["SABCAUN201501Western Isles",0,6642.7397260274001,0,0,55.2196479727059]
["SABCAUN201502Ayrshire & Arran",4,92271.506849315105,4.3350327057433198,1.16625427103096,11.098640275012199]
["SABCAUN201502Borders",2,28641.315068493099,6.9829195873764096,0.78422849833221198,25.211764966924999]
["SABCAUN201502Dumfries & Galloway",1,37103.068493150698,2.69519487366551,3.5226559315814497E-2,14.9956770569048]
["SABCAUN201502Fife",11,91501.123287671202,12.021710340557201,5.9929483944703001,21.511660111025101]
["SABCAUN201502Forth Valley",10,74886.767123287704,13.3534940606219,6.3928253274066904,24.5592480227808]
["SABCAUN201502Grampian",13,145804.438356164,8.91605231402092,4.7427607631343198,15.247759726590299]
["SABCAUN201502Greater Glasgow & Clyde",23,284815.04109588999,8.0754162109916301,5.1174415474156598,12.117700996085]
["SABCAUN201502Highland",3,80259.506849315105,3.7378749481135198,0.75125202062796703,10.9214300766835]
["SABCAUN201502Lanarkshire",23,163757.616438356,14.0451482503459,8.9004979208504196,21.075682354517198]
["SABCAUN201502Lothian",28,214420.93150684901,13.0584266205865,8.6752451809807507,18.873881141460899]
["SABCAUN201502Orkney",0,5367.7534246575296,0,0,68.335804614375405]
["SABCAUN201502Shetland",2,5826.4931506849298,34.325965006324402,3.85503508294414,123.933571219527]
["SABCAUN201502Tayside",11,102887.342465753,10.6913053990693,5.3297276103870903,19.131032221933001]
["SABCAUN201502Western Isles",0,6716.5479452054797,0,0,54.612838654324499]
["SABCAUN201503Ayrshire & Arran",5,93285.479452054802,5.3598909812858997,1.7272890387433,12.5081648703288]
["SABCAUN201503Borders",2,28956.0547945205,6.9070182875136199,0.77570427552425303,24.9377240433715]
["SABCAUN201503Dumfries & Galloway",0,37510.794520547897,0,0,9.7787784538823406]
["SABCAUN201503Fife",14,92506.630136986307,15.1340503694367,8.2669108575457404,25.394056461289701]
["SABCAUN201503Forth Valley",8,75709.698630137005,10.566677908839999,4.5497903518117404,20.821846840248998]
["SABCAUN201503Grampian",8,147406.68493150701,5.42716227809969,2.3368224889259799,10.694330110812899]
["SABCAUN201503Greater Glasgow & Clyde",31,287944.87671232899,10.7659494948995,7.3135479042511999,15.282015163160899]
["SABCAUN201503Highland",4,81141.479452054802,4.9296611634540604,1.3262272229219401,12.6210203347228]
["SABCAUN201503Lanarkshire",14,165557.150684931,8.4562943624483609,4.6192149472890396,14.189170199074301]
["SABCAUN201503Lothian",17,216777.20547945201,7.8421529433413601,4.5656892523761501,12.556814106635899]
["SABCAUN201503Orkney",0,5426.7397260274001,0,0,67.5930241294366]
["SABCAUN201503Shetland",1,5890.5205479452097,16.976428345519199,0.22188420062954001,94.4544083014177]
["SABCAUN201503Tayside",8,104017.97260274,7.6909785874727703,3.31157441110228,15.155224715047]
["SABCAUN201503Western Isles",1,6790.3561643835601,14.7267680191085,0.19248083773987901,81.937621455238698]
["SABCAUN201504Ayrshire & Arran",3,93285.479452054802,3.2159345887715398,0.64635050437985397,9.3964097863098708]
["SABCAUN201504Borders",4,28956.0547945205,13.814036575027201,3.71639160517958,35.366981773624303]
["SABCAUN201504Dumfries & Galloway",4,37510.794520547897,10.663597108850499,2.8688285687611201,27.301161578779499]
["SABCAUN201504Fife",7,92506.630136986307,7.5670251847183403,3.0315436811670899,15.5917618412103]
["SABCAUN201504Forth Valley",2,75709.698630137005,2.64166947720999,0.29667712212346797,9.5377226024653297]
["SABCAUN201504Grampian",11,147406.68493150701,7.4623481323870697,3.7200586266075901,13.353132965821599]
["SABCAUN201504Greater Glasgow & Clyde",35,287944.87671232899,12.155104268434901,8.4651768572819304,16.905414012174301]
["SABCAUN201504Highland",6,81141.479452054802,7.3944917451810896,2.7001488701944001,16.095214626194501]
["SABCAUN201504Lanarkshire",10,165557.150684931,6.0402102588916904,2.8916783091081202,11.1089293322348]
["SABCAUN201504Lothian",16,216777.20547945201,7.3808498290271602,4.21603817623902,11.9867931584324]
["SABCAUN201504Orkney",0,5426.7397260274001,0,0,67.5930241294366]
["SABCAUN201504Shetland",1,5890.5205479452097,16.976428345519199,0.22188420062954001,94.4544083014177]
["SABCAUN201504Tayside",4,104017.97260274,3.8454892937363798,1.0345523592202901,9.8453011198845601]
["SABCAUN201504Western Isles",1,6790.3561643835601,14.7267680191085,0.19248083773987901,81.937621455238698]
["SABCAUN201601Ayrshire & Arran",6,91919.945355191303,6.5274190240378998,2.3835313785463899,14.207901471451599]
["SABCAUN201601Borders",2,28702.295081967201,6.9680838911608101,0.78256235058136203,25.1582008263921]
["SABCAUN201601Dumfries & Galloway",5,36897.267759562797,13.551138888066101,4.3670167444765999,31.6237550324186]
["SABCAUN201601Fife",6,91701.147540983598,6.5429933658337802,2.38921845520471,14.241801350240401]
["SABCAUN201601Forth Valley",5,75047.650273224004,6.6624337761363996,2.1470490487686398,15.547857297942301]
["SABCAUN201601Grampian",9,145214.617486339,6.1977231740094503,2.8281043978981701,11.765994192934899]
["SABCAUN201601Greater Glasgow & Clyde",37,286190.02732240403,12.928472856364801,9.1015719134554196,17.820805009930002]
["SABCAUN201601Highland",9,80259.016393442595,11.213693369827199,5.1169590259988498,21.288503433654402]
["SABCAUN201601Lanarkshire",22,163780.10928961699,13.4326445961131,8.4151665978003205,20.3382449927268]
["SABCAUN201601Lothian",25,216239.37158469899,11.5612618630866,7.4797346565646103,17.067512901326399]
["SABCAUN201601Orkney",0,5377.9508196721299,0,0,68.206229760186702]
["SABCAUN201601Shetland",4,5775.7650273223999,69.254894911373597,18.631651122996601,177.30781243859499]
["SABCAUN201601Tayside",8,102638.551912568,7.7943422339149198,3.3560806339064402,15.358904815229501]
["SABCAUN201601Western Isles",1,6638.52459016393,15.063588097296,0.19688312144075801,83.811639979142896]
["SABCAUN201602Ayrshire & Arran",6,91919.945355191303,6.5274190240378998,2.3835313785463899,14.207901471451599]
["SABCAUN201602Borders",7,28702.295081967201,24.3882936190628,9.7705737209158805,50.251777487124897]
["SABCAUN201602Dumfries & Galloway",1,36897.267759562797,2.7102277776132202,3.5423041391295297E-2,15.0793179746841]
["SABCAUN201602Fife",10,91701.147540983598,10.904988943056299,5.2206328316600397,20.056048770633801]
["SABCAUN201602Forth Valley",4,75047.650273224004,5.3299470209091204,1.4339161661383899,13.6458404550376]
["SABCAUN201602Grampian",9,145214.617486339,6.1977231740094503,2.8281043978981701,11.765994192934899]
["SABCAUN201602Greater Glasgow & Clyde",35,286190.02732240403,12.2296364857505,8.5170833146193399,17.0090740025075]
["SABCAUN201602Highland",6,80259.016393442595,7.4757955798848004,2.7298375174987601,16.2721845538899]
["SABCAUN201602Lanarkshire",15,163780.10928961699,9.1586213155316898,5.1222150010210301,15.1067331036882]
["SABCAUN201602Lothian",18,216239.37158469899,8.3241085414223601,4.9308259220057504,13.156459516252401]
["SABCAUN201602Orkney",0,5377.9508196721299,0,0,68.206229760186702]
["SABCAUN201602Shetland",0,5775.7650273223999,0,0,63.508426591168302]
["SABCAUN201602Tayside",9,102638.551912568,8.7686350131542792,4.0012460298743502,16.646711340286402]
["SABCAUN201602Western Isles",1,6638.52459016393,15.063588097296,0.19688312144075801,83.811639979142896]
["SABCAUN201603Ayrshire & Arran",15,92930.054644808697,16.1411720431372,9.0274016934413392,26.624135842680801]
["SABCAUN201603Borders",4,29017.704918032799,13.784687697731201,3.70849587386222,35.291842171758503]
["SABCAUN201603Dumfries & Galloway",0,37302.732240437203,0,0,9.8333212398825403]
["SABCAUN201603Fife",6,92708.852459016402,6.4718738727268903,2.36324868938727,14.0869991616508]
["SABCAUN201603Forth Valley",1,75872.349726775996,1.31800320354003,1.7226479050396998E-2,7.3331804662318802]
["SABCAUN201603Grampian",9,146810.382513661,6.1303566177702198,2.7973641327036298,11.638102951707401]
["SABCAUN201603Greater Glasgow & Clyde",31,289334.97267759597,10.714225008168301,7.2784103149739696,15.208593456054899]
["SABCAUN201603Highland",9,81140.983606557405,11.091805398416,5.0613399061510398,21.057106657201601]
["SABCAUN201603Lanarkshire",13,165579.89071038301,7.8511949393289804,4.1763257987408,13.426697128420299]
["SABCAUN201603Lothian",23,218615.62841530101,10.520748295408801,6.6670637190867899,15.787084995731799]
["SABCAUN201603Orkney",0,5437.0491803278701,0,0,67.464857697575994]
["SABCAUN201603Shetland",1,5839.2349726776001,17.125531078627699,0.223832993395258,95.283994486759795]
["SABCAUN201603Tayside",13,103766.448087432,12.528134324349701,6.6641537999237901,21.42495078228]
["SABCAUN201603Western Isles",2,6711.47540983607,29.799706888128998,3.34670607203681,107.591559196093]
["SABCAUN201604Ayrshire & Arran",10,92930.054644808697,10.7607813620915,5.1515951796559403,19.7908275684823]
["SABCAUN201604Borders",2,29017.704918032799,6.8923438488655897,0.77405623807504298,24.884742121757402]
["SABCAUN201604Dumfries & Galloway",5,37302.732240437203,13.403843900152401,4.3195491711670702,31.280018564674901]
["SABCAUN201604Fife",7,92708.852459016402,7.5505195181813702,3.0249310893133399,15.5577521193721]
["SABCAUN201604Forth Valley",4,75872.349726775996,5.2720128141601101,1.41833012085428,13.4975161022655]
["SABCAUN201604Grampian",16,146810.382513661,10.8984117649248,6.2253156649512498,17.699453397333102]
["SABCAUN201604Greater Glasgow & Clyde",28,289334.97267759597,9.6773645235068901,6.4290677879060203,13.9870930155792]
["SABCAUN201604Highland",11,81140.983606557405,13.5566510425085,6.7581323953135204,24.258284487721099]
["SABCAUN201604Lanarkshire",12,165579.89071038301,7.2472568670728998,3.74044791387418,12.6603759249825]
["SABCAUN201604Lothian",25,218615.62841530101,11.4355959732705,7.3984331929062996,16.881996456746698]
["SABCAUN201604Orkney",0,5437.0491803278701,0,0,67.464857697575994]
["SABCAUN201604Shetland",2,5839.2349726776001,34.251062157255397,3.84662299282751,123.663135193098]
["SABCAUN201604Tayside",13,103766.448087432,12.528134324349701,6.6641537999237901,21.42495078228]
["SABCAUN201604Western Isles",0,6711.47540983607,0,0,54.654115056126201]
["SABCAUN201701Ayrshire & Arran",6,91065.205479452095,6.5886855121123498,2.4059032526732098,14.341257124407001]
["SABCAUN201701Borders",2,28587.9452054795,6.9959557625591797,0.78569254785471498,25.258831953829699]
["SABCAUN201701Dumfries & Galloway",10,36448.767123287696,27.435770231061799,13.1345463602111,50.4588449091871]
["SABCAUN201701Fife",7,91080,7.68555116381203,3.0790282175871999,15.835983155784101]
["SABCAUN201701Forth Valley",7,74640.821917808207,9.3782461395027905,3.7571650854360898,19.3237602262348]
["SABCAUN201701Grampian",17,143408.21917808201,11.854271740791701,6.90153857910075,18.9809976538466]
["SABCAUN201701Greater Glasgow & Clyde",28,285270.41095890402,9.8152485937399394,6.52066979713564,14.1863825340253]
["SABCAUN201701Highland",10,79616.712328767098,12.5601770124673,6.0130342933085696,23.100208908532501]
["SABCAUN201701Lanarkshire",15,162919.726027397,9.2069882301898396,5.1492655501462599,15.186512149640301]
["SABCAUN201701Lothian",30,216396.98630136999,13.863409335202,9.3516955627152907,19.791689993861802]
["SABCAUN201701Orkney",0,5355.61643835616,0,0,68.490668341836894]
["SABCAUN201701Shetland",1,5698.3561643835601,17.548920621183701,0.229366751633029,97.639673072926598]
["SABCAUN201701Tayside",7,101946.57534246601,6.8663414896333004,2.7508318853848301,14.1480117501113]
["SABCAUN201701Western Isles",2,6581.0958904109602,30.390075350734801,3.41300839259182,109.72307893319601]
["SABCAUN201702Ayrshire & Arran",8,92077.041095890396,8.6883764994888093,3.7410330769343698,17.120616935946298]
["SABCAUN201702Borders",3,28905.5890410959,10.378615691708699,2.0859328142190399,30.3245365731064]
["SABCAUN201702Dumfries & Galloway",5,36853.753424657501,13.5671391252503,4.3721730124682603,31.661094150949801]
["SABCAUN201702Fife",16,92092,17.373930417408701,9.9242168053661608,28.215952781405399]
["SABCAUN201702Forth Valley",3,75470.164383561598,3.97508078126492,0.79892653193008201,11.614504873594999]
["SABCAUN201702Grampian",9,145001.64383561601,6.2068261861934504,2.8322582247260102,11.783275698656899]
["SABCAUN201702Greater Glasgow & Clyde",33,288440.08219178102,11.4408509903484,7.8740146198524599,16.0678154525332]
["SABCAUN201702Highland",7,80501.342465753405,8.6955071624773392,3.4836424023257102,17.916985004845198]
["SABCAUN201702Lanarkshire",10,164729.94520547899,6.0705416902350597,2.9061991185403202,11.1647137690171]
["SABCAUN201702Lothian",20,218801.39726027401,9.1407094517815697,5.5810031687547399,14.117868634782001]
["SABCAUN201702Orkney",1,5415.1232876712302,18.466800234756001,0.241363561573643,102.74662337056]
["SABCAUN201702Shetland",0,5761.6712328767098,0,0,63.663776432172298]
["SABCAUN201702Tayside",10,103079.315068493,9.7012674107848902,4.6443655667992498,17.842209042454201]
["SABCAUN201702Western Isles",1,6654.2191780821904,15.028059239374301,0.19641875449155199,83.6139625181181]
["SABCAUN201703Ayrshire & Arran",15,93088.876712328798,16.1136330459269,9.0119997393956801,26.5787115078966]
["SABCAUN201703Borders",7,29223.2328767123,23.953544187023301,9.5964019874515607,49.355981657258802]
["SABCAUN201703Dumfries & Galloway",3,37258.739726027401,8.0518021330290104,1.6182811640575301,23.525986077075402]
["SABCAUN201703Fife",11,93104,11.814744801512299,5.8897739076632396,21.141315775276901]
["SABCAUN201703Forth Valley",6,76299.506849315105,7.8637467629371196,2.87150052622306,17.116618190560398]
["SABCAUN201703Grampian",12,146595.06849315099,8.1858142455594791,4.2248553321294198,14.299960316256501]
["SABCAUN201703Greater Glasgow & Clyde",25,291609.75342465797,8.5731014502775196,5.5464987119291198,12.6561893796536]
["SABCAUN201703Highland",9,81385.972602739697,11.0584167174984,5.0461042022171601,20.993720311158501]
["SABCAUN201703Lanarkshire",15,166540.16438356199,9.0068363121422408,5.0373249947082899,14.8563705811699]
["SABCAUN201703Lothian",13,221205.808219178,5.8768800442704299,3.1261184997514899,10.0503285199565]
["SABCAUN201703Orkney",0,5474.6301369863004,0,0,67.001740769188302]
["SABCAUN201703Shetland",0,5824.9863013698596,0,0,62.971778862257402]
["SABCAUN201703Tayside",11,104212.054794521,10.555400737169199,5.2619777143854103,18.8878442884794]
["SABCAUN201703Western Isles",0,6727.3424657534197,0,0,54.525208299242003]
["SABCAUN201704Ayrshire & Arran",6,93088.876712328798,6.4454532183707798,2.3536010080498801,14.029490665180701]
["SABCAUN201704Borders",2,29223.2328767123,6.8438697677209399,0.76861227507526397,24.709726911355101]
["SABCAUN201704Dumfries & Galloway",6,37258.739726027401,16.103604266057999,5.8803404430589996,35.051897527158303]
["SABCAUN201704Fife",13,93104,13.962880219969099,7.42734543442229,23.878577108666001]
["SABCAUN201704Forth Valley",5,76299.506849315105,6.5531223024476004,2.1118221176667298,15.2927614499312]
["SABCAUN201704Grampian",17,146595.06849315099,11.5965701812093,6.751505131729,18.568367270067299]
["SABCAUN201704Greater Glasgow & Clyde",28,291609.75342465797,9.6018736243108194,6.37891610589356,13.8779829137204]
["SABCAUN201704Highland",2,81385.972602739697,2.4574259372218599,0.27598534229064398,8.8725130481046595]
["SABCAUN201704Lanarkshire",10,166540.16438356199,6.0045575414281602,2.87460999768662,11.0433581845713]
["SABCAUN201704Lothian",17,221205.808219178,7.6851508271228699,4.47428286438576,12.305423142706999]
["SABCAUN201704Orkney",0,5474.6301369863004,0,0,67.001740769188302]
["SABCAUN201704Shetland",0,5824.9863013698596,0,0,62.971778862257402]
["SABCAUN201704Tayside",25,104212.054794521,23.989547129929999,15.5204033251715,35.414984106911803]
["SABCAUN201704Western Isles",1,6727.3424657534197,14.8647107693811,0.194283768029687,82.705115099442907]
["SABCAUN201801Ayrshire & Arran",9,90715.068493150698,9.9211742321282994,4.5271651686315399,18.834735777138601]
["SABCAUN201801Borders",3,28642.1917808219,10.474058769513301,2.1051153192656198,30.6034048913397]
["SABCAUN201801Dumfries & Galloway",7,36249.041095890403,19.310855648519802,7.7364223046891896,39.789779321702802]
["SABCAUN201801Fife",13,91047.945205479497,14.2781915293764,7.5950705726067902,24.417805784720102]
["SABCAUN201801Forth Valley",6,74630.958904109604,8.0395590356934399,2.9356995714053902,17.499299835418]
["SABCAUN201801Grampian",15,142698.082191781,10.511703990415601,5.8789643125313402,17.338581995838801]
["SABCAUN201801Greater Glasgow & Clyde",18,286397.26027397299,6.2849763237193299,3.7229360984392299,9.9335605911607896]
["SABCAUN201801Highland",12,79426.849315068495,15.1082412351505,7.7976523320265398,26.392884523159001]
["SABCAUN201801Lanarkshire",13,163129.31506849299,7.9691378551682703,4.2390637699674398,13.6283968469541]
["SABCAUN201801Lothian",24,217807.39726027401,11.0189095053189,7.0578823254518603,16.396066105430201]
["SABCAUN201801Orkney",0,5377.8082191780804,0,0,68.208038348679395]
["SABCAUN201801Shetland",1,5671.2328767123299,17.632850241545899,0.23046372305388199,98.106645422405805]
["SABCAUN201801Tayside",13,101773.97260274,12.7734033245844,6.7946209786433904,21.844396816494001]
["SABCAUN201801Western Isles",1,6534.2465753424704,15.3039832285115,0.200025118122237,85.149163951522098]
["SABCAUN201802Ayrshire & Arran",9,91723.013698630093,9.8121503394675393,4.4774161008443798,18.6277606587085]
["SABCAUN201802Borders",3,28960.438356164399,10.358959222595599,2.08198218388908,30.267103738687599]
["SABCAUN201802Dumfries & Galloway",5,36651.8082191781,13.6418917454221,4.3962629392766397,31.835541374011299]
["SABCAUN201802Fife",6,92059.589041095896,6.5175176888108499,2.3799158387570398,14.1863497379374]
["SABCAUN201802Forth Valley",13,75460.1917808219,17.227626505057401,9.1639784236832593,29.461773031038799]
["SABCAUN201802Grampian",9,144283.616438356,6.2377144558510302,2.8463529573898398,11.8419151685424]
["SABCAUN201802Greater Glasgow & Clyde",16,289579.45205479499,5.52525391096205,3.1560974632511001,8.97323171622517]
["SABCAUN201802Highland",10,80309.369863013693,12.4518471718273,5.9611726797254097,22.900972707694901]
["SABCAUN201802Lanarkshire",13,164941.86301369901,7.8815649117048796,4.1924806516161501,13.4786342442403]
["SABCAUN201802Lothian",21,220227.47945205501,9.5355947642182706,5.90038840501742,14.576953649912101]
["SABCAUN201802Orkney",0,5437.5616438356201,0,0,67.458499465726902]
["SABCAUN201802Shetland",0,5734.2465753424704,0,0,63.968255362934897]
["SABCAUN201802Tayside",18,102904.79452054801,17.491896353192502,10.3614093370078,27.646374994761601]
["SABCAUN201802Western Isles",0,6606.8493150684899,0,0,55.519617862169902]
["SABCAUN201803Ayrshire & Arran",17,92730.958904109604,18.3326045593675,10.673213875002901,29.3540701393616]
["SABCAUN201803Borders",3,29278.684931506901,10.246361839741301,2.0593519427598501,29.938113480658401]
["SABCAUN201803Dumfries & Galloway",4,37054.575342465803,10.7948882507253,2.9041498374466399,27.6372958720765]
["SABCAUN201803Fife",8,93071.232876712296,8.5955668069824291,3.70107116580553,16.937733609764699]
["SABCAUN201803Forth Valley",6,76289.424657534197,7.8647860131783602,2.8718800155052802,17.118880273778501]
["SABCAUN201803Grampian",15,145869.150684931,10.283188686276199,5.75116074051979,16.961656300277099]
["SABCAUN201803Greater Glasgow & Clyde",23,292761.64383561601,7.8562204046491599,4.9785357997627502,11.788783059045601]
["SABCAUN201803Highland",9,81191.890410958906,11.084850906224499,5.0581664778775002,21.0439039838258]
["SABCAUN201803Lanarkshire",13,166754.41095890399,7.7958957278819998,4.14691020975076,13.332127350281199]
["SABCAUN201803Lothian",18,222647.561643836,8.0845259957502709,4.7889080432585596,12.777793374737]
["SABCAUN201803Orkney",0,5497.3150684931497,0,0,66.725254906316806]
["SABCAUN201803Shetland",0,5797.2602739725999,0,0,63.2729482394247]
["SABCAUN201803Tayside",15,104035.616438356,14.4181392041714,8.0637474106689595,23.782070827610799]
["SABCAUN201803Western Isles",1,6679.4520547945203,14.9712879409352,0.195676745989145,83.298095169967198]
["SABCAUN201804Ayrshire & Arran",7,92730.958904109604,7.5487195244454401,3.02420996581988,15.554043254532701]
["SABCAUN201804Borders",3,29278.684931506901,10.246361839741301,2.0593519427598501,29.938113480658401]
["SABCAUN201804Dumfries & Galloway",3,37054.575342465803,8.0961661880439895,1.6271976169715301,23.6556102436112]
["SABCAUN201804Fife",12,93071.232876712296,12.893350210473599,6.6545047018726304,22.523647718171301]
["SABCAUN201804Forth Valley",4,76289.424657534197,5.2431906754522402,1.4105760980705999,13.4237250674132]
["SABCAUN201804Grampian",13,145869.150684931,8.9120968614393394,4.7406567192543996,15.2409953213973]
["SABCAUN201804Greater Glasgow & Clyde",16,292761.64383561601,5.4651968032341998,3.1217920560418499,8.8756965888749004]
["SABCAUN201804Highland",3,81191.890410958906,3.6949503020748402,0.74262486548796702,10.7960116165196]
["SABCAUN201804Lanarkshire",14,166754.41095890399,8.3955800146421495,4.58604999218214,14.087295054049299]
["SABCAUN201804Lothian",24,222647.561643836,10.7793679943337,6.9044501009855104,16.039629885746901]
["SABCAUN201804Orkney",1,5497.3150684931497,18.190698323465501,0.23775487247649499,101.21043200385699]
["SABCAUN201804Shetland",0,5797.2602739725999,0,0,63.2729482394247]
["SABCAUN201804Tayside",11,104035.616438356,10.573302083059,5.2709017226230097,18.9198769741291]
["SABCAUN201804Western Isles",2,6679.4520547945203,29.9425758818704,3.3627512140462699,108.107386343491]
["SABCAUN201901Ayrshire & Arran",11,90609.041095890396,12.1400688793945,6.0519513645305496,21.723450994899199]
["SABCAUN201901Borders",3,28711.2328767123,10.4488720943547,2.1000532075394598,30.529813742511401]
["SABCAUN201901Dumfries & Galloway",6,36209.589041095896,16.5701963454772,6.0507197090723199,36.067504808893297]
["SABCAUN201901Fife",11,91393.150684931505,12.0359128857712,6.0000285118684502,21.537074159168]
["SABCAUN201901Forth Valley",6,74818.3561643836,8.0194223818783001,2.9283465355346201,17.455469403770199]
["SABCAUN201901Grampian",10,142801.64383561601,7.0027205089538898,3.3524685619477199,12.8791422703941]
["SABCAUN201901Greater Glasgow & Clyde",31,288004.93150684901,10.763704578879,7.3120228830847003,15.27882855703]
["SABCAUN201901Highland",10,79367.671232876703,12.5995885285061,6.0319020845234403,23.172693098285201]
["SABCAUN201901Lanarkshire",16,163903.561643836,9.7618379000013409,5.5760897742160402,15.8536123161965]
["SABCAUN201901Lothian",23,219715.89041095899,10.468063987989501,6.6336773453519502,15.7080286761795]
["SABCAUN201901Orkney",0,5390.1369863013697,0,0,68.052027282008098]
["SABCAUN201901Shetland",2,5651.5068493150702,35.388791933294499,3.9743976439038202,127.770897762959]
["SABCAUN201901Tayside",13,101986.02739726,12.746844182254399,6.7804932398516904,21.798976780077599]
["SABCAUN201901Western Isles",2,6494.79452054795,30.793891841727799,3.4583596810279298,111.18105454544499]
["SABCAUN201902Ayrshire & Arran",15,91615.8082191781,16.372720266915699,9.1569015105466391,27.006064202501001]
["SABCAUN201902Borders",3,29030.246575342499,10.334049324087101,2.0769756997642999,30.194321283802399]
["SABCAUN201902Dumfries & Galloway",6,36611.917808219201,16.388106275746701,5.9842282836978997,35.671158602202198]
["SABCAUN201902Fife",9,92408.630136986307,9.7393500873873204,4.4441963671945102,18.4895538819341]
["SABCAUN201902Forth Valley",9,75649.671232876703,11.8969452917975,5.4287360626854504,22.585614956790302]
["SABCAUN201902Grampian",12,144388.32876712299,8.3109210435936305,4.2894253439699499,14.518511848640999]
["SABCAUN201902Greater Glasgow & Clyde",18,291204.98630137002,6.1812128386330896,3.6614712965959102,9.7695598355232196]
["SABCAUN201902Highland",6,80249.534246575306,7.4766789070256197,2.73016007040213,16.274107247214399]
["SABCAUN201902Lanarkshire",11,165724.712328767,6.6375134072811299,3.30886988544732,11.8771729109208]
["SABCAUN201902Lothian",31,222157.178082192,13.9540843413715,9.4793185068285304,19.807498502003401]
["SABCAUN201902Orkney",1,5450.0273972602699,18.3485316147713,0.23981777481150601,102.088593760685]
["SABCAUN201902Shetland",2,5714.3013698630102,34.999904109851798,3.9307229445202601,126.36682196336599]
["SABCAUN201902Tayside",10,103119.20547945199,9.6975145934310394,4.6425689504440104,17.835307000804299]
["SABCAUN201902Western Isles",0,6566.9589041095896,0,0,55.856866869685]
["SABCAUN201903Ayrshire & Arran",8,92622.575342465701,8.63720315530046,3.7189989059615498,17.019778853799199]
["SABCAUN201903Borders",2,29349.260273972599,6.8144818006661403,0.76531181013591698,24.603621934923702]
["SABCAUN201903Dumfries & Galloway",3,37014.246575342499,8.1049873428964805,1.62897052550891,23.681384146498399]
["SABCAUN201903Fife",11,93424.109589041094,11.7742626056458,5.8695931094365301,21.068876894838201]
["SABCAUN201903Forth Valley",10,76480.986301369907,13.0751451878451,6.2595691387518801,24.0473191618883]
["SABCAUN201903Grampian",6,145975.01369863001,4.1102924726468499,1.5009012057412401,8.9466648694004007]
["SABCAUN201903Greater Glasgow & Clyde",17,294405.04109588999,5.7743576457520502,3.3618220446684002,9.2458711360003498]
["SABCAUN201903Highland",10,81131.397260273996,12.3256844300604,5.9007737783381504,22.6689389004964]
["SABCAUN201903Lanarkshire",12,167545.86301369901,7.1622180244575002,3.6965577403515302,12.5118198939926]
["SABCAUN201903Lothian",15,224598.465753425,6.6785852475358203,3.73518550030145,11.016025378585701]
["SABCAUN201903Orkney",0,5509.9178082191802,0,0,66.572635384573104]
["SABCAUN201903Shetland",0,5777.0958904109602,0,0,63.493796226298798]
["SABCAUN201903Tayside",8,104252.383561644,7.67368546088891,3.3041283527325001,15.1211482686724]
["SABCAUN201903Western Isles",0,6639.1232876712302,0,0,55.249727012405799]
["SABCAUN201904Ayrshire & Arran",9,92622.575342465701,9.7168535497130204,4.4339308946414704,18.4468455962935]
["SABCAUN201904Borders",2,29349.260273972599,6.8144818006661403,0.76531181013591698,24.603621934923702]
["SABCAUN201904Dumfries & Galloway",2,37014.246575342499,5.40332489526432,0.60682946661372905,19.508653306792699]
["SABCAUN201904Fife",8,93424.109589041094,8.5631000768332992,3.6870916713171198,16.873757278849599]
["SABCAUN201904Forth Valley",14,76480.986301369907,18.305203262983099,9.9991396823908705,30.715066611270899]
["SABCAUN201904Grampian",13,145975.01369863001,8.9056336907348399,4.73721873220103,15.229942349689299]
["SABCAUN201904Greater Glasgow & Clyde",22,294405.04109588999,7.4726981297967603,4.6814310649971898,11.3143442628174]
["SABCAUN201904Highland",10,81131.397260273996,12.3256844300604,5.9007737783381504,22.6689389004964]
["SABCAUN201904Lanarkshire",16,167545.86301369901,9.5496240326099997,5.4548704312982998,15.5089685701923]
["SABCAUN201904Lothian",21,224598.465753425,9.3500193465501393,5.78555896126064,14.2932666509572]
["SABCAUN201904Orkney",0,5509.9178082191802,0,0,66.572635384573104]
["SABCAUN201904Shetland",1,5777.0958904109602,17.3097351847636,0.22624056582514601,96.308879668592098]
["SABCAUN201904Tayside",14,104252.383561644,13.428949556555599,7.3355067668283196,22.532996450419301]
["SABCAUN201904Western Isles",0,6639.1232876712302,0,0,55.249727012405799]
["SABCAUN202001Ayrshire & Arran",15,90972.650273224004,16.4884720352211,9.2216389228253703,27.196991527676399]
["SABCAUN202001Borders",3,28931.038251366099,10.369486134353799,2.0840979217987399,30.297861570955]
["SABCAUN202001Dumfries & Galloway",8,36335.3551912568,22.017123426730699,9.4801125392289496,43.385175152421503]
["SABCAUN202001Fife",6,92198.415300546403,6.5077040428963198,2.3763323193155701,14.1649888732961]
["SABCAUN202001Forth Valley",6,75258.989071038202,7.97246956684004,2.91120139630844,17.353269595941999]
["SABCAUN202001Grampian",16,143837.18579235001,11.1236881560644,6.3539964926676902,18.065311200515701]
["SABCAUN202001Greater Glasgow & Clyde",23,290511.28415300499,7.9170762908770298,5.0171005538819804,11.8801013779896]
["SABCAUN202001Highland",8,79833.852459016402,10.020811665210401,4.3147517720356197,19.746206660982502]
["SABCAUN202001Lanarkshire",19,165363.90710382501,11.4898107650968,6.9143677464207602,17.943792150387001]
["SABCAUN202001Lothian",27,222415.43715847001,12.1394451504563,7.9980162354478201,17.663044442723599]
["SABCAUN202001Orkney",3,5460,54.945054945054899,11.043061665778801,160.54003517287501]
["SABCAUN202001Shetland",2,5688.7431693989101,35.157150541765901,3.9483827688423299,126.934558714978]
["SABCAUN202001Tayside",13,102588.82513661199,12.6719454898607,6.7406519999190797,21.6708890092535]
["SABCAUN202001Western Isles",0,6484.3715846994501,0,0,56.568280280400302]
["SABCAUN202002Ayrshire & Arran",13,90972.650273224004,14.2900090971916,7.6013567511727897,24.438015562349602]
["SABCAUN202002Borders",5,28931.038251366099,17.282476890589599,5.5694850883493201,40.3314304469828]
["SABCAUN202002Dumfries & Galloway",4,36335.3551912568,11.0085617133653,2.9616344299111201,28.184347084634901]
["SABCAUN202002Fife",13,92198.415300546403,14.100025426275399,7.5002977770525101,24.113115565794999]
["SABCAUN202002Forth Valley",11,75258.989071038202,14.6161942058734,7.2863257488280997,26.154232049057001]
["SABCAUN202002Grampian",13,143837.18579235001,9.0379966268023502,4.8076272176567603,15.4563024219255]
["SABCAUN202002Greater Glasgow & Clyde",14,290511.28415300499,4.8190899161860203,2.6324074374737498,8.0861526449521595]
["SABCAUN202002Highland",9,79833.852459016402,11.273413123361699,5.1442099523262304,21.401877692807702]
["SABCAUN202002Lanarkshire",16,165363.90710382501,9.6756301179762705,5.5268467590449202,15.7136074555479]
["SABCAUN202002Lothian",20,222415.43715847001,8.9921815929305708,5.4903171607081598,13.888466659921599]
["SABCAUN202002Orkney",0,5460,0,0,67.181272755593696]
["SABCAUN202002Shetland",0,5688.7431693989101,0,0,64.479927872064593]
["SABCAUN202002Tayside",11,102588.82513661199,10.722415414497499,5.3452362785991099,19.186700513630502]
["SABCAUN202002Western Isles",3,6484.3715846994501,46.265084608642901,9.2985289179640294,135.178649248325]
["SABCAUN202003Ayrshire & Arran",15,91972.349726775996,16.3092495130991,9.1214037171424902,26.901372054549402]
["SABCAUN202003Borders",1,29248.961748633901,3.4189247761818602,4.4685806433240202E-2,19.022406255821899]
["SABCAUN202003Dumfries & Galloway",3,36734.6448087432,8.1666775754041705,1.6413692580689201,23.861632434656599]
["SABCAUN202003Fife",6,93211.584699453597,6.4369681293865799,2.35050262019258,14.0110216029342]
["SABCAUN202003Forth Valley",9,76086.010928961798,11.828718433409399,5.3976032300556804,22.456090485132201]
["SABCAUN202003Grampian",18,145417.81420764999,12.378125814968399,7.3322426456330003,19.5639341271593]
["SABCAUN202003Greater Glasgow & Clyde",27,293703.71584699501,9.1929378292461497,6.0567237710209296,13.3758394576268]
["SABCAUN202003Highland",13,80711.147540983598,16.106820923836899,8.5677826470663696,27.545030777766399]
["SABCAUN202003Lanarkshire",16,167181.09289617499,9.5704602253895708,5.4667723377509496,15.5428073745093]
["SABCAUN202003Lothian",27,224859.56284152999,12.0074946596904,7.9110812763668701,17.471054829215699]
["SABCAUN202003Orkney",2,5520,36.231884057971001,4.0690825192797302,130.81487388596]
["SABCAUN202003Shetland",0,5751.2568306010899,0,0,63.779059090846502]
["SABCAUN202003Tayside",12,103716.17486338801,11.5700371863946,5.9715175342992097,20.211926102868201]
["SABCAUN202003Western Isles",0,6555.6284153005499,0,0,55.953407668656801]
["SABCAUN202004Ayrshire & Arran",12,91972.349726775996,13.0473996104793,6.7340125442816099,22.792759652640001]
["SABCAUN202004Borders",4,29248.961748633901,13.675699104727499,3.6791746620716301,35.012807324749097]
["SABCAUN202004Dumfries & Galloway",1,36734.6448087432,2.7222258584680601,3.55798579209788E-2,15.1460735727893]
["SABCAUN202004Fife",12,93211.584699453597,12.873936258773201,6.6444847899983799,22.4897331031348]
["SABCAUN202004Forth Valley",12,76086.010928961798,15.7716245778792,8.1400371661673603,27.551761965391801]
["SABCAUN202004Grampian",16,145417.81420764999,11.0027785021942,6.2849313133995599,17.868949122249202]
["SABCAUN202004Greater Glasgow & Clyde",15,293703.71584699501,5.10718768291453,2.85633748368774,8.4240759147223994]
["SABCAUN202004Highland",7,80711.147540983598,8.6729035743737004,3.47458682724639,17.870410591008199]
["SABCAUN202004Lanarkshire",15,167181.09289617499,8.9723064613027201,5.0180132103403503,14.7994151483846]
["SABCAUN202004Lothian",26,224859.56284152999,11.562772635257501,7.5512099007754401,16.942920770795201]
["SABCAUN202004Orkney",0,5520,0,0,66.451041529989496]
["SABCAUN202004Shetland",0,5751.2568306010899,0,0,63.779059090846502]
["SABCAUN202004Tayside",10,103716.17486338801,9.6416976553287999,4.6158472599277802,17.7326505709215]
["SABCAUN202004Western Isles",1,6555.6284153005499,15.254067751400401,0.19937271612622101,84.871441408260395]
["SABCAUN202101Ayrshire & Arran",9,90249.041095890396,9.9724051255430197,4.5505425139737801,18.931994460286099]
["SABCAUN202101Borders",4,28866.5753424658,13.856856771352399,3.7279115267673402,35.476610924723502]
["SABCAUN202101Dumfries & Galloway",3,36081.369863013701,8.3145401945374608,1.6710872376539001,24.2936616700473]
["SABCAUN202101Fife",13,91474.520547945198,14.2116076937361,7.5596522964447104,24.3039376408645]
["SABCAUN202101Forth Valley",8,74483.013698630093,10.740703957508,4.62472232608261,21.1647685951128]
["SABCAUN202101Grampian",14,142658.630136986,9.8136369223205495,5.3606575665284604,16.466712083850499]
["SABCAUN202101Greater Glasgow & Clyde",23,287869.31506849302,7.9897365908997902,5.06314583854211,11.9891330076861]
["SABCAUN202101Highland",6,79853.424657534299,7.5137666615202496,2.7437029157859198,16.3548342787895]
["SABCAUN202101Lanarkshire",25,164443.561643836,15.202784317057599,9.8356731366530905,22.443373443163999]
["SABCAUN202101Lothian",21,220773.69863013699,9.5120026209197004,5.8857901746804204,14.5408886127677]
["SABCAUN202101Orkney",0,5427.1232876712302,0,0,67.588246996124397]
["SABCAUN202101Shetland",0,5656.4383561643799,0,0,64.848182928713896]
["SABCAUN202101Tayside",13,101754.246575342,12.7758795701704,6.7959381804712198,21.848631560345801]
["SABCAUN202101Western Isles",1,6452.8767123287698,15.496964293295999,0.20254740658155501,86.222882870284096]
["SABCAUN202102Ayrshire & Arran",8,91251.8082191781,8.7669495609169399,3.7748649926870899,17.275446700318799]
["SABCAUN202102Borders",3,29187.315068493099,10.2784377150141,2.0657986715687602,30.031833691688401]
["SABCAUN202102Dumfries & Galloway",11,36482.273972602699,30.151629276894099,15.030902687449901,53.953354591316199]
["SABCAUN202102Fife",8,92490.904109588999,8.6494991880726992,3.7242933203229298,17.044008428442702]
["SABCAUN202102Forth Valley",5,75310.602739726004,6.63917140230578,2.1395524702984701,15.493570819324701]
["SABCAUN202102Grampian",19,144243.726027397,13.1721500291744,7.9267701770518304,20.571124027143799]
["SABCAUN202102Greater Glasgow & Clyde",20,291067.86301369901,6.8712498153939903,4.1953490804310603,10.612677578499699]
["SABCAUN202102Highland",9,80740.684931506898,11.1467966956619,5.0864331743110904,21.161504234487801]
["SABCAUN202102Lanarkshire",20,166270.712328767,12.028576602507099,7.34423564038753,18.578192998412099]
["SABCAUN202102Lothian",27,223226.73972602701,12.095325153759701,7.9689479835208799,17.598849296009298]
["SABCAUN202102Orkney",0,5487.4246575342504,0,0,66.845519007156]
["SABCAUN202102Shetland",1,5719.2876712328798,17.4846949040497,0.228527312876178,97.2823304101383]
["SABCAUN202102Tayside",17,102884.849315068,16.5233269166194,9.6198552440579199,26.457064279947598]
["SABCAUN202102Western Isles",0,6524.5753424657496,0,0,56.219712393867098]
["SABCAUN202103Ayrshire & Arran",17,92254.575342465701,18.4272703406773,10.728328145716199,29.505648491219201]
["SABCAUN202103Borders",6,29508.0547945205,20.333431131875798,7.4248904441187502,44.258746839194899]
["SABCAUN202103Dumfries & Galloway",5,36883.1780821918,13.556315534571899,4.3686849807892703,31.635835566928801]
["SABCAUN202103Fife",9,93507.287671232902,9.6249182541189402,4.3919795834112403,18.272312122675]
["SABCAUN202103Forth Valley",7,76138.1917808219,9.1938090940625603,3.6832748913335802,18.943729974319201]
["SABCAUN202103Grampian",11,145828.821917808,7.5430904915352102,3.7603095374942099,13.4976134213768]
["SABCAUN202103Greater Glasgow & Clyde",18,294266.41095890402,6.1169060856605197,3.6233788807006402,9.6679214212840101]
["SABCAUN202103Highland",10,81627.945205479497,12.2507065133482,5.8648789988312,22.531042313700102]
["SABCAUN202103Lanarkshire",18,168097.86301369901,10.7080480841884,6.3429640309060904,16.9243349503028]
["SABCAUN202103Lothian",19,225679.78082191799,8.4190085309382496,5.0664125139462302,13.1480789614395]
["SABCAUN202103Orkney",0,5547.7260273972597,0,0,66.118937278817299]
["SABCAUN202103Shetland",1,5782.1369863013697,17.294643872483999,0.22604332034491501,96.224913775245497]
["SABCAUN202103Tayside",10,104015.45205479499,9.6139561982887702,4.6025663696694297,17.681629518239198]
["SABCAUN202103Western Isles",1,6596.2739726027403,15.160073765180799,0.19814420209065101,84.348472373104002]
["CDICA202101Ayrshire & Arran",6,90249.041095890396,6.6482700836953503,2.4276609635727699,14.4709518351575]
["CDICA202101Borders",0,28866.5753424658,0,0,12.707075394077901]
["CDICA202101Dumfries & Galloway",0,36081.369863013701,0,0,10.1661813461675]
["CDICA202101Fife",5,91474.520547945198,5.4660029591292698,1.7614848940038199,12.755794181860599]
["CDICA202101Forth Valley",0,74483.013698630093,0,0,4.9247436567176397]
["CDICA202101Grampian",6,142658.630136986,4.2058443952802396,1.53579263909926,9.1546478864525405]
["CDICA202101Greater Glasgow & Clyde",8,287869.31506849302,2.7790388142260101,1.1965959493946501,5.4761506929734596]
["CDICA202101Highland",3,79853.424657534299,3.7568833307601301,0.75507239612751198,10.976969313503201]
["CDICA202101Lanarkshire",10,164443.561643836,6.0811137268230402,2.9112603544202398,11.1841574642396]
["CDICA202101Lothian",8,220773.69863013699,3.6236200460646502,1.5602549511255499,7.1404146371579298]
["CDICA202101Orkney",0,5427.1232876712302,0,0,67.588246996124397]
["CDICA202101Shetland",0,5656.4383561643799,0,0,64.848182928713896]
["CDICA202101Tayside",2,101754.246575342,1.9655199338723699,0.22074101339635899,7.0964910866479602]
["CDICA202101Western Isles",1,6452.8767123287698,15.496964293295999,0.20254740658155501,86.222882870284096]
["ECBCOM202101Ayrshire & Arran",47,90249.041095890396,52.078115655613502,38.261521996090103,69.254744184726505]
["ECBCOM202101Borders",10,28866.5753424658,34.642141928380902,16.584510489163801,63.712534846468301]
["ECBCOM202101Dumfries & Galloway",21,36081.369863013701,58.201781361762201,36.013811869075802,88.972391364229594]
["ECBCOM202101Fife",32,91474.520547945198,34.982418938427401,23.923645285295599,49.386653810968603]
["ECBCOM202101Forth Valley",38,74483.013698630093,51.018343798163002,36.098824223995003,70.028995692959398]
["ECBCOM202101Grampian",47,142658.630136986,32.945781096361799,24.2050948316319,43.812100592940602]
["ECBCOM202101Greater Glasgow & Clyde",91,287869.31506849302,31.6115665118209,25.4508654362049,38.812544998754397]
["ECBCOM202101Highland",30,79853.424657534299,37.568833307601302,25.342416374230599,53.634043710091298]
["ECBCOM202101Lanarkshire",58,164443.561643836,35.2704596155736,26.780609786060001,45.596261484558198]
["ECBCOM202101Lothian",79,220773.69863013699,35.783247954888402,28.328827551276301,44.597329217439402]
["ECBCOM202101Orkney",3,5427.1232876712302,55.277903983038001,11.109958904402299,161.51256302489901]
["ECBCOM202101Shetland",0,5656.4383561643799,0,0,64.848182928713896]
["ECBCOM202101Tayside",37,101754.246575342,36.362118776638901,25.598726365291899,50.122101478317902]
["ECBCOM202101Western Isles",0,6452.8767123287698,0,0,56.844375864910099]
["CDICA202102Ayrshire & Arran",7,91251.8082191781,7.6710808658023204,3.0732310463838401,15.806167285632901]
["CDICA202102Borders",1,29187.315068493099,3.4261459050047098,4.4780187557696402E-2,19.0625835791285]
["CDICA202102Dumfries & Galloway",9,36482.273972602699,24.669514862913299,11.257031254702699,46.833548461278397]
["CDICA202102Fife",4,92490.904109588999,4.3247495940363496,1.1634878044869199,11.072313240018399]
["CDICA202102Forth Valley",2,75310.602739726004,2.6556685609223099,0.29824931270369298,9.5882661614868798]
["CDICA202102Grampian",3,144243.726027397,2.0798131625012202,0.418008591123747,6.0768576643493404]
["CDICA202102Greater Glasgow & Clyde",17,291067.86301369901,5.8405623430848896,3.40036631653523,9.3518777496689207]
["CDICA202102Highland",6,80740.684931506898,7.4311977971079397,2.71355233429377,16.1751108251764]
["CDICA202102Lanarkshire",7,166270.712328767,4.2100018108774897,1.6866343214031101,8.6746566826325608]
["CDICA202102Lothian",13,223226.73972602701,5.8236750740324696,3.0978169110706402,9.9593402020466897]
["CDICA202102Orkney",1,5487.4246575342504,18.223484829573,0.238183396518833,101.39285141338399]
["CDICA202102Shetland",0,5719.2876712328798,0,0,64.135565533892901]
["CDICA202102Tayside",4,102884.849315068,3.8878416274398502,1.0459464116813899,9.9537324394359299]
["CDICA202102Western Isles",0,6524.5753424657496,0,0,56.219712393867098]
["ECBCOM202102Ayrshire & Arran",51,91251.8082191781,55.889303450845503,41.6099259477121,73.485966206430007]
["ECBCOM202102Borders",10,29187.315068493099,34.261459050047101,16.402263121151002,63.012397100902703]
["ECBCOM202102Dumfries & Galloway",25,36482.273972602699,68.526430174759298,44.334218940696097,101.163328444608]
["ECBCOM202102Fife",30,92490.904109588999,32.435621955272602,21.879759486205302,46.305764979960301]
["ECBCOM202102Forth Valley",24,75310.602739726004,31.8680227310677,20.4122517089491,47.419411793491797]
["ECBCOM202102Grampian",61,144243.726027397,42.289534304191399,32.346221741874203,54.323824293864398]
["ECBCOM202102Greater Glasgow & Clyde",124,291067.86301369901,42.6017488554427,35.433237766676299,50.794280649866103]
["ECBCOM202102Highland",32,80740.684931506898,39.633054917909,27.104104753235202,55.9522189173654]
["ECBCOM202102Lanarkshire",77,166270.712328767,46.310019919652397,36.545656103153703,57.880545894230103]
["ECBCOM202102Lothian",76,223226.73972602701,34.046100432805197,26.823340040155401,42.614492916108603]
["ECBCOM202102Orkney",4,5487.4246575342504,72.893939318291899,19.6106635942098,186.624569095049]
["ECBCOM202102Shetland",3,5719.2876712328798,52.454084712149204,10.542417196188101,153.261847004619]
["ECBCOM202102Tayside",45,102884.849315068,43.7382183086984,31.899796674184898,58.526842759238598]
["ECBCOM202102Western Isles",8,6524.5753424657496,122.613343859045,52.794739624509099,241.61200790155499]
["CDICA202103Ayrshire & Arran",9,92254.575342465701,9.7556137097703406,4.4516176767134796,18.520429363323299]
["CDICA202103Borders",1,29508.0547945205,3.38890518864596,4.4293446388591E-2,18.855381583703199]
["CDICA202103Dumfries & Galloway",2,36883.1780821918,5.42252621382878,0.60898590290594001,19.577979485426901]
["CDICA202103Fife",4,93507.287671232902,4.2777414462750798,1.1508411979164099,10.9519620091486]
["CDICA202103Forth Valley",0,76138.1917808219,0,0,4.8176840120063904]
["CDICA202103Grampian",8,145828.821917808,5.4858839938437898,2.3621068307067401,10.810042407711601]
["CDICA202103Greater Glasgow & Clyde",19,294266.41095890402,6.4567342015305504,3.8855500428164298,10.0835687246049]
["CDICA202103Highland",6,81627.945205479497,7.3504239080089402,2.68405720022536,15.999294403163599]
["CDICA202103Lanarkshire",9,168097.86301369901,5.3540240420942,2.4431131424838402,10.1642835634043]
["CDICA202103Lothian",22,225679.78082191799,9.7483256674021792,6.1070464534243403,14.759851217226601]
["CDICA202103Orkney",1,5547.7260273972597,18.025403472729799,0.235594446556672,100.290755202369]
["CDICA202103Shetland",0,5782.1369863013697,0,0,63.438439821567997]
["CDICA202103Tayside",5,104015.45205479499,4.8069780991443798,1.5491062428548099,11.217854020182401]
["CDICA202103Western Isles",1,6596.2739726027403,15.160073765180799,0.19814420209065101,84.348472373104002]
["ECBCOM202103Ayrshire & Arran",59,92254.575342465701,63.953467652938897,48.681287703316599,82.497116534325897]
["ECBCOM202103Borders",18,29508.0547945205,61.000293395627303,36.133818585902297,96.412473064888104]
["ECBCOM202103Dumfries & Galloway",22,36883.1780821918,59.647788352116599,37.367628733260602,90.312173756960206]
["ECBCOM202103Fife",40,93507.287671232902,42.777414462750798,30.557102615609601,58.252548408655997]
["ECBCOM202103Forth Valley",24,76138.1917808219,31.521631179643101,20.190379407764901,46.903983404432097]
["ECBCOM202103Grampian",42,145828.821917808,28.800890967679901,20.754833769841699,38.931620119064]
["ECBCOM202103Greater Glasgow & Clyde",126,294266.41095890402,42.818342599623598,35.668141757086097,50.981205236926499]
["ECBCOM202103Highland",24,81627.945205479497,29.4016956320358,18.832508592569202,43.749533015213203]
["ECBCOM202103Lanarkshire",83,168097.86301369901,49.375999499313203,39.326287129405998,61.209927119745103]
["ECBCOM202103Lothian",83,225679.78082191799,36.777774108835501,29.292233458577702,45.592289688426099]
["ECBCOM202103Orkney",2,5547.7260273972597,36.050806945459598,4.0487463503964598,130.16109668798299]
["ECBCOM202103Shetland",1,5782.1369863013697,17.294643872483999,0.22604332034491501,96.224913775245497]
["ECBCOM202103Tayside",39,104015.45205479499,37.494429173326203,26.658822360026001,51.257786379894497]
["ECBCOM202103Western Isles",3,6596.2739726027403,45.480221295542499,9.1407841677869293,132.88541314150899]
["ECBCOM202104Ayrshire & Arran",59,92254.575342465701,63.953467652938897,48.681287703316599,82.497116534325897]
["ECBCOM202104Borders",12,29508.0547945205,40.666862263751497,20.988945598073499,71.041743571664497]
["ECBCOM202104Dumfries & Galloway",28,36883.1780821918,75.915366993602902,50.433673275414698,109.723602626738]
["ECBCOM202104Fife",37,93507.287671232902,39.569108378044497,27.856428942168801,54.542665066181101]
["ECBCOM202104Forth Valley",21,76138.1917808219,27.5814272821877,17.066699849738502,42.163409523184697]
["ECBCOM202104Grampian",44,145828.821917808,30.172361966140802,21.921027575982599,40.506165103338198]
["ECBCOM202104Greater Glasgow & Clyde",111,294266.41095890402,37.720920861573198,31.030120348840899,45.426239859871302]
["ECBCOM202104Highland",29,81627.945205479497,35.527048888709899,23.7879156413746,51.024919449763601]
["ECBCOM202104Lanarkshire",76,168097.86301369901,45.2117585776844,35.620243103498296,56.590215652923597]
["ECBCOM202104Lothian",79,225679.78082191799,35.005351260216898,27.712983474074701,43.627822060538499]
["ECBCOM202104Orkney",1,5547.7260273972597,18.025403472729799,0.235594446556672,100.290755202369]
["ECBCOM202104Shetland",4,5782.1369863013697,69.178575489935994,18.611118901614201,177.11241787942299]
["ECBCOM202104Tayside",44,104015.45205479499,42.301407272470598,30.733103240750498,56.789315632799401]
["ECBCOM202104Western Isles",4,6596.2739726027403,60.640295060723403,16.314064486168501,155.25253596308599]
["SABCAUN202104Ayrshire & Arran",12,92254.575342465701,13.007484946360499,6.7134118225361803,22.723031938839799]
["SABCAUN202104Borders",3,29508.0547945205,10.166715565937899,2.0433443381821501,29.705400716778701]
["SABCAUN202104Dumfries & Galloway",8,36883.1780821918,21.690104855315099,9.33930518672652,42.740778619596803]
["SABCAUN202104Fife",8,93507.287671232902,8.5554828925501702,3.6838118711889898,16.858747467263999]
["SABCAUN202104Forth Valley",9,76138.1917808219,11.820611692366199,5.3939040151418602,22.440700338563801]
["SABCAUN202104Grampian",15,145828.821917808,10.286032488457099,5.7527512163882903,16.966347023811501]
["SABCAUN202104Greater Glasgow & Clyde",20,294266.41095890402,6.7965623174005803,4.1497474599915902,10.497322387429]
["SABCAUN202104Highland",10,81627.945205479497,12.2507065133482,5.8648789988312,22.531042313700102]
["SABCAUN202104Lanarkshire",17,168097.86301369901,10.1131565239557,5.8878640065579804,16.193133112820501]
["SABCAUN202104Lothian",21,225679.78082191799,9.3052199552475408,5.7578382143612803,14.2247823385771]
["SABCAUN202104Orkney",0,5547.7260273972597,0,0,66.118937278817299]
["SABCAUN202104Shetland",1,5782.1369863013697,17.294643872483999,0.22604332034491501,96.224913775245497]
["SABCAUN202104Tayside",12,104015.45205479499,11.5367474379465,5.9543360582704601,20.1537715848857]
["SABCAUN202104Western Isles",0,6596.2739726027403,0,0,55.608628563499003]
["CDICA202104Ayrshire & Arran",6,92254.575342465701,6.50374247318023,2.3748857252342299,14.1563659256975]
["CDICA202104Borders",1,29508.0547945205,3.38890518864596,4.4293446388591E-2,18.855381583703199]
["CDICA202104Dumfries & Galloway",5,36883.1780821918,13.556315534571899,4.3686849807892703,31.635835566928801]
["CDICA202104Fife",1,93507.287671232902,1.0694353615687699,1.3977663940676999E-2,5.9501847053860901]
["CDICA202104Forth Valley",0,76138.1917808219,0,0,4.8176840120063904]
["CDICA202104Grampian",5,145828.821917808,3.4286774961523698,1.1049323721634701,8.0013686022343204]
["CDICA202104Greater Glasgow & Clyde",11,294266.41095890402,3.7381092745703199,1.8634865872464801,6.6889763514880798]
["CDICA202104Highland",4,81627.945205479497,4.9002826053392896,1.3183235065710399,12.5458047434119]
["CDICA202104Lanarkshire",9,168097.86301369901,5.3540240420942,2.4431131424838402,10.1642835634043]
["CDICA202104Lothian",24,225679.78082191799,10.634537091711501,6.8116823486681701,15.824122438992999]
["CDICA202104Orkney",0,5547.7260273972597,0,0,66.118937278817299]
["CDICA202104Shetland",0,5782.1369863013697,0,0,63.438439821567997]
["CDICA202104Tayside",1,104015.45205479499,0.961395619828877,1.25655699922755E-2,5.3490671044760498]
["CDICA202104Western Isles",0,6596.2739726027403,0,0,55.608628563499003]
["CDICA202201Ayrshire & Arran",2,90108.493150684895,2.2195466043977401,0.24926990476761099,8.0136519722170902]
["CDICA202201Borders",0,28804.931506849302,0,0,12.7342691010503]
["CDICA202201Dumfries & Galloway",1,35943.287671232902,2.7821606335703901,3.6363213488641598E-2,15.4795420505957]
["CDICA202201Fife",2,91563.287671232902,2.18428155089974,0.24530940377625801,7.8863278309016298]
["CDICA202201Forth Valley",0,74645.753424657494,0,0,4.9140069249321101]
["CDICA202201Grampian",7,143561.095890411,4.8759728090565204,1.9534393236445999,10.046881690913301]
["CDICA202201Greater Glasgow & Clyde",7,290936.712328767,2.4060215515496002,0.96391372478609305,4.9575776610788402]
["CDICA202201Highland",4,79799.178082191793,5.0125829565312898,1.3485356809895599,12.8333184221407]
["CDICA202201Lanarkshire",7,164801.095890411,4.2475445701252204,1.7016749102465101,8.7520130739175492]
["CDICA202201Lothian",7,223444.10958904101,3.1327744610830899,1.25506951413319,6.4550430462524799]
["CDICA202201Orkney",1,5429.58904109589,18.417600161469402,0.24072051000178399,102.472881231396]
["CDICA202201Shetland",0,5676.1643835616396,0,0,64.622819999335206]
["CDICA202201Tayside",2,102114.246575342,1.9585905660326699,0.21996279911688499,7.0714726697583199]
["CDICA202201Western Isles",3,6440.5479452054797,46.579887697804999,9.3617992146207794,136.09844993024601]
["ECBCOM202201Ayrshire & Arran",49,90108.493150684895,54.378891807744701,40.2263573345178,71.893664189302299]
["ECBCOM202201Borders",15,28804.931506849302,52.074416481196103,29.124073163397799,85.894403121313502]
["ECBCOM202201Dumfries & Galloway",12,35943.287671232902,33.385927602844703,17.231115930523401,58.322535244563198]
["ECBCOM202201Fife",47,91563.287671232902,51.330616446143999,37.712338196232402,68.260701564743201]
["ECBCOM202201Forth Valley",27,74645.753424657494,36.170845307699899,23.8309909913784,52.629032075388501]
["ECBCOM202201Grampian",34,143561.095890411,23.6832965011317,16.398723159184801,33.096251064603102]
["ECBCOM202201Greater Glasgow & Clyde",105,290936.712328767,36.090323273244003,29.517568149865799,43.690067422585898]
["ECBCOM202201Highland",28,79799.178082191793,35.0880806957191,23.310442506566599,50.714246346413702]
["ECBCOM202201Lanarkshire",83,164801.095890411,50.363742760056098,40.112990699480598,62.434402444116699]
["ECBCOM202201Lothian",83,223444.10958904101,37.145754324271003,29.585317057024302,46.048463586609699]
["ECBCOM202201Orkney",1,5429.58904109589,18.417600161469402,0.24072051000178399,102.472881231396]
["ECBCOM202201Shetland",1,5676.1643835616396,17.617530649676599,0.230263493928727,98.021409414219605]
["ECBCOM202201Tayside",41,102114.246575342,40.151106603669803,28.809776757833902,54.471201710258597]
["ECBCOM202201Western Isles",2,6440.5479452054797,31.053258465203299,3.4874882847731898,112.11749528051401]
["SABCAUN202201Ayrshire & Arran",15,90108.493150684895,16.6465995329831,9.3100761464211192,27.457815708821801]
["SABCAUN202201Borders",5,28804.931506849302,17.3581388270654,5.5938680532232201,40.507999705415699]
["SABCAUN202201Dumfries & Galloway",8,35943.287671232902,22.2572850685631,9.5835211157287006,43.858418395593901]
["SABCAUN202201Fife",12,91563.287671232902,13.105689305398499,6.7640969709495096,22.8945870700705]
["SABCAUN202201Forth Valley",9,74645.753424657494,12.056948435900001,5.50174764819986,22.889371031643002]
["SABCAUN202201Grampian",16,143561.095890411,11.1450807064149,6.3662161978579999,18.100053551616501]
["SABCAUN202201Greater Glasgow & Clyde",17,290936.712328767,5.8431951966204601,3.40189915977066,9.3560934609225708]
["SABCAUN202201Highland",3,79799.178082191793,3.75943721739847,0.75558568577046203,10.9844313326268]
["SABCAUN202201Lanarkshire",14,164801.095890411,8.49508914025043,4.6404064302033401,14.2542655802749]
["SABCAUN202201Lothian",19,223444.10958904101,8.50324496579697,5.1171045314361896,13.2796321357691]
["SABCAUN202201Orkney",2,5429.58904109589,36.835200322938697,4.1368389644993497,132.99314154073599]
["SABCAUN202201Shetland",0,5676.1643835616396,0,0,64.622819999335206]
["SABCAUN202201Tayside",9,102114.246575342,8.8136575471470309,4.0217904173557599,16.7321838369819]
["SABCAUN202201Western Isles",1,6440.5479452054797,15.526629232601699,0.20293513132616001,86.387934330602405]
["CDICA202202Ayrshire & Arran",8,91109.698630137005,8.7806239294855803,3.7807528895944702,17.302392312783699]
["CDICA202202Borders",2,29124.9863013699,6.8669560194983896,0.77120501530906105,24.793079604522699]
["CDICA202202Dumfries & Galloway",1,36342.657534246602,2.7515874397948901,3.59636177360192E-2,15.3094371928968]
["CDICA202202Fife",4,92580.657534246595,4.3205569138676303,1.1623598473327901,11.061579053649]
["CDICA202202Forth Valley",0,75475.150684931505,0,0,4.8600068488339501]
["CDICA202202Grampian",5,145156.21917808201,3.4445647787683402,1.11005223919319,8.03844412317234]
["CDICA202202Greater Glasgow & Clyde",11,294169.34246575303,3.7393427567254398,1.8641014910074001,6.6911835456495004]
["CDICA202202Highland",6,80685.835616438402,7.43624944100796,2.7153969763651,16.186106481887901]
["CDICA202202Lanarkshire",8,166632.21917808201,4.8009922927631896,2.06720679869143,9.4604498276133899]
["CDICA202202Lothian",19,225926.821917808,8.4098027134255702,5.0608726135083204,13.133702112299099]
["CDICA202202Orkney",0,5489.9178082191802,0,0,66.815162277361594]
["CDICA202202Shetland",0,5739.2328767123299,0,0,63.912679120221703]
["CDICA202202Tayside",2,103248.849315068,1.93706759277957,0.217545625500216,6.9937641788818601]
["CDICA202202Western Isles",0,6512.1095890410998,0,0,56.3273305263209]
["ECBCOM202202Ayrshire & Arran",54,91109.698630137005,59.269211524027597,44.521617866424101,77.3353091740331]
["ECBCOM202202Borders",11,29124.9863013699,37.768258107241202,18.8278718563135,67.582557587290694]
["ECBCOM202202Dumfries & Galloway",22,36342.657534246602,60.534923675487597,37.9233935707461,91.655377280236806]
["ECBCOM202202Fife",41,92580.657534246595,44.285708367143201,31.776493340866502,60.080430090259597]
["ECBCOM202202Forth Valley",28,75475.150684931505,37.098302879692199,24.6459150578095,53.619703157605997]
["ECBCOM202202Grampian",45,145156.21917808201,31.001083008915099,22.6101629857028,41.483068601997502]
["ECBCOM202202Greater Glasgow & Clyde",109,294169.34246575303,37.053487316643,30.4240473053312,44.698056295015697]
["ECBCOM202202Highland",25,80685.835616438402,30.984372670866499,20.0458123708929,45.741216362202003]
["ECBCOM202202Lanarkshire",72,166632.21917808201,43.2089306348688,33.806794720338203,54.4154702878945]
["ECBCOM202202Lothian",75,225926.821917808,33.196589658258802,26.110115266629901,41.612926556951301]
["ECBCOM202202Orkney",2,5489.9178082191802,36.430417901807502,4.09137919565869,131.53167844688201]
["ECBCOM202202Shetland",2,5739.2328767123299,34.847862823536197,3.9136476928064501,125.817878340588]
["ECBCOM202202Tayside",41,103248.849315068,39.709885651981097,28.493185804451102,53.872617076079898]
["ECBCOM202202Western Isles",2,6512.1095890410998,30.7120138666846,3.44916423768777,110.88543489281599]
["SABCAUN202202Ayrshire & Arran",6,91109.698630137005,6.5854679471141804,2.4047283369665,14.334253614090899]
["SABCAUN202202Borders",2,29124.9863013699,6.8669560194983896,0.77120501530906105,24.793079604522699]
["SABCAUN202202Dumfries & Galloway",6,36342.657534246602,16.5095246387693,6.0285650234001302,35.935443786330403]
["SABCAUN202202Fife",9,92580.657534246595,9.7212530562021602,4.4359384485933298,18.455197787307799]
["SABCAUN202202Forth Valley",11,75475.150684931505,14.5743332741648,7.2654576363576302,26.079326057368998]
["SABCAUN202202Grampian",21,145156.21917808201,14.467172070827001,8.9519255432723703,22.1157989549944]
["SABCAUN202202Greater Glasgow & Clyde",21,294169.34246575303,7.1387452628394703,4.4172776650795704,10.912917483178299]
["SABCAUN202202Highland",10,80685.835616438402,12.393749068346599,5.9333589086090504,22.794120843564201]
["SABCAUN202202Lanarkshire",14,166632.21917808201,8.4017365123355905,4.5894129529483596,14.097625299173]
["SABCAUN202202Lothian",29,225926.821917808,12.8360146678601,8.5946354578169508,18.435435392768699]
["SABCAUN202202Orkney",0,5489.9178082191802,0,0,66.815162277361594]
["SABCAUN202202Shetland",1,5739.2328767123299,17.423931411768098,0.227733125863576,96.944251069008402]
["SABCAUN202202Tayside",8,103248.849315068,7.7482703711182701,3.3362430540492198,15.268119302595]
["SABCAUN202202Western Isles",1,6512.1095890410998,15.3560069333423,0.20070507493796,85.438616370925402]
["CDICA202203Ayrshire & Arran",8,92110.904109588999,8.6851823650346507,3.7396577494901799,17.114322831123001]
["CDICA202203Borders",1,29445.041095890399,3.3961575965997501,4.4388236335493499E-2,18.895732939600499]
["CDICA202203Dumfries & Galloway",7,36742.027397260303,19.051752164666802,7.63261882709154,39.255899796546501]
["CDICA202203Fife",2,93598.027397260303,2.13679716935845,0.23997659065068699,7.7148859215342096]
["CDICA202203Forth Valley",0,76304.547945205501,0,0,4.8071806874335898]
["CDICA202203Grampian",8,146751.342465753,5.4513981716159901,2.3472579574279302,10.7420874161066]
["CDICA202203Greater Glasgow & Clyde",17,297401.97260273999,5.7161692140852303,3.3279448302104302,9.1527001248155599]
["CDICA202203Highland",10,81572.493150684895,12.2590344045602,5.8688658769937403,22.546358660481999]
["CDICA202203Lanarkshire",6,168463.342465753,3.5616056954466102,1.3005445034008301,7.7523662284764896]
["CDICA202203Lothian",15,228409.534246575,6.5671514323946898,3.6728630240386799,10.832220322555299]
["CDICA202203Orkney",0,5550.2465753424704,0,0,66.088910513477302]
["CDICA202203Shetland",0,5802.3013698630102,0,0,63.217976086306201]
["CDICA202203Tayside",7,104383.45205479499,6.7060437858727404,2.6866125284937898,13.817720313289501]
["CDICA202203Western Isles",1,6583.6712328767098,15.1890938145016,0.19852349803646099,84.509935758197997]
["ECBCOM202203Ayrshire & Arran",43,92110.904109588999,46.682855212061199,33.780995587261302,62.883367651326701]
["ECBCOM202203Borders",17,29445.041095890399,57.734679142195702,33.6130404435335,92.444465025433402]
["ECBCOM202203Dumfries & Galloway",22,36742.027397260303,59.876935374667099,37.511182771064099,90.659123179364599]
["ECBCOM202203Fife",52,93598.027397260303,55.556726403319601,41.489205757113098,72.857058612661902]
["ECBCOM202203Forth Valley",32,76304.547945205501,41.937211950956403,28.6798630116126,59.205127354529601]
["ECBCOM202203Grampian",56,146751.342465753,38.1597872013119,28.823520486710699,49.554798205521102]
["ECBCOM202203Greater Glasgow & Clyde",119,297401.97260273999,40.013184498596601,33.1469167583424,47.882252114872699]
["ECBCOM202203Highland",28,81572.493150684895,34.325296332768602,22.803693756423801,49.611762730187301]
["ECBCOM202203Lanarkshire",94,168463.342465753,55.798489228663499,45.089518125789603,68.284148914906794]
["ECBCOM202203Lothian",81,228409.534246575,35.4626177349313,28.161379871059701,44.077494961219301]
["ECBCOM202203Orkney",4,5550.2465753424704,72.068870197054096,19.388695168166699,184.512210088736]
["ECBCOM202203Shetland",1,5802.3013698630102,17.234540852944502,0.225257765799841,95.890509209562595]
["ECBCOM202203Tayside",28,104383.45205479499,26.824175143491001,17.820393138365802,38.770083723397299]
["ECBCOM202203Western Isles",0,6583.6712328767098,0,0,55.715076933643502]
["SABCAUN202203Ayrshire & Arran",13,92110.904109588999,14.113421343181299,7.5074235348262501,24.136024552317899]
["SABCAUN202203Borders",4,29445.041095890399,13.584630386399001,3.6546744359101999,34.779651311025198]
["SABCAUN202203Dumfries & Galloway",7,36742.027397260303,19.051752164666802,7.63261882709154,39.255899796546501]
["SABCAUN202203Fife",12,93598.027397260303,12.820783016150701,6.6170513846245198,22.396878655503802]
["SABCAUN202203Forth Valley",6,76304.547945205501,7.8632272408043304,2.8713108191886598,17.115487373119802]
["SABCAUN202203Grampian",15,146751.342465753,10.221371571780001,5.7165877911332696,16.859691755859199]
["SABCAUN202203Greater Glasgow & Clyde",15,297401.97260273999,5.0436787183104999,2.8208183198325401,8.3193207397991102]
["SABCAUN202203Highland",8,81572.493150684895,9.8072275236481801,4.2227869108972902,19.325334905310399]
["SABCAUN202203Lanarkshire",9,168463.342465753,5.3424085431699098,2.4378128341820302,10.1422322569722]
["SABCAUN202203Lothian",28,228409.534246575,12.258682673803399,8.14394267249852,17.717978318421601]
["SABCAUN202203Orkney",1,5550.2465753424704,18.017217549263499,0.23548745543652799,100.245209900278]
["SABCAUN202203Shetland",1,5802.3013698630102,17.234540852944502,0.225257765799841,95.890509209562595]
["SABCAUN202203Tayside",2,104383.45205479499,1.9160125102493499,0.21518099913608299,6.9177450030244501]
["SABCAUN202203Western Isles",0,6583.6712328767098,0,0,55.715076933643502]
["CDICA202204Ayrshire & Arran",4,92110.904109588999,4.34259118251732,1.16828772877361,11.117991643372299]
["CDICA202204Borders",1,29445.041095890399,3.3961575965997501,4.4388236335493499E-2,18.895732939600499]
["CDICA202204Dumfries & Galloway",1,36742.027397260303,2.7216788806666798,3.5572708847584199E-2,15.1430302668871]
["CDICA202204Fife",2,93598.027397260303,2.13679716935845,0.23997659065068699,7.7148859215342096]
["CDICA202204Forth Valley",2,76304.547945205501,2.6210757469347801,0.29436430869826602,9.4633691345506303]
["CDICA202204Grampian",5,146751.342465753,3.40712385725999,1.0979864539845701,7.9510697305291602]
["CDICA202204Greater Glasgow & Clyde",6,297401.97260273999,2.0174714873242001,0.73669341245771403,4.3913277219996001]
["CDICA202204Highland",6,81572.493150684895,7.3554206427361404,2.6858817918393898,16.010170541867399]
["CDICA202204Lanarkshire",6,168463.342465753,3.5616056954466102,1.3005445034008301,7.7523662284764896]
["CDICA202204Lothian",8,228409.534246575,3.5024807639438298,1.50809491163408,6.9017072969306703]
["CDICA202204Orkney",0,5550.2465753424704,0,0,66.088910513477302]
["CDICA202204Shetland",2,5802.3013698630102,34.469081705889003,3.8711080439716001,124.45029270645099]
["CDICA202204Tayside",1,104383.45205479499,0.95800625512467696,1.25212705399569E-2,5.3302091662138302]
["CDICA202204Western Isles",0,6583.6712328767098,0,0,55.715076933643502]
["ECBCOM202204Ayrshire & Arran",43,92110.904109588999,46.682855212061199,33.780995587261302,62.883367651326701]
["ECBCOM202204Borders",9,29445.041095890399,30.565418369397701,13.947411281063999,58.0265566792499]
["ECBCOM202204Dumfries & Galloway",23,36742.027397260303,62.5986142553337,39.669131724116298,93.933398662835103]
["ECBCOM202204Fife",38,93598.027397260303,40.5991462178105,28.726558603295601,55.727356553805798]
["ECBCOM202204Forth Valley",31,76304.547945205501,40.626674077489099,27.5985993800995,57.668619899724]
["ECBCOM202204Grampian",41,146751.342465753,27.938415629531899,20.046757993485201,37.9027927733922]
["ECBCOM202204Greater Glasgow & Clyde",104,297401.97260273999,34.969505780286099,28.571892772307098,42.371929028452399]
["ECBCOM202204Highland",33,81572.493150684895,40.4548135350487,27.842491217401999,56.815745489226998]
["ECBCOM202204Lanarkshire",73,168463.342465753,43.3328692946004,33.964546542500699,54.485538272977003]
["ECBCOM202204Lothian",57,228409.534246575,24.955175443099801,18.899550269503099,32.333055512395397]
["ECBCOM202204Orkney",4,5550.2465753424704,72.068870197054096,19.388695168166699,184.512210088736]
["ECBCOM202204Shetland",3,5802.3013698630102,51.703622558833501,10.391586519156601,151.06912519171499]
["ECBCOM202204Tayside",35,104383.45205479499,33.530218929363699,23.3514437253768,46.6340905352614]
["ECBCOM202204Western Isles",1,6583.6712328767098,15.1890938145016,0.19852349803646099,84.509935758197997]
["SABCAUN202204Ayrshire & Arran",9,92110.904109588999,9.77083016066398,4.4585611478051099,18.549316854394601]
["SABCAUN202204Borders",1,29445.041095890399,3.3961575965997501,4.4388236335493499E-2,18.895732939600499]
["SABCAUN202204Dumfries & Galloway",4,36742.027397260303,10.8867155226667,2.92885413736043,27.872393950428499]
["SABCAUN202204Fife",15,93598.027397260303,16.025978770188299,8.9629766353035301,26.434129730425902]
["SABCAUN202204Forth Valley",6,76304.547945205501,7.8632272408043304,2.8713108191886598,17.115487373119802]
["SABCAUN202204Grampian",17,146751.342465753,11.584221114684,6.7443155243955601,18.5485940096031]
["SABCAUN202204Greater Glasgow & Clyde",19,297401.97260273999,6.3886597098599598,3.84458400088727,9.9772558745281508]
["SABCAUN202204Highland",11,81572.493150684895,13.4849378450162,6.7223826159893996,24.129960822766101]
["SABCAUN202204Lanarkshire",15,168463.342465753,8.9040142386165204,4.9798188756861697,14.686770204824301]
["SABCAUN202204Lothian",20,228409.534246575,8.7562019098595805,5.3462360731374003,13.523994932245699]
["SABCAUN202204Orkney",1,5550.2465753424704,18.017217549263499,0.23548745543652799,100.245209900278]
["SABCAUN202204Shetland",0,5802.3013698630102,0,0,63.217976086306201]
["SABCAUN202204Tayside",13,104383.45205479499,12.454081316620799,6.6247624093084401,21.298309256511299]
["SABCAUN202204Western Isles",0,6583.6712328767098,0,0,55.715076933643502]
["CDICA202301Ayrshire & Arran",9,90108.493150684895,9.9879597197898402,4.557640284423,18.961523895603399]
["CDICA202301Borders",1,28804.931506849302,3.4716277654130798,4.5374641587393301E-2,19.315638116036101]
["CDICA202301Dumfries & Galloway",4,35943.287671232902,11.1286425342816,2.9939397848573299,28.4917804826602]
["CDICA202301Fife",3,91563.287671232902,3.2764223263496199,0.65850755503283998,9.5731445903431407]
["CDICA202301Forth Valley",0,74645.753424657494,0,0,4.9140069249321101]
["CDICA202301Grampian",3,143561.095890411,2.0897026324527999,0.41999621360636002,6.1057530008897398]
["CDICA202301Greater Glasgow & Clyde",8,290936.712328767,2.7497389160566899,1.1839800264764,5.4184146668184203]
["CDICA202301Highland",6,79799.178082191793,7.5188744347969401,2.74556805388027,16.365952109464502]
["CDICA202301Lanarkshire",5,164801.095890411,3.0339604072322999,0.97773006460221501,7.0802329965687001]
["CDICA202301Lothian",10,223444.10958904101,4.47539208726156,2.1425403535311598,8.2309741383992794]
["CDICA202301Orkney",0,5429.58904109589,0,0,67.557552969332306]
["CDICA202301Shetland",0,5676.1643835616396,0,0,64.622819999335206]
["CDICA202301Tayside",8,102114.246575342,7.8343622641306903,3.3733124213164301,15.4377650726239]
["CDICA202301Western Isles",0,6440.5479452054797,0,0,56.953189754391197]
["ECBCOM202301Ayrshire & Arran",43,90108.493150684895,47.720251994551496,34.531684378089302,64.280775821356201]
["ECBCOM202301Borders",16,28804.931506849302,55.546044246609199,31.728628614251701,90.208981157525699]
["ECBCOM202301Dumfries & Galloway",24,35943.287671232902,66.771855205689306,42.769014163005998,99.356088858541696]
["ECBCOM202301Fife",29,91563.287671232902,31.6720824880463,21.206738245341,45.488311253243403]
["ECBCOM202301Forth Valley",19,74645.753424657494,25.453557809122199,15.317507202266601,39.751163892288901]
["ECBCOM202301Grampian",40,143561.095890411,27.862701766037301,19.903106527261102,37.942297443791297]
["ECBCOM202301Greater Glasgow & Clyde",109,290936.712328767,37.465192731272303,30.762092275390501,45.194701364960302]
["ECBCOM202301Highland",24,79799.178082191793,30.075497739187799,19.264095400739699,44.752146194449303]
["ECBCOM202301Lanarkshire",82,164801.095890411,49.756950678609698,39.571722113549797,61.762462666857203]
["ECBCOM202301Lothian",71,223444.10958904101,31.775283819557099,24.815609802259299,40.080923996263003]
["ECBCOM202301Orkney",5,5429.58904109589,92.088000807346802,29.676460761922598,214.90211287859501]
["ECBCOM202301Shetland",1,5676.1643835616396,17.617530649676599,0.230263493928727,98.021409414219605]
["ECBCOM202301Tayside",34,102114.246575342,33.296039622555497,23.054752366987501,46.529590454285398]
["ECBCOM202301Western Isles",0,6440.5479452054797,0,0,56.953189754391197]
["SABCAUN202301Ayrshire & Arran",17,90108.493150684895,18.866146137380799,10.9838409522904,30.208374111966801]
["SABCAUN202301Borders",5,28804.931506849302,17.3581388270654,5.5938680532232201,40.507999705415699]
["SABCAUN202301Dumfries & Galloway",5,35943.287671232902,13.910803167851901,4.48292286463289,32.4630892885138]
["SABCAUN202301Fife",10,91563.287671232902,10.9214077544987,5.2284931409662398,20.086245636010201]
["SABCAUN202301Forth Valley",8,74645.753424657494,10.7172874985778,4.6146396889630097,21.118626001802699]
["SABCAUN202301Grampian",16,143561.095890411,11.1450807064149,6.3662161978579999,18.100053551616501]
["SABCAUN202301Greater Glasgow & Clyde",21,290936.712328767,7.2180646546488001,4.4663585280248999,11.0341721218802]
["SABCAUN202301Highland",8,79799.178082191793,10.025165913062599,4.3166266200283401,19.7547867920951]
["SABCAUN202301Lanarkshire",13,164801.095890411,7.8882970588039703,4.19606171664232,13.490147205110899]
["SABCAUN202301Lothian",18,223444.10958904101,8.0557057570708093,4.7718362355986796,12.732242274394199]
["SABCAUN202301Orkney",0,5429.58904109589,0,0,67.557552969332306]
["SABCAUN202301Shetland",0,5676.1643835616396,0,0,64.622819999335206]
["SABCAUN202301Tayside",12,102114.246575342,11.751543396196,6.0651963615106101,20.529002879772001]
["SABCAUN202301Western Isles",0,6440.5479452054797,0,0,56.953189754391197]
["CDICA202302Ayrshire & Arran",5,91109.698630137005,5.4878899559284804,1.76853824075924,12.8068709976833]
["CDICA202302Borders",2,29124.9863013699,6.8669560194983896,0.77120501530906105,24.793079604522699]
["CDICA202302Dumfries & Galloway",1,36342.657534246602,2.7515874397948901,3.59636177360192E-2,15.3094371928968]
["CDICA202302Fife",3,92580.657534246595,3.2404176854007201,0.65127120827423701,9.4679451992404697]
["CDICA202302Forth Valley",0,75475.150684931505,0,0,4.8600068488339501]
["CDICA202302Grampian",9,145156.21917808201,6.20021660178302,2.8292421825094398,11.770727811375201]
["CDICA202302Greater Glasgow & Clyde",15,294169.34246575303,5.09910375917105,2.85181632334718,8.41074184682987]
["CDICA202302Highland",7,80685.835616438402,8.6756243478426196,3.47567683863346,17.876016711103698]
["CDICA202302Lanarkshire",8,166632.21917808201,4.8009922927631896,2.06720679869143,9.4604498276133899]
["CDICA202302Lothian",15,225926.821917808,6.6393179316517701,3.7132241561709698,10.9512557107152]
["CDICA202302Orkney",0,5489.9178082191802,0,0,66.815162277361594]
["CDICA202302Shetland",0,5739.2328767123299,0,0,63.912679120221703]
["CDICA202302Tayside",4,103248.849315068,3.8741351855591302,1.0422589662873001,9.91864092382108]
["CDICA202302Western Isles",1,6512.1095890410998,15.3560069333423,0.20070507493796,85.438616370925402]
["ECBCOM202302Ayrshire & Arran",48,91109.698630137005,52.6837435769135,38.841387487844599,69.852869320272504]
["ECBCOM202302Borders",14,29124.9863013699,48.0686921364887,26.257319305192301,80.656470167396705]
["ECBCOM202302Dumfries & Galloway",24,36342.657534246602,66.038098555077397,42.2990249963796,98.264263706250006]
["ECBCOM202302Fife",27,92580.657534246595,29.1637591686065,19.214405306525698,42.433634151114497]
["ECBCOM202302Forth Valley",17,75475.150684931505,22.523969605527402,13.113420089073999,36.065261838621801]
["ECBCOM202302Grampian",43,145156.21917808201,29.623257097407802,21.436202064806299,39.903518296472598]
["ECBCOM202302Greater Glasgow & Clyde",102,294169.34246575303,34.673905562363203,28.271684672280401,42.092282336117897]
["ECBCOM202302Highland",35,80685.835616438402,43.3781217392131,30.209816727999598,60.330630727392197]
["ECBCOM202302Lanarkshire",77,166632.21917808201,46.209550817845702,36.466370686088702,57.754974657850603]
["ECBCOM202302Lothian",74,225926.821917808,32.753968462815401,25.7177946497108,41.120323202074303]
["ECBCOM202302Orkney",1,5489.9178082191802,18.215208950903801,0.23807522967209399,101.34680561346801]
["ECBCOM202302Shetland",1,5739.2328767123299,17.423931411768098,0.227733125863576,96.944251069008402]
["ECBCOM202302Tayside",36,103248.849315068,34.867216670032199,24.417005711646599,48.272613488530901]
["ECBCOM202302Western Isles",3,6512.1095890410998,46.0680208000269,9.2589223001743903,134.602862568375]
["SABCAUN202302Ayrshire & Arran",22,91109.698630137005,24.1467158060853,15.1272249365359,36.560322751040196]
["SABCAUN202302Borders",4,29124.9863013699,13.733912038996801,3.69483569344768,35.161845281475998]
["SABCAUN202302Dumfries & Galloway",4,36342.657534246602,11.006349759179599,2.9610393476610901,28.178683993839801]
["SABCAUN202302Fife",15,92580.657534246595,16.202088427003599,9.0614708840431195,26.724614672518499]
["SABCAUN202302Forth Valley",8,75475.150684931505,10.5995151084835,4.5639293627106703,20.8865531885961]
["SABCAUN202302Grampian",12,145156.21917808201,8.2669554690440297,4.2667338698546198,14.4417075195321]
["SABCAUN202302Greater Glasgow & Clyde",20,294169.34246575303,6.7988050122280699,4.1511167724070903,10.500786240112401]
["SABCAUN202302Highland",3,80685.835616438402,3.71812472050398,0.74728254636639102,10.863723296004601]
["SABCAUN202302Lanarkshire",14,166632.21917808201,8.4017365123355905,4.5894129529483596,14.097625299173]
["SABCAUN202302Lothian",18,225926.821917808,7.9671815179821204,4.7193984747679298,12.5923275241261]
["SABCAUN202302Orkney",1,5489.9178082191802,18.215208950903801,0.23807522967209399,101.34680561346801]
["SABCAUN202302Shetland",3,5739.2328767123299,52.271794235304199,10.505779777608801,152.72922546854701]
["SABCAUN202302Tayside",16,103248.849315068,15.496540742236499,8.8518272126292494,25.166997412396]
["SABCAUN202302Western Isles",0,6512.1095890410998,0,0,56.3273305263209]
["CDICA202303Ayrshire & Arran",8,92110.904109588999,8.6851823650346507,3.7396577494901799,17.114322831123001]
["CDICA202303Borders",1,29445.041095890399,3.3961575965997501,4.4388236335493499E-2,18.895732939600499]
["CDICA202303Dumfries & Galloway",5,36742.027397260303,13.608394403333399,4.3854680197495703,31.7573699561548]
["CDICA202303Fife",8,93598.027397260303,8.5471886774337804,3.6802405557540001,16.842403553093099]
["CDICA202303Forth Valley",1,76304.547945205501,1.31053787346739,1.71289061827779E-2,7.2916444422559099]
["CDICA202303Grampian",9,146751.342465753,6.1328229430679899,2.79848955009086,11.6427851177733]
["CDICA202303Greater Glasgow & Clyde",16,297401.97260273999,5.3799239661978602,3.0730830937042701,8.7372101160073203]
["CDICA202303Highland",3,81572.493150684895,3.6777103213680702,0.73915990999284398,10.745639347134899]
["CDICA202303Lanarkshire",12,168463.342465753,7.1232113908932204,3.6764256705465099,12.443678436673]
["CDICA202303Lothian",15,228409.534246575,6.5671514323946898,3.6728630240386799,10.832220322555299]
["CDICA202303Orkney",0,5550.2465753424704,0,0,66.088910513477302]
["CDICA202303Shetland",0,5802.3013698630102,0,0,63.217976086306201]
["CDICA202303Tayside",6,104383.45205479499,5.7480375307480598,2.0989349341824601,12.5114613586665]
["CDICA202303Western Isles",2,6583.6712328767098,30.3781876290033,3.41167332206073,109.680158426589]
["ECBCOM202303Ayrshire & Arran",53,92110.904109588999,57.539333168354503,43.097674740556499,75.264693060588002]
["ECBCOM202303Borders",11,29445.041095890399,37.357733562597197,18.623221075266599,66.847964570037604]
["ECBCOM202303Dumfries & Galloway",15,36742.027397260303,40.825183210000297,22.832624982874499,67.339299815437798]
["ECBCOM202303Fife",42,93598.027397260303,44.872740556527397,32.336717363816398,60.656751591764099]
["ECBCOM202303Forth Valley",30,76304.547945205501,39.316136204021703,26.521076280180498,56.128529475834299]
["ECBCOM202303Grampian",47,146751.342465753,32.0269642582439,23.530044856811301,42.590235625758098]
["ECBCOM202303Greater Glasgow & Clyde",120,297401.97260273999,40.349429746483999,33.453000512559903,48.248538183912601]
["ECBCOM202303Highland",49,81572.493150684895,60.069268582345103,44.435768778803897,79.416841351317601]
["ECBCOM202303Lanarkshire",71,168463.342465753,42.145667396118199,32.9145899340215,53.161989087754399]
["ECBCOM202303Lothian",82,228409.534246575,35.900427830424299,28.551624134672501,44.562594840724202]
["ECBCOM202303Orkney",4,5550.2465753424704,72.068870197054096,19.388695168166699,184.512210088736]
["ECBCOM202303Shetland",2,5802.3013698630102,34.469081705889003,3.8711080439716001,124.45029270645099]
["ECBCOM202303Tayside",47,104383.45205479499,45.026293990859799,33.080585121900498,59.877060309634302]
["ECBCOM202303Western Isles",2,6583.6712328767098,30.3781876290033,3.41167332206073,109.680158426589]
["SABCAUN202303Ayrshire & Arran",11,92110.904109588999,11.9421257519226,5.9532746442990598,21.3692513711465]
["SABCAUN202303Borders",4,29445.041095890399,13.584630386399001,3.6546744359101999,34.779651311025198]
["SABCAUN202303Dumfries & Galloway",4,36742.027397260303,10.8867155226667,2.92885413736043,27.872393950428499]
["SABCAUN202303Fife",9,93598.027397260303,9.6155872621130101,4.38772172632601,18.254597811358799]
["SABCAUN202303Forth Valley",9,76304.547945205501,11.794840861206501,5.3821444384563799,22.391776009215999]
["SABCAUN202303Grampian",19,146751.342465753,12.947070657588,7.7913213364139002,20.219614542465902]
["SABCAUN202303Greater Glasgow & Clyde",21,297401.97260273999,7.0611502056347,4.36926377741566,10.794298814882801]
["SABCAUN202303Highland",11,81572.493150684895,13.4849378450162,6.7223826159893996,24.129960822766101]
["SABCAUN202303Lanarkshire",18,168463.342465753,10.6848170863398,6.3292030370632304,16.887617783389899]
["SABCAUN202303Lothian",15,228409.534246575,6.5671514323946898,3.6728630240386799,10.832220322555299]
["SABCAUN202303Orkney",0,5550.2465753424704,0,0,66.088910513477302]
["SABCAUN202303Shetland",4,5802.3013698630102,68.938163411778007,18.546440816812801,176.49690991111899]
["SABCAUN202303Tayside",14,104383.45205479499,13.4120875717455,7.3262959791076803,22.504703020447501]
["SABCAUN202303Western Isles",1,6583.6712328767098,15.1890938145016,0.19852349803646099,84.509935758197997]
["CDICA202304Ayrshire & Arran",6,92110.904109588999,6.5138867737759796,2.3785899854777299,14.1784465095899]
["CDICA202304Borders",1,29445.041095890399,3.3961575965997501,4.4388236335493499E-2,18.895732939600499]
["CDICA202304Dumfries & Galloway",4,36742.027397260303,10.8867155226667,2.92885413736043,27.872393950428499]
["CDICA202304Fife",0,93598.027397260303,0,0,3.91899016940478]
["CDICA202304Forth Valley",3,76304.547945205501,3.9316136204021701,0.79019034014132705,11.4875012780804]
["CDICA202304Grampian",6,146751.342465753,4.0885486287119903,1.4929612934852501,8.89933614864578]
["CDICA202304Greater Glasgow & Clyde",14,297401.97260273999,4.7074334704231298,2.57141557731341,7.8987996218846703]
["CDICA202304Highland",7,81572.493150684895,8.5813240831921593,3.4378977425613599,17.681712181635199]
["CDICA202304Lanarkshire",12,168463.342465753,7.1232113908932204,3.6764256705465099,12.443678436673]
["CDICA202304Lothian",18,228409.534246575,7.8805817188736196,4.6681006652595798,12.4554543988639]
["CDICA202304Orkney",0,5550.2465753424704,0,0,66.088910513477302]
["CDICA202304Shetland",0,5802.3013698630102,0,0,63.217976086306201]
["CDICA202304Tayside",6,104383.45205479499,5.7480375307480598,2.0989349341824601,12.5114613586665]
["CDICA202304Western Isles",2,6583.6712328767098,30.3781876290033,3.41167332206073,109.680158426589]
["ECBCOM202304Ayrshire & Arran",42,92110.904109588999,45.5972074164319,32.858791117227398,61.636050065908698]
["ECBCOM202304Borders",10,29445.041095890399,33.961575965997497,16.258697686795799,62.460863322134799]
["ECBCOM202304Dumfries & Galloway",20,36742.027397260303,54.433577613333703,33.235272464268299,84.0729160159961]
["ECBCOM202304Fife",35,93598.027397260303,37.393950463772804,26.042261512334498,52.007798549490602]
["ECBCOM202304Forth Valley",27,76304.547945205501,35.3845225836195,23.312925969826701,51.484922682445301]
["ECBCOM202304Grampian",36,146751.342465753,24.531291772271899,17.178907539025001,33.962836130681303]
["ECBCOM202304Greater Glasgow & Clyde",85,297401.97260273999,28.580846070426102,22.828570295637999,35.3411922791013]
["ECBCOM202304Highland",25,81572.493150684895,30.647586011400598,19.8279231059919,45.244029227830197]
["ECBCOM202304Lanarkshire",51,168463.342465753,30.2736484112962,22.538915155186999,39.805260877056099]
["ECBCOM202304Lothian",63,228409.534246575,27.5820360160577,21.193600117256501,35.290128000069302]
["ECBCOM202304Orkney",5,5550.2465753424704,90.086087746317602,29.031320310576501,210.230327816017]
["ECBCOM202304Shetland",0,5802.3013698630102,0,0,63.217976086306201]
["ECBCOM202304Tayside",43,104383.45205479499,41.194268970361101,29.809303907972801,55.490058374184002]
["ECBCOM202304Western Isles",0,6583.6712328767098,0,0,55.715076933643502]
["SABCAUN202304Ayrshire & Arran",14,92110.904109588999,15.1990691388106,8.3024270846865793,25.503154175399398]
["SABCAUN202304Borders",3,29445.041095890399,10.188472789799199,2.0477171860210901,29.768971596586901]
["SABCAUN202304Dumfries & Galloway",5,36742.027397260303,13.608394403333399,4.3854680197495703,31.7573699561548]
["SABCAUN202304Fife",11,93598.027397260303,11.7523844314715,5.8586866106873696,21.0297280688097]
["SABCAUN202304Forth Valley",11,76304.547945205501,14.4159166081413,7.1864852707450497,25.795855121962799]
["SABCAUN202304Grampian",18,146751.342465753,12.265645886135999,7.2656146162130799,19.386156816506599]
["SABCAUN202304Greater Glasgow & Clyde",18,297401.97260273999,6.0524144619726004,3.5851769557437301,9.5659908143048593]
["SABCAUN202304Highland",5,81572.493150684895,6.1295172022801099,1.9753103026261301,14.3042110388675]
["SABCAUN202304Lanarkshire",18,168463.342465753,10.6848170863398,6.3292030370632304,16.887617783389899]
["SABCAUN202304Lothian",27,228409.534246575,11.8208725783104,7.7881261974261902,17.1995173679434]
["SABCAUN202304Orkney",0,5550.2465753424704,0,0,66.088910513477302]
["SABCAUN202304Shetland",2,5802.3013698630102,34.469081705889003,3.8711080439716001,124.45029270645099]
["SABCAUN202304Tayside",5,104383.45205479499,4.7900312756233898,1.54364492608334,11.178305890683299]
["SABCAUN202304Western Isles",0,6583.6712328767098,0,0,55.715076933643502]
["CDICA202401Ayrshire & Arran",7,90860.765027322399,7.7040953792267297,3.0864575042210198,15.8741932823821]
["CDICA202401Borders",0,29045.409836065599,0,0,12.6288370973535]
["CDICA202401Dumfries & Galloway",6,36243.360655737699,16.554756213122101,6.0450816399025902,36.033897056977899]
["CDICA202401Fife",4,92327.704918032803,4.3323940560974004,1.1655443948597299,11.0918847496864]
["CDICA202401Forth Valley",0,75268.934426229505,0,0,4.8733219360910303]
["CDICA202401Grampian",10,144759.617486339,6.9080038850915804,3.3071241128316702,12.7049429899096]
["CDICA202401Greater Glasgow & Clyde",19,293365.60109289602,6.4765602815115102,3.8974810319998898,10.114531380614499]
["CDICA202401Highland",14,80465.382513661199,17.398786363344701,9.5040132934754205,29.1941517626347]
["CDICA202401Lanarkshire",7,166176.93989071,4.2123774842668897,1.68758607687852,8.6795517282807193]
["CDICA202401Lothian",23,225309.53551912599,10.2081786938164,6.4689864158425099,15.3180534469421]
["CDICA202401Orkney",1,5474.9180327868899,18.265113632961,0.23872749057530601,101.624468094601]
["CDICA202401Shetland",0,5723.5519125683104,0,0,64.087782350688002]
["CDICA202401Tayside",3,102966.74863387999,2.9135619409204998,0.58557852408785105,8.5129287238218208]
["CDICA202401Western Isles",0,6494.3169398907103,0,0,56.481651979817698]
["ECBCOM202401Ayrshire & Arran",44,90860.765027322399,48.425742383710897,35.182596422912098,65.011188664895997]
["ECBCOM202401Borders",12,29045.409836065599,41.314617585804001,21.323264511769001,72.173320116419305]
["ECBCOM202401Dumfries & Galloway",20,36243.360655737699,55.182520710407097,33.692551389939503,85.229662143327403]
["ECBCOM202401Fife",29,92327.704918032803,31.409856906706199,21.0311593497375,45.111695700190801]
["ECBCOM202401Forth Valley",25,75268.934426229505,33.214233987199997,21.488455151986301,49.033087719791801]
["ECBCOM202401Grampian",48,144759.617486339,33.1584186484396,24.446231413452399,43.964428635085099]
["ECBCOM202401Greater Glasgow & Clyde",92,293365.60109289602,31.360186626266199,25.279959214137701,38.461020267418]
["ECBCOM202401Highland",31,80465.382513661199,38.525884090263197,26.171486219701901,54.686597324324303]
["ECBCOM202401Lanarkshire",80,166176.93989071,48.141456963050103,38.171719432514202,59.917172874996297]
["ECBCOM202401Lothian",72,225309.53551912599,31.956037650207701,25.002498072566699,40.244060469074803]
["ECBCOM202401Orkney",0,5474.9180327868899,0,0,66.998217516477695]
["ECBCOM202401Shetland",1,5723.5519125683104,17.471668210156501,0.22835705223580499,97.209851756868702]
["ECBCOM202401Tayside",48,102966.74863387999,46.616991054727997,34.368639928380603,61.809020452319999]
["ECBCOM202401Western Isles",2,6494.3169398907103,30.796156370428999,3.4586140027225301,111.18923060485101]
["SABCAUN202401Ayrshire & Arran",15,90860.765027322399,16.508775812628699,9.2329943779350305,27.2304816934695]
["SABCAUN202401Borders",7,29045.409836065599,24.100193591719002,9.6551534869245703,49.658150942592897]
["SABCAUN202401Dumfries & Galloway",4,36243.360655737699,11.0365041420814,2.9691517842300299,28.255885867795499]
["SABCAUN202401Fife",13,92327.704918032803,14.0802806823166,7.4897948556218399,24.079349152011901]
["SABCAUN202401Forth Valley",9,75268.934426229505,11.957124235392,5.4561965236099104,22.699860959877199]
["SABCAUN202401Grampian",21,144759.617486339,14.5068081586923,8.9764513666785906,22.176390185008099]
["SABCAUN202401Greater Glasgow & Clyde",24,293365.60109289602,8.1809182503303202,5.2400791836162703,12.173153465938601]
["SABCAUN202401Highland",5,80465.382513661199,6.2138522726230896,2.00248828872579,14.501020445604301]
["SABCAUN202401Lanarkshire",15,166176.93989071,9.0265231805718997,5.0483354262262496,14.888843183406401]
["SABCAUN202401Lothian",21,225309.53551912599,9.3205109813105906,5.7672999202237998,14.248157553620601]
["SABCAUN202401Orkney",0,5474.9180327868899,0,0,66.998217516477695]
["SABCAUN202401Shetland",2,5723.5519125683104,34.943336420313003,3.9243700152524901,126.16258485659]
["SABCAUN202401Tayside",12,102966.74863387999,11.654247763681999,6.0149802242408397,20.359035220824602]
["SABCAUN202401Western Isles",0,6494.3169398907103,0,0,56.481651979817698]
["CDICA202402Ayrshire & Arran",9,90860.765027322399,9.9052654875772195,4.5199057946377801,18.804534009368499]
["CDICA202402Borders",1,29045.409836065599,3.4428847988169999,4.4998967150044797E-2,19.1557163794138]
["CDICA202402Dumfries & Galloway",2,36243.360655737699,5.5182520710407097,0.61973655588332599,19.923596785337899]
["CDICA202402Fife",12,92327.704918032803,12.9971821682922,6.7080943616762498,22.7050338126787]
["CDICA202402Forth Valley",3,75268.934426229505,3.985708078464,0.80106244567932405,11.6455560149187]
["CDICA202402Grampian",8,144759.617486339,5.5264031080732696,2.3795535132474299,10.889886119980201]
["CDICA202402Greater Glasgow & Clyde",15,293365.60109289602,5.1130739064564503,2.8596295187536098,8.4337849751773497]
["CDICA202402Highland",4,80465.382513661199,4.9710818180984697,1.33737062567503,12.727066350303]
["CDICA202402Lanarkshire",9,166176.93989071,5.41591390834314,2.4713543204147901,10.2817776473512]
["CDICA202402Lothian",23,225309.53551912599,10.2081786938164,6.4689864158425099,15.3180534469421]
["CDICA202402Orkney",0,5474.9180327868899,0,0,66.998217516477695]
["CDICA202402Shetland",1,5723.5519125683104,17.471668210156501,0.22835705223580499,97.209851756868702]
["CDICA202402Tayside",7,102966.74863387999,6.7983111954811699,2.7235772108819201,14.007836170076301]
["CDICA202402Western Isles",2,6494.3169398907103,30.796156370428999,3.4586140027225301,111.18923060485101]
["ECBCOM202402Ayrshire & Arran",61,90860.765027322399,67.135688304690007,51.350432120545399,86.240423199698398]
["ECBCOM202402Borders",13,29045.409836065599,44.757502384620999,23.8080844177933,76.541906472419996]
["ECBCOM202402Dumfries & Galloway",20,36243.360655737699,55.182520710407097,33.692551389939503,85.229662143327403]
["ECBCOM202402Fife",32,92327.704918032803,34.659152448779203,23.7025710123993,48.930280275420898]
["ECBCOM202402Forth Valley",35,75268.934426229505,46.499927582079998,32.383935352599998,64.672462691461803]
["ECBCOM202402Grampian",39,144759.617486339,26.9412151518572,19.155407476040399,36.830726097600902]
["ECBCOM202402Greater Glasgow & Clyde",93,293365.60109289602,31.701058220029999,25.5860717097747,38.836472539780601]
["ECBCOM202402Highland",30,80465.382513661199,37.283113635738502,25.149681432706899,53.226144395144601]
["ECBCOM202402Lanarkshire",69,166176.93989071,41.522006630630699,32.305031008066301,52.549738140440901]
["ECBCOM202402Lothian",55,225309.53551912599,24.410862093908701,18.388305139305999,31.774836768410601]
["ECBCOM202402Orkney",1,5474.9180327868899,18.265113632961,0.23872749057530601,101.624468094601]
["ECBCOM202402Shetland",0,5723.5519125683104,0,0,64.087782350688002]
["ECBCOM202402Tayside",42,102966.74863387999,40.789867172887,29.3944695536407,55.137725262179401]
["ECBCOM202402Western Isles",0,6494.3169398907103,0,0,56.481651979817698]
["SABCAUN202402Ayrshire & Arran",13,90860.765027322399,14.307605704278201,7.6107170033018097,24.468108346399099]
["SABCAUN202402Borders",4,29045.409836065599,13.771539195268,3.7049585309639701,35.258179104165002]
["SABCAUN202402Dumfries & Galloway",2,36243.360655737699,5.5182520710407097,0.61973655588332599,19.923596785337899]
["SABCAUN202402Fife",8,92327.704918032803,8.6647881121948007,3.7308764110597199,17.074135554410699]
["SABCAUN202402Forth Valley",2,75268.934426229505,2.6571387189759998,0.29841442127015,9.59357415320153]
["SABCAUN202402Grampian",15,144759.617486339,10.3620058276374,5.7952414301682804,17.091661622859899]
["SABCAUN202402Greater Glasgow & Clyde",20,293365.60109289602,6.8174318752752701,4.16248969507122,10.5295555174825]
["SABCAUN202402Highland",7,80465.382513661199,8.6993931816723293,3.4851992409310899,17.9249920993533]
["SABCAUN202402Lanarkshire",24,166176.93989071,14.442437088915,9.2507358751880293,21.490253016331899]
["SABCAUN202402Lothian",25,225309.53551912599,11.095846406322099,7.1786270298290802,16.3804352789289]
["SABCAUN202402Orkney",1,5474.9180327868899,18.265113632961,0.23872749057530601,101.624468094601]
["SABCAUN202402Shetland",1,5723.5519125683104,17.471668210156501,0.22835705223580499,97.209851756868702]
["SABCAUN202402Tayside",14,102966.74863387999,13.596622390962301,7.4270973418188699,22.814341716227901]
["SABCAUN202402Western Isles",0,6494.3169398907103,0,0,56.481651979817698]
["CDIHCAI201404Ayrshire & Arran",22,116457,18.891092849721399,11.834727883064801,28.602831840660599]
["CDIHCAI201404Borders",3,32633,9.1931480403272801,1.8476731129578099,26.860803237333201]
["CDIHCAI201404Dumfries & Galloway",10,43399,23.042005576165302,11.031084162154899,42.377996898662502]
["CDIHCAI201404Fife",17,99647,17.060222585727601,9.9324350679666296,27.3167388055987]
["CDIHCAI201404Forth Valley",7,87095,8.0372007577932205,3.2199080321240201,16.560552796702598]
["CDIHCAI201404Grampian",23,159496,14.420424336660499,9.1383127140054192,21.638809168804599]
["CDIHCAI201404Greater Glasgow & Clyde",92,477840,19.2533065461242,15.520405220281701,23.612799952697902]
["CDIHCAI201404Highland",15,80452,18.644657684084901,10.4275460233698,30.753522581553501]
["CDIHCAI201404Lanarkshire",33,163546,20.1778093013586,13.8871108075375,28.338216830561599]
["CDIHCAI201404Lothian",74,288140,25.681960158256398,20.1649878945789,32.241909964870402]
["CDIHCAI201404Golden Jubilee",0,12222,0,0,30.012252433770399]
["CDIHCAI201404Orkney",1,4331,23.089355806973,0.30178098431602401,128.465858449205]
["CDIHCAI201404Shetland",0,3359,0,0,109.20206884356701]
["CDIHCAI201404Tayside",23,134798,17.062567693882698,10.8126554150136,25.603521618923601]
["CDIHCAI201404Western Isles",1,8425,11.869436201780401,0.15513512677420799,66.039837738101696]
["CDIHCAI201501Ayrshire & Arran",18,118008,15.2532031726663,9.0353086127048101,24.108065030116201]
["CDIHCAI201501Borders",4,34341,11.647884452986199,3.13363148881733,29.8211543680695]
["CDIHCAI201501Dumfries & Galloway",8,44394,18.020453214398302,7.7592299942778604,35.5096578185819]
["CDIHCAI201501Fife",10,99050,10.095911155981799,4.8332965325932404,18.5680230934382]
["CDIHCAI201501Forth Valley",13,87778,14.810089088382099,7.8780055290215403,25.327428776290599]
["CDIHCAI201501Grampian",24,162238,14.7930817687595,9.4753324096448406,22.012010032983301]
["CDIHCAI201501Greater Glasgow & Clyde",71,480533,14.7752599717397,11.5390656545438,18.637318090226898]
["CDIHCAI201501Highland",9,81010,11.109739538328601,5.0695234952748498,21.091153512819702]
["CDIHCAI201501Lanarkshire",20,161714,12.367513016807401,7.5511785710424197,19.101681880525401]
["CDIHCAI201501Lothian",52,287680,18.0756395995551,13.4987062609317,23.704383231756601]
["CDIHCAI201501Golden Jubilee",0,12254,0,0,29.933878671906498]
["CDIHCAI201501Orkney",0,4585,0,0,80.002126334905498]
["CDIHCAI201501Shetland",0,3528,0,0,103.971017359847]
["CDIHCAI201501Tayside",20,137758,14.5182130983319,8.8643221550657998,22.423448247123901]
["CDIHCAI201501Western Isles",2,8813,22.693747872461099,2.5486594243077398,81.935561539827106]
["CDIHCAI201502Ayrshire & Arran",28,118290,23.6706399526587,15.725371145119601,34.2121495942312]
["CDIHCAI201502Borders",5,32123,15.565171372536801,5.0160628251236599,36.323822712510399]
["CDIHCAI201502Dumfries & Galloway",12,43654,27.488889906995901,14.1875419614964,48.020883813876303]
["CDIHCAI201502Fife",14,94851,14.759991987432899,8.0625830520966595,24.766408248118399]
["CDIHCAI201502Forth Valley",5,85671,5.8362806550641402,1.8808113145807499,13.619896546018699]
["CDIHCAI201502Grampian",22,155593,14.1394535743896,8.8579621517553804,21.408418037236999]
["CDIHCAI201502Greater Glasgow & Clyde",91,454759,20.010599020580099,16.110782196769499,24.568927156706099]
["CDIHCAI201502Highland",20,79471,25.1664129053365,15.3657471459722,38.869642808411697]
["CDIHCAI201502Lanarkshire",27,158944,16.987114958727599,11.1918806460619,24.716464611925201]
["CDIHCAI201502Lothian",57,274583,20.758750541730599,15.721430221561199,26.895977356045002]
["CDIHCAI201502Golden Jubilee",0,11881,0,0,30.873642727509601]
["CDIHCAI201502Orkney",0,4168,0,0,88.006177842020605]
["CDIHCAI201502Shetland",0,3263,0,0,112.414878714539]
["CDIHCAI201502Tayside",26,135612,19.1723446302687,12.520733837809299,28.093220052647901]
["CDIHCAI201502Western Isles",1,8554,11.6904372223521,0.152795586050117,65.043913133447205]
["CDIHCAI201503Ayrshire & Arran",30,114903,26.108978877836101,17.612061796293201,37.2737184275665]
["CDIHCAI201503Borders",4,31173,12.8316171045456,3.4520911993544399,32.8517711530451]
["CDIHCAI201503Dumfries & Galloway",7,42757,16.371588277942799,6.5588766765170998,33.733455243090397]
["CDIHCAI201503Fife",14,93360,14.9957155098543,8.1913460269325196,25.161938611206899]
["CDIHCAI201503Forth Valley",6,85803,6.9927624908219999,2.5534547051777698,15.220790961478899]
["CDIHCAI201503Grampian",22,148857,14.779284816972,9.2587980751867605,22.3771807013967]
["CDIHCAI201503Greater Glasgow & Clyde",83,439656,18.878395836745099,15.0359936557587,23.402974016170301]
["CDIHCAI201503Highland",19,79641,23.857058550244201,14.356761789791801,37.257889507250603]
["CDIHCAI201503Lanarkshire",33,155047,21.283868762375299,14.648341626278,29.891594224790101]
["CDIHCAI201503Lothian",63,267000,23.595505617977501,18.130413227680599,30.189519475647401]
["CDIHCAI201503Golden Jubilee",0,12077,0,0,30.372588328686099]
["CDIHCAI201503Orkney",2,4206,47.551117451260097,5.3403080138906596,171.682858737636]
["CDIHCAI201503Shetland",4,3047,131.27666557269399,35.317374124540898,336.09723076924001]
["CDIHCAI201503Tayside",23,135107,17.0235443019237,10.7879260484876,25.544964414779798]
["CDIHCAI201503Western Isles",3,8267,36.288859320188699,7.2934700248157904,106.029828479968]
["CDIHCAI201504Ayrshire & Arran",31,117416,26.4018532397629,17.9353635758272,37.476817231657698]
["CDIHCAI201504Borders",2,32713,6.1137773973649603,0.68661802666903404,22.073735330006301]
["CDIHCAI201504Dumfries & Galloway",9,44283,20.3238262990312,9.2740351455912204,38.583527450116897]
["CDIHCAI201504Fife",15,93976,15.9615220907466,8.9269274354318497,26.327811342588902]
["CDIHCAI201504Forth Valley",7,84874,8.2475198529585008,3.3041672368197799,16.993912692094401]
["CDIHCAI201504Grampian",38,151027,25.161063915723702,17.803102883459701,34.536676524727397]
["CDIHCAI201504Greater Glasgow & Clyde",112,447333,25.037276480831999,20.615146825068901,30.126691946761301]
["CDIHCAI201504Highland",13,79839,16.282769072758899,8.6613756350461895,27.8459279691033]
["CDIHCAI201504Lanarkshire",44,158949,27.681835054011,20.1115931942531,37.1626517777906]
["CDIHCAI201504Lothian",61,268100,22.752704214845199,17.402982271377599,29.227418232766301]
["CDIHCAI201504Golden Jubilee",0,12688,0,0,28.9099739317104]
["CDIHCAI201504Orkney",0,3935,0,0,93.217217089083107]
["CDIHCAI201504Shetland",1,3187,31.377470975839302,0.41010776375045499,174.57974049058899]
["CDIHCAI201504Tayside",33,135734,24.312257798340902,16.732590390981802,34.144739046746103]
["CDIHCAI201504Western Isles",1,8107,12.3350191192796,0.161220358094573,68.630274200506605]
["CDIHCAI201601Ayrshire & Arran",29,119132,24.342745861733199,16.2992199789031,34.961717497895698]
["CDIHCAI201601Borders",2,32229,6.2055912377051703,0.69692933402910795,22.4052283300908]
["CDIHCAI201601Dumfries & Galloway",8,45223,17.6901134378524,7.6169926003575901,34.858716785664903]
["CDIHCAI201601Fife",5,94690,5.2803886366036501,1.7016684563464699,12.3226334036748]
["CDIHCAI201601Forth Valley",5,85625,5.8394160583941597,1.88182173584172,13.627213512338299]
["CDIHCAI201601Grampian",30,155101,19.342235059735302,13.047489936102799,27.613374952338599]
["CDIHCAI201601Greater Glasgow & Clyde",72,462860,15.5554595342004,12.1706374012614,19.5898772235468]
["CDIHCAI201601Highland",8,82505,9.6963820374522793,4.1750591644866502,19.106911692601901]
["CDIHCAI201601Lanarkshire",29,158839,18.2574808453843,12.224697174665501,26.2218934201255]
["CDIHCAI201601Lothian",45,272449,16.516852695366801,12.046312425462499,22.101477333999998]
["CDIHCAI201601Golden Jubilee",0,12668,0,0,28.955616454494901]
["CDIHCAI201601Orkney",1,3843,26.0213374967473,0.34010237914980501,144.77898333164401]
["CDIHCAI201601Shetland",0,3146,0,0,116.59559734441901]
["CDIHCAI201601Tayside",18,138172,13.027241409258,7.7167494048582199,20.589877385244101]
["CDIHCAI201601Western Isles",0,7965,0,0,46.052699214757297]
["CDIHCAI201602Ayrshire & Arran",21,116346,18.049610644113201,11.1686492550248,27.592231451099099]
["CDIHCAI201602Borders",2,32572,6.1402431536288802,0.68959030782341002,22.169289692082]
["CDIHCAI201602Dumfries & Galloway",6,43631,13.751690311934199,5.0215230929469401,29.932605873525201]
["CDIHCAI201602Fife",13,93313,13.931606528565201,7.4107098617175797,23.825094500500899]
["CDIHCAI201602Forth Valley",8,84437,9.4745194642159305,4.0795297839332498,18.6697271243427]
["CDIHCAI201602Grampian",21,147762,14.212043691882901,8.7940584603965597,21.725787146963199]
["CDIHCAI201602Greater Glasgow & Clyde",71,450499,15.760301354719999,12.3083554817545,19.8798363011927]
["CDIHCAI201602Highland",9,78289,11.4958678741586,5.2457190454880802,21.824194281106202]
["CDIHCAI201602Lanarkshire",21,149629,14.034712522305201,8.6843303519044905,21.454703034903499]
["CDIHCAI201602Lothian",50,263796,18.954040243218198,14.066889434651999,24.9891817488346]
["CDIHCAI201602Golden Jubilee",0,13158,0,0,27.877317924117801]
["CDIHCAI201602Orkney",2,3801,52.6177321757432,5.9093226799326803,189.97582316508701]
["CDIHCAI201602Shetland",0,2995,0,0,122.474039814872]
["CDIHCAI201602Tayside",24,118332,20.281918669506101,12.9910673315414,30.1793638553488]
["CDIHCAI201602Western Isles",2,6544,30.562347188264098,3.4323556702970901,110.34506476932999]
["CDIHCAI201603Ayrshire & Arran",18,118267,15.2197992677585,9.0155216482033893,24.055269331884201]
["CDIHCAI201603Borders",9,31455,28.6123032904149,13.0561786155529,54.318688477937599]
["CDIHCAI201603Dumfries & Galloway",4,43380,9.2208390963577695,2.4806832401446699,23.6073827144738]
["CDIHCAI201603Fife",8,94057,8.5054807191384008,3.6622819818405001,16.7602172001884]
["CDIHCAI201603Forth Valley",9,83611,10.764133905825799,4.9118189993208503,20.4350425909692]
["CDIHCAI201603Grampian",25,145070,17.233059902116199,11.1491908854748,25.440602910984801]
["CDIHCAI201603Greater Glasgow & Clyde",100,448881,22.277619235387601,18.1254701370821,27.0959000875078]
["CDIHCAI201603Highland",13,78191,16.6259543937282,8.8439279370573693,28.432825301188601]
["CDIHCAI201603Lanarkshire",27,147746,18.274606419124702,12.0401383279931,26.589780781055602]
["CDIHCAI201603Lothian",31,263612,11.759707448826299,7.9886296891618098,16.692631488977401]
["CDIHCAI201603Golden Jubilee",0,12380,0,0,29.629220456021098]
["CDIHCAI201603Orkney",1,3947,25.335697998479901,0.331140978736433,140.964183669498]
["CDIHCAI201603Shetland",0,3141,0,0,116.78120001449901]
["CDIHCAI201603Tayside",18,106847,16.8465188540623,9.9791168565151107,26.626339888569198]
["CDIHCAI201603Western Isles",0,7305,0,0,50.213518034981803]
["CDIHCAI201604Ayrshire & Arran",16,120423,13.2864984263803,7.5894220708650399,21.577800947868699]
["CDIHCAI201604Borders",5,32616,15.3298994358597,4.9402436267919896,35.774777930891901]
["CDIHCAI201604Dumfries & Galloway",5,43532,11.485803546816101,3.7014377040211199,26.803963911466699]
["CDIHCAI201604Fife",18,95378,18.8722766256369,11.1790842622834,29.828100170625898]
["CDIHCAI201604Forth Valley",7,85427,8.1941306612663407,3.2827781621482899,16.883904922668702]
["CDIHCAI201604Grampian",32,145837,21.942305450605801,15.005821446076901,30.9771901425955]
["CDIHCAI201604Greater Glasgow & Clyde",65,443247,14.6645098556787,11.3171535078563,18.691492333932999]
["CDIHCAI201604Highland",15,77349,19.392623046193201,10.8458665615864,31.987257737412801]
["CDIHCAI201604Lanarkshire",27,147122,18.352115930996,12.091205104659201,26.702558089734001]
["CDIHCAI201604Lothian",25,264048,9.4679755196025006,6.1254511367472197,13.9772627109335]
["CDIHCAI201604Golden Jubilee",0,12049,0,0,30.443169495023799]
["CDIHCAI201604Orkney",1,3715,26.917900403768499,0.35182057687017498,149.76733053660999]
["CDIHCAI201604Shetland",0,2392,0,0,153.34855737689901]
["CDIHCAI201604Tayside",15,109748,13.6676750373583,7.6440293460668398,22.544214006005902]
["CDIHCAI201604Western Isles",2,8800,22.727272727272702,2.5524244893663801,82.056602710283698]
["CDIHCAI201701Ayrshire & Arran",26,119981,21.6700977654795,14.1519220310966,31.753175567628901]
["CDIHCAI201701Borders",5,33461,14.942769193987001,4.8154862715234898,34.8713474490891]
["CDIHCAI201701Dumfries & Galloway",7,43221,16.195830730432,6.4884637111089898,33.371308989352798]
["CDIHCAI201701Fife",10,94451,10.587500397031301,5.0686389932701603,19.472135683106099]
["CDIHCAI201701Forth Valley",4,85603,4.6727334322395198,1.2571059303701499,11.963228650326201]
["CDIHCAI201701Grampian",25,147658,16.931016267320398,10.953779150170201,24.994705768035399]
["CDIHCAI201701Greater Glasgow & Clyde",77,439173,17.532953983965299,13.836169966718201,21.913550231483999]
["CDIHCAI201701Highland",18,78104,23.046194817166899,13.6515248741175,36.425081149159503]
["CDIHCAI201701Lanarkshire",20,147866,13.5257598095573,8.2583642719594401,20.890599486205701]
["CDIHCAI201701Lothian",47,259482,18.113009765609899,13.307534514981599,24.087120702063199]
["CDIHCAI201701Golden Jubilee",1,11569,8.6437894372893105,0.11297548993626901,48.0928025709661]
["CDIHCAI201701Orkney",0,3608,0,0,101.665673294219]
["CDIHCAI201701Shetland",0,2383,0,0,153.92771684663899]
["CDIHCAI201701Tayside",17,106222,16.0042175820452,9.3176305964646708,25.625869139740299]
["CDIHCAI201701Western Isles",0,8557,0,0,42.866629571758999]
["CDIHCAI201702Ayrshire & Arran",25,116808,21.4026436545442,13.846766674849601,31.596023083149799]
["CDIHCAI201702Borders",3,32504,9.2296332759045008,1.8550060514137401,26.967406843585302]
["CDIHCAI201702Dumfries & Galloway",7,43510,16.0882555734314,6.4453663538920196,33.149651708315702]
["CDIHCAI201702Fife",13,90490,14.3662283125207,7.6419004235435199,24.5683616214525]
["CDIHCAI201702Forth Valley",8,84320,9.4876660341556001,4.0851904217975701,18.695632699218699]
["CDIHCAI201702Grampian",33,140460,23.4942332336608,16.1695957861991,32.995885019016299]
["CDIHCAI201702Greater Glasgow & Clyde",79,433299,18.232213783092,14.434051397189,22.7231480348673]
["CDIHCAI201702Highland",5,74844,6.6805622361177903,2.15289116203633,15.590162965554599]
["CDIHCAI201702Lanarkshire",16,144126,11.1013973883963,6.34126371397097,18.029110108829698]
["CDIHCAI201702Lothian",33,256027,12.8892655852703,8.8708668387690697,18.102004904838299]
["CDIHCAI201702Golden Jubilee",0,11614,0,0,31.583412196103101]
["CDIHCAI201702Orkney",1,3521,28.4010224368077,0.37120518121917101,158.01920844745999]
["CDIHCAI201702Shetland",0,2201,0,0,166.65595149729299]
["CDIHCAI201702Tayside",14,109040,12.839325018341899,7.0134268623846303,21.5436407624934]
["CDIHCAI201702Western Isles",0,7803,0,0,47.008810617139801]
["CDIHCAI201703Ayrshire & Arran",28,118443,23.640063152740101,15.705057730352999,34.167955687559498]
["CDIHCAI201703Borders",6,32452,18.488845063478401,6.7513273162938496,40.243730027972902]
["CDIHCAI201703Dumfries & Galloway",13,41406,31.396415978360601,16.700854207758599,53.692485222557998]
["CDIHCAI201703Fife",12,87701,13.6828542433952,7.0619828369934696,23.902847880992901]
["CDIHCAI201703Forth Valley",14,80291,17.436574460400301,9.5246548812995293,29.257557992082202]
["CDIHCAI201703Grampian",26,138173,18.816990294775401,12.2886653486065,27.5725196513044]
["CDIHCAI201703Greater Glasgow & Clyde",102,426025,23.942256909805799,19.5215372112994,29.0646300515196]
["CDIHCAI201703Highland",12,73950,16.2271805273834,8.3751583067906008,28.347581636388799]
["CDIHCAI201703Lanarkshire",25,139493,17.922046267554599,11.594941120743201,26.457730956367499]
["CDIHCAI201703Lothian",25,252661,9.8946810152734308,6.4015147638766203,14.607194083363]
["CDIHCAI201703Golden Jubilee",0,11658,0,0,31.464209062064]
["CDIHCAI201703Orkney",2,2936,68.119891008174406,7.6503186329782498,245.946220657526]
["CDIHCAI201703Shetland",0,2600,0,0,141.08067278674699]
["CDIHCAI201703Tayside",19,123857,15.3402714420663,9.2315078332335503,23.957108425417601]
["CDIHCAI201703Western Isles",0,7180,0,0,51.0877088085713]
["CDIHCAI201704Ayrshire & Arran",18,123003,14.6337894197703,8.6683958827676495,23.1290662672777]
["CDIHCAI201704Borders",6,32440,18.495684340320601,6.7538247246722598,40.258616734518398]
["CDIHCAI201704Dumfries & Galloway",11,42845,25.673940949935801,12.798728203969601,45.9409747681499]
["CDIHCAI201704Fife",11,89968,12.2265694469145,6.0950728025417797,21.8782351940844]
["CDIHCAI201704Forth Valley",3,86859,3.4538735191517298,0.69417235629183105,10.0916265677005]
["CDIHCAI201704Grampian",22,139048,15.8218744606179,9.9119505859708497,23.955756196909]
["CDIHCAI201704Greater Glasgow & Clyde",74,433674,17.063508534060102,13.3979431829991,21.422044986044199]
["CDIHCAI201704Highland",15,74412,20.1580390259636,11.273946845564501,33.2497769006496]
["CDIHCAI201704Lanarkshire",28,143304,19.5388823759281,12.980476139927701,28.240350412421201]
["CDIHCAI201704Lothian",33,256805,12.8502170907887,8.8439922280700394,18.047164228776801]
["CDIHCAI201704Golden Jubilee",0,12434,0,0,29.500542805657201]
["CDIHCAI201704Orkney",0,3819,0,0,96.048638189458401]
["CDIHCAI201704Shetland",1,2589,38.624951718810401,0.50483331134519205,214.90368209482699]
["CDIHCAI201704Tayside",10,126195,7.92424422520702,3.7936370026812498,14.5739743048857]
["CDIHCAI201704Western Isles",2,7572,26.4131008980454,2.96636760518015,95.364250376452205]
["CDIHCAI201801Ayrshire & Arran",18,122158,14.7350153080437,8.7283575268756,23.289056288363899]
["CDIHCAI201801Borders",4,32986,12.126356636148699,3.2623549068536999,31.046148734429]
["CDIHCAI201801Dumfries & Galloway",14,44662,31.3465585956742,17.122924747535301,52.597702492998003]
["CDIHCAI201801Fife",6,91836,6.5333856004181401,2.3857101144253701,14.2208886152247]
["CDIHCAI201801Forth Valley",1,85107,1.1749914813117599,1.53572966157038E-2,6.5374837903287304]
["CDIHCAI201801Grampian",32,144477,22.148854142874001,15.1470751900408,31.268786580740901]
["CDIHCAI201801Greater Glasgow & Clyde",64,435205,14.705713399432501,11.324569672071,18.7792460222398]
["CDIHCAI201801Highland",13,75230,17.280340289778,9.1920187335697605,29.551921349531298]
["CDIHCAI201801Lanarkshire",19,143873,13.206091483461099,7.9471955523330102,20.6241308532313]
["CDIHCAI201801Lothian",42,258580,16.242555495397902,11.7048996742051,21.955883275252301]
["CDIHCAI201801Golden Jubilee",2,11871,16.847780304944799,1.8921182298394501,60.828751061452003]
["CDIHCAI201801Orkney",0,3683,0,0,99.595370416926897]
["CDIHCAI201801Shetland",1,2410,41.493775933610003,0.54232922949074802,230.865407860376]
["CDIHCAI201801Tayside",12,124965,9.6026887528507991,4.95613137108122,16.775126331460399]
["CDIHCAI201801Western Isles",0,8190,0,0,44.7875151703958]
["CDIHCAI201802Ayrshire & Arran",10,115914,8.6270855979432994,4.1301138909308603,15.8666139327868]
["CDIHCAI201802Borders",3,31525,9.5162569389373495,1.91261274211426,27.804872071178298]
["CDIHCAI201802Dumfries & Galloway",7,42410,16.505541145956101,6.6125416189069002,34.009463471559002]
["CDIHCAI201802Fife",4,87527,4.5700183943240402,1.22947249371595,11.700255488636399]
["CDIHCAI201802Forth Valley",9,83252,10.8105510978715,4.9329997880196998,20.523162759735801]
["CDIHCAI201802Grampian",43,138240,31.105324074074101,22.508666415398402,41.899912093600904]
["CDIHCAI201802Greater Glasgow & Clyde",86,417159,20.615640559115299,16.489288042320599,25.460528144746899]
["CDIHCAI201802Highland",22,73332,30.000545464462999,18.794481332543398,45.423552987342603]
["CDIHCAI201802Lanarkshire",27,136851,19.7294868141263,12.9986794207398,28.7066499424764]
["CDIHCAI201802Lothian",27,255469,10.5687969968959,6.9632021004805598,15.377731745447999]
["CDIHCAI201802Golden Jubilee",1,12349,8.0978216859664798,0.10583961803163799,45.055116442101202]
["CDIHCAI201802Orkney",0,3487,0,0,105.19350422871899]
["CDIHCAI201802Shetland",0,2417,0,0,151.76241176894601]
["CDIHCAI201802Tayside",5,117886,4.2413857455507902,1.3668373354889201,9.8979535907060203]
["CDIHCAI201802Western Isles",0,7527,0,0,48.732529460016202]
["CDIHCAI201803Ayrshire & Arran",17,110109,15.4392465647676,8.9887053484971293,24.721240514049601]
["CDIHCAI201803Borders",4,32651,12.250773330066499,3.2958267421357998,31.364682924072]
["CDIHCAI201803Dumfries & Galloway",13,43012,30.2241235004185,16.0772707459884,51.687692809570301]
["CDIHCAI201803Fife",7,89303,7.83848246979385,3.1402964072633801,16.151096221054299]
["CDIHCAI201803Forth Valley",10,82126,12.176411854954599,5.8293113210598397,22.394402350109001]
["CDIHCAI201803Grampian",26,136514,19.045665646014299,12.4380045798453,27.907597446266902]
["CDIHCAI201803Greater Glasgow & Clyde",100,412912,24.218235362498501,19.704390186295299,29.4562394098031]
["CDIHCAI201803Highland",10,73340,13.635124079629099,6.5276523255162298,25.077211445391999]
["CDIHCAI201803Lanarkshire",23,138817,16.5685758948832,10.4996097353567,24.8622539543979]
["CDIHCAI201803Lothian",36,252485,14.2582727686793,9.9848614509652798,19.740150092567401]
["CDIHCAI201803Golden Jubilee",0,12390,0,0,29.605306638058298]
["CDIHCAI201803Orkney",3,3756,79.872204472843407,16.053012964630501,233.37289458037699]
["CDIHCAI201803Shetland",0,2446,0,0,149.963102716902]
["CDIHCAI201803Tayside",6,114636,5.2339579189783301,1.9112152732856,11.392490377087301]
["CDIHCAI201803Western Isles",0,7123,0,0,51.496525234527802]
["CDIHCAI201804Ayrshire & Arran",21,110740,18.963337547408301,11.7340406919371,28.989035221325398]
["CDIHCAI201804Borders",0,31191,0,0,11.760115073115401]
["CDIHCAI201804Dumfries & Galloway",12,43800,27.397260273972599,14.1402501549581,47.8608142011634]
["CDIHCAI201804Fife",11,91463,12.0267211878027,5.9954463542534002,21.520626525932698]
["CDIHCAI201804Forth Valley",15,84592,17.732173255154201,9.9172135978832898,29.248420639435601]
["CDIHCAI201804Grampian",11,133702,8.2272516491899896,4.1013710333359104,14.7218520586183]
["CDIHCAI201804Greater Glasgow & Clyde",67,417273,16.056634385641999,12.443037365393,20.391750362004299]
["CDIHCAI201804Highland",11,72346,15.2047106958229,7.5797073770364403,27.207324025397199]
["CDIHCAI201804Lanarkshire",25,142634,17.527377764067499,11.3396043142296,25.875094748072499]
["CDIHCAI201804Lothian",36,254499,14.145438685417201,9.9058453803235693,19.583934695703601]
["CDIHCAI201804Golden Jubilee",0,11765,0,0,31.178049234640199]
["CDIHCAI201804Orkney",1,3843,26.0213374967473,0.34010237914980501,144.77898333164401]
["CDIHCAI201804Shetland",0,2501,0,0,146.66523360477501]
["CDIHCAI201804Tayside",9,115115,7.8182686878339096,3.5675811002233901,14.8424996401297]
["CDIHCAI201804Western Isles",1,6753,14.808233377758,0.19354560092887599,82.390883006590698]
["CDIHCAI201901Ayrshire & Arran",17,111660,15.224789539673999,8.8638488018777597,24.377853051777599]
["CDIHCAI201901Borders",6,29390,20.415107179312699,7.4547150074300097,44.436526943442502]
["CDIHCAI201901Dumfries & Galloway",3,46147,6.5009643097059397,1.3065880056157999,18.994703708667899]
["CDIHCAI201901Fife",6,91885,6.5299015073189297,2.3844378741728001,14.2133049667277]
["CDIHCAI201901Forth Valley",5,80825,6.1862047633776696,1.9935785478682,14.4365005504976]
["CDIHCAI201901Grampian",19,134033,14.175613468325,8.5306369752285498,22.138246388926198]
["CDIHCAI201901Greater Glasgow & Clyde",62,427318,14.5091009505801,11.123401312879199,18.6003994442992]
["CDIHCAI201901Highland",8,75357,10.616133869448101,4.57108505335896,20.919300784242001]
["CDIHCAI201901Lanarkshire",20,145876,13.7102744796951,8.3710225906767004,21.175583259941899]
["CDIHCAI201901Lothian",34,251904,13.4972052845528,9.3456978370173793,18.861685692559899]
["CDIHCAI201901Golden Jubilee",0,11654,0,0,31.475008516006699]
["CDIHCAI201901Orkney",0,3829,0,0,95.797792960444497]
["CDIHCAI201901Shetland",0,2511,0,0,146.08114267046699]
["CDIHCAI201901Tayside",6,119250,5.0314465408805003,1.8372668684978399,10.951694145641699]
["CDIHCAI201901Western Isles",0,6871,0,0,53.385205828197002]
["CDIHCAI201902Ayrshire & Arran",15,109780,13.663691018400399,7.6418011720909398,22.537642546284701]
["CDIHCAI201902Borders",4,29746,13.4471861762926,3.6176978066790801,34.427763805347801]
["CDIHCAI201902Dumfries & Galloway",6,45667,13.1385902292684,4.79764543474211,28.598102062053002]
["CDIHCAI201902Fife",6,87857,6.8292793972022698,2.4937577434736902,14.8649456146667]
["CDIHCAI201902Forth Valley",11,77293,14.2315604259118,7.0945817848845101,25.465967991168402]
["CDIHCAI201902Grampian",10,133401,7.4961956806920496,3.5887138893513599,13.7867233934157]
["CDIHCAI201902Greater Glasgow & Clyde",71,419871,16.909955676862701,13.2062034200383,21.329995102903101]
["CDIHCAI201902Highland",6,74804,8.0209614459119791,2.9289085352169399,17.4588194062854]
["CDIHCAI201902Lanarkshire",17,145187,11.709037310503,6.8169833195649101,18.748449046825801]
["CDIHCAI201902Lothian",30,244255,12.282246013387599,8.2851066982435704,17.5343885221702]
["CDIHCAI201902Golden Jubilee",0,11897,0,0,30.832121479830398]
["CDIHCAI201902Orkney",0,3479,0,0,105.435397886042]
["CDIHCAI201902Shetland",1,2542,39.339103068450001,0.51416736548886799,218.87711760169401]
["CDIHCAI201902Tayside",6,113492,5.2867162443167803,1.9304803340179699,11.507326744332399]
["CDIHCAI201902Western Isles",1,7013,14.259232853272501,0.18637009027131099,79.336322963568705]
["CDIHCAI201903Ayrshire & Arran",21,110670,18.9753320683112,11.741462602558199,29.007371106980901]
["CDIHCAI201903Borders",4,28962,13.8112008839169,3.7156287189239698,35.359721778671201]
["CDIHCAI201903Dumfries & Galloway",7,46074,15.192950470981501,6.0866842483361898,31.304886613465602]
["CDIHCAI201903Fife",8,90276,8.8617129691169296,3.81566813290322,17.462179861736502]
["CDIHCAI201903Forth Valley",14,72461,19.320738052193601,10.553871255909,32.4190749333059]
["CDIHCAI201903Grampian",11,133865,8.2172337803010507,4.0963770208723602,14.7039260743389]
["CDIHCAI201903Greater Glasgow & Clyde",62,416741,14.877345881494699,11.4057162655388,19.0724826444699]
["CDIHCAI201903Highland",15,75715,19.811133857227802,11.0799304321752,32.677572458973003]
["CDIHCAI201903Lanarkshire",24,146465,16.386167343734002,10.4957428701462,24.382511069068599]
["CDIHCAI201903Lothian",25,245501,10.183257909336399,6.5882139859138196,15.033210717254001]
["CDIHCAI201903Golden Jubilee",1,12067,8.2870638932626193,0.108313039120966,46.108032894962101]
["CDIHCAI201903Orkney",1,2983,33.523298692591403,0.43815402047358398,186.51881761431699]
["CDIHCAI201903Shetland",2,2694,74.239049740163296,8.3375410194595894,268.03938524517298]
["CDIHCAI201903Tayside",10,115794,8.6360260462545604,4.1343940234671903,15.8830568717296]
["CDIHCAI201903Western Isles",2,6702,29.841838257236599,3.35143770612118,107.74367410481899]
["CDIHCAI201904Ayrshire & Arran",21,111501,18.833911803481602,11.653955266994201,28.791183580502199]
["CDIHCAI201904Borders",3,29415,10.1988781234064,2.0498084887014101,29.7993741983306]
["CDIHCAI201904Dumfries & Galloway",6,46458,12.914890869172201,4.7159600944588203,28.111187026298499]
["CDIHCAI201904Fife",12,91708,13.085008941422799,6.7534234394727299,22.858460134458898]
["CDIHCAI201904Forth Valley",13,75205,17.286084701815,9.1950743876930101,29.561745138291801]
["CDIHCAI201904Grampian",17,135055,12.5874643663693,7.3284021859069997,20.1549818352633]
["CDIHCAI201904Greater Glasgow & Clyde",70,429650,16.292330967066199,12.700068821974201,20.584758864605799]
["CDIHCAI201904Highland",8,73909,10.8241215548851,4.6606401976210101,21.329144612944599]
["CDIHCAI201904Lanarkshire",25,147326,16.969170411196899,10.978463555352301,25.051031483217901]
["CDIHCAI201904Lothian",42,249135,16.8583298211813,12.1486461466914,22.788256556945999]
["CDIHCAI201904Golden Jubilee",1,11659,8.5770649283815104,0.11210339163502001,47.721556989751001]
["CDIHCAI201904Orkney",0,2915,0,0,125.835248454731]
["CDIHCAI201904Shetland",2,2673,74.822297044519303,8.4030435863913695,270.14519410793002]
["CDIHCAI201904Tayside",8,117969,6.78144258237334,2.9199472434789802,13.362966111420199]
["CDIHCAI201904Western Isles",3,6884,43.579314352120903,8.7587328145194796,127.331288791966]
["CDIHCAI202001Ayrshire & Arran",17,107445,15.8220484899251,9.2115720342284,25.334180946172399]
["CDIHCAI202001Borders",3,28855,10.396811644429,2.0895899045278798,30.377702028899499]
["CDIHCAI202001Dumfries & Galloway",12,44334,27.067262146433901,13.969931808254699,47.284333965149898]
["CDIHCAI202001Fife",7,87695,7.9822110724670701,3.1978777587985801,16.4472472299312]
["CDIHCAI202001Forth Valley",9,74682,12.051096649795101,5.4990773995369198,22.878261777584001]
["CDIHCAI202001Grampian",17,132936,12.7881085635193,7.4452169255707297,20.476252269975699]
["CDIHCAI202001Greater Glasgow & Clyde",65,413057,15.7363269476126,12.1443150482785,20.0576382981981]
["CDIHCAI202001Highland",16,71286,22.444799820441599,12.8207638812639,36.4512460166819]
["CDIHCAI202001Lanarkshire",20,140747,14.209894349435499,8.6760733190587001,21.9472484928793]
["CDIHCAI202001Lothian",25,240426,10.3982098441932,6.7272804179075001,15.350537230983999]
["CDIHCAI202001Golden Jubilee",1,10915,9.1617040769583102,0.119744703900385,50.974405216995599]
["CDIHCAI202001Orkney",0,3184,0,0,115.20406697410201]
["CDIHCAI202001Shetland",0,2514,0,0,145.90682149782899]
["CDIHCAI202001Tayside",8,111517,7.1737941300429497,3.0888856081671099,14.136102560131]
["CDIHCAI202001Western Isles",1,6357,15.730690577316301,0.205602240533695,87.523302334986198]
["CDIHCAI202002Ayrshire & Arran",13,81868,15.8792202081399,8.4467138482246096,27.155800106576901]
["CDIHCAI202002Borders",4,20636,19.3836014731537,5.2147721921630197,49.626296867313201]
["CDIHCAI202002Dumfries & Galloway",3,27088,11.075014766686399,2.2258976925262899,32.359295335347603]
["CDIHCAI202002Fife",5,63495,7.8746357980943396,2.5376956631458798,18.3767250491215]
["CDIHCAI202002Forth Valley",7,57076,12.264349288667701,4.9134117677805396,25.2705400839024]
["CDIHCAI202002Grampian",13,95717,13.581704399427499,7.2245846539951399,23.226710439370599]
["CDIHCAI202002Greater Glasgow & Clyde",49,305581,16.0350283558206,11.861786054612001,21.199713814600301]
["CDIHCAI202002Highland",13,50361,25.813625623001901,13.7311723223616,44.145093288958499]
["CDIHCAI202002Lanarkshire",21,100174,20.9635234691637,12.971705893995599,32.046696352442503]
["CDIHCAI202002Lothian",30,182151,16.469851936031102,11.109896385852799,23.512701376784499]
["CDIHCAI202002Golden Jubilee",1,8152,12.266928361138399,0.160330402732176,68.251427004846306]
["CDIHCAI202002Orkney",0,2102,0,0,174.50511381805001]
["CDIHCAI202002Shetland",0,1591,0,0,230.55295364270401]
["CDIHCAI202002Tayside",7,81757,8.5619579974803397,3.4301391936817902,17.641808601450801]
["CDIHCAI202002Western Isles",0,3200,0,0,114.628046639232]
["CDIHCAI202003Ayrshire & Arran",20,97707,20.469362481705499,12.4978895210942,31.615026391428302]
["CDIHCAI202003Borders",2,25295,7.9067009290373598,0.88797531158031695,28.547068742854201]
["CDIHCAI202003Dumfries & Galloway",10,36727,27.227924959838798,13.035042926276599,50.076583641600202]
["CDIHCAI202003Fife",7,75272,9.2996067594856004,3.7256601399968399,19.161724755936]
["CDIHCAI202003Forth Valley",10,66050,15.1400454201363,7.2481153906640401,27.845006622332399]
["CDIHCAI202003Grampian",14,107482,13.0254368173276,7.11508964360935,21.855925538623001]
["CDIHCAI202003Greater Glasgow & Clyde",77,376935,20.427925239099601,16.1207430267646,25.531828022899301]
["CDIHCAI202003Highland",14,59671,23.461983207923399,12.816008866525101,39.367843487494298]
["CDIHCAI202003Lanarkshire",27,122500,22.040816326530599,14.521487978838101,32.069663275737497]
["CDIHCAI202003Lothian",38,217934,17.436471592316899,12.337447205026599,23.9337168385842]
["CDIHCAI202003Golden Jubilee",1,10016,9.9840255591054294,0.130492556217322,55.549683800270302]
["CDIHCAI202003Orkney",0,2700,0,0,135.855462683534]
["CDIHCAI202003Shetland",2,2091,95.648015303682499,10.741910811298,345.33625243926201]
["CDIHCAI202003Tayside",5,99451,5.0276015324129499,1.62020478558735,11.732714170736999]
["CDIHCAI202003Western Isles",0,4152,0,0,88.345315328887693]
["CDIHCAI202004Ayrshire & Arran",30,102772,29.190830187210501,19.690954117653501,41.673433118774298]
["CDIHCAI202004Borders",3,27161,11.045248702183301,2.2199151980837302,32.272323995578098]
["CDIHCAI202004Dumfries & Galloway",8,37533,21.314576506007999,9.1776105391514502,42.000792614449303]
["CDIHCAI202004Fife",6,77595,7.7324569882079999,2.82355917350819,16.8308464059253]
["CDIHCAI202004Forth Valley",11,70565,15.588464536243199,7.7710126819114098,27.894013518619499]
["CDIHCAI202004Grampian",17,108028,15.7366608657015,9.1618594921471299,25.197458730713201]
["CDIHCAI202004Greater Glasgow & Clyde",64,390384,16.3941145128899,12.6247729008711,20.935339986036499]
["CDIHCAI202004Highland",10,63656,15.7094382304889,7.5207053781789597,28.892212633609599]
["CDIHCAI202004Lanarkshire",25,127447,19.6159972380676,12.6908685316707,28.958455391626099]
["CDIHCAI202004Lothian",29,226514,12.8027406694509,8.5723561215937707,18.387646366049399]
["CDIHCAI202004Golden Jubilee",3,11255,26.654820079964502,5.3571849573658001,77.8808167075874]
["CDIHCAI202004Orkney",0,3055,0,0,120.068657690848]
["CDIHCAI202004Shetland",0,2118,0,0,173.18685044643101]
["CDIHCAI202004Tayside",15,104559,14.3459673485783,8.0233832828560292,23.6630266044161]
["CDIHCAI202004Western Isles",1,5151,19.413706076490001,0.253739748218346,108.015071431471]
["ECBHCAI201603Ayrshire & Arran",62,118267,52.423753033390497,40.190666899616197,67.206283153703396]
["ECBHCAI201603Borders",12,31455,38.149737720553198,19.689809467085201,66.644529073627595]
["ECBHCAI201603Dumfries & Galloway",16,43380,36.8833563854311,21.068256662973301,59.900035120912598]
["ECBHCAI201603Fife",30,94057,31.895552696768998,21.515450594633901,45.534750932760701]
["ECBHCAI201603Forth Valley",36,83611,43.056535623303098,30.151866900849999,59.610479435981802]
["ECBHCAI201603Grampian",47,145070,32.398152615978503,23.802755021827,43.083850927226599]
["ECBHCAI201603Greater Glasgow & Clyde",161,448881,35.866966968973998,30.540225772106101,41.855409121867297]
["ECBHCAI201603Highland",25,78191,31.972989218708001,20.685412921638399,47.200678649672803]
["ECBHCAI201603Lanarkshire",74,147746,50.085958333897402,39.3265442850836,62.879427783342699]
["ECBHCAI201603Lothian",68,263612,25.795487000000001,20.031205,32.701926999999998]
["ECBHCAI201603Golden Jubilee",1,12380,8.0775444264943506,0.10557459152445101,44.942296683643498]
["ECBHCAI201603Orkney",0,3947,0,0,92.933810297831698]
["ECBHCAI201603Shetland",0,3141,0,0,116.78120001449901]
["ECBHCAI201603Tayside",45,106847,42.116297135155897,30.716873417174501,56.356522861390303]
["ECBHCAI201603Western Isles",4,7305,54.757015742641997,14.7312852782308,140.19004273153701]
["ECBHCAI201604Ayrshire & Arran",52,120423,43.181119885736102,32.247227001028399,56.627695441167603]
["ECBHCAI201604Borders",10,32616,30.659798871719399,14.6780114530709,56.388358088209799]
["ECBHCAI201604Dumfries & Galloway",16,43532,36.754571349811599,20.994692962413399,59.690883110015399]
["ECBHCAI201604Fife",25,95378,26.211495313384599,16.9579265842839,38.695173565146803]
["ECBHCAI201604Forth Valley",38,85427,44.482423589731603,31.4742320247728,61.0576357065097]
["ECBHCAI201604Grampian",47,145837,32.227761130577299,23.677569279513801,42.857260187831301]
["ECBHCAI201604Greater Glasgow & Clyde",148,443247,33.389960902160603,28.2269086088397,39.223845817230398]
["ECBHCAI201604Highland",16,77349,20.685464582606102,11.8158085306828,33.594015740929898]
["ECBHCAI201604Lanarkshire",69,147122,46.899851823656597,36.489112410074398,59.355872515576301]
["ECBHCAI201604Lothian",89,264048,33.705992849784899,27.067803551532101,41.478721861957503]
["ECBHCAI201604Golden Jubilee",0,12049,0,0,30.443169495023799]
["ECBHCAI201604Orkney",3,3715,80.753701211305497,16.230179460336998,235.948476997011]
["ECBHCAI201604Shetland",0,2392,0,0,153.34855737689901]
["ECBHCAI201604Tayside",49,109748,44.647738455370501,33.027813211670399,59.028226001197197]
["ECBHCAI201604Western Isles",2,8800,22.727272727272702,2.5524244893663801,82.056602710283698]
["ECBHCAI201701Ayrshire & Arran",47,119981,39.1728690375976,28.780104108287599,52.093033513746001]
["ECBHCAI201701Borders",15,33461,44.828307581961099,25.071484195694801,73.942273056129196]
["ECBHCAI201701Dumfries & Galloway",11,43221,25.450591147821701,12.687385990585099,45.541312416218602]
["ECBHCAI201701Fife",35,94451,37.0562513896094,25.807077813025799,51.538124037928803]
["ECBHCAI201701Forth Valley",24,85603,28.036400593437101,17.958003568519299,41.717982824563798]
["ECBHCAI201701Grampian",43,147658,29.1213479797911,21.073006848695499,39.227429924686703]
["ECBHCAI201701Greater Glasgow & Clyde",137,439173,31.194996049392799,26.189813856752099,36.877927614430803]
["ECBHCAI201701Highland",22,78104,28.167571443203901,17.646175677021301,42.6482636954293]
["ECBHCAI201701Lanarkshire",60,147866,40.577279428671901,30.9628491750987,52.232124461076999]
["ECBHCAI201701Lothian",90,259482,34.684486785210503,27.8895358421026,42.633729736082401]
["ECBHCAI201701Golden Jubilee",0,11569,0,0,31.706262360233499]
["ECBHCAI201701Orkney",1,3608,27.7161862527716,0.36225428023079298,154.208878310285]
["ECBHCAI201701Shetland",1,2383,41.963911036508598,0.54847395848623703,233.48117202832901]
["ECBHCAI201701Tayside",58,106222,54.602624691683502,41.459385590682501,70.588123328165594]
["ECBHCAI201701Western Isles",3,8557,35.059016010283997,7.0462915385242599,102.43643707419599]
["ECBHCAI201702Ayrshire & Arran",49,116808,41.949181562906602,31.031576984062799,55.460497116459401]
["ECBHCAI201702Borders",13,32504,39.995077528919502,21.274783698204899,68.3974601010718]
["ECBHCAI201702Dumfries & Galloway",17,43510,39.071477821190499,22.7473536478435,62.561045087600299]
["ECBHCAI201702Fife",28,90490,30.942645596198499,20.556460965368501,44.722678478302697]
["ECBHCAI201702Forth Valley",37,84320,43.880455407969599,30.8915929149506,60.485491848898299]
["ECBHCAI201702Grampian",44,140460,31.325644311547801,22.758918030993399,42.0544378287629]
["ECBHCAI201702Greater Glasgow & Clyde",157,433299,36.233640049942402,30.787122153751199,42.365871812128702]
["ECBHCAI201702Highland",15,74844,20.041686708353399,11.208873559298601,33.057858996461199]
["ECBHCAI201702Lanarkshire",60,144126,41.630240206486,31.766320137415502,53.587522831145101]
["ECBHCAI201702Lothian",75,256027,29.2937854210689,23.040442461526901,36.720643712230199]
["ECBHCAI201702Golden Jubilee",0,11614,0,0,31.583412196103101]
["ECBHCAI201702Orkney",1,3521,28.4010224368077,0.37120518121917101,158.01920844745999]
["ECBHCAI201702Shetland",2,2201,90.867787369377595,10.205059294150001,328.077284802588]
["ECBHCAI201702Tayside",40,109040,36.683785766691102,26.204253344434999,49.954491944521401]
["ECBHCAI201702Western Isles",1,7803,12.815583749839799,0.167501402418647,71.304066761951503]
["ECBHCAI201703Ayrshire & Arran",60,118443,50.6572781844432,38.654480687969198,65.207359789617101]
["ECBHCAI201703Borders",12,32452,36.977690126956702,19.084893281990801,64.597056021538094]
["ECBHCAI201703Dumfries & Galloway",14,41406,33.811524899772998,18.469402141583799,56.733772611270702]
["ECBHCAI201703Fife",25,87701,28.505946340406599,18.442356663616501,42.0823966009118]
["ECBHCAI201703Forth Valley",25,80291,31.136740107857701,20.14438880766,45.9661514278881]
["ECBHCAI201703Grampian",64,138173,46.3187453409856,35.669120190874203,59.149195321147097]
["ECBHCAI201703Greater Glasgow & Clyde",139,426025,32.627193239833304,27.4283571527167,38.524559201674201]
["ECBHCAI201703Highland",22,73950,29.749830966869499,18.6374158901701,45.043948447164396]
["ECBHCAI201703Lanarkshire",84,139493,60.218075458983598,48.030592467395898,74.555214171448995]
["ECBHCAI201703Lothian",74,252661,29.288255805209399,22.9965828202373,36.769362653032097]
["ECBHCAI201703Golden Jubilee",2,11658,17.155601303825701,1.92668858349838,61.940135859538202]
["ECBHCAI201703Orkney",2,2936,68.119891008174406,7.6503186329782498,245.946220657526]
["ECBHCAI201703Shetland",3,2600,115.384615384615,23.190429498135401,337.13407386303697]
["ECBHCAI201703Tayside",56,123857,45.2134316187216,34.151403037486297,58.7147529996668]
["ECBHCAI201703Western Isles",3,7180,41.782729805013901,8.3976485647844203,122.08197660778499]
["ECBHCAI201704Ayrshire & Arran",57,123003,46.340333162605802,35.095383645333399,60.040634377656701]
["ECBHCAI201704Borders",13,32440,40.073982737361298,21.316756144465302,68.532399603120794]
["ECBHCAI201704Dumfries & Galloway",9,42845,21.0059516863111,9.5852981293550208,39.8785003168054]
["ECBHCAI201704Fife",28,89968,31.1221767739641,20.675730846036299,44.982162274382098]
["ECBHCAI201704Forth Valley",34,86859,39.143899883719598,27.103911718256299,54.701689781123498]
["ECBHCAI201704Grampian",49,139048,35.239629480467201,26.068238625182701,46.589880812233098]
["ECBHCAI201704Greater Glasgow & Clyde",140,433674,32.282313442816502,27.156030342845199,38.094740127121703]
["ECBHCAI201704Highland",14,74412,18.814169757565999,10.277160472429401,31.569082792322099]
["ECBHCAI201704Lanarkshire",64,143304,44.660302573549899,34.391987272746498,57.031358267102497]
["ECBHCAI201704Lothian",58,256805,22.585230038355999,17.1488049540059,29.197296143628002]
["ECBHCAI201704Golden Jubilee",1,12434,8.0424642110342592,0.10511608839252901,44.747115404817997]
["ECBHCAI201704Orkney",2,3819,52.369730295888999,5.8814704127845303,189.080414729117]
["ECBHCAI201704Shetland",4,2589,154.49980687524101,41.565098090952503,395.55359681493798]
["ECBHCAI201704Tayside",54,126195,42.790918816117902,32.143517463734902,55.834198758386798]
["ECBHCAI201704Western Isles",4,7572,52.826201796090899,14.211838214141,135.246732983871]
["ECBHCAI201801Ayrshire & Arran",56,122158,45.842269847247003,34.626388169534103,59.531370538808197]
["ECBHCAI201801Borders",10,32986,30.315891590371699,14.5133699616007,55.7558566484282]
["ECBHCAI201801Dumfries & Galloway",19,44662,42.5417580941292,25.600888130867599,66.438036322756403]
["ECBHCAI201801Fife",35,91836,38.1114160024391,26.541925895271,53.005655227867202]
["ECBHCAI201801Forth Valley",29,85107,34.074752958041103,22.8154990133208,48.9390923068527]
["ECBHCAI201801Grampian",48,144477,33.223281214310902,24.4940517064577,44.050429287847699]
["ECBHCAI201801Greater Glasgow & Clyde",147,435205,33.777185464321398,28.537277006844899,39.700383049621102]
["ECBHCAI201801Highland",15,75230,19.938854180513101,11.151361593408801,32.888241376194898]
["ECBHCAI201801Lanarkshire",39,143873,27.1072404134202,19.2734526910995,37.057695478879403]
["ECBHCAI201801Lothian",75,258580,29.004563384639201,22.812960639250299,36.358095164789098]
["ECBHCAI201801Golden Jubilee",2,11871,16.847780304944799,1.8921182298394501,60.828751061452003]
["ECBHCAI201801Orkney",1,3683,27.151778441487899,0.35487739426356302,151.06859433709101]
["ECBHCAI201801Shetland",2,2410,82.987551867219906,9.3200562267319995,299.62576923257097]
["ECBHCAI201801Tayside",43,124965,34.409634697715397,24.899756293879701,46.350929042687099]
["ECBHCAI201801Western Isles",3,8190,36.630036630036599,7.3620411105191801,107.02669011525001]
["ECBHCAI201802Ayrshire & Arran",64,115914,55.213347826837101,42.5186719821045,70.507632944328194]
["ECBHCAI201802Borders",12,31525,38.065027755749398,19.6460890336928,66.496547565771806]
["ECBHCAI201802Dumfries & Galloway",16,42410,37.7269511907569,21.550129074269801,61.2700665773447]
["ECBHCAI201802Fife",43,87527,49.1276977389834,35.550150756505701,66.176652322362102]
["ECBHCAI201802Forth Valley",38,83252,45.644549079901999,32.296512025900398,62.652796875750802]
["ECBHCAI201802Grampian",39,138240,28.2118055555556,20.0588068505972,38.567721510654103]
["ECBHCAI201802Greater Glasgow & Clyde",150,417159,35.957512603108199,30.433067209767501,42.1946184721808]
["ECBHCAI201802Highland",13,73332,17.7275950471827,9.42992921680103,30.3167927115753]
["ECBHCAI201802Lanarkshire",51,136851,37.266808426682999,27.745365270219601,49.000206758227201]
["ECBHCAI201802Lothian",90,255469,35.229323322986403,28.327634818238099,43.3034358743258]
["ECBHCAI201802Golden Jubilee",2,12349,16.195643371932999,1.8188788975968999,58.474216847558203]
["ECBHCAI201802Orkney",1,3487,28.677946659019199,0.37482461803060002,159.55997503398501]
["ECBHCAI201802Shetland",4,2417,165.494414563508,44.522978468132401,423.702218516291]
["ECBHCAI201802Tayside",54,117886,45.8069660519485,34.4091002013473,59.769580037617899]
["ECBHCAI201802Western Isles",3,7527,39.8565165404544,8.0105110528965202,116.453911524365]
["ECBHCAI201803Ayrshire & Arran",49,110109,44.501357745506702,32.919529233345202,58.834697864655801]
["ECBHCAI201803Borders",10,32651,30.626933325166199,14.6622774663367,56.327913001287897]
["ECBHCAI201803Dumfries & Galloway",18,43012,41.848786385194799,24.789330855762799,66.143042361990894]
["ECBHCAI201803Fife",36,89303,40.312195558939798,28.230045389818599,55.8110231024923]
["ECBHCAI201803Forth Valley",40,82126,48.705647419818298,34.7918050882448,66.325375662160695]
["ECBHCAI201803Grampian",38,136514,27.835972867251702,19.6957763978805,38.208320359084098]
["ECBHCAI201803Greater Glasgow & Clyde",180,412912,43.592823652497401,37.456437293133298,50.4475736591179]
["ECBHCAI201803Highland",25,73340,34.087810199072798,22.053628603160998,50.322719720433099]
["ECBHCAI201803Lanarkshire",70,138817,50.426100549644502,39.307754593178203,63.711516933645697]
["ECBHCAI201803Lothian",84,252485,33.269303126918402,26.535958314571001,41.190290474356601]
["ECBHCAI201803Golden Jubilee",2,12390,16.142050040355102,1.8128600085895199,58.280718632001303]
["ECBHCAI201803Orkney",3,3756,79.872204472843407,16.053012964630501,233.37289458037699]
["ECBHCAI201803Shetland",2,2446,81.766148814390803,9.1828845079411803,295.21590509014601]
["ECBHCAI201803Tayside",42,114636,36.6377054328483,26.4022903604099,49.525038358933898]
["ECBHCAI201803Western Isles",7,7123,98.273199494595005,39.370755307853699,202.490712597054]
["ECBHCAI201804Ayrshire & Arran",40,110740,36.120642947444502,25.801984690962598,49.187626888483003]
["ECBHCAI201804Borders",11,31191,35.266583309287903,17.580760793147999,63.106058284164703]
["ECBHCAI201804Dumfries & Galloway",15,43800,34.246575342465803,19.153354627217901,56.488182619432401]
["ECBHCAI201804Fife",45,91463,49.2002230410111,35.883425800649903,65.83564280825]
["ECBHCAI201804Forth Valley",29,84592,34.282201626631398,22.9544008242705,49.237035759401699]
["ECBHCAI201804Grampian",49,133702,36.648666437300903,27.110562626994401,48.452751246648397]
["ECBHCAI201804Greater Glasgow & Clyde",152,417273,36.426991442053499,30.865812184714802,42.700514721819097]
["ECBHCAI201804Highland",11,72346,15.2047106958229,7.5797073770364403,27.207324025397199]
["ECBHCAI201804Lanarkshire",72,142634,50.478847960514301,39.494799469606299,63.570891734725599]
["ECBHCAI201804Lothian",96,254499,37.721169827779299,30.553389099596899,46.064618189218002]
["ECBHCAI201804Golden Jubilee",1,11765,8.4997875053123693,0.111093365327046,47.291596510285402]
["ECBHCAI201804Orkney",0,3843,0,0,95.448802822155002]
["ECBHCAI201804Shetland",2,2501,79.968012794882,8.9809418258393094,288.72375203938299]
["ECBHCAI201804Tayside",56,115115,48.6470051687443,36.744910098718201,63.173636470310001]
["ECBHCAI201804Western Isles",3,6753,44.424700133274101,8.9286415956096707,129.80136117931201]
["ECBHCAI201901Ayrshire & Arran",52,111660,46.569944474297003,34.7779671963536,61.071798030733703]
["ECBHCAI201901Borders",9,29390,30.622660768968998,13.9735317574759,58.135227835097901]
["ECBHCAI201901Dumfries & Galloway",11,46147,23.836869135588401,11.882928682234599,42.653716686705103]
["ECBHCAI201901Fife",36,91885,39.179409043913601,27.4367714365453,54.242714220186897]
["ECBHCAI201901Forth Valley",28,80825,34.642746674914903,23.014588960794299,50.070586767727903]
["ECBHCAI201901Grampian",56,134033,41.780755485589403,31.558573828937199,54.257034926322099]
["ECBHCAI201901Greater Glasgow & Clyde",156,427318,36.506770133717701,31.002360180257199,42.706547998014599]
["ECBHCAI201901Highland",18,75357,23.886301206258199,14.149165953635,37.752890084185303]
["ECBHCAI201901Lanarkshire",59,145876,40.4453097151005,30.786911652320299,52.172642880611903]
["ECBHCAI201901Lothian",86,251904,34.139989837398403,27.306652178792,42.1632386160382]
["ECBHCAI201901Golden Jubilee",3,11654,25.742234425948201,5.1737700956883597,75.214397807095907]
["ECBHCAI201901Orkney",1,3829,26.116479498563599,0.34134589790355202,145.308339760644]
["ECBHCAI201901Shetland",1,2511,39.824771007566703,0.520515110741817,221.579304238752]
["ECBHCAI201901Tayside",56,119250,46.960167714884697,35.470778415211299,60.983087314714702]
["ECBHCAI201901Western Isles",1,6871,14.553922282055,0.190221720720812,80.975932607117898]
["ECBHCAI201902Ayrshire & Arran",46,109780,41.901985789761298,30.674593620274202,55.892934560831002]
["ECBHCAI201902Borders",15,29746,50.4269481610973,28.202680450216601,83.176978374609703]
["ECBHCAI201902Dumfries & Galloway",15,45667,32.846475573170999,18.3703096912901,54.178781148994602]
["ECBHCAI201902Fife",37,87857,42.113889616080698,29.647940569204899,58.050430502966201]
["ECBHCAI201902Forth Valley",39,77293,50.457350600959998,35.875557411752197,68.979103174062601]
["ECBHCAI201902Grampian",52,133401,38.980217539598698,29.110035285678801,51.118634553801897]
["ECBHCAI201902Greater Glasgow & Clyde",164,419871,39.059615929654598,33.309881996072399,45.516606661135597]
["ECBHCAI201902Highland",19,74804,25.399711245387898,15.285103279247201,39.667070988810003]
["ECBHCAI201902Lanarkshire",64,145187,44.081081639540699,33.945941056249197,56.291691164559197]
["ECBHCAI201902Lothian",82,244255,33.571472436592899,26.699405009452502,41.671701837786998]
["ECBHCAI201902Golden Jubilee",3,11897,25.21644111961,5.0680941998110498,73.678119865839804]
["ECBHCAI201902Orkney",2,3479,57.487783845932697,6.4562620024214201,207.559098548576]
["ECBHCAI201902Shetland",3,2542,118.01730920535,23.719558101948099,344.82635406919599]
["ECBHCAI201902Tayside",41,113492,36.125894336164698,25.921550837327999,49.0103771428521]
["ECBHCAI201902Western Isles",2,7013,28.518465706545001,3.2028141318157899,102.96565005710799]
["ECBHCAI201903Ayrshire & Arran",50,110670,45.179362067407602,33.530217451011701,59.564888304107399]
["ECBHCAI201903Borders",8,28962,27.622401767833701,11.893628076996499,54.430486471864]
["ECBHCAI201903Dumfries & Galloway",12,46074,26.045057950253899,13.4423526671694,45.498625298670703]
["ECBHCAI201903Fife",28,90276,31.0159953919093,20.605190225045401,44.828693955221901]
["ECBHCAI201903Forth Valley",38,72461,52.442003284525498,37.106156679872797,71.983144664026298]
["ECBHCAI201903Grampian",74,133865,55.279572703843399,43.404471758442902,69.399648431462694]
["ECBHCAI201903Greater Glasgow & Clyde",172,416741,41.2726369615661,35.334504010107402,47.922922103813399]
["ECBHCAI201903Highland",17,75715,22.4526183715248,13.0718795115587,35.951014617466697]
["ECBHCAI201903Lanarkshire",65,146465,44.379203222612901,34.2490993814001,56.566059485466198]
["ECBHCAI201903Lothian",85,245501,34.6230768917438,27.654721722612301,42.812617048148198]
["ECBHCAI201903Golden Jubilee",3,12067,24.8611916797879,4.9966948450445097,72.640141878171505]
["ECBHCAI201903Orkney",4,2983,134.09319477036499,36.075105248902403,343.30816699761101]
["ECBHCAI201903Shetland",2,2694,74.239049740163296,8.3375410194595894,268.03938524517298]
["ECBHCAI201903Tayside",47,115794,40.589322417396403,29.8207650743255,53.976667651283798]
["ECBHCAI201903Western Isles",3,6702,44.762757385854997,8.9965856005896896,130.78910654191199]
["ECBHCAI201904Ayrshire & Arran",46,111501,41.255235379054902,30.201136201771298,55.030236106295298]
["ECBHCAI201904Borders",14,29415,47.594764575896697,25.998438384307999,79.861247280036594]
["ECBHCAI201904Dumfries & Galloway",18,46458,38.744672607516499,22.950594058462901,61.236913730120797]
["ECBHCAI201904Fife",55,91708,59.972957648187702,45.176652962892902,78.064876711809504]
["ECBHCAI201904Forth Valley",38,75205,50.528555282228602,35.752266726683899,69.356700292533802]
["ECBHCAI201904Grampian",53,135055,39.243271259857103,29.393697274248701,51.332412167942501]
["ECBHCAI201904Greater Glasgow & Clyde",151,429650,35.144885371814297,29.762447909033099,41.219205075854397]
["ECBHCAI201904Highland",18,73909,24.354273498491398,14.4263716024851,38.492531871273499]
["ECBHCAI201904Lanarkshire",77,147326,52.265044866486598,41.245077398378598,65.323429644540198]
["ECBHCAI201904Lothian",95,249135,38.131936500290998,30.850111139403801,46.614942655643397]
["ECBHCAI201904Golden Jubilee",1,11659,8.5770649283815104,0.11210339163502001,47.721556989751001]
["ECBHCAI201904Orkney",1,2915,34.305317324185197,0.44837510911584999,190.86985692744699]
["ECBHCAI201904Shetland",3,2673,112.233445566779,22.5570956584931,327.92689563931799]
["ECBHCAI201904Tayside",54,117969,45.77473743102,34.3848908300996,59.727527675191098]
["ECBHCAI201904Western Isles",2,6884,29.052876234747199,3.2628320026763702,104.895134202571]
["ECBHCAI202001Ayrshire & Arran",50,107445,46.535436735073802,34.536638887835302,61.352749673000801]
["ECBHCAI202001Borders",10,28855,34.656038814763498,16.5911634570563,63.7380934813742]
["ECBHCAI202001Dumfries & Galloway",15,44334,33.834077683042402,18.922653779765898,55.807786320456998]
["ECBHCAI202001Fife",42,87695,47.893266434802399,34.513403931306797,64.739749099888797]
["ECBHCAI202001Forth Valley",37,74682,49.543397338046702,34.878272068083803,68.2913777442905]
["ECBHCAI202001Grampian",49,132936,36.859842330143799,27.2667783320876,48.731944297852998]
["ECBHCAI202001Greater Glasgow & Clyde",123,413057,29.777972531636099,24.747916795906399,35.529705189963302]
["ECBHCAI202001Highland",16,71286,22.444799820441599,12.8207638812639,36.4512460166819]
["ECBHCAI202001Lanarkshire",64,140747,45.471661918193597,35.016798540172502,58.067466909482]
["ECBHCAI202001Lothian",84,240426,34.937985076489198,27.866917201361201,43.256263841755597]
["ECBHCAI202001Golden Jubilee",0,10915,0,0,33.606023751309401]
["ECBHCAI202001Orkney",1,3184,31.4070351758794,0.41049417181931602,174.74423145210699]
["ECBHCAI202001Shetland",1,2514,39.7772474144789,0.51989397099152801,221.31488979455301]
["ECBHCAI202001Tayside",44,111517,39.455867715236202,28.665742681683799,52.969200547253202]
["ECBHCAI202001Western Isles",2,6357,31.461381154632701,3.5333231880484699,113.59101838139]
["ECBHCAI202002Ayrshire & Arran",36,81868,43.973225191772102,30.793811299249601,60.879608590925301]
["ECBHCAI202002Borders",14,20636,67.842605156038005,37.058735465905201,113.835946343394]
["ECBHCAI202002Dumfries & Galloway",10,27088,36.916715888954499,17.673435526925601,67.8958464044984]
["ECBHCAI202002Fife",23,63495,36.223324671234003,22.954946446696699,54.355516295576997]
["ECBHCAI202002Forth Valley",33,57076,57.817646646576499,39.792231833511899,81.200539802562005]
["ECBHCAI202002Grampian",36,95717,37.610873721491501,26.338348918655701,52.071124211183701]
["ECBHCAI202002Greater Glasgow & Clyde",125,305581,40.905684581174903,34.048873684083802,48.737771221425497]
["ECBHCAI202002Highland",13,50361,25.813625623001901,13.7311723223616,44.145093288958499]
["ECBHCAI202002Lanarkshire",51,100174,50.9114141393975,37.9038571145689,66.940795965721193]
["ECBHCAI202002Lothian",57,182151,31.292718678459099,23.699224679123098,40.544263552519098]
["ECBHCAI202002Golden Jubilee",1,8152,12.266928361138399,0.160330402732176,68.251427004846306]
["ECBHCAI202002Orkney",0,2102,0,0,174.50511381805001]
["ECBHCAI202002Shetland",0,1591,0,0,230.55295364270401]
["ECBHCAI202002Tayside",28,81757,34.247831989921401,22.752231035338799,49.499800329043502]
["ECBHCAI202002Western Isles",2,3200,62.5,7.0191673457575403,225.65565745328001]
["ECBHCAI202003Ayrshire & Arran",60,97707,61.4080874451165,46.857980043652297,79.046079764618895]
["ECBHCAI202003Borders",13,25295,51.393556038742801,27.338033972186299,87.890533430529302]
["ECBHCAI202003Dumfries & Galloway",11,36727,29.950717455822701,14.930746042396001,53.593842784365201]
["ECBHCAI202003Fife",34,75272,45.169518546072901,31.276154053778601,63.122197798631703]
["ECBHCAI202003Forth Valley",42,66050,63.588190764572303,45.823663251414899,85.955371647460296]
["ECBHCAI202003Grampian",51,107482,47.449805548836103,35.326668489559403,62.389305140117898]
["ECBHCAI202003Greater Glasgow & Clyde",142,376935,37.672277713664201,31.730536439035301,44.403296749488597]
["ECBHCAI202003Highland",19,59671,31.841262925039,19.1615167451661,49.726928964605001]
["ECBHCAI202003Lanarkshire",58,122500,47.346938775510203,35.950194744599798,61.208258254403297]
["ECBHCAI202003Lothian",68,217934,31.202107059935599,24.228452418531901,39.556855240670203]
["ECBHCAI202003Golden Jubilee",1,10016,9.9840255591054294,0.130492556217322,55.549683800270302]
["ECBHCAI202003Orkney",1,2700,37.037037037037003,0.48407905298989001,206.06875294203999]
["ECBHCAI202003Shetland",2,2091,95.648015303682499,10.741910811298,345.33625243926201]
["ECBHCAI202003Tayside",42,99451,42.231852872268803,30.433610096991998,57.086930220055599]
["ECBHCAI202003Western Isles",3,4152,72.254335260115596,14.521945254131101,211.11478613774]
["ECBHCAI202004Ayrshire & Arran",56,102772,54.489549682792997,41.1580034057326,70.760841107302895]
["ECBHCAI202004Borders",12,27161,44.180994808733097,22.802656632199302,77.180651007361803]
["ECBHCAI202004Dumfries & Galloway",15,37533,39.964830948765098,22.351448929532499,65.920187534466706]
["ECBHCAI202004Fife",39,77595,50.260970423351999,35.7359296220963,68.710636273378697]
["ECBHCAI202004Forth Valley",40,70565,56.685325586338799,40.4919122040274,77.191777816631699]
["ECBHCAI202004Grampian",42,108028,38.878809197615404,28.0173006790457,52.554451598796099]
["ECBHCAI202004Greater Glasgow & Clyde",159,390384,40.729128242960797,34.643912707047001,47.575316620145898]
["ECBHCAI202004Highland",19,63656,29.847932637928899,17.9619653402791,46.613918220543901]
["ECBHCAI202004Lanarkshire",57,127447,44.7244737027941,33.871628791002898,57.947053679999598]
["ECBHCAI202004Lothian",67,226514,29.5787456845934,22.9219541863622,37.564684076059798]
["ECBHCAI202004Golden Jubilee",1,11255,8.8849400266548209,0.116127360557326,49.434529803954398]
["ECBHCAI202004Orkney",0,3055,0,0,120.068657690848]
["ECBHCAI202004Shetland",3,2118,141.64305949008499,28.467949336710198,413.85674789607901]
["ECBHCAI202004Tayside",44,104559,42.081504222496399,30.573337796204399,56.494097470595896]
["ECBHCAI202004Western Isles",1,5151,19.413706076490001,0.253739748218346,108.015071431471]
["SABHCAI201404Ayrshire & Arran",22,116457,18.891092849721399,11.834727883064801,28.602831840660599]
["SABHCAI201404Borders",6,32633,18.386296080654599,6.7138808588964496,40.020516865374802]
["SABHCAI201404Dumfries & Galloway",5,43399,11.521002788082701,3.71278108093383,26.886106983893001]
["SABHCAI201404Fife",10,99647,10.035425050428,4.8043395340889399,18.456779304997202]
["SABHCAI201404Forth Valley",13,87095,14.9262299787588,7.9397849397376703,25.526046766464599]
["SABHCAI201404Grampian",27,159496,16.9283242212971,11.153146645732001,24.630923354051799]
["SABHCAI201404Greater Glasgow & Clyde",77,477840,16.1141804788214,12.7165416725128,20.140297161835601]
["SABHCAI201404Highland",14,80452,17.401680505145901,9.5055942061654193,29.199007964280302]
["SABHCAI201404Lanarkshire",31,163546,18.954911767942999,12.876491321214401,26.906056840719501]
["SABHCAI201404Lothian",44,288140,15.270354688693001,11.0943209087018,20.5003343424309]
["SABHCAI201404Golden Jubilee",0,12222,0,0,30.012252433770399]
["SABHCAI201404Orkney",0,4331,0,0,84.694008137968595]
["SABHCAI201404Shetland",1,3359,29.770765108663301,0.38910790207582702,165.64025988196099]
["SABHCAI201404Tayside",23,134798,17.062567693882698,10.8126554150136,25.603521618923601]
["SABHCAI201404Western Isles",2,8425,23.738872403560801,2.6660338880028598,85.708973750800794]
["SABHCAI201501Ayrshire & Arran",21,118008,17.795403701443998,11.0113523339529,27.203628232065402]
["SABHCAI201501Borders",6,34341,17.4718266794793,6.3799561477058901,38.030037764414999]
["SABHCAI201501Dumfries & Galloway",6,44394,13.515339910798801,4.9352181391261896,29.4181539592687]
["SABHCAI201501Fife",11,99050,11.105502271580001,5.5362090853011496,19.872196506222899]
["SABHCAI201501Forth Valley",13,87778,14.810089088382099,7.8780055290215403,25.327428776290599]
["SABHCAI201501Grampian",19,162238,11.7111897336013,7.0475897490156898,18.289522665756099]
["SABHCAI201501Greater Glasgow & Clyde",72,480533,14.9833622248628,11.723026779737999,18.8694024587091]
["SABHCAI201501Highland",9,81010,11.109739538328601,5.0695234952748498,21.091153512819702]
["SABHCAI201501Lanarkshire",33,161714,20.406396477732301,14.044432913226601,28.659250341782599]
["SABHCAI201501Lothian",47,287680,16.3375973303671,12.0031481890171,21.726134086529299]
["SABHCAI201501Golden Jubilee",1,12254,8.1606006202056491,0.106660147141562,45.404409412722998]
["SABHCAI201501Orkney",4,4585,87.241003271537593,23.470455606864999,223.356218572274]
["SABHCAI201501Shetland",0,3528,0,0,103.971017359847]
["SABHCAI201501Tayside",20,137758,14.5182130983319,8.8643221550657998,22.423448247123901]
["SABHCAI201501Western Isles",1,8813,11.346873936230599,0.14830516771504601,63.132376369398301]
["SABHCAI201502Ayrshire & Arran",18,118290,15.216839969566299,9.0137686936179708,24.050592087868399]
["SABHCAI201502Borders",6,32123,18.678205647044201,6.8204736191628399,40.6559015928704]
["SABHCAI201502Dumfries & Galloway",7,43654,16.035185779081001,6.4241052379585302,33.040302053163899]
["SABHCAI201502Fife",21,94851,22.1399879811494,13.699672815522399,33.845144072382702]
["SABHCAI201502Forth Valley",19,85671,22.177866489243701,13.3462532910881,34.635472659907599]
["SABHCAI201502Grampian",25,155593,16.0675608799882,10.395153520761401,23.720014809770099]
["SABHCAI201502Greater Glasgow & Clyde",89,454759,19.5708056355124,15.716455072192,24.0839071908553]
["SABHCAI201502Highland",10,79471,12.5832064526683,6.0240593619478799,23.142563795661999]
["SABHCAI201502Lanarkshire",14,158944,8.8081336823032004,4.8114056842310502,14.7795361180181]
["SABHCAI201502Lothian",51,274583,18.573618905758899,13.8281721104177,24.421494757760499]
["SABHCAI201502Golden Jubilee",4,11881,33.667199730662396,9.0574900225129191,86.195460159403694]
["SABHCAI201502Orkney",2,4168,47.984644913627598,5.3889960428080901,173.24810553034899]
["SABHCAI201502Shetland",1,3263,30.646644192460901,0.40055575944612398,170.51352526616799]
["SABHCAI201502Tayside",17,135612,12.5357637967142,7.29830219462636,20.072199154658101]
["SABHCAI201502Western Isles",0,8554,0,0,42.881663461017297]
["SABHCAI201503Ayrshire & Arran",18,114903,15.665387326701699,9.2794678882889894,24.759532284395998]
["SABHCAI201503Borders",5,31173,16.039521380682,5.1689277942914504,37.4307945014586]
["SABHCAI201503Dumfries & Galloway",10,42757,23.387983254203998,11.1967168312407,43.014306134786203]
["SABHCAI201503Fife",25,93360,26.778063410454202,17.324476454111299,39.531579523313702]
["SABHCAI201503Forth Valley",16,85803,18.647366642192001,10.6516202701512,30.284063768693301]
["SABHCAI201503Grampian",16,148857,10.7485707759796,6.1397245278339696,17.456105682266799]
["SABHCAI201503Greater Glasgow & Clyde",85,439656,19.333296941244999,15.4422135433681,23.9062819521113]
["SABHCAI201503Highland",12,79641,15.067615926469999,7.7766848330277698,26.321915370361399]
["SABHCAI201503Lanarkshire",24,155047,15.4791772817275,9.9147934463482592,23.032915720595302]
["SABHCAI201503Lothian",32,267000,11.9850187265918,8.1962695963727406,16.9199268869876]
["SABHCAI201503Golden Jubilee",3,12077,24.8406061107891,4.9925574807611302,72.579994373097307]
["SABHCAI201503Orkney",0,4206,0,0,87.211067343210104]
["SABHCAI201503Shetland",1,3047,32.819166393173603,0.42895091666317697,182.60112666344199]
["SABHCAI201503Tayside",27,135107,19.984160702258201,13.166470111894,29.077203633252498]
["SABHCAI201503Western Isles",1,8267,12.096286440062901,0.15810008988420199,67.301999872203595]
["SABHCAI201504Ayrshire & Arran",21,117416,17.885126388226499,11.066870496568701,27.340786267711199]
["SABHCAI201504Borders",4,32713,12.227554794729899,3.2895802573128701,31.305238350315602]
["SABHCAI201504Dumfries & Galloway",8,44283,18.065623376916701,7.7786793208674103,35.598666513066497]
["SABHCAI201504Fife",16,93976,17.025623563463,9.7252593645162708,27.650288622043799]
["SABHCAI201504Forth Valley",16,84874,18.8514739496194,10.7682090397505,30.615542139467799]
["SABHCAI201504Grampian",34,151027,22.5125308719633,15.5880648356653,31.4601632337172]
["SABHCAI201504Greater Glasgow & Clyde",91,447333,20.342787140675998,16.378230984570099,24.976786297582599]
["SABHCAI201504Highland",15,79839,18.787810468568001,10.5076082199444,30.9896466480184]
["SABHCAI201504Lanarkshire",34,158949,21.390508905372201,14.811157465199701,29.8921922924876]
["SABHCAI201504Lothian",30,268100,11.1898545318911,7.5482235605351802,15.9748678421584]
["SABHCAI201504Golden Jubilee",2,12688,15.762925598991201,1.7702818022087099,56.911893430839903]
["SABHCAI201504Orkney",1,3935,25.412960609911099,0.33215081145430803,141.39406173913801]
["SABHCAI201504Shetland",0,3187,0,0,115.095622606069]
["SABHCAI201504Tayside",31,135734,22.838787628744502,15.514894202037199,32.419128383988699]
["SABHCAI201504Western Isles",0,8107,0,0,45.246052700819298]
["SABHCAI201601Ayrshire & Arran",26,119132,21.8245307725884,14.252776392682099,31.9794661197637]
["SABHCAI201601Borders",3,32229,9.3083868565577603,1.8708342391992301,27.197511311052001]
["SABHCAI201601Dumfries & Galloway",6,45223,13.267585078389301,4.8447487797883397,28.878878598672699]
["SABHCAI201601Fife",20,94690,21.1215545464146,12.896095590215999,32.622340095335197]
["SABHCAI201601Forth Valley",10,85625,11.6788321167883,5.5911009816450798,21.4792722616648]
["SABHCAI201601Grampian",29,155101,18.6974938910774,12.5193175706584,26.8538521928247]
["SABHCAI201601Greater Glasgow & Clyde",68,462860,14.6912673378559,11.407776756212099,18.6250349782228]
["SABHCAI201601Highland",10,82505,12.1204775468153,5.8025334410443001,22.291530057633501]
["SABHCAI201601Lanarkshire",22,158839,13.8505027102916,8.6769427223671496,20.970920162351899]
["SABHCAI201601Lothian",40,272449,14.681646840326099,10.4875106338331,19.992871332361702]
["SABHCAI201601Golden Jubilee",2,12668,15.7878118092832,1.7730766898029799,57.001744857159501]
["SABHCAI201601Orkney",5,3843,130.10668748373701,41.928437713101097,303.62481316522798]
["SABHCAI201601Shetland",2,3146,63.572790845518099,7.1396489213045502,229.528958630164]
["SABHCAI201601Tayside",36,138172,26.054482818516,18.245576118511501,36.0716483522123]
["SABHCAI201601Western Isles",0,7965,0,0,46.052699214757297]
["SABHCAI201602Ayrshire & Arran",13,116346,11.1735684939749,5.9436127527070397,19.108444150424098]
["SABHCAI201602Borders",3,32572,9.2103647304433292,1.85113338742331,26.911107455602799]
["SABHCAI201602Dumfries & Galloway",4,43631,9.1677935412894502,2.4664123892983398,23.471574388711598]
["SABHCAI201602Fife",17,93313,18.218254691200599,10.6066395595219,29.1709737310074]
["SABHCAI201602Forth Valley",18,84437,21.317668794485801,12.6276241312229,33.693103000745602]
["SABHCAI201602Grampian",24,147762,16.242335647866199,10.4036151343103,24.168490435505301]
["SABHCAI201602Greater Glasgow & Clyde",72,450499,15.9822774301386,12.504580981418,20.127393338699601]
["SABHCAI201602Highland",10,78289,12.773186526842901,6.1150100467927802,23.491968059434299]
["SABHCAI201602Lanarkshire",33,149629,22.054548249336701,15.178751606503599,30.973955648778201]
["SABHCAI201602Lothian",41,263796,15.542312999439,11.1521351636493,21.085557486453801]
["SABHCAI201602Golden Jubilee",3,13158,22.7998176014592,4.5823922096938796,66.617160058055603]
["SABHCAI201602Orkney",1,3801,26.3088660878716,0.34386041648847698,146.37875110326399]
["SABHCAI201602Shetland",0,2995,0,0,122.474039814872]
["SABHCAI201602Tayside",19,118332,16.0565189466924,9.6625330908022207,25.075681795684599]
["SABHCAI201602Western Isles",2,6544,30.562347188264098,3.4323556702970901,110.34506476932999]
["SABHCAI201603Ayrshire & Arran",16,118267,13.528710460229799,7.7277767597028797,21.9711629071946]
["SABHCAI201603Borders",3,31455,9.5374344301382905,1.9168690731251701,27.8667490714957]
["SABHCAI201603Dumfries & Galloway",6,43380,13.8312586445367,5.0505780098747799,30.1057982219404]
["SABHCAI201603Fife",13,94057,13.8214061685999,7.3520904273626897,23.6366356903286]
["SABHCAI201603Forth Valley",12,83611,14.3521785411011,7.4074339116523502,25.072103694620999]
["SABHCAI201603Grampian",27,145070,18.6117046942855,12.2622339381517,27.0802629853026]
["SABHCAI201603Greater Glasgow & Clyde",84,448881,18.713200157725499,14.925852141334699,23.1685691540028]
["SABHCAI201603Highland",11,78191,14.068115256231501,7.0131026575830804,25.173499046455198]
["SABHCAI201603Lanarkshire",31,147746,20.981955518254299,14.2535070297627,29.783398346299201]
["SABHCAI201603Lothian",40,263612,15.1738160630017,10.839080863834701,20.663087422539999]
["SABHCAI201603Golden Jubilee",2,12380,16.155088852988701,1.81432435431536,58.327795141397097]
["SABHCAI201603Orkney",1,3947,25.335697998479901,0.331140978736433,140.964183669498]
["SABHCAI201603Shetland",1,3141,31.836994587710901,0.41611379913170998,177.13646384702599]
["SABHCAI201603Tayside",24,106847,22.462025138749802,14.387479100732399,33.423348186950903]
["SABHCAI201603Western Isles",2,7305,27.378507871320998,3.0747892548150801,98.849843100683998]
["SABHCAI201604Ayrshire & Arran",11,120423,9.1344676681364891,4.5536277114760297,16.3452252803981]
["SABHCAI201604Borders",5,32616,15.3298994358597,4.9402436267919896,35.774777930891901]
["SABHCAI201604Dumfries & Galloway",5,43532,11.485803546816101,3.7014377040211199,26.803963911466699]
["SABHCAI201604Fife",17,95378,17.823816813101601,10.3769984400771,28.539401872145501]
["SABHCAI201604Forth Valley",21,85427,24.582391983798999,15.210971545590001,37.578818879389097]
["SABHCAI201604Grampian",23,145837,15.771032042622901,9.9942012289954505,23.665486174205899]
["SABHCAI201604Greater Glasgow & Clyde",76,443247,17.146196138947399,13.508690968526601,21.4613845524974]
["SABHCAI201604Highland",12,77349,15.514098436954599,8.0071229981921501,27.101884471821901]
["SABHCAI201604Lanarkshire",31,147122,21.0709479207732,14.313961539534001,29.909720993952799]
["SABHCAI201604Lothian",34,264048,12.876446706659401,8.9158738863237996,17.9942058743055]
["SABHCAI201604Golden Jubilee",2,12049,16.5988878745124,1.8641659479146899,59.930127301062001]
["SABHCAI201604Orkney",0,3715,0,0,98.737482973227898]
["SABHCAI201604Shetland",2,2392,83.612040133779303,9.3901904291070792,301.880478198368]
["SABHCAI201604Tayside",25,109748,22.779458395597199,14.737517966212,33.628569671397798]
["SABHCAI201604Western Isles",1,8800,11.363636363636401,0.14852425489462501,63.225640107216698]
["SABHCAI201701Ayrshire & Arran",18,119981,15.002375376101201,8.8867295552468306,23.711625491319101]
["SABHCAI201701Borders",4,33461,11.9542153551896,3.2160437212718098,30.605429071273299]
["SABHCAI201701Dumfries & Galloway",6,43221,13.8821406260845,5.06915791093145,30.216550446953502]
["SABHCAI201701Fife",13,94451,13.7637505161406,7.3214213647971196,23.538036051764799]
["SABHCAI201701Forth Valley",21,85603,24.5318505192575,15.179697746867699,37.5015567259275]
["SABHCAI201701Grampian",20,147658,13.544813013856301,8.2699975039452998,20.920027249639599]
["SABHCAI201701Greater Glasgow & Clyde",84,439173,19.126858891598499,15.255790850199,23.680714639602002]
["SABHCAI201701Highland",6,78104,7.6820649390556204,2.8051581745924401,16.7211605918746]
["SABHCAI201701Lanarkshire",35,147866,23.6700796667253,16.484548892362699,32.920531788960297]
["SABHCAI201701Lothian",28,259482,10.790729222065499,7.1687213477474296,15.596284811669401]
["SABHCAI201701Golden Jubilee",4,11569,34.575157749157199,9.3017580566579596,88.520033032576293]
["SABHCAI201701Orkney",0,3608,0,0,101.665673294219]
["SABHCAI201701Shetland",1,2383,41.963911036508598,0.54847395848623703,233.48117202832901]
["SABHCAI201701Tayside",18,106222,16.945642145694901,10.037833017341701,26.783006703639099]
["SABHCAI201701Western Isles",1,8557,11.686338670094701,0.15274201742114099,65.021109377528006]
["SABHCAI201702Ayrshire & Arran",15,116808,12.841586192726499,7.1820160662980603,21.181617686555199]
["SABHCAI201702Borders",6,32504,18.459266551809002,6.74052652191632,40.179347983871999]
["SABHCAI201702Dumfries & Galloway",5,43510,11.491611123879601,3.7033092652596502,26.8175168235801]
["SABHCAI201702Fife",20,90490,22.101889711570301,13.4946545633501,34.136472357468101]
["SABHCAI201702Forth Valley",14,84320,16.603415559772301,9.0695453637858208,27.859565805767001]
["SABHCAI201702Grampian",20,140460,14.2389292325217,8.6938010211986008,21.992093006032199]
["SABHCAI201702Greater Glasgow & Clyde",86,433299,19.847726396783699,15.875076818655099,24.5121462554368]
["SABHCAI201702Highland",6,74844,8.0166746833413498,2.9273431947566699,17.449488627916399]
["SABHCAI201702Lanarkshire",26,144126,18.039770756143898,11.7810926357007,26.433660531615999]
["SABHCAI201702Lothian",29,256027,11.3269303628133,7.5841949268112003,16.268047233140699]
["SABHCAI201702Golden Jubilee",0,11614,0,0,31.583412196103101]
["SABHCAI201702Orkney",1,3521,28.4010224368077,0.37120518121917101,158.01920844745999]
["SABHCAI201702Shetland",0,2201,0,0,166.65595149729299]
["SABHCAI201702Tayside",19,109040,17.424798239178301,10.4859397074542,27.212541986857499]
["SABHCAI201702Western Isles",1,7803,12.815583749839799,0.167501402418647,71.304066761951503]
["SABHCAI201703Ayrshire & Arran",17,118443,14.3528954855922,8.3562334390185207,22.981780871486599]
["SABHCAI201703Borders",6,32452,18.488845063478401,6.7513273162938496,40.243730027972902]
["SABHCAI201703Dumfries & Galloway",4,41406,9.6604356856494196,2.59894795337574,24.732846982415001]
["SABHCAI201703Fife",13,87701,14.823092097011401,7.8849222851102398,25.349665831920301]
["SABHCAI201703Forth Valley",18,80291,22.418452877657501,13.2796789025927,35.432919481311103]
["SABHCAI201703Grampian",31,138173,22.435642274539902,15.241028635256701,31.846872920703198]
["SABHCAI201703Greater Glasgow & Clyde",76,426025,17.8393286778945,14.0547778785905,22.328957968994299]
["SABHCAI201703Highland",11,73950,14.874915483434799,7.4153010128340604,26.6171881533656]
["SABHCAI201703Lanarkshire",28,139493,20.072691819661198,13.335107516192201,29.0118871592238]
["SABHCAI201703Lothian",39,252661,15.4357023838266,10.974900989969001,21.101799730202998]
["SABHCAI201703Golden Jubilee",5,11658,42.889003259564198,13.8214947788169,100.088364813345]
["SABHCAI201703Orkney",1,2936,34.059945504087203,0.44516806644165602,189.504643373129]
["SABHCAI201703Shetland",2,2600,76.923076923076906,8.6389751947785101,277.73003994249899]
["SABHCAI201703Tayside",26,123857,20.991950394406501,13.7090496073133,30.7594868096247]
["SABHCAI201703Western Isles",1,7180,13.9275766016713,0.18203529847809199,77.491035228900699]
["SABHCAI201704Ayrshire & Arran",14,123003,11.3818362153769,6.2172797823989701,19.0980593054013]
["SABHCAI201704Borders",4,32440,12.330456226880401,3.3172638396262601,31.568688722375899]
["SABHCAI201704Dumfries & Galloway",3,42845,7.0019838954370401,1.4072847869098399,20.458597083531199]
["SABHCAI201704Fife",11,89968,12.2265694469145,6.0950728025417797,21.8782351940844]
["SABHCAI201704Forth Valley",16,86859,18.420658768809201,10.5221217610125,29.915881181514699]
["SABHCAI201704Grampian",22,139048,15.8218744606179,9.9119505859708497,23.955756196909]
["SABHCAI201704Greater Glasgow & Clyde",88,433674,20.291739878341801,16.274032413144599,25.000355264138399]
["SABHCAI201704Highland",6,74412,8.06321561038542,2.9443379302850099,17.550791900066901]
["SABHCAI201704Lanarkshire",30,143304,20.934516831351502,14.121578857390499,29.886549353002501]
["SABHCAI201704Lothian",39,256805,15.186620198204899,10.797801674525701,20.761285105947401]
["SABHCAI201704Golden Jubilee",3,12434,24.127392633102801,4.8492131812089498,70.496106807455007]
["SABHCAI201704Orkney",0,3819,0,0,96.048638189458401]
["SABHCAI201704Shetland",1,2589,38.624951718810401,0.50483331134519205,214.90368209482699]
["SABHCAI201704Tayside",23,126195,18.225761717976098,11.5497787125719,27.3489718862686]
["SABHCAI201704Western Isles",2,7572,26.4131008980454,2.96636760518015,95.364250376452205]
["SABHCAI201801Ayrshire & Arran",23,122158,18.828075115833599,11.931468464063,28.252783339508301]
["SABHCAI201801Borders",12,32986,36.379069908445999,18.7759339352199,63.551314558023201]
["SABHCAI201801Dumfries & Galloway",2,44662,4.4780797993820203,0.502918263992301,16.168064660124902]
["SABHCAI201801Fife",16,91836,17.422361601115,9.9518813323727109,28.2946069465699]
["SABHCAI201801Forth Valley",19,85107,22.3248381449235,13.434698270422,34.865000273149597]
["SABHCAI201801Grampian",28,144477,19.380247375014701,12.8750884414557,28.011068720291899]
["SABHCAI201801Greater Glasgow & Clyde",96,435205,22.058570099148699,17.866998247856301,26.937648383032801]
["SABHCAI201801Highland",5,75230,6.6462847268376999,2.1418448242914701,15.510170902485299]
["SABHCAI201801Lanarkshire",30,143873,20.851723394938599,14.0657297517914,29.768351730225099]
["SABHCAI201801Lothian",40,258580,15.4691004718076,11.0500107691128,21.065193756789402]
["SABHCAI201801Golden Jubilee",4,11871,33.695560609889597,9.0651199526135997,86.268070268206102]
["SABHCAI201801Orkney",0,3683,0,0,99.595370416926897]
["SABHCAI201801Shetland",2,2410,82.987551867219906,9.3200562267319995,299.62576923257097]
["SABHCAI201801Tayside",17,124965,13.6038090665386,7.9201164903586596,21.782347631428699]
["SABHCAI201801Western Isles",2,8190,24.420024420024401,2.74253180786619,88.168266648412299]
["SABHCAI201802Ayrshire & Arran",16,115914,13.8033369567093,7.8846470145088698,22.417167240757699]
["SABHCAI201802Borders",6,31525,19.032513877874699,6.9498516754438704,41.4271063241166]
["SABHCAI201802Dumfries & Galloway",4,42410,9.4317377976892196,2.53742133830408,24.1473299258164]
["SABHCAI201802Fife",24,87527,27.4201103659442,17.563254532612302,40.800946950439702]
["SABHCAI201802Forth Valley",8,83252,9.6093787536635809,4.1375973714261702,18.9354700091064]
["SABHCAI201802Grampian",27,138240,19.53125,12.8680720298587,28.418212899868699]
["SABHCAI201802Greater Glasgow & Clyde",89,417159,21.334790811177498,17.1330341480705,26.254673997699101]
["SABHCAI201802Highland",14,73332,19.091256204658301,10.428517769519701,32.0340177377172]
["SABHCAI201802Lanarkshire",25,136851,18.2680433464133,11.8187892069172,26.968515131760601]
["SABHCAI201802Lothian",35,255469,13.7002924033836,9.5412919239442093,19.054473746350499]
["SABHCAI201802Golden Jubilee",1,12349,8.0978216859664798,0.10583961803163799,45.055116442101202]
["SABHCAI201802Orkney",1,3487,28.677946659019199,0.37482461803060002,159.55997503398501]
["SABHCAI201802Shetland",2,2417,82.7472072817542,9.2930639248755202,298.75800738539402]
["SABHCAI201802Tayside",12,117886,10.179325789321901,5.25374477704871,17.782464940798398]
["SABHCAI201802Western Isles",0,7527,0,0,48.732529460016202]
["SABHCAI201803Ayrshire & Arran",18,110109,16.3474375391657,9.6834836277513201,25.837529521419299]
["SABHCAI201803Borders",9,32651,27.564239992649501,12.5779332440726,52.329005116949801]
["SABHCAI201803Dumfries & Galloway",3,43012,6.9747977308658102,1.4018208103587899,20.379163769271301]
["SABHCAI201803Fife",23,89303,25.7550138293226,16.321112668477099,38.647117198612101]
["SABHCAI201803Forth Valley",20,82126,24.352823709909199,14.8689975335162,37.613050478865297]
["SABHCAI201803Grampian",25,136514,18.313140044244498,11.8479652032453,27.0350899123648]
["SABHCAI201803Greater Glasgow & Clyde",67,412912,16.226217692873998,12.574455405921,20.6071193106633]
["SABHCAI201803Highland",10,73340,13.635124079629099,6.5276523255162298,25.077211445391999]
["SABHCAI201803Lanarkshire",21,138817,15.1278301648933,9.36072430772251,23.125739357640398]
["SABHCAI201803Lothian",35,252485,13.862209636216001,9.6540559103237999,19.2796694992036]
["SABHCAI201803Golden Jubilee",1,12390,8.0710250201775597,0.10548938200748199,44.906023643543797]
["SABHCAI201803Orkney",0,3756,0,0,97.659677647907799]
["SABHCAI201803Shetland",1,2446,40.883074407195402,0.53434727844345897,227.467552307239]
["SABHCAI201803Tayside",19,114636,16.574200076764701,9.9740645669842607,25.884151385663699]
["SABHCAI201803Western Isles",1,7123,14.0390284992279,0.18349198976171599,78.111137574548295]
["SABHCAI201804Ayrshire & Arran",17,110740,15.3512732526639,8.9374874229516905,24.5803781087366]
["SABHCAI201804Borders",4,31191,12.824212112468301,3.4500990336147002,32.832812739375903]
["SABHCAI201804Dumfries & Galloway",5,43800,11.415525114155299,3.6787896377042801,26.6399579222368]
["SABHCAI201804Fife",16,91463,17.493412636803999,9.9924666153502599,28.4099966494122]
["SABHCAI201804Forth Valley",17,84592,20.096463022508001,11.7001295301881,32.178351046925101]
["SABHCAI201804Grampian",26,133702,19.446231170812698,12.6995987884474,28.494545764309301]
["SABHCAI201804Greater Glasgow & Clyde",88,417273,21.0893108348731,16.9136865618865,25.982999304579799]
["SABHCAI201804Highland",14,72346,19.351449976501801,10.5706475143673,32.470607756368999]
["SABHCAI201804Lanarkshire",24,142634,16.826282653504801,10.777647541792,25.0373998046128]
["SABHCAI201804Lothian",35,254499,13.752509833044501,9.5776576981367505,19.127098155617201]
["SABHCAI201804Golden Jubilee",4,11765,33.999150021249498,9.1467946415194206,87.0453261499256]
["SABHCAI201804Orkney",1,3843,26.0213374967473,0.34010237914980501,144.77898333164401]
["SABHCAI201804Shetland",1,2501,39.984006397441,0.522596338693603,222.46526707057501]
["SABHCAI201804Tayside",17,115115,14.7678408547974,8.5978139879048801,23.646189217404199]
["SABHCAI201804Western Isles",0,6753,0,0,54.318043720648902]
["SABHCAI201901Ayrshire & Arran",11,111660,9.8513344080243606,4.9109932822772597,17.627987318120901]
["SABHCAI201901Borders",3,29390,10.2075535896563,2.0515521162011598,29.8247224240863]
["SABHCAI201901Dumfries & Galloway",4,46147,8.6679524129412506,2.3319400818574598,22.191870807503701]
["SABHCAI201901Fife",13,91885,14.1481199325244,7.5258809307988503,24.1953642392691]
["SABHCAI201901Forth Valley",10,80825,12.3724095267553,5.9231428586867896,22.7548739549032]
["SABHCAI201901Grampian",19,134033,14.175613468325,8.5306369752285498,22.138246388926198]
["SABHCAI201901Greater Glasgow & Clyde",80,427318,18.721420581393701,14.844353679606201,23.300802763444501]
["SABHCAI201901Highland",12,75357,15.9242008041721,8.2187846754404301,27.818300383653199]
["SABHCAI201901Lanarkshire",31,145876,21.2509254435274,14.4362242563501,30.165194905757801]
["SABHCAI201901Lothian",33,251904,13.100228658536601,9.0160593882174496,18.398286687670801]
["SABHCAI201901Golden Jubilee",3,11654,25.742234425948201,5.1737700956883597,75.214397807095907]
["SABHCAI201901Orkney",0,3829,0,0,95.797792960444497]
["SABHCAI201901Shetland",1,2511,39.824771007566703,0.520515110741817,221.579304238752]
["SABHCAI201901Tayside",20,119250,16.771488469601699,10.240094687107399,25.903642629998199]
["SABHCAI201901Western Isles",0,6871,0,0,53.385205828197002]
["SABHCAI201902Ayrshire & Arran",18,109780,16.396429222080499,9.7125040878855007,25.914962088485598]
["SABHCAI201902Borders",2,29746,6.7235930881463002,0.75510440080764196,24.275469100063798]
["SABHCAI201902Dumfries & Galloway",3,45667,6.5692951146342002,1.3203213851392099,19.1943546115115]
["SABHCAI201902Fife",12,87857,13.658558794404501,7.0494434909815302,23.860405682085101]
["SABHCAI201902Forth Valley",14,77293,18.112895087524102,9.8940921567854794,30.392384675743902]
["SABHCAI201902Grampian",26,133401,19.490108769799299,12.728253590400399,28.558839572264699]
["SABHCAI201902Greater Glasgow & Clyde",84,419871,20.006144744457199,15.957118817575999,24.7693469909042]
["SABHCAI201902Highland",10,74804,13.368269076520001,6.3998986892861396,24.5864216807263]
["SABHCAI201902Lanarkshire",27,145187,18.5967063166812,12.2523523277405,27.058440158401499]
["SABHCAI201902Lothian",25,244255,10.235205011156401,6.6218219555621403,15.1098985252976]
["SABHCAI201902Golden Jubilee",3,11897,25.21644111961,5.0680941998110498,73.678119865839804]
["SABHCAI201902Orkney",2,3479,57.487783845932697,6.4562620024214201,207.559098548576]
["SABHCAI201902Shetland",1,2542,39.339103068450001,0.51416736548886799,218.87711760169401]
["SABHCAI201902Tayside",22,113492,19.384626229161501,12.1439123909886,29.3500862410373]
["SABHCAI201902Western Isles",2,7013,28.518465706545001,3.2028141318157899,102.96565005710799]
["SABHCAI201903Ayrshire & Arran",22,110670,19.878919309659299,12.4535728298371,30.0984908978748]
["SABHCAI201903Borders",0,28962,0,0,12.6652078325234]
["SABHCAI201903Dumfries & Galloway",4,46074,8.6816859834179798,2.3356348256603701,22.227031778310401]
["SABHCAI201903Fife",14,90276,15.5079976959546,8.4711779994064909,26.021518329813901]
["SABHCAI201903Forth Valley",15,72461,20.700790770207401,11.577495931220099,34.145021442308803]
["SABHCAI201903Grampian",21,133865,15.6874463078475,9.7070008308752591,23.981218095914301]
["SABHCAI201903Greater Glasgow & Clyde",93,416741,22.3160188222421,18.011362709078298,27.3390069874586]
["SABHCAI201903Highland",10,75715,13.2074225714852,6.3228953516919999,24.290598790266799]
["SABHCAI201903Lanarkshire",31,146465,21.165466152323098,14.3781698673357,30.043887427524101]
["SABHCAI201903Lothian",25,245501,10.183257909336399,6.5882139859138196,15.033210717254001]
["SABHCAI201903Golden Jubilee",1,12067,8.2870638932626193,0.108313039120966,46.108032894962101]
["SABHCAI201903Orkney",1,2983,33.523298692591403,0.43815402047358398,186.51881761431699]
["SABHCAI201903Shetland",0,2694,0,0,136.158036097083]
["SABHCAI201903Tayside",22,115794,18.99925730176,11.9024898101635,28.7666026535728]
["SABHCAI201903Western Isles",5,6702,74.604595643091599,24.0422241318185,174.10178409340099]
["SABHCAI201904Ayrshire & Arran",16,111501,14.349647088366901,8.1967065231682295,23.304396584292402]
["SABHCAI201904Borders",2,29415,6.7992520822709501,0.76360141106320301,24.548635181047]
["SABHCAI201904Dumfries & Galloway",2,46458,4.3049636230573904,0.483476161402215,15.543030346775501]
["SABHCAI201904Fife",10,91708,10.9041741178523,5.2202427438539702,20.0545501745219]
["SABHCAI201904Forth Valley",8,75205,10.637590585732299,4.5803238663116996,20.961581666087699]
["SABHCAI201904Grampian",20,135055,14.8087816074932,9.0417333044874706,22.872232672816899]
["SABHCAI201904Greater Glasgow & Clyde",69,429650,16.059583381822399,12.4947077760851,20.324810139035499]
["SABHCAI201904Highland",10,73909,13.530151943606301,6.4773981727984404,24.884150609601701]
["SABHCAI201904Lanarkshire",30,147326,20.3630044934363,13.7360597354132,29.0706465150936]
["SABHCAI201904Lothian",32,249135,12.844441768519101,8.7840085986775094,18.133222866420599]
["SABHCAI201904Golden Jubilee",1,11659,8.5770649283815104,0.11210339163502001,47.721556989751001]
["SABHCAI201904Orkney",1,2915,34.305317324185197,0.44837510911584999,190.86985692744699]
["SABHCAI201904Shetland",1,2673,37.411148522259602,0.48896874039382798,208.15025549700999]
["SABHCAI201904Tayside",30,117969,25.430409683899999,17.1543264466045,36.304979007050001]
["SABHCAI201904Western Isles",1,6884,14.526438117373599,0.18986249899370999,80.823014663496096]
["SABHCAI202001Ayrshire & Arran",19,107445,17.683465959328,10.6416014305068,27.6165068476611]
["SABHCAI202001Borders",3,28855,10.396811644429,2.0895899045278798,30.377702028899499]
["SABHCAI202001Dumfries & Galloway",8,44334,18.044841430955898,7.7697310498933403,35.5577152794272]
["SABHCAI202001Fife",11,87695,12.543474542448299,6.2530533086159803,22.445305478549301]
["SABHCAI202001Forth Valley",8,74682,10.712085910929,4.6123999941883103,21.108376170939799]
["SABHCAI202001Grampian",16,132936,12.0358668833123,6.8750449392172204,19.5467256690828]
["SABHCAI202001Greater Glasgow & Clyde",75,413057,18.1573003241683,14.2812623005962,22.760723696030301]
["SABHCAI202001Highland",6,71286,8.4167999326655991,3.0734516464434498,18.320420936337801]
["SABHCAI202001Lanarkshire",29,140747,20.604346806681502,13.796092808562101,29.592526511821301]
["SABHCAI202001Lothian",43,240426,17.884920932012299,12.942019770177399,24.091586799345301]
["SABHCAI202001Golden Jubilee",1,10915,9.1617040769583102,0.119744703900385,50.974405216995599]
["SABHCAI202001Orkney",2,3184,62.814070351758801,7.0544395434749099,226.789605480684]
["SABHCAI202001Shetland",0,2514,0,0,145.90682149782899]
["SABHCAI202001Tayside",19,111517,17.037761058851999,10.253027481915799,26.608100811956401]
["SABHCAI202001Western Isles",1,6357,15.730690577316301,0.205602240533695,87.523302334986198]
["CDIHCAI202101Ayrshire & Arran",25,99393,25.152676747859498,16.2729077677083,37.132074334174099]
["CDIHCAI202101Borders",0,28168,0,0,13.0222148979531]
["CDIHCAI202101Dumfries & Galloway",8,37147,21.536059439524099,9.2729764547869706,42.437229095165797]
["CDIHCAI202101Fife",11,78592,13.996335504886,6.9773197004666896,25.045056289970798]
["CDIHCAI202101Forth Valley",7,68486,10.221067079403101,4.0948206941249596,21.060382353018401]
["CDIHCAI202101Grampian",17,111390,15.261693150193,8.8853340265523908,24.436942919126398]
["CDIHCAI202101Greater Glasgow & Clyde",60,384314,15.6122337463637,11.9130519734518,20.096471415461401]
["CDIHCAI202101Highland",14,65903,21.243342488202401,11.604085778711401,35.645093375753397]
["CDIHCAI202101Lanarkshire",30,126794,23.660425572188,15.9603667096194,33.778113069093799]
["CDIHCAI202101Lothian",31,225322,13.758088424565701,9.3461741402052301,19.529286852026502]
["CDIHCAI202101Golden Jubilee",1,12150,8.2304526748971192,0.107573122886642,45.793056209342097]
["CDIHCAI202101Orkney",0,3174,0,0,115.567028747808]
["CDIHCAI202101Shetland",1,2062,48.496605237633403,0.63385714988976805,269.82814400752]
["CDIHCAI202101Tayside",6,103158,5.8163205955912298,2.1238689589597302,12.660089637912501]
["CDIHCAI202101Western Isles",2,5794,34.5184673800483,3.8766543849541102,124.628599214791]
["ECBHCAI202101Ayrshire & Arran",41,99393,41.250389866489598,29.598549672814201,55.962549904888299]
["ECBHCAI202101Borders",9,28168,31.951150241408701,14.5797393621207,60.657282947796297]
["ECBHCAI202101Dumfries & Galloway",10,37147,26.920074299405101,12.887663110166599,49.510396193637497]
["ECBHCAI202101Fife",17,78592,21.630700325732899,12.5933601030343,34.634963759180202]
["ECBHCAI202101Forth Valley",28,68486,40.884268317612403,27.1610862476447,59.091714737342102]
["ECBHCAI202101Grampian",45,111390,40.398599515216802,29.464097082366798,54.058042895870102]
["ECBHCAI202101Greater Glasgow & Clyde",122,384314,31.744875284272801,26.3616722750909,37.903819753434398]
["ECBHCAI202101Highland",18,65903,27.312868913403001,16.178909894360999,43.168665130175498]
["ECBHCAI202101Lanarkshire",50,126794,39.434042620313299,29.266283619914699,51.990206071388002]
["ECBHCAI202101Lothian",75,225322,33.285697801368698,26.180201498732199,41.724626302407998]
["ECBHCAI202101Golden Jubilee",0,12150,0,0,30.190102818563101]
["ECBHCAI202101Orkney",3,3174,94.517958412098295,18.996571107483302,276.16527789662803]
["ECBHCAI202101Shetland",2,2062,96.993210475266693,10.892985211650901,350.193066852811]
["ECBHCAI202101Tayside",44,103158,42.653017701002298,30.988557616794999,57.261349943078002]
["ECBHCAI202101Western Isles",4,5794,69.036934760096599,18.573013282270601,176.749786357245]
["SABHCAI202002Ayrshire & Arran",23,81868,28.0940049836322,17.803345930436901,42.156929535198799]
["SABHCAI202002Borders",5,20636,24.229501841442101,7.8082470503705803,56.543426875071297]
["SABHCAI202002Dumfries & Galloway",4,27088,14.7666863555818,3.9726830684242498,37.805975419147799]
["SABHCAI202002Fife",4,63495,6.2997086384754697,1.69481122856093,16.128644179130202]
["SABHCAI202002Forth Valley",16,57076,28.032798374097698,16.012701906927301,45.526377523743598]
["SABHCAI202002Grampian",18,95717,18.805436860745701,11.139491404537001,29.722458268374002]
["SABHCAI202002Greater Glasgow & Clyde",69,305581,22.579937888808502,17.567686459547399,28.576890173919899]
["SABHCAI202002Highland",3,50361,5.9569905283850604,1.1972581302029801,17.405305534915801]
["SABHCAI202002Lanarkshire",16,100174,15.972208357457999,9.1235347898634398,25.9395005045739]
["SABHCAI202002Lothian",30,182151,16.469851936031102,11.109896385852799,23.512701376784499]
["SABHCAI202002Golden Jubilee",3,8152,36.8007850834151,7.3963587702590896,107.525587836592]
["SABHCAI202002Orkney",0,2102,0,0,174.50511381805001]
["SABHCAI202002Shetland",2,1591,125.707102451289,14.1177470184941,453.86430160307799]
["SABHCAI202002Tayside",24,81757,29.355284562789699,18.802781162175201,43.680473644227902]
["SABHCAI202002Western Isles",2,3200,62.5,7.0191673457575403,225.65565745328001]
["SABHCAI202003Ayrshire & Arran",16,97707,16.3754899853644,9.3538945422516395,26.5944458794681]
["SABHCAI202003Borders",2,25295,7.9067009290373598,0.88797531158031695,28.547068742854201]
["SABHCAI202003Dumfries & Galloway",6,36727,16.3367549759033,5.9654770078788903,35.559384835891201]
["SABHCAI202003Fife",14,75272,18.599213518971201,10.1597415383465,31.208398723858501]
["SABHCAI202003Forth Valley",11,66050,16.654049962149902,8.3022181665265506,29.800773110391901]
["SABHCAI202003Grampian",22,107482,20.468543570086201,12.8229555188597,30.9912356270614]
["SABHCAI202003Greater Glasgow & Clyde",70,376935,18.570841126454201,14.4761950186669,23.463572356448399]
["SABHCAI202003Highland",3,59671,5.0275678302693096,1.0104592967296,14.6896916767592]
["SABHCAI202003Lanarkshire",24,122500,19.591836734693899,12.549052893681299,29.1525263978052]
["SABHCAI202003Lothian",27,217934,12.3890719208568,8.1624816568670706,18.026254514109102]
["SABHCAI202003Golden Jubilee",2,10016,19.968051118210902,2.24254547787781,72.094459250249201]
["SABHCAI202003Orkney",0,2700,0,0,135.855462683534]
["SABHCAI202003Shetland",1,2091,47.8240076518412,0.625066209025682,266.08590767264798]
["SABHCAI202003Tayside",24,99451,24.1324873555821,15.457451201857801,35.908985165871997]
["SABHCAI202003Western Isles",2,4152,48.169556840077099,5.4097628869036898,173.91572828769199]
["CDIHCAI202102Ayrshire & Arran",21,102178,20.552369394585899,12.717293998953901,31.418169864448]
["CDIHCAI202102Borders",2,29586,6.7599540323125797,0.75918797763888701,24.406749944247199]
["CDIHCAI202102Dumfries & Galloway",6,40199,14.925744421503,5.4502369230171901,32.488109825313501]
["CDIHCAI202102Fife",8,79728,10.034115994380899,4.3204803377229002,19.772423103528499]
["CDIHCAI202102Forth Valley",7,68278,10.2522042239081,4.1072950299926996,21.124540054319301]
["CDIHCAI202102Grampian",11,115650,9.5114569822740993,4.7415608292181401,17.0198103237474]
["CDIHCAI202102Greater Glasgow & Clyde",66,396839,16.631429874583901,12.862075330097399,21.159669905916299]
["CDIHCAI202102Highland",16,65070,24.588904256954098,14.045504441982199,39.933356747275099]
["CDIHCAI202102Lanarkshire",24,135443,17.7196311363452,11.349859198895199,26.366696571481299]
["CDIHCAI202102Lothian",30,232475,12.9046133992902,8.7049305799741106,18.422893078751201]
["CDIHCAI202102Golden Jubilee",0,12350,0,0,29.701194270894099]
["CDIHCAI202102Orkney",0,2939,0,0,124.80767242107601]
["CDIHCAI202102Shetland",2,2025,98.765432098765402,11.0920175340366,356.59165622246701]
["CDIHCAI202102Tayside",10,105386,9.4889264228645196,4.5427098623475599,17.451679420464298]
["CDIHCAI202102Western Isles",0,6022,0,0,60.911615616994702]
["ECBHCAI202102Ayrshire & Arran",50,102178,48.934212844252201,36.316909367020898,64.515318254571099]
["ECBHCAI202102Borders",19,29586,64.219563306969505,38.646213266437101,100.292556555362]
["ECBHCAI202102Dumfries & Galloway",15,40199,37.314361053757601,20.869099546559401,61.548356892737097]
["ECBHCAI202102Fife",30,79728,37.627934978928401,25.382283972750901,53.718418478861601]
["ECBHCAI202102Forth Valley",32,68278,46.867219309294398,32.051377928930599,66.165096792901096]
["ECBHCAI202102Grampian",42,115650,36.316472114137497,26.1707994617895,49.090811044658402]
["ECBHCAI202102Greater Glasgow & Clyde",150,396839,37.798704260417999,31.991381603520299,44.355178919502499]
["ECBHCAI202102Highland",20,65070,30.736130321192601,18.766425256455399,47.472097489277502]
["ECBHCAI202102Lanarkshire",45,135443,33.224308380647201,24.231638209467,44.458003722384902]
["ECBHCAI202102Lothian",80,232475,34.4123023981073,27.285770623344401,42.829777116978399]
["ECBHCAI202102Golden Jubilee",1,12350,8.0971659919028305,0.105831048022081,45.051468254535003]
["ECBHCAI202102Orkney",2,2939,68.050357264375606,7.6425095292358396,245.695169734773]
["ECBHCAI202102Shetland",2,2025,98.765432098765402,11.0920175340366,356.59165622246701]
["ECBHCAI202102Tayside",43,105386,40.8023836183174,29.5257249090456,54.962175695247801]
["ECBHCAI202102Western Isles",1,6022,16.605778811026202,0.21703976138703099,92.392167542927098]
["SABHCAI202004Ayrshire & Arran",25,102772,24.325691822675399,15.7378772599135,35.911223526802701]
["SABHCAI202004Borders",5,27161,18.4087478369721,5.9324393848329402,42.9597642573532]
["SABHCAI202004Dumfries & Galloway",5,37533,13.321610316255001,4.2930484142340699,31.088113313456699]
["SABHCAI202004Fife",16,77595,20.619885301888001,11.7783487858726,33.487512385400997]
["SABHCAI202004Forth Valley",20,70565,28.342662793169399,17.305056209701,43.775375662542203]
["SABHCAI202004Grampian",21,108028,19.439404598807702,12.0286191193498,29.7167934277185]
["SABHCAI202004Greater Glasgow & Clyde",79,390384,20.236485101848402,16.020789879581699,25.221108755379198]
["SABHCAI202004Highland",12,63656,18.851325876586699,9.7295299231363099,32.931752890708701]
["SABHCAI202004Lanarkshire",24,127447,18.831357348544898,12.061947158238,28.020937987799901]
["SABHCAI202004Lothian",25,226514,11.036845404698999,7.1404554321403104,16.293334029228099]
["SABHCAI202004Golden Jubilee",1,11255,8.8849400266548209,0.116127360557326,49.434529803954398]
["SABHCAI202004Orkney",1,3055,32.733224222585903,0.42782764094032799,182.12295677365199]
["SABHCAI202004Shetland",1,2118,47.2143531633617,0.61709794290495801,262.69387768815301]
["SABHCAI202004Tayside",20,104559,19.127956464771099,11.6788730901936,29.543218504646099]
["SABHCAI202004Western Isles",1,5151,19.413706076490001,0.253739748218346,108.015071431471]
["SABHCAI202101Ayrshire & Arran",12,99393,12.073284838972601,6.2312532752524303,21.091059350366301]
["SABHCAI202101Borders",7,28168,24.850894632206799,9.9559035095797306,51.2049611555246]
["SABHCAI202101Dumfries & Galloway",4,37147,10.768029719762,2.8969240842457298,27.568532106330899]
["SABHCAI202101Fife",14,78592,17.813517915309401,9.73055864559268,29.890047189819299]
["SABHCAI202101Forth Valley",10,68486,14.6015243991473,6.9903049025108803,26.854578854146101]
["SABHCAI202101Grampian",26,111390,23.341413053236401,15.243394893733701,34.202152417449298]
["SABHCAI202101Greater Glasgow & Clyde",59,384314,15.352029850590901,11.685943067892101,19.8034327473164]
["SABHCAI202101Highland",15,65903,22.7607240945025,12.7295712285047,37.542788624662599]
["SABHCAI202101Lanarkshire",34,126794,26.815148981813,18.5672718577853,37.472862065228703]
["SABHCAI202101Lothian",37,225322,16.420944248675202,11.5602520596685,22.634881071085399]
["SABHCAI202101Golden Jubilee",4,12150,32.921810699588498,8.8569579388869109,84.287099765750995]
["SABHCAI202101Orkney",0,3174,0,0,115.567028747808]
["SABHCAI202101Shetland",0,2062,0,0,177.89027606476299]
["SABHCAI202101Tayside",24,103158,23.265282382364902,14.9019851051393,34.618589772302101]
["SABHCAI202101Western Isles",2,5794,34.5184673800483,3.8766543849541102,124.628599214791]
["CDIHCAI202103Ayrshire & Arran",29,108269,26.785137019830199,17.9345766057384,38.469546490309398]
["CDIHCAI202103Borders",3,29640,10.1214574898785,2.0342482015908301,29.5731643739506]
["CDIHCAI202103Dumfries & Galloway",10,42178,23.709042628858601,11.3504201610641,43.604786557092602]
["CDIHCAI202103Fife",8,84493,9.4682399725421007,4.0768259662453898,18.657353262378201]
["CDIHCAI202103Forth Valley",8,69862,11.4511465460479,4.9306240354695197,22.564709701957099]
["CDIHCAI202103Grampian",14,121265,11.5449635096689,6.3063873753714601,19.3717774192246]
["CDIHCAI202103Greater Glasgow & Clyde",76,413139,18.395745741747898,14.4931530204762,23.025408685069198]
["CDIHCAI202103Highland",13,70337,18.482448782291002,9.8314623786407296,31.607703529084802]
["CDIHCAI202103Lanarkshire",29,140006,20.7133979972287,13.8691104276009,29.749148814760101]
["CDIHCAI202103Lothian",43,241844,17.780056565389302,12.8661370357118,23.950330989478299]
["CDIHCAI202103Golden Jubilee",0,12063,0,0,30.4078379545338]
["CDIHCAI202103Orkney",0,2696,0,0,136.05702865190699]
["CDIHCAI202103Shetland",1,2456,40.716612377850197,0.53217159734230501,226.54138149165601]
["CDIHCAI202103Tayside",11,112116,9.8112669021370706,4.8910192113443101,17.556290484332099]
["CDIHCAI202103Western Isles",0,5975,0,0,61.390753011806197]
["ECBHCAI202103Ayrshire & Arran",54,108269,49.875772381752903,37.465490457434903,65.078616338144997]
["ECBHCAI202103Borders",14,29640,47.2334682860999,25.801081817625501,79.255013115461395]
["ECBHCAI202103Dumfries & Galloway",22,42178,52.159893783488997,32.676677535162298,78.974820704343699]
["ECBHCAI202103Fife",51,84493,60.360029824955902,44.938408892983098,79.364294025187306]
["ECBHCAI202103Forth Valley",47,69862,67.275485958031595,49.426951289920801,89.464576651294806]
["ECBHCAI202103Grampian",43,121265,35.459530779697403,25.6594899209556,47.765174187270802]
["ECBHCAI202103Greater Glasgow & Clyde",140,413139,33.886900050588302,28.5058159672726,39.9882323622058]
["ECBHCAI202103Highland",17,70337,24.169356099919,14.071361548227401,38.699846052028001]
["ECBHCAI202103Lanarkshire",63,140006,44.9980715112209,34.575806263950902,57.5732590031702]
["ECBHCAI202103Lothian",82,241844,33.906154380509797,26.965577688856499,42.0871368832332]
["ECBHCAI202103Golden Jubilee",2,12063,16.5796236425433,1.8620024460270399,59.860573974176901]
["ECBHCAI202103Orkney",2,2696,74.183976261127597,8.3313559000089494,267.84054297125198]
["ECBHCAI202103Shetland",1,2456,40.716612377850197,0.53217159734230501,226.54138149165601]
["ECBHCAI202103Tayside",61,112116,54.407934639123802,41.6152872645862,69.890745551077799]
["ECBHCAI202103Western Isles",5,5975,83.682008368200798,26.967529059656499,195.28538192367699]
["SABHCAI202102Ayrshire & Arran",18,102178,17.6163166239308,10.435110285659,27.843024311240701]
["SABHCAI202102Borders",6,29586,20.279862096937698,7.4053293472712802,44.142145841539097]
["SABHCAI202102Dumfries & Galloway",10,40199,24.876240702505001,11.9092022576024,45.751453702954102]
["SABHCAI202102Fife",5,79728,6.2713224964880601,2.0210087564149002,14.635136426274]
["SABHCAI202102Forth Valley",11,68278,16.110606637569902,8.0313059828799709,28.828335099759499]
["SABHCAI202102Grampian",22,115650,19.022913964548199,11.9173100309388,28.802420991507201]
["SABHCAI202102Greater Glasgow & Clyde",86,396839,21.6712571093063,17.333616177962401,26.7642254423947]
["SABHCAI202102Highland",10,65070,15.3680651605963,7.3572771100869803,28.2643720209782]
["SABHCAI202102Lanarkshire",26,135443,19.196267064373899,12.5363566755978,28.128273574711699]
["SABHCAI202102Lothian",36,232475,15.4855360791483,10.844296132689401,21.439259258509001]
["SABHCAI202102Golden Jubilee",5,12350,40.485829959514199,13.047043411453201,94.4801746553822]
["SABHCAI202102Orkney",0,2939,0,0,124.80767242107601]
["SABHCAI202102Shetland",0,2025,0,0,181.140616911379]
["SABHCAI202102Tayside",24,105386,22.773423414874799,14.5869373491352,33.886706808600202]
["SABHCAI202102Western Isles",1,6022,16.605778811026202,0.21703976138703099,92.392167542927098]
["SABHCAI202103Ayrshire & Arran",17,108269,15.701632046107401,9.14146576783447,25.141370768747201]
["SABHCAI202103Borders",7,29640,23.6167341430499,9.4614672759055907,48.6619887256686]
["SABHCAI202103Dumfries & Galloway",6,42178,14.2254255773152,5.1945107418172496,30.963761365351001]
["SABHCAI202103Fife",14,84493,16.569419951948699,9.05097540712746,27.802523152714102]
["SABHCAI202103Forth Valley",16,69862,22.9022930920958,13.082090035209101,37.194233253344997]
["SABHCAI202103Grampian",23,121265,18.9667257658846,12.019332244530601,28.460837893767]
["SABHCAI202103Greater Glasgow & Clyde",81,413139,19.605992172126101,15.5694031792923,24.368844613672099]
["SABHCAI202103Highland",8,70337,11.373814635256,4.8973265332040201,22.4123256493471]
["SABHCAI202103Lanarkshire",21,140006,14.999357170407,9.2812284203899598,22.929344173889501]
["SABHCAI202103Lothian",44,241844,18.193546252956502,13.2180977267715,24.4246966533304]
["SABHCAI202103Golden Jubilee",3,12063,24.869435463815002,4.9983517114442604,72.664228802445194]
["SABHCAI202103Orkney",0,2696,0,0,136.05702865190699]
["SABHCAI202103Shetland",2,2456,81.433224755700294,9.1454949130391405,294.01388593261299]
["SABHCAI202103Tayside",26,112116,23.1902672232331,15.144687263307601,33.980678563092503]
["SABHCAI202103Western Isles",0,5975,0,0,61.390753011806197]
["ECBHCAI202104Ayrshire & Arran",55,112199,49.020044741931699,36.926001924446503,63.8078210455229]
["ECBHCAI202104Borders",12,30470,39.3829996718083,20.3263195532381,68.798938694156703]
["ECBHCAI202104Dumfries & Galloway",11,44880,24.509803921568601,12.2183937143288,43.857866843613699]
["ECBHCAI202104Fife",29,86306,33.601371862906397,22.498536307170902,48.259209428768699]
["ECBHCAI202104Forth Valley",37,75758,48.839726497531601,34.382891768376098,67.321427079636507]
["ECBHCAI202104Grampian",45,125861,35.753728319336403,26.0764317302806,47.8426629231531]
["ECBHCAI202104Greater Glasgow & Clyde",136,416309,32.668042247465202,27.408130718892298,38.642996483253398]
["ECBHCAI202104Highland",23,71270,32.271643047565597,20.450741190304601,48.425754275118003]
["ECBHCAI202104Lanarkshire",53,144693,36.629277159226802,27.435783247107,47.9131604524163]
["ECBHCAI202104Lothian",58,245190,23.655124597251099,17.961168303003699,30.580413704328901]
["ECBHCAI202104Golden Jubilee",0,12615,0,0,29.077269064252199]
["ECBHCAI202104Orkney",0,3289,0,0,111.526223546835]
["ECBHCAI202104Shetland",4,2344,170.64846416382301,45.909572934076799,436.897722761892]
["ECBHCAI202104Tayside",44,116557,37.749770498554398,27.426217444111799,50.678778086498802]
["ECBHCAI202104Western Isles",2,6066,32.970656116056702,3.7028248444484202,119.040241320557]
["SABHCAI202104Ayrshire & Arran",15,112199,13.3691031114359,7.4770446498822896,22.051733070091]
["SABHCAI202104Borders",4,30470,13.1276665572694,3.5317374124540901,33.609723076923999]
["SABHCAI202104Dumfries & Galloway",7,44880,15.5971479500891,6.2486160886328399,32.137730522032399]
["SABHCAI202104Fife",11,86306,12.745347947999001,6.3536893135944004,22.806537945697698]
["SABHCAI202104Forth Valley",16,75758,21.1198817286623,12.063953299186601,34.299526433448499]
["SABHCAI202104Grampian",27,125861,21.452236991601801,14.133705257448,31.213272985895902]
["SABHCAI202104Greater Glasgow & Clyde",80,416309,19.216495439685399,15.2369022184531,23.916976176997299]
["SABHCAI202104Highland",14,71270,19.643608811561698,10.7302380394895,32.960833292300798]
["SABHCAI202104Lanarkshire",24,144693,16.586842487197,10.6242802310821,24.681114385154402]
["SABHCAI202104Lothian",26,245190,10.604021371181499,6.9250856772829197,15.538063370364499]
["SABHCAI202104Golden Jubilee",2,12615,15.854141894570001,1.7805260013019499,57.241229001228398]
["SABHCAI202104Orkney",0,3289,0,0,111.526223546835]
["SABHCAI202104Shetland",1,2344,42.662116040955603,0.55759959175456597,237.36588436156401]
["SABHCAI202104Tayside",27,116557,23.164631896840199,15.2619085718375,33.704828978764397]
["SABHCAI202104Western Isles",5,6066,82.426640290141805,26.562971666905302,192.35577926046301]
["CDIHCAI202104Ayrshire & Arran",26,112199,23.173112059822301,15.1334838743037,33.955541116941198]
["CDIHCAI202104Borders",2,30470,6.5638332786347204,0.73716230739823196,23.6986578224646]
["CDIHCAI202104Dumfries & Galloway",3,44880,6.6844919786096302,1.34347407966025,19.530940107929901]
["CDIHCAI202104Fife",4,86306,4.6346719810905403,1.24686625446059,11.8657829369207]
["CDIHCAI202104Forth Valley",7,75758,9.2399482562897592,3.7017594189107701,19.038799147665099]
["CDIHCAI202104Grampian",12,125861,9.5343275518230399,4.9208488474361802,16.655704801415499]
["CDIHCAI202104Greater Glasgow & Clyde",57,416309,13.691753000775901,10.3693109553888,17.739655280944898]
["CDIHCAI202104Highland",14,71270,19.643608811561698,10.7302380394895,32.960833292300798]
["CDIHCAI202104Lanarkshire",31,144693,21.424671545962799,14.5542538313486,30.4118234612063]
["CDIHCAI202104Lothian",28,245190,11.4197153228109,7.5865824575072303,16.5053842958588]
["CDIHCAI202104Golden Jubilee",0,12615,0,0,29.077269064252199]
["CDIHCAI202104Orkney",0,3289,0,0,111.526223546835]
["CDIHCAI202104Shetland",0,2344,0,0,156.48880087267099]
["CDIHCAI202104Tayside",12,116557,10.295391954151199,5.3136487451389796,17.985223212771]
["CDIHCAI202104Western Isles",1,6066,16.485328058028401,0.21546545385306701,91.721996858474597]
["CDIHCAI202201Ayrshire & Arran",18,112586,15.987778231751699,9.4704376988974595,25.269079086866501]
["CDIHCAI202201Borders",1,31718,3.1527839081909299,4.1207309511088398E-2,17.5416367029292]
["CDIHCAI202201Dumfries & Galloway",3,42386,7.0778087104232501,1.42252434046978,20.680144199591702]
["CDIHCAI202201Fife",6,85576,7.01131158268673,2.5602280320226201,15.261165827659299]
["CDIHCAI202201Forth Valley",9,73342,12.2712770308963,5.5995486672331802,23.296260615657101]
["CDIHCAI202201Grampian",8,126203,6.3389935263028603,2.72943794019137,12.491111536161]
["CDIHCAI202201Greater Glasgow & Clyde",49,413693,11.84453205638,8.7618993900172395,15.659510185522601]
["CDIHCAI202201Highland",19,70326,27.017034951511501,16.258380480914699,42.192867193455399]
["CDIHCAI202201Lanarkshire",22,143728,15.3066904152288,9.5892025567605206,23.175720720164499]
["CDIHCAI202201Lothian",36,240326,14.979652638499401,10.490033302459899,20.738878840083402]
["CDIHCAI202201Golden Jubilee",0,12101,0,0,30.312350156643401]
["CDIHCAI202201Orkney",0,3422,0,0,107.19162748262499]
["CDIHCAI202201Shetland",2,2285,87.527352297592998,9.8299061297260906,316.01667564573103]
["CDIHCAI202201Tayside",12,117130,10.2450268931956,5.2876543736631501,17.897239494672199]
["CDIHCAI202201Western Isles",2,6232,32.092426187419797,3.6041937590539401,115.869400489489]
["ECBHCAI202201Ayrshire & Arran",48,112586,42.634075284671297,31.432212783062599,56.528110708439499]
["ECBHCAI202201Borders",6,31718,18.916703449145601,6.9075627110274302,41.175027645746098]
["ECBHCAI202201Dumfries & Galloway",14,42386,33.029773981975197,18.0423740167607,55.422040030724197]
["ECBHCAI202201Fife",27,85576,31.550902122090299,20.7871631930409,45.906956988850197]
["ECBHCAI202201Forth Valley",38,73342,51.812058574895701,36.660429483519202,71.118467528837598]
["ECBHCAI202201Grampian",41,126203,32.487341822302199,23.310766365538299,44.074116484525398]
["ECBHCAI202201Greater Glasgow & Clyde",109,413693,26.348040696845199,21.633970096076698,31.7839504893774]
["ECBHCAI202201Highland",14,70326,19.907288911640102,10.874272176356101,33.4032731669976]
["ECBHCAI202201Lanarkshire",41,143728,28.5261048647445,20.468444893340401,38.700084344710604]
["ECBHCAI202201Lothian",61,240326,25.382189193012799,19.414210476421001,32.6051730907378]
["ECBHCAI202201Golden Jubilee",0,12101,0,0,30.312350156643401]
["ECBHCAI202201Orkney",1,3422,29.222676797194602,0.381944314165021,162.59077526110701]
["ECBHCAI202201Shetland",1,2285,43.763676148796499,0.57199713044757206,243.49480653982801]
["ECBHCAI202201Tayside",50,117130,42.687612054981599,31.680945661260701,56.279742069628398]
["ECBHCAI202201Western Isles",1,6232,16.046213093709898,0.20972616223887999,89.278824284901702]
["SABHCAI202201Ayrshire & Arran",19,112586,16.875988133515701,10.155675356623499,26.3554578566335]
["SABHCAI202201Borders",4,31718,12.6111356327637,3.3927750475274601,32.287289934859501]
["SABHCAI202201Dumfries & Galloway",10,42386,23.592695701410801,11.2947204632039,43.390805629336398]
["SABHCAI202201Fife",13,85576,15.191175095821301,8.0807185347112807,25.979141851982298]
["SABHCAI202201Forth Valley",10,73342,13.634752256551501,6.52747431967168,25.0765276022614]
["SABHCAI202201Grampian",23,126203,18.224606388120701,11.549046572847001,27.347238236711199]
["SABHCAI202201Greater Glasgow & Clyde",72,413693,17.404210368558299,13.6171055046806,21.918114572136499]
["SABHCAI202201Highland",18,70326,25.595085743537201,15.161372732247999,40.453666326450403]
["SABHCAI202201Lanarkshire",21,143728,14.6109317599911,9.0408804563141203,22.335562732450001]
["SABHCAI202201Lothian",25,240326,10.4025365545135,6.7300796491258899,15.356924611971101]
["SABHCAI202201Golden Jubilee",1,12101,8.2637798529047206,0.108008713583398,45.978483839641903]
["SABHCAI202201Orkney",2,3422,58.445353594389204,6.5638034793758404,211.01639504690101]
["SABHCAI202201Shetland",1,2285,43.763676148796499,0.57199713044757206,243.49480653982801]
["SABHCAI202201Tayside",21,117130,17.928797063092301,11.0938928218656,27.4075451243027]
["SABHCAI202201Western Isles",1,6232,16.046213093709898,0.20972616223887999,89.278824284901702]
["CDIHCAI202202Ayrshire & Arran",27,114387,23.604080883317199,15.551437465863,34.344232747408697]
["CDIHCAI202202Borders",5,31861,15.6931671950033,5.0573110113131197,36.6225214837566]
["CDIHCAI202202Dumfries & Galloway",12,44824,26.7713724790291,13.817217490343699,46.767438470706701]
["CDIHCAI202202Fife",8,87058,9.18927611477406,3.9567099676763902,18.107649488825]
["CDIHCAI202202Forth Valley",11,76087,14.457134595923099,7.2070328689405301,25.869610629166399]
["CDIHCAI202202Grampian",20,130553,15.319448806232,9.3535291524327597,23.6609605572242]
["CDIHCAI202202Greater Glasgow & Clyde",59,430046,13.7194625691205,10.443235198545899,17.697493879380701]
["CDIHCAI202202Highland",7,72775,9.6186877361731398,3.8534921340823298,19.819187163570099]
["CDIHCAI202202Lanarkshire",22,142744,15.412206467522299,9.6553053373737292,23.3354816151138]
["CDIHCAI202202Lothian",28,243749,11.487226614262999,7.6314329607760296,16.602961142411299]
["CDIHCAI202202Golden Jubilee",0,12412,0,0,29.5528318760507]
["CDIHCAI202202Orkney",2,3242,61.690314620604603,6.9282342709513003,222.73229606739599]
["CDIHCAI202202Shetland",1,2403,41.614648356221402,0.54390904830324704,231.537924653977]
["CDIHCAI202202Tayside",14,117903,11.874167748064099,6.4862137950215004,19.924162987729499]
["CDIHCAI202202Western Isles",1,6287,15.9058374423413,0.20789143360469201,88.497794328536202]
["ECBHCAI202202Ayrshire & Arran",44,114387,38.465909587627998,27.946511637103299,51.640189334697403]
["ECBHCAI202202Borders",7,31861,21.970434073004601,8.8019173929833308,45.269807784715397]
["ECBHCAI202202Dumfries & Galloway",18,44824,40.157058718543603,23.787227796896101,63.469224925797597]
["ECBHCAI202202Fife",35,87058,40.203083002136502,27.998625129432099,55.914762038025302]
["ECBHCAI202202Forth Valley",44,76087,57.828538383692297,42.013979084907199,77.634370357985404]
["ECBHCAI202202Grampian",49,130553,37.532649575268302,27.7644821976853,49.621454483461797]
["ECBHCAI202202Greater Glasgow & Clyde",136,430046,31.6245238881422,26.532630210375999,37.408619596384497]
["ECBHCAI202202Highland",14,72775,19.237375472346301,10.5083348000607,32.279197371930998]
["ECBHCAI202202Lanarkshire",63,142744,44.134954884268303,33.912601102608299,56.46893529674]
["ECBHCAI202202Lothian",58,243749,23.7949694152591,18.0673514812921,30.761199578929102]
["ECBHCAI202202Golden Jubilee",2,12412,16.113438607798901,1.8096467536596901,58.177417326014897]
["ECBHCAI202202Orkney",2,3242,61.690314620604603,6.9282342709513003,222.73229606739599]
["ECBHCAI202202Shetland",4,2403,166.458593424886,44.782371601113603,426.17072915267403]
["ECBHCAI202202Tayside",49,117903,41.5595871182243,30.743377559132501,54.945419091790598]
["ECBHCAI202202Western Isles",3,6287,47.717512327023996,9.5904432472009091,139.422394153634]
["SABHCAI202202Ayrshire & Arran",20,114387,17.4845043580127,10.675437693422801,27.004899014986702]
["SABHCAI202202Borders",6,31861,18.831800634004001,6.87655987157867,40.990224000118502]
["SABHCAI202202Dumfries & Galloway",7,44824,15.616633946100301,6.2564226766429103,32.177881175906101]
["SABHCAI202202Fife",13,87058,14.9325736865078,7.9431593802574501,25.536895438963001]
["SABHCAI202202Forth Valley",16,76087,21.028559412251798,12.011788794929201,34.151215365899397]
["SABHCAI202202Grampian",20,130553,15.319448806232,9.3535291524327597,23.6609605572242]
["SABHCAI202202Greater Glasgow & Clyde",72,430046,16.742394999604699,13.099299208800501,21.084652738755501]
["SABHCAI202202Highland",9,72775,12.366884232222599,5.6431755184090102,23.477764975246]
["SABHCAI202202Lanarkshire",24,142744,16.813316146387901,10.7693421753346,25.018105725852799]
["SABHCAI202202Lothian",40,243749,16.4103237346615,11.722352849353999,22.3469134299243]
["SABHCAI202202Golden Jubilee",5,12412,40.283596519497301,12.981871264215901,94.008230502253497]
["SABHCAI202202Orkney",1,3242,30.845157310302302,0.40315035258257298,171.61802373334601]
["SABHCAI202202Shetland",1,2403,41.614648356221402,0.54390904830324704,231.537924653977]
["SABHCAI202202Tayside",25,117903,21.203870978685899,13.7181676611777,31.30258148051]
["SABHCAI202202Western Isles",3,6287,47.717512327023996,9.5904432472009091,139.422394153634]
["CDIHCAI202203Ayrshire & Arran",18,115947,15.5243343941628,9.1959145020403295,24.536594634392898]
["CDIHCAI202203Borders",5,31443,15.901790541615,5.1245423824522902,37.109377508315703]
["CDIHCAI202203Dumfries & Galloway",6,46399,12.9313131748529,4.7219568108874803,28.146932625008599]
["CDIHCAI202203Fife",9,89390,10.0682402953351,4.5942733902250401,19.1139316039101]
["CDIHCAI202203Forth Valley",10,77214,12.951019245214599,6.2001453305535303,23.819031359663398]
["CDIHCAI202203Grampian",11,132436,8.3058986982391492,4.1405774102138304,14.862583164255801]
["CDIHCAI202203Greater Glasgow & Clyde",54,439126,12.297153892049201,9.2373286626982303,16.045501091519601]
["CDIHCAI202203Highland",14,76066,18.405069281939401,10.053691071890499,30.882635983780901]
["CDIHCAI202203Lanarkshire",29,147577,19.650758587042699,13.1575968784207,28.222957025548101]
["CDIHCAI202203Lothian",30,244423,12.273804020079901,8.27941207079318,17.5223365578635]
["CDIHCAI202203Golden Jubilee",2,12653,15.806528096103699,1.77517865379152,57.069319833280403]
["CDIHCAI202203Orkney",1,3388,29.515938606847701,0.38577728544058498,164.222441836927]
["CDIHCAI202203Shetland",0,2788,0,0,131.56734191016599]
["CDIHCAI202203Tayside",13,120417,10.7958178662481,5.7426739524025097,18.462435064195599]
["CDIHCAI202203Western Isles",0,6470,0,0,56.693933422804001]
["ECBHCAI202203Ayrshire & Arran",43,115947,37.085909941611199,26.8363825305068,49.955961325600398]
["ECBHCAI202203Borders",13,31443,41.344655408199003,21.992671479389799,70.705436603544101]
["ECBHCAI202203Dumfries & Galloway",21,46399,45.259596111985203,28.005510166708699,69.187822160166604]
["ECBHCAI202203Fife",33,89390,36.916881082895202,25.407555924930399,51.846985230686101]
["ECBHCAI202203Forth Valley",44,77214,56.984484678944199,41.400751504044997,76.501234716865298]
["ECBHCAI202203Grampian",42,132436,31.713431393276799,22.853702601679,42.868648232465098]
["ECBHCAI202203Greater Glasgow & Clyde",156,439126,35.525111243697701,30.1687136437086,41.558178466808101]
["ECBHCAI202203Highland",14,76066,18.405069281939401,10.053691071890499,30.882635983780901]
["ECBHCAI202203Lanarkshire",60,147577,40.656741904226301,31.0234837144348,52.334410616570501]
["ECBHCAI202203Lothian",60,244423,24.547608040159901,18.7312677453641,31.598316506882]
["ECBHCAI202203Golden Jubilee",2,12653,15.806528096103699,1.77517865379152,57.069319833280403]
["ECBHCAI202203Orkney",1,3388,29.515938606847701,0.38577728544058498,164.222441836927]
["ECBHCAI202203Shetland",3,2788,107.604017216643,21.6266559164821,314.40049929838398]
["ECBHCAI202203Tayside",59,120417,48.996404162203,37.295992461146398,63.203172748466997]
["ECBHCAI202203Western Isles",9,6470,139.103554868624,63.4748220018881,264.07949707473398]
["SABHCAI202203Ayrshire & Arran",15,115947,12.936945328468999,7.2353483287376399,21.338908283363399]
["SABHCAI202203Borders",4,31443,12.721432433292,3.42244820651579,32.569674081794801]
["SABHCAI202203Dumfries & Galloway",11,46399,23.707407487230299,11.8183906959003,42.422057887915301]
["SABHCAI202203Fife",14,89390,15.661707126076699,8.5551411240006701,26.279433815217299]
["SABHCAI202203Forth Valley",6,77214,7.7706115471287598,2.8374915697719101,16.913895496513302]
["SABHCAI202203Grampian",19,132436,14.3465522969585,8.6335049812800708,22.405203858821999]
["SABHCAI202203Greater Glasgow & Clyde",85,439126,19.356631126373799,15.4608514130865,23.935135468948399]
["SABHCAI202203Highland",5,76066,6.5732390292640597,2.1183049737260702,15.3397070569502]
["SABHCAI202203Lanarkshire",27,147577,18.295533856901798,12.053926271761,26.6202304646242]
["SABHCAI202203Lothian",40,244423,16.365072026773301,11.690028289797599,22.285291489060398]
["SABHCAI202203Golden Jubilee",4,12653,31.613056192207399,8.5048635863017505,80.936399443126106]
["SABHCAI202203Orkney",2,3388,59.031877213695402,6.6296739983542299,213.13403301372401]
["SABHCAI202203Shetland",0,2788,0,0,131.56734191016599]
["SABHCAI202203Tayside",31,120417,25.743873373360898,17.488383281590799,36.542830099340797]
["SABHCAI202203Western Isles",1,6470,15.4559505409583,0.20201135132499301,85.994688244746101]
["CDIHCAI202204Ayrshire & Arran",20,119580,16.725204883759801,10.2118355196317,25.832157414511499]
["CDIHCAI202204Borders",1,32790,3.0497102775236402,3.9860123302003697E-2,16.968149830543101]
["CDIHCAI202204Dumfries & Galloway",5,46878,10.665984043687899,3.4372410540434202,24.890783672383002]
["CDIHCAI202204Fife",8,91962,8.6992453404667103,3.7457129723795899,17.1420342010627]
["CDIHCAI202204Forth Valley",19,79270,23.968714519995,14.423954405207599,37.432264138349197]
["CDIHCAI202204Grampian",4,132046,3.0292473834875699,0.81495871860924196,7.7555417214749003]
["CDIHCAI202204Greater Glasgow & Clyde",63,443639,14.2007352825157,10.911620330472999,18.169281104677101]
["CDIHCAI202204Highland",22,75533,29.126342128606002,18.2468180143523,44.099929668724997]
["CDIHCAI202204Lanarkshire",29,149515,19.396047219342499,12.9870492895475,27.857133591675101]
["CDIHCAI202204Lothian",29,248852,11.6535129313809,7.8028654562820101,16.7370940517227]
["CDIHCAI202204Golden Jubilee",0,13327,0,0,27.523805000791]
["CDIHCAI202204Orkney",1,3151,31.735956839098701,0.41479322217476999,176.57430432989801]
["CDIHCAI202204Shetland",0,2878,0,0,127.45300529727]
["CDIHCAI202204Tayside",10,123441,8.1010361225200693,3.87827400582756,14.899123365859399]
["CDIHCAI202204Western Isles",1,6190,16.155088852988701,0.21114918304890201,89.884593367287096]
["ECBHCAI202204Ayrshire & Arran",43,119580,35.959190500083601,26.021057411479099,48.438232545738302]
["ECBHCAI202204Borders",12,32790,36.596523330283603,18.8881658062569,63.931188228452399]
["ECBHCAI202204Dumfries & Galloway",20,46878,42.663936174751498,26.0491337394418,65.894649593141494]
["ECBHCAI202204Fife",28,91962,30.4473586916335,20.227421682392698,44.006819941949999]
["ECBHCAI202204Forth Valley",40,79270,50.460451621041997,36.045310769234199,68.714996866792106]
["ECBHCAI202204Grampian",49,132046,37.108280447722798,27.450558474731601,49.060401278186298]
["ECBHCAI202204Greater Glasgow & Clyde",139,443639,31.331781020153802,26.3393566751032,36.995001192170299]
["ECBHCAI202204Highland",14,75533,18.534944990931098,10.124635127353899,31.100559871079898]
["ECBHCAI202204Lanarkshire",59,149515,39.460923653145201,30.0375983961065,50.902828832238598]
["ECBHCAI202204Lothian",70,248852,28.129169144712499,21.927027186284299,35.540167031721197]
["ECBHCAI202204Golden Jubilee",2,13327,15.0071283859833,1.6854007283277599,54.183094758797701]
["ECBHCAI202204Orkney",4,3151,126.943827356395,34.151710237218701,325.00420887143002]
["ECBHCAI202204Shetland",3,2878,104.239054899236,20.9503532644726,304.568656026371]
["ECBHCAI202204Tayside",64,123441,51.846631184128498,39.926032227004498,66.208324342065097]
["ECBHCAI202204Western Isles",2,6190,32.310177705977402,3.62864870863072,116.65559028279399]
["SABHCAI202204Ayrshire & Arran",29,119580,24.251547081451701,16.2381558331384,34.830735314929797]
["SABHCAI202204Borders",7,32790,21.347971942665399,8.5525431551644306,43.987232260714102]
["SABHCAI202204Dumfries & Galloway",8,46878,17.0655744699006,7.3480791920724302,33.628050454330896]
["SABHCAI202204Fife",10,91962,10.8740566755834,5.2058243791279004,19.9991592984608]
["SABHCAI202204Forth Valley",14,79270,17.661158067364699,9.6473327245417,29.634396224829999]
["SABHCAI202204Grampian",32,132046,24.233979067900599,16.5730425929716,34.2124750376816]
["SABHCAI202204Greater Glasgow & Clyde",86,443639,19.385130703116701,15.5050726163535,23.940835815459199]
["SABHCAI202204Highland",14,75533,18.534944990931098,10.124635127353899,31.100559871079898]
["SABHCAI202204Lanarkshire",24,149515,16.051901147042098,10.2816371566462,23.8851251294595]
["SABHCAI202204Lothian",42,248852,16.877501486827502,12.162461855866001,22.814171866469799]
["SABHCAI202204Golden Jubilee",1,13327,7.5035641929916697,9.80725927119908E-2,41.748753128499096]
["SABHCAI202204Orkney",0,3151,0,0,116.410583702171]
["SABHCAI202204Shetland",3,2878,104.239054899236,20.9503532644726,304.568656026371]
["SABHCAI202204Tayside",30,123441,24.303108367560199,16.393894545406202,34.695620324549203]
["SABHCAI202204Western Isles",2,6190,32.310177705977402,3.62864870863072,116.65559028279399]
["CDIHCAI202301Ayrshire & Arran",15,118331,12.676306293363499,7.0895786621607497,20.9089959413099]
["CDIHCAI202301Borders",2,32121,6.2264562124466902,0.699272610019119,22.480561123579498]
["CDIHCAI202301Dumfries & Galloway",7,45647,15.3350713080816,6.14362148789278,31.597724841256099]
["CDIHCAI202301Fife",11,89482,12.2929751234885,6.1281767271527103,21.9970615759749]
["CDIHCAI202301Forth Valley",15,78301,19.1568434630464,10.7140002384662,31.598349941011499]
["CDIHCAI202301Grampian",14,134646,10.3976352806619,5.6796641940675601,17.446627369118101]
["CDIHCAI202301Greater Glasgow & Clyde",52,447480,11.6206310896576,8.67817068281229,15.239288835504899]
["CDIHCAI202301Highland",18,76330,23.581815799816599,13.9688025516582,37.271643365307902]
["CDIHCAI202301Lanarkshire",25,153017,16.338053941718901,10.5701531317163,24.119334873226901]
["CDIHCAI202301Lothian",29,246989,11.7414135852204,7.8617212690714604,16.863339375273]
["CDIHCAI202301Golden Jubilee",0,12960,0,0,28.3032213924029]
["CDIHCAI202301Orkney",1,3304,30.266343825665899,0.39558518252805702,168.39758866328901]
["CDIHCAI202301Shetland",1,2452,40.783034257748803,0.53303974024172196,226.910943288543]
["CDIHCAI202301Tayside",21,121920,17.2244094488189,10.658035320087899,26.3307559088712]
["CDIHCAI202301Western Isles",0,5936,0,0,61.794095223305597]
["ECBHCAI202301Ayrshire & Arran",34,118331,28.732960931624,19.895197944207599,40.152910671747897]
["ECBHCAI202301Borders",14,32121,43.585193487126801,23.808227174571801,73.133420153241701]
["ECBHCAI202301Dumfries & Galloway",12,45647,26.288693670996999,13.5680977235561,45.924237343329402]
["ECBHCAI202301Fife",25,89482,27.938579826110299,18.0752902455894,41.244811965496602]
["ECBHCAI202301Forth Valley",47,78301,60.0247761842122,44.099892351521099,79.822406533923697]
["ECBHCAI202301Grampian",63,134646,46.789358762978502,35.952203049408901,59.865140442329199]
["ECBHCAI202301Greater Glasgow & Clyde",162,447480,36.202735317779599,30.842075972335,42.227115923461398]
["ECBHCAI202301Highland",18,76330,23.581815799816599,13.9688025516582,37.271643365307902]
["ECBHCAI202301Lanarkshire",60,153017,39.211329460125299,29.9205490639938,50.4738383026828]
["ECBHCAI202301Lothian",87,246989,35.224240755661199,28.212226302254699,43.449611277892998]
["ECBHCAI202301Golden Jubilee",5,12960,38.580246913580197,12.432946460759799,90.033191126077995]
["ECBHCAI202301Orkney",2,3304,60.532687651331699,6.7982250322106896,218.55269487000501]
["ECBHCAI202301Shetland",1,2452,40.783034257748803,0.53303974024172196,226.910943288543]
["ECBHCAI202301Tayside",53,121920,43.471128608923898,32.560414906280002,56.862688035937303]
["ECBHCAI202301Western Isles",5,5936,84.231805929919105,27.144707906241099,196.568422674186]
["SABHCAI202301Ayrshire & Arran",23,118331,19.437002983157399,12.3173498460506,29.166520245647]
["SABHCAI202301Borders",4,32121,12.4529124248934,3.3502082425041602,31.882203609908601]
["SABHCAI202301Dumfries & Galloway",6,45647,13.144346835498499,4.7997474985950497,28.610632174464399]
["SABHCAI202301Fife",16,89482,17.880691088710599,10.213685143825399,29.0389522311212]
["SABHCAI202301Forth Valley",13,78301,16.602597667973601,8.8315036758975296,28.392881867731401]
["SABHCAI202301Grampian",27,134646,20.052582326990802,13.2115493769415,29.176757952541099]
["SABHCAI202301Greater Glasgow & Clyde",77,447480,17.207472959685301,13.5793158862821,21.506748001724201]
["SABHCAI202301Highland",12,76330,15.721210533211099,8.1140175132603805,27.463692676679599]
["SABHCAI202301Lanarkshire",27,153017,17.6450982570564,11.625389841701701,25.673838536096302]
["SABHCAI202301Lothian",48,246989,19.4340638651924,14.327873340083499,25.767438518397]
["SABHCAI202301Golden Jubilee",3,12960,23.148148148148099,4.6524009795642103,67.634922225609202]
["SABHCAI202301Orkney",0,3304,0,0,111.019899892718]
["SABHCAI202301Shetland",2,2452,81.566068515497605,9.1604141543328392,294.49351706790202]
["SABHCAI202301Tayside",39,121920,31.988188976378002,22.743843988078801,43.730329901844001]
["SABHCAI202301Western Isles",3,5936,50.5390835579515,10.1575331359758,147.666541786371]
["CDIHCAI202302Ayrshire & Arran",17,115702,14.692918013517501,8.5541940261851206,23.526223157434501]
["CDIHCAI202302Borders",2,31141,6.4224013358594796,0.72127855580823097,23.188019133955098]
["CDIHCAI202302Dumfries & Galloway",6,45765,13.1104555883317,4.7873718795666598,28.536862818043801]
["CDIHCAI202302Fife",16,88856,18.0066624651121,10.2856416453563,29.24353474774]
["CDIHCAI202302Forth Valley",11,75633,14.543916015495901,7.2502943146388299,26.0248973852866]
["CDIHCAI202302Grampian",19,133105,14.274444987040299,8.5901120596582192,22.2925929021971]
["CDIHCAI202302Greater Glasgow & Clyde",69,445421,15.4909624826849,12.052308256671701,19.6051705605183]
["CDIHCAI202302Highland",14,75789,18.472337674332699,10.090436146069001,30.995508434499399]
["CDIHCAI202302Lanarkshire",39,151775,25.695931477516101,18.270001377213401,35.128326942070998]
["CDIHCAI202302Lothian",32,240019,13.332277861335999,9.1176281137390003,18.8219285924269]
["CDIHCAI202302Golden Jubilee",2,13181,15.173355587588199,1.7040691530554699,54.783256494233903]
["CDIHCAI202302Orkney",0,3469,0,0,105.73933388456101]
["CDIHCAI202302Shetland",0,2046,0,0,179.28140236830001]
["CDIHCAI202302Tayside",17,116874,14.5455789996064,8.4684134813360608,23.290304702170602]
["CDIHCAI202302Western Isles",0,5886,0,0,62.319019579602802]
["ECBHCAI202302Ayrshire & Arran",51,115702,44.078754040552496,32.816900162441698,57.956883157336598]
["ECBHCAI202302Borders",13,31141,41.745608683086601,22.2059525810492,71.391125626191794]
["ECBHCAI202302Dumfries & Galloway",25,45765,54.626898284715402,35.341704834607903,80.643903950542295]
["ECBHCAI202302Fife",26,88856,29.260826505807099,19.109140150501901,42.875863844644002]
["ECBHCAI202302Forth Valley",35,75633,46.276096412941399,32.228052655826197,64.361156552118899]
["ECBHCAI202302Grampian",41,133105,30.802749708876501,22.102014557154298,41.7887060793852]
["ECBHCAI202302Greater Glasgow & Clyde",156,445421,35.023045613026802,29.742348356963799,40.970849325504602]
["ECBHCAI202302Highland",18,75789,23.750148438427701,14.068515203632099,37.537697265750403]
["ECBHCAI202302Lanarkshire",70,151775,46.120902651951901,35.951800819378803,58.2720582848156]
["ECBHCAI202302Lothian",79,240019,32.914060970173203,26.057353944273601,41.021407973368603]
["ECBHCAI202302Golden Jubilee",1,13181,7.5866777937940997,9.9158898647500299E-2,42.211185262385797]
["ECBHCAI202302Orkney",1,3469,28.826751225136899,0.37676951371366402,160.38790226102799]
["ECBHCAI202302Shetland",1,2046,48.875855327468201,0.63881399954677498,271.93823702028698]
["ECBHCAI202302Tayside",64,116874,54.7598268220477,42.169424714938003,69.928485078878595]
["ECBHCAI202302Western Isles",0,5886,0,0,62.319019579602802]
["SABHCAI202302Ayrshire & Arran",26,115702,22.471521667732599,14.6753016993051,32.927501320458397]
["SABHCAI202302Borders",4,31141,12.844802671719,3.4556385137752801,32.885529114475297]
["SABHCAI202302Dumfries & Galloway",5,45765,10.9253796569431,3.5208343959673898,25.496124920659199]
["SABHCAI202302Fife",13,88856,14.630413252903599,7.7824296538945399,25.020156693135402]
["SABHCAI202302Forth Valley",14,75633,18.510438565176599,10.111248596173899,31.0594395137344]
["SABHCAI202302Grampian",19,133105,14.274444987040299,8.5901120596582192,22.2925929021971]
["SABHCAI202302Greater Glasgow & Clyde",91,445421,20.430109940932301,16.4485356573235,25.084000855048401]
["SABHCAI202302Highland",17,75789,22.430695747403998,13.059116193875999,35.915912226860002]
["SABHCAI202302Lanarkshire",25,151775,16.471750947125699,10.65665044807,24.316707391181499]
["SABHCAI202302Lothian",31,240019,12.915644178169201,8.7738831076678192,18.333456818303201]
["SABHCAI202302Golden Jubilee",4,13181,30.346711175176399,8.1641786630358908,77.694276773679903]
["SABHCAI202302Orkney",0,3469,0,0,105.73933388456101]
["SABHCAI202302Shetland",1,2046,48.875855327468201,0.63881399954677498,271.93823702028698]
["SABHCAI202302Tayside",29,116874,24.813046528740401,16.614120116764099,35.637176180838402]
["SABHCAI202302Western Isles",4,5886,67.957866123003697,18.282711341738999,173.98713254398101]
["CDIHCAI202303Ayrshire & Arran",21,115755,18.141764934560101,11.2256720333905,27.7331066511993]
["CDIHCAI202303Borders",4,32770,12.2062862374123,3.2838583752662802,31.2507861505607]
["CDIHCAI202303Dumfries & Galloway",15,45757,32.781869440741303,18.3341769056569,54.072216245189601]
["CDIHCAI202303Fife",4,86938,4.6009800087418604,1.23780209985824,11.779524053392899]
["CDIHCAI202303Forth Valley",10,74790,13.3707714935152,6.4010966914475196,24.5910240326922]
["CDIHCAI202303Grampian",12,130580,9.1897687241537795,4.7430154448396697,16.053788191231099]
["CDIHCAI202303Greater Glasgow & Clyde",71,443511,16.008622108583602,12.5022870597909,20.193064825564701]
["CDIHCAI202303Highland",24,76808,31.246745130715599,20.0143081381622,46.494954740796999]
["CDIHCAI202303Lanarkshire",27,151491,17.822840960849199,11.7424947845593,25.932456391982701]
["CDIHCAI202303Lothian",30,237856,12.6126732140455,8.50799953156314,18.006113230200899]
["CDIHCAI202303Golden Jubilee",1,13279,7.5306875517734797,9.8427098657481907E-2,41.899663599932801]
["CDIHCAI202303Orkney",0,3466,0,0,105.83085667788301]
["CDIHCAI202303Shetland",2,2180,91.743119266055004,10.303364911203699,331.23766231674102]
["CDIHCAI202303Tayside",17,116759,14.5599054462611,8.47675431630684,23.313244133312999]
["CDIHCAI202303Western Isles",1,5824,17.1703296703297,0.22441851701110899,95.533247414750505]
["ECBHCAI202303Ayrshire & Arran",48,115755,41.466891278994403,30.571699783109899,54.980552651897199]
["ECBHCAI202303Borders",21,32770,64.083002746414394,39.652965096890902,97.962946609996095]
["ECBHCAI202303Dumfries & Galloway",16,45757,34.967327403457404,19.9737957916774,56.788327983591401]
["ECBHCAI202303Fife",28,86938,32.206860061192998,21.3963301750236,46.549899646893302]
["ECBHCAI202303Forth Valley",36,74790,48.134777376654597,33.708085886441602,66.641152508649199]
["ECBHCAI202303Grampian",43,130580,32.930004594884402,23.8290553320928,44.357817796135599]
["ECBHCAI202303Greater Glasgow & Clyde",177,443511,39.908818496046301,34.245434308316099,46.241138663861797]
["ECBHCAI202303Highland",23,76808,29.9447974169357,18.976204622344099,44.934167107432302]
["ECBHCAI202303Lanarkshire",58,151491,38.286102804787099,29.070366267391901,49.494766264427597]
["ECBHCAI202303Lothian",69,237856,29.009148392304599,22.569753111104902,36.713619485052398]
["ECBHCAI202303Golden Jubilee",2,13279,15.061375103547,1.69149299694436,54.3789520182616]
["ECBHCAI202303Orkney",1,3466,28.851702250432801,0.37709562696846599,160.526726181046]
["ECBHCAI202303Shetland",1,2180,45.871559633027502,0.59954745095078099,255.222767405279]
["ECBHCAI202303Tayside",51,116759,43.679716338783301,32.519814169313101,57.432209038019799]
["ECBHCAI202303Western Isles",6,5824,103.021978021978,37.619174805695103,224.24270722317601]
["SABHCAI202303Ayrshire & Arran",23,115755,19.869552071184799,12.5914588970931,29.815589021533899]
["SABHCAI202303Borders",5,32770,15.2578577967653,4.9170273460923797,35.6066572167827]
["SABHCAI202303Dumfries & Galloway",13,45757,28.4109535153091,15.1127820732664,48.586905678371402]
["SABHCAI202303Fife",8,86938,9.2019600174837208,3.9621713907148899,18.132643368816002]
["SABHCAI202303Forth Valley",12,74790,16.044925792218201,8.2810931513192205,28.029197245767499]
["SABHCAI202303Grampian",25,130580,19.1453515086537,12.3863771002897,28.263656488716201]
["SABHCAI202303Greater Glasgow & Clyde",65,443511,14.655780803632799,11.310416970259499,18.680366219865601]
["SABHCAI202303Highland",13,76808,16.925320279137601,9.0031711452772196,28.944784958926601]
["SABHCAI202303Lanarkshire",43,151491,28.3845244932042,20.5398211462376,38.2349040393118]
["SABHCAI202303Lothian",40,237856,16.8168976187273,12.012779936924799,22.900569258839901]
["SABHCAI202303Golden Jubilee",1,13279,7.5306875517734797,9.8427098657481907E-2,41.899663599932801]
["SABHCAI202303Orkney",0,3466,0,0,105.83085667788301]
["SABHCAI202303Shetland",2,2180,91.743119266055004,10.303364911203699,331.23766231674102]
["SABHCAI202303Tayside",27,116759,23.124555708767598,15.235504564167799,33.646517624147499]
["SABHCAI202303Western Isles",1,5824,17.1703296703297,0.22441851701110899,95.533247414750505]
["CDIHCAI202304Ayrshire & Arran",14,115623,12.108317549276499,6.6141171313183396,20.317052738142699]
["CDIHCAI202304Borders",4,32143,12.444389136048301,3.3479152212760499,31.860382109755601]
["CDIHCAI202304Dumfries & Galloway",5,46695,10.7077845593747,3.4507117706702499,24.988331876945502]
["CDIHCAI202304Fife",2,90412,2.21209573950361,0.24843312288660899,7.9867506951565801]
["CDIHCAI202304Forth Valley",9,78075,11.527377521613801,5.2600973211939301,21.8840133983161]
["CDIHCAI202304Grampian",16,136406,11.7296893098544,6.7001522956452098,19.0494811338591]
["CDIHCAI202304Greater Glasgow & Clyde",54,447695,12.0617831336066,9.0605237635801696,15.738385982230399]
["CDIHCAI202304Highland",17,77892,21.8250911518513,12.706534139804701,34.946221329038799]
["CDIHCAI202304Lanarkshire",30,154158,19.4605534581403,13.1273027451023,27.782288745849598]
["CDIHCAI202304Lothian",45,240891,18.680648093951199,13.6244433125556,24.9968882115603]
["CDIHCAI202304Golden Jubilee",0,12987,0,0,28.244378936285699]
["CDIHCAI202304Orkney",1,3292,30.3766707168894,0.397027169827674,169.01143163533001]
["CDIHCAI202304Shetland",3,2641,113.59333585763,22.830411471091299,331.90026203858201]
["CDIHCAI202304Tayside",22,120534,18.2521114374367,11.4344243539422,27.635355896824201]
["CDIHCAI202304Western Isles",1,6724,14.8720999405116,0.19438034548969399,82.746227386006396]
["ECBHCAI202304Ayrshire & Arran",61,115623,52.7576693218477,40.3530400262608,67.770865902153105]
["ECBHCAI202304Borders",11,32143,34.222070124132799,17.060060041037801,61.237005380374598]
["ECBHCAI202304Dumfries & Galloway",19,46695,40.689581325623699,24.486280451885801,63.545466928941998]
["ECBHCAI202304Fife",34,90412,37.6056275715613,26.038785426005699,52.552029295874497]
["ECBHCAI202304Forth Valley",30,78075,38.424591738712799,25.919676421126901,54.855742151555198]
["ECBHCAI202304Grampian",41,136406,30.057328856501901,21.567149888054999,40.7774271124186]
["ECBHCAI202304Greater Glasgow & Clyde",140,447695,31.2712896056467,26.305552447320299,36.9016815686781]
["ECBHCAI202304Highland",21,77892,26.9604067169928,16.682427800353299,41.214062553401803]
["ECBHCAI202304Lanarkshire",43,154158,27.893459956667801,20.184473366706101,37.5734236810246]
["ECBHCAI202304Lothian",79,240891,32.7949155427143,25.9630290726951,40.872914805285198]
["ECBHCAI202304Golden Jubilee",1,12987,7.7000077000077001,0.100640135756734,42.841736578386602]
["ECBHCAI202304Orkney",1,3292,30.3766707168894,0.397027169827674,169.01143163533001]
["ECBHCAI202304Shetland",1,2641,37.864445285876599,0.49489339003131499,210.672333564372]
["ECBHCAI202304Tayside",56,120534,46.459920022566301,35.092922544791897,60.3334591258876]
["ECBHCAI202304Western Isles",6,6724,89.232599643069605,32.583889659186198,194.22806764839001]
["SABHCAI202304Ayrshire & Arran",18,115623,15.567836849069799,9.2216833914365601,24.605351340770898]
["SABHCAI202304Borders",4,32143,12.444389136048301,3.3479152212760499,31.860382109755601]
["SABHCAI202304Dumfries & Galloway",9,46695,19.274012206874399,8.7949908630948901,36.5905203142419]
["SABHCAI202304Fife",10,90412,11.060478697518001,5.29507168908287,20.342019725313602]
["SABHCAI202304Forth Valley",15,78075,19.212295869356399,10.7450135468734,31.689816186117699]
["SABHCAI202304Grampian",26,136406,19.0607451285134,12.447852420076799,27.9296933989684]
["SABHCAI202304Greater Glasgow & Clyde",91,447695,20.326338243670399,16.364987772972,24.956590412795599]
["SABHCAI202304Highland",10,77892,12.838288912853701,6.1461770342700204,23.611701938646501]
["SABHCAI202304Lanarkshire",35,154158,22.703979034497099,15.811727620480999,31.576871479303101]
["SABHCAI202304Lothian",48,240891,19.926024633548,14.690574194942499,26.4197245734393]
["SABHCAI202304Golden Jubilee",2,12987,15.4000154000154,1.72952456351922,55.601609598097802]
["SABHCAI202304Orkney",0,3292,0,0,111.42458968576599]
["SABHCAI202304Shetland",2,2641,75.728890571753098,8.5048600933071299,273.418441442823]
["SABHCAI202304Tayside",30,120534,24.8892428692319,16.789277188008999,35.532398065962099]
["SABHCAI202304Western Isles",1,6724,14.8720999405116,0.19438034548969399,82.746227386006396]
["CDIHCAI202401Ayrshire & Arran",18,115754,15.550218566961,9.2112471168864101,24.577505209962101]
["CDIHCAI202401Borders",4,32575,12.279355333845,3.3035161613960402,31.437859160517998]
["CDIHCAI202401Dumfries & Galloway",8,46826,17.0845256908555,7.3562391911752298,33.665394208305699]
["CDIHCAI202401Fife",4,91157,4.3880338317408398,1.1805131691200501,11.234334852549701]
["CDIHCAI202401Forth Valley",10,80573,12.411105457163099,5.9416680718523596,22.826042066263501]
["CDIHCAI202401Grampian",14,138503,10.1080843014231,5.5214981991322896,16.960777663604901]
["CDIHCAI202401Greater Glasgow & Clyde",57,457584,12.4567292562677,9.4339781865776402,16.139502583907898]
["CDIHCAI202401Highland",20,81678,24.4863978060188,14.9505532877587,37.819356297011304]
["CDIHCAI202401Lanarkshire",28,155401,18.017902072702199,11.9700269158898,26.042015016001201]
["CDIHCAI202401Lothian",29,243801,11.8949471085024,7.9645230106795699,17.083848421291599]
["CDIHCAI202401Golden Jubilee",0,13449,0,0,27.274128131871599]
["CDIHCAI202401Orkney",0,2994,0,0,122.514946307796]
["CDIHCAI202401Shetland",3,2362,127.01100762066,25.527145086855299,371.10439967988799]
["CDIHCAI202401Tayside",6,120867,4.9641341309042204,1.81268728493607,10.8051786415463]
["CDIHCAI202401Western Isles",0,7187,0,0,51.037950361143999]
["ECBHCAI202401Ayrshire & Arran",49,115754,42.331150543393697,31.314135531855499,55.965493608682102]
["ECBHCAI202401Borders",11,32575,33.7682271680737,16.8338145786363,60.424898355836802]
["ECBHCAI202401Dumfries & Galloway",13,46826,27.7623542476402,14.7677693872304,47.4777056149412]
["ECBHCAI202401Fife",38,91157,41.686321401538002,29.495806347074399,57.2196391445529]
["ECBHCAI202401Forth Valley",41,80573,50.885532374368601,36.512090248967098,69.034114687259603]
["ECBHCAI202401Grampian",44,138503,31.768264947329701,23.0804937556106,42.648652645993501]
["ECBHCAI202401Greater Glasgow & Clyde",144,457584,31.469631805307898,26.539282853881101,37.0500282917153]
["ECBHCAI202401Highland",13,81678,15.916158573912201,8.46636265979153,27.218970140371201]
["ECBHCAI202401Lanarkshire",62,155401,39.896783160983503,30.586866250647802,51.146939142856503]
["ECBHCAI202401Lothian",79,243801,32.403476605920403,25.653135288003799,40.385057158748197]
["ECBHCAI202401Golden Jubilee",2,13449,14.870994125957299,1.67011194188595,53.691583303628299]
["ECBHCAI202401Orkney",2,2994,66.800267201068806,7.5021160676099301,241.18173141299101]
["ECBHCAI202401Shetland",3,2362,127.01100762066,25.527145086855299,371.10439967988799]
["ECBHCAI202401Tayside",59,120867,48.8139856205581,37.157135729304699,62.967860978200399]
["ECBHCAI202401Western Isles",5,7187,69.570057047446795,22.419783794552298,162.35288117350399]
["SABHCAI202401Ayrshire & Arran",20,115754,17.2780206299566,10.549365822671801,26.685983928220999]
["SABHCAI202401Borders",2,32575,6.1396776669224904,0.68952679989022603,22.1672480076898]
["SABHCAI202401Dumfries & Galloway",10,46826,21.3556571135694,10.223765035522099,39.276527728293097]
["SABHCAI202401Fife",12,91157,13.1641014952225,6.7942446195812103,22.996628476265698]
["SABHCAI202401Forth Valley",16,80573,19.857768731460901,11.3430178104301,32.249804817310903]
["SABHCAI202401Grampian",32,138503,23.104192688967,15.8004085271187,32.617491887003901]
["SABHCAI202401Greater Glasgow & Clyde",67,457584,14.6421203538585,11.346864249120699,18.595332985429099]
["SABHCAI202401Highland",13,81678,15.916158573912201,8.46636265979153,27.218970140371201]
["SABHCAI202401Lanarkshire",32,155401,20.5918880830883,14.0823030883426,29.070729781827001]
["SABHCAI202401Lothian",34,243801,13.945800058244201,9.6563125989476095,19.488574996405301]
["SABHCAI202401Golden Jubilee",1,13449,7.4354970629786603,9.7182946172406998E-2,41.370037396349701]
["SABHCAI202401Orkney",0,2994,0,0,122.514946307796]
["SABHCAI202401Shetland",3,2362,127.01100762066,25.527145086855299,371.10439967988799]
["SABHCAI202401Tayside",28,120867,23.165959277553,15.3900911974004,33.482713854911701]
["SABHCAI202401Western Isles",1,7187,13.914011409489399,0.181857999592695,77.415560448519102]
["CDIHCAI202402Ayrshire & Arran",25,113391,22.0476051891244,14.264034374472701,32.548158710096601]
["CDIHCAI202402Borders",3,32316,9.2833271444485703,1.8657976449793301,27.124291126497599]
["CDIHCAI202402Dumfries & Galloway",8,46741,17.115594445989601,7.3696167468811398,33.726615801932397]
["CDIHCAI202402Fife",8,87541,9.1385750676825701,3.9348791579485201,18.007742077405101]
["CDIHCAI202402Forth Valley",17,77918,21.8178084653097,12.7022941710217,34.934560329596401]
["CDIHCAI202402Grampian",15,138962,10.7943178710727,6.0370240257922498,17.804740855277998]
["CDIHCAI202402Greater Glasgow & Clyde",82,446145,18.379674769413501,14.617362450736501,22.814379926680001]
["CDIHCAI202402Highland",20,79823,25.05543515027,15.297987941289501,38.6982371450245]
["CDIHCAI202402Lanarkshire",36,153774,23.410979749502498,16.394369291602999,32.411797807964099]
["CDIHCAI202402Lothian",39,238465,16.354601304174601,11.628245063328199,22.358005668055402]
["CDIHCAI202402Golden Jubilee",2,15094,13.250298131708,1.48809695948219,47.8400757818005]
["CDIHCAI202402Orkney",0,3134,0,0,117.042038687154]
["CDIHCAI202402Shetland",1,2439,41.000410004099997,0.53588087046851196,228.120390710745]
["CDIHCAI202402Tayside",8,114763,6.9708878297012102,3.001518401976,13.7362717007931]
["CDIHCAI202402Western Isles",0,6569,0,0,55.839511226296501]
["ECBHCAI202402Ayrshire & Arran",55,113391,48.504731416073597,36.5378247825751,63.137054206124198]
["ECBHCAI202402Borders",18,32316,55.699962866691401,32.994142182450503,88.035169515842099]
["ECBHCAI202402Dumfries & Galloway",23,46741,49.207334032220103,31.182994044479301,73.838888923806905]
["ECBHCAI202402Fife",45,87541,51.404484755714499,37.491070172888598,68.785202341428302]
["ECBHCAI202402Forth Valley",32,77918,41.068815934700602,28.085987605322501,57.979163721164603]
["ECBHCAI202402Grampian",59,138962,42.457650292885802,32.318702409247599,54.7684723366974]
["ECBHCAI202402Greater Glasgow & Clyde",157,446145,35.1903529121698,29.900658400516001,41.146017304516597]
["ECBHCAI202402Highland",23,79823,28.8137504228105,18.259453097891701,43.236955604119899]
["ECBHCAI202402Lanarkshire",57,153774,37.067384603378997,28.072609638345501,48.026182256785297]
["ECBHCAI202402Lothian",65,238465,27.257668840291,21.035767684552301,34.7428255825333]
["ECBHCAI202402Golden Jubilee",6,15094,39.7508943951239,14.515309001481899,86.523752939431304]
["ECBHCAI202402Orkney",3,3134,95.724313975749794,19.239028939104099,279.69004213270398]
["ECBHCAI202402Shetland",4,2439,164.00164001639999,44.121377186337,419.88038628695102]
["ECBHCAI202402Tayside",62,114763,54.0243806801844,41.417787982336797,69.258258234265696]
["ECBHCAI202402Western Isles",5,6569,76.115086010047193,24.528997736557699,177.62675551742601]
["SABHCAI202402Ayrshire & Arran",20,113391,17.638084151299498,10.769208239080299,27.242103726285901]
["SABHCAI202402Borders",6,32316,18.566654288897102,6.7797398832890199,40.413093417123903]
["SABHCAI202402Dumfries & Galloway",5,46741,10.6972465287435,3.4473157641352898,24.963739693074]
["SABHCAI202402Fife",18,87541,20.5617939022858,12.179877985950201,32.498424030727897]
["SABHCAI202402Forth Valley",8,77918,10.267203983675101,4.4208431474880197,20.231727575118999]
["SABHCAI202402Grampian",21,138962,15.1120450195017,9.3509568531333507,23.101608788082899]
["SABHCAI202402Greater Glasgow & Clyde",83,446145,18.6038171446503,14.817301161542201,23.062587150037299]
["SABHCAI202402Highland",7,79823,8.7694023025944894,3.5132466840114001,18.0692450274835]
["SABHCAI202402Lanarkshire",32,153774,20.8097597773356,14.2313003643758,29.378311540479501]
["SABHCAI202402Lothian",34,238465,14.2578575472292,9.8723865889586602,19.924660108186099]
["SABHCAI202402Golden Jubilee",5,15094,33.125745329269897,10.675168022488901,77.304237246188606]
["SABHCAI202402Orkney",0,3134,0,0,117.042038687154]
["SABHCAI202402Shetland",0,2439,0,0,150.393501125683]
["SABHCAI202402Tayside",29,114763,25.269468382666901,16.9197273905936,36.292701732782398]
["SABHCAI202402Western Isles",2,6569,30.446034404018899,3.4192929679440001,109.925118564545]
["SSICSEC201401Ayrshire & Arran",3,245,1.22448979591837,0.41728721193302398,3.5376785172698102]
["SSICSEC201401Borders",1,76,1.31578947368421,0.232642014056747,7.0838446294974897]
["SSICSEC201401Dumfries & Galloway",1,78,1.2820512820512799,0.22666733888537799,6.9110230288493701]
["SSICSEC201401Fife",10,196,5.1020408163265296,2.7945905632825698,9.1356581937329793]
["SSICSEC201401Forth Valley",4,195,2.0512820512820502,0.80051211290779101,5.1547809444806001]
["SSICSEC201401Grampian",4,429,0.93240093240093203,0.36316715369947999,2.3726142499364]
["SSICSEC201401Greater Glasgow & Clyde",15,1219,1.23051681706317,0.74710553167944205,2.02035020420655]
["SSICSEC201401Highland",3,141,2.12765957446809,0.72618123442535398,6.0685517704572201]
["SSICSEC201401Lanarkshire",3,362,0.82872928176795602,0.28222996329250799,2.40789603659378]
["SSICSEC201401Lothian",4,718,0.55710306406685195,0.21684994613967801,1.4236207610071501]
["SSICSEC201401Orkney",0,10,0,0,27.754016876661701]
["SSICSEC201401Shetland",1,6,16.6666666666667,3.00525858717302,56.350943656364599]
["SSICSEC201401Tayside",12,310,3.87096774193548,2.2279693230821498,6.6432574358943501]
["SSICSEC201401Western Isles",0,13,0,0,22.810184305529202]
["SSICSEC201402Ayrshire & Arran",4,270,1.4814814814814801,0.57757844395600499,3.7466732402293101]
["SSICSEC201402Borders",1,74,1.35135135135135,0.238940187493933,7.2655304297595702]
["SSICSEC201402Dumfries & Galloway",2,54,3.7037037037037002,1.0216153585413099,12.5354093434033]
["SSICSEC201402Fife",6,221,2.71493212669683,1.25007267430123,5.7955985893795203]
["SSICSEC201402Forth Valley",3,203,1.47783251231527,0.50383780986007498,4.2541992581185104]
["SSICSEC201402Grampian",7,431,1.6241299303944301,0.78889685019011702,3.3141144532362299]
["SSICSEC201402Greater Glasgow & Clyde",12,1311,0.91533180778031997,0.52437153731209796,1.59311546644562]
["SSICSEC201402Highland",4,156,2.5641025641025599,1.0015304054574601,6.4068038454509404]
["SSICSEC201402Lanarkshire",5,364,1.3736263736263701,0.58811153842226904,3.1748125027954699]
["SSICSEC201402Lothian",3,654,0.45871559633027498,0.15612191580213,1.3399221166822901]
["SSICSEC201402Orkney",0,11,0,0,25.884001724881401]
["SSICSEC201402Shetland",3,13,23.076923076923102,8.1793790924657106,50.256873995126902]
["SSICSEC201402Tayside",8,326,2.4539877300613502,1.2485928555014201,4.7669006419834403]
["SSICSEC201402Western Isles",0,15,0,0,20.388926630434799]
["SSICSEC201403Ayrshire & Arran",1,297,0.336700336700337,5.94590937371186E-2,1.8822936425865799]
["SSICSEC201403Borders",1,50,2,0.35391680889764598,10.495686471837001]
["SSICSEC201403Dumfries & Galloway",1,69,1.4492753623188399,0.25628586443303802,7.7633073350573598]
["SSICSEC201403Fife",12,246,4.8780487804878003,2.8121334959833799,8.3315671527476507]
["SSICSEC201403Forth Valley",3,256,1.171875,0.39932148218063901,3.3882167718941498]
["SSICSEC201403Grampian",4,462,0.86580086580086602,0.33718801505305401,2.20479191975741]
["SSICSEC201403Greater Glasgow & Clyde",17,1386,1.2265512265512299,0.76719062554901896,1.9555369140497401]
["SSICSEC201403Highland",2,206,0.970873786407767,0.26664806235500899,3.47026587653985]
["SSICSEC201403Lanarkshire",7,413,1.6949152542372901,0.82337882258794903,3.4568081836993301]
["SSICSEC201403Lothian",6,785,0.76433121019108297,0.35075221935333301,1.65745830098434]
["SSICSEC201403Orkney",0,9,0,0,29.915275355095901]
["SSICSEC201403Shetland",0,10,0,0,27.754016876661701]
["SSICSEC201403Tayside",4,354,1.1299435028248599,0.44025902383201798,2.8689146440702]
["SSICSEC201403Western Isles",0,20,0,0,16.113012549493298]
["SSICSEC201404Ayrshire & Arran",11,312,3.52564102564103,1.97984531919845,6.20197746792015]
["SSICSEC201404Borders",0,56,0,0,6.4196144488115303]
["SSICSEC201404Dumfries & Galloway",1,67,1.4925373134328399,0.26395037576767799,7.9820519731346602]
["SSICSEC201404Fife",4,249,1.6064257028112401,0.62642498922162304,4.0569815388180697]
["SSICSEC201404Forth Valley",1,257,0.38910505836575898,6.8717882631641802E-2,2.1708021939205602]
["SSICSEC201404Grampian",11,427,2.5761124121779901,1.44441795919298,4.5535172448356001]
["SSICSEC201404Greater Glasgow & Clyde",18,1334,1.3493253373313301,0.85519128864661698,2.12285932661307]
["SSICSEC201404Highland",0,169,0,0,2.2226130746301802]
["SSICSEC201404Lanarkshire",4,386,1.03626943005181,0.40369574891110899,2.6338456525196299]
["SSICSEC201404Lothian",7,684,1.0233918128655,0.49659101092813501,2.09726199243776]
["SSICSEC201404Orkney",0,9,0,0,29.915275355095901]
["SSICSEC201404Shetland",0,11,0,0,25.884001724881401]
["SSICSEC201404Tayside",2,288,0.69444444444444398,0.19064476108571399,2.4962922622858699]
["SSICSEC201404Western Isles",2,12,16.6666666666667,4.69641476148223,44.8036357384673]
["SSICSEC201501Ayrshire & Arran",1,287,0.348432055749129,6.1531732199650899E-2,1.94698424350671]
["SSICSEC201501Borders",1,70,1.4285714285714299,0.25261814032348701,7.6583697039269101]
["SSICSEC201501Dumfries & Galloway",1,56,1.78571428571429,0.31591289644639903,9.4458581791932907]
["SSICSEC201501Fife",4,227,1.7621145374449301,0.68732064944395699,4.4424306605452299]
["SSICSEC201501Forth Valley",3,226,1.3274336283185799,0.452447424360158,3.8294580270463801]
["SSICSEC201501Grampian",8,396,2.0202020202020199,1.02713228654455,3.93523281003369]
["SSICSEC201501Greater Glasgow & Clyde",12,1265,0.94861660079051402,0.54346792533813404,1.65078547871167]
["SSICSEC201501Highland",1,138,0.72463768115941996,0.12802778322552699,3.99036907636996]
["SSICSEC201501Lanarkshire",3,352,0.85227272727272696,0.29025935712663797,2.4754656171315701]
["SSICSEC201501Lothian",6,626,0.95846645367412098,0.43998718910578999,2.0751848795540102]
["SSICSEC201501Orkney",0,13,0,0,22.810184305529202]
["SSICSEC201501Shetland",0,9,0,0,29.915275355095901]
["SSICSEC201501Tayside",7,288,2.4305555555555598,1.1822290962542099,4.9312242291113302]
["SSICSEC201501Western Isles",0,13,0,0,22.810184305529202]
["SSICSEC201502Ayrshire & Arran",2,304,0.65789473684210498,0.18060048117778901,2.3666835765973802]
["SSICSEC201502Borders",1,74,1.35135135135135,0.238940187493933,7.2655304297595702]
["SSICSEC201502Dumfries & Galloway",0,70,0,0,5.2024874867283497]
["SSICSEC201502Fife",11,236,4.6610169491525397,2.6222520430890301,8.1521924235923109]
["SSICSEC201502Forth Valley",2,237,0.84388185654008396,0.231723870571898,3.02419205093004]
["SSICSEC201502Grampian",2,431,0.46403712296983801,0.12734542542699601,1.67597789966426]
["SSICSEC201502Greater Glasgow & Clyde",13,1353,0.96082779009608299,0.56236232912036099,1.63698061555351]
["SSICSEC201502Highland",3,155,1.93548387096774,0.66037571177800503,5.53548230022892]
["SSICSEC201502Lanarkshire",6,371,1.6172506738544501,0.74324385743815802,3.4829679611006599]
["SSICSEC201502Lothian",6,748,0.80213903743315496,0.36812606778199702,1.73891350012699]
["SSICSEC201502Orkney",0,10,0,0,27.754016876661701]
["SSICSEC201502Shetland",0,6,0,0,39.0343033653064]
["SSICSEC201502Tayside",10,355,2.8169014084507,1.5371278342861801,5.1069178950829901]
["SSICSEC201502Western Isles",0,8,0,0,32.441561951087699]
["SSICSEC201503Ayrshire & Arran",1,297,0.336700336700337,5.94590937371186E-2,1.8822936425865799]
["SSICSEC201503Borders",0,79,0,0,4.63728368355995]
["SSICSEC201503Dumfries & Galloway",0,63,0,0,5.7473190348525502]
["SSICSEC201503Fife",6,249,2.4096385542168699,1.1089167193471401,5.1565079576047603]
["SSICSEC201503Forth Valley",8,253,3.1620553359683798,1.6107829176763,6.11444539424825]
["SSICSEC201503Grampian",6,470,1.27659574468085,0.58634510811342999,2.7568818267947801]
["SSICSEC201503Greater Glasgow & Clyde",15,1421,1.05559465165376,0.64073410153731103,1.7343790338456]
["SSICSEC201503Highland",4,182,2.1978021978022002,0.85790927107843096,5.5139687153358103]
["SSICSEC201503Lanarkshire",3,354,0.84745762711864403,0.28861713548616602,2.4616500218258999]
["SSICSEC201503Lothian",6,759,0.79051383399209496,0.36278369298365198,1.7138728501309299]
["SSICSEC201503Orkney",0,11,0,0,25.884001724881401]
["SSICSEC201503Shetland",0,10,0,0,27.754016876661701]
["SSICSEC201503Tayside",7,347,2.0172910662824202,0.98052467864097204,4.1048471814805199]
["SSICSEC201503Western Isles",0,16,0,0,19.361341827272]
["SSICSEC201504Ayrshire & Arran",1,331,0.30211480362537801,5.3349230640992298E-2,1.6912368661880799]
["SSICSEC201504Borders",0,63,0,0,5.7473190348525502]
["SSICSEC201504Dumfries & Galloway",1,63,1.5873015873015901,0.28074219075510898,8.4587254461656105]
["SSICSEC201504Fife",6,228,2.6315789473684199,1.21151850701061,5.6214226045069102]
["SSICSEC201504Forth Valley",4,244,1.63934426229508,0.63929791489078602,4.1385924796192599]
["SSICSEC201504Grampian",3,476,0.630252100840336,0.21456545517630801,1.8364447115120299]
["SSICSEC201504Greater Glasgow & Clyde",21,1341,1.5659955257270699,1.0265071214936701,2.3821917170907398]
["SSICSEC201504Highland",4,178,2.2471910112359601,0.87726322523310696,5.6347780238540102]
["SSICSEC201504Lanarkshire",4,352,1.13636363636364,0.44276539143329402,2.88500741534365]
["SSICSEC201504Lothian",6,716,0.83798882681564202,0.38460221766935998,1.81610415995594]
["SSICSEC201504Orkney",0,8,0,0,32.441561951087699]
["SSICSEC201504Shetland",0,10,0,0,27.754016876661701]
["SSICSEC201504Tayside",10,273,3.6630036630036602,2.0016061932134601,6.6103943153806304]
["SSICSEC201504Western Isles",0,17,0,0,18.432366037156498]
["SSICSEC201601Ayrshire & Arran",3,272,1.1029411764705901,0.37578832635763199,3.19205640772164]
["SSICSEC201601Borders",0,72,0,0,5.0652939811396402]
["SSICSEC201601Dumfries & Galloway",3,59,5.0847457627118704,1.74424011594533,13.9167233222867]
["SSICSEC201601Fife",7,215,3.2558139534883699,1.5858764177717499,6.5668696780345304]
["SSICSEC201601Forth Valley",2,208,0.96153846153846201,0.26408026954240099,3.4375534039192801]
["SSICSEC201601Grampian",5,438,1.1415525114155201,0.488554334078032,2.6441520475754801]
["SSICSEC201601Greater Glasgow & Clyde",12,1265,0.94861660079051402,0.54346792533813404,1.65078547871167]
["SSICSEC201601Highland",2,162,1.2345679012345701,0.33921144271845999,4.3891558668106301]
["SSICSEC201601Lanarkshire",0,340,0,0,1.11725864467825]
["SSICSEC201601Lothian",15,696,2.1551724137931001,1.3103271466052999,3.52528136823577]
["SSICSEC201601Orkney",0,8,0,0,32.441561951087699]
["SSICSEC201601Shetland",1,8,12.5,2.2416908863296201,47.089480576986098]
["SSICSEC201601Tayside",8,267,2.9962546816479398,1.5258945377770801,5.8000110838113299]
["SSICSEC201601Western Isles",0,13,0,0,22.810184305529202]
["SSICSEC201602Ayrshire & Arran",4,300,1.3333333333333299,0.51968776846794695,3.3776060846449898]
["SSICSEC201602Borders",0,78,0,0,4.6939453774119801]
["SSICSEC201602Dumfries & Galloway",0,67,0,0,5.42280242117626]
["SSICSEC201602Fife",8,243,3.2921810699588501,1.6774396733680199,6.3607516201578704]
["SSICSEC201602Forth Valley",5,235,2.12765957446809,0.91213804718214297,4.8831672932610601]
["SSICSEC201602Grampian",2,475,0.42105263157894701,0.115541442940345,1.5220773437314901]
["SSICSEC201602Greater Glasgow & Clyde",22,1425,1.54385964912281,1.02172204891172,2.3265567246066299]
["SSICSEC201602Highland",6,178,3.3707865168539302,1.5538228306884501,7.1579350948907399]
["SSICSEC201602Lanarkshire",3,396,0.75757575757575801,0.25796722207853001,2.2034074823044101]
["SSICSEC201602Lothian",11,717,1.53417015341702,0.8587689681131,2.7261517689808699]
["SSICSEC201602Orkney",0,7,0,0,35.433884297520699]
["SSICSEC201602Shetland",0,10,0,0,27.754016876661701]
["SSICSEC201602Tayside",17,300,5.6666666666666696,3.5677175913187802,8.8866665351471195]
["SSICSEC201602Western Isles",0,17,0,0,18.432366037156498]
["SSICSEC201603Ayrshire & Arran",5,267,1.87265917602996,0.80246300161914796,4.3081256228757603]
["SSICSEC201603Borders",0,51,0,0,7.0049013887268101]
["SSICSEC201603Dumfries & Galloway",0,71,0,0,5.1329741747904896]
["SSICSEC201603Fife",9,239,3.7656903765690402,1.9935502964405301,7.00062533079962]
["SSICSEC201603Forth Valley",1,240,0.41666666666666702,7.3587908975014604E-2,2.3220656628519398]
["SSICSEC201603Grampian",5,490,1.0204081632653099,0.43661646935717602,2.3662255755414301]
["SSICSEC201603Greater Glasgow & Clyde",25,1378,1.8142235123367201,1.23183127633288,2.6645342694720799]
["SSICSEC201603Highland",5,171,2.9239766081871301,1.2552617212789401,6.6613896934873402]
["SSICSEC201603Lanarkshire",7,405,1.7283950617283901,0.83969089321309398,3.52424858848349]
["SSICSEC201603Lothian",9,749,1.2016021361815801,0.63342575163697701,2.2677954348649401]
["SSICSEC201603Orkney",0,12,0,0,24.2500757499242]
["SSICSEC201603Shetland",1,15,6.6666666666666696,1.1866588606194901,29.817077552423999]
["SSICSEC201603Tayside",4,343,1.1661807580174901,0.45440648001455097,2.9597168546719499]
["SSICSEC201603Western Isles",0,15,0,0,20.388926630434799]
["SSICSEC201604Ayrshire & Arran",2,313,0.63897763578274802,0.17540229665585899,2.2995252381123001]
["SSICSEC201604Borders",0,61,0,0,5.9245916201944402]
["SSICSEC201604Dumfries & Galloway",2,88,2.2727272727272698,0.62547971441379202,7.9126990629594198]
["SSICSEC201604Fife",7,243,2.8806584362139902,1.40223940655381,5.8257156869150304]
["SSICSEC201604Forth Valley",1,256,0.390625,6.8986441602360907E-2,2.1791524245376301]
["SSICSEC201604Grampian",3,444,0.67567567567567599,0.2300471942492,1.9675155154231501]
["SSICSEC201604Greater Glasgow & Clyde",14,1269,1.1032308904649299,0.65829200553462297,1.8433232779382001]
["SSICSEC201604Highland",2,165,1.2121212121212099,0.33303221439865399,4.3113208360344197]
["SSICSEC201604Lanarkshire",10,364,2.7472527472527499,1.4989511079679001,4.9825344010120496]
["SSICSEC201604Lothian",6,742,0.80862533692722405,0.371106946233563,1.7528829197111599]
["SSICSEC201604Orkney",0,9,0,0,29.915275355095901]
["SSICSEC201604Shetland",0,5,0,0,43.449149475208102]
["SSICSEC201604Tayside",4,282,1.4184397163120599,0.55294048678998298,3.5897735198486602]
["SSICSEC201604Western Isles",0,17,0,0,18.432366037156498]
["SSICSEC201701Ayrshire & Arran",1,252,0.39682539682539703,7.0082002160106002E-2,2.2132057821564399]
["SSICSEC201701Borders",0,54,0,0,6.6415866781001904]
["SSICSEC201701Dumfries & Galloway",2,55,3.6363636363636398,1.0029330855724901,12.3236929749017]
["SSICSEC201701Fife",4,213,1.8779342723004699,0.73264337100197796,4.7283013923644601]
["SSICSEC201701Forth Valley",3,211,1.4218009478672999,0.48468910696572398,4.0961741895280603]
["SSICSEC201701Grampian",6,406,1.47783251231527,0.67900841627576103,3.1862897867373099]
["SSICSEC201701Greater Glasgow & Clyde",20,1349,1.4825796886582701,0.96176234978499098,2.2789422530303001]
["SSICSEC201701Highland",6,169,3.55029585798817,1.63708166497775,7.5283044457733697]
["SSICSEC201701Lanarkshire",8,380,2.1052631578947398,1.0705329512416899,4.098682683541]
["SSICSEC201701Lothian",5,677,0.73855243722304298,0.31586139645717198,1.71715186242713]
["SSICSEC201701Orkney",0,0,0,0,0]
["SSICSEC201701Shetland",0,7,0,0,35.433884297520699]
["SSICSEC201701Tayside",3,259,1.15830115830116,0.39468710701741,3.3496212520855599]
["SSICSEC201701Western Isles",0,15,0,0,20.388926630434799]
["SSICSEC201702Ayrshire & Arran",4,283,1.4134275618374601,0.550981869272826,3.5772896227283399]
["SSICSEC201702Borders",0,68,0,0,5.3473196588049303]
["SSICSEC201702Dumfries & Galloway",1,74,1.35135135135135,0.238940187493933,7.2655304297595702]
["SSICSEC201702Fife",6,201,2.98507462686567,1.37510131622461,6.3584840492480303]
["SSICSEC201702Forth Valley",1,233,0.42918454935622302,7.5799878717434696E-2,2.3906587163942299]
["SSICSEC201702Grampian",7,416,1.6826923076923099,0.81742400887461897,3.4321786984321401]
["SSICSEC201702Greater Glasgow & Clyde",10,1316,0.75987841945288803,0.413266230785033,1.39313235522711]
["SSICSEC201702Highland",3,176,1.7045454545454499,0.58135373431719795,4.8910175079315401]
["SSICSEC201702Lanarkshire",3,373,0.80428954423592502,0.27389556667679898,2.3377057002746202]
["SSICSEC201702Lothian",5,658,0.75987841945288803,0.32499395023750899,1.7663825966583]
["SSICSEC201702Orkney",1,12,8.3333333333333304,1.4864709450773499,35.388592179859501]
["SSICSEC201702Shetland",0,8,0,0,32.441561951087699]
["SSICSEC201702Tayside",10,284,3.52112676056338,1.9236303199462499,6.3592586022943101]
["SSICSEC201702Western Isles",0,13,0,0,22.810184305529202]
["SSICSEC201703Ayrshire & Arran",5,314,1.5923566878980899,0.68201786238073903,3.6728557602035901]
["SSICSEC201703Borders",0,80,0,0,4.5819736264575104]
["SSICSEC201703Dumfries & Galloway",0,88,0,0,4.1828539572481302]
["SSICSEC201703Fife",11,244,4.5081967213114797,2.5356453605252698,7.8910142478697702]
["SSICSEC201703Forth Valley",5,259,1.93050193050193,0.82733248399599502,4.4388049919591097]
["SSICSEC201703Grampian",8,490,1.6326530612244901,0.82955102980736695,3.1882554895300101]
["SSICSEC201703Greater Glasgow & Clyde",12,1360,0.88235294117647101,0.50545263519847805,1.5359574523072801]
["SSICSEC201703Highland",2,186,1.0752688172042999,0.29536830046733897,3.8352332115300301]
["SSICSEC201703Lanarkshire",1,379,0.26385224274406299,4.6590394921568301E-2,1.47926259493115]
["SSICSEC201703Lothian",10,765,1.3071895424836599,0.71155590112169897,2.3894209450843298]
["SSICSEC201703Orkney",0,9,0,0,29.915275355095901]
["SSICSEC201703Shetland",0,12,0,0,24.2500757499242]
["SSICSEC201703Tayside",4,314,1.2738853503184699,0.49646609086979798,3.2291632792315399]
["SSICSEC201703Western Isles",0,14,0,0,21.531701192718099]
["SSICSEC201704Ayrshire & Arran",2,299,0.668896321070234,0.183623721835913,2.4057167122391898]
["SSICSEC201704Borders",1,70,1.4285714285714299,0.25261814032348701,7.6583697039269101]
["SSICSEC201704Dumfries & Galloway",0,75,0,0,4.8725545904700098]
["SSICSEC201704Fife",9,227,3.9647577092511002,2.09963562834298,7.3620905076741003]
["SSICSEC201704Forth Valley",4,227,1.7621145374449301,0.68732064944395699,4.4424306605452299]
["SSICSEC201704Grampian",6,467,1.2847965738758,0.59012008171116204,2.7744084561240698]
["SSICSEC201704Greater Glasgow & Clyde",17,1311,1.2967200610221199,0.81116307164889101,2.0668718186375101]
["SSICSEC201704Highland",3,149,2.0134228187919501,0.68705867460202097,5.7520259725097604]
["SSICSEC201704Lanarkshire",7,387,1.80878552971576,0.87886644531786295,3.6860519257050801]
["SSICSEC201704Lothian",10,686,1.45772594752187,0.79369267402364296,2.6624050736332099]
["SSICSEC201704Orkney",0,2,0,0,65.7628047110381]
["SSICSEC201704Shetland",0,6,0,0,39.0343033653064]
["SSICSEC201704Tayside",7,301,2.32558139534884,1.13096665746159,4.72177784984975]
["SSICSEC201704Western Isles",0,17,0,0,18.432366037156498]
["SSICSEC201801Ayrshire & Arran",3,319,0.94043887147335403,0.32033371501954899,2.72809622709448]
["SSICSEC201801Borders",0,57,0,0,6.3141008783463901]
["SSICSEC201801Dumfries & Galloway",2,72,2.7777777777777799,0.76508614661404695,9.5743581689067199]
["SSICSEC201801Fife",7,209,3.3492822966507201,1.63166582715798,6.7509060009057098]
["SSICSEC201801Forth Valley",9,231,3.8961038961039001,2.0630411424086699,7.2375257077575696]
["SSICSEC201801Grampian",3,392,0.76530612244898,0.26060292856977801,2.22564409549237]
["SSICSEC201801Greater Glasgow & Clyde",10,1255,0.79681274900398402,0.43337913562098501,1.4605525552287599]
["SSICSEC201801Highland",7,184,3.8043478260869601,1.85481083464146,7.6434046831139302]
["SSICSEC201801Lanarkshire",3,276,1.0869565217391299,0.37033214515708801,3.1465145281037898]
["SSICSEC201801Lothian",12,679,1.7673048600883701,1.0138017809148501,3.0635127822283499]
["SSICSEC201801Orkney",1,3,33.3333333333333,6.1490315276160503,79.234504487351202]
["SSICSEC201801Shetland",0,7,0,0,35.433884297520699]
["SSICSEC201801Tayside",7,279,2.5089605734767,1.2205289798926,5.0874540042229004]
["SSICSEC201801Western Isles",0,12,0,0,24.2500757499242]
["SSICSEC201802Ayrshire & Arran",2,302,0.66225165562913901,0.18179775208326299,2.3821438438278202]
["SSICSEC201802Borders",0,71,0,0,5.1329741747904896]
["SSICSEC201802Dumfries & Galloway",2,78,2.5641025641025599,0.70599454465853695,8.8754408133989795]
["SSICSEC201802Fife",7,223,3.1390134529148002,1.5286775668413,6.3365464485068497]
["SSICSEC201802Forth Valley",4,255,1.5686274509803899,0.61164565265361603,3.9631985764038502]
["SSICSEC201802Grampian",6,498,1.2048192771084301,0.55330979020214199,2.6033834771555302]
["SSICSEC201802Greater Glasgow & Clyde",15,1259,1.1914217633042099,0.72332669879570299,1.95647098921204]
["SSICSEC201802Highland",2,154,1.2987012987013,0.35686878843140901,4.6111497820848601]
["SSICSEC201802Lanarkshire",4,341,1.17302052785924,0.45707700627074399,2.9768474390397999]
["SSICSEC201802Lothian",11,701,1.5691868758915799,0.87841911385432103,2.7878798106132501]
["SSICSEC201802Orkney",0,10,0,0,27.754016876661701]
["SSICSEC201802Shetland",0,10,0,0,27.754016876661701]
["SSICSEC201802Tayside",8,268,2.98507462686567,1.5201721789723099,5.77878427213746]
["SSICSEC201802Western Isles",0,21,0,0,15.4643823264202]
["SSICSEC201803Ayrshire & Arran",0,294,0,0,1.28981310871282]
["SSICSEC201803Borders",0,60,0,0,6.0173930477932904]
["SSICSEC201803Dumfries & Galloway",0,64,0,0,5.6626022971156296]
["SSICSEC201803Fife",5,220,2.2727272727272698,0.97457484920653004,5.209083594979]
["SSICSEC201803Forth Valley",6,228,2.6315789473684199,1.21151850701061,5.6214226045069102]
["SSICSEC201803Grampian",3,493,0.60851926977687598,0.207159080774131,1.7736734421064]
["SSICSEC201803Greater Glasgow & Clyde",18,1394,1.29124820659971,0.81831426116327699,2.03190853947451]
["SSICSEC201803Highland",5,185,2.7027027027027,1.1598213771871,6.1699195273593599]
["SSICSEC201803Lanarkshire",11,380,2.8947368421052602,1.6239022863567201,5.1084581456548204]
["SSICSEC201803Lothian",12,667,1.79910044977511,1.0320927657865799,3.11815671188445]
["SSICSEC201803Orkney",0,2,0,0,65.7628047110381]
["SSICSEC201803Shetland",0,8,0,0,32.441561951087699]
["SSICSEC201803Tayside",6,279,2.1505376344085998,0.98923583992587805,4.6116375818055797]
["SSICSEC201803Western Isles",0,19,0,0,16.818436536845098]
["SSICSEC201804Ayrshire & Arran",4,294,1.3605442176870699,0.53031852542000602,3.4454860633278401]
["SSICSEC201804Borders",0,67,0,0,5.42280242117626]
["SSICSEC201804Dumfries & Galloway",1,83,1.2048192771084301,0.212992258770482,6.5137377876588802]
["SSICSEC201804Fife",4,238,1.6806722689075599,0.65546146613853096,4.24096660909749]
["SSICSEC201804Forth Valley",5,253,1.97628458498024,0.84702028091023496,4.5421378616959496]
["SSICSEC201804Grampian",7,462,1.51515151515152,0.73582597708559205,3.0941454123308998]
["SSICSEC201804Greater Glasgow & Clyde",16,1365,1.17216117216117,0.72277783343117197,1.8956113213110599]
["SSICSEC201804Highland",2,167,1.19760479041916,0.32903629932488299,4.2609464683382603]
["SSICSEC201804Lanarkshire",7,387,1.80878552971576,0.87886644531786295,3.6860519257050801]
["SSICSEC201804Lothian",8,705,1.1347517730496499,0.57608727025294504,2.2230712441457601]
["SSICSEC201804Orkney",0,13,0,0,22.810184305529202]
["SSICSEC201804Shetland",0,5,0,0,43.449149475208102]
["SSICSEC201804Tayside",5,299,1.6722408026755899,0.71633186851657404,3.8542423194417501]
["SSICSEC201804Western Isles",0,8,0,0,32.441561951087699]
["SSICSEC201901Ayrshire & Arran",3,255,1.1764705882352899,0.40089055408692098,3.4012803488900398]
["SSICSEC201901Borders",0,68,0,0,5.3473196588049303]
["SSICSEC201901Dumfries & Galloway",0,72,0,0,5.0652939811396402]
["SSICSEC201901Fife",12,185,6.4864864864864904,3.74909999996015,10.994261632222599]
["SSICSEC201901Forth Valley",7,203,3.4482758620689702,1.68017815534496,6.9455528388070897]
["SSICSEC201901Grampian",9,456,1.9736842105263199,1.0417557220878599,3.7080537775311302]
["SSICSEC201901Greater Glasgow & Clyde",9,1306,0.68912710566615598,0.36296824090774799,1.3045310964167001]
["SSICSEC201901Highland",5,159,3.1446540880503102,1.3505186979646999,7.1495206040318502]
["SSICSEC201901Lanarkshire",7,367,1.9073569482288799,0.92691655049320099,3.8841941771058601]
["SSICSEC201901Lothian",10,686,1.45772594752187,0.79369267402364296,2.6624050736332099]
["SSICSEC201901Orkney",0,4,0,0,48.990002040399901]
["SSICSEC201901Shetland",0,6,0,0,39.0343033653064]
["SSICSEC201901Tayside",2,269,0.74349442379182196,0.20412607015241499,2.6699224620362201]
["SSICSEC201901Western Isles",0,15,0,0,20.388926630434799]
["SSICSEC201902Ayrshire & Arran",2,279,0.71684587813620104,0.19680150212168801,2.5756336700736302]
["SSICSEC201902Borders",0,74,0,0,4.9351503566216497]
["SSICSEC201902Dumfries & Galloway",0,81,0,0,4.5279674122128801]
["SSICSEC201902Fife",4,204,1.9607843137254899,0.76507553668887296,4.9323401875934598]
["SSICSEC201902Forth Valley",2,222,0.90090090090090102,0.247403017178004,3.2247650864840298]
["SSICSEC201902Grampian",8,472,1.6949152542372901,0.86127632324664605,3.3085146323990999]
["SSICSEC201902Greater Glasgow & Clyde",4,1219,0.32813781788351098,0.12767606051480501,0.84069138789388498]
["SSICSEC201902Highland",1,182,0.54945054945054905,9.7054951196549805E-2,3.04626710371473]
["SSICSEC201902Lanarkshire",6,376,1.59574468085106,0.73333318410419202,3.4372473947476201]
["SSICSEC201902Lothian",13,693,1.87590187590188,1.0995003465498501,3.1829075923561998]
["SSICSEC201902Orkney",1,8,12.5,2.2416908863296201,47.089480576986098]
["SSICSEC201902Shetland",0,8,0,0,32.441561951087699]
["SSICSEC201902Tayside",2,284,0.70422535211267601,0.19333286238323999,2.5309432672658501]
["SSICSEC201902Western Isles",0,16,0,0,19.361341827272]
["SSICSEC201903Ayrshire & Arran",5,303,1.6501650165016499,0.70684832168959699,3.8041436689661698]
["SSICSEC201903Borders",1,57,1.7543859649122799,0.31035847066800898,9.29096693826272]
["SSICSEC201903Dumfries & Galloway",1,86,1.16279069767442,0.20555157424055501,6.2965588066965603]
["SSICSEC201903Fife",6,236,2.5423728813559299,1.1702695319334,5.4347564518825902]
["SSICSEC201903Forth Valley",2,219,0.91324200913242004,0.25079695573225103,3.2681151324954398]
["SSICSEC201903Grampian",10,463,2.15982721382289,1.17731134557443,3.9296885447524001]
["SSICSEC201903Greater Glasgow & Clyde",3,1367,0.21945866861741001,7.4661853240225604E-2,0.64326208487195302]
["SSICSEC201903Highland",4,216,1.8518518518518501,0.72243517617336495,4.6639885034214004]
["SSICSEC201903Lanarkshire",4,398,1.0050251256281399,0.391502963055743,2.5553298188165199]
["SSICSEC201903Lothian",12,718,1.6713091922005601,0.95858970028024404,2.89843377966328]
["SSICSEC201903Orkney",0,8,0,0,32.441561951087699]
["SSICSEC201903Shetland",0,10,0,0,27.754016876661701]
["SSICSEC201903Tayside",3,311,0.96463022508038598,0.328587192302288,2.7973021437956098]
["SSICSEC201903Western Isles",0,16,0,0,19.361341827272]
["SSICSEC201904Ayrshire & Arran",2,251,0.79681274900398402,0.218782882292307,2.8582657628268602]
["SSICSEC201904Borders",0,63,0,0,5.7473190348525502]
["SSICSEC201904Dumfries & Galloway",0,72,0,0,5.0652939811396402]
["SSICSEC201904Fife",5,216,2.31481481481481,0.99269514967384498,5.3034744560786597]
["SSICSEC201904Forth Valley",2,205,0.97560975609756095,0.26795077630589498,3.4868566950025]
["SSICSEC201904Grampian",6,469,1.2793176972281499,0.58759805484635996,2.7626993809122502]
["SSICSEC201904Greater Glasgow & Clyde",4,1306,0.30627871362940301,0.119166375128341,0.78488187009459298]
["SSICSEC201904Highland",3,178,1.68539325842697,0.57480306049524699,4.8373798503458403]
["SSICSEC201904Lanarkshire",5,349,1.4326647564469901,0.61345115171149101,3.30944229395931]
["SSICSEC201904Lothian",6,685,0.87591240875912402,0.40203366292051901,1.8977113002176]
["SSICSEC201904Orkney",0,8,0,0,32.441561951087699]
["SSICSEC201904Shetland",0,9,0,0,29.915275355095901]
["SSICSEC201904Tayside",2,290,0.68965517241379304,0.18932854847483299,2.47932013843675]
["SSICSEC201904Western Isles",0,11,0,0,25.884001724881401]
["SSIHIP201401Ayrshire & Arran",0,113,0,0,3.2878700736723898]
["SSIHIP201401Borders",2,52,3.8461538461538498,1.06114883220776,12.981428744365999]
["SSIHIP201401Dumfries & Galloway",1,39,2.5641025641025599,0.45405860652373697,13.181286478627101]
["SSIHIP201401Fife",2,135,1.4814814814814801,0.40721180990761202,5.2406631785684601]
["SSIHIP201401Forth Valley",0,84,0,0,4.3733265332143301]
["SSIHIP201401Grampian",1,171,0.58479532163742698,0.10330277288595401,3.2377785258438698]
["SSIHIP201401Greater Glasgow & Clyde",2,453,0.44150110375275903,0.12115660502036001,1.5953245560647999]
["SSIHIP201401Highland",0,99,0,0,3.7354533573962301]
["SSIHIP201401Lanarkshire",0,111,0,0,3.3451292911279502]
["SSIHIP201401Lothian",2,289,0.69204152249134998,0.18998437512299901,2.48777725437226]
["SSIHIP201401Golden Jubilee",1,349,0.28653295128939799,5.0596719226339897E-2,1.60499037707976]
["SSIHIP201401Orkney",0,0,0,0,0]
["SSIHIP201401Shetland",0,0,0,0,0]
["SSIHIP201401Tayside",5,196,2.5510204081632701,1.0944401954660601,5.8318454227435597]
["SSIHIP201401Western Isles",0,15,0,0,20.388926630434799]
["SSIHIP201402Ayrshire & Arran",0,143,0,0,2.6161523709902399]
["SSIHIP201402Borders",0,72,0,0,5.0652939811396402]
["SSIHIP201402Dumfries & Galloway",0,47,0,0,7.5560171198388701]
["SSIHIP201402Fife",1,135,0.74074074074074103,0.13087545613434901,4.0765090741505201]
["SSIHIP201402Forth Valley",1,70,1.4285714285714299,0.25261814032348701,7.6583697039269101]
["SSIHIP201402Grampian",0,218,0,0,1.73168603183533]
["SSIHIP201402Greater Glasgow & Clyde",4,404,0.99009900990098998,0.38567865538740198,2.51780151926864]
["SSIHIP201402Highland",1,91,1.0989010989011001,0.19424213233478901,5.9650803590613899]
["SSIHIP201402Lanarkshire",2,101,1.98019801980198,0.54472082927216703,6.9347529673887003]
["SSIHIP201402Lothian",1,269,0.37174721189591098,6.5650990890140606E-2,2.0753714924848299]
["SSIHIP201402Golden Jubilee",0,343,0,0,1.10759493670886]
["SSIHIP201402Orkney",0,1,0,0,79.345670852610695]
["SSIHIP201402Shetland",0,0,0,0,0]
["SSIHIP201402Tayside",3,195,1.5384615384615401,0.52456178146258703,4.4249055332240799]
["SSIHIP201402Western Isles",0,9,0,0,29.915275355095901]
["SSIHIP201403Ayrshire & Arran",0,122,0,0,3.0527266023318198]
["SSIHIP201403Borders",2,74,2.7027027027027,0.74431965623096896,9.32947122165438]
["SSIHIP201403Dumfries & Galloway",0,44,0,0,8.0298317782013999]
["SSIHIP201403Fife",1,161,0.62111801242235998,0.109724029448312,3.43404162194066]
["SSIHIP201403Forth Valley",1,72,1.3888888888888899,0.245588864043216,7.4567802842869897]
["SSIHIP201403Grampian",0,233,0,0,1.6220123491819001]
["SSIHIP201403Greater Glasgow & Clyde",6,425,1.4117647058823499,0.64857915345717798,3.0454654541555199]
["SSIHIP201403Highland",0,67,0,0,5.42280242117626]
["SSIHIP201403Lanarkshire",1,110,0.90909090909090895,0.16065339495988401,4.9706869937907996]
["SSIHIP201403Lothian",1,245,0.40816326530612201,7.2085356391811295E-2,2.2754321004964302]
["SSIHIP201403Golden Jubilee",0,354,0,0,1.0735476255415799]
["SSIHIP201403Orkney",0,1,0,0,79.345670852610695]
["SSIHIP201403Shetland",0,0,0,0,0]
["SSIHIP201403Tayside",4,202,1.98019801980198,0.77267650330660997,4.98009650273299]
["SSIHIP201403Western Isles",0,15,0,0,20.388926630434799]
["SSIHIP201404Ayrshire & Arran",0,123,0,0,3.0286593672738298]
["SSIHIP201404Borders",1,69,1.4492753623188399,0.25628586443303802,7.7633073350573598]
["SSIHIP201404Dumfries & Galloway",0,32,0,0,10.7182715057364]
["SSIHIP201404Fife",0,156,0,0,2.4033793455521]
["SSIHIP201404Forth Valley",0,54,0,0,6.6415866781001904]
["SSIHIP201404Grampian",1,215,0.46511627906976699,8.2149568140425705E-2,2.5871783841318998]
["SSIHIP201404Greater Glasgow & Clyde",5,398,1.25628140703518,0.53776180001281704,2.9067795316959999]
["SSIHIP201404Highland",1,47,2.12765957446809,0.37656710104649899,11.1132365243311]
["SSIHIP201404Lanarkshire",2,98,2.0408163265306101,0.56144964757722804,7.1383508268850697]
["SSIHIP201404Lothian",1,255,0.39215686274509798,6.9257107940528403E-2,2.1875671428754102]
["SSIHIP201404Golden Jubilee",1,334,0.29940119760479,5.2869868475524398E-2,1.6762244763298499]
["SSIHIP201404Orkney",0,0,0,0,0]
["SSIHIP201404Shetland",0,0,0,0,0]
["SSIHIP201404Tayside",0,180,0,0,2.0896249815058199]
["SSIHIP201404Western Isles",0,13,0,0,22.810184305529202]
["SSIHIP201501Ayrshire & Arran",0,55,0,0,6.5287143789427899]
["SSIHIP201501Borders",0,80,0,0,4.5819736264575104]
["SSIHIP201501Dumfries & Galloway",0,38,0,0,9.1812932583840006]
["SSIHIP201501Fife",1,134,0.74626865671641796,0.13185304171489001,4.10605481774118]
["SSIHIP201501Forth Valley",2,64,3.125,0.86119577125165903,10.6974938822942]
["SSIHIP201501Grampian",2,221,0.90497737556561098,0.24852407734474999,3.2390867562376502]
["SSIHIP201501Greater Glasgow & Clyde",1,341,0.29325513196480901,5.17841695886418E-2,1.6422109864482199]
["SSIHIP201501Highland",0,94,0,0,3.9263462576245698]
["SSIHIP201501Lanarkshire",2,95,2.1052631578947398,0.57923854515239204,7.3542631383492898]
["SSIHIP201501Lothian",1,212,0.47169811320754701,8.3312740725204906E-2,2.6231164184359601]
["SSIHIP201501Golden Jubilee",0,419,0,0,0.90851988073075096]
["SSIHIP201501Orkney",0,5,0,0,43.449149475208102]
["SSIHIP201501Shetland",0,0,0,0,0]
["SSIHIP201501Tayside",9,187,4.8128342245989302,2.5523878694331001,8.8924962648437091]
["SSIHIP201501Western Isles",0,14,0,0,21.531701192718099]
["SSIHIP201502Ayrshire & Arran",0,151,0,0,2.4809870215755998]
["SSIHIP201502Borders",2,79,2.5316455696202498,0.69702211647619094,8.7687535324731307]
["SSIHIP201502Dumfries & Galloway",0,42,0,0,8.3801612509161991]
["SSIHIP201502Fife",0,129,0,0,2.8918651988533699]
["SSIHIP201502Forth Valley",2,56,3.5714285714285698,0.98492185025776402,12.119005852210099]
["SSIHIP201502Grampian",2,252,0.79365079365079405,0.217913615768799,2.8471078662732099]
["SSIHIP201502Greater Glasgow & Clyde",5,392,1.27551020408163,0.54601098487603295,2.9507412513719999]
["SSIHIP201502Highland",1,88,1.13636363636364,0.20087336004305201,6.1596430072676203]
["SSIHIP201502Lanarkshire",1,116,0.86206896551724099,0.152334856469619,4.7220993967446203]
["SSIHIP201502Lothian",2,248,0.80645161290322598,0.22143279641083399,2.8922704202142202]
["SSIHIP201502Golden Jubilee",1,420,0.238095238095238,4.2040945772280798E-2,1.33620979695802]
["SSIHIP201502Orkney",0,2,0,0,65.7628047110381]
["SSIHIP201502Shetland",0,0,0,0,0]
["SSIHIP201502Tayside",2,164,1.2195121951219501,0.33506679012033402,4.3369573087919697]
["SSIHIP201502Western Isles",0,20,0,0,16.113012549493298]
["SSIHIP201503Ayrshire & Arran",0,130,0,0,2.8702585743147102]
["SSIHIP201503Borders",1,60,1.6666666666666701,0.29480838608736798,8.8553382267794802]
["SSIHIP201503Dumfries & Galloway",0,51,0,0,7.0049013887268101]
["SSIHIP201503Fife",0,135,0,0,2.7668940720936699]
["SSIHIP201503Forth Valley",1,58,1.72413793103448,0.30499598845417702,9.1410726772983306]
["SSIHIP201503Grampian",2,239,0.836820083682008,0.22978221357475501,2.9993185665222302]
["SSIHIP201503Greater Glasgow & Clyde",4,388,1.0309278350515501,0.401611150294229,2.6204263260737699]
["SSIHIP201503Highland",0,106,0,0,3.4973998922084202]
["SSIHIP201503Lanarkshire",0,89,0,0,4.1378002964188498]
["SSIHIP201503Lothian",1,263,0.38022813688212898,6.7149436738730903E-2,2.1220144717373102]
["SSIHIP201503Golden Jubilee",0,412,0,0,0.92381329814044599]
["SSIHIP201503Orkney",0,0,0,0,0]
["SSIHIP201503Tayside",0,182,0,0,2.0671367444102899]
["SSIHIP201503Western Isles",0,21,0,0,15.4643823264202]
["SSIHIP201504Ayrshire & Arran",0,135,0,0,2.7668940720936699]
["SSIHIP201504Borders",2,88,2.2727272727272698,0.62547971441379202,7.9126990629594198]
["SSIHIP201504Dumfries & Galloway",0,55,0,0,6.5287143789427899]
["SSIHIP201504Fife",1,129,0.775193798449612,0.136968533684451,4.2604491427060802]
["SSIHIP201504Forth Valley",1,53,1.88679245283019,0.33383673867494101,9.9431435011494091]
["SSIHIP201504Grampian",0,273,0,0,1.38765272271219]
["SSIHIP201504Greater Glasgow & Clyde",5,407,1.22850122850123,0.525845029001061,2.84323930909907]
["SSIHIP201504Highland",0,56,0,0,6.4196144488115303]
["SSIHIP201504Lanarkshire",2,103,1.94174757281553,0.53411133321984605,6.8053519470005899]
["SSIHIP201504Lothian",1,268,0.37313432835820898,6.5896070366263701E-2,2.0830024058051499]
["SSIHIP201504Golden Jubilee",1,411,0.24330900243309,4.2961827422093798E-2,1.36519010333895]
["SSIHIP201504Orkney",0,2,0,0,65.7628047110381]
["SSIHIP201504Shetland",0,0,0,0,0]
["SSIHIP201504Tayside",2,195,1.02564102564103,0.28171396519349601,3.6619276067914401]
["SSIHIP201504Western Isles",0,16,0,0,19.361341827272]
["SSIHIP201601Ayrshire & Arran",0,96,0,0,3.8476947484815902]
["SSIHIP201601Borders",1,69,1.4492753623188399,0.25628586443303802,7.7633073350573598]
["SSIHIP201601Dumfries & Galloway",0,45,0,0,7.8654261940640797]
["SSIHIP201601Fife",2,133,1.5037593984962401,0.41334978576213199,5.31707137271599]
["SSIHIP201601Forth Valley",0,58,0,0,6.2119996895293799]
["SSIHIP201601Grampian",0,301,0,0,1.2601954588875]
["SSIHIP201601Greater Glasgow & Clyde",2,365,0.54794520547945202,0.15039202796377499,1.9756154505852801]
["SSIHIP201601Highland",0,122,0,0,3.0527266023318198]
["SSIHIP201601Lanarkshire",0,102,0,0,3.6295747607745898]
["SSIHIP201601Lothian",0,196,0,0,1.9223224794036899]
["SSIHIP201601Golden Jubilee",1,448,0.223214285714286,3.9412661395000999E-2,1.25342978604676]
["SSIHIP201601Orkney",0,2,0,0,65.7628047110381]
["SSIHIP201601Shetland",0,0,0,0,0]
["SSIHIP201601Tayside",1,217,0.460829493087558,8.1391997422022605E-2,2.5637618141786902]
["SSIHIP201601Western Isles",0,19,0,0,16.818436536845098]
["SSIHIP201602Ayrshire & Arran",0,106,0,0,3.4973998922084202]
["SSIHIP201602Borders",1,58,1.72413793103448,0.30499598845417702,9.1410726772983306]
["SSIHIP201602Dumfries & Galloway",0,57,0,0,6.3141008783463901]
["SSIHIP201602Fife",1,111,0.90090090090090102,0.15920445055909099,4.9274540425305204]
["SSIHIP201602Forth Valley",0,48,0,0,7.4102651152742203]
["SSIHIP201602Grampian",1,313,0.31948881789137401,5.6418449998160702E-2,1.78727884227659]
["SSIHIP201602Greater Glasgow & Clyde",4,426,0.93896713615023497,0.36572880019501902,2.3891464840957499]
["SSIHIP201602Highland",0,105,0,0,3.5295328256843002]
["SSIHIP201602Lanarkshire",1,132,0.75757575757575801,0.13385269033438901,4.1664500151696702]
["SSIHIP201602Lothian",2,259,0.77220077220077199,0.21201692749995699,2.7713768731769499]
["SSIHIP201602Golden Jubilee",1,474,0.21097046413502099,3.7250221486160397E-2,1.1852469407533801]
["SSIHIP201602Orkney",0,0,0,0,0]
["SSIHIP201602Shetland",0,0,0,0,0]
["SSIHIP201602Tayside",6,220,2.7272727272727302,1.2557816447416199,5.8213657666421401]
["SSIHIP201602Western Isles",0,9,0,0,29.915275355095901]
["SSIHIP201603Ayrshire & Arran",0,93,0,0,3.9668902620361499]
["SSIHIP201603Borders",2,75,2.6666666666666701,0.73435350236005503,9.2116648432848791]
["SSIHIP201603Dumfries & Galloway",0,54,0,0,6.6415866781001904]
["SSIHIP201603Fife",0,113,0,0,3.2878700736723898]
["SSIHIP201603Forth Valley",1,64,1.5625,0.27634707504014,8.33429890029063]
["SSIHIP201603Grampian",1,286,0.34965034965035002,6.1746971182093102E-2,1.95369870673302]
["SSIHIP201603Greater Glasgow & Clyde",5,390,1.2820512820512799,0.54881724311043201,2.9656921434043499]
["SSIHIP201603Highland",0,93,0,0,3.9668902620361499]
["SSIHIP201603Lanarkshire",0,91,0,0,4.0505432215399102]
["SSIHIP201603Lothian",2,245,0.81632653061224503,0.22414768957744999,2.9270939034680898]
["SSIHIP201603Golden Jubilee",1,446,0.224215246636771,3.9589448788706003E-2,1.25900098837851]
["SSIHIP201603Orkney",0,0,0,0,0]
["SSIHIP201603Shetland",0,0,0,0,0]
["SSIHIP201603Tayside",2,188,1.0638297872340401,0.292220835550212,3.7953180506976101]
["SSIHIP201603Western Isles",0,15,0,0,20.388926630434799]
["SSIHIP201604Ayrshire & Arran",0,148,0,0,2.5300049525294801]
["SSIHIP201604Borders",1,71,1.40845070422535,0.24905391347781999,7.5562308479382896]
["SSIHIP201604Dumfries & Galloway",3,50,6,2.06145963646305,16.217343370877]
["SSIHIP201604Fife",2,111,1.8018018018018001,0.49550748667772898,6.3326802083735396]
["SSIHIP201604Forth Valley",0,54,0,0,6.6415866781001904]
["SSIHIP201604Grampian",4,297,1.34680134680135,0.52494933121393506,3.4112084342014901]
["SSIHIP201604Greater Glasgow & Clyde",2,456,0.43859649122806998,0.120358974850641,1.5849238877698799]
["SSIHIP201604Highland",1,94,1.0638297872340401,0.188034733905247,5.7824318161102903]
["SSIHIP201604Lanarkshire",2,101,1.98019801980198,0.54472082927216703,6.9347529673887003]
["SSIHIP201604Lothian",0,232,0,0,1.62888989898305]
["SSIHIP201604Golden Jubilee",0,405,0,0,0.93963040942996001]
["SSIHIP201604Orkney",0,0,0,0,0]
["SSIHIP201604Shetland",0,0,0,0,0]
["SSIHIP201604Tayside",2,188,1.0638297872340401,0.292220835550212,3.7953180506976101]
["SSIHIP201604Western Isles",0,19,0,0,16.818436536845098]
["SSIHIP201701Ayrshire & Arran",0,145,0,0,2.5809988605336098]
["SSIHIP201701Borders",1,64,1.5625,0.27634707504014,8.33429890029063]
["SSIHIP201701Dumfries & Galloway",0,53,0,0,6.7584304453076598]
["SSIHIP201701Fife",0,108,0,0,3.4348578704167299]
["SSIHIP201701Forth Valley",1,52,1.92307692307692,0.340272040906551,10.1207462680244]
["SSIHIP201701Grampian",1,264,0.37878787878787901,6.6894963603423299E-2,2.11409559200855]
["SSIHIP201701Greater Glasgow & Clyde",3,382,0.78534031413612604,0.267434005663087,2.2832500055995699]
["SSIHIP201701Highland",0,86,0,0,4.2759701519118103]
["SSIHIP201701Lanarkshire",1,99,1.0101010101010099,0.17852613200520301,5.5016655414032201]
["SSIHIP201701Lothian",3,258,1.16279069767442,0.39621990008764402,3.3623883577293001]
["SSIHIP201701Golden Jubilee",0,447,0,0,0.85209528135824197]
["SSIHIP201701Orkney",0,0,0,0,0]
["SSIHIP201701Shetland",0,0,0,0,0]
["SSIHIP201701Tayside",2,192,1.0416666666666701,0.28612294459291898,3.71792930988213]
["SSIHIP201701Western Isles",0,14,0,0,21.531701192718099]
["SSIHIP201702Ayrshire & Arran",1,143,0.69930069930069905,0.123547409238715,3.8546168167027099]
["SSIHIP201702Borders",0,62,0,0,5.8346091225000603]
["SSIHIP201702Dumfries & Galloway",1,52,1.92307692307692,0.340272040906551,10.1207462680244]
["SSIHIP201702Fife",0,113,0,0,3.2878700736723898]
["SSIHIP201702Forth Valley",0,51,0,0,7.0049013887268101]
["SSIHIP201702Grampian",0,288,0,0,1.316330502574]
["SSIHIP201702Greater Glasgow & Clyde",7,443,1.58013544018059,0.76746981199132802,3.2253544908488698]
["SSIHIP201702Highland",0,115,0,0,3.2325381011363001]
["SSIHIP201702Lanarkshire",0,113,0,0,3.2878700736723898]
["SSIHIP201702Lothian",4,247,1.6194331983805701,0.63151144344996601,4.0892366302347796]
["SSIHIP201702Golden Jubilee",1,481,0.207900207900208,3.6707979113978599E-2,1.1681391297149699]
["SSIHIP201702Orkney",0,0,0,0,0]
["SSIHIP201702Shetland",0,0,0,0,0]
["SSIHIP201702Tayside",5,175,2.8571428571428599,1.2264270311919501,6.5131592842961696]
["SSIHIP201702Western Isles",0,18,0,0,17.5884550582375]
["SSIHIP201703Ayrshire & Arran",1,122,0.81967213114754101,0.14483536709422801,4.4971907991337901]
["SSIHIP201703Borders",0,70,0,0,5.2024874867283497]
["SSIHIP201703Dumfries & Galloway",0,36,0,0,9.6421830448576404]
["SSIHIP201703Fife",1,99,1.0101010101010099,0.17852613200520301,5.5016655414032201]
["SSIHIP201703Forth Valley",0,51,0,0,7.0049013887268101]
["SSIHIP201703Grampian",2,252,0.79365079365079405,0.217913615768799,2.8471078662732099]
["SSIHIP201703Greater Glasgow & Clyde",2,343,0.58309037900874605,0.16004697401066201,2.1008121616870201]
["SSIHIP201703Highland",0,112,0,0,3.3162525379483698]
["SSIHIP201703Lanarkshire",0,99,0,0,3.7354533573962301]
["SSIHIP201703Lothian",0,262,0,0,1.44507104982817]
["SSIHIP201703Golden Jubilee",1,447,0.223713646532438,3.9500857288371098E-2,1.25620921028303]
["SSIHIP201703Orkney",0,0,0,0,0]
["SSIHIP201703Shetland",0,0,0,0,0]
["SSIHIP201703Tayside",2,170,1.1764705882352899,0.32321904361174703,4.1875539819471497]
["SSIHIP201703Western Isles",0,14,0,0,21.531701192718099]
["SSIHIP201704Ayrshire & Arran",0,143,0,0,2.6161523709902399]
["SSIHIP201704Borders",1,55,1.8181818181818199,0.32166975922527902,9.6060004604832301]
["SSIHIP201704Dumfries & Galloway",2,36,5.5555555555555598,1.5369663767066899,18.144974107611201]
["SSIHIP201704Fife",0,114,0,0,3.2599693147411402]
["SSIHIP201704Forth Valley",0,60,0,0,6.0173930477932904]
["SSIHIP201704Grampian",2,297,0.673400673400673,0.184861550143499,2.4216928625441101]
["SSIHIP201704Greater Glasgow & Clyde",6,397,1.51133501259446,0.69444151989549396,3.2576432936567898]
["SSIHIP201704Highland",0,101,0,0,3.66419436559534]
["SSIHIP201704Lanarkshire",1,111,0.90090090090090102,0.15920445055909099,4.9274540425305204]
["SSIHIP201704Lothian",0,199,0,0,1.8938915883132501]
["SSIHIP201704Golden Jubilee",3,379,0.79155672823219003,0.26955371592015598,2.30111780984925]
["SSIHIP201704Orkney",0,0,0,0,0]
["SSIHIP201704Shetland",0,0,0,0,0]
["SSIHIP201704Tayside",1,170,0.58823529411764697,0.10391087887323,3.2563895325357799]
["SSIHIP201704Western Isles",0,9,0,0,29.915275355095901]
["SSIHIP201801Ayrshire & Arran",0,129,0,0,2.8918651988533699]
["SSIHIP201801Borders",1,44,2.2727272727272698,0.40231483856369998,11.8079791315376]
["SSIHIP201801Dumfries & Galloway",1,37,2.7027027027027,0.47868510549077498,13.8243784375634]
["SSIHIP201801Fife",1,113,0.88495575221238898,0.15638358136017899,4.8432056060525204]
["SSIHIP201801Forth Valley",0,48,0,0,7.4102651152742203]
["SSIHIP201801Grampian",4,302,1.32450331125828,0.516238267608506,3.3555698840621599]
["SSIHIP201801Greater Glasgow & Clyde",2,338,0.59171597633136097,0.16241672734965601,2.1315112205653999]
["SSIHIP201801Highland",0,55,0,0,6.5287143789427899]
["SSIHIP201801Lanarkshire",0,98,0,0,3.7721324095458]
["SSIHIP201801Lothian",5,206,2.42718446601942,1.0410876514298799,5.5551258734384001]
["SSIHIP201801Golden Jubilee",1,449,0.22271714922048999,3.9324858464613997E-2,1.25066263385058]
["SSIHIP201801Orkney",0,0,0,0,0]
["SSIHIP201801Shetland",0,0,0,0,0]
["SSIHIP201801Tayside",2,173,1.15606936416185,0.317603909596543,4.1166468549294501]
["SSIHIP201801Western Isles",0,16,0,0,19.361341827272]
["SSIHIP201802Ayrshire & Arran",0,133,0,0,2.8073334424619398]
["SSIHIP201802Borders",0,74,0,0,4.9351503566216497]
["SSIHIP201802Dumfries & Galloway",0,45,0,0,7.8654261940640797]
["SSIHIP201802Fife",0,143,0,0,2.6161523709902399]
["SSIHIP201802Forth Valley",0,48,0,0,7.4102651152742203]
["SSIHIP201802Grampian",1,296,0.337837837837838,5.9660053007111601E-2,1.8885686117278699]
["SSIHIP201802Greater Glasgow & Clyde",12,381,3.1496062992125999,1.81070286948614,5.4238580511627701]
["SSIHIP201802Highland",0,102,0,0,3.6295747607745898]
["SSIHIP201802Lanarkshire",1,107,0.934579439252336,0.16516291511190101,5.10506053889815]
["SSIHIP201802Lothian",2,297,0.673400673400673,0.184861550143499,2.4216928625441101]
["SSIHIP201802Golden Jubilee",1,478,0.209205020920502,3.6938423516124697E-2,1.1754101989357399]
["SSIHIP201802Orkney",0,0,0,0,0]
["SSIHIP201802Shetland",0,0,0,0,0]
["SSIHIP201802Tayside",1,151,0.66225165562913901,0.11699648169822099,3.6556330958830001]
["SSIHIP201802Western Isles",0,15,0,0,20.388926630434799]
["SSIHIP201803Ayrshire & Arran",2,99,2.0202020202020199,0.55576036255231098,7.0691696268683097]
["SSIHIP201803Borders",0,74,0,0,4.9351503566216497]
["SSIHIP201803Dumfries & Galloway",1,38,2.6315789473684199,0.46604675535300499,13.4951784368003]
["SSIHIP201803Fife",1,135,0.74074074074074103,0.13087545613434901,4.0765090741505201]
["SSIHIP201803Forth Valley",0,58,0,0,6.2119996895293799]
["SSIHIP201803Grampian",1,274,0.36496350364963498,6.4452439151137103E-2,2.0380404920729802]
["SSIHIP201803Greater Glasgow & Clyde",3,346,0.86705202312138696,0.29530009983410399,2.5178587697800299]
["SSIHIP201803Highland",1,121,0.826446280991736,0.146033579652323,4.5331759146188197]
["SSIHIP201803Lanarkshire",0,105,0,0,3.5295328256843002]
["SSIHIP201803Lothian",2,263,0.76045627376425895,0.208788490774269,2.7298837402421801]
["SSIHIP201803Golden Jubilee",1,489,0.20449897750511301,3.6107287726999497E-2,1.1491822657522499]
["SSIHIP201803Orkney",0,0,0,0,0]
["SSIHIP201803Shetland",0,0,0,0,0]
["SSIHIP201803Tayside",1,142,0.70422535211267601,0.124418220451322,3.8810232996636498]
["SSIHIP201803Western Isles",0,11,0,0,25.884001724881401]
["SSIHIP201804Ayrshire & Arran",0,143,0,0,2.6161523709902399]
["SSIHIP201804Borders",1,87,1.14942528735632,0.20318554244781001,6.22734848601492]
["SSIHIP201804Dumfries & Galloway",0,51,0,0,7.0049013887268101]
["SSIHIP201804Fife",1,144,0.69444444444444398,0.12268870304019799,3.82856723574834]
["SSIHIP201804Forth Valley",0,64,0,0,5.6626022971156296]
["SSIHIP201804Grampian",3,288,1.0416666666666701,0.35487456405297801,3.0173657197174002]
["SSIHIP201804Greater Glasgow & Clyde",3,378,0.79365079365079405,0.27026777293406501,2.3071360510599699]
["SSIHIP201804Highland",0,86,0,0,4.2759701519118103]
["SSIHIP201804Lanarkshire",2,130,1.5384615384615401,0.42291172310416097,5.4359542796931803]
["SSIHIP201804Lothian",1,264,0.37878787878787901,6.6894963603423299E-2,2.11409559200855]
["SSIHIP201804Golden Jubilee",0,473,0,0,0.80563440773623796]
["SSIHIP201804Orkney",0,0,0,0,0]
["SSIHIP201804Shetland",0,0,0,0,0]
["SSIHIP201804Tayside",5,156,3.2051282051282,1.37663567902672,7.2829372982207499]
["SSIHIP201804Western Isles",0,12,0,0,24.2500757499242]
["SSIHIP201901Ayrshire & Arran",0,147,0,0,2.54677754677755]
["SSIHIP201901Borders",1,61,1.63934426229508,0.28996561143639799,8.7190656277680603]
["SSIHIP201901Dumfries & Galloway",1,28,3.5714285714285698,0.633235649754187,17.712576118498699]
["SSIHIP201901Fife",0,151,0,0,2.4809870215755998]
["SSIHIP201901Forth Valley",0,65,0,0,5.5803467670710702]
["SSIHIP201901Grampian",0,299,0,0,1.2685179314863]
["SSIHIP201901Greater Glasgow & Clyde",2,391,0.51150895140664998,0.14038352442082899,1.8456280812458501]
["SSIHIP201901Highland",0,69,0,0,5.2739094144005598]
["SSIHIP201901Lanarkshire",0,109,0,0,3.40441822873834]
["SSIHIP201901Lothian",2,241,0.829875518672199,0.22787282525526101,2.9748508948968699]
["SSIHIP201901Golden Jubilee",0,395,0,0,0.963189396492242]
["SSIHIP201901Orkney",0,0,0,0,0]
["SSIHIP201901Shetland",0,0,0,0,0]
["SSIHIP201901Tayside",2,174,1.14942528735632,0.315775303952331,4.0935417512248602]
["SSIHIP201901Western Isles",0,16,0,0,19.361341827272]
["SSIHIP201902Ayrshire & Arran",0,158,0,0,2.3736789552253601]
["SSIHIP201902Borders",2,97,2.0618556701030899,0.56725662042430802,7.2088992517554296]
["SSIHIP201902Dumfries & Galloway",0,45,0,0,7.8654261940640797]
["SSIHIP201902Fife",1,130,0.76923076923076905,0.13591392530527099,4.2286483632507501]
["SSIHIP201902Forth Valley",0,71,0,0,5.1329741747904896]
["SSIHIP201902Grampian",1,308,0.32467532467532501,5.7334701775023499E-2,1.8159240295809]
["SSIHIP201902Greater Glasgow & Clyde",0,397,0,0,0.95838356098768196]
["SSIHIP201902Highland",0,120,0,0,3.10202710559295]
["SSIHIP201902Lanarkshire",1,107,0.934579439252336,0.16516291511190101,5.10506053889815]
["SSIHIP201902Lothian",0,231,0,0,1.6358260206028199]
["SSIHIP201902Golden Jubilee",4,424,0.94339622641509402,0.36745673600339002,2.4002965633485198]
["SSIHIP201902Orkney",0,0,0,0,0]
["SSIHIP201902Shetland",0,0,0,0,0]
["SSIHIP201902Tayside",1,161,0.62111801242235998,0.109724029448312,3.43404162194066]
["SSIHIP201902Western Isles",0,8,0,0,32.441561951087699]
["SSIHIP201903Ayrshire & Arran",0,129,0,0,2.8918651988533699]
["SSIHIP201903Borders",1,74,1.35135135135135,0.238940187493933,7.2655304297595702]
["SSIHIP201903Dumfries & Galloway",0,49,0,0,7.2700296735904999]
["SSIHIP201903Fife",2,142,1.40845070422535,0.38709351215819499,4.9896988433837102]
["SSIHIP201903Forth Valley",0,67,0,0,5.42280242117626]
["SSIHIP201903Grampian",2,268,0.74626865671641796,0.204888625696307,2.6797324183234501]
["SSIHIP201903Greater Glasgow & Clyde",4,348,1.14942528735632,0.44786472460608601,2.9177407069290102]
["SSIHIP201903Highland",2,105,1.9047619047619,0.52390722652503796,6.6806910153236698]
["SSIHIP201903Lanarkshire",1,93,1.0752688172042999,0.19005930979555999,5.8420591186484101]
["SSIHIP201903Lothian",1,241,0.4149377593361,7.3282408169576999E-2,2.3125866598319398]
["SSIHIP201903Golden Jubilee",3,439,0.68337129840546695,0.232670331566945,1.98970444081216]
["SSIHIP201903Orkney",0,0,0,0,0]
["SSIHIP201903Shetland",0,0,0,0,0]
["SSIHIP201903Tayside",1,145,0.68965517241379304,0.121841851192856,3.8028673698851199]
["SSIHIP201903Western Isles",0,21,0,0,15.4643823264202]
["SSIHIP201904Ayrshire & Arran",0,150,0,0,2.4971139145718699]
["SSIHIP201904Borders",2,90,2.2222222222222201,0.61153137948636005,7.7446773808075804]
["SSIHIP201904Dumfries & Galloway",0,46,0,0,7.7076177329780702]
["SSIHIP201904Fife",1,127,0.78740157480314998,0.13912762312385901,4.3255074776392002]
["SSIHIP201904Forth Valley",0,55,0,0,6.5287143789427899]
["SSIHIP201904Grampian",1,275,0.36363636363636398,6.4217961201392004E-2,2.0307348722352301]
["SSIHIP201904Greater Glasgow & Clyde",4,319,1.25391849529781,0.48866767268368,3.1792611196404801]
["SSIHIP201904Highland",2,101,1.98019801980198,0.54472082927216703,6.9347529673887003]
["SSIHIP201904Lanarkshire",1,125,0.8,0.14135587198986699,4.3925834767918897]
["SSIHIP201904Lothian",1,236,0.42372881355932202,7.4835815678341605E-2,2.3607716852722902]
["SSIHIP201904Golden Jubilee",1,434,0.230414746543779,4.0684399817946602E-2,1.2934967286997601]
["SSIHIP201904Orkney",0,0,0,0,0]
["SSIHIP201904Shetland",0,0,0,0,0]
["SSIHIP201904Tayside",3,170,1.76470588235294,0.60193332515890796,5.0593123145498797]
["SSIHIP201904Western Isles",1,17,5.8823529411764701,1.0460130645164201,26.9825452035628]
["CDICA201404Scotland",121,1344006.5753424701,9.0029321448198996,7.4702429114602298,10.757468003665201]
["CDICA201501Scotland",92,1319597.26027397,6.9718241140406096,5.6201014155786,8.5504423728907692]
["CDICA201502Scotland",98,1334259.45205479,7.3448983141230499,5.9627771984760001,8.9511951827415892]
["CDICA201503Scotland",131,1348921.64383562,9.7114610473226293,8.11958537860348,11.524128719882199]
["CDICA201504Scotland",116,1348921.64383562,8.5994616907589698,7.1057481637189097,10.314348220531199]
["CDICA201601Scotland",97,1336382.24043716,7.25840235412507,5.8859085892046403,8.8547520247044798]
["CDICA201602Scotland",91,1336382.24043716,6.8094290126327897,5.4823560051382003,8.3605875675223]
["CDICA201603Scotland",119,1351067.75956284,8.8078483967750305,7.2964204495705998,10.540016317340401]
["CDICA201604Scotland",94,1351067.75956284,6.9574600781248099,5.6221687475530304,8.5142850032603405]
["CDICA201701Scotland",74,1329016.43835616,5.5680274422737197,4.3719095146262203,6.9902701495314803]
["CDICA201702Scotland",101,1343783.28767123,7.5160928794576902,6.1218180911752098,9.1328496448256598]
["CDICA201703Scotland",107,1358550.1369862999,7.8760435177872896,6.4544503429889097,9.5175057601702804]
["CDICA201704Scotland",75,1358550.1369862999,5.5205912507854897,4.3421109030125002,6.9202276690109201]
["CDICA201801Scotland",86,1330101.36986301,6.4656726132728597,5.1715268221660899,7.9851721838526801]
["CDICA201802Scotland",102,1344880.2739726,7.5843182455717901,6.1839429512022699,9.2069600969929102]
["CDICA201803Scotland",92,1359659.17808219,6.7664015720297304,5.4545069455715298,8.2985063545940196]
["CDICA201804Scotland",86,1359659.17808219,6.32511451298432,5.0591023260320398,7.8115814842037103]
["CDICA201901Scotland",50,1335057.53424658,3.7451569477278701,2.7794975647979201,4.93764951660732]
["CDICA201902Scotland",66,1349891.5068493199,4.8892818174733099,3.7811728468711001,6.2204867600009601]
["CDICA201903Scotland",72,1364725.4794520501,5.2757863089731698,4.1277907625859198,6.6440985445156704]
["CDICA201904Scotland",63,1364725.4794520501,4.6163130203515301,3.5471018931472802,5.9063905681853601]
["CDICA202001Scotland",46,1345880.05464481,3.4178380043041701,2.5020482887848501,4.5590439764020099]
["CDICA202002Scotland",80,1345880.05464481,5.9440660944420296,4.7130942343417299,7.3980236209810499]
["CDICA202003Scotland",90,1360669.94535519,6.6143887654185098,5.3185804272992598,8.1303224908743807]
["CDICA202004Scotland",56,1360669.94535519,4.11561967626041,3.1086821168154599,5.3445974808985603]
["CDICA202101Scotland",49,1336043.83561644,3.6675443345308998,2.7130370633999301,4.8488152667463904]
["CDICA202102Scotland",74,1350888.7671232901,5.4778751441973101,4.3011236404882203,6.87709022635606]
["CDICA202103Scotland",87,1365733.6986301399,6.3702023379274504,5.1020997498683496,7.8577368711627598]
["CDICA202104Scotland",67,1365733.6986301399,4.9057880073694102,3.80172469624019,6.2302972075297403]
["CDICA202201Scotland",43,1343268.4931506801,3.2011470692014798,2.31643789840281,4.3120521901272904]
["CDICA202202Scotland",66,1358193.6986301399,4.8593952443283399,3.7580597797416999,6.1824629684727901]
["CDICA202203Scotland",82,1373118.90410959,5.9718062109977001,4.7493797886445401,7.4127022080356602]
["CDICA202204Scotland",44,1373118.90410959,3.2043838205353499,2.3280705094554599,4.3018607636594002]
["CDICA202301Scotland",57,1343268.4931506801,4.2433809987089397,3.21368177437233,5.4979166026835804]
["CDICA202302Scotland",70,1358193.6986301399,5.1539040470149002,4.0175304707014003,6.5117675447162799]
["CDICA202303Scotland",86,1373118.90410959,6.2631138310463701,5.0095114777455896,7.7350100042660399]
["CDICA202304Scotland",79,1373118.90410959,5.7533254959612004,4.5547840158869803,7.1704768544750603]
["CDICA202401Scotland",94,1354482.7868852499,6.9399183887867197,5.6079936985454202,8.49281812586743]
["CDICA202402Scotland",96,1354482.7868852499,7.0875762268460099,5.7407942335978097,8.6552589505377107]
["ECBCOM201603Scotland",720,1351067.75956284,53.291173999999998,49.469123000000003,57.330129999999997]
["ECBCOM201604Scotland",631,1351067.75956284,46.703801162731402,43.1302299109609,50.494465104992003]
["ECBCOM201701Scotland",570,1329016.43835616,42.888860028324601,39.439633896224599,46.558931169671098]
["ECBCOM201702Scotland",657,1343783.28767123,48.891812097066399,45.224138054319297,52.777698662074698]
["ECBCOM201703Scotland",677,1358550.1369862999,49.832537023756998,46.148858961370699,53.732014579305599]
["ECBCOM201704Scotland",656,1358550.1369862999,48.286771473537101,44.661779131992397,52.127606568755503]
["ECBCOM201801Scotland",578,1330101.36986301,43.455334540368703,39.984316196616398,47.146996726883302]
["ECBCOM201802Scotland",598,1344880.2739726,44.464924616195397,40.971938156043997,48.176080094182502]
["ECBCOM201803Scotland",667,1359659.17808219,49.056411397215598,45.403545610835003,52.924920984704599]
["ECBCOM201804Scotland",603,1359659.17808219,44.3493494340645,40.879621830848897,48.034862632108997]
["ECBCOM201901Scotland",598,1335057.53424658,44.792077094825302,41.273390845725103,48.530537549120901]
["ECBCOM201902Scotland",604,1349891.5068493199,44.7443366326345,41.246546868336701,48.459470989770701]
["ECBCOM201903Scotland",606,1364725.4794520501,44.404534767190903,40.938924798552698,48.085122150080899]
["ECBCOM201904Scotland",568,1364725.4794520501,41.620091993010597,38.267138993298502,45.188116621496903]
["ECBCOM202001Scotland",515,1345880.05464481,38.264925482970597,35.030938889418003,41.717145593218603]
["ECBCOM202002Scotland",488,1345880.05464481,36.2588031760964,33.112628283932096,39.623297386609103]
["ECBCOM202003Scotland",614,1360669.94535519,45.124830021855203,41.625558522779102,48.839700909739499]
["ECBCOM202004Scotland",521,1360669.94535519,38.289961630922697,35.072137086844002,41.723629623829702]
["ECBCOM202101Scotland",493,1336043.83561644,36.8999868759945,33.714086805713599,40.305797038126798]
["ECBCOM202102Scotland",570,1350888.7671232901,42.1944436782765,38.801064193057798,45.805092456689998]
["ECBCOM202103Scotland",566,1365733.6986301399,41.442925554792403,38.098475556156103,45.002293625180499]
["ECBCOM202104Scotland",549,1365733.6986301399,40.198173373818001,36.905395680528798,43.7059145967471]
["ECBCOM202201Scotland",528,1343268.4931506801,39.307108198567001,36.025295671125001,42.807539492269797]
["ECBCOM202202Scotland",529,1358193.6986301399,38.9487891552983,35.699901412216697,42.413890349474997]
["ECBCOM202203Scotland",577,1373118.90410959,42.021124192020402,38.661817375756897,45.594164969171601]
["ECBCOM202204Scotland",495,1373118.90410959,36.049317981022703,32.9430160155595,39.369585960297897]
["ECBCOM202301Scotland",497,1343268.4931506801,36.9993044975147,33.817420929010297,40.399902409539301]
["ECBCOM202302Scotland",502,1358193.6986301399,36.960854737163999,33.797792100913803,40.340212430328002]
["ECBCOM202303Scotland",575,1373118.90410959,41.875470381996102,38.522111877115201,45.442567913738998]
["ECBCOM202304Scotland",442,1373118.90410959,32.189492015377901,29.258046810530601,35.335086207173298]
["ECBCOM202401Scotland",504,1354482.7868852499,37.209775190941599,34.031593600586802,40.6048381429176]
["ECBCOM202402Scotland",490,1354482.7868852499,36.176170324526502,33.043432967166297,39.525833833533198]
["SABCAUN201404Scotland",119,1344006.5753424701,8.85412334903776,7.3347546139184203,10.595391788166101]
["SABCAUN201501Scotland",126,1319597.26027397,9.5483678083599592,7.9538934919067703,11.368662805737401]
["SABCAUN201502Scotland",131,1334259.45205479,9.8181803994910108,8.20881159155517,11.650767497023701]
["SABCAUN201503Scotland",113,1348921.64383562,8.3770618194462401,6.9037295524896898,10.071652107076099]
["SABCAUN201504Scotland",104,1348921.64383562,7.7098622055080401,6.2993557189253702,9.3419030924680602]
["SABCAUN201601Scotland",139,1336382.24043716,10.401215744570999,8.7438799337558297,12.2812357402508]
["SABCAUN201602Scotland",121,1336382.24043716,9.0542957200941494,7.5128621801526503,10.818841566042201]
["SABCAUN201603Scotland",127,1351067.75956284,9.3999726587430903,7.8361857703597098,11.1842957516361]
["SABCAUN201604Scotland",135,1351067.75956284,9.9920969207111607,8.3775774554368692,11.8269669373535]
["SABCAUN201701Scotland",142,1329016.43835616,10.684593200038799,8.9993994110722095,12.593641566217499]
["SABCAUN201702Scotland",126,1343783.28767123,9.3765119090264299,7.81073567198513,11.164044402894801]
["SABCAUN201703Scotland",127,1358550.1369862999,9.3482011846634201,7.7930270396674199,11.1226969046366]
["SABCAUN201704Scotland",132,1358550.1369862999,9.7162406013824594,8.1293531726976607,11.522332271558399]
["SABCAUN201801Scotland",135,1330101.36986301,10.1496023580446,8.5096332202461902,12.013395433251601]
["SABCAUN201802Scotland",123,1344880.2739726,9.1457955314248096,7.6008998464758104,10.9123419539051]
["SABCAUN201803Scotland",132,1359659.17808219,9.7083152989991799,8.1227222559967203,11.5129337838965]
["SABCAUN201804Scotland",113,1359659.17808219,8.3109062786886998,6.84920924792078,9.9921140057911195]
["SABCAUN201901Scotland",144,1335057.53424658,10.7860520094563,9.0962006459621492,12.698703771896801]
["SABCAUN201902Scotland",133,1349891.5068493199,9.8526436624840894,8.2492671297943101,11.6766076550136]
["SABCAUN201903Scotland",102,1364725.4794520501,7.47403060437866,6.0940189185762401,9.0730767499630698]
["SABCAUN201904Scotland",132,1364725.4794520501,9.6722748997841492,8.0925680898203201,11.4701940585241]
["SABCAUN202001Scotland",149,1345880.05464481,11.0708231008983,9.3644650498280306,12.998091261808799]
["SABCAUN202002Scotland",132,1345880.05464481,9.8077090558293598,8.2058827072023792,11.630803229384799]
["SABCAUN202003Scotland",149,1360669.94535519,10.9504880671929,9.2626773862429399,12.856807661136999]
["SABCAUN202004Scotland",131,1360669.94535519,9.6276103141091696,8.0494792242290192,11.424627044686201]
["SABCAUN202101Scotland",140,1336043.83561644,10.4786980986597,8.8147289699288294,12.365386441281601]
["SABCAUN202102Scotland",148,1350888.7671232901,10.955750288394601,9.26167488000182,12.869936008108899]
["SABCAUN202103Scotland",132,1365733.6986301399,9.6651345816830201,8.0865939512629392,11.461726471001199]
["SABCAUN202104Scotland",136,1365733.6986301399,9.9580174477946297,8.3546678996762704,11.7793294835463]
["SABCAUN202201Scotland",130,1343268.4931506801,9.6778864882835407,8.0857012820462995,11.491816362859501]
["SABCAUN202202Scotland",139,1358193.6986301399,10.2341808933582,8.6034605136010391,12.084009335668901]
["SABCAUN202203Scotland",121,1373118.90410959,8.8120555064722197,7.3118617494517402,10.5293923837846]
["SABCAUN202204Scotland",131,1373118.90410959,9.5403245565938892,7.9765011051769097,11.3210491896017]
["SABCAUN202301Scotland",133,1343268.4931506801,9.9012223303208504,8.2899403157455005,11.734179415869299]
["SABCAUN202302Scotland",140,1358193.6986301399,10.3078080940298,8.6709755131253399,12.163727711704199]
["SABCAUN202303Scotland",140,1373118.90410959,10.1957667017034,8.5767257792870204,12.031513280055201]
["SABCAUN202304Scotland",137,1373118.90410959,9.9772859866668906,8.3764480166194204,11.7948926751647]
["SABCAUN202401Scotland",148,1354482.7868852499,10.9266800163876,9.2370997116276996,12.835786586059299]
["SABCAUN202402Scotland",136,1354482.7868852499,10.040732988031801,8.4240653347025791,11.877173618382599]
["CDIHCAI201404Scotland",321,1711840,18.7517525002337,16.7561995475711,20.9195420267576]
["CDIHCAI201501Scotland",251,1723684,14.5618338396133,12.8158307749499,16.479293980435699]
["CDIHCAI201502Scotland",308,1661417,18.5383922278392,16.525527384076,20.728787910555599]
["CDIHCAI201503Scotland",313,1620901,19.310247818960001,17.229909530660699,21.5725275922305]
["CDIHCAI201504Scotland",367,1642161,22.3486004112873,20.120249491377699,24.756285702777401]
["CDIHCAI201601Scotland",252,1674447,15.0497447814114,13.248709038249499,17.027272160217201]
["CDIHCAI201602Scotland",250,1605104,15.5753147459604,13.7041812471944,17.6305795026624]
["CDIHCAI201603Scotland",263,1587890,16.562860147743201,14.6213274966913,18.690425299607799]
["CDIHCAI201604Scotland",233,1591683,14.638593237472501,12.8190666504976,16.643939086393299]
["CDIHCAI201701Scotland",257,1581339,16.252049687005801,14.3255410739051,18.3654045625855]
["CDIHCAI201702Scotland",237,1550567,15.2847313273145,13.400459994315201,17.3597152108347]
["CDIHCAI201703Scotland",284,1538826,18.455627861759499,16.371286598572201,20.731789227297799]
["CDIHCAI201704Scotland",234,1574967,14.8574541561823,13.0145426193852,16.888148701572302]
["CDIHCAI201801Scotland",228,1585233,14.382743735463499,12.576180094780501,16.375925524902801]
["CDIHCAI201802Scotland",244,1525345,15.996381146560299,14.051943280028899,18.134626540557601]
["CDIHCAI201803Scotland",255,1511620,16.869319008745599,14.8620621034504,19.072055280746302]
["CDIHCAI201804Scotland",220,1522217,14.4526043264528,12.6056784102464,16.493948377017201]
["CDIHCAI201901Scotland",186,1538510,12.0896191769959,10.4144449553373,13.9575164054772]
["CDIHCAI201902Scotland",184,1506284,12.215491899270001,10.5140488537913,14.113806112172799]
["CDIHCAI201903Scotland",207,1506970,13.736172584723001,11.928444782531001,15.7404168617116]
["CDIHCAI201904Scotland",231,1531462,15.0836259730898,13.200956052328101,17.159439604667199]
["CDIHCAI202001Scotland",201,1475950,13.6183475049968,11.800530073168,15.6368777489938]
["CDIHCAI202002Scotland",166,1080949,15.356876226353,13.109395739738799,17.879033927015701]
["CDIHCAI202003Scotland",227,1303983,17.4082024075467,15.216973776434701,19.826310599789402]
["CDIHCAI202004Scotland",222,1357793,16.350062196520401,14.2697666168373,18.648297982754201]
["CDIHCAI202101Scotland",213,1351847,15.7562209332861,13.7110320637737,18.0204071421226]
["CDIHCAI202102Scotland",203,1394168,14.560655530753801,12.626309654355,16.707464361802899]
["CDIHCAI202103Scotland",245,1456339,16.8230061819398,14.782129820797399,19.066864749579601]
["CDIHCAI202104Scotland",197,1493807,13.187781286337501,11.410303292092401,15.163617973657701]
["CDIHCAI202201Scotland",187,1481054,12.626143273641601,10.8811352362983,14.5713382649578]
["CDIHCAI202202Scotland",217,1516331,14.310859568260501,12.4698855900066,16.347035439145198]
["CDIHCAI202203Scotland",202,1545737,13.0681998295958,11.3279853411213,15.000054618632999]
["CDIHCAI202204Scotland",212,1569052,13.5113431549751,11.7535573084542,15.4578201427117]
["CDIHCAI202301Scotland",211,1568916,13.4487760976368,11.695134431405201,15.391135092471]
["CDIHCAI202302Scotland",244,1544662,15.7963360269107,13.876214616838899,17.907841275636301]
["CDIHCAI202303Scotland",239,1537764,15.5420467640028,13.633823098693201,17.642553961523699]
["CDIHCAI202304Scotland",223,1566168,14.238574661211301,12.430861275386301,16.235222682444899]
["CDIHCAI202401Scotland",201,1590711,12.635859059250899,10.949187100291899,14.508763511176699]
["CDIHCAI202402Scotland",264,1557075,16.954867299263,14.9710327610614,19.1284088304471]
["ECBHCAI201603Scotland",581,1587890,36.589435999999999,33.674286000000002,39.689397999999997]
["ECBHCAI201604Scotland",564,1591683,35.434191355942097,32.569688071346903,38.483108253026799]
["ECBHCAI201701Scotland",547,1581339,34.590938438880002,31.752405019397901,37.615131244936599]
["ECBHCAI201702Scotland",539,1550567,34.761477575622301,31.888313083566299,37.824005578505798]
["ECBHCAI201703Scotland",585,1538826,38.015994011018797,34.997291500195203,41.225396882181002]
["ECBHCAI201704Scotland",531,1574967,33.7149921236445,30.907864248562799,36.708569538526497]
["ECBHCAI201801Scotland",524,1585233,33.055077707819599,30.2849733242812,36.0104416894943]
["ECBHCAI201802Scotland",580,1525345,38.024184692643303,34.992114702026498,41.2486516655567]
["ECBHCAI201803Scotland",606,1511620,40.089440467842401,36.960607675180597,43.412359839628898]
["ECBHCAI201804Scotland",582,1522217,38.233707809070602,35.190064682898097,41.470138762331999]
["ECBHCAI201901Scotland",573,1538510,37.243826819455201,34.256275230108201,40.422144858588503]
["ECBHCAI201902Scotland",584,1506284,38.770909071596101,35.689681459523101,42.0469592242315]
["ECBHCAI201903Scotland",608,1506970,40.3458595725197,37.202092534611197,43.684307805980303]
["ECBHCAI201904Scotland",626,1531462,40.875973416251902,37.736104999217702,44.207372674843498]
["ECBHCAI202001Scotland",538,1475950,36.4510992919814,33.435542980213,39.665595036598503]
["ECBHCAI202002Scotland",429,1080949,39.687348801839903,36.020050803931603,43.6267415981727]
["ECBHCAI202003Scotland",547,1303983,41.9483996340443,38.506112733808401,45.615835503788603]
["ECBHCAI202004Scotland",555,1357793,40.875155491301001,37.544686188243602,44.421829106326001]
["ECBHCAI202101Scotland",468,1351847,34.619302332290601,31.553343864844098,37.902684425723002]
["ECBHCAI202102Scotland",532,1394168,38.158959321975502,34.984747026947701,41.543797561405]
["ECBHCAI202103Scotland",604,1456339,41.473860138333201,38.231732655947503,44.917445948712697]
["ECBHCAI202104Scotland",509,1493807,34.074013577389799,31.177676932375601,37.166989419365301]
["ECBHCAI202201Scotland",452,1481054,30.5188062015295,27.769693936621401,33.466426610186303]
["ECBHCAI202202Scotland",528,1516331,34.820893327380404,31.913641963041002,37.9218119719703]
["ECBHCAI202203Scotland",560,1545737,36.228672794919198,33.289723014643997,39.3575270957814]
["ECBHCAI202204Scotland",549,1569052,34.989280151327002,32.123181731502399,38.042487052199903]
["ECBHCAI202301Scotland",588,1568916,37.478105902419301,34.509559892642301,40.633688385483403]
["ECBHCAI202302Scotland",581,1544662,37.613406687029297,34.616621109125703,40.800180972476298]
["ECBHCAI202303Scotland",580,1537764,37.717100933563302,34.709517975555798,40.915527073594198]
["ECBHCAI202304Scotland",544,1566168,34.734460160085,31.8764691612493,37.7799161971557]
["ECBHCAI202401Scotland",565,1590711,35.518708300879297,32.649861320483403,38.572079326046698]
["ECBHCAI202402Scotland",614,1557075,39.432911067225398,36.375027818550201,42.679198605089098]
["SABHCAI201404Scotland",275,1711840,16.064585475278101,14.221734356891901,18.079923253449099]
["SABHCAI201501Scotland",263,1723684,15.258017130750201,13.4694408712509,17.217970015962401]
["SABHCAI201502Scotland",284,1661417,17.093842184111502,15.1632982395958,19.202052398335699]
["SABHCAI201503Scotland",275,1620901,16.965872684389701,15.019630280629,19.094278936334899]
["SABHCAI201504Scotland",303,1642161,18.451296797329899,16.431904955987498,20.6503284168653]
["SABHCAI201601Scotland",279,1674447,16.662217436562599,14.764142641313301,18.7366060952107]
["SABHCAI201602Scotland",260,1605104,16.198327335798801,14.288946770318001,18.291766331782899]
["SABHCAI201603Scotland",273,1587890,17.192626693284801,15.213382364420699,19.357835145734001]
["SABHCAI201604Scotland",265,1591683,16.6490438108593,14.7045569919736,18.779105864827802]
["SABHCAI201701Scotland",259,1581339,16.378524781846298,14.4442974520099,18.499583847519101]
["SABHCAI201702Scotland",248,1550567,15.994149237021,14.065216658010099,18.113705009510799]
["SABHCAI201703Scotland",278,1538826,18.0657202308773,16.004179987641201,20.319120029886498]
["SABHCAI201704Scotland",262,1574967,16.635269183417801,14.6816473607572,18.776457058157]
["SABHCAI201801Scotland",296,1585233,18.6723339723561,16.605434765384899,20.925364725313401]
["SABHCAI201802Scotland",264,1525345,17.307559929065199,15.2824579596286,19.526315148158901]
["SABHCAI201803Scotland",253,1511620,16.7370106243633,14.7378918059204,18.9316243627235]
["SABHCAI201804Scotland",269,1522217,17.671593471889999,15.6226061252238,19.914596049499899]
["SABHCAI201901Scotland",240,1538510,15.5995086154786,13.68809298701,17.7031062037689]
["SABHCAI201902Scotland",251,1506284,16.6635242756346,14.6655228718414,18.8577289311798]
["SABHCAI201903Scotland",264,1506970,17.518596919646701,15.4688021901098,19.764406179066899]
["SABHCAI201904Scotland",233,1531462,15.2142201373589,13.3231451145794,17.2984213103869]
["SABHCAI202001Scotland",241,1475950,16.328466411463801,14.331750215066901,18.5255018052822]
["SABHCAI202002Scotland",219,1080949,20.259975262477699,17.665213476304402,23.1285345977969]
["SABHCAI202003Scotland",224,1303983,17.178138058548299,15.0019285436688,19.581259402870501]
["SABHCAI202004Scotland",256,1357793,18.854125776167599,16.614946144301701,21.310922428740501]
["SABHCAI202101Scotland",248,1351847,18.345271321384701,16.132787806431299,20.776399426475098]
["SABHCAI202102Scotland",260,1394168,18.649115458108302,16.450847829547499,21.059289344046]
["SABHCAI202103Scotland",268,1456339,18.402308803101501,16.264742610496199,20.742674006142298]
["SABHCAI202104Scotland",259,1493807,17.338250523662001,15.2906840632451,19.583596422999801]
["SABHCAI202201Scotland",241,1481054,16.272195341965901,14.2823602177422,18.461659324714802]
["SABHCAI202202Scotland",262,1516331,17.278549340480399,15.2493816316027,19.502536216376502]
["SABHCAI202203Scotland",264,1545737,17.079231460461902,15.0808454714028,19.268715945641699]
["SABHCAI202204Scotland",302,1569052,19.247290720766401,17.137398538685801,21.5451986640992]
["SABHCAI202301Scotland",300,1568916,19.121482603275101,17.018609972183398,21.412398939456899]
["SABHCAI202302Scotland",283,1544662,18.321160227933401,16.248462988735898,20.584959304662199]
["SABHCAI202303Scotland",278,1537764,18.078196654363101,16.015232684379399,20.3331526808471]
["SABHCAI202304Scotland",301,1566168,19.2188832871059,17.1087104145989,21.517423958836002]
["SABHCAI202401Scotland",271,1590711,17.036406990333301,15.0681457478236,19.190315915228801]
["SABHCAI202402Scotland",270,1557075,17.340205192428101,15.3332533003917,19.536822012055602]
["SSICSEC201401Scotland",61,3998,1.52576288144072,1.18967693208673,1.9549152976507]
["SSICSEC201402Scotland",58,4103,1.4135998050207199,1.09514363808799,1.82295283780238]
["SSICSEC201403Scotland",58,4563,1.2710935787858899,0.98460159532845903,1.63956649493331]
["SSICSEC201404Scotland",61,4261,1.4315888289134,1.1161441892242401,1.83453046185776]
["SSICSEC201501Scotland",47,3966,1.1850731215330299,0.89238252895644499,1.5722397370805701]
["SSICSEC201502Scotland",56,4358,1.2849931161083099,0.99091176714745399,1.6648838949417]
["SSICSEC201503Scotland",56,4511,1.2414098869430299,0.95726088449706703,1.60853455780594]
["SSICSEC201504Scotland",60,4300,1.3953488372092999,1.0856144775655301,1.79185201655451]
["SSICSEC201601Scotland",58,4023,1.4417101665423799,1.11695255467395,1.85911682933161]
["SSICSEC201602Scotland",78,4448,1.75359712230216,1.4074133929905199,2.1830467887014802]
["SSICSEC201603Scotland",71,4446,1.59694107062528,1.2680390526762499,2.0094169358695]
["SSICSEC201604Scotland",51,4258,1.1977454203851601,0.91218111812317704,1.5712898771385899]
["SSICSEC201701Scotland",58,4047,1.4331603657029901,1.1103192163542499,1.84811786496732]
["SSICSEC201702Scotland",51,4115,1.23936816524909,0.94392116796221404,1.6257722137886199]
["SSICSEC201703Scotland",58,4514,1.28489144882588,0.99530322417147798,1.65732629696977]
["SSICSEC201704Scotland",66,4224,1.5625,1.2300894535240701,1.98293536746261]
["SSICSEC201801Scotland",64,3975,1.61006289308176,1.2629148714924201,2.05065257487187]
["SSICSEC201802Scotland",61,4191,1.4554998806967301,1.1348130681289099,1.86509996791994]
["SSICSEC201803Scotland",66,4293,1.53738644304682,1.21028974525536,1.9511393379112101]
["SSICSEC201804Scotland",59,4346,1.3575701794753801,1.05395623374655,1.7471020852506201]
["SSICSEC201901Scotland",64,4051,1.5798568254751899,1.2391855949695001,2.01227557184896]
["SSICSEC201902Scotland",43,4118,1.0441962117532799,0.77615838092823297,1.40348869721276]
["SSICSEC201903Scotland",51,4408,1.1569872958257701,0.88110307211698902,1.51793138097852]
["SSICSEC201904Scotland",35,4112,0.85116731517509703,0.61265856813335096,1.1814240807227201]
["SSIHIP201401Scotland",16,2106,0.75973409306742601,0.46818248739216201,1.2305990704271501]
["SSIHIP201402Scotland",13,2098,0.61963775023832202,0.36247685390728701,1.05730663501024]
["SSIHIP201403Scotland",16,2125,0.752941176470588,0.46399174659346498,1.21962811502517]
["SSIHIP201404Scotland",12,1974,0.60790273556231,0.34808535644114802,1.05959056664592]
["SSIHIP201501Scotland",18,1959,0.91883614088820798,0.58199146284918302,1.44780044700233]
["SSIHIP201502Scotland",18,2159,0.83371931449745296,0.52801406843203702,1.3140810715911599]
["SSIHIP201503Scotland",10,2135,0.46838407494145201,0.254614773793572,0.86008207893268895]
["SSIHIP201504Scotland",15,2191,0.684618895481515,0.415325625320695,1.1265441843275299]
["SSIHIP201601Scotland",7,2173,0.32213529682466602,0.156127966033444,0.66348150853742005]
["SSIHIP201602Scotland",17,2318,0.733390854184642,0.45839721157295699,1.17141250498996]
["SSIHIP201603Scotland",14,2153,0.65025545750116098,0.38773734408270299,1.0885694927290499]
["SSIHIP201604Scotland",17,2226,0.76370170709793395,0.47736363664666198,1.21968964283292]
["SSIHIP201701Scotland",12,2164,0.55452865064695001,0.31749684784504001,0.966803628721145]
["SSIHIP201702Scotland",19,2301,0.82572794437201202,0.52925880909014,1.2861197401342399]
["SSIHIP201703Scotland",9,2077,0.433317284545017,0.22813566310460101,0.82151655453656802]
["SSIHIP201704Scotland",16,2071,0.77257363592467398,0.47610379083335003,1.25133410129297]
["SSIHIP201801Scotland",17,2008,0.84661354581673298,0.52925264164365005,1.3516906692015001]
["SSIHIP201802Scotland",18,2270,0.79295154185021999,0.50216558454474902,1.2500057188565099]
["SSIHIP201803Scotland",13,2155,0.603248259860789,0.352880399840029,1.0294164764106399]
["SSIHIP201804Scotland",16,2276,0.70298769771529002,0.43317662204866297,1.13893259817085]
["SSIHIP201901Scotland",8,2146,0.372786579683131,0.18901495153524001,0.73391816130432896]
["SSIHIP201902Scotland",10,2257,0.44306601683650898,0.240841980599039,0.81370337100807899]
["SSIHIP201903Scotland",17,2121,0.80150872230080195,0.50102298120602595,1.2798909466839401]
["SSIHIP201904Scotland",17,2145,0.79254079254079302,0.49541068323593801,1.26561255830965]